{"text_format":"1","workbook":"xlsx","n_sheets":8,"sheets":["Revision History","Cover","Control_Panel","Trust - Frontsheet","Validation","Wards","Index","Backsheet"],"not_rendered":{"charts":0,"images":2,"macros":1,"external_links":0,"defined_names":18,"comments":0,"pivot_tables":0},"unopened":[],"bounds":{"document_bytes":16777216,"sheet_cells":100000,"rows_first":2000,"rows_last":500,"rows_between":2000,"halvings":0,"cell_chars":16384,"cell_head_chars":4096},"cells_cut":0,"cells_raw":0,"read":"whole","date_system":"1900"}

{"sheet":"Revision History","index":0,"n_rows":36,"n_cols":8,"rows_kept":36,"cut":false,"hidden":true,"merged":[]}
[]
[null,"Revision History"]
[null,null,"NStf-Fil",{"$f":"Control_Panel!OrgCodeSelection","v":"RWG"}]
[null,"Version","Date","Change",null,null,null,"Notes"]
[null,0.1,"2017-08-30","Rebranding",null,null,null,"Finish question status sheet"]
[null,0.2,"2018-01-15","Updates after meeting with AW",null,null,null,"Insert appropriate email hyperlink into cover "]
[null,0.3,"2018-01-25","Created backsheet, works with automation tool ",null,null,null,"Row 12-41 in control panel contains validations specific to questions"]
[null,0.4,"2018-01-29","updated formulas in backsheet to accommodate for \"0\" defaults in site code",null,null,null,"Unsure if site summary needs to be visible to user or not i.e coloured blue or white"]
[null,4,"2018-01-31","final lockdown and version number updates"]
[null,5,null,"repaired broken image"]
[null,6,"2018-02-28","validation repairs"]
[null,7,"2018-03-28","made locked cells selectable for ease of use"]
[null,8,"2018-04-30","ref data and validation updates"]
[null,9,"2018-05-10","Fix backsheet issues with hyphens & mixed data type for wards",null,null,null,"To DO"]
[null,10,"2018-05-30","removed a validation at AW request"]
[null,11,"2018-06-26","added a validation at AW request",null,null,null,"get correct email address for Cover sheet"]
[null,12,"2018-07-25","AW Updates to ref data",null,null,null,"Check if Site summary is required - and if it need to be visible. - if so, is this better to be included in the frontsheet?"]
[null,13,"2018-09-26","Updated Site codes as per Change Request Form",null,null,null,"Move validations to column AA"]
[null,14,"2018-11-01","Added New Fields to collection",null,null,null,"set validations to appear in control panel"]
[null,15,"2018-11-23",null,null,null,null,"check ref data is up to date - Org code, site code, site speciality"]
[null,16,"2018-11-27","Added org identifier in cell D3 revision history tab contains a look up to the org code selected on the control panel.",null,null,null,"check with Alun as to which validations he requires."]
[null,17,"2018-11-28","Removed RR1 and Added new sites to RRK ",null,null,null,"New Backsheet"]
[null,18,"2018-12-21","Mo fixed dropdown in column G",null,null,null,"Remove redudant VBA"]
[null,19,"2019-01-31","Changed R1L - AHP from No to Yes"]
[null,20,"2019-02-28","Updated AX3 and used new password"]
[null,20.100000000000001,"2019-03-22","Protected workbook with same password as work sheets. ZSD"]
[null,20.2,"2019-04-30","Updated R0B"]
[null,21,"2019-05-31","Updated RX3 "]
[null,22,"2019-06-28","Updated RNU"]
[null,23,"2019-08-30","Added new columns for Day/Night - Also Updated Backsheet Added - AB"]
[null,24,"2019-09-30","Updated New Wards and added RYX98"]
[null,25,"2019-10-16","VBA password update "]
[null,null,"2019-10-21","Updated Prov ref data DM-4825"]
[null,null,"2019-10-25","Updated reference data hidden in Frontsheet - AB"]
[null,null,"2019-10-29","Updated ward list, as provided by Alun Williams"]
[null,26,"2019-11-01","Added missing formula to top row of front sheet"]

{"sheet":"Cover","index":1,"n_rows":0,"n_cols":0,"rows_kept":0,"cut":false,"hidden":false,"merged":[]}

{"sheet":"Control_Panel","index":2,"n_rows":33,"n_cols":16,"rows_kept":33,"cut":false,"hidden":false,"merged":[[32,2,32,8],[17,2,17,8],[31,2,31,8],[21,2,21,8],[22,2,22,8],[24,2,24,8],[30,2,30,8],[25,2,25,8],[26,2,26,8],[1,2,2,8],[28,2,28,8],[29,2,29,8],[19,2,19,8],[27,2,27,8],[5,2,5,3],[3,2,3,8],[7,2,7,8],[8,2,10,8],[12,2,12,8],[13,2,13,8],[15,2,15,8],[23,2,23,8],[16,2,16,8],[18,2,18,8],[20,2,20,8]]}
[null,null,null,null,null,null,null,null,null,null,null,{"$f":"IF(C17=\"\",\"\",C17)","v":""},{"$f":"IF(C29=\"\",\"\",C29)","v":""},null,null,"Backsheet Check"]
[null,null,"Safe Staffing (Rota Fill Rates and CHPPD) Collection",null,null,null,null,null,null,null,null,{"$f":"IF(C19=\"\",\"\",C19)","v":""},{"$f":"IF(C30=\"\",\"\",C30)","v":""},null,null,{"$f":"IF(SUM(IF(ISERROR(INDIRECT(\"Backsheet!\" &P3)),1,0))=0,0,1)","v":1}]
[null,null,null,null,null,null,null,null,null,null,null,"","",null,null,"A2:ZZ500"]
[null,null,"Please check that the data on this upload template is accurate before being submitted to SDCS.  You are reminded that these figures will be published, and it is the responsibility of your organisation that these submitted figures are accurate and in line with national guidance.  We will undertake basic validation checks on these figures post submission, and may come back to you with any queries we may have.",null,null,null,null,null,null,null,null,""]
[null,null,null,null,null,null,null,null,null,null,null,""]
[null,null,null,null,"RWG",{"$f":"VLOOKUP(OrgCodeSelection,Orgs,2,FALSE)","v":"West Hertfordshire Hospitals NHS Trust"},null,null,null,null,null,""]
[null,null,null,null,null,null,null,null,null,null,null,{"$f":"IF(C24=\"\",\"\",C24)","v":""}]
[null,null,"Validations",null,null,null,null,null,null,null,null,""]
[null,null,"Please correct all issues listed within the tables below. If the issues are not corrected then the pro forma will fail the validation stage in SDCS. ",null,null,null,null,null,null,null,null,""]
[null,null,null,null,null,null,null,null,null,null,null,""]
[null,null,null,null,null,null,null,null,null,null,null,"This template is broken. Please download a new copy and start again"]
[null,null,null,null,null,null,null,null,null,null,null,{"$f":"IF(C32=\"\",\"\",C32)","v":{"$error":"#REF!"}}]
[null,null,"Control Panel"]
[null,null,{"$f":"L14","v":""},null,null,null,null,null,null,null,null,{"$f":"IF(OrgCodeSelection=\"\",\"No 'Organisation Code' has been selected. Please choose an organisation\",\"\")","v":""}]
[]
[null,null,"Trust - Frontsheet"]
[null,null,{"$f":"IF('Trust - Frontsheet'!AX2=\"\",\"\",'Trust - Frontsheet'!AX2)","v":""}]
[null,null,{"$f":"IF('Trust - Frontsheet'!AZ5=\"\",\"\",'Trust - Frontsheet'!AZ5)","v":"Check ward spelling and site-ward combination against ward list. If a new ward or site-ward combination, leave it in, and the ward list will be updated in time for the next collection."}]
[null,null,{"$f":"IF('Trust - Frontsheet'!AX4=\"\",\"\",'Trust - Frontsheet'!AX4)","v":""}]
[null,null,{"$f":"IF('Trust - Frontsheet'!AX5=\"\",\"\",'Trust - Frontsheet'!AX5)","v":""}]
[null,null,{"$f":"IF('Trust - Frontsheet'!AX6=\"\",\"\",'Trust - Frontsheet'!AX6)","v":""}]
[null,null,{"$f":"IF('Trust - Frontsheet'!AX7=\"\",\"\",'Trust - Frontsheet'!AX7)","v":""}]
[null,null,{"$f":"IF('Trust - Frontsheet'!AX8=\"\",\"\",'Trust - Frontsheet'!AX8)","v":""}]
[null,null,{"$f":"IF('Trust - Frontsheet'!AX9=\"\",\"\",'Trust - Frontsheet'!AX9)","v":""}]
[null,null,{"$f":"IF('Trust - Frontsheet'!AX10=\"\",\"\",'Trust - Frontsheet'!AX10)","v":""}]
[null,null,{"$f":"IF('Trust - Frontsheet'!AX14=\"\",\"\",'Trust - Frontsheet'!AX14)","v":""}]
[null,null,{"$f":"IF('Trust - Frontsheet'!AX15=\"\",\"\",'Trust - Frontsheet'!AX15)","v":""}]
[null,null,{"$f":"IF(P2=1,\"This template is broken. Please download a new copy and start again\",\"\")","v":"This template is broken. Please download a new copy and start again"}]
[null,null,{"$f":"IF('Trust - Frontsheet'!AZ6=\"\",\"\",'Trust - Frontsheet'!AZ6)","v":""}]
[null,null,{"$f":"IF('Trust - Frontsheet'!AZ7=\"\",\"\",'Trust - Frontsheet'!AZ7)","v":""}]
[null,null,{"$f":"IF('Trust - Frontsheet'!AZ8=\"\",\"\",'Trust - Frontsheet'!AZ8)","v":""}]
[null,null,{"$f":"IF('Trust - Frontsheet'!AX13=\"\",\"\",'Trust - Frontsheet'!AX13)","v":{"$error":"#REF!"}}]
[null,null,{"$f":"IF('Trust - Frontsheet'!AX16=\"\",\"\",'Trust - Frontsheet'!AX16)","v":""}]

{"sheet":"Trust - Frontsheet","index":3,"n_rows":6663,"n_cols":91,"rows_kept":1125,"cut":true,"hidden":false,"merged":[[11,57,11,65],[11,18,11,19],[11,37,12,37],[11,40,12,40],[11,41,12,41],[11,36,12,36],[11,44,12,44],[11,45,12,45],[11,24,11,25],[11,29,12,29],[11,30,12,30],[11,33,12,33],[11,34,12,34],[11,35,12,35],[11,20,11,21],[11,22,11,23],[12,0,12,1],[11,3,11,4],[11,5,12,5],[11,8,11,9],[11,16,11,17],[11,6,11,7],[11,10,11,11],[1,3,2,45],[10,3,10,4],[9,3,9,4],[6,5,6,17],[8,5,8,17],[7,5,7,17],[4,5,4,9],[10,44,10,45],[10,24,10,27],[10,28,10,35],[10,8,10,15],[10,16,10,23],[10,36,10,39],[10,40,10,43],[11,31,12,31],[11,26,11,27],[11,28,12,28],[11,12,11,13],[11,14,11,15],[11,32,12,32],[11,38,12,38],[11,39,12,39],[11,42,12,42],[11,43,12,43]],"bounds":{"rows_first":500,"rows_last":125,"rows_between":500,"halvings":2}}
[null,null,{"$f":"IF(E5=\"\",\"\",IF(VLOOKUP($E$5,Index!$N:$O,2,0)=\"Y\",\"Y\",\"N\"))","v":"Y"},null,null,null,null,null,null,null,null,null,null,null,null,null,null,null,null,null,null,null,null,null,null,null,null,null,null,null,null,null,null,null,null,null,null,null,null,null,null,null,null,null,null,null," ",null,null,null,"ERRORS",null,"WARNINGS",null,null,null,null,null,null,null,null,null,null,null,null,null,null,null,null,{"$f":"CONCATENATE(LEFT(BS1, 3),BT1)","v":"AXGSAVERNAKE COMMUNITY HOSPITAL"},"AXG02","SAVERNAKE COMMUNITY HOSPITAL","AXG02","SAVERNAKE COMMUNITY HOSPITAL",{"$f":"LEFT(BU1,3)","v":"AXG"},null,null,"BERKELEY HOUSE","Berkeley House"]
[null,null,null,"Safe Staffing (Rota Fill Rates and CHPPD) Collection",null,null,null,null,null,null,null,null,null,null,null,null,null,null,null,null,null,null,null,null,null,null,null,null,null,null,null,null,null,null,null,null,null,null,null,null,null,null,null,null,null,null,null,null,null,{"$f":"IF(BG214=0,\"\",\"Select Site Name in Column E\")","v":""},"SELECT SITE CODE",null,null,null,null,null,null,null,null,null,null,null,null,null,null,null,null,null,null,"AXGWARMINSTER COMMUNITY HOSPITAL","AXG03","WARMINSTER COMMUNITY HOSPITAL","AXG03","WARMINSTER COMMUNITY HOSPITAL","AXG",null,null,"CHARLTON LANE HOSPITAL","Chestnut"]
[null,null,null,null,null,null,null,null,null,null,null,null,null,null,null,null,null,null,null,null,null,null,null,null,null,null,null,null,null,null,null,null,null,null,null,null,null,null,null,null,null,null,null,null,null,null,null,null,null,null,"Select Ward Name",null,null,null,null,null,null,null,null,null,null,null,null,null,null,null,null,null,null,"AXGWILTSHIRE HEALTH & CARE (CHIPPENHAM COMMUNITY HOSPITAL)","AXG01","WILTSHIRE HEALTH & CARE (CHIPPENHAM COMMUNITY HOSPITAL)","AXG01","WILTSHIRE HEALTH & CARE (CHIPPENHAM COMMUNITY HOSPITAL)","AXG",null,null,"CHARLTON LANE HOSPITAL","Mulberry"]
[null,null,null,null,null,null,null,null,null,null,null,null,null,null,null,null,null,null,null,null,null,null,null,null,null,null,null,null,null,null,null,null,null,null,null,null,null,null,null,null,null,null,null,null,null,null,null,null,null,{"$f":"IF(BH214=0,\"\",\"Select Ward Name in Column F\")","v":""},"Select speciality",null,null,null,null,null,null,null,null,null,null,null,null,null,null,null,null,null,null,"NHMALDEBURGH COMMUNITY HOSPITAL","NHM02","ALDEBURGH COMMUNITY HOSPITAL","NHM02","ALDEBURGH COMMUNITY HOSPITAL","NHM",null,null,"CHARLTON LANE HOSPITAL","Willow"]
[null,null,null,"Organisation:",{"$f":"IF(ISBLANK(Control_Panel!OrgCodeSelection),\"\",Control_Panel!OrgCodeSelection)","v":"RWG"},{"$f":"IF(Control_Panel!OrgNameSelection=\"\",\"\",Control_Panel!OrgNameSelection)","v":"West Hertfordshire Hospitals NHS Trust"},null,null,null,null,null,null,null,null,null,null,null,null,null,null,null,null,null,null,null,null,null,null,null,null,null,null,null,null,null,null,null,null,null,null,null,null,null,null,null,null,null,null,null,{"$f":"IF(E415=0,\"\",\"At least one specialty must be selected (Speciality 1) for each row\")","v":""},"Total planned hours > 0",{"$f":"IF(BM214=0,\"\",\"Check ward spelling and site-ward combination against ward list. If a new ward or site-ward combination, leave it in, and the ward list will be updated in time for the next collection.\")","v":"Check ward spelling and site-ward combination against ward list. If a new ward or site-ward combination, leave it in, and the ward list will be updated in time for the next collection."},null,null,null,null,null,null,null,null,null,null,null,null,null,null,null,null,null,"NHMBLUEBIRD LODGE ","NHM03","BLUEBIRD LODGE ","NHM03","BLUEBIRD LODGE ","NHM",null,null,"HONEYBOURNE","Honeybourne"]
[null,null,null,null,null,null,null,null,null,null,null,null,null,null,null,null,null,null,null,null,null,null,null,null,null,null,null,null,null,null,null,null,null,null,null,null,null,null,null,null,null,null,null,null,null,null,null,null,null,{"$f":"IF(F415=0,\"\",\"Total number of planned hours must be greater than 0\")","v":""},"Total actual hours > 0",{"$f":"IF(H415>0,\"One or more wards has less than 1448 actual hours (approx. 2 full time staff)\",\"\")","v":""},null,null,null,null,null,null,null,null,null,null,null,null,null,null,null,null,null,"NHMFELIXSTOWE COMMUNITY HOSPITAL","NHM05","FELIXSTOWE COMMUNITY HOSPITAL","NHM05","FELIXSTOWE COMMUNITY HOSPITAL","NHM",null,null,"LAUREL HOUSE CHELT","Laurel House"]
[null,null,null,null,null,"Please provide the URL to the page on your trust website where your staffing information is available",null,null,null,null,null,null,null,null,null,null,null,null,null,null,null,null,null,null,null,null,null,null,null,null,null,null,null,null,null,null,null,null,null,null,null,null,null,null,null,null,null,null,null,{"$f":"IF(G415=0,\"\",\"Total number of actual hours must be greater than 0\")","v":""},"duplicate ward/hospital and spec codes",{"$f":"IF(I415>0,\"One or more wards has greater than 30000 actual hours (approx. 40 full time staff)\",\"\")","v":""},null,null,null,null,null,null,null,null,null,null,null,null,null,null,null,null,null,"NHMGLASTONBURY COURT","NHM26","GLASTONBURY COURT","NHM26","GLASTONBURY COURT","NHM",null,null,"OAK HOUSE","Oak House"]
[null,null,null,null,null,"(Please can you ensure that the URL you attach to the spreadsheet is correct and links to the correct web page and include 'http://' in your URL)",null,null,null,null,null,null,null,null,null,null,null,null,null,null,null,null,null,null,null,null,null,null,null,null,null,null,null,null,null,null,null,null,null,null,null,null,null,null,null,null,null,null,null,{"$f":"IF(E5=\"\",\"\",IF(BI416>0,\"Duplicate Ward entry within site\",\"\"))","v":""},"Avoid gaps in between data rows",{"$f":"IF(AC415>0,\"One or more wards has submitted actual hours but zero CHPPD patients.\",\"\")","v":""},null,null,null,null,null,null,null,null,null,null,null,null,null,null,null,null,null,"NHMNEWMARKET COMMUNITY HOSPITAL","NHM04","NEWMARKET COMMUNITY HOSPITAL","NHM04","NEWMARKET COMMUNITY HOSPITAL","NHM",null,null,"STONEBOW UNIT","Cantilupe"]
[null,null,null,null,null,null,null,null,null,null,null,null,null,null,null,null,null,null,null,null,null,null,null,null,null,null,null,null,null,null,null,null,null,null,null,null,null,null,null,null,null,null,null,null,null,null,null,null,null,{"$f":"IF(BK416>0,\"Please do not leave gaps between rows of data.\",\"\")","v":""},"duplicate speciality codes",null,null,null,null,null,null,null,null,null,null,null,null,null,null,null,null,null,null,"NLXCHIPPENHAM COMMUNITY HOSPITAL","NLX17","CHIPPENHAM COMMUNITY HOSPITAL","NLX17","CHIPPENHAM COMMUNITY HOSPITAL","NLX",null,null,"STONEBOW UNIT","Jenny Lind"]
[{"$f":"IF(E14=\"\",1,0)","v":0},null,null,null,null,null,null,null,null,null,null,null,null,null,null,null,null,null,null,null,null,null,null,null,null,null,null,null,null,null,null,null,null,null,null,null,null,null,null,null,null,null,null,null,null,null,null,null,null,{"$f":"IF(BL416>0,\"Duplicate speciality codes entered\",\"\")","v":""},null,null,null,null,null,null,null,null,null,null,null,null,null,null,null,null,null,null,null,"NLXCOSSHAM HOSPITAL","NLX23","COSSHAM HOSPITAL","NLX23","COSSHAM HOSPITAL","NLX",null,null,"STONEBOW UNIT","Mortimer"]
[null,null,null,null,null,"Only complete sites your organisation is accountable for ",null,null,"Day",null,null,null,null,null,null,null,"Night",null,null,null,null,null,null,null,"Allied Health Professionals",null,null,null,"Care Hours Per Patient Day (CHPPD)",null,null,null,null,null,null,null,"Day",null,null,null,"Night",null,null,null,"Allied Health Professionals",null,null,null,null,{"$f":"Control_Panel!L14","v":""},"Site code issue",null,null,null,null,null,null,null,null,null,null,null,null,null,null,null,null,null,null,"NLXDEVIZES COMMUNITY HOSPITAL","NLX18","DEVIZES COMMUNITY HOSPITAL","NLX18","DEVIZES COMMUNITY HOSPITAL","NLX",null,null,"WOTTON LAWN HOSPITAL","Abbey"]
[null,null,null,"Hospital Site Details",null,"Ward name","Main 2 Specialties on each ward",null,"Registered Nurses/Midwives",null,"Non-registered Nurses/Midwives (Care Staff)",null,"Registered Nursing Associates",null,"Non-registered Nursing Associates",null,"Registered Nurses/Midwives",null,"Non-registered Nurses/Midwives (Care Staff)",null,"Registered Nursing Associates",null,"Non-registered Nursing Associates",null,"Registered allied health professionals",null,"Non-registered allied health professionals",null,"Cumulative count over the month of patients at 23:59 each day","Registered Nurses/Midwives","Non-registered Nurses/Midwives","Registered Nursing Associates","Non-registered Nursing Associates","Registered allied health professionals","Non-registered allied health professionals","Overall","Average fill rate - Registered Nurses/Midwives  (%)","Average fill rate - Non-registered Nurses/Midwives (care staff) (%)","Average fill rate - Registered Nursing Associates  (%)","Average fill rate - Non-Registered Nursing Associates (%)","Average fill rate - Registered Nurses/Midwives  (%)","Average fill rate - Non-registered Nurses/Midwives (care staff) (%)","Average fill rate - Registered Nursing Associates  (%)","Average fill rate - Non-Registered Nursing Associates (%)","Average fill rate - registered allied health professionals (AHP)  (%)","Average fill rate - non-registered allied health professionals (AHP)  (%)",null,null,null,{"$f":"D626","v":""},"Do not enter negative numbers",null,null,null,null,null,null,"VALIDATIONS",null,null,null,null,null,null,null,null,null,null,null,"NLXGREYSTONES","NLX12","GREYSTONES","NLX12","GREYSTONES","NLX",null,null,"WOTTON LAWN HOSPITAL","Dean"]
[null,null,null,"Site code *The Site code is automatically populated when a Site name is selected","Hospital Site name",null,"Specialty 1","Specialty 2","Total monthly planned staff hours","Total monthly actual staff hours","Total monthly planned staff hours","Total monthly actual staff hours","Total monthly planned staff hours","Total monthly actual staff hours","Total monthly planned staff hours","Total monthly actual staff hours","Total monthly planned staff hours","Total monthly actual staff hours","Total monthly planned staff hours","Total monthly actual staff hours","Total monthly planned staff hours","Total monthly actual staff hours","Total monthly planned staff hours","Total monthly actual staff hours","Total monthly planned staff hours","Total monthly actual staff hours","Total monthly planned staff hours","Total monthly actual staff hours",null,null,null,null,null,null,null,null,null,null,null,null,null,null,null,null,null,null,null,"Specialties",null,{"$f":"IF(J622>0, \"Please do not enter negative numbers\",\"\")","v":{"$error":"#REF!"}},"speciality codes not in list",null,null,null,null,null,null,null,"SITE CODE","WARD NAME","Carriage Return",null,null,null,null,null,null,null,null,"NLXHANHAM HEALTH","NLX27","HANHAM HEALTH","NLX27","HANHAM HEALTH","NLX",null,null,"WOTTON LAWN HOSPITAL","Greyfriars"]
[{"$f":"IF(Q215=1,\"No Site Selected\",IF(R215=1,\"No Ward Name\",\"\"))","v":{"$error":"#REF!"}},{"$f":"IF(SUM(E215:G215,Q215:R215)>0,1,IF(AU215>0,2,0))","v":{"$error":"#REF!"}},null,{"$f":"IF(ISNA(VLOOKUP($E$5&E14,$BR:$BS,2,FALSE)),\"\",VLOOKUP($E$5&E14,$BR:$BS,2,FALSE))","v":"RWG02"},"WATFORD GENERAL HOSPITAL","AAU Blue Level 1","326 - ACUTE INTERNAL MEDICINE",null,1069.5,943,708.75,857.5,0,0,0,0,1069,1007.5,713,851,0,0,0,0,null,null,null,null,398,{"$f":"IF(ISERROR(IF(#REF!=\"\",\"\",SUM(J14,R14)/#REF!)),\"-\",(IF(#REF!=\"\",\"\",SUM(J14,R14)/#REF!)))","v":"-"},{"$f":"IF(ISERROR(IF(#REF!=\"\",\"\",SUM(L14,T14)/#REF!)),\"-\",(IF(#REF!=\"\",\"\",SUM(L14,T14)/#REF!)))","v":"-"},{"$f":"IF(ISERROR(IF(#REF!=\"\",\"\",SUM(N14,V14)/#REF!)),\"-\",(IF(#REF!=\"\",\"\",SUM(N14,V14)/#REF!)))","v":"-"},{"$f":"IF(ISERROR(IF(#REF!=\"\",\"\",SUM(P14,X14)/#REF!)),\"-\",(IF(#REF!=\"\",\"\",SUM(P14,X14)/#REF!)))","v":"-"},{"$f":"IF(ISERROR(IF(#REF!=\"\",\"\",Z14/#REF!)),\"-\",(IF(#REF!=\"\",\"\",Z14/#REF!)))","v":"-"},{"$f":"IF(ISERROR(IF(#REF!=\"\",\"\",AB14/#REF!)),\"-\",(IF(#REF!=\"\",\"\",AB14/#REF!)))","v":"-"},{"$f":"IF(ISERROR(IF(#REF!=\"\",\"\",SUM(J14,L14,R14,T14,Z14,AB14,X14,P14,V14,N14)/#REF!)),\"-\",(IF(#REF!=\"\",\"\",SUM(J14,L14,R14,T14,Z14,AB14,X14,P14,V14,N14)/#REF!)))","v":"-"},{"$f":"IF(ISERROR(IF($I14=\"\",\"\",J14/I14)),\"-\",(IF($I14=\"\",\"\",J14/I14)))","v":0.88172043010752688},{"$f":"IF(ISERROR(IF(K14=\"\",\"\",L14/K14)),\"-\",(IF(K14=\"\",\"\",L14/K14)))","v":1.2098765432098766},{"$f":"IF(ISERROR(IF(M14=\"\",\"\",N14/M14)),\"-\",(IF(M14=\"\",\"\",N14/M14)))","v":"-"},{"$f":"IF(ISERROR(IF(O14=\"\",\"\",P14/O14)),\"-\",(IF(O14=\"\",\"\",P14/O14)))","v":"-"},{"$f":"IF(ISERROR(IF(Q14=\"\",\"\",R14/Q14)),\"-\",(IF(Q14=\"\",\"\",R14/Q14)))","v":0.94246959775491113},{"$f":"IF(ISERROR(IF(S14=\"\",\"\",T14/S14)),\"-\",IF(S14=\"\",\"\",T14/S14))","v":1.1935483870967742},{"$f":"IF(ISERROR(IF(U14=\"\",\"\",V14/U14)),\"-\",IF(U14=\"\",\"\",V14/U14))","v":"-"},{"$f":"IF(ISERROR(IF(W14=\"\",\"\",X14/W14)),\"-\",IF(W14=\"\",\"\",X14/W14))","v":"-"},{"$f":"IF(ISERROR(IF(Y14=\"\",\"\",Z14/Y14)),\"-\",IF(Y14=\"\",\"\",Z14/Y14))","v":""},{"$f":"IF(ISERROR(IF(AA14=\"\",\"\",AB14/AA14)),\"-\",IF(AA14=\"\",\"\",AB14/AA14))","v":""},null,"100 - GENERAL SURGERY",0,{"$f":"IF(SUM(D834:E834)>0,\"Please enter valid speciality codes\",\"\")","v":""},"AHP Data entered but not required",null,null,null,null,null,null,null,{"$f":"IF(Q215=1,\"No Site Selected\",\"\")","v":{"$error":"#REF!"}},{"$f":"IF(R215=1,\"No Ward Name\",\"\")","v":""},{"$f":"IF(ISNUMBER((IFERROR(FIND(CHAR(10),F14),\"\")))=TRUE,1,\"\")","v":""},null,null,null,{"$f":"IF(C215=1,\"Incorrect Ward Name\",\"\")","v":""},null,null,null,null,"NLXHOMELINK & COMMUNITY OPTIONS","NLX14","HOMELINK & COMMUNITY OPTIONS","NLX14","HOMELINK & COMMUNITY OPTIONS","NLX",null,null,"WOTTON LAWN HOSPITAL","Kingsholm",{"$f":"$E14","v":"WATFORD GENERAL HOSPITAL"},null,"Match:",{"$f":"MATCH($CB14,$BZ$1:$BZ$6663,0)","v":6283},"Countif:",{"$f":"SUM(COUNTIF($BZ$1:$BZ$6663,$CB14)+$CE14-1)","v":6312},"Concat Items:","$CA",":$CA",null,"Concat Final:",{"$f":"CONCATENATE($CI14,$CE14,$CJ14,$CG14)","v":"$CA6283:$CA6312"}]
[{"$f":"IF(Q216=1,\"No Site Selected\",IF(R216=1,\"No Ward Name\",\"\"))","v":""},2,null,"RWG02","WATFORD GENERAL HOSPITAL","AAU Green Level 1","326 - ACUTE INTERNAL MEDICINE",null,1069.5,996.5,713,700.67,0,0,0,0,1069.5,1081,712.25,689.25,0,0,0,0,null,null,null,null,401,{"$f":"IF(ISERROR(IF($AC15=\"\",\"\",SUM(J15,R15)/$AC15)),\"-\",(IF($AC15=\"\",\"\",SUM(J15,R15)/$AC15)))","v":5.1807980049875315},{"$f":"IF(ISERROR(IF($AC15=\"\",\"\",SUM(L15,T15)/$AC15)),\"-\",(IF($AC15=\"\",\"\",SUM(L15,T15)/$AC15)))","v":3.4661346633416459},{"$f":"IF(ISERROR(IF($AC15=\"\",\"\",SUM(N15,V15)/$AC15)),\"-\",(IF($AC15=\"\",\"\",SUM(N15,V15)/$AC15)))","v":0},{"$f":"IF(ISERROR(IF($AC15=\"\",\"\",SUM(P15,X15)/$AC15)),\"-\",(IF($AC15=\"\",\"\",SUM(P15,X15)/$AC15)))","v":0},{"$f":"IF(ISERROR(IF($AC15=\"\",\"\",Z15/$AC15)),\"-\",(IF($AC15=\"\",\"\",Z15/$AC15)))","v":0},{"$f":"IF(ISERROR(IF($AC15=\"\",\"\",AB15/$AC15)),\"-\",(IF($AC15=\"\",\"\",AB15/$AC15)))","v":0},{"$f":"IF(ISERROR(IF($AC15=\"\",\"\",SUM(J15,L15,R15,T15,Z15,AB15,X15,P15,V15,N15)/$AC15)),\"-\",(IF($AC15=\"\",\"\",SUM(J15,L15,R15,T15,Z15,AB15,X15,P15,V15,N15)/$AC15)))","v":8.6469326683291765},{"$f":"IF(ISERROR(IF($I15=\"\",\"\",J15/I15)),\"-\",(IF($I15=\"\",\"\",J15/I15)))","v":0.93174380551659652},{"$f":"IF(ISERROR(IF(K15=\"\",\"\",L15/K15)),\"-\",(IF(K15=\"\",\"\",L15/K15)))","v":0.98270687237026644},{"$f":"IF(ISERROR(IF(M15=\"\",\"\",N15/M15)),\"-\",(IF(M15=\"\",\"\",N15/M15)))","v":"-"},{"$f":"IF(ISERROR(IF(O15=\"\",\"\",P15/O15)),\"-\",(IF(O15=\"\",\"\",P15/O15)))","v":"-"},{"$f":"IF(ISERROR(IF(Q15=\"\",\"\",R15/Q15)),\"-\",(IF(Q15=\"\",\"\",R15/Q15)))","v":1.010752688172043},{"$f":"IF(ISERROR(IF(S15=\"\",\"\",T15/S15)),\"-\",IF(S15=\"\",\"\",T15/S15))","v":0.96770796770796774},{"$f":"IF(ISERROR(IF(U15=\"\",\"\",V15/U15)),\"-\",IF(U15=\"\",\"\",V15/U15))","v":"-"},{"$f":"IF(ISERROR(IF(W15=\"\",\"\",X15/W15)),\"-\",IF(W15=\"\",\"\",X15/W15))","v":"-"},{"$f":"IF(ISERROR(IF(Y15=\"\",\"\",Z15/Y15)),\"-\",IF(Y15=\"\",\"\",Z15/Y15))","v":""},{"$f":"IF(ISERROR(IF(AA15=\"\",\"\",AB15/AA15)),\"-\",IF(AA15=\"\",\"\",AB15/AA15))","v":""},null,"101 - UROLOGY",0,{"$f":"IF(SUM(J625)>0,\"AHP Data entered but not required\",\"\")","v":""},null,null,null,null,null,null,null,null,{"$f":"IF(Q216=1,\"No Site Selected\",\"\")","v":""},{"$f":"IF(R216=1,\"No Ward Name\",\"\")","v":""},{"$f":"IF(ISNUMBER((IFERROR(FIND(CHAR(10),F15),\"\")))=TRUE,1,\"\")","v":""},null,null,null,{"$f":"IF(C216=1,\"Incorrect Ward Name\",\"\")","v":""},null,null,null,null,"NLXMELKSHAM COMMUNITY HOSPITAL","NLX19","MELKSHAM COMMUNITY HOSPITAL","NLX19","MELKSHAM COMMUNITY HOSPITAL","NLX",null,null,"WOTTON LAWN HOSPITAL","Montpellier",{"$f":"$E15","v":"WATFORD GENERAL HOSPITAL"},null,"Match:",{"$f":"MATCH($CB15,$BZ$1:$BZ$6663,0)","v":6283},"Countif:",{"$f":"SUM(COUNTIF($BZ$1:$BZ$6663,$CB15)+$CE15-1)","v":6312},"Concat Items:","$CA",":$CA",null,"Concat Final:",{"$f":"CONCATENATE($CI15,$CE15,$CJ15,$CG15)","v":"$CA6283:$CA6312"}]
[{"$f":"IF(Q217=1,\"No Site Selected\",IF(R217=1,\"No Ward Name\",\"\"))","v":""},2,null,"RWG02","WATFORD GENERAL HOSPITAL","AAU Yellow Level 1","326 - ACUTE INTERNAL MEDICINE",null,1069.5,971.91666666666663,713,712.25,0,0,0,0,1069.5,1058,713,724.5,0,0,0,0,null,null,null,null,407,4.9875102375102367,3.5300982800982803,0,0,0,0,8.517608517608517,0.90875798659809881,0.99894810659186539,"-","-",0.989247311827957,1.0161290322580645,"-","-","","",null,"103 - BREAST SURGERY",0,{"$f":"IF(BI214>0,\"Do not enter carriage returns in the ward names field\",\"\")","v":""},null,null,null,null,null,null,null,null,"","","",null,null,null,"",null,null,null,null,"NLXPAULTON MEMORIAL HOSPITAL","NLX02","PAULTON MEMORIAL HOSPITAL","NLX02","PAULTON MEMORIAL HOSPITAL","NLX",null,null,"WOTTON LAWN HOSPITAL","Priory","WATFORD GENERAL HOSPITAL",null,"Match:",6283,"Countif:",6312,"Concat Items:","$CA",":$CA",null,"Concat Final:","$CA6283:$CA6312"]
[{"$f":"IF(Q218=1,\"No Site Selected\",IF(R218=1,\"No Ward Name\",\"\"))","v":""},2,null,"RWG02","WATFORD GENERAL HOSPITAL","AAU Purple Level 1","326 - ACUTE INTERNAL MEDICINE",null,1069.5,1058,713,784,0,0,0,0,1069.5,1081,702,818.75,0,0,0,0,null,null,null,null,383,5.584856396866841,4.1847258485639687,0,0,0,0,9.7695822454308097,0.989247311827957,1.0995792426367461,"-","-",1.010752688172043,1.1663105413105412,"-","-","","",null,"110 - TRAUMA & ORTHOPAEDICS",0,null,null,null,null,null,null,null,null,null,"","","",null,null,null,"",null,null,null,null,"NLXST MARTINS HOSPITAL","NLX01","ST MARTINS HOSPITAL","NLX01","ST MARTINS HOSPITAL","NLX",null,"Selected Org:","UNIVERSITY HOSPITAL AINTREE","A2H","WATFORD GENERAL HOSPITAL",null,"Match:",6283,"Countif:",6312,"Concat Items:","$CA",":$CA",null,"Concat Final:","$CA6283:$CA6312"]
["",2,null,"RWG02","WATFORD GENERAL HOSPITAL","AAU Blue & Yellow Level 3","326 - ACUTE INTERNAL MEDICINE",null,2139,1894.0833333333333,2496,3125.25,0,0,0,0,2139,2058.5,1069.5,1667.5,0,0,0,0,null,null,null,null,1103,3.5834844363856146,4.3451949229374431,0,0,0,0,7.9286793593230573,0.88549945457378831,1.2521033653846154,"-","-",0.9623655913978495,1.5591397849462365,"-","-","","",null,"120 - ENT",0,null,null,null,null,null,null,null,null,null,"","","",null,null,null,"",null,null,null,null,"NLXTHORNBURY HOSPITAL","NLX22","THORNBURY HOSPITAL","NLX22","THORNBURY HOSPITAL","NLX",null,{"$f":"$E$5","v":"RWG"},"UNIVERSITY HOSPITAL AINTREE","ACCU","WATFORD GENERAL HOSPITAL",null,"Match:",6283,"Countif:",6312,"Concat Items:","$CA",":$CA",null,"Concat Final:","$CA6283:$CA6312"]
["",2,null,"RWG02","WATFORD GENERAL HOSPITAL","AAU Red Suite","430 - GERIATRIC MEDICINE",null,810.5,992,1068.25,991.75,0,0,0,0,1069.5,1012,356.5,667,0,0,0,0,null,null,null,null,521,3.8464491362763917,3.1837811900191939,0,0,0,0,7.0302303262955856,1.2239358420727946,0.92838754973086823,"-","-",0.94623655913978499,1.8709677419354838,"-","-","","",null,"130 - OPHTHALMOLOGY",0,null,null,null,null,null,null,null,null,null,"","","",null,null,null,"",null,null,null,null,"NLXTROWBRIDGE COMMUNITY HOSPITAL","NLX20","TROWBRIDGE COMMUNITY HOSPITAL","NLX20","TROWBRIDGE COMMUNITY HOSPITAL","NLX",null,null,"UNIVERSITY HOSPITAL AINTREE","AMU","WATFORD GENERAL HOSPITAL",null,"Match:",6283,"Countif:",6312,"Concat Items:","$CA",":$CA",null,"Concat Final:","$CA6283:$CA6312"]
["",2,null,"RWG02","WATFORD GENERAL HOSPITAL","Acute Stroke Unit","328 - STROKE MEDICINE",null,2358.6999999999998,2168.3666666666668,1425.5,1376.75,0,0,0,181.5,2139,2093,1426,1518,0,0,0,34.5,null,null,null,null,971,4.3886371438379674,2.9812049433573637,0,0.22245108135942326,0,0,7.5922931685547548,0.91930583230875773,0.96580147316730969,"-","-",0.978494623655914,1.064516129032258,"-","-","","",null,"140 - ORAL SURGERY",0,null,null,null,null,null,null,null,null,null,"","","",null,null,null,"",null,null,null,null,"NQ1ACE (THE CRESCENT, COLCHESTER)","NQ114","ACE (THE CRESCENT, COLCHESTER)","NQ114","ACE (THE CRESCENT, COLCHESTER)","NQ1",null,"Match:","UNIVERSITY HOSPITAL AINTREE","Critical care","WATFORD GENERAL HOSPITAL",null,"Match:",6283,"Countif:",6312,"Concat Items:","$CA",":$CA",null,"Concat Final:","$CA6283:$CA6312"]
["",2,null,"RWG02","WATFORD GENERAL HOSPITAL","Aldenham","340 - RESPIRATORY MEDICINE",null,1786.8333333333301,1638.3333333333333,1426,1299.5,0,0,0,0,1426,1495,851,989,0,0,0,0,null,null,null,null,806,3.8875103391232422,2.8393300248138957,0,0,0,0,6.7268403639371375,0.91689208096259844,0.91129032258064513,"-","-",1.0483870967741935,1.1621621621621621,"-","-","","",null,"141 - RESTORATIVE DENTISTRY",0,null,null,null,null,null,null,null,null,null,"","","",null,null,null,"",null,null,null,null,"NQ1ACE CIC (CLACTON ON SEA)","NQ101","ACE CIC (CLACTON ON SEA)","NQ101","ACE CIC (CLACTON ON SEA)","NQ1",null,{"$f":"MATCH($BY$18,$BW$1:$BW$5058,0)","v":3129},"UNIVERSITY HOSPITAL AINTREE","FAU","WATFORD GENERAL HOSPITAL",null,"Match:",6283,"Countif:",6312,"Concat Items:","$CA",":$CA",null,"Concat Final:","$CA6283:$CA6312"]
["",2,null,"RWG02","WATFORD GENERAL HOSPITAL","Bluebell","430 - GERIATRIC MEDICINE",null,713,747.5,2139,1822.75,0,0,0,46,713,920,2139,1667.5,0,0,0,103.5,null,null,null,null,463,3.6015118790496761,7.5383369330453567,0,0.32289416846652269,0,0,11.462742980561556,1.0483870967741935,0.85215053763440862,"-","-",1.2903225806451613,0.77956989247311825,"-","-","","",null,"142 - PAEDIATRIC DENTISTRY",0,null,null,null,null,null,null,null,null,null,"","","",null,null,null,"",null,null,null,null,"NQ1CLACTON HOSPITAL","NQ108","CLACTON HOSPITAL","NQ108","CLACTON HOSPITAL","NQ1",null,"Countif:","UNIVERSITY HOSPITAL AINTREE","MTW","WATFORD GENERAL HOSPITAL",null,"Match:",6283,"Countif:",6312,"Concat Items:","$CA",":$CA",null,"Concat Final:","$CA6283:$CA6312"]
["",2,null,"RWG02","WATFORD GENERAL HOSPITAL","Cardiac Care","320 - CARDIOLOGY",null,2139,1966.5,713,747.5,0,0,0,0,1782.25,1747.75,356.5,391,0,0,0,0,null,null,null,null,739,{"$f":"IF(ISERROR(IF($AC14=\"\",\"\",SUM(J23,R23)/$AC14)),\"-\",(IF($AC14=\"\",\"\",SUM(J23,R23)/$AC14)))","v":9.3322864321608048},{"$f":"IF(ISERROR(IF($AC14=\"\",\"\",SUM(L23,T23)/$AC14)),\"-\",(IF($AC14=\"\",\"\",SUM(L23,T23)/$AC14)))","v":2.8605527638190953},{"$f":"IF(ISERROR(IF($AC14=\"\",\"\",SUM(N23,V23)/$AC14)),\"-\",(IF($AC14=\"\",\"\",SUM(N23,V23)/$AC14)))","v":0},{"$f":"IF(ISERROR(IF($AC14=\"\",\"\",SUM(P23,X23)/$AC14)),\"-\",(IF($AC14=\"\",\"\",SUM(P23,X23)/$AC14)))","v":0},{"$f":"IF(ISERROR(IF($AC14=\"\",\"\",Z23/$AC14)),\"-\",(IF($AC14=\"\",\"\",Z23/$AC14)))","v":0},{"$f":"IF(ISERROR(IF($AC14=\"\",\"\",AB23/$AC14)),\"-\",(IF($AC14=\"\",\"\",AB23/$AC14)))","v":0},{"$f":"IF(ISERROR(IF($AC14=\"\",\"\",SUM(J23,L23,R23,T23,Z23,AB23,X23,P23,V23,N23)/$AC14)),\"-\",(IF($AC14=\"\",\"\",SUM(J23,L23,R23,T23,Z23,AB23,X23,P23,V23,N23)/$AC14)))","v":12.1928391959799},0.91935483870967738,1.0483870967741935,"-","-",0.98064244634591102,1.096774193548387,"-","-","","",null,"143 - ORTHODONTICS",0,null,null,null,null,null,null,null,null,null,"","","",null,null,null,"",null,null,null,null,"NQ1COLCHESTER GENERAL HOSPITAL","NQ107","COLCHESTER GENERAL HOSPITAL","NQ107","COLCHESTER GENERAL HOSPITAL","NQ1",null,{"$f":"SUM(COUNTIF($BV$1:$BW$5058,$BY$18)+$BY$21-1)","v":3133},"UNIVERSITY HOSPITAL AINTREE","Sefton Suite","WATFORD GENERAL HOSPITAL",null,"Match:",6283,"Countif:",6312,"Concat Items:","$CA",":$CA",null,"Concat Final:","$CA6283:$CA6312"]
["",2,null,"RWG02","WATFORD GENERAL HOSPITAL","Cassio","301 - GASTROENTEROLOGY",null,717.75,828.92,1075.75,980.08,0,0,0,74,713,759,713,1046.5,0,0,0,11.5,null,null,null,null,613,2.5904078303425777,3.3060032626427405,0,0.13947797716150082,0,0,6.0358890701468191,1.15488679902473,0.91106669765280046,"-","-",1.064516129032258,1.467741935483871,"-","-","","",null,"145 - ORAL & MAXILLO FACIAL SURGERY",0,null,null,null,null,null,null,null,null,null,"","","",null,null,null,"",null,null,null,null,"NQ1CONNAUGHT MEWS SUITES 6-10","NQ126","CONNAUGHT MEWS SUITES 6-10","NQ126","CONNAUGHT MEWS SUITES 6-10","NQ1",null,"Concat Items:","UNIVERSITY HOSPITAL AINTREE","Ward 01","WATFORD GENERAL HOSPITAL",null,"Match:",6283,"Countif:",6312,"Concat Items:","$CA",":$CA",null,"Concat Final:","$CA6283:$CA6312"]
["",2,null,"RWG02","WATFORD GENERAL HOSPITAL","Croxley","430 - GERIATRIC MEDICINE",null,1060.9166666666699,1122,1780.25,1623.25,0,0,0,0,1069.5,1219,1427,1496,0,0,0,0,null,null,null,null,860,2.7220930232558138,3.6270348837209303,0,0,0,0,6.3491279069767446,1.0575759956012849,0.91181013902541774,"-","-",1.1397849462365592,1.048353188507358,"-","-","","",null,"150 - NEUROSURGERY",0,null,null,null,null,null,null,null,null,null,"","","",null,null,null,"",null,null,null,null,"NQ1CORNERSTONE","NQ123","CORNERSTONE","NQ123","CORNERSTONE","NQ1",null,"$BT","UNIVERSITY HOSPITAL AINTREE","Ward 10","WATFORD GENERAL HOSPITAL",null,"Match:",6283,"Countif:",6312,"Concat Items:","$CA",":$CA",null,"Concat Final:","$CA6283:$CA6312"]
["",2,null,"RWG02","WATFORD GENERAL HOSPITAL","Heronsgate & Gade","302 - ENDOCRINOLOGY",null,1589.5,1422.42,2139,2079.5,0,92,0,0,1426,1414.5,1781.75,1954.25,0,0,0,0,null,null,null,null,1139,2.4907111501316948,3.5414837576821774,8.0772607550482878E-2,0,0,0,6.112967515364355,0.89488518402013217,0.97218326320710613,"-","-",0.99193548387096775,1.0968149291426967,"-","-","","",null,"160 - PLASTIC SURGERY",0,null,null,null,null,null,null,null,null,null,"","","",null,null,null,"",null,null,null,null,"NQ1FRYATT HOSPITAL","NQ106","FRYATT HOSPITAL","NQ106","FRYATT HOSPITAL","NQ1",null,":$BT","UNIVERSITY HOSPITAL AINTREE","Ward 11","WATFORD GENERAL HOSPITAL",null,"Match:",6283,"Countif:",6312,"Concat Items:","$CA",":$CA",null,"Concat Final:","$CA6283:$CA6312"]
["",2,null,"RWG02","WATFORD GENERAL HOSPITAL","Oxhey","326 - ACUTE INTERNAL MEDICINE",null,708.75,721.75,535.5,635.75,0,0,0,115,701.5,713,356.5,621,0,0,0,126.5,null,null,null,null,352,4.0759943181818183,3.5703125,0,0.68607954545454541,0,0,8.3323863636363633,1.0183421516754849,1.1872082166199813,"-","-",1.0163934426229508,1.7419354838709677,"-","-","","",null,"170 - CARDIOTHORACIC SURGERY",0,null,null,null,null,null,null,null,null,null,"","","",null,null,null,"",null,null,null,null,"NVCASHTEAD HOSPITAL","NVC01","ASHTEAD HOSPITAL","NVC01","ASHTEAD HOSPITAL","NVC",null,null,"UNIVERSITY HOSPITAL AINTREE","Ward 15","WATFORD GENERAL HOSPITAL",null,"Match:",6283,"Countif:",6312,"Concat Items:","$CA",":$CA",null,"Concat Final:","$CA6283:$CA6312"]
["",2,null,"RWG02","WATFORD GENERAL HOSPITAL","Sarratt","430 - GERIATRIC MEDICINE",null,1690.5,1682.25,2144,1928.37,0,0,0,150.08000000000001,1426,1449,2136.75,2535.6666666666665,0,0,0,0,null,null,null,null,1104,2.8362771739130435,4.0435114734299518,0,0.13594202898550725,0,0,7.0157306763285021,0.99511978704525283,0.89942630597014916,"-","-",1.0161290322580645,1.1866931866931867,"-","-","","",null,"171 - PAEDIATRIC SURGERY",0,null,null,null,null,null,null,null,null,null,"","","",null,null,null,"",null,null,null,null,"NVCBLAKELANDS HOSPITAL","NVC31","BLAKELANDS HOSPITAL","NVC31","BLAKELANDS HOSPITAL","NVC",null,"Concat Final:","UNIVERSITY HOSPITAL AINTREE","Ward 16","WATFORD GENERAL HOSPITAL",null,"Match:",6283,"Countif:",6312,"Concat Items:","$CA",":$CA",null,"Concat Final:","$CA6283:$CA6312"]
["",2,null,"RWG08","HEMEL HEMPSTEAD HOSPITAL","Simpson HH","430 - GERIATRIC MEDICINE",null,1069.5,787.5,1069.5,1287.25,0,57.5,0,0,1069.5,931.5,713,1069.5,0,57.5,0,0,null,null,null,null,712,2.4143258426966292,3.3100421348314608,0.16151685393258428,0,0,0,5.8858848314606744,0.73632538569424966,1.2035998129967274,"-","-",0.87096774193548387,1.5,"-","-","","",null,"180 - ACCIDENT & EMERGENCY",0,null,null,null,null,null,null,null,null,null,"","","",null,null,null,"Incorrect Ward Name",null,null,null,null,"NVCBODMIN NHS TREATMENT CENTRE","NVC24","BODMIN NHS TREATMENT CENTRE","NVC24","BODMIN NHS TREATMENT CENTRE","NVC",null,{"$f":"CONCATENATE($BY$25,$BY$21,$BY$26,$BY$23)","v":"$BT3129:$BT3133"},"UNIVERSITY HOSPITAL AINTREE","Ward 17","HEMEL HEMPSTEAD HOSPITAL",null,"Match:",{"$error":"#N/A"},"Countif:",{"$error":"#N/A"},"Concat Items:","$CA",":$CA",null,"Concat Final:",{"$error":"#N/A"}]
["",2,null,"RWG02","WATFORD GENERAL HOSPITAL","Tudor & Castle","430 - GERIATRIC MEDICINE",null,1782.5,1760.75,2131.25,2259.1666666666665,0,172.5,0,0,1782.5,2311.5,2139,2376.75,0,0,0,0,null,null,null,null,1261,3.2293814432989691,3.6763811789584979,0.13679619349722444,0,0,0,7.0425588157546919,0.98779803646563813,1.060019550342131,"-","-",1.2967741935483872,1.1111500701262271,"-","-","","",null,"190 - ANAESTHETICS",0,null,null,null,null,null,null,null,null,null,"","","",null,null,null,"",null,null,null,null,"NVCBOSTON WEST HOSPITAL","NVC27","BOSTON WEST HOSPITAL","NVC27","BOSTON WEST HOSPITAL","NVC",null,null,"UNIVERSITY HOSPITAL AINTREE","Ward 20","WATFORD GENERAL HOSPITAL",null,"Match:",6283,"Countif:",6312,"Concat Items:","$CA",":$CA",null,"Concat Final:","$CA6283:$CA6312"]
["",2,null,"RWG02","WATFORD GENERAL HOSPITAL","Winyard","430 - GERIATRIC MEDICINE",null,714.5,857.25,1069.5,1120.4166666666667,0,0,0,0,713,943,713,816.5,0,0,0,0,null,null,null,null,541,3.3276340110905731,3.580252618607517,0,0,0,0,6.9078866296980905,1.1997900629811056,1.0476079164718717,"-","-",1.3225806451612903,1.1451612903225807,"-","-","","",null,"192 - CRITICAL CARE MEDICINE",0,null,null,null,null,null,null,null,null,null,"","","",null,null,null,"",null,null,null,null,"NVCCLIFTON PARK HOSPITAL","NVC28","CLIFTON PARK HOSPITAL","NVC28","CLIFTON PARK HOSPITAL","NVC",null,null,"UNIVERSITY HOSPITAL AINTREE","Ward 21","WATFORD GENERAL HOSPITAL",null,"Match:",6283,"Countif:",6312,"Concat Items:","$CA",":$CA",null,"Concat Final:","$CA6283:$CA6312"]
["",2,null,"RWG02","WATFORD GENERAL HOSPITAL","Combined ITU","192 - CRITICAL CARE MEDICINE",null,3559,3703,471.5,506,0,0,0,0,3549,3411,345,356.5,0,0,0,0,null,null,null,null,420,16.938095238095237,2.0535714285714284,0,0,0,0,18.991666666666667,1.0404608035965159,1.0731707317073171,"-","-",0.9611158072696534,1.0333333333333334,"-","-","","",null,"300 - GENERAL MEDICINE",0,null,null,null,null,null,null,null,null,null,"","","",null,null,null,"",null,null,null,null,"NVCCOBALT HOSPITAL","NVC29","COBALT HOSPITAL","NVC29","COBALT HOSPITAL","NVC",null,null,"UNIVERSITY HOSPITAL AINTREE","Ward 22","WATFORD GENERAL HOSPITAL",null,"Match:",6283,"Countif:",6312,"Concat Items:","$CA",":$CA",null,"Concat Final:","$CA6283:$CA6312"]
["",2,null,"RWG02","WATFORD GENERAL HOSPITAL","Cleves","100 - GENERAL SURGERY",null,713,1058,1069.5,632.5,0,0,0,0,1069.5,1069.5,356.5,356.5,0,0,0,0,null,null,null,null,583,3.6492281303602057,1.6963979416809605,0,0,0,0,5.3456260720411661,1.4838709677419355,0.59139784946236562,"-","-",1,1,"-","-","","",null,"301 - GASTROENTEROLOGY",0,null,null,null,null,null,null,null,null,null,"","","",null,null,null,"",null,null,null,null,"NVCDUCHY HOSPITAL","NVC04","DUCHY HOSPITAL","NVC04","DUCHY HOSPITAL",{"$f":"LEFT(BU33,3)","v":"NVC"},null,null,"UNIVERSITY HOSPITAL AINTREE","Ward 23","WATFORD GENERAL HOSPITAL",null,"Match:",6283,"Countif:",6312,"Concat Items:","$CA",":$CA",null,"Concat Final:","$CA6283:$CA6312"]
["",2,null,"RWG03","ST ALBANS CITY HOSPITAL","De La Mare/Beckett","110 - TRAUMA & ORTHOPAEDICS",null,1925.25,1806.9166666666667,1724,1698.9166666666667,0,0,0,0,1524.5,1495,1184.5,1252.5,0,0,0,0,null,null,null,null,606,5.4487073707370746,4.870324532453246,0,0,0,0,10.31903190319032,0.93853612085010607,0.98545050270688328,"-","-",0.9806493932436865,1.0574081891093288,"-","-","","",null,"302 - ENDOCRINOLOGY",0,null,null,null,null,null,null,null,null,null,"","","",null,null,null,"",null,null,null,null,"NVCEUXTON HALL HOSPITAL","NVC05","EUXTON HALL HOSPITAL","NVC05","EUXTON HALL HOSPITAL","NVC",null,null,"UNIVERSITY HOSPITAL AINTREE","Ward 24","ST ALBANS CITY HOSPITAL",null,"Match:",6282,"Countif:",6282,"Concat Items:","$CA",":$CA",null,"Concat Final:","$CA6282:$CA6282"]
["",2,null,"RWG02","WATFORD GENERAL HOSPITAL","Elizabeth","502 - GYNAECOLOGY",null,1069.5,1323,1426,1236.25,0,0,0,11.5,1069.5,1230.5,713,862.5,0,0,0,0,null,null,null,null,834,3.0617505995203835,2.5164868105515588,0,1.3788968824940047E-2,0,0,5.5920263788968825,1.2370266479663394,0.86693548387096775,"-","-",1.1505376344086022,1.2096774193548387,"-","-","","",null,"303 - CLINICAL HAEMATOLOGY",0,null,null,null,null,null,null,null,null,null,"","","",null,null,null,"",null,null,null,null,"NVCFITZWILLIAM HOSPITAL","NVC06","FITZWILLIAM HOSPITAL","NVC06","FITZWILLIAM HOSPITAL","NVC",null,null,"UNIVERSITY HOSPITAL AINTREE","Ward 25","WATFORD GENERAL HOSPITAL",null,"Match:",6283,"Countif:",6312,"Concat Items:","$CA",":$CA",null,"Concat Final:","$CA6283:$CA6312"]
["",2,null,"RWG02","WATFORD GENERAL HOSPITAL","Flaunden","100 - GENERAL SURGERY",null,1061.6666666666699,1012,1782.5,1295.25,0,92,0,69,1425.5,1184,713,782,0,57.5,0,0,null,null,null,null,763,2.8781127129750983,2.7224770642201834,0.19593709043250326,9.0432503276539969E-2,0,0,5.8869593709043251,0.95321821036106458,0.72664796633941098,"-","-",0.83058575938267276,1.096774193548387,"-","-","","",null,"304 - CLINICAL PHYSIOLOGY",0,null,null,null,null,null,null,null,null,null,"","","",null,null,null,"",null,null,null,null,"NVCFULWOOD HALL HOSPITAL","NVC07","FULWOOD HALL HOSPITAL","NVC07","FULWOOD HALL HOSPITAL","NVC",null,null,"UNIVERSITY HOSPITAL AINTREE","Ward 28","WATFORD GENERAL HOSPITAL",null,"Match:",6283,"Countif:",6312,"Concat Items:","$CA",":$CA",null,"Concat Final:","$CA6283:$CA6312"]
["",2,null,"RWG02","WATFORD GENERAL HOSPITAL","Langley","110 - TRAUMA & ORTHOPAEDICS",null,710.5,739.25,713,877.67,0,0,0,0,713,713,356.5,575,0,0,0,0,null,null,null,null,467,3.1097430406852249,3.110642398286938,0,0,0,0,6.2203854389721629,1.0404644616467276,1.2309537166900419,"-","-",1,1.6129032258064515,"-","-","","",null,"305 - CLINICAL PHARMACOLOGY",0,null,null,null,null,null,null,null,null,null,"","","",null,null,null,"",null,null,null,null,"NVCHORTON NHS TREATMENT CENTRE","NVC25","HORTON NHS TREATMENT CENTRE","NVC25","HORTON NHS TREATMENT CENTRE","NVC",null,null,"UNIVERSITY HOSPITAL AINTREE","Ward 29/SAU","WATFORD GENERAL HOSPITAL",null,"Match:",6283,"Countif:",6312,"Concat Items:","$CA",":$CA",null,"Concat Final:","$CA6283:$CA6312"]
["",2,null,"RWG02","WATFORD GENERAL HOSPITAL","Letchmore","100 - GENERAL SURGERY",null,1167,1077.3333333333333,1069.5,798.25,0,0,0,138,1069.5,1058,713,897,0,0,0,23,null,null,null,null,670,3.1870646766169148,2.5302238805970148,0,0.24029850746268658,0,0,5.9575870646766163,0.92316481005427009,0.74637681159420288,"-","-",0.989247311827957,1.2580645161290323,"-","-","","",null,"307 - DIABETIC MEDICINE",0,null,null,null,null,null,null,null,null,null,"","","",null,null,null,"",null,null,null,null,"NVCMOUNT STUART HOSPITAL","NVC08","MOUNT STUART HOSPITAL","NVC08","MOUNT STUART HOSPITAL","NVC",null,null,"UNIVERSITY HOSPITAL AINTREE","Ward 3","WATFORD GENERAL HOSPITAL",null,"Match:",6283,"Countif:",6312,"Concat Items:","$CA",":$CA",null,"Concat Final:","$CA6283:$CA6312"]
["",2,null,"RWG02","WATFORD GENERAL HOSPITAL","Ridge","110 - TRAUMA & ORTHOPAEDICS",null,1421.75,1234,1426,1435.5,0,138,0,0,1426,1403,1069.5,1184.5,0,0,0,0,null,null,null,null,877,3.006841505131129,2.9874572405929305,0.15735461801596351,0,0,0,6.1516533637400226,0.86794443467557592,1.0066619915848527,"-","-",0.9838709677419355,1.10752688172043,"-","-","","",null,"310 - AUDIOLOGICAL MEDICINE",0,null,null,null,null,null,null,null,null,null,"","","",null,null,null,"",null,null,null,null,"NVCNEW HALL HOSPITAL","NVC09","NEW HALL HOSPITAL","NVC09","NEW HALL HOSPITAL","NVC",null,null,"UNIVERSITY HOSPITAL AINTREE","Ward 30","WATFORD GENERAL HOSPITAL",null,"Match:",6283,"Countif:",6312,"Concat Items:","$CA",":$CA",null,"Concat Final:","$CA6283:$CA6312"]
["",2,null,"RWG02","WATFORD GENERAL HOSPITAL","ABC","501 - OBSTETRICS",null,1058.5,997.25,356.5,299,0,0,0,0,1070,1005,356.5,345,0,0,0,0,null,null,null,null,104,19.252403846153847,6.1923076923076925,0,0,0,0,25.44471153846154,0.94213509683514407,0.83870967741935487,"-","-",0.93925233644859818,0.967741935483871,"-","-","","",null,"313 - CLINICAL IMMUNOLOGY AND ALLERGY",0,null,null,null,null,null,null,null,null,null,"","","",null,null,null,"",null,null,null,null,"NVCNORTH DOWNS HOSPITAL","NVC11","NORTH DOWNS HOSPITAL","NVC11","NORTH DOWNS HOSPITAL","NVC",null,null,"UNIVERSITY HOSPITAL AINTREE","Ward 32","WATFORD GENERAL HOSPITAL",null,"Match:",6283,"Countif:",6312,"Concat Items:","$CA",":$CA",null,"Concat Final:","$CA6283:$CA6312"]
["",2,null,"RWG02","WATFORD GENERAL HOSPITAL","Delivery Suite","501 - OBSTETRICS",null,2665.75,2528.5,713,598,0,0,0,0,2501.3333333333298,2465.0833333333335,713,713,0,0,0,0,null,null,null,null,273,18.291514041514045,4.802197802197802,0,0,0,0,23.093711843711844,0.94851355153333961,0.83870967741935487,"-","-",0.98550772921108887,1,"-","-","","",null,"314 - REHABILITATION",0,null,null,null,null,null,null,null,null,null,"","","",null,null,null,"",null,null,null,null,"NVCNOTTINGHAM WOODTHORPE HOSPITAL","NVC40","NOTTINGHAM WOODTHORPE HOSPITAL","NVC40","NOTTINGHAM WOODTHORPE HOSPITAL","NVC",null,null,"UNIVERSITY HOSPITAL AINTREE","Ward 33","WATFORD GENERAL HOSPITAL",null,"Match:",6283,"Countif:",6312,"Concat Items:","$CA",":$CA",null,"Concat Final:","$CA6283:$CA6312"]
["",2,null,"RWG02","WATFORD GENERAL HOSPITAL","Katherine","501 - OBSTETRICS",null,1454,1069.83,1427.5,853.5,0,281.5,0,92,1069.5,1046.5,1426,1068.5,0,0,0,92,null,null,null,null,1045,2.0251961722488039,1.8392344497607656,0.26937799043062199,0.17607655502392344,0,0,4.309885167464115,0.7357840440165061,0.5978984238178634,"-","-",0.978494623655914,0.74929873772791022,"-","-","","",null,"315 - PALLIATIVE MEDICINE",0,null,null,null,null,null,null,null,null,null,"","","",null,null,null,"",null,null,null,null,"NVCOAKLANDS HOSPITAL","NVC12","OAKLANDS HOSPITAL","NVC12","OAKLANDS HOSPITAL","NVC",null,null,"UNIVERSITY HOSPITAL AINTREE","Ward 34","WATFORD GENERAL HOSPITAL",null,"Match:",6283,"Countif:",6312,"Concat Items:","$CA",":$CA",null,"Concat Final:","$CA6283:$CA6312"]
["",2,null,"RWG02","WATFORD GENERAL HOSPITAL","Victoria","501 - OBSTETRICS",null,713,713,356.5,299,0,0,0,0,713,713,356.5,333.5,0,0,0,0,null,null,null,null,265,5.3811320754716983,2.3867924528301887,0,0,0,0,7.7679245283018865,1,0.83870967741935487,"-","-",1,0.93548387096774188,"-","-","","",null,"318 - INTERMEDIATE CARE",0,null,null,null,null,null,null,null,null,null,"","","",null,null,null,"",null,null,null,null,"NVCOAKS HOSPITAL","NVC13","OAKS HOSPITAL","NVC13","OAKS HOSPITAL","NVC",null,null,"UNIVERSITY HOSPITAL AINTREE","Ward 4","WATFORD GENERAL HOSPITAL",null,"Match:",6283,"Countif:",6312,"Concat Items:","$CA",":$CA",null,"Concat Final:","$CA6283:$CA6312"]
["",2,null,"RWG02","WATFORD GENERAL HOSPITAL","SCBU","501 - OBSTETRICS",null,1529.5,1660.5833333333333,184,168.5,0,0,0,0,1597.5,1631,149.5,149.5,0,0,0,0,null,null,null,null,361,9.1179593721144965,0.88088642659279781,0,0,0,0,9.9988457987072934,1.0857033889070502,0.91576086956521741,"-","-",1.0209702660406885,1,"-","-","","",null,"319 - RESPITE CARE",0,null,null,null,null,null,null,null,null,null,"","","",null,null,null,"",null,null,null,null,"NVCPARK HILL HOSPITAL","NVC14","PARK HILL HOSPITAL","NVC14","PARK HILL HOSPITAL","NVC",null,null,"UNIVERSITY HOSPITAL AINTREE","Ward 6 ","WATFORD GENERAL HOSPITAL",null,"Match:",6283,"Countif:",6312,"Concat Items:","$CA",":$CA",null,"Concat Final:","$CA6283:$CA6312"]
["",2,null,"RWG02","WATFORD GENERAL HOSPITAL","Starfish","420 - PAEDIATRICS",null,1426,1316,356.5,345,0,0,0,0,1069.5,1081,356.5,379.5,0,0,0,0,null,null,null,null,283,8.4699646643109539,2.5600706713780919,0,0,0,0,11.030035335689046,0.92286115007012626,0.967741935483871,"-","-",1.010752688172043,1.064516129032258,"-","-","","",null,"320 - CARDIOLOGY",0,null,null,null,null,null,null,null,null,null,"","","",null,null,null,"",null,null,null,null,"NVCPINEHILL HOSPITAL","NVC15","PINEHILL HOSPITAL","NVC15","PINEHILL HOSPITAL","NVC",null,null,"UNIVERSITY HOSPITAL AINTREE","Ward 8","WATFORD GENERAL HOSPITAL",null,"Match:",6283,"Countif:",6312,"Concat Items:","$CA",":$CA",null,"Concat Final:","$CA6283:$CA6312"]
["",{"$f":"IF(SUM(E247:G247,Q247:R247)>0,1,IF(AU247>0,2,0))","v":0},null,"",null,null,null,null,null,null,null,null,null,null,null,null,null,null,null,null,null,null,null,null,null,null,null,null,null,"","","","","","","","","","","","","","","","","",null,"321 - PAEDIATRIC CARDIOLOGY",0,null,null,null,null,null,null,null,null,null,"","","",null,null,null,"",null,null,null,null,"NVCRENACRES HOSPITAL","NVC16","RENACRES HOSPITAL","NVC16","RENACRES HOSPITAL","NVC",null,null,"AIREDALE GENERAL HOSPITAL","Acute Assessment Unit",0,null,"Match:",{"$error":"#N/A"},"Countif:",{"$error":"#N/A"},"Concat Items:","$CA",":$CA",null,"Concat Final:",{"$error":"#N/A"}]
["",0,null,{"$f":"IF(ISNA(VLOOKUP($E$5&E47,$BR:$BS,2,FALSE)),\"\",VLOOKUP($E$5&E47,$BR:$BS,2,FALSE))","v":""},null,null,null,null,null,null,null,null,null,null,null,null,null,null,null,null,null,null,null,null,null,null,null,null,null,"","","","","","","","","","","","","","","","","",null,"323 - SPINAL INJURIES",0,null,null,null,null,null,null,null,null,null,"","","",null,null,null,"",null,null,null,null,"NVCRIVERS HOSPITAL","NVC19","RIVERS HOSPITAL","NVC19","RIVERS HOSPITAL","NVC",null,null,"AIREDALE GENERAL HOSPITAL","Labour Suite",0,null,"Match:",{"$error":"#N/A"},"Countif:",{"$error":"#N/A"},"Concat Items:","$CA",":$CA",null,"Concat Final:",{"$error":"#N/A"}]
["",0,null,"",null,null,null,null,null,null,null,null,null,null,null,null,null,null,null,null,null,null,null,null,null,null,null,null,null,"","","","","","","","","","","","","","","","","",null,"325 - SPORTS AND EXERCISE MEDICINE",0,null,null,null,null,null,null,null,null,null,"","","",null,null,null,"",null,null,null,null,"NVCROWLEY HALL HOSPITAL","NVC17","ROWLEY HALL HOSPITAL","NVC17","ROWLEY HALL HOSPITAL","NVC",null,null,"AIREDALE GENERAL HOSPITAL","Neonatal Unit",0,null,"Match:",{"$error":"#N/A"},"Countif:",{"$error":"#N/A"},"Concat Items:","$CA",":$CA",null,"Concat Final:",{"$error":"#N/A"}]
["",0,null,"",null,null,null,null,null,null,null,null,null,null,null,null,null,null,null,null,null,null,null,null,null,null,null,null,null,"","","","","","","","","","","","","","","","","",null,"326 - ACUTE INTERNAL MEDICINE",0,null,null,null,null,null,null,null,null,null,"","","",null,null,null,"",null,null,null,null,"NVCSPRINGFIELD HOSPITAL","NVC18","SPRINGFIELD HOSPITAL","NVC18","SPRINGFIELD HOSPITAL","NVC",null,null,"AIREDALE GENERAL HOSPITAL","Ward 01",0,null,"Match:",{"$error":"#N/A"},"Countif:",{"$error":"#N/A"},"Concat Items:","$CA",":$CA",null,"Concat Final:",{"$error":"#N/A"}]
["",0,null,"",null,null,null,null,null,null,null,null,null,null,null,null,null,null,null,null,null,null,null,null,null,null,null,null,null,"","","","","","","","","","","","","","","","","",null,"328 - STROKE MEDICINE",0,null,null,null,null,null,null,null,null,null,"","","",null,null,null,"",null,null,null,null,"NVCTEES VALLEY TREATMENT CENTRE","NVC35","TEES VALLEY TREATMENT CENTRE","NVC35","TEES VALLEY TREATMENT CENTRE","NVC",null,null,"AIREDALE GENERAL HOSPITAL","Ward 02",0,null,"Match:",{"$error":"#N/A"},"Countif:",{"$error":"#N/A"},"Concat Items:","$CA",":$CA",null,"Concat Final:",{"$error":"#N/A"}]
["",0,null,"",null,null,null,null,null,null,null,null,null,null,null,null,null,null,null,null,null,null,null,null,null,null,null,null,null,"","","","","","","","","","","","","","","","","",null,"330 - DERMATOLOGY",0,null,null,null,null,null,null,null,null,null,"","","",null,null,null,"",null,null,null,null,"NVCTHE BERKSHIRE INDEPENDENT HOSPITAL","NVC02","THE BERKSHIRE INDEPENDENT HOSPITAL","NVC02","THE BERKSHIRE INDEPENDENT HOSPITAL","NVC",null,null,"AIREDALE GENERAL HOSPITAL","Ward 04",0,null,"Match:",{"$error":"#N/A"},"Countif:",{"$error":"#N/A"},"Concat Items:","$CA",":$CA",null,"Concat Final:",{"$error":"#N/A"}]
["",0,null,"",null,null,null,null,null,null,null,null,null,null,null,null,null,null,null,null,null,null,null,null,null,null,null,null,null,"","","","","","","","","","","","","","","","","",null,"340 - RESPIRATORY MEDICINE",0,null,null,null,null,null,null,null,null,null,"","","",null,null,null,"",null,null,null,null,"NVCTHE WESTBOURNE CENTRE","NVC44","THE WESTBOURNE CENTRE","NVC44","THE WESTBOURNE CENTRE","NVC",null,null,"AIREDALE GENERAL HOSPITAL","Ward 05",0,null,"Match:",{"$error":"#N/A"},"Countif:",{"$error":"#N/A"},"Concat Items:","$CA",":$CA",null,"Concat Final:",{"$error":"#N/A"}]
["",0,null,"",null,null,null,null,null,null,null,null,null,null,null,null,null,null,null,null,null,null,null,null,null,null,null,null,null,"","","","","","","","","","","","","","","","","",null,"350 - INFECTIOUS DISEASES",0,null,null,null,null,null,null,null,null,null,"","","",null,null,null,"",null,null,null,null,"NVCTHE YORKSHIRE CLINIC","NVC20","THE YORKSHIRE CLINIC","NVC20","THE YORKSHIRE CLINIC","NVC",null,null,"AIREDALE GENERAL HOSPITAL","Ward 06",0,null,"Match:",{"$error":"#N/A"},"Countif:",{"$error":"#N/A"},"Concat Items:","$CA",":$CA",null,"Concat Final:",{"$error":"#N/A"}]
["",0,null,"",null,null,null,null,null,null,null,null,null,null,null,null,null,null,null,null,null,null,null,null,null,null,null,null,null,"","","","","","","","","","","","","","","","","",null,"352 - TROPICAL MEDICINE",0,null,null,null,null,null,null,null,null,null,"","","",null,null,null,"",null,null,null,null,"NVCWEST MIDLANDS HOSPITAL","NVC21","WEST MIDLANDS HOSPITAL","NVC21","WEST MIDLANDS HOSPITAL","NVC",null,null,"AIREDALE GENERAL HOSPITAL","Ward 07",0,null,"Match:",{"$error":"#N/A"},"Countif:",{"$error":"#N/A"},"Concat Items:","$CA",":$CA",null,"Concat Final:",{"$error":"#N/A"}]
["",0,null,"",null,null,null,null,null,null,null,null,null,null,null,null,null,null,null,null,null,null,null,null,null,null,null,null,null,"","","","","","","","","","","","","","","","","",null,"360 - GENITOURINARY MEDICINE",0,null,null,null,null,null,null,null,null,null,"","","",null,null,null,"",null,null,null,null,"NVCWINFIELD HOSPITAL","NVC22","WINFIELD HOSPITAL","NVC22","WINFIELD HOSPITAL","NVC",null,null,"AIREDALE GENERAL HOSPITAL","Ward 09",0,null,"Match:",{"$error":"#N/A"},"Countif:",{"$error":"#N/A"},"Concat Items:","$CA",":$CA",null,"Concat Final:",{"$error":"#N/A"}]
["",0,null,"",null,null,null,null,null,null,null,null,null,null,null,null,null,null,null,null,null,null,null,null,null,null,null,null,null,"","","","","","","","","","","","","","","","","",null,"361 - NEPHROLOGY",0,null,null,null,null,null,null,null,null,null,"","","",null,null,null,"",null,null,null,null,"NVCWOODLAND HOSPITAL","NVC23","WOODLAND HOSPITAL","NVC23","WOODLAND HOSPITAL","NVC",null,null,"AIREDALE GENERAL HOSPITAL","Ward 10",0,null,"Match:",{"$error":"#N/A"},"Countif:",{"$error":"#N/A"},"Concat Items:","$CA",":$CA",null,"Concat Final:",{"$error":"#N/A"}]
["",0,null,"",null,null,null,null,null,null,null,null,null,null,null,null,null,null,null,null,null,null,null,null,null,null,null,null,null,"","","","","","","","","","","","","","","","","",null,"370 - MEDICAL ONCOLOGY",0,null,null,null,null,null,null,null,null,null,"","","",null,null,null,"",null,null,null,null,"R0AMANCHESTER ROYAL EYE HOSPITAL","R0A04","MANCHESTER ROYAL EYE HOSPITAL","R0A04","MANCHESTER ROYAL EYE HOSPITAL","R0A",null,null,"AIREDALE GENERAL HOSPITAL","Ward 13",0,null,"Match:",{"$error":"#N/A"},"Countif:",{"$error":"#N/A"},"Concat Items:","$CA",":$CA",null,"Concat Final:",{"$error":"#N/A"}]
["",0,null,"",null,null,null,null,null,null,null,null,null,null,null,null,null,null,null,null,null,null,null,null,null,null,null,null,null,"","","","","","","","","","","","","","","","","",null,"399 - PSYCHIATRY SERVICES",0,null,null,null,null,null,null,null,null,null,"","","",null,null,null,"",null,null,null,null,"R0AMANCHESTER ROYAL INFIRMARY","R0A02","MANCHESTER ROYAL INFIRMARY","R0A02","MANCHESTER ROYAL INFIRMARY","R0A",null,null,"AIREDALE GENERAL HOSPITAL","Ward 14",0,null,"Match:",{"$error":"#N/A"},"Countif:",{"$error":"#N/A"},"Concat Items:","$CA",":$CA",null,"Concat Final:",{"$error":"#N/A"}]
["",0,null,"",null,null,null,null,null,null,null,null,null,null,null,null,null,null,null,null,null,null,null,null,null,null,null,null,null,"","","","","","","","","","","","","","","","","",null,"400 - NEUROLOGY",0,null,null,null,null,null,null,null,null,null,"","","",null,null,null,"",null,null,null,null,"R0AROYAL MANCHESTER CHILDREN'S HOSPITAL","R0A03","ROYAL MANCHESTER CHILDREN'S HOSPITAL","R0A03","ROYAL MANCHESTER CHILDREN'S HOSPITAL","R0A",null,null,"AIREDALE GENERAL HOSPITAL","Ward 15",0,null,"Match:",{"$error":"#N/A"},"Countif:",{"$error":"#N/A"},"Concat Items:","$CA",":$CA",null,"Concat Final:",{"$error":"#N/A"}]
["",0,null,"",null,null,null,null,null,null,null,null,null,null,null,null,null,null,null,null,null,null,null,null,null,null,null,null,null,"","","","","","","","","","","","","","","","","",null,"401 - CLINICAL NEURO-PHYSIOLOGY",0,null,null,null,null,null,null,null,null,null,"","","",null,null,null,"",null,null,null,null,"R0AST MARY'S HOSPITAL","R0A05","ST MARY'S HOSPITAL","R0A05","ST MARY'S HOSPITAL","R0A",null,null,"AIREDALE GENERAL HOSPITAL","Ward 16",0,null,"Match:",{"$error":"#N/A"},"Countif:",{"$error":"#N/A"},"Concat Items:","$CA",":$CA",null,"Concat Final:",{"$error":"#N/A"}]
["",0,null,"",null,null,null,null,null,null,null,null,null,null,null,null,null,null,null,null,null,null,null,null,null,null,null,null,null,"","","","","","","","","","","","","","","","","",null,"410 - RHEUMATOLOGY",0,null,null,null,null,null,null,null,null,null,"","","",null,null,null,"",null,null,null,null,"R0ATRAFFORD GENERAL HOSPITAL","R0A09","TRAFFORD GENERAL HOSPITAL","R0A09","TRAFFORD GENERAL HOSPITAL","R0A",null,null,"AIREDALE GENERAL HOSPITAL","Ward 17",0,null,"Match:",{"$error":"#N/A"},"Countif:",{"$error":"#N/A"},"Concat Items:","$CA",":$CA",null,"Concat Final:",{"$error":"#N/A"}]
["",0,null,"",null,null,null,null,null,null,null,null,null,null,null,null,null,null,null,null,null,null,null,null,null,null,null,null,null,"","","","","","","","","","","","","","","","","",null,"420 - PAEDIATRICS",0,null,null,null,null,null,null,null,null,null,"","","",null,null,null,"",null,null,null,null,"R0AUNIVERSITY DENTAL HOSPITAL","R0A06","UNIVERSITY DENTAL HOSPITAL","R0A06","UNIVERSITY DENTAL HOSPITAL","R0A",null,null,"AIREDALE GENERAL HOSPITAL","Ward 18",0,null,"Match:",{"$error":"#N/A"},"Countif:",{"$error":"#N/A"},"Concat Items:","$CA",":$CA",null,"Concat Final:",{"$error":"#N/A"}]
["",0,null,"",null,null,null,null,null,null,null,null,null,null,null,null,null,null,null,null,null,null,null,null,null,null,null,null,null,"","","","","","","","","","","","","","","","","",null,"421 - PAEDIATRIC NEUROLOGY",0,null,null,null,null,null,null,null,null,null,"","","",null,null,null,"",null,null,null,null,"R0AWYTHENSHAWE HOSPITAL","R0A07","WYTHENSHAWE HOSPITAL","R0A07","WYTHENSHAWE HOSPITAL","R0A",null,null,"AIREDALE GENERAL HOSPITAL","Ward 19",0,null,"Match:",{"$error":"#N/A"},"Countif:",{"$error":"#N/A"},"Concat Items:","$CA",":$CA",null,"Concat Final:",{"$error":"#N/A"}]
["",0,null,"",null,null,null,null,null,null,null,null,null,null,null,null,null,null,null,null,null,null,null,null,null,null,null,null,null,"","","","","","","","","","","","","","","","","",null,"422 - NEONATOLOGY",0,null,null,null,null,null,null,null,null,null,"","","",null,null,null,"",null,null,null,null,"R0BMONKTON HALL HOSPITAL","R0B1J","MONKTON HALL HOSPITAL","R0B1J","MONKTON HALL HOSPITAL","R0B",null,null,"AIREDALE GENERAL HOSPITAL","Ward 21",0,null,"Match:",{"$error":"#N/A"},"Countif:",{"$error":"#N/A"},"Concat Items:","$CA",":$CA",null,"Concat Final:",{"$error":"#N/A"}]
["",0,null,"",null,null,null,null,null,null,null,null,null,null,null,null,null,null,null,null,null,null,null,null,null,null,null,null,null,"","","","","","","","","","","","","","","","","",null,"424 - WELL BABIES",0,null,null,null,null,null,null,null,null,null,"","","",null,null,null,"",null,null,null,null,{"$f":"CONCATENATE(LEFT(BS65, 3),BT65)","v":"R0BSOUTH TYNESIDE DISTRICT HOSPITAL"},"R0B0Q","SOUTH TYNESIDE DISTRICT HOSPITAL","R0B0Q","SOUTH TYNESIDE DISTRICT HOSPITAL","R0B",null,null,"CASTLEBERG HOSPITAL","Harden Ward",0,null,"Match:",{"$error":"#N/A"},"Countif:",{"$error":"#N/A"},"Concat Items:","$CA",":$CA",null,"Concat Final:",{"$error":"#N/A"}]
["",0,null,"",null,null,null,null,null,null,null,null,null,null,null,null,null,null,null,null,null,null,null,null,null,null,null,null,null,"","","","","","","","","","","","","","","","","",null,"430 - GERIATRIC MEDICINE",0,null,null,null,null,null,null,null,null,null,"","","",null,null,null,"",null,null,null,null,"R0BST BENEDICT'S HOSPICE","R0B0U","ST BENEDICT'S HOSPICE","R0B0U","ST BENEDICT'S HOSPICE","R0B",null,null,"ALDER HEY CHILDREN'S NHS","1B - Burns",0,null,"Match:",{"$error":"#N/A"},"Countif:",{"$error":"#N/A"},"Concat Items:","$CA",":$CA",null,"Concat Final:",{"$error":"#N/A"}]
["",0,null,"",null,null,null,null,null,null,null,null,null,null,null,null,null,null,null,null,null,null,null,null,null,null,null,null,null,"","","","","","","","","","","","","","","","","",null,"450 - DENTAL MEDICINE SPECIALTIES",0,null,null,null,null,null,null,null,null,null,"","","",null,null,null,"",null,null,null,null,"R0BSUNDERLAND EYE INFIRMARY","R0B0X","SUNDERLAND EYE INFIRMARY","R0B0X","SUNDERLAND EYE INFIRMARY","R0B",null,null,"ALDER HEY CHILDREN'S NHS","1B - HDU",0,null,"Match:",{"$error":"#N/A"},"Countif:",{"$error":"#N/A"},"Concat Items:","$CA",":$CA",null,"Concat Final:",{"$error":"#N/A"}]
["",0,null,"",null,null,null,null,null,null,null,null,null,null,null,null,null,null,null,null,null,null,null,null,null,null,null,null,null,"","","","","","","","","","","","","","","","","",null,"460 - MEDICAL OPHTHALMOLOGY",0,null,null,null,null,null,null,null,null,null,"","","",null,null,null,"",null,null,null,null,"R0BSUNDERLAND ROYAL HOSPITAL","R0B01","SUNDERLAND ROYAL HOSPITAL","R0B01","SUNDERLAND ROYAL HOSPITAL","R0B",null,null,"ALDER HEY CHILDREN'S NHS","1B - ICU",0,null,"Match:",{"$error":"#N/A"},"Countif:",{"$error":"#N/A"},"Concat Items:","$CA",":$CA",null,"Concat Final:",{"$error":"#N/A"}]
["",0,null,"",null,null,null,null,null,null,null,null,null,null,null,null,null,null,null,null,null,null,null,null,null,null,null,null,null,"","","","","","","","","","","","","","","","","",null,"501 - OBSTETRICS",0,null,null,null,null,null,null,null,null,null,"","","",null,null,null,"",null,null,null,null,"R1AACONBURY UNIT","R1ADY","ACONBURY UNIT","R1ADY","ACONBURY UNIT",{"$f":"LEFT(BU69,3)","v":"R1A"},null,null,"ALDER HEY CHILDREN'S NHS","1C - Cardiac",0,null,"Match:",{"$error":"#N/A"},"Countif:",{"$error":"#N/A"},"Concat Items:","$CA",":$CA",null,"Concat Final:",{"$error":"#N/A"}]
["",0,null,"",null,null,null,null,null,null,null,null,null,null,null,null,null,null,null,null,null,null,null,null,null,null,null,null,null,"","","","","","","","","","","","","","","","","",null,"502 - GYNAECOLOGY",0,null,null,null,null,null,null,null,null,null,"","","",null,null,null,"",null,null,null,null,"R1AALEXANDRA HOSPITAL","R1AAL","ALEXANDRA HOSPITAL","R1AAL","ALEXANDRA HOSPITAL","R1A",null,null,"ALDER HEY CHILDREN'S NHS","1C - Neonatology",0,null,"Match:",{"$error":"#N/A"},"Countif:",{"$error":"#N/A"},"Concat Items:","$CA",":$CA",null,"Concat Final:",{"$error":"#N/A"}]
["",0,null,"",null,null,null,null,null,null,null,null,null,null,null,null,null,null,null,null,null,null,null,null,null,null,null,null,null,"","","","","","","","","","","","","","","","","",null,"560 - MIDWIFE LED CARE",0,null,null,null,null,null,null,null,null,null,"","","",null,null,null,"",null,null,null,null,"R1AARROWSIDE UNIT (ALEXANDRA HOSPITAL)","R1A1X","ARROWSIDE UNIT (ALEXANDRA HOSPITAL)","R1A1X","ARROWSIDE UNIT (ALEXANDRA HOSPITAL)","R1A",null,null,"ALDER HEY CHILDREN'S NHS","3A",0,null,"Match:",{"$error":"#N/A"},"Countif:",{"$error":"#N/A"},"Concat Items:","$CA",":$CA",null,"Concat Final:",{"$error":"#N/A"}]
["",0,null,"",null,null,null,null,null,null,null,null,null,null,null,null,null,null,null,null,null,null,null,null,null,null,null,null,null,"","","","","","","","","","","","","","","","","",null,"700 - LEARNING DISABILITY",0,null,null,null,null,null,null,null,null,null,"","","",null,null,null,"",null,null,null,null,"R1ABATCHLEY FIRST NURSERY PLUS","R1AHC","BATCHLEY FIRST NURSERY PLUS","R1AHC","BATCHLEY FIRST NURSERY PLUS","R1A",null,null,"ALDER HEY CHILDREN'S NHS","3B",0,null,"Match:",{"$error":"#N/A"},"Countif:",{"$error":"#N/A"},"Concat Items:","$CA",":$CA",null,"Concat Final:",{"$error":"#N/A"}]
["",0,null,"",null,null,null,null,null,null,null,null,null,null,null,null,null,null,null,null,null,null,null,null,null,null,null,null,null,"","","","","","","","","","","","","","","","","",null,"710 - ADULT MENTAL ILLNESS",0,null,null,null,null,null,null,null,null,null,"","","",null,null,null,"",null,null,null,null,"R1ABEACONSIDE AUTISM BASE","R1A05","BEACONSIDE AUTISM BASE","R1A05","BEACONSIDE AUTISM BASE","R1A",null,null,"ALDER HEY CHILDREN'S NHS","3C",0,null,"Match:",{"$error":"#N/A"},"Countif:",{"$error":"#N/A"},"Concat Items:","$CA",":$CA",null,"Concat Final:",{"$error":"#N/A"}]
["",0,null,"",null,null,null,null,null,null,null,null,null,null,null,null,null,null,null,null,null,null,null,null,null,null,null,null,null,"","","","","","","","","","","","","","","","","",null,"711 - CHILD AND ADOLESCENT PSYCHIATRY",0,null,null,null,null,null,null,null,null,null,"","","",null,null,null,"",null,null,null,null,"R1ABIRMINGHAM CHILDREN'S HOSPITAL","R1A03","BIRMINGHAM CHILDREN'S HOSPITAL","R1A03","BIRMINGHAM CHILDREN'S HOSPITAL","R1A",null,null,"ALDER HEY CHILDREN'S NHS","4A",0,null,"Match:",{"$error":"#N/A"},"Countif:",{"$error":"#N/A"},"Concat Items:","$CA",":$CA",null,"Concat Final:",{"$error":"#N/A"}]
["",0,null,"",null,null,null,null,null,null,null,null,null,null,null,null,null,null,null,null,null,null,null,null,null,null,null,null,null,"","","","","","","","","","","","","","","","","",null,"712 - FORENSIC PSYCHIATRY",0,null,null,null,null,null,null,null,null,null,"","","",null,null,null,"",null,null,null,null,"R1ACHURCHVIEW HOUSE","R1ACD","CHURCHVIEW HOUSE","R1ACD","CHURCHVIEW HOUSE","R1A",null,null,"ALDER HEY CHILDREN'S NHS","4B",0,null,"Match:",{"$error":"#N/A"},"Countif:",{"$error":"#N/A"},"Concat Items:","$CA",":$CA",null,"Concat Final:",{"$error":"#N/A"}]
["",0,null,"",null,null,null,null,null,null,null,null,null,null,null,null,null,null,null,null,null,null,null,null,null,null,null,null,null,"","","","","","","","","","","","","","","","","",null,"713 - PSYCHOTHERAPY",0,null,null,null,null,null,null,null,null,null,"","","",null,null,null,"",null,null,null,null,"R1ACOMM HOSP WARDS (EVESHAM)","R1ARE","COMM HOSP WARDS (EVESHAM)","R1ARE","COMM HOSP WARDS (EVESHAM)","R1A",null,null,"ALDER HEY CHILDREN'S NHS","4C",0,null,"Match:",{"$error":"#N/A"},"Countif:",{"$error":"#N/A"},"Concat Items:","$CA",":$CA",null,"Concat Final:",{"$error":"#N/A"}]
["",0,null,"",null,null,null,null,null,null,null,null,null,null,null,null,null,null,null,null,null,null,null,null,null,null,null,null,null,"","","","","","","","","","","","","","","","","",null,"715 - OLD AGE PSYCHIATRY",0,null,null,null,null,null,null,null,null,null,"","","",null,null,null,"",null,null,null,null,"R1ACOMM HOSP WARDS (MALVERN)","R1ARG","COMM HOSP WARDS (MALVERN)","R1ARG","COMM HOSP WARDS (MALVERN)","R1A",null,null,"ALDER HEY CHILDREN'S NHS","DJU",0,null,"Match:",{"$error":"#N/A"},"Countif:",{"$error":"#N/A"},"Concat Items:","$CA",":$CA",null,"Concat Final:",{"$error":"#N/A"}]
["",{"$f":"IF(SUM(E279:G279,Q279:R279)>0,1,IF(AU279>0,2,0))","v":0},null,"",null,null,null,null,null,null,null,null,null,null,null,null,null,null,null,null,null,null,null,null,null,null,null,null,null,"","","","","","","","","","","","","","","","","",null,"800 - CLINICAL ONCOLOGY",0,null,null,null,null,null,null,null,null,null,"","","",null,null,null,"",null,null,null,null,"R1ACOMM HOSP WARDS (PERSHORE)","R1ARJ","COMM HOSP WARDS (PERSHORE)","R1ARJ","COMM HOSP WARDS (PERSHORE)","R1A",null,null,"ASHFORD HOSPITAL","Dickens",0,null,"Match:",{"$error":"#N/A"},"Countif:",{"$error":"#N/A"},"Concat Items:","$CA",":$CA",null,"Concat Final:",{"$error":"#N/A"}]
["",0,null,{"$f":"IF(ISNA(VLOOKUP($E$5&E79,$BR:$BS,2,FALSE)),\"\",VLOOKUP($E$5&E79,$BR:$BS,2,FALSE))","v":""},null,null,null,null,null,null,null,null,null,null,null,null,null,null,null,null,null,null,null,null,null,null,null,null,null,{"$f":"IF(ISERROR(IF($AC79=\"\",\"\",SUM(J79,R79)/$AC79)),\"-\",(IF($AC79=\"\",\"\",SUM(J79,R79)/$AC79)))","v":""},{"$f":"IF(ISERROR(IF($AC79=\"\",\"\",SUM(L79,T79)/$AC79)),\"-\",(IF($AC79=\"\",\"\",SUM(L79,T79)/$AC79)))","v":""},{"$f":"IF(ISERROR(IF($AC79=\"\",\"\",SUM(N79,V79)/$AC79)),\"-\",(IF($AC79=\"\",\"\",SUM(N79,V79)/$AC79)))","v":""},{"$f":"IF(ISERROR(IF($AC79=\"\",\"\",SUM(P79,X79)/$AC79)),\"-\",(IF($AC79=\"\",\"\",SUM(P79,X79)/$AC79)))","v":""},{"$f":"IF(ISERROR(IF($AC79=\"\",\"\",Z79/$AC79)),\"-\",(IF($AC79=\"\",\"\",Z79/$AC79)))","v":""},{"$f":"IF(ISERROR(IF($AC79=\"\",\"\",AB79/$AC79)),\"-\",(IF($AC79=\"\",\"\",AB79/$AC79)))","v":""},{"$f":"IF(ISERROR(IF($AC79=\"\",\"\",SUM(J79,L79,R79,T79,Z79,AB79,X79,P79,V79,N79)/$AC79)),\"-\",(IF($AC79=\"\",\"\",SUM(J79,L79,R79,T79,Z79,AB79,X79,P79,V79,N79)/$AC79)))","v":""},{"$f":"IF(ISERROR(IF($I79=\"\",\"\",J79/I79)),\"-\",(IF($I79=\"\",\"\",J79/I79)))","v":""},{"$f":"IF(ISERROR(IF(K79=\"\",\"\",L79/K79)),\"-\",(IF(K79=\"\",\"\",L79/K79)))","v":""},{"$f":"IF(ISERROR(IF(M79=\"\",\"\",N79/M79)),\"-\",(IF(M79=\"\",\"\",N79/M79)))","v":""},{"$f":"IF(ISERROR(IF(O79=\"\",\"\",P79/O79)),\"-\",(IF(O79=\"\",\"\",P79/O79)))","v":""},{"$f":"IF(ISERROR(IF(Q79=\"\",\"\",R79/Q79)),\"-\",(IF(Q79=\"\",\"\",R79/Q79)))","v":""},{"$f":"IF(ISERROR(IF(S79=\"\",\"\",T79/S79)),\"-\",IF(S79=\"\",\"\",T79/S79))","v":""},{"$f":"IF(ISERROR(IF(U79=\"\",\"\",V79/U79)),\"-\",IF(U79=\"\",\"\",V79/U79))","v":""},{"$f":"IF(ISERROR(IF(W79=\"\",\"\",X79/W79)),\"-\",IF(W79=\"\",\"\",X79/W79))","v":""},{"$f":"IF(ISERROR(IF(Y79=\"\",\"\",Z79/Y79)),\"-\",IF(Y79=\"\",\"\",Z79/Y79))","v":""},{"$f":"IF(ISERROR(IF(AA79=\"\",\"\",AB79/AA79)),\"-\",IF(AA79=\"\",\"\",AB79/AA79))","v":""},null,"810 - RADIOLOGY",0,null,null,null,null,null,null,null,null,null,{"$f":"IF(Q280=1,\"No Site Selected\",\"\")","v":""},{"$f":"IF(R280=1,\"No Ward Name\",\"\")","v":""},{"$f":"IF(ISNUMBER((IFERROR(FIND(CHAR(10),F79),\"\")))=TRUE,1,\"\")","v":""},null,null,null,{"$f":"IF(C280=1,\"Incorrect Ward Name\",\"\")","v":""},null,null,null,null,"R1ACOMM HOSP WARDS (TENBURY)","R1ARL","COMM HOSP WARDS (TENBURY)","R1ARL","COMM HOSP WARDS (TENBURY)","R1A",null,null,"ST PETER'S HOSPITAL","Abbey Birth Centre",{"$f":"$E79","v":0},null,"Match:",{"$f":"MATCH($CB79,$BZ$1:$BZ$6663,0)","v":{"$error":"#N/A"}},"Countif:",{"$f":"SUM(COUNTIF($BZ$1:$BZ$6663,$CB79)+$CE79-1)","v":{"$error":"#N/A"}},"Concat Items:","$CA",":$CA",null,"Concat Final:",{"$f":"CONCATENATE($CI79,$CE79,$CJ79,$CG79)","v":{"$error":"#N/A"}}]
["",0,null,"",null,null,null,null,null,null,null,null,null,null,null,null,null,null,null,null,null,null,null,null,null,null,null,null,null,"","","","","","","","","","","","","","","","","",null,"822 - CHEMICAL PATHOLOGY",0,null,null,null,null,null,null,null,null,null,"","","",null,null,null,"",null,null,null,null,"R1ACOMM HOSP WARDS (WF GP UNIT)","R1ARN","COMM HOSP WARDS (WF GP UNIT)","R1ARN","COMM HOSP WARDS (WF GP UNIT)","R1A",null,null,"ST PETER'S HOSPITAL","ACU",0,null,"Match:",{"$error":"#N/A"},"Countif:",{"$error":"#N/A"},"Concat Items:","$CA",":$CA",null,"Concat Final:",{"$error":"#N/A"}]
[{"$f":"IF(Q282=1,\"No Site Selected\",IF(R282=1,\"No Ward Name\",\"\"))","v":""},0,null,"",null,null,null,null,null,null,null,null,null,null,null,null,null,null,null,null,null,null,null,null,null,null,null,null,null,"","","","","","","","","","","","","","","","","",null,"823 - HAEMATOLOGY",0,null,null,null,null,null,null,null,null,null,"","","",null,null,null,"",null,null,null,null,"R1ACOMMUNITY FIRST","R1A94","COMMUNITY FIRST","R1A94","COMMUNITY FIRST","R1A",null,null,"ST PETER'S HOSPITAL","AMU",0,null,"Match:",{"$error":"#N/A"},"Countif:",{"$error":"#N/A"},"Concat Items:","$CA",":$CA",null,"Concat Final:",{"$error":"#N/A"}]
["",0,null,"",null,null,null,null,null,null,null,null,null,null,null,null,null,null,null,null,null,null,null,null,null,null,null,null,null,"","","","","","","","","","","","","","","","","",null,"879 - COMMUNITY NURSING",0,null,null,null,null,null,null,null,null,null,"","","",null,null,null,"",null,null,null,null,"R1ACOMMUNITY HOSP WARDS (POWCH)","R1ARK","COMMUNITY HOSP WARDS (POWCH)","R1ARK","COMMUNITY HOSP WARDS (POWCH)","R1A",null,null,"ST PETER'S HOSPITAL","Ash",0,null,"Match:",{"$error":"#N/A"},"Countif:",{"$error":"#N/A"},"Concat Items:","$CA",":$CA",null,"Concat Final:",{"$error":"#N/A"}]
["",0,null,"",null,null,null,null,null,null,null,null,null,null,null,null,null,null,null,null,null,null,null,null,null,null,null,null,null,"","","","","","","","","","","","","","","","","",null,"901 - OCCUPATIONAL MEDICINE",0,null,null,null,null,null,null,null,null,null,"","","",null,null,null,"",null,null,null,null,"R1ACOMMUNITY INREACH EVESHAM","R1AJX","COMMUNITY INREACH EVESHAM","R1AJX","COMMUNITY INREACH EVESHAM","R1A",null,null,"ST PETER'S HOSPITAL","Aspen",0,null,"Match:",{"$error":"#N/A"},"Countif:",{"$error":"#N/A"},"Concat Items:","$CA",":$CA",null,"Concat Final:",{"$error":"#N/A"}]
["",0,null,"",null,null,null,null,null,null,null,null,null,null,null,null,null,null,null,null,null,null,null,null,null,null,null,null,null,"","","","","","","","","","","","","","","","","",null,"903 - PUBLIC HEALTH MEDICINE",0,null,null,null,null,null,null,null,null,null,"","","",null,null,null,"",null,null,null,null,"R1ACOMMUNITY INREACH REDDITCH 6","R1AJV","COMMUNITY INREACH REDDITCH 6","R1AJV","COMMUNITY INREACH REDDITCH 6","R1A",null,null,"ST PETER'S HOSPITAL","BACU",0,null,"Match:",{"$error":"#N/A"},"Countif:",{"$error":"#N/A"},"Concat Items:","$CA",":$CA",null,"Concat Final:",{"$error":"#N/A"}]
["",0,null,"",null,null,null,null,null,null,null,null,null,null,null,null,null,null,null,null,null,null,null,null,null,null,null,null,null,"","","","","","","","","","","","","","","","","",null,"920 - ORTHOTICS AND PROSTHETICS",0,null,null,null,null,null,null,null,null,null,"","","",null,null,null,"",null,null,null,null,"R1ACOMMUNITY INREACH REDDITCH 8","R1AJY","COMMUNITY INREACH REDDITCH 8","R1AJY","COMMUNITY INREACH REDDITCH 8","R1A",null,null,"ST PETER'S HOSPITAL","BRAD",0,null,"Match:",{"$error":"#N/A"},"Countif:",{"$error":"#N/A"},"Concat Items:","$CA",":$CA",null,"Concat Final:",{"$error":"#N/A"}]
["",0,null,"",null,null,null,null,null,null,null,null,null,null,null,null,null,null,null,null,null,null,null,null,null,null,null,null,null,"","","","","","","","","","","","","","","","","",null,"921 - GENETICS",0,null,null,null,null,null,null,null,null,null,"","","",null,null,null,"",null,null,null,null,"R1ACOMMUNITY PAEDESTRICIANS-1","R1AQQ","COMMUNITY PAEDESTRICIANS-1","R1AQQ","COMMUNITY PAEDESTRICIANS-1","R1A",null,null,"ST PETER'S HOSPITAL","Cedar",0,null,"Match:",{"$error":"#N/A"},"Countif:",{"$error":"#N/A"},"Concat Items:","$CA",":$CA",null,"Concat Final:",{"$error":"#N/A"}]
["",0,null,"",null,null,null,null,null,null,null,null,null,null,null,null,null,null,null,null,null,null,null,null,null,null,null,null,null,"","","","","","","","","","","","","","","","","",null,"922 - SEXUAL HEALTH SERVICES",0,null,null,null,null,null,null,null,null,null,"","","",null,null,null,"",null,null,null,null,"R1ACOMMUNITY UNIT","R1ADV","COMMUNITY UNIT","R1ADV","COMMUNITY UNIT","R1A",null,null,"ST PETER'S HOSPITAL","Cherry",0,null,"Match:",{"$error":"#N/A"},"Countif:",{"$error":"#N/A"},"Concat Items:","$CA",":$CA",null,"Concat Final:",{"$error":"#N/A"}]
["",0,null,"",null,null,null,null,null,null,null,null,null,null,null,null,null,null,null,null,null,null,null,null,null,null,null,null,null,"","","","","","","","","","","","","","","","","",null,"923 - DIAGNOSTIC PATHOLOGY",0,null,null,null,null,null,null,null,null,null,"","","",null,null,null,"",null,null,null,null,"R1ACOMMUNITY VENUE","R1A76","COMMUNITY VENUE","R1A76","COMMUNITY VENUE","R1A",null,null,"ST PETER'S HOSPITAL","Falcon",0,null,"Match:",{"$error":"#N/A"},"Countif:",{"$error":"#N/A"},"Concat Items:","$CA",":$CA",null,"Concat Final:",{"$error":"#N/A"}]
["",0,null,"",null,null,null,null,null,null,null,null,null,null,null,null,null,null,null,null,null,null,null,null,null,null,null,null,null,"","","","","","","","","","","","","","","","","",null,"924 - BLOOD DONOR CENTRES",0,null,null,null,null,null,null,null,null,null,"","","",null,null,null,"",null,null,null,null,"R1ACOVERCROFT","R1APF","COVERCROFT","R1APF","COVERCROFT","R1A",null,null,"ST PETER'S HOSPITAL","Heron",0,null,"Match:",{"$error":"#N/A"},"Countif:",{"$error":"#N/A"},"Concat Items:","$CA",":$CA",null,"Concat Final:",{"$error":"#N/A"}]
["",0,null,"",null,null,null,null,null,null,null,null,null,null,null,null,null,null,null,null,null,null,null,null,null,null,null,null,null,"","","","","","","","","","","","","","","","","",null,"925 - COMMUNITY CARE SERVICES",0,null,null,null,null,null,null,null,null,null,"","","",null,null,null,"",null,null,null,null,"R1ACROMWELL HOUSE","R1AAV","CROMWELL HOUSE","R1AAV","CROMWELL HOUSE","R1A",null,null,"ST PETER'S HOSPITAL","Holly",0,null,"Match:",{"$error":"#N/A"},"Countif:",{"$error":"#N/A"},"Concat Items:","$CA",":$CA",null,"Concat Final:",{"$error":"#N/A"}]
["",0,null,"",null,null,null,null,null,null,null,null,null,null,null,null,null,null,null,null,null,null,null,null,null,null,null,null,null,"","","","","","","","","","","","","","","","","",null,"926 - THERAPY SERVICES",0,null,null,null,null,null,null,null,null,null,"","","",null,null,null,"",null,null,null,null,"R1ACROWNGATE PHYSIOTHERAPY","R1A82","CROWNGATE PHYSIOTHERAPY","R1A82","CROWNGATE PHYSIOTHERAPY","R1A",null,null,"ST PETER'S HOSPITAL","ITU",0,null,"Match:",{"$error":"#N/A"},"Countif:",{"$error":"#N/A"},"Concat Items:","$CA",":$CA",null,"Concat Final:",{"$error":"#N/A"}]
["",0,null,"",null,null,null,null,null,null,null,null,null,null,null,null,null,null,null,null,null,null,null,null,null,null,null,null,null,"","","","","","","","","","","","","","","","","",null,"927 - PHYSICAL HEALTH REHABILITATION",0,null,null,null,null,null,null,null,null,null,"","","",null,null,null,"",null,null,null,null,"R1ADROITWICH SPA PRIVATE HOSPITAL","R1AFT","DROITWICH SPA PRIVATE HOSPITAL","R1AFT","DROITWICH SPA PRIVATE HOSPITAL","R1A",null,null,"ST PETER'S HOSPITAL","Joan Booker",0,null,"Match:",{"$error":"#N/A"},"Countif:",{"$error":"#N/A"},"Concat Items:","$CA",":$CA",null,"Concat Final:",{"$error":"#N/A"}]
["",0,null,"",null,null,null,null,null,null,null,null,null,null,null,null,null,null,null,null,null,null,null,null,null,null,null,null,null,"","","","","","","","","","","","","","","","","",null,"928 - MENTAL HEALTH REHABILITATION",0,null,null,null,null,null,null,null,null,null,"","","",null,null,null,"",null,null,null,null,"R1AELGAR UNIT","R1ADW","ELGAR UNIT","R1ADW","ELGAR UNIT","R1A",null,null,"ST PETER'S HOSPITAL","Kingfisher",0,null,"Match:",{"$error":"#N/A"},"Countif:",{"$error":"#N/A"},"Concat Items:","$CA",":$CA",null,"Concat Final:",{"$error":"#N/A"}]
["",0,null,"",null,null,null,null,null,null,null,null,null,null,null,null,null,null,null,null,null,null,null,null,null,null,null,null,null,"","","","","","","","","","","","","","","","","",null,"929 - NEURO-REHABILITATION",0,null,null,null,null,null,null,null,null,null,"","","",null,null,null,"",null,null,null,null,"R1AESTATES BUILDING","R1ACE","ESTATES BUILDING","R1ACE","ESTATES BUILDING","R1A",null,null,"ST PETER'S HOSPITAL","Labour",0,null,"Match:",{"$error":"#N/A"},"Countif:",{"$error":"#N/A"},"Concat Items:","$CA",":$CA",null,"Concat Final:",{"$error":"#N/A"}]
["",0,null,"",null,null,null,null,null,null,null,null,null,null,null,null,null,null,null,null,null,null,null,null,null,null,null,null,null,"","","","","","","","","","","","","","","","","",null,"996 - PSYCHIATRIC INTENSIVE CARE UNIT",0,null,null,null,null,null,null,null,null,null,"","","",null,null,null,"",null,null,null,null,"R1AEVESHAM COMMUNITY HOSPITAL","R1A1P","EVESHAM COMMUNITY HOSPITAL","R1A1P","EVESHAM COMMUNITY HOSPITAL","R1A",null,null,"ST PETER'S HOSPITAL","Maple",0,null,"Match:",{"$error":"#N/A"},"Countif:",{"$error":"#N/A"},"Concat Items:","$CA",":$CA",null,"Concat Final:",{"$error":"#N/A"}]
["",0,null,"",null,null,null,null,null,null,null,null,null,null,null,null,null,null,null,null,null,null,null,null,null,null,null,null,null,"","","","","","","","","","","","","","","","","",null,null,null,null,null,null,null,null,null,null,null,null,"","","",null,null,null,"",null,null,null,null,"R1AGOLD HILL CARE HOME","R1AKK","GOLD HILL CARE HOME","R1AKK","GOLD HILL CARE HOME","R1A",null,null,"ST PETER'S HOSPITAL","May",0,null,"Match:",{"$error":"#N/A"},"Countif:",{"$error":"#N/A"},"Concat Items:","$CA",":$CA",null,"Concat Final:",{"$error":"#N/A"}]
["",0,null,"",null,null,null,null,null,null,null,null,null,null,null,null,null,null,null,null,null,null,null,null,null,null,null,null,null,"","","","","","","","","","","","","","","","","",null,null,null,null,null,null,null,null,null,null,null,null,"","","",null,null,null,"",null,null,null,null,"R1AHASTINGS CARE HOME","R1AKG","HASTINGS CARE HOME","R1AKG","HASTINGS CARE HOME","R1A",null,null,"ST PETER'S HOSPITAL","NICU",0,null,"Match:",{"$error":"#N/A"},"Countif:",{"$error":"#N/A"},"Concat Items:","$CA",":$CA",null,"Concat Final:",{"$error":"#N/A"}]
["",0,null,"",null,null,null,null,null,null,null,null,null,null,null,null,null,null,null,null,null,null,null,null,null,null,null,null,null,"","","","","","","","","","","","","","","","","",null,null,null,null,null,null,null,null,null,null,null,null,"","","",null,null,null,"",null,null,null,null,"R1AHILL CREST 1","R1APM","HILL CREST 1","R1APM","HILL CREST 1","R1A",null,null,"ST PETER'S HOSPITAL","SAU",0,null,"Match:",{"$error":"#N/A"},"Countif:",{"$error":"#N/A"},"Concat Items:","$CA",":$CA",null,"Concat Final:",{"$error":"#N/A"}]
["",0,null,"",null,null,null,null,null,null,null,null,null,null,null,null,null,null,null,null,null,null,null,null,null,null,null,null,null,"","","","","","","","","","","","","","","","","",null,null,null,null,null,null,null,null,null,null,null,null,"","","",null,null,null,"",null,null,null,null,"R1AHILL CREST 2","R1APQ","HILL CREST 2","R1APQ","HILL CREST 2","R1A",null,null,"ST PETER'S HOSPITAL","Swan",0,null,"Match:",{"$error":"#N/A"},"Countif:",{"$error":"#N/A"},"Concat Items:","$CA",":$CA",null,"Concat Final:",{"$error":"#N/A"}]
["",0,null,"",null,null,null,null,null,null,null,null,null,null,null,null,null,null,null,null,null,null,null,null,null,null,null,null,null,"","","","","","","","","","","","","","","","","",null,null,null,null,null,null,null,null,null,null,null,null,"","","",null,null,null,"",null,null,null,null,"R1AHILL CREST MENTAL HEALTH UNIT","R1A49","HILL CREST MENTAL HEALTH UNIT","R1A49","HILL CREST MENTAL HEALTH UNIT","R1A",null,null,"ST PETER'S HOSPITAL","Swift",0,null,"Match:",{"$error":"#N/A"},"Countif:",{"$error":"#N/A"},"Concat Items:","$CA",":$CA",null,"Concat Final:",{"$error":"#N/A"}]
["",0,null,"",null,null,null,null,null,null,null,null,null,null,null,null,null,null,null,null,null,null,null,null,null,null,null,null,null,"","","","","","","","","","","","","","","","","",null,null,null,null,null,null,null,null,null,null,null,null,"","","",null,null,null,"",null,null,null,null,"R1AHOME FARM TRUST","R1A89","HOME FARM TRUST","R1A89","HOME FARM TRUST","R1A",null,null,"BLACKBERRY HILL HOSPITAL","CAMHS Riverside Unit",0,null,"Match:",{"$error":"#N/A"},"Countif:",{"$error":"#N/A"},"Concat Items:","$CA",":$CA",null,"Concat Final:",{"$error":"#N/A"}]
["",0,null,"",null,null,null,null,null,null,null,null,null,null,null,null,null,null,null,null,null,null,null,null,null,null,null,null,null,"","","","","","","","","","","","","","","","","",null,null,null,null,null,null,null,null,null,null,null,null,"","","",null,null,null,"",null,null,null,null,"R1AHOME TREATMENT 1","R1APL","HOME TREATMENT 1","R1APL","HOME TREATMENT 1","R1A",null,null,"BLACKBERRY HILL HOSPITAL","Secure Low Wickham IP Cromwell",0,null,"Match:",{"$error":"#N/A"},"Countif:",{"$error":"#N/A"},"Concat Items:","$CA",":$CA",null,"Concat Final:",{"$error":"#N/A"}]
["",0,null,"",null,null,null,null,null,null,null,null,null,null,null,null,null,null,null,null,null,null,null,null,null,null,null,null,null,"","","","","","","","","","","","","","","","","",null,null,null,null,null,null,null,null,null,null,null,null,"","","",null,null,null,"",null,null,null,null,"R1AHOME TREATMENT 2","R1APN","HOME TREATMENT 2","R1APN","HOME TREATMENT 2","R1A",null,null,"BLACKBERRY HILL HOSPITAL","Secure Low Wickham IP Fairfax",0,null,"Match:",{"$error":"#N/A"},"Countif:",{"$error":"#N/A"},"Concat Items:","$CA",":$CA",null,"Concat Final:",{"$error":"#N/A"}]
["",0,null,"",null,null,null,null,null,null,null,null,null,null,null,null,null,null,null,null,null,null,null,null,null,null,null,null,null,"","","","","","","","","","","","","","","","","",null,null,null,null,null,null,null,null,null,null,null,null,"","","",null,null,null,"",null,null,null,null,"R1AHOMEWARD BOUND UNIT","R1ADE","HOMEWARD BOUND UNIT","R1ADE","HOMEWARD BOUND UNIT","R1A",null,null,"BLACKBERRY HILL HOSPITAL","Secure Low Wickham IP Hopton",0,null,"Match:",{"$error":"#N/A"},"Countif:",{"$error":"#N/A"},"Concat Items:","$CA",":$CA",null,"Concat Final:",{"$error":"#N/A"}]
["",0,null,"",null,null,null,null,null,null,null,null,null,null,null,null,null,null,null,null,null,null,null,null,null,null,null,null,null,"","","","","","","","","","","","","","","","","",null,null,null,null,null,null,null,null,null,null,null,null,"","","",null,null,null,"",null,null,null,null,"R1AKEITH WINTER CLOSE MENTAL HEALTH UNIT","R1A22","KEITH WINTER CLOSE MENTAL HEALTH UNIT","R1A22","KEITH WINTER CLOSE MENTAL HEALTH UNIT","R1A",null,null,"BLACKBERRY HILL HOSPITAL","Secure Medium IP Bradley Brook",0,null,"Match:",{"$error":"#N/A"},"Countif:",{"$error":"#N/A"},"Concat Items:","$CA",":$CA",null,"Concat Final:",{"$error":"#N/A"}]
["",0,null,"",null,null,null,null,null,null,null,null,null,null,null,null,null,null,null,null,null,null,null,null,null,null,null,null,null,"","","","","","","","","","","","","","","","","",null,null,null,null,null,null,null,null,null,null,null,null,"","","",null,null,null,"",null,null,null,null,"R1AKEMPSEY PARISH HALL","R1AHL","KEMPSEY PARISH HALL","R1AHL","KEMPSEY PARISH HALL","R1A",null,null,"BLACKBERRY HILL HOSPITAL","Secure Medium IP Cary",0,null,"Match:",{"$error":"#N/A"},"Countif:",{"$error":"#N/A"},"Concat Items:","$CA",":$CA",null,"Concat Final:",{"$error":"#N/A"}]
["",0,null,"",null,null,null,null,null,null,null,null,null,null,null,null,null,null,null,null,null,null,null,null,null,null,null,null,null,"","","","","","","","","","","","","","","","","",null,null,null,null,null,null,null,null,null,null,null,null,"","","",null,null,null,"",null,null,null,null,"R1ALICKEY LANGUAGE UNIT","R1AHV","LICKEY LANGUAGE UNIT","R1AHV","LICKEY LANGUAGE UNIT","R1A",null,null,"BLACKBERRY HILL HOSPITAL","Secure Medium IP Kennet",0,null,"Match:",{"$error":"#N/A"},"Countif:",{"$error":"#N/A"},"Concat Items:","$CA",":$CA",null,"Concat Final:",{"$error":"#N/A"}]
["",0,null,"",null,null,null,null,null,null,null,null,null,null,null,null,null,null,null,null,null,null,null,null,null,null,null,null,null,"","","","","","","","","","","","","","","","","",null,null,null,null,null,null,null,null,null,null,null,null,"","","",null,null,null,"",null,null,null,null,"R1ALINK HORTICULTURIAL NURSERIES - SHELTERED EMPLOYMENT","R1AAE","LINK HORTICULTURIAL NURSERIES - SHELTERED EMPLOYMENT","R1AAE","LINK HORTICULTURIAL NURSERIES - SHELTERED EMPLOYMENT","R1A",null,null,"BLACKBERRY HILL HOSPITAL","Secure Medium IP Ladden Brook",0,null,"Match:",{"$error":"#N/A"},"Countif:",{"$error":"#N/A"},"Concat Items:","$CA",":$CA",null,"Concat Final:",{"$error":"#N/A"}]
["",0,null,"",null,null,null,null,null,null,null,null,null,null,null,null,null,null,null,null,null,null,null,null,null,null,null,null,null,"","","","","","","","","","","","","","","","","",null,null,null,null,null,null,null,null,null,null,null,null,"","","",null,null,null,"",null,null,null,null,"R1ALUDLOW ROAD","R1A58","LUDLOW ROAD","R1A58","LUDLOW ROAD","R1A",null,null,"BLACKBERRY HILL HOSPITAL","Secure Medium IP Severn",0,null,"Match:",{"$error":"#N/A"},"Countif:",{"$error":"#N/A"},"Concat Items:","$CA",":$CA",null,"Concat Final:",{"$error":"#N/A"}]
["",{"$f":"IF(SUM(E311:G311,Q311:R311)>0,1,IF(AU311>0,2,0))","v":0},null,"",null,null,null,null,null,null,null,null,null,null,null,null,null,null,null,null,null,null,null,null,null,null,null,null,null,"","","","","","","","","","","","","","","","","",null,null,null,null,null,null,null,null,null,null,null,null,"","","",null,null,null,"",null,null,null,null,"R1AMALVERN COMMUNITY HOSPITAL","R1ADC","MALVERN COMMUNITY HOSPITAL","R1ADC","MALVERN COMMUNITY HOSPITAL","R1A",null,null,"BLACKBERRY HILL HOSPITAL","Secure Medium IP Teign",0,null,"Match:",{"$error":"#N/A"},"Countif:",{"$error":"#N/A"},"Concat Items:","$CA",":$CA",null,"Concat Final:",{"$error":"#N/A"}]
["",0,null,{"$f":"IF(ISNA(VLOOKUP($E$5&E111,$BR:$BS,2,FALSE)),\"\",VLOOKUP($E$5&E111,$BR:$BS,2,FALSE))","v":""},null,null,null,null,null,null,null,null,null,null,null,null,null,null,null,null,null,null,null,null,null,null,null,null,null,"","","","","","","","","","","","","","","","","",null,null,null,null,null,null,null,null,null,null,null,null,"","","",null,null,null,"",null,null,null,null,"R1AMATCHBOROUGH FIRST NURSERY PLUS","R1AHF","MATCHBOROUGH FIRST NURSERY PLUS","R1AHF","MATCHBOROUGH FIRST NURSERY PLUS","R1A",null,null,"BLACKBERRY HILL HOSPITAL","Secure Medium IP Wellow",0,null,"Match:",{"$error":"#N/A"},"Countif:",{"$error":"#N/A"},"Concat Items:","$CA",":$CA",null,"Concat Final:",{"$error":"#N/A"}]
["",0,null,"",null,null,null,null,null,null,null,null,null,null,null,null,null,null,null,null,null,null,null,null,null,null,null,null,null,"","","","","","","","","","","","","","","","","",null,null,null,null,null,null,null,null,null,null,null,null,"","","",null,null,null,"",null,null,null,null,"R1ANEW BROOK","R1ACF","NEW BROOK","R1ACF","NEW BROOK","R1A",null,null,"BRISTOL ADULT","Specialised Eating Disorders IP Clifton",0,null,"Match:",{"$error":"#N/A"},"Countif:",{"$error":"#N/A"},"Concat Items:","$CA",":$CA",null,"Concat Final:",{"$error":"#N/A"}]
["",0,null,"",null,null,null,null,null,null,null,null,null,null,null,null,null,null,null,null,null,null,null,null,null,null,null,null,null,"","","","","","","","","","","","","","","","","",null,null,null,null,null,null,null,null,null,null,null,null,"","","",null,null,null,"",null,null,null,null,"R1ANEW BROOK UNIT 1","R1APK","NEW BROOK UNIT 1","R1APK","NEW BROOK UNIT 1","R1A",null,null,"BRISTOL SDAS","Specialised D&A Bristol IP Acer Unit",0,null,"Match:",{"$error":"#N/A"},"Countif:",{"$error":"#N/A"},"Concat Items:","$CA",":$CA",null,"Concat Final:",{"$error":"#N/A"}]
["",0,null,"",null,null,null,null,null,null,null,null,null,null,null,null,null,null,null,null,null,null,null,null,null,null,null,null,null,"","","","","","","","","","","","","","","","","",null,null,null,null,null,null,null,null,null,null,null,null,"","","",null,null,null,"",null,null,null,null,"R1ANEW BROOK UNIT 2","R1APP","NEW BROOK UNIT 2","R1APP","NEW BROOK UNIT 2","R1A",null,null,"CALLINGTON ROAD","Bristol Acute IP Lime",0,null,"Match:",{"$error":"#N/A"},"Countif:",{"$error":"#N/A"},"Concat Items:","$CA",":$CA",null,"Concat Final:",{"$error":"#N/A"}]
["",0,null,"",null,null,null,null,null,null,null,null,null,null,null,null,null,null,null,null,null,null,null,null,null,null,null,null,null,"","","","","","","","","","","","","","","","","",null,null,null,null,null,null,null,null,null,null,null,null,"","","",null,null,null,"",null,null,null,null,"R1ANEW CROSS HOSPITAL","R1A1N","NEW CROSS HOSPITAL","R1A1N","NEW CROSS HOSPITAL","R1A",null,null,"CALLINGTON ROAD","Bristol Acute IP Silver Birch",0,null,"Match:",{"$error":"#N/A"},"Countif:",{"$error":"#N/A"},"Concat Items:","$CA",":$CA",null,"Concat Final:",{"$error":"#N/A"}]
["",0,null,"",null,null,null,null,null,null,null,null,null,null,null,null,null,null,null,null,null,null,null,null,null,null,null,null,null,"","","","","","","","","","","","","","","","","",null,null,null,null,null,null,null,null,null,null,null,null,"","","",null,null,null,"",null,null,null,null,"R1ANEW HAVEN (MENTAL HEALTH UNIT)","R1ACC","NEW HAVEN (MENTAL HEALTH UNIT)","R1ACC","NEW HAVEN (MENTAL HEALTH UNIT)","R1A",null,null,"CALLINGTON ROAD","Bristol LL IP Aspen",0,null,"Match:",{"$error":"#N/A"},"Countif:",{"$error":"#N/A"},"Concat Items:","$CA",":$CA",null,"Concat Final:",{"$error":"#N/A"}]
["",0,null,"",null,null,null,null,null,null,null,null,null,null,null,null,null,null,null,null,null,null,null,null,null,null,null,null,null,"","","","","","","","","","","","","","","","","",null,null,null,null,null,null,null,null,null,null,null,null,"","","",null,null,null,"",null,null,null,null,"R1ANEWTOWN HOSPITAL ","R1A07","NEWTOWN HOSPITAL ","R1A07","NEWTOWN HOSPITAL ","R1A",null,null,"CALLINGTON ROAD","Bristol PICU Elizabeth Casson",0,null,"Match:",{"$error":"#N/A"},"Countif:",{"$error":"#N/A"},"Concat Items:","$CA",":$CA",null,"Concat Final:",{"$error":"#N/A"}]
["",0,null,"",null,null,null,null,null,null,null,null,null,null,null,null,null,null,null,null,null,null,null,null,null,null,null,null,null,"","","","","","","","","","","","","","","","","",null,null,null,null,null,null,null,null,null,null,null,null,"","","",null,null,null,"",null,null,null,null,"R1AORCHARD PLACE","R1A37","ORCHARD PLACE","R1A37","ORCHARD PLACE","R1A",null,null,"CALLINGTON ROAD","Bristol PICU Hazel",0,null,"Match:",{"$error":"#N/A"},"Countif:",{"$error":"#N/A"},"Concat Items:","$CA",":$CA",null,"Concat Final:",{"$error":"#N/A"}]
["",0,null,"",null,null,null,null,null,null,null,null,null,null,null,null,null,null,null,null,null,null,null,null,null,null,null,null,null,"","","","","","","","","","","","","","","","","",null,null,null,null,null,null,null,null,null,null,null,null,"","","",null,null,null,"",null,null,null,null,"R1AOSBORNE COURT","R1ACY","OSBORNE COURT","R1ACY","OSBORNE COURT","R1A",null,null,"CALLINGTON ROAD","Bristol Rehab Alder",0,null,"Match:",{"$error":"#N/A"},"Countif:",{"$error":"#N/A"},"Concat Items:","$CA",":$CA",null,"Concat Final:",{"$error":"#N/A"}]
["",0,null,"",null,null,null,null,null,null,null,null,null,null,null,null,null,null,null,null,null,null,null,null,null,null,null,null,null,"","","","","","","","","","","","","","","","","",null,null,null,null,null,null,null,null,null,null,null,null,"","","",null,null,null,"",null,null,null,null,"R1AOT STORES","R1AGK","OT STORES","R1AGK","OT STORES","R1A",null,null,"CALLINGTON ROAD","Bristol Rehab Larch",0,null,"Match:",{"$error":"#N/A"},"Countif:",{"$error":"#N/A"},"Concat Items:","$CA",":$CA",null,"Concat Final:",{"$error":"#N/A"}]
["",0,null,"",null,null,null,null,null,null,null,null,null,null,null,null,null,null,null,null,null,null,null,null,null,null,null,null,null,"","","","","","","","","","","","","","","","","",null,null,null,null,null,null,null,null,null,null,null,null,"","","",null,null,null,"",null,null,null,null,"R1APALLIATIVE CARE (R&B)","R1AQP","PALLIATIVE CARE (R&B)","R1AQP","PALLIATIVE CARE (R&B)","R1A",null,null,"FOUNTAIN WAY, SALISBURY","Wiltshire Acute IP Beechlydene",0,null,"Match:",{"$error":"#N/A"},"Countif:",{"$error":"#N/A"},"Concat Items:","$CA",":$CA",null,"Concat Final:",{"$error":"#N/A"}]
["",0,null,"",null,null,null,null,null,null,null,null,null,null,null,null,null,null,null,null,null,null,null,null,null,null,null,null,null,"","","","","","","","","","","","","","","","","",null,null,null,null,null,null,null,null,null,null,null,null,"","","",null,null,null,"",null,null,null,null,"R1APALLIATIVE CARE (SW)","R1ART","PALLIATIVE CARE (SW)","R1ART","PALLIATIVE CARE (SW)","R1A",null,null,"FOUNTAIN WAY, SALISBURY","Wiltshire LL IP Amblescroft North",0,null,"Match:",{"$error":"#N/A"},"Countif:",{"$error":"#N/A"},"Concat Items:","$CA",":$CA",null,"Concat Final:",{"$error":"#N/A"}]
["",0,null,"",null,null,null,null,null,null,null,null,null,null,null,null,null,null,null,null,null,null,null,null,null,null,null,null,null,"","","","","","","","","","","","","","","","","",null,null,null,null,null,null,null,null,null,null,null,null,"","","",null,null,null,"",null,null,null,null,"R1APALLIATIVE CARE (WF)","R1ARR","PALLIATIVE CARE (WF)","R1ARR","PALLIATIVE CARE (WF)","R1A",null,null,"FOUNTAIN WAY, SALISBURY","Wiltshire LL IP Amblescroft South",0,null,"Match:",{"$error":"#N/A"},"Countif:",{"$error":"#N/A"},"Concat Items:","$CA",":$CA",null,"Concat Final:",{"$error":"#N/A"}]
["",0,null,"",null,null,null,null,null,null,null,null,null,null,null,null,null,null,null,null,null,null,null,null,null,null,null,null,null,"","","","","","","","","","","","","","","","","",null,null,null,null,null,null,null,null,null,null,null,null,"","","",null,null,null,"",null,null,null,null,"R1APARKSIDE MIDDLE AUTISM BASE","R1AEM","PARKSIDE MIDDLE AUTISM BASE","R1AEM","PARKSIDE MIDDLE AUTISM BASE","R1A",null,null,"FOUNTAIN WAY, SALISBURY","Wiltshire PICU Ashdown",0,null,"Match:",{"$error":"#N/A"},"Countif:",{"$error":"#N/A"},"Concat Items:","$CA",":$CA",null,"Concat Final:",{"$error":"#N/A"}]
["",0,null,"",null,null,null,null,null,null,null,null,null,null,null,null,null,null,null,null,null,null,null,null,null,null,null,null,null,"","","","","","","","","","","","","","","","","",null,null,null,null,null,null,null,null,null,null,null,null,"","","",null,null,null,"",null,null,null,null,"R1APERSHORE HOSPITAL","R1ACW","PERSHORE HOSPITAL","R1ACW","PERSHORE HOSPITAL","R1A",null,null,"GREEN LANE HOSPITAL, DEVIZES","Specialised LD IP Daisy",0,null,"Match:",{"$error":"#N/A"},"Countif:",{"$error":"#N/A"},"Concat Items:","$CA",":$CA",null,"Concat Final:",{"$error":"#N/A"}]
["",0,null,"",null,null,null,null,null,null,null,null,null,null,null,null,null,null,null,null,null,null,null,null,null,null,null,null,null,"","","","","","","","","","","","","","","","","",null,null,null,null,null,null,null,null,null,null,null,null,"","","",null,null,null,"",null,null,null,null,"R1APHYSIO UNIT ROSEHILL","R1AA6","PHYSIO UNIT ROSEHILL","R1AA6","PHYSIO UNIT ROSEHILL","R1A",null,null,"GREEN LANE HOSPITAL, DEVIZES","Wiltshire Acute IP Poppy",0,null,"Match:",{"$error":"#N/A"},"Countif:",{"$error":"#N/A"},"Concat Items:","$CA",":$CA",null,"Concat Final:",{"$error":"#N/A"}]
["",0,null,"",null,null,null,null,null,null,null,null,null,null,null,null,null,null,null,null,null,null,null,null,null,null,null,null,null,"","","","","","","","","","","","","","","","","",null,null,null,null,null,null,null,null,null,null,null,null,"","","",null,null,null,"",null,null,null,null,"R1APHYSIO UNIT THORNTON","R1A1A","PHYSIO UNIT THORNTON","R1A1A","PHYSIO UNIT THORNTON","R1A",null,null,"HILLVIEW LODGE ","BANES Acute IP Sycamore",0,null,"Match:",{"$error":"#N/A"},"Countif:",{"$error":"#N/A"},"Concat Items:","$CA",":$CA",null,"Concat Final:",{"$error":"#N/A"}]
["",0,null,"",null,null,null,null,null,null,null,null,null,null,null,null,null,null,null,null,null,null,null,null,null,null,null,null,null,"","","","","","","","","","","","","","","","","",null,null,null,null,null,null,null,null,null,null,null,null,"","","",null,null,null,"",null,null,null,null,"R1APOSTNATAL UNIT","R1ADM","POSTNATAL UNIT","R1ADM","POSTNATAL UNIT","R1A",null,null,"NORTH SOMERSET ADULT","N.Som Acute IP Juniper",0,null,"Match:",{"$error":"#N/A"},"Countif:",{"$error":"#N/A"},"Concat Items:","$CA",":$CA",null,"Concat Final:",{"$error":"#N/A"}]
["",0,null,"",null,null,null,null,null,null,null,null,null,null,null,null,null,null,null,null,null,null,null,null,null,null,null,null,null,"","","","","","","","","","","","","","","","","",null,null,null,null,null,null,null,null,null,null,null,null,"","","",null,null,null,"",null,null,null,null,{"$f":"CONCATENATE(LEFT(BS129, 3),BT129)","v":"R1APRINCESS OF WALES HOSPITAL"},"R1ACG","PRINCESS OF WALES HOSPITAL","R1ACG","PRINCESS OF WALES HOSPITAL","R1A",null,null,"NORTH SOMERSET ADULT","N.Som Rehab Elmham Way",0,null,"Match:",{"$error":"#N/A"},"Countif:",{"$error":"#N/A"},"Concat Items:","$CA",":$CA",null,"Concat Final:",{"$error":"#N/A"}]
["",0,null,"",null,null,null,null,null,null,null,null,null,null,null,null,null,null,null,null,null,null,null,null,null,null,null,null,null,"","","","","","","","","","","","","","","","","",null,null,null,null,null,null,null,null,null,null,null,null,"","","",null,null,null,"",null,null,null,null,"R1APUPIL REFERRAL UNIT","R1A60","PUPIL REFERRAL UNIT","R1A60","PUPIL REFERRAL UNIT","R1A",null,null,"NORTH SOMERSET OLDER ADULT","N.Som LL IP Cove",0,null,"Match:",{"$error":"#N/A"},"Countif:",{"$error":"#N/A"},"Concat Items:","$CA",":$CA",null,"Concat Final:",{"$error":"#N/A"}]
["",0,null,"",null,null,null,null,null,null,null,null,null,null,null,null,null,null,null,null,null,null,null,null,null,null,null,null,null,"","","","","","","","","","","","","","","","","",null,null,null,null,null,null,null,null,null,null,null,null,"","","",null,null,null,"",null,null,null,null,"R1AQUEEN ELIZABETH HOSPITAL","R1A02","QUEEN ELIZABETH HOSPITAL","R1A02","QUEEN ELIZABETH HOSPITAL","R1A",null,null,"NORTH SOMERSET OLDER ADULT","N.Som LL IP Dune",0,null,"Match:",{"$error":"#N/A"},"Countif:",{"$error":"#N/A"},"Concat Items:","$CA",":$CA",null,"Concat Final:",{"$error":"#N/A"}]
["",0,null,"",null,null,null,null,null,null,null,null,null,null,null,null,null,null,null,null,null,null,null,null,null,null,null,null,null,"","","","","","","","","","","","","","","","","",null,null,null,null,null,null,null,null,null,null,null,null,"","","",null,null,null,"",null,null,null,null,"R1ARIVENDELL","R1A14","RIVENDELL","R1A14","RIVENDELL","R1A",null,null,"SANDALWOOD COURT, SWINDON","Swindon Acute IP Applewood",0,null,"Match:",{"$error":"#N/A"},"Countif:",{"$error":"#N/A"},"Concat Items:","$CA",":$CA",null,"Concat Final:",{"$error":"#N/A"}]
["",0,null,"",null,null,null,null,null,null,null,null,null,null,null,null,null,null,null,null,null,null,null,null,null,null,null,null,null,"","","","","","","","","","","","","","","","","",null,null,null,null,null,null,null,null,null,null,null,null,"","","",null,null,null,"",null,null,null,null,"R1ARIVERBANK NEONATAL UNIT","R1ADN","RIVERBANK NEONATAL UNIT","R1ADN","RIVERBANK NEONATAL UNIT",{"$f":"LEFT(BU133,3)","v":"R1A"},null,null,"SOUTHMEAD HOSPITAL AWP","Bristol Acute IP Oakwood",0,null,"Match:",{"$error":"#N/A"},"Countif:",{"$error":"#N/A"},"Concat Items:","$CA",":$CA",null,"Concat Final:",{"$error":"#N/A"}]
["",0,null,"",null,null,null,null,null,null,null,null,null,null,null,null,null,null,null,null,null,null,null,null,null,null,null,null,null,"","","","","","","","","","","","","","","","","",null,null,null,null,null,null,null,null,null,null,null,null,"","","",null,null,null,"",null,null,null,null,"R1ARUSSELLS HALL HOSPITAL","R1A56","RUSSELLS HALL HOSPITAL","R1A56","RUSSELLS HALL HOSPITAL","R1A",null,null,"SOUTHMEAD HOSPITAL AWP","Specialised Mother and Baby IP Unit",0,null,"Match:",{"$error":"#N/A"},"Countif:",{"$error":"#N/A"},"Concat Items:","$CA",":$CA",null,"Concat Final:",{"$error":"#N/A"}]
["",0,null,"",null,null,null,null,null,null,null,null,null,null,null,null,null,null,null,null,null,null,null,null,null,null,null,null,null,"","","","","","","","","","","","","","","","","",null,null,null,null,null,null,null,null,null,null,null,null,"","","",null,null,null,"",null,null,null,null,"R1ASILVERBIRCH","R1ACH","SILVERBIRCH","R1ACH","SILVERBIRCH","R1A",null,null,"ST MARTINS HOSPITAL (BATH)","BANES LL IP Ward 4",0,null,"Match:",{"$error":"#N/A"},"Countif:",{"$error":"#N/A"},"Concat Items:","$CA",":$CA",null,"Concat Final:",{"$error":"#N/A"}]
["",0,null,"",null,null,null,null,null,null,null,null,null,null,null,null,null,null,null,null,null,null,null,null,null,null,null,null,null,"","","","","","","","","","","","","","","","","",null,null,null,null,null,null,null,null,null,null,null,null,"","","",null,null,null,"",null,null,null,null,"R1ASTUDDERT KENNEDY OA","R1APG","STUDDERT KENNEDY OA","R1APG","STUDDERT KENNEDY OA","R1A",null,null,"VICTORIA CENTRE, SWINDON","Swindon LL IP Hodson",0,null,"Match:",{"$error":"#N/A"},"Countif:",{"$error":"#N/A"},"Concat Items:","$CA",":$CA",null,"Concat Final:",{"$error":"#N/A"}]
["",0,null,"",null,null,null,null,null,null,null,null,null,null,null,null,null,null,null,null,null,null,null,null,null,null,null,null,null,"","","","","","","","","","","","","","","","","",null,null,null,null,null,null,null,null,null,null,null,null,"","","",null,null,null,"",null,null,null,null,"R1ATENBURY COMMUNITY HOSPITAL","R1AAN","TENBURY COMMUNITY HOSPITAL","R1AAN","TENBURY COMMUNITY HOSPITAL","R1A",null,null,"VICTORIA CENTRE, SWINDON","Swindon LL IP Liddington",0,null,"Match:",{"$error":"#N/A"},"Countif:",{"$error":"#N/A"},"Concat Items:","$CA",":$CA",null,"Concat Final:",{"$error":"#N/A"}]
["",0,null,"",null,null,null,null,null,null,null,null,null,null,null,null,null,null,null,null,null,null,null,null,null,null,null,null,null,"","","","","","","","","","","","","","","","","",null,null,null,null,null,null,null,null,null,null,null,null,"","","",null,null,null,"",null,null,null,null,"R1ATESCO KIDDERMINSTER","R1A67","TESCO KIDDERMINSTER","R1A67","TESCO KIDDERMINSTER","R1A",null,null,"WHITTUCKS ROAD, HANHAM","S.Glos Rehab Whittucks Road",0,null,"Match:",{"$error":"#N/A"},"Countif:",{"$error":"#N/A"},"Concat Items:","$CA",":$CA",null,"Concat Final:",{"$error":"#N/A"}]
["",0,null,"",null,null,null,null,null,null,null,null,null,null,null,null,null,null,null,null,null,null,null,null,null,null,null,null,null,"","","","","","","","","","","","","","","","","",null,null,null,null,null,null,null,null,null,null,null,null,"","","",null,null,null,"",null,null,null,null,"R1ATESCO REDDITCH","R1A43","TESCO REDDITCH","R1A43","TESCO REDDITCH","R1A",null,null,"WINDSWEPT","Swindon Rehab Windswept",0,null,"Match:",{"$error":"#N/A"},"Countif:",{"$error":"#N/A"},"Concat Items:","$CA",":$CA",null,"Concat Final:",{"$error":"#N/A"}]
["",0,null,"",null,null,null,null,null,null,null,null,null,null,null,null,null,null,null,null,null,null,null,null,null,null,null,null,null,"","","","","","","","","","","","","","","","","",null,null,null,null,null,null,null,null,null,null,null,null,"","","",null,null,null,"",null,null,null,null,"R1ATESCO ST PETERS","R1A1G","TESCO ST PETERS","R1A1G","TESCO ST PETERS","R1A",null,null,"KING GEORGE HOSPITAL","Ash",0,null,"Match:",{"$error":"#N/A"},"Countif:",{"$error":"#N/A"},"Concat Items:","$CA",":$CA",null,"Concat Final:",{"$error":"#N/A"}]
["",0,null,"",null,null,null,null,null,null,null,null,null,null,null,null,null,null,null,null,null,null,null,null,null,null,null,null,null,"","","","","","","","","","","","","","","","","",null,null,null,null,null,null,null,null,null,null,null,null,"","","",null,null,null,"",null,null,null,null,"R1ATESCO WARNDON","R1AA1","TESCO WARNDON","R1AA1","TESCO WARNDON","R1A",null,null,"KING GEORGE HOSPITAL","Beech",0,null,"Match:",{"$error":"#N/A"},"Countif:",{"$error":"#N/A"},"Concat Items:","$CA",":$CA",null,"Concat Final:",{"$error":"#N/A"}]
["",{"$f":"IF(SUM(E343:G343,Q343:R343)>0,1,IF(AU343>0,2,0))","v":0},null,"",null,null,null,null,null,null,null,null,null,null,null,null,null,null,null,null,null,null,null,null,null,null,null,null,null,"","","","","","","","","","","","","","","","","",null,null,null,null,null,null,null,null,null,null,null,null,"","","",null,null,null,"",null,null,null,null,"R1ATHE FIRS REST HOME","R1A1F","THE FIRS REST HOME","R1A1F","THE FIRS REST HOME","R1A",null,null,"KING GEORGE HOSPITAL","CAU KGH",0,null,"Match:",{"$error":"#N/A"},"Countif:",{"$error":"#N/A"},"Concat Items:","$CA",":$CA",null,"Concat Final:",{"$error":"#N/A"}]
["",0,null,{"$f":"IF(ISNA(VLOOKUP($E$5&E143,$BR:$BS,2,FALSE)),\"\",VLOOKUP($E$5&E143,$BR:$BS,2,FALSE))","v":""},null,null,null,null,null,null,null,null,null,null,null,null,null,null,null,null,null,null,null,null,null,null,null,null,null,{"$f":"IF(ISERROR(IF($AC143=\"\",\"\",SUM(J143,R143)/$AC143)),\"-\",(IF($AC143=\"\",\"\",SUM(J143,R143)/$AC143)))","v":""},{"$f":"IF(ISERROR(IF($AC143=\"\",\"\",SUM(L143,T143)/$AC143)),\"-\",(IF($AC143=\"\",\"\",SUM(L143,T143)/$AC143)))","v":""},{"$f":"IF(ISERROR(IF($AC143=\"\",\"\",SUM(N143,V143)/$AC143)),\"-\",(IF($AC143=\"\",\"\",SUM(N143,V143)/$AC143)))","v":""},{"$f":"IF(ISERROR(IF($AC143=\"\",\"\",SUM(P143,X143)/$AC143)),\"-\",(IF($AC143=\"\",\"\",SUM(P143,X143)/$AC143)))","v":""},{"$f":"IF(ISERROR(IF($AC143=\"\",\"\",Z143/$AC143)),\"-\",(IF($AC143=\"\",\"\",Z143/$AC143)))","v":""},{"$f":"IF(ISERROR(IF($AC143=\"\",\"\",AB143/$AC143)),\"-\",(IF($AC143=\"\",\"\",AB143/$AC143)))","v":""},{"$f":"IF(ISERROR(IF($AC143=\"\",\"\",SUM(J143,L143,R143,T143,Z143,AB143,X143,P143,V143,N143)/$AC143)),\"-\",(IF($AC143=\"\",\"\",SUM(J143,L143,R143,T143,Z143,AB143,X143,P143,V143,N143)/$AC143)))","v":""},{"$f":"IF(ISERROR(IF($I143=\"\",\"\",J143/I143)),\"-\",(IF($I143=\"\",\"\",J143/I143)))","v":""},{"$f":"IF(ISERROR(IF(K143=\"\",\"\",L143/K143)),\"-\",(IF(K143=\"\",\"\",L143/K143)))","v":""},{"$f":"IF(ISERROR(IF(M143=\"\",\"\",N143/M143)),\"-\",(IF(M143=\"\",\"\",N143/M143)))","v":""},{"$f":"IF(ISERROR(IF(O143=\"\",\"\",P143/O143)),\"-\",(IF(O143=\"\",\"\",P143/O143)))","v":""},{"$f":"IF(ISERROR(IF(Q143=\"\",\"\",R143/Q143)),\"-\",(IF(Q143=\"\",\"\",R143/Q143)))","v":""},{"$f":"IF(ISERROR(IF(S143=\"\",\"\",T143/S143)),\"-\",IF(S143=\"\",\"\",T143/S143))","v":""},{"$f":"IF(ISERROR(IF(U143=\"\",\"\",V143/U143)),\"-\",IF(U143=\"\",\"\",V143/U143))","v":""},{"$f":"IF(ISERROR(IF(W143=\"\",\"\",X143/W143)),\"-\",IF(W143=\"\",\"\",X143/W143))","v":""},{"$f":"IF(ISERROR(IF(Y143=\"\",\"\",Z143/Y143)),\"-\",IF(Y143=\"\",\"\",Z143/Y143))","v":""},{"$f":"IF(ISERROR(IF(AA143=\"\",\"\",AB143/AA143)),\"-\",IF(AA143=\"\",\"\",AB143/AA143))","v":""},null,null,null,null,null,null,null,null,null,null,null,null,{"$f":"IF(Q344=1,\"No Site Selected\",\"\")","v":""},{"$f":"IF(R344=1,\"No Ward Name\",\"\")","v":""},{"$f":"IF(ISNUMBER((IFERROR(FIND(CHAR(10),F143),\"\")))=TRUE,1,\"\")","v":""},null,null,null,{"$f":"IF(C344=1,\"Incorrect Ward Name\",\"\")","v":""},null,null,null,null,"R1ATHE GRANGE","R1A66","THE GRANGE","R1A66","THE GRANGE","R1A",null,null,"KING GEORGE HOSPITAL","Clover",{"$f":"$E143","v":0},null,"Match:",{"$f":"MATCH($CB143,$BZ$1:$BZ$6663,0)","v":{"$error":"#N/A"}},"Countif:",{"$f":"SUM(COUNTIF($BZ$1:$BZ$6663,$CB143)+$CE143-1)","v":{"$error":"#N/A"}},"Concat Items:","$CA",":$CA",null,"Concat Final:",{"$f":"CONCATENATE($CI143,$CE143,$CJ143,$CG143)","v":{"$error":"#N/A"}}]
["",0,null,"",null,null,null,null,null,null,null,null,null,null,null,null,null,null,null,null,null,null,null,null,null,null,null,null,null,"","","","","","","","","","","","","","","","","",null,null,null,null,null,null,null,null,null,null,null,null,"","","",null,null,null,"",null,null,null,null,"R1ATHE HIVE","R1AKX","THE HIVE","R1AKX","THE HIVE","R1A",null,null,"KING GEORGE HOSPITAL","Dahlia",0,null,"Match:",{"$error":"#N/A"},"Countif:",{"$error":"#N/A"},"Concat Items:","$CA",":$CA",null,"Concat Final:",{"$error":"#N/A"}]
[{"$f":"IF(Q346=1,\"No Site Selected\",IF(R346=1,\"No Ward Name\",\"\"))","v":""},0,null,"",null,null,null,null,null,null,null,null,null,null,null,null,null,null,null,null,null,null,null,null,null,null,null,null,null,"","","","","","","","","","","","","","","","","",null,null,null,null,null,null,null,null,null,null,null,null,"","","",null,null,null,"",null,null,null,null,"R1ATHE OLD VICARAGE","R1AKL","THE OLD VICARAGE","R1AKL","THE OLD VICARAGE","R1A",null,null,"KING GEORGE HOSPITAL","Erica",0,null,"Match:",{"$error":"#N/A"},"Countif:",{"$error":"#N/A"},"Concat Items:","$CA",":$CA",null,"Concat Final:",{"$error":"#N/A"}]
["",0,null,"",null,null,null,null,null,null,null,null,null,null,null,null,null,null,null,null,null,null,null,null,null,null,null,null,null,"","","","","","","","","","","","","","","","","",null,null,null,null,null,null,null,null,null,null,null,null,"","","",null,null,null,"",null,null,null,null,"R1ATHE PINES","R1AHX","THE PINES","R1AHX","THE PINES","R1A",null,null,"KING GEORGE HOSPITAL","Fern",0,null,"Match:",{"$error":"#N/A"},"Countif:",{"$error":"#N/A"},"Concat Items:","$CA",":$CA",null,"Concat Final:",{"$error":"#N/A"}]
["",0,null,"",null,null,null,null,null,null,null,null,null,null,null,null,null,null,null,null,null,null,null,null,null,null,null,null,null,"","","","","","","","","","","","","","","","","",null,null,null,null,null,null,null,null,null,null,null,null,"","","",null,null,null,"",null,null,null,null,"R1ATHE ROBERTSON CENTRE (D BLOCK)","R1ACN","THE ROBERTSON CENTRE (D BLOCK)","R1ACN","THE ROBERTSON CENTRE (D BLOCK)","R1A",null,null,"KING GEORGE HOSPITAL","Gardenia",0,null,"Match:",{"$error":"#N/A"},"Countif:",{"$error":"#N/A"},"Concat Items:","$CA",":$CA",null,"Concat Final:",{"$error":"#N/A"}]
["",0,null,"",null,null,null,null,null,null,null,null,null,null,null,null,null,null,null,null,null,null,null,null,null,null,null,null,null,"","","","","","","","","","","","","","","","","",null,null,null,null,null,null,null,null,null,null,null,null,"","","",null,null,null,"",null,null,null,null,"R1ATHE WOODLANDS","R1A44","THE WOODLANDS","R1A44","THE WOODLANDS","R1A",null,null,"KING GEORGE HOSPITAL","Gentian",0,null,"Match:",{"$error":"#N/A"},"Countif:",{"$error":"#N/A"},"Concat Items:","$CA",":$CA",null,"Concat Final:",{"$error":"#N/A"}]
["",0,null,"",null,null,null,null,null,null,null,null,null,null,null,null,null,null,null,null,null,null,null,null,null,null,null,null,null,"","","","","","","","","","","","","","","","","",null,null,null,null,null,null,null,null,null,null,null,null,"","","",null,null,null,"",null,null,null,null,"R1ATIMBERDINE HOME RESIDENTIAL CARE","R1AHM","TIMBERDINE HOME RESIDENTIAL CARE","R1AHM","TIMBERDINE HOME RESIDENTIAL CARE","R1A",null,null,"KING GEORGE HOSPITAL","Heather",0,null,"Match:",{"$error":"#N/A"},"Countif:",{"$error":"#N/A"},"Concat Items:","$CA",":$CA",null,"Concat Final:",{"$error":"#N/A"}]
["",0,null,"",null,null,null,null,null,null,null,null,null,null,null,null,null,null,null,null,null,null,null,null,null,null,null,null,null,"","","","","","","","","","","","","","","","","",null,null,null,null,null,null,null,null,null,null,null,null,"","","",null,null,null,"",null,null,null,null,"R1ATOUCHSTONE UNIT","R1AAD","TOUCHSTONE UNIT","R1AAD","TOUCHSTONE UNIT","R1A",null,null,"KING GEORGE HOSPITAL","Holly",0,null,"Match:",{"$error":"#N/A"},"Countif:",{"$error":"#N/A"},"Concat Items:","$CA",":$CA",null,"Concat Final:",{"$error":"#N/A"}]
["",0,null,"",null,null,null,null,null,null,null,null,null,null,null,null,null,null,null,null,null,null,null,null,null,null,null,null,null,"","","","","","","","","","","","","","","","","",null,null,null,null,null,null,null,null,null,null,null,null,"","","",null,null,null,"",null,null,null,null,"R1AWALKWOOD MIDDLE AUTISM BASE","R1A31","WALKWOOD MIDDLE AUTISM BASE","R1A31","WALKWOOD MIDDLE AUTISM BASE","R1A",null,null,"KING GEORGE HOSPITAL","Iris",0,null,"Match:",{"$error":"#N/A"},"Countif:",{"$error":"#N/A"},"Concat Items:","$CA",":$CA",null,"Concat Final:",{"$error":"#N/A"}]
["",0,null,"",null,null,null,null,null,null,null,null,null,null,null,null,null,null,null,null,null,null,null,null,null,null,null,null,null,"","","","","","","","","","","","","","","","","",null,null,null,null,null,null,null,null,null,null,null,null,"","","",null,null,null,"",null,null,null,null,"R1AWALSGRAVE HOSPITAL","R1A55","WALSGRAVE HOSPITAL","R1A55","WALSGRAVE HOSPITAL","R1A",null,null,"KING GEORGE HOSPITAL","KGH ITU",0,null,"Match:",{"$error":"#N/A"},"Countif:",{"$error":"#N/A"},"Concat Items:","$CA",":$CA",null,"Concat Final:",{"$error":"#N/A"}]
["",0,null,"",null,null,null,null,null,null,null,null,null,null,null,null,null,null,null,null,null,null,null,null,null,null,null,null,null,"","","","","","","","","","","","","","","","","",null,null,null,null,null,null,null,null,null,null,null,null,"","","",null,null,null,"",null,null,null,null,"R1AWASELY HIGH AUTISM BASE","R1A06","WASELY HIGH AUTISM BASE","R1A06","WASELY HIGH AUTISM BASE","R1A",null,null,"QUEEN'S HOSPITAL","Amber A",0,null,"Match:",{"$error":"#N/A"},"Countif:",{"$error":"#N/A"},"Concat Items:","$CA",":$CA",null,"Concat Final:",{"$error":"#N/A"}]
["",0,null,"",null,null,null,null,null,null,null,null,null,null,null,null,null,null,null,null,null,null,null,null,null,null,null,null,null,"","","","","","","","","","","","","","","","","",null,null,null,null,null,null,null,null,null,null,null,null,"","","",null,null,null,"",null,null,null,null,"R1AWATERSIDE","R1AQG","WATERSIDE","R1AQG","WATERSIDE","R1A",null,null,"QUEEN'S HOSPITAL","Amber B",0,null,"Match:",{"$error":"#N/A"},"Countif:",{"$error":"#N/A"},"Concat Items:","$CA",":$CA",null,"Concat Final:",{"$error":"#N/A"}]
["",0,null,"",null,null,null,null,null,null,null,null,null,null,null,null,null,null,null,null,null,null,null,null,null,null,null,null,null,"","","","","","","","","","","","","","","","","",null,null,null,null,null,null,null,null,null,null,null,null,"","","",null,null,null,"",null,null,null,null,"R1AWATERSIDE CARE HOME","R1AKR","WATERSIDE CARE HOME","R1AKR","WATERSIDE CARE HOME","R1A",null,null,"QUEEN'S HOSPITAL","Antenatal",0,null,"Match:",{"$error":"#N/A"},"Countif:",{"$error":"#N/A"},"Concat Items:","$CA",":$CA",null,"Concat Final:",{"$error":"#N/A"}]
["",0,null,"",null,null,null,null,null,null,null,null,null,null,null,null,null,null,null,null,null,null,null,null,null,null,null,null,null,"","","","","","","","","","","","","","","","","",null,null,null,null,null,null,null,null,null,null,null,null,"","","",null,null,null,"",null,null,null,null,"R1AWATERSIDE MENTAL HEALTH DAY HOSPITAL","R1A1V","WATERSIDE MENTAL HEALTH DAY HOSPITAL","R1A1V","WATERSIDE MENTAL HEALTH DAY HOSPITAL","R1A",null,null,"QUEEN'S HOSPITAL","Bluebell A",0,null,"Match:",{"$error":"#N/A"},"Countif:",{"$error":"#N/A"},"Concat Items:","$CA",":$CA",null,"Concat Final:",{"$error":"#N/A"}]
["",0,null,"",null,null,null,null,null,null,null,null,null,null,null,null,null,null,null,null,null,null,null,null,null,null,null,null,null,"","","","","","","","","","","","","","","","","",null,null,null,null,null,null,null,null,null,null,null,null,"","","",null,null,null,"",null,null,null,null,"R1AWHCT HEALTHCARE FEATHERSTONE","R1AHY","WHCT HEALTHCARE FEATHERSTONE","R1AHY","WHCT HEALTHCARE FEATHERSTONE","R1A",null,null,"QUEEN'S HOSPITAL","Bluebell B",0,null,"Match:",{"$error":"#N/A"},"Countif:",{"$error":"#N/A"},"Concat Items:","$CA",":$CA",null,"Concat Final:",{"$error":"#N/A"}]
["",0,null,"",null,null,null,null,null,null,null,null,null,null,null,null,null,null,null,null,null,null,null,null,null,null,null,null,null,"","","","","","","","","","","","","","","","","",null,null,null,null,null,null,null,null,null,null,null,null,"","","",null,null,null,"",null,null,null,null,"R1AWILDMOOR MILL FARM","R1A21","WILDMOOR MILL FARM","R1A21","WILDMOOR MILL FARM","R1A",null,null,"QUEEN'S HOSPITAL","CCU",0,null,"Match:",{"$error":"#N/A"},"Countif:",{"$error":"#N/A"},"Concat Items:","$CA",":$CA",null,"Concat Final:",{"$error":"#N/A"}]
["",0,null,"",null,null,null,null,null,null,null,null,null,null,null,null,null,null,null,null,null,null,null,null,null,null,null,null,null,"","","","","","","","","","","","","","","","","",null,null,null,null,null,null,null,null,null,null,null,null,"","","",null,null,null,"",null,null,null,null,"R1AWISHMOOR REST HOME","R1AKN","WISHMOOR REST HOME","R1AKN","WISHMOOR REST HOME","R1A",null,null,"QUEEN'S HOSPITAL","Clementine A",0,null,"Match:",{"$error":"#N/A"},"Countif:",{"$error":"#N/A"},"Concat Items:","$CA",":$CA",null,"Concat Final:",{"$error":"#N/A"}]
["",0,null,"",null,null,null,null,null,null,null,null,null,null,null,null,null,null,null,null,null,null,null,null,null,null,null,null,null,"","","","","","","","","","","","","","","","","",null,null,null,null,null,null,null,null,null,null,null,null,"","","",null,null,null,"",null,null,null,null,"R1AWOODSIDE","R1A1C","WOODSIDE","R1A1C","WOODSIDE","R1A",null,null,"QUEEN'S HOSPITAL","Clementine B",0,null,"Match:",{"$error":"#N/A"},"Countif:",{"$error":"#N/A"},"Concat Items:","$CA",":$CA",null,"Concat Final:",{"$error":"#N/A"}]
["",0,null,"",null,null,null,null,null,null,null,null,null,null,null,null,null,null,null,null,null,null,null,null,null,null,null,null,null,"","","","","","","","","","","","","","","","","",null,null,null,null,null,null,null,null,null,null,null,null,"","","",null,null,null,"",null,null,null,null,"R1AWORCESTER CITY MH 1","R1AQF","WORCESTER CITY MH 1","R1AQF","WORCESTER CITY MH 1","R1A",null,null,"QUEEN'S HOSPITAL","Coral",0,null,"Match:",{"$error":"#N/A"},"Countif:",{"$error":"#N/A"},"Concat Items:","$CA",":$CA",null,"Concat Final:",{"$error":"#N/A"}]
["",0,null,"",null,null,null,null,null,null,null,null,null,null,null,null,null,null,null,null,null,null,null,null,null,null,null,null,null,"","","","","","","","","","","","","","","","","",null,null,null,null,null,null,null,null,null,null,null,null,"","","",null,null,null,"",null,null,null,null,"R1AWORCESTER CITY MH 2","R1AQH","WORCESTER CITY MH 2","R1AQH","WORCESTER CITY MH 2","R1A",null,null,"QUEEN'S HOSPITAL","Cornflower B",0,null,"Match:",{"$error":"#N/A"},"Countif:",{"$error":"#N/A"},"Concat Items:","$CA",":$CA",null,"Concat Final:",{"$error":"#N/A"}]
["",0,null,"",null,null,null,null,null,null,null,null,null,null,null,null,null,null,null,null,null,null,null,null,null,null,null,null,null,"","","","","","","","","","","","","","","","","",null,null,null,null,null,null,null,null,null,null,null,null,"","","",null,null,null,"",null,null,null,null,"R1AWORCESTER CITY MH 3","R1AQK","WORCESTER CITY MH 3","R1AQK","WORCESTER CITY MH 3","R1A",null,null,"QUEEN'S HOSPITAL","ERU",0,null,"Match:",{"$error":"#N/A"},"Countif:",{"$error":"#N/A"},"Concat Items:","$CA",":$CA",null,"Concat Final:",{"$error":"#N/A"}]
["",0,null,"",null,null,null,null,null,null,null,null,null,null,null,null,null,null,null,null,null,null,null,null,null,null,null,null,null,"","","","","","","","","","","","","","","","","",null,null,null,null,null,null,null,null,null,null,null,null,"","","",null,null,null,"",null,null,null,null,"R1AWORCESTER INTERMEDIATE CARE UNIT (WICU)","R1A1Q","WORCESTER INTERMEDIATE CARE UNIT (WICU)","R1A1Q","WORCESTER INTERMEDIATE CARE UNIT (WICU)","R1A",null,null,"QUEEN'S HOSPITAL","Harvest A",0,null,"Match:",{"$error":"#N/A"},"Countif:",{"$error":"#N/A"},"Concat Items:","$CA",":$CA",null,"Concat Final:",{"$error":"#N/A"}]
["",0,null,"",null,null,null,null,null,null,null,null,null,null,null,null,null,null,null,null,null,null,null,null,null,null,null,null,null,"","","","","","","","","","","","","","","","","",null,null,null,null,null,null,null,null,null,null,null,null,"","","",null,null,null,"",null,null,null,null,"R1AWORCESTERSHIRE ROYAL HOSPITAL","R1ADP","WORCESTERSHIRE ROYAL HOSPITAL","R1ADP","WORCESTERSHIRE ROYAL HOSPITAL","R1A",null,null,"QUEEN'S HOSPITAL","Harvest B",0,null,"Match:",{"$error":"#N/A"},"Countif:",{"$error":"#N/A"},"Concat Items:","$CA",":$CA",null,"Concat Final:",{"$error":"#N/A"}]
["",0,null,"",null,null,null,null,null,null,null,null,null,null,null,null,null,null,null,null,null,null,null,null,null,null,null,null,null,"","","","","","","","","","","","","","","","","",null,null,null,null,null,null,null,null,null,null,null,null,"","","",null,null,null,"",null,null,null,null,"R1AWULSTAN UNIT","R1AEC","WULSTAN UNIT","R1AEC","WULSTAN UNIT","R1A",null,null,"QUEEN'S HOSPITAL","HASU",0,null,"Match:",{"$error":"#N/A"},"Countif:",{"$error":"#N/A"},"Concat Items:","$CA",":$CA",null,"Concat Final:",{"$error":"#N/A"}]
["",0,null,"",null,null,null,null,null,null,null,null,null,null,null,null,null,null,null,null,null,null,null,null,null,null,null,null,null,"","","","","","","","","","","","","","","","","",null,null,null,null,null,null,null,null,null,null,null,null,"","","",null,null,null,"",null,null,null,null,"R1AWULSTAN UNIT REHABILITATION","R1AED","WULSTAN UNIT REHABILITATION","R1AED","WULSTAN UNIT REHABILITATION","R1A",null,null,"QUEEN'S HOSPITAL","Mandarin A",0,null,"Match:",{"$error":"#N/A"},"Countif:",{"$error":"#N/A"},"Concat Items:","$CA",":$CA",null,"Concat Final:",{"$error":"#N/A"}]
["",0,null,"",null,null,null,null,null,null,null,null,null,null,null,null,null,null,null,null,null,null,null,null,null,null,null,null,null,"","","","","","","","","","","","","","","","","",null,null,null,null,null,null,null,null,null,null,null,null,"","","",null,null,null,"",null,null,null,null,"R1AWYCHAVON OA","R1AQJ","WYCHAVON OA","R1AQJ","WYCHAVON OA","R1A",null,null,"QUEEN'S HOSPITAL","Mandarin B",0,null,"Match:",{"$error":"#N/A"},"Countif:",{"$error":"#N/A"},"Concat Items:","$CA",":$CA",null,"Concat Final:",{"$error":"#N/A"}]
["",0,null,"",null,null,null,null,null,null,null,null,null,null,null,null,null,null,null,null,null,null,null,null,null,null,null,null,null,"","","","","","","","","","","","","","","","","",null,null,null,null,null,null,null,null,null,null,null,null,"","","",null,null,null,"",null,null,null,null,"R1CADULT MENTAL HEALTH","R1C19","ADULT MENTAL HEALTH","R1C19","ADULT MENTAL HEALTH","R1C",null,null,"QUEEN'S HOSPITAL","MRU",0,null,"Match:",{"$error":"#N/A"},"Countif:",{"$error":"#N/A"},"Concat Items:","$CA",":$CA",null,"Concat Final:",{"$error":"#N/A"}]
["",0,null,"",null,null,null,null,null,null,null,null,null,null,null,null,null,null,null,null,null,null,null,null,null,null,null,null,null,"","","","","","","","","","","","","","","","","",null,null,null,null,null,null,null,null,null,null,null,null,"","","",null,null,null,"",null,null,null,null,"R1CAMULREE DAY HOSPITAL","R1C14","AMULREE DAY HOSPITAL","R1C14","AMULREE DAY HOSPITAL","R1C",null,null,"QUEEN'S HOSPITAL","Ocean A",0,null,"Match:",{"$error":"#N/A"},"Countif:",{"$error":"#N/A"},"Concat Items:","$CA",":$CA",null,"Concat Final:",{"$error":"#N/A"}]
["",0,null,"",null,null,null,null,null,null,null,null,null,null,null,null,null,null,null,null,null,null,null,null,null,null,null,null,null,"","","","","","","","","","","","","","","","","",null,null,null,null,null,null,null,null,null,null,null,null,"","","",null,null,null,"",null,null,null,null,"R1CASHURST HOSPITAL","R1C07","ASHURST HOSPITAL","R1C07","ASHURST HOSPITAL","R1C",null,null,"QUEEN'S HOSPITAL","Ocean B",0,null,"Match:",{"$error":"#N/A"},"Countif:",{"$error":"#N/A"},"Concat Items:","$CA",":$CA",null,"Concat Final:",{"$error":"#N/A"}]
["",0,null,"",null,null,null,null,null,null,null,null,null,null,null,null,null,null,null,null,null,null,null,null,null,null,null,null,null,"","","","","","","","","","","","","","","","","",null,null,null,null,null,null,null,null,null,null,null,null,"","","",null,null,null,"",null,null,null,null,"R1CBEHAVIOUR RESOURCE (BRS)","R1C54","BEHAVIOUR RESOURCE (BRS)","R1C54","BEHAVIOUR RESOURCE (BRS)","R1C",null,null,"QUEEN'S HOSPITAL","Postnatal",0,null,"Match:",{"$error":"#N/A"},"Countif:",{"$error":"#N/A"},"Concat Items:","$CA",":$CA",null,"Concat Final:",{"$error":"#N/A"}]
["",0,null,"",null,null,null,null,null,null,null,null,null,null,null,null,null,null,null,null,null,null,null,null,null,null,null,null,null,"","","","","","","","","","","","","","","","","",null,null,null,null,null,null,null,null,null,null,null,null,"","","",null,null,null,"",null,null,null,null,"R1CBRAMBLES WARD","R1C48","BRAMBLES WARD","R1C48","BRAMBLES WARD","R1C",null,null,"QUEEN'S HOSPITAL","Queens ITU",0,null,"Match:",{"$error":"#N/A"},"Countif:",{"$error":"#N/A"},"Concat Items:","$CA",":$CA",null,"Concat Final:",{"$error":"#N/A"}]
["",{"$f":"IF(SUM(E375:G375,Q375:R375)>0,1,IF(AU375>0,2,0))","v":0},null,"",null,null,null,null,null,null,null,null,null,null,null,null,null,null,null,null,null,null,null,null,null,null,null,null,null,"","","","","","","","","","","","","","","","","",null,null,null,null,null,null,null,null,null,null,null,null,"","","",null,null,null,"",null,null,null,null,"R1CC&SH ANDOVER","R1C62","C&SH ANDOVER","R1C62","C&SH ANDOVER","R1C",null,null,"QUEEN'S HOSPITAL","Queens Neuro ITU",0,null,"Match:",{"$error":"#N/A"},"Countif:",{"$error":"#N/A"},"Concat Items:","$CA",":$CA",null,"Concat Final:",{"$error":"#N/A"}]
["",0,null,{"$f":"IF(ISNA(VLOOKUP($E$5&E175,$BR:$BS,2,FALSE)),\"\",VLOOKUP($E$5&E175,$BR:$BS,2,FALSE))","v":""},null,null,null,null,null,null,null,null,null,null,null,null,null,null,null,null,null,null,null,null,null,null,null,null,null,"","","","","","","","","","","","","","","","","",null,null,null,null,null,null,null,null,null,null,null,null,"","","",null,null,null,"",null,null,null,null,"R1CC&SH BASINGSTOKE","R1C45","C&SH BASINGSTOKE","R1C45","C&SH BASINGSTOKE","R1C",null,null,"QUEEN'S HOSPITAL","Sahara A",0,null,"Match:",{"$error":"#N/A"},"Countif:",{"$error":"#N/A"},"Concat Items:","$CA",":$CA",null,"Concat Final:",{"$error":"#N/A"}]
["",0,null,"",null,null,null,null,null,null,null,null,null,null,null,null,null,null,null,null,null,null,null,null,null,null,null,null,null,"","","","","","","","","","","","","","","","","",null,null,null,null,null,null,null,null,null,null,null,null,"","","",null,null,null,"",null,null,null,null,"R1CC&SH PORTSMOUTH","R1C17","C&SH PORTSMOUTH","R1C17","C&SH PORTSMOUTH","R1C",null,null,"QUEEN'S HOSPITAL","Sahara B",0,null,"Match:",{"$error":"#N/A"},"Countif:",{"$error":"#N/A"},"Concat Items:","$CA",":$CA",null,"Concat Final:",{"$error":"#N/A"}]
["",0,null,"",null,null,null,null,null,null,null,null,null,null,null,null,null,null,null,null,null,null,null,null,null,null,null,null,null,"","","","","","","","","","","","","","","","","",null,null,null,null,null,null,null,null,null,null,null,null,"","","",null,null,null,"",null,null,null,null,"R1CC&SH SOUTHAMPTON","R1C51","C&SH SOUTHAMPTON","R1C51","C&SH SOUTHAMPTON","R1C",null,null,"QUEEN'S HOSPITAL","SAU",0,null,"Match:",{"$error":"#N/A"},"Countif:",{"$error":"#N/A"},"Concat Items:","$CA",":$CA",null,"Concat Final:",{"$error":"#N/A"}]
["",0,null,"",null,null,null,null,null,null,null,null,null,null,null,null,null,null,null,null,null,null,null,null,null,null,null,null,null,"","","","","","","","","","","","","","","","","",null,null,null,null,null,null,null,null,null,null,null,null,"","","",null,null,null,"",null,null,null,null,"R1CC&SH WINCHESTER","R1C58","C&SH WINCHESTER","R1C58","C&SH WINCHESTER","R1C",null,null,"QUEEN'S HOSPITAL","SCBU",0,null,"Match:",{"$error":"#N/A"},"Countif:",{"$error":"#N/A"},"Concat Items:","$CA",":$CA",null,"Concat Final:",{"$error":"#N/A"}]
["",0,null,"",null,null,null,null,null,null,null,null,null,null,null,null,null,null,null,null,null,null,null,null,null,null,null,null,null,"","","","","","","","","","","","","","","","","",null,null,null,null,null,null,null,null,null,null,null,null,"","","",null,null,null,"",null,null,null,null,"R1CCAMPION PLACE","R1C90","CAMPION PLACE","R1C90","CAMPION PLACE","R1C",null,null,"QUEEN'S HOSPITAL","Sunrise A",0,null,"Match:",{"$error":"#N/A"},"Countif:",{"$error":"#N/A"},"Concat Items:","$CA",":$CA",null,"Concat Final:",{"$error":"#N/A"}]
["",0,null,"",null,null,null,null,null,null,null,null,null,null,null,null,null,null,null,null,null,null,null,null,null,null,null,null,null,"","","","","","","","","","","","","","","","","",null,null,null,null,null,null,null,null,null,null,null,null,"","","",null,null,null,"",null,null,null,null,"R1CCHASE COMMUNITY HOSPITAL","R1CG1","CHASE COMMUNITY HOSPITAL","R1CG1","CHASE COMMUNITY HOSPITAL","R1C",null,null,"QUEEN'S HOSPITAL","Sunrise B",0,null,"Match:",{"$error":"#N/A"},"Countif:",{"$error":"#N/A"},"Concat Items:","$CA",":$CA",null,"Concat Final:",{"$error":"#N/A"}]
["",0,null,"",null,null,null,null,null,null,null,null,null,null,null,null,null,null,null,null,null,null,null,null,null,null,null,null,null,"","","","","","","","","","","","","","","","","",null,null,null,null,null,null,null,null,null,null,null,null,"","","",null,null,null,"",null,null,null,null,"R1CCOMMUNITY PAEDIATRICS - EAST","R1C22","COMMUNITY PAEDIATRICS - EAST","R1C22","COMMUNITY PAEDIATRICS - EAST","R1C",null,null,"QUEEN'S HOSPITAL","Tropical Lagoon",0,null,"Match:",{"$error":"#N/A"},"Countif:",{"$error":"#N/A"},"Concat Items:","$CA",":$CA",null,"Concat Final:",{"$error":"#N/A"}]
["",0,null,"",null,null,null,null,null,null,null,null,null,null,null,null,null,null,null,null,null,null,null,null,null,null,null,null,null,"","","","","","","","","","","","","","","","","",null,null,null,null,null,null,null,null,null,null,null,null,"","","",null,null,null,"",null,null,null,null,"R1CCOMMUNITY PAEDIATRICS - WEST","R1C55","COMMUNITY PAEDIATRICS - WEST","R1C55","COMMUNITY PAEDIATRICS - WEST","R1C",null,null,"BARNET GENERAL HOSPITAL","Ken Porter",0,null,"Match:",{"$error":"#N/A"},"Countif:",{"$error":"#N/A"},"Concat Items:","$CA",":$CA",null,"Concat Final:",{"$error":"#N/A"}]
["",0,null,"",null,null,null,null,null,null,null,null,null,null,null,null,null,null,null,null,null,null,null,null,null,null,null,null,null,"","","","","","","","","","","","","","","","","",null,null,null,null,null,null,null,null,null,null,null,null,"","","",null,null,null,"",null,null,null,null,"R1CCOMMUNITY PAEDS N.FOREST","R1CA6","COMMUNITY PAEDS N.FOREST","R1CA6","COMMUNITY PAEDS N.FOREST","R1C",null,null,"CHASE FARM HOSPITAL","Blue Nile",0,null,"Match:",{"$error":"#N/A"},"Countif:",{"$error":"#N/A"},"Concat Items:","$CA",":$CA",null,"Concat Final:",{"$error":"#N/A"}]
["",0,null,"",null,null,null,null,null,null,null,null,null,null,null,null,null,null,null,null,null,null,null,null,null,null,null,null,null,"","","","","","","","","","","","","","","","","",null,null,null,null,null,null,null,null,null,null,null,null,"","","",null,null,null,"",null,null,null,null,"R1CCROWN HEIGHTS","R1CH3","CROWN HEIGHTS","R1CH3","CROWN HEIGHTS","R1C",null,null,"CHASE FARM HOSPITAL","Cape Town",0,null,"Match:",{"$error":"#N/A"},"Countif:",{"$error":"#N/A"},"Concat Items:","$CA",":$CA",null,"Concat Final:",{"$error":"#N/A"}]
["",0,null,"",null,null,null,null,null,null,null,null,null,null,null,null,null,null,null,null,null,null,null,null,null,null,null,null,null,"","","","","","","","","","","","","","","","","",null,null,null,null,null,null,null,null,null,null,null,null,"","","",null,null,null,"",null,null,null,null,"R1CEASTLEIGH DAS","R1CR3","EASTLEIGH DAS","R1CR3","EASTLEIGH DAS","R1C",null,null,"CHASE FARM HOSPITAL","Cardamom",0,null,"Match:",{"$error":"#N/A"},"Countif:",{"$error":"#N/A"},"Concat Items:","$CA",":$CA",null,"Concat Final:",{"$error":"#N/A"}]
["",0,null,"",null,null,null,null,null,null,null,null,null,null,null,null,null,null,null,null,null,null,null,null,null,null,null,null,null,"","","","","","","","","","","","","","","","","",null,null,null,null,null,null,null,null,null,null,null,null,"","","",null,null,null,"",null,null,null,null,"R1CELMLEIGH HOSPITAL","R1CM8","ELMLEIGH HOSPITAL","R1CM8","ELMLEIGH HOSPITAL","R1C",null,null,"CHASE FARM HOSPITAL","Complex Rehab Ward (formerly Somerset Villa)",0,null,"Match:",{"$error":"#N/A"},"Countif:",{"$error":"#N/A"},"Concat Items:","$CA",":$CA",null,"Concat Final:",{"$error":"#N/A"}]
["",0,null,"",null,null,null,null,null,null,null,null,null,null,null,null,null,null,null,null,null,null,null,null,null,null,null,null,null,"","","","","","","","","","","","","","","","","",null,null,null,null,null,null,null,null,null,null,null,null,"","","",null,null,null,"",null,null,null,null,"R1CFANSHAWE WARD","R1C49","FANSHAWE WARD","R1C49","FANSHAWE WARD","R1C",null,null,"CHASE FARM HOSPITAL","Cornwall Villa",0,null,"Match:",{"$error":"#N/A"},"Countif:",{"$error":"#N/A"},"Concat Items:","$CA",":$CA",null,"Concat Final:",{"$error":"#N/A"}]
["",0,null,"",null,null,null,null,null,null,null,null,null,null,null,null,null,null,null,null,null,null,null,null,null,null,null,null,null,"","","","","","","","","","","","","","","","","",null,null,null,null,null,null,null,null,null,null,null,null,"","","",null,null,null,"",null,null,null,null,"R1CFAREHAM COMMUNITY HOSPITAL","R1CF4","FAREHAM COMMUNITY HOSPITAL","R1CF4","FAREHAM COMMUNITY HOSPITAL","R1C",null,null,"CHASE FARM HOSPITAL","Derwent",0,null,"Match:",{"$error":"#N/A"},"Countif:",{"$error":"#N/A"},"Concat Items:","$CA",":$CA",null,"Concat Final:",{"$error":"#N/A"}]
["",0,null,"",null,null,null,null,null,null,null,null,null,null,null,null,null,null,null,null,null,null,null,null,null,null,null,null,null,"","","","","","","","","","","","","","","","","",null,null,null,null,null,null,null,null,null,null,null,null,"","","",null,null,null,"",null,null,null,null,"R1CFAREHAM REACH UNIT","R1C89","FAREHAM REACH UNIT","R1C89","FAREHAM REACH UNIT","R1C",null,null,"CHASE FARM HOSPITAL","Dorset",0,null,"Match:",{"$error":"#N/A"},"Countif:",{"$error":"#N/A"},"Concat Items:","$CA",":$CA",null,"Concat Final:",{"$error":"#N/A"}]
["",0,null,"",null,null,null,null,null,null,null,null,null,null,null,null,null,null,null,null,null,null,null,null,null,null,null,null,null,"","","","","","","","","","","","","","","","","",null,null,null,null,null,null,null,null,null,null,null,null,"","","",null,null,null,"",null,null,null,null,"R1CFENWICK HOSPITAL","R1CT7","FENWICK HOSPITAL","R1CT7","FENWICK HOSPITAL","R1C",null,null,"CHASE FARM HOSPITAL","Eden House",0,null,"Match:",{"$error":"#N/A"},"Countif:",{"$error":"#N/A"},"Concat Items:","$CA",":$CA",null,"Concat Final:",{"$error":"#N/A"}]
["",0,null,"",null,null,null,null,null,null,null,null,null,null,null,null,null,null,null,null,null,null,null,null,null,null,null,null,null,"","","","","","","","","","","","","","","","","",null,null,null,null,null,null,null,null,null,null,null,null,"","","",null,null,null,"",null,null,null,null,"R1CFLEET COMMUNITY HOSPITAL","R1CG3","FLEET COMMUNITY HOSPITAL","R1CG3","FLEET COMMUNITY HOSPITAL","R1C",null,null,"CHASE FARM HOSPITAL","Fennel",0,null,"Match:",{"$error":"#N/A"},"Countif:",{"$error":"#N/A"},"Concat Items:","$CA",":$CA",null,"Concat Final:",{"$error":"#N/A"}]
["",0,null,"",null,null,null,null,null,null,null,null,null,null,null,null,null,null,null,null,null,null,null,null,null,null,null,null,null,"","","","","","","","","","","","","","","","","",null,null,null,null,null,null,null,null,null,null,null,null,"","","",null,null,null,"",null,null,null,null,"R1CFRITH COTTAGE DAS","R1C09","FRITH COTTAGE DAS","R1C09","FRITH COTTAGE DAS","R1C",null,null,"CHASE FARM HOSPITAL","Juniper",0,null,"Match:",{"$error":"#N/A"},"Countif:",{"$error":"#N/A"},"Concat Items:","$CA",":$CA",null,"Concat Final:",{"$error":"#N/A"}]
["",0,null,"",null,null,null,null,null,null,null,null,null,null,null,null,null,null,null,null,null,null,null,null,null,null,null,null,null,"","","","","","","","","","","","","","","","","",null,null,null,null,null,null,null,null,null,null,null,null,"","","",null,null,null,"",null,null,null,null,{"$f":"CONCATENATE(LEFT(BS193, 3),BT193)","v":"R1CGOSPORT WAR MEMORIAL HOSPITAL"},"R1C70","GOSPORT WAR MEMORIAL HOSPITAL","R1C70","GOSPORT WAR MEMORIAL HOSPITAL","R1C",null,null,"CHASE FARM HOSPITAL","Mint",0,null,"Match:",{"$error":"#N/A"},"Countif:",{"$error":"#N/A"},"Concat Items:","$CA",":$CA",null,"Concat Final:",{"$error":"#N/A"}]
["",0,null,"",null,null,null,null,null,null,null,null,null,null,null,null,null,null,null,null,null,null,null,null,null,null,null,null,null,"","","","","","","","","","","","","","","","","",null,null,null,null,null,null,null,null,null,null,null,null,"","","",null,null,null,"",null,null,null,null,"R1CHAVANT WAR MEMORIAL HOSPITAL","R1CJ2","HAVANT WAR MEMORIAL HOSPITAL","R1CJ2","HAVANT WAR MEMORIAL HOSPITAL","R1C",null,null,"CHASE FARM HOSPITAL","Moselle House",0,null,"Match:",{"$error":"#N/A"},"Countif:",{"$error":"#N/A"},"Concat Items:","$CA",":$CA",null,"Concat Final:",{"$error":"#N/A"}]
["",0,null,"",null,null,null,null,null,null,null,null,null,null,null,null,null,null,null,null,null,null,null,null,null,null,null,null,null,"","","","","","","","","","","","","","","","","",null,null,null,null,null,null,null,null,null,null,null,null,"","","",null,null,null,"",null,null,null,null,"R1CHOOK SHADIE AT THE BASE","R1CE8","HOOK SHADIE AT THE BASE","R1CE8","HOOK SHADIE AT THE BASE","R1C",null,null,"CHASE FARM HOSPITAL","Paprika",0,null,"Match:",{"$error":"#N/A"},"Countif:",{"$error":"#N/A"},"Concat Items:","$CA",":$CA",null,"Concat Final:",{"$error":"#N/A"}]
["",0,null,"",null,null,null,null,null,null,null,null,null,null,null,null,null,null,null,null,null,null,null,null,null,null,null,null,null,"","","","","","","","","","","","","","","","","",null,null,null,null,null,null,null,null,null,null,null,null,"","","",null,null,null,"",null,null,null,null,"R1CHUNTERCOMBE MANOR HOSPITAL","R1CA9","HUNTERCOMBE MANOR HOSPITAL","R1CA9","HUNTERCOMBE MANOR HOSPITAL","R1C",null,null,"CHASE FARM HOSPITAL","Sage",0,null,"Match:",{"$error":"#N/A"},"Countif:",{"$error":"#N/A"},"Concat Items:","$CA",":$CA",null,"Concat Final:",{"$error":"#N/A"}]
["",0,null,"",null,null,null,null,null,null,null,null,null,null,null,null,null,null,null,null,null,null,null,null,null,null,null,null,null,"","","","","","","","","","","","","","","","","",null,null,null,null,null,null,null,null,null,null,null,null,"","","",null,null,null,"",null,null,null,null,"R1CHYTHE HOSPITAL","R1CG7","HYTHE HOSPITAL","R1CG7","HYTHE HOSPITAL",{"$f":"LEFT(BU197,3)","v":"R1C"},null,null,"CHASE FARM HOSPITAL","Severn",0,null,"Match:",{"$error":"#N/A"},"Countif:",{"$error":"#N/A"},"Concat Items:","$CA",":$CA",null,"Concat Final:",{"$error":"#N/A"}]
["",0,null,"",null,null,null,null,null,null,null,null,null,null,null,null,null,null,null,null,null,null,null,null,null,null,null,null,null,"","","","","","","","","","","","","","","","","",null,null,null,null,null,null,null,null,null,null,null,null,"","","",null,null,null,"",null,null,null,null,"R1CINSCAPE","R1C95","INSCAPE","R1C95","INSCAPE","R1C",null,null,"CHASE FARM HOSPITAL","Silver Birches",0,null,"Match:",{"$error":"#N/A"},"Countif:",{"$error":"#N/A"},"Concat Items:","$CA",":$CA",null,"Concat Final:",{"$error":"#N/A"}]
["",0,null,"",null,null,null,null,null,null,null,null,null,null,null,null,null,null,null,null,null,null,null,null,null,null,null,null,null,"","","","","","","","","","","","","","","","","",null,null,null,null,null,null,null,null,null,null,null,null,"","","",null,null,null,"",null,null,null,null,"R1CINTEGRATED DRUG TREATMENT","R1C59","INTEGRATED DRUG TREATMENT","R1C59","INTEGRATED DRUG TREATMENT","R1C",null,null,"CHASE FARM HOSPITAL","Suffolk Ward",0,null,"Match:",{"$error":"#N/A"},"Countif:",{"$error":"#N/A"},"Concat Items:","$CA",":$CA",null,"Concat Final:",{"$error":"#N/A"}]
["",0,null,"",null,null,null,null,null,null,null,null,null,null,null,null,null,null,null,null,null,null,null,null,null,null,null,null,null,"","","","","","","","","","","","","","","","","",null,null,null,null,null,null,null,null,null,null,null,null,"","","",null,null,null,"",null,null,null,null,"R1CJUBILEE HOUSE","R1CF5","JUBILEE HOUSE","R1CF5","JUBILEE HOUSE","R1C",null,null,"CHASE FARM HOSPITAL","Sussex",0,null,"Match:",{"$error":"#N/A"},"Countif:",{"$error":"#N/A"},"Concat Items:","$CA",":$CA",null,"Concat Final:",{"$error":"#N/A"}]
["",0,null,"",null,null,null,null,null,null,null,null,null,null,null,null,null,null,null,null,null,null,null,null,null,null,null,null,null,"","","","","","","","","","","","","","","","","",null,null,null,null,null,null,null,null,null,null,null,null,"","","",null,null,null,"",null,null,null,null,"R1CLOWER MOUNTBATTON GALLERY","R1C12","LOWER MOUNTBATTON GALLERY","R1C12","LOWER MOUNTBATTON GALLERY","R1C",null,null,"CHASE FARM HOSPITAL","Tamarind",0,null,"Match:",{"$error":"#N/A"},"Countif:",{"$error":"#N/A"},"Concat Items:","$CA",":$CA",null,"Concat Final:",{"$error":"#N/A"}]
["",0,null,"",null,null,null,null,null,null,null,null,null,null,null,null,null,null,null,null,null,null,null,null,null,null,null,null,null,"","","","","","","","","","","","","","","","","",null,null,null,null,null,null,null,null,null,null,null,null,"","","",null,null,null,"",null,null,null,null,"R1CLYMINGTON NEW FOREST HOSPITAL","R1CG4","LYMINGTON NEW FOREST HOSPITAL","R1CG4","LYMINGTON NEW FOREST HOSPITAL","R1C",null,null,"CHASE FARM HOSPITAL","The Oaks",0,null,"Match:",{"$error":"#N/A"},"Countif:",{"$error":"#N/A"},"Concat Items:","$CA",":$CA",null,"Concat Final:",{"$error":"#N/A"}]
["",0,null,"",null,null,null,null,null,null,null,null,null,null,null,null,null,null,null,null,null,null,null,null,null,null,null,null,null,"","","","","","","","","","","","","","","","","",null,null,null,null,null,null,null,null,null,null,null,null,"","","",null,null,null,"",null,null,null,null,"R1CMILFORD WAR MEMORIAL HOSPITAL","R1CG5","MILFORD WAR MEMORIAL HOSPITAL","R1CG5","MILFORD WAR MEMORIAL HOSPITAL","R1C",null,null,"EDGWARE COMMUNITY HOSPITAL","Beacon Centre",0,null,"Match:",{"$error":"#N/A"},"Countif:",{"$error":"#N/A"},"Concat Items:","$CA",":$CA",null,"Concat Final:",{"$error":"#N/A"}]
["",0,null,"",null,null,null,null,null,null,null,null,null,null,null,null,null,null,null,null,null,null,null,null,null,null,null,null,null,"","","","","","","","","","","","","","","","","",null,null,null,null,null,null,null,null,null,null,null,null,"","","",null,null,null,"",null,null,null,null,"R1CMINOR INJURIES UNIT","R1CH0","MINOR INJURIES UNIT","R1CH0","MINOR INJURIES UNIT","R1C",null,null,"EDGWARE COMMUNITY HOSPITAL","Devon Ward (formerly Avon)",0,null,"Match:",{"$error":"#N/A"},"Countif:",{"$error":"#N/A"},"Concat Items:","$CA",":$CA",null,"Concat Final:",{"$error":"#N/A"}]
["",0,null,"",null,null,null,null,null,null,null,null,null,null,null,null,null,null,null,null,null,null,null,null,null,null,null,null,null,"","","","","","","","","","","","","","","","","",null,null,null,null,null,null,null,null,null,null,null,null,"","","",null,null,null,"",null,null,null,null,"R1CMOORGREEN HOSPITAL","R1C02","MOORGREEN HOSPITAL","R1C02","MOORGREEN HOSPITAL","R1C",null,null,"EDGWARE COMMUNITY HOSPITAL","Thames Ward",0,null,"Match:",{"$error":"#N/A"},"Countif:",{"$error":"#N/A"},"Concat Items:","$CA",":$CA",null,"Concat Final:",{"$error":"#N/A"}]
["",{"$f":"IF(SUM(E407:G407,Q407:R407)>0,1,IF(AU407>0,2,0))","v":0},null,"",null,null,null,null,null,null,null,null,null,null,null,null,null,null,null,null,null,null,null,null,null,null,null,null,null,"","","","","","","","","","","","","","","","","",null,null,null,null,null,null,null,null,null,null,null,null,"","","",null,null,null,"",null,null,null,null,"R1CNEW FOREST DAS","R1C65","NEW FOREST DAS","R1C65","NEW FOREST DAS","R1C",null,null,"EDGWARE COMMUNITY HOSPITAL","Trent Ward",0,null,"Match:",{"$error":"#N/A"},"Countif:",{"$error":"#N/A"},"Concat Items:","$CA",":$CA",null,"Concat Final:",{"$error":"#N/A"}]
["",0,null,{"$f":"IF(ISNA(VLOOKUP($E$5&E207,$BR:$BS,2,FALSE)),\"\",VLOOKUP($E$5&E207,$BR:$BS,2,FALSE))","v":""},null,null,null,null,null,null,null,null,null,null,null,null,null,null,null,null,null,null,null,null,null,null,null,null,null,{"$f":"IF(ISERROR(IF($AC207=\"\",\"\",SUM(J207,R207)/$AC207)),\"-\",(IF($AC207=\"\",\"\",SUM(J207,R207)/$AC207)))","v":""},{"$f":"IF(ISERROR(IF($AC207=\"\",\"\",SUM(L207,T207)/$AC207)),\"-\",(IF($AC207=\"\",\"\",SUM(L207,T207)/$AC207)))","v":""},{"$f":"IF(ISERROR(IF($AC207=\"\",\"\",SUM(N207,V207)/$AC207)),\"-\",(IF($AC207=\"\",\"\",SUM(N207,V207)/$AC207)))","v":""},{"$f":"IF(ISERROR(IF($AC207=\"\",\"\",SUM(P207,X207)/$AC207)),\"-\",(IF($AC207=\"\",\"\",SUM(P207,X207)/$AC207)))","v":""},{"$f":"IF(ISERROR(IF($AC207=\"\",\"\",Z207/$AC207)),\"-\",(IF($AC207=\"\",\"\",Z207/$AC207)))","v":""},{"$f":"IF(ISERROR(IF($AC207=\"\",\"\",AB207/$AC207)),\"-\",(IF($AC207=\"\",\"\",AB207/$AC207)))","v":""},{"$f":"IF(ISERROR(IF($AC207=\"\",\"\",SUM(J207,L207,R207,T207,Z207,AB207,X207,P207,V207,N207)/$AC207)),\"-\",(IF($AC207=\"\",\"\",SUM(J207,L207,R207,T207,Z207,AB207,X207,P207,V207,N207)/$AC207)))","v":""},{"$f":"IF(ISERROR(IF($I207=\"\",\"\",J207/I207)),\"-\",(IF($I207=\"\",\"\",J207/I207)))","v":""},{"$f":"IF(ISERROR(IF(K207=\"\",\"\",L207/K207)),\"-\",(IF(K207=\"\",\"\",L207/K207)))","v":""},{"$f":"IF(ISERROR(IF(M207=\"\",\"\",N207/M207)),\"-\",(IF(M207=\"\",\"\",N207/M207)))","v":""},{"$f":"IF(ISERROR(IF(O207=\"\",\"\",P207/O207)),\"-\",(IF(O207=\"\",\"\",P207/O207)))","v":""},{"$f":"IF(ISERROR(IF(Q207=\"\",\"\",R207/Q207)),\"-\",(IF(Q207=\"\",\"\",R207/Q207)))","v":""},{"$f":"IF(ISERROR(IF(S207=\"\",\"\",T207/S207)),\"-\",IF(S207=\"\",\"\",T207/S207))","v":""},{"$f":"IF(ISERROR(IF(U207=\"\",\"\",V207/U207)),\"-\",IF(U207=\"\",\"\",V207/U207))","v":""},{"$f":"IF(ISERROR(IF(W207=\"\",\"\",X207/W207)),\"-\",IF(W207=\"\",\"\",X207/W207))","v":""},{"$f":"IF(ISERROR(IF(Y207=\"\",\"\",Z207/Y207)),\"-\",IF(Y207=\"\",\"\",Z207/Y207))","v":""},{"$f":"IF(ISERROR(IF(AA207=\"\",\"\",AB207/AA207)),\"-\",IF(AA207=\"\",\"\",AB207/AA207))","v":""},null,null,null,null,null,null,null,null,null,null,null,null,{"$f":"IF(Q408=1,\"No Site Selected\",\"\")","v":""},{"$f":"IF(R408=1,\"No Ward Name\",\"\")","v":""},{"$f":"IF(ISNUMBER((IFERROR(FIND(CHAR(10),F207),\"\")))=TRUE,1,\"\")","v":""},null,null,null,{"$f":"IF(C408=1,\"Incorrect Ward Name\",\"\")","v":""},null,null,null,null,"R1CNO LIMITS","R1CG6","NO LIMITS","R1CG6","NO LIMITS","R1C",null,null,"ST ANN'S HOSPITAL","Fairlands (Downhills)",{"$f":"$E207","v":0},null,"Match:",{"$f":"MATCH($CB207,$BZ$1:$BZ$6663,0)","v":{"$error":"#N/A"}},"Countif:",{"$f":"SUM(COUNTIF($BZ$1:$BZ$6663,$CB207)+$CE207-1)","v":{"$error":"#N/A"}},"Concat Items:","$CA",":$CA",null,"Concat Final:",{"$f":"CONCATENATE($CI207,$CE207,$CJ207,$CG207)","v":{"$error":"#N/A"}}]
["",0,null,"",null,null,null,null,null,null,null,null,null,null,null,null,null,null,null,null,null,null,null,null,null,null,null,null,null,"","","","","","","","","","","","","","","","","",null,null,null,null,null,null,null,null,null,null,null,null,"","","",null,null,null,"",null,null,null,null,"R1CNO LIMITS - SHIRLEY","R1CL2","NO LIMITS - SHIRLEY","R1CL2","NO LIMITS - SHIRLEY","R1C",null,null,"ST ANN'S HOSPITAL","Finsbury",0,null,"Match:",{"$error":"#N/A"},"Countif:",{"$error":"#N/A"},"Concat Items:","$CA",":$CA",null,"Concat Final:",{"$error":"#N/A"}]
[{"$f":"IF(Q410=1,\"No Site Selected\",IF(R410=1,\"No Ward Name\",\"\"))","v":""},0,null,"",null,null,null,null,null,null,null,null,null,null,null,null,null,null,null,null,null,null,null,null,null,null,null,null,null,"","","","","","","","","","","","","","","","","",null,null,null,null,null,null,null,null,null,null,null,null,"","","",null,null,null,"",null,null,null,null,"R1CNO LIMITS - SHOLING","R1CL3","NO LIMITS - SHOLING","R1CL3","NO LIMITS - SHOLING","R1C",null,null,"ST ANN'S HOSPITAL","Haringey Ward",0,null,"Match:",{"$error":"#N/A"},"Countif:",{"$error":"#N/A"},"Concat Items:","$CA",":$CA",null,"Concat Final:",{"$error":"#N/A"}]
[{"$f":"IF(Q411=1,\"No Site Selected\",IF(R411=1,\"No Ward Name\",\"\"))","v":""},0,null,"",null,null,null,null,null,null,null,null,null,null,null,null,null,null,null,null,null,null,null,null,null,null,null,null,null,"","","","","","","","","","","","","","","","","",null,null,null,null,null,null,null,null,null,null,null,null,"","","",null,null,null,"",null,null,null,null,"R1COAKRIDGE HALL FOR ALL","R1CL5","OAKRIDGE HALL FOR ALL","R1CL5","OAKRIDGE HALL FOR ALL","R1C",null,null,"ST ANN'S HOSPITAL","Pheonix",0,null,"Match:",{"$error":"#N/A"},"Countif:",{"$error":"#N/A"},"Concat Items:","$CA",":$CA",null,"Concat Final:",{"$error":"#N/A"}]
[{"$f":"IF(Q412=1,\"No Site Selected\",IF(R412=1,\"No Ward Name\",\"\"))","v":""},0,null,"",null,null,null,null,null,null,null,null,null,null,null,null,null,null,null,null,null,null,null,null,null,null,null,null,null,"","","","","","","","","","","","","","","","","",null,null,null,null,null,null,null,null,null,null,null,null,"","","",null,null,null,"",null,null,null,null,"R1COLDER PERS MENTAL HEALTH","R1C26","OLDER PERS MENTAL HEALTH","R1C26","OLDER PERS MENTAL HEALTH","R1C",null,null,"ST MICHAEL'S HOSPITAL","Magnolia",0,null,"Match:",{"$error":"#N/A"},"Countif:",{"$error":"#N/A"},"Concat Items:","$CA",":$CA",null,"Concat Final:",{"$error":"#N/A"}]
[{"$f":"IF(Q413=1,\"No Site Selected\",IF(R413=1,\"No Ward Name\",\"\"))","v":""},0,null,"",null,null,null,null,null,null,null,null,null,null,null,null,null,null,null,null,null,null,null,null,null,null,null,null,null,"","","","","","","","","","","","","","","","","",null,null,null,null,null,null,null,null,null,null,null,null,"","","",null,null,null,"",null,null,null,null,"R1CPETERSFIELD HOSPITAL","R1CD8","PETERSFIELD HOSPITAL","R1CD8","PETERSFIELD HOSPITAL","R1C",null,null,"BARNSLEY HOSPITAL NHS FOUNDATION TRUST HQ","AMU",0,null,"Match:",{"$error":"#N/A"},"Countif:",{"$error":"#N/A"},"Concat Items:","$CA",":$CA",null,"Concat Final:",{"$error":"#N/A"}]
[{"$f":"IF(Q414=1,\"No Site Selected\",IF(R414=1,\"No Ward Name\",\"\"))","v":""},0,null,"",null,null,null,null,null,null,null,null,null,null,null,null,null,null,null,null,null,null,null,null,null,null,null,null,null,"","","","","","","","","","","","","","","","","",null,null,null,null,null,null,null,null,null,null,null,null,"","","",null,null,null,"",null,null,null,null,"R1CPICKLES COPPICE","R1C44","PICKLES COPPICE","R1C44","PICKLES COPPICE","R1C",null,null,"BARNSLEY HOSPITAL NHS FOUNDATION TRUST HQ","AN/PN",0,null,"Match:",{"$error":"#N/A"},"Countif:",{"$error":"#N/A"},"Concat Items:","$CA",":$CA",null,"Concat Final:",{"$error":"#N/A"}]
[null,null,null,null,null,"Total",null,null,{"$f":"SUM(I14:I213)","v":44033.366666666669},42797.703333333338,37136.25,35375.040000000001,0,833.5,0,877.08,42314.583333333328,42799.833333333336,27827.75,{"$f":"SUM(T14:T213)","v":31155.166666666668},{"$f":"SUM(U14:U213)","v":0},115,0,391,{"$f":"SUM(Y14:Y213)","v":0},{"$f":"SUM(Z14:Z213)","v":0},0,0,{"$f":"SUM(AC14:AC213)","v":20325},null,null,{"$f":"IF(ISERROR(IF($AC214=\"\",\"\",V214/$AC214)),\"-\",(IF($AC214=\"\",\"\",V214/$AC214)))","v":5.6580565805658053E-3},{"$f":"IF(ISERROR(IF($AC214=\"\",\"\",X214/$AC214)),\"-\",(IF($AC214=\"\",\"\",X214/$AC214)))","v":1.9237392373923738E-2},{"$f":"IF(ISERROR(IF($AC214=\"\",\"\",Z214/$AC214)),\"-\",(IF($AC214=\"\",\"\",Z214/$AC214)))","v":0},{"$f":"IF(ISERROR(IF($AC214=\"\",\"\",AB214/$AC214)),\"-\",(IF($AC214=\"\",\"\",AB214/$AC214)))","v":0},{"$f":"IF(ISERROR(IF($AC214=\"\",\"\",SUM(J214,L214,N214,P214,R214,T214,V214,X214,Z214,AB214)/$AC214)),\"-\",(IF($AC214=\"\",\"\",SUM(J214,L214,N214,P214,R214,T214,V214,X214,Z214,AB214)/$AC214)))","v":7.593816646166462},{"$f":"IF(ISERROR(IF($I214=\"\",\"\",J214/I214)),\"-\",(IF($I214=\"\",\"\",J214/I214)))","v":0.97193802275698515},{"$f":"IF(ISERROR(IF(K214=\"\",\"\",L214/K214)),\"-\",(IF(K214=\"\",\"\",L214/K214)))","v":0.95257437140260526},{"$f":"IF(ISERROR(IF($M214=\"\",\"\",N214/M214)),\"-\",(IF($M214=\"\",\"\",N214/M214)))","v":"-"},{"$f":"IF(ISERROR(IF($O214=\"\",\"\",P214/O214)),\"-\",(IF($O214=\"\",\"\",P214/O214)))","v":"-"},{"$f":"IF(ISERROR(IF(Q214=\"\",\"\",R214/Q214)),\"-\",(IF(Q214=\"\",\"\",R214/Q214)))","v":1.0114676776131162},{"$f":"IF(ISERROR(IF(S214=\"\",\"\",T214/S214)),\"-\",IF(S214=\"\",\"\",T214/S214))","v":1.119571890169585},{"$f":"IF(ISERROR(IF($U214=\"\",\"\",V214/U214)),\"-\",(IF($U214=\"\",\"\",V214/U214)))","v":"-"},{"$f":"IF(ISERROR(IF($W214=\"\",\"\",X214/W214)),\"-\",(IF($W214=\"\",\"\",X214/W214)))","v":"-"},{"$f":"IF(ISERROR(IF(Y214=\"\",\"\",Z214/Y214)),\"-\",IF(Y214=\"\",\"\",Z214/Y214))","v":"-"},{"$f":"IF(ISERROR(IF(AA214=\"\",\"\",AB214/AA214)),\"-\",IF(AA214=\"\",\"\",AB214/AA214))","v":"-"},null,null,null,null,null,null,null,null,null,null,null,null,{"$f":"COUNTIF(BG14:BG213,\"No Site Selected\")","v":0},{"$f":"COUNTIF(BH14:BH213,\"No Ward Name\")","v":0},{"$f":"SUM(BI14:BI213)","v":0},null,null,null,{"$f":"COUNTIF(BM14:BM213,\"Incorrect Ward Name\")","v":1},null,null,null,null,"R1CPRINCESS ANNE HOSPITAL","R1C36","PRINCESS ANNE HOSPITAL","R1C36","PRINCESS ANNE HOSPITAL","R1C",null,null,"BARNSLEY HOSPITAL NHS FOUNDATION TRUST HQ","Birthing Centre"]
[{"$f":"VLOOKUP($D14,$BS:$BS,1,0)","v":"RWG02"},{"$f":"VLOOKUP($E14,$BT:$BT,1,0)","v":"WATFORD GENERAL HOSPITAL"},{"$f":"IF(F14=\"\",0,IF(ISERROR(VLOOKUP(CONCATENATE(D14,\"-\",F14),Wards!$A:$A,1,FALSE)),1,0))","v":0},{"$f":"IF(D14=\"\",0,IF(ISERROR(VLOOKUP(D14,$BS$3:$BS$250,1,0)),0,IF(VLOOKUP(D14,$BS$3:$BW$250,5,0)=$B$8,0,1)))","v":0},{"$f":"IF(E14=\"\",0,IF(G14=\"\",1,0))","v":0},{"$f":"IF(E14=\"\",\"\",IF(SUM(I14,K14,Q14,S14,M14,O14,U14,W14,Y14,AA14)=0,1,0))","v":0},{"$f":"IF(E14=\"\",\"\",IF(SUM(J14,L14,R14,T14,N14,P14,V14,X14,Z14,AB14)=0,1,0))","v":0},{"$f":"IF(E14=\"\",0,IF(SUM(I14:T14)<1448,1,0))","v":0},{"$f":"IF(E14=\"\",0,IF((J14+L14+R14+T14)>30000,1,0))","v":0},{"$f":"IF(G14=\"\",0,IF(ISERROR(VLOOKUP(G14,$AV$14:$AV$98,1,FALSE)),1,0))","v":0},{"$f":"IF(H14=\"\",0,IF(ISERROR(VLOOKUP(H14,$AV$14:$AV$98,1,FALSE)),1,0))","v":0},{"$f":"IF(E14=\"\",0,IF(D14=\"\",1,0))","v":0},null,null,null,null,{"$f":"IF(OR(I14<>\"\",K14<>\"\",J14<>\"\",L14<>\"\",Q14<>\"\",R14<>\"\",S14<>\"\",T14<>\"\",F14<>\"\",G14<>\"\",H14<>\"\",M14<>\"\",N14<>\"\",O14<>\"\",P14<>\"\",U14<>\"\",V14<>\"\",W14<>\"\",X14<>\"\",Y14<>\"\",Z14<>\"\",AA14<>\"\",AB14<>\"\",#REF!<>\"\"),IF(E14=\"\",1,0),0)","v":{"$error":"#REF!"}},{"$f":"IF(E14=\"\",0,IF(F14=\"\",1,0))","v":0},null,null,null,null,null,null,null,null,null,null,{"$f":"IF(AND(SUM(N14,P14,V14,J14,L14,R14,T14,X14,Z14,AB14)>0,#REF!=0),1,0)","v":{"$error":"#REF!"}},null,null,null,null,null,null,null,{"$f":"IF(AK14=\"\",0,IF(AK14>100%,1,0))","v":0},{"$f":"IF(AL14=\"\",0,IF(AL14>100%,1,0))","v":1},1,1,0,{"$f":"IF(AP14=\"\",0,IF(AP14>100%,1,0))","v":1},{"$f":"IF(AQ14=\"\",0,IF(AQ14>100%,1,0))","v":1},1,{"$f":"IF(AS14=\"\",0,IF(AS14>100%,1,0))","v":0},0,{"$f":"SUM(H215:AT215)","v":{"$error":"#REF!"}},null,null,null,null,null,null,null,null,null,null,null,null,null,null,null,null,null,null,null,null,null,null,"R1CQUEEN ALEXANDRA HOSPITAL","R1CJ7","QUEEN ALEXANDRA HOSPITAL","R1CJ7","QUEEN ALEXANDRA HOSPITAL","R1C",null,null,"BARNSLEY HOSPITAL NHS FOUNDATION TRUST HQ","CCU"]
["RWG02","WATFORD GENERAL HOSPITAL",{"$f":"IF(F15=\"\",0,IF(ISERROR(VLOOKUP(CONCATENATE(D15,\"-\",F15),Wards!$A:$A,1,FALSE)),1,0))","v":0},0,{"$f":"IF(E15=\"\",0,IF(G15=\"\",1,0))","v":0},{"$f":"IF(E15=\"\",\"\",IF(SUM(I15,K15,Q15,S15,M15,O15,U15,W15,Y15,AA15)=0,1,0))","v":0},{"$f":"IF(E15=\"\",\"\",IF(SUM(J15,L15,R15,T15,N15,P15,V15,X15,Z15,AB15)=0,1,0))","v":0},{"$f":"IF(E15=\"\",0,IF(SUM(I15:T15)<1448,1,0))","v":0},{"$f":"IF(E15=\"\",0,IF((J15+L15+R15+T15)>30000,1,0))","v":0},0,0,{"$f":"IF(E15=\"\",0,IF(D15=\"\",1,0))","v":0},{"$f":"IF(F15=\"\",0,IF(E15=\"\",1,0))","v":0},{"$f":"IF(G15=\"\",0,IF(F15=\"\",1,0))","v":0},{"$f":"IF(H15=\"\",0,IF(G15=\"\",1,0))","v":0},{"$f":"IF(I15=\"\",0,IF(H15=\"\",1,0))","v":1},{"$f":"IF(OR(I15<>\"\",K15<>\"\",J15<>\"\",L15<>\"\",Q15<>\"\",R15<>\"\",S15<>\"\",T15<>\"\",F15<>\"\",G15<>\"\",H15<>\"\",M15<>\"\",N15<>\"\",O15<>\"\",P15<>\"\",U15<>\"\",V15<>\"\",W15<>\"\",X15<>\"\",Y15<>\"\",Z15<>\"\",AA15<>\"\",AB15<>\"\",AC15<>\"\"),IF(E15=\"\",1,0),0)","v":0},{"$f":"IF(E15=\"\",0,IF(F15=\"\",1,0))","v":0},null,null,null,null,null,null,null,null,null,null,{"$f":"IF(AND(SUM(N15,P15,V15,J15,L15,R15,T15,X15,Z15,AB15)>0,AC15=0),1,0)","v":0},null,null,null,null,null,null,null,0,0,{"$f":"IF(AM15=\"\",0,IF(AM15>100%,1,0))","v":1},1,1,0,1,1,{"$f":"IF(AS15=\"\",0,IF(AS15>100%,1,0))","v":0},0,{"$f":"SUM(H216:AT216)","v":6},null,null,null,{"$f":"IF(AK14=\"\",0, IF(AK14=\"-\",0,IF(AK14>100%,1,0)))","v":0},null,{"$f":"IF(AL14=\"\",0, IF(AL14=\"-\",0,IF(AL14>100%,1,0)))","v":1},{"$f":"IF(AO14=\"\",0, IF(AO14=\"-\",0,IF(AO14>100%,1,0)))","v":0},{"$f":"IF(AP14=\"\",0, IF(AP14=\"-\",0,IF(AP14>100%,1,0)))","v":1},null,null,null,{"$f":"CONCATENATE(D14,E14,F14)","v":"RWG02WATFORD GENERAL HOSPITALAAU Blue Level 1"},{"$f":"IF(BG216=\"\",\"\",(IF(COUNTIF($BG$216:$BG$414,BG216)>1,1,0))=1)","v":false},{"$f":"IF(BH216=TRUE,1,0)","v":0},{"$f":"IF(E14=\"\",(COUNTA(E15)=1),\"Complete\")","v":"Complete"},{"$f":"IF(BJ216=\"Complete\",0, IF(BJ216=TRUE, 1, IF(BJ216=FALSE,0,0)))","v":0},{"$f":"IF(G14=\"\",0,IF(G14=H14,1,0))","v":0},null,null,null,null,null,"R1CROMSEY HOSPITAL","R1C46","ROMSEY HOSPITAL","R1C46","ROMSEY HOSPITAL","R1C",null,null,"BARNSLEY HOSPITAL NHS FOUNDATION TRUST HQ","Gynae Inpatient Ward"]
["RWG02","WATFORD GENERAL HOSPITAL",{"$f":"IF(F16=\"\",0,IF(ISERROR(VLOOKUP(CONCATENATE(D16,\"-\",F16),Wards!$A:$A,1,FALSE)),1,0))","v":0},0,0,0,0,0,0,0,0,{"$f":"IF(E16=\"\",0,IF(D16=\"\",1,0))","v":0},0,0,0,1,0,0,null,null,null,null,null,null,null,null,null,null,0,null,null,null,null,null,null,null,0,0,{"$f":"IF(AM16=\"\",0,IF(AM16>100%,1,0))","v":1},1,0,1,1,1,{"$f":"IF(AS16=\"\",0,IF(AS16>100%,1,0))","v":0},0,6,null,null,null,0,null,{"$f":"IF(AL15=\"\",0, IF(AL15=\"-\",0,IF(AL15>100%,1,0)))","v":0},{"$f":"IF(AO15=\"\",0, IF(AO15=\"-\",0,IF(AO15>100%,1,0)))","v":1},{"$f":"IF(AP15=\"\",0, IF(AP15=\"-\",0,IF(AP15>100%,1,0)))","v":0},null,null,null,{"$f":"CONCATENATE(D15,E15,F15)","v":"RWG02WATFORD GENERAL HOSPITALAAU Green Level 1"},false,{"$f":"IF(BH217=TRUE,1,0)","v":0},"Complete",{"$f":"IF(BJ217=\"Complete\",0, IF(BJ217=TRUE, 1, IF(BJ217=FALSE,0,0)))","v":0},{"$f":"IF(G15=\"\",0,IF(G15=H15,1,0))","v":0},null,null,null,null,null,"R1CSAINSBURYS","R1CV7","SAINSBURYS","R1CV7","SAINSBURYS","R1C",null,null,"BARNSLEY HOSPITAL NHS FOUNDATION TRUST HQ","ITU"]
["RWG02","WATFORD GENERAL HOSPITAL",{"$f":"IF(F17=\"\",0,IF(ISERROR(VLOOKUP(CONCATENATE(D17,\"-\",F17),Wards!$A:$A,1,FALSE)),1,0))","v":0},0,{"$f":"IF(E17=\"\",0,IF(G17=\"\",1,0))","v":0},0,0,0,0,0,0,{"$f":"IF(E17=\"\",0,IF(D17=\"\",1,0))","v":0},0,0,0,1,0,0,null,null,null,null,null,null,null,null,null,null,0,null,null,null,null,null,null,null,0,1,{"$f":"IF(AM17=\"\",0,IF(AM17>100%,1,0))","v":1},1,1,1,1,1,{"$f":"IF(AS17=\"\",0,IF(AS17>100%,1,0))","v":0},0,8,null,null,null,0,null,0,0,1,null,null,null,{"$f":"CONCATENATE(D16,E16,F16)","v":"RWG02WATFORD GENERAL HOSPITALAAU Yellow Level 1"},false,0,"Complete",0,0,null,null,null,null,null,"R1CSNOWDON NEURO REHAB UNIT","R1C52","SNOWDON NEURO REHAB UNIT","R1C52","SNOWDON NEURO REHAB UNIT","R1C",null,null,"BARNSLEY HOSPITAL NHS FOUNDATION TRUST HQ","SHDU"]
["RWG02","WATFORD GENERAL HOSPITAL",{"$f":"IF(F18=\"\",0,IF(ISERROR(VLOOKUP(CONCATENATE(D18,\"-\",F18),Wards!$A:$A,1,FALSE)),1,0))","v":0},0,0,0,0,0,0,0,0,{"$f":"IF(E18=\"\",0,IF(D18=\"\",1,0))","v":0},0,0,0,1,0,0,null,null,null,null,null,null,null,null,null,null,0,null,null,null,null,null,null,null,0,1,{"$f":"IF(AM18=\"\",0,IF(AM18>100%,1,0))","v":1},1,0,1,1,1,{"$f":"IF(AS18=\"\",0,IF(AS18>100%,1,0))","v":0},0,7,null,null,null,0,null,1,1,1,null,null,null,{"$f":"CONCATENATE(D17,E17,F17)","v":"RWG02WATFORD GENERAL HOSPITALAAU Purple Level 1"},false,0,"Complete",0,{"$f":"IF(G17=\"\",0,IF(G17=H17,1,0))","v":0},null,null,null,null,null,"R1CSOUTHAMPTON GENERAL HOSPITAL","R1C40","SOUTHAMPTON GENERAL HOSPITAL","R1C40","SOUTHAMPTON GENERAL HOSPITAL","R1C",null,null,"BARNSLEY HOSPITAL NHS FOUNDATION TRUST HQ","Ward 15 NNU"]
["RWG02","WATFORD GENERAL HOSPITAL",{"$f":"IF(F19=\"\",0,IF(ISERROR(VLOOKUP(CONCATENATE(D19,\"-\",F19),Wards!$A:$A,1,FALSE)),1,0))","v":0},0,0,0,0,0,0,0,0,0,0,0,0,1,0,0,null,null,null,null,null,null,null,null,null,null,0,null,null,null,null,null,null,null,1,0,{"$f":"IF(AM19=\"\",0,IF(AM19>100%,1,0))","v":1},1,0,1,1,1,{"$f":"IF(AS19=\"\",0,IF(AS19>100%,1,0))","v":0},0,7,null,null,null,0,null,1,0,1,null,null,null,{"$f":"CONCATENATE(D18,E18,F18)","v":"RWG02WATFORD GENERAL HOSPITALAAU Blue & Yellow Level 3"},false,0,"Complete",0,0,null,null,null,null,null,"R1CSPINNAKER WARD","R1CC3","SPINNAKER WARD","R1CC3","SPINNAKER WARD","R1C",null,null,"BARNSLEY HOSPITAL NHS FOUNDATION TRUST HQ","Ward 17"]
["RWG02","WATFORD GENERAL HOSPITAL",{"$f":"IF(F20=\"\",0,IF(ISERROR(VLOOKUP(CONCATENATE(D20,\"-\",F20),Wards!$A:$A,1,FALSE)),1,0))","v":0},0,0,0,0,0,0,0,0,0,0,0,0,1,0,0,null,null,null,null,null,null,null,null,null,null,0,null,null,null,null,null,null,null,0,0,{"$f":"IF(AM20=\"\",0,IF(AM20>100%,1,0))","v":1},1,0,1,1,1,{"$f":"IF(AS20=\"\",0,IF(AS20>100%,1,0))","v":0},0,6,null,null,null,1,null,0,0,1,null,null,null,"RWG02WATFORD GENERAL HOSPITALAAU Red Suite",false,0,"Complete",0,0,null,null,null,null,null,"R1CST JAMES' HOSPITAL","R1CF2","ST JAMES' HOSPITAL","R1CF2","ST JAMES' HOSPITAL","R1C",null,null,"BARNSLEY HOSPITAL NHS FOUNDATION TRUST HQ","Ward 18"]
["RWG02","WATFORD GENERAL HOSPITAL",{"$f":"IF(F21=\"\",0,IF(ISERROR(VLOOKUP(CONCATENATE(D21,\"-\",F21),Wards!$A:$A,1,FALSE)),1,0))","v":0},0,0,0,0,0,0,0,0,0,0,0,0,1,0,0,null,null,null,null,null,null,null,null,null,null,0,null,null,null,null,null,null,null,0,0,{"$f":"IF(AM21=\"\",0,IF(AM21>100%,1,0))","v":1},1,1,1,1,1,{"$f":"IF(AS21=\"\",0,IF(AS21>100%,1,0))","v":0},0,7,null,null,null,0,null,0,0,1,null,null,null,"RWG02WATFORD GENERAL HOSPITALAcute Stroke Unit",false,0,"Complete",0,0,null,null,null,null,null,"R1CST MARY'S HEALTH CAMPUS","R1CD4","ST MARY'S HEALTH CAMPUS","R1CD4","ST MARY'S HEALTH CAMPUS","R1C",null,null,"BARNSLEY HOSPITAL NHS FOUNDATION TRUST HQ","Ward 19 Elderly"]
["RWG02","WATFORD GENERAL HOSPITAL",{"$f":"IF(F22=\"\",0,IF(ISERROR(VLOOKUP(CONCATENATE(D22,\"-\",F22),Wards!$A:$A,1,FALSE)),1,0))","v":0},0,0,0,0,0,0,0,0,0,0,0,0,1,0,0,null,null,null,null,null,null,null,null,null,null,0,null,null,null,null,null,null,null,1,0,{"$f":"IF(AM22=\"\",0,IF(AM22>100%,1,0))","v":1},1,1,0,1,1,{"$f":"IF(AS22=\"\",0,IF(AS22>100%,1,0))","v":0},0,7,null,null,null,0,null,0,1,1,null,null,null,"RWG02WATFORD GENERAL HOSPITALAldenham",false,0,"Complete",0,0,null,null,null,null,null,"R1CSTONEHAM MUSCULOSKELETAL","R1C60","STONEHAM MUSCULOSKELETAL","R1C60","STONEHAM MUSCULOSKELETAL","R1C",null,null,"BARNSLEY HOSPITAL NHS FOUNDATION TRUST HQ","Ward 20 ASU"]
["RWG02","WATFORD GENERAL HOSPITAL",{"$f":"IF(F23=\"\",0,IF(ISERROR(VLOOKUP(CONCATENATE(D23,\"-\",F23),Wards!$A:$A,1,FALSE)),1,0))","v":0},0,0,0,0,0,0,0,0,0,0,0,0,1,{"$f":"IF(OR(I23<>\"\",K23<>\"\",J23<>\"\",L23<>\"\",Q23<>\"\",R23<>\"\",S23<>\"\",T23<>\"\",F23<>\"\",G23<>\"\",H23<>\"\",M23<>\"\",N23<>\"\",O23<>\"\",P23<>\"\",U23<>\"\",V23<>\"\",W23<>\"\",X23<>\"\",Y23<>\"\",Z23<>\"\",AA23<>\"\",AB23<>\"\",AC14<>\"\"),IF(E23=\"\",1,0),0)","v":0},0,null,null,null,null,null,null,null,null,null,null,{"$f":"IF(AND(SUM(N23,P23,V23,J23,L23,R23,T23,X23,Z23,AB23)>0,AC14=0),1,0)","v":0},null,null,null,null,null,null,null,0,1,{"$f":"IF(AM23=\"\",0,IF(AM23>100%,1,0))","v":1},1,0,1,1,1,{"$f":"IF(AS23=\"\",0,IF(AS23>100%,1,0))","v":0},0,7,null,null,null,1,null,0,1,0,null,null,null,"RWG02WATFORD GENERAL HOSPITALBluebell",false,0,"Complete",0,0,null,null,null,null,null,"R1CTHE ORIGINAL PLACE","R1C79","THE ORIGINAL PLACE","R1C79","THE ORIGINAL PLACE","R1C",null,null,"BARNSLEY HOSPITAL NHS FOUNDATION TRUST HQ","Ward 21"]
["RWG02","WATFORD GENERAL HOSPITAL",{"$f":"IF(F24=\"\",0,IF(ISERROR(VLOOKUP(CONCATENATE(D24,\"-\",F24),Wards!$A:$A,1,FALSE)),1,0))","v":0},0,0,0,0,0,0,0,0,0,0,0,0,1,0,0,null,null,null,null,null,null,null,null,null,null,0,null,null,null,null,null,null,null,1,0,{"$f":"IF(AM24=\"\",0,IF(AM24>100%,1,0))","v":1},1,1,1,1,1,{"$f":"IF(AS24=\"\",0,IF(AS24>100%,1,0))","v":0},0,8,null,null,null,0,null,1,0,1,null,null,null,"RWG02WATFORD GENERAL HOSPITALCardiac Care",false,0,"Complete",0,0,null,null,null,null,null,"R1CTHE POTTERIES","R1CP5","THE POTTERIES","R1CP5","THE POTTERIES","R1C",null,null,"BARNSLEY HOSPITAL NHS FOUNDATION TRUST HQ","Ward 22 Diabetes/Endo"]
["RWG02","WATFORD GENERAL HOSPITAL",{"$f":"IF(F25=\"\",0,IF(ISERROR(VLOOKUP(CONCATENATE(D25,\"-\",F25),Wards!$A:$A,1,FALSE)),1,0))","v":0},0,0,0,0,0,0,0,0,0,0,0,0,1,0,0,null,null,null,null,null,null,null,null,null,null,0,null,null,null,null,null,null,null,1,0,{"$f":"IF(AM25=\"\",0,IF(AM25>100%,1,0))","v":1},1,1,1,1,1,{"$f":"IF(AS25=\"\",0,IF(AS25>100%,1,0))","v":0},0,8,null,null,null,1,null,0,1,1,null,null,null,"RWG02WATFORD GENERAL HOSPITALCassio",false,0,"Complete",0,0,null,null,null,null,null,"R1CTHE ROYAL SOUTH HANTS HOSPITAL","R1C34","THE ROYAL SOUTH HANTS HOSPITAL","R1C34","THE ROYAL SOUTH HANTS HOSPITAL","R1C",null,null,"BARNSLEY HOSPITAL NHS FOUNDATION TRUST HQ","Ward 23 Frailty Unit"]
["RWG02","WATFORD GENERAL HOSPITAL",{"$f":"IF(F26=\"\",0,IF(ISERROR(VLOOKUP(CONCATENATE(D26,\"-\",F26),Wards!$A:$A,1,FALSE)),1,0))","v":0},0,0,0,0,0,0,0,0,0,0,0,0,1,0,0,null,null,null,null,null,null,null,null,null,null,0,null,null,null,null,null,null,null,0,0,{"$f":"IF(AM26=\"\",0,IF(AM26>100%,1,0))","v":1},1,0,1,1,1,{"$f":"IF(AS26=\"\",0,IF(AS26>100%,1,0))","v":0},0,6,null,null,null,1,null,{"$f":"IF(AL25=\"\",0, IF(AL25=\"-\",0,IF(AL25>100%,1,0)))","v":0},{"$f":"IF(AO25=\"\",0, IF(AO25=\"-\",0,IF(AO25>100%,1,0)))","v":1},{"$f":"IF(AP25=\"\",0, IF(AP25=\"-\",0,IF(AP25>100%,1,0)))","v":1},null,null,null,"RWG02WATFORD GENERAL HOSPITALCroxley",false,0,"Complete",0,0,null,null,null,null,null,"R1CVICTORY UNIT","R1CD3","VICTORY UNIT","R1CD3","VICTORY UNIT","R1C",null,null,"BARNSLEY HOSPITAL NHS FOUNDATION TRUST HQ","Ward 24"]
["RWG02","WATFORD GENERAL HOSPITAL",{"$f":"IF(F27=\"\",0,IF(ISERROR(VLOOKUP(CONCATENATE(D27,\"-\",F27),Wards!$A:$A,1,FALSE)),1,0))","v":0},0,0,0,0,0,0,0,0,0,0,0,0,1,0,0,null,null,null,null,null,null,null,null,null,null,0,null,null,null,null,null,null,null,1,1,{"$f":"IF(AM27=\"\",0,IF(AM27>100%,1,0))","v":1},1,1,1,1,1,{"$f":"IF(AS27=\"\",0,IF(AS27>100%,1,0))","v":0},0,9,null,null,null,0,null,0,0,1,null,null,null,"RWG02WATFORD GENERAL HOSPITALHeronsgate & Gade",false,0,"Complete",0,0,null,null,null,null,null,"R1CWESTERN COMMUNITY HOSPITAL","R1C03","WESTERN COMMUNITY HOSPITAL","R1C03","WESTERN COMMUNITY HOSPITAL","R1C",null,null,"BARNSLEY HOSPITAL NHS FOUNDATION TRUST HQ","Ward 29 SSU"]
["RWG02","WATFORD GENERAL HOSPITAL",{"$f":"IF(F28=\"\",0,IF(ISERROR(VLOOKUP(CONCATENATE(D28,\"-\",F28),Wards!$A:$A,1,FALSE)),1,0))","v":0},0,0,0,0,0,0,0,0,0,0,0,0,1,0,0,null,null,null,null,null,null,null,null,null,null,0,null,null,null,null,null,null,null,0,0,{"$f":"IF(AM28=\"\",0,IF(AM28>100%,1,0))","v":1},1,1,1,1,1,{"$f":"IF(AS28=\"\",0,IF(AS28>100%,1,0))","v":0},0,7,null,null,null,1,null,1,1,1,null,null,null,"RWG02WATFORD GENERAL HOSPITALOxhey",false,0,"Complete",0,0,null,null,null,null,null,"R1DAPCS SHREWSBURY","R1DD3","APCS SHREWSBURY","R1DD3","APCS SHREWSBURY","R1D",null,null,"BARNSLEY HOSPITAL NHS FOUNDATION TRUST HQ","Ward 30 General Medical Ward"]
["RWG08","HEMEL HEMPSTEAD HOSPITAL",{"$f":"IF(F29=\"\",0,IF(ISERROR(VLOOKUP(CONCATENATE(D29,\"-\",F29),Wards!$A:$A,1,FALSE)),1,0))","v":1},0,0,0,0,0,0,0,0,0,0,0,0,1,0,0,null,null,null,null,null,null,null,null,null,null,0,null,null,null,null,null,null,null,0,1,{"$f":"IF(AM29=\"\",0,IF(AM29>100%,1,0))","v":1},1,0,1,1,1,{"$f":"IF(AS29=\"\",0,IF(AS29>100%,1,0))","v":0},0,7,null,null,null,0,null,0,1,1,null,null,null,"RWG02WATFORD GENERAL HOSPITALSarratt",false,0,"Complete",0,0,null,null,null,null,null,"R1DBEECHES HOSPITAL","R1DAM","BEECHES HOSPITAL","R1DAM","BEECHES HOSPITAL","R1D",null,null,"BARNSLEY HOSPITAL NHS FOUNDATION TRUST HQ","Ward 31 SA"]
["RWG02","WATFORD GENERAL HOSPITAL",{"$f":"IF(F30=\"\",0,IF(ISERROR(VLOOKUP(CONCATENATE(D30,\"-\",F30),Wards!$A:$A,1,FALSE)),1,0))","v":0},0,0,0,0,0,0,0,0,0,0,0,0,1,0,0,null,null,null,null,null,null,null,null,null,null,0,null,null,null,null,null,null,null,{"$f":"IF(AK30=\"\",0,IF(AK30>100%,1,0))","v":0},1,1,1,1,1,1,1,{"$f":"IF(AS30=\"\",0,IF(AS30>100%,1,0))","v":0},0,8,null,null,null,0,null,1,0,1,null,null,null,"RWG08HEMEL HEMPSTEAD HOSPITALSimpson HH",false,0,"Complete",0,0,null,null,null,null,null,"R1DBELLE VUE (GP)","R1D53","BELLE VUE (GP)","R1D53","BELLE VUE (GP)","R1D",null,null,"BARNSLEY HOSPITAL NHS FOUNDATION TRUST HQ","Ward 32"]
["RWG02","WATFORD GENERAL HOSPITAL",{"$f":"IF(F31=\"\",0,IF(ISERROR(VLOOKUP(CONCATENATE(D31,\"-\",F31),Wards!$A:$A,1,FALSE)),1,0))","v":0},0,0,0,0,0,0,0,0,0,0,0,0,1,0,0,null,null,null,null,null,null,null,null,null,null,0,null,null,null,null,null,null,null,1,1,1,1,1,1,1,1,{"$f":"IF(AS31=\"\",0,IF(AS31>100%,1,0))","v":0},0,9,null,null,null,0,null,1,1,1,null,null,null,"RWG02WATFORD GENERAL HOSPITALTudor & Castle",false,0,"Complete",0,0,null,null,null,null,null,"R1DBISHOPS CASTLE COMMUNITY HOSPITAL","R1DG4","BISHOPS CASTLE COMMUNITY HOSPITAL","R1DG4","BISHOPS CASTLE COMMUNITY HOSPITAL","R1D",null,null,"BARNSLEY HOSPITAL NHS FOUNDATION TRUST HQ","Ward 33"]
["RWG02","WATFORD GENERAL HOSPITAL",{"$f":"IF(F32=\"\",0,IF(ISERROR(VLOOKUP(CONCATENATE(D32,\"-\",F32),Wards!$A:$A,1,FALSE)),1,0))","v":0},0,0,0,0,0,0,0,0,0,0,0,0,1,0,0,null,null,null,null,null,null,null,null,null,null,0,null,null,null,null,null,null,null,1,1,1,1,0,1,1,1,{"$f":"IF(AS32=\"\",0,IF(AS32>100%,1,0))","v":0},0,8,null,null,null,1,null,1,1,1,null,null,null,"RWG02WATFORD GENERAL HOSPITALWinyard",false,0,"Complete",0,0,null,null,null,null,null,"R1DBISHOPS CASTLE HOSP OPD1","R1DJ3","BISHOPS CASTLE HOSP OPD1","R1DJ3","BISHOPS CASTLE HOSP OPD1","R1D",null,null,"BARNSLEY HOSPITAL NHS FOUNDATION TRUST HQ","Ward 34"]
["RWG02","WATFORD GENERAL HOSPITAL",{"$f":"IF(F33=\"\",0,IF(ISERROR(VLOOKUP(CONCATENATE(D33,\"-\",F33),Wards!$A:$A,1,FALSE)),1,0))","v":0},0,0,0,0,0,0,0,0,0,0,0,0,1,0,0,null,null,null,null,null,null,null,null,null,null,0,null,null,null,null,null,null,null,1,0,1,1,0,0,1,1,{"$f":"IF(AS33=\"\",0,IF(AS33>100%,1,0))","v":0},0,6,null,null,null,1,null,1,0,1,null,null,null,"RWG02WATFORD GENERAL HOSPITALCombined ITU",false,0,"Complete",0,0,null,null,null,null,null,"R1DBISHOPS CASTLE HOSPITAL","R1D25","BISHOPS CASTLE HOSPITAL","R1D25","BISHOPS CASTLE HOSPITAL","R1D",null,null,"BARNSLEY HOSPITAL NHS FOUNDATION TRUST HQ","Ward 37"]
["RWG03","ST ALBANS CITY HOSPITAL",{"$f":"IF(F34=\"\",0,IF(ISERROR(VLOOKUP(CONCATENATE(D34,\"-\",F34),Wards!$A:$A,1,FALSE)),1,0))","v":0},0,0,0,0,0,0,0,0,0,0,0,0,1,0,0,null,null,null,null,null,null,null,null,null,null,0,null,null,null,null,null,null,null,0,0,1,1,0,1,1,1,{"$f":"IF(AS34=\"\",0,IF(AS34>100%,1,0))","v":0},0,6,null,null,null,1,null,0,0,0,null,null,null,"RWG02WATFORD GENERAL HOSPITALCleves",false,0,"Complete",0,0,null,null,null,null,null,"R1DBRIDGNORTH COMMUNITY HOSPITAL","R1DG2","BRIDGNORTH COMMUNITY HOSPITAL","R1DG2","BRIDGNORTH COMMUNITY HOSPITAL","R1D",null,null,"Newham General Hospital","BECKTON"]
["RWG02","WATFORD GENERAL HOSPITAL",{"$f":"IF(F35=\"\",0,IF(ISERROR(VLOOKUP(CONCATENATE(D35,\"-\",F35),Wards!$A:$A,1,FALSE)),1,0))","v":0},0,0,0,0,0,0,0,0,0,0,0,0,1,0,0,null,null,null,null,null,null,null,null,null,null,0,null,null,null,null,null,null,null,1,0,1,1,1,1,1,1,{"$f":"IF(AS35=\"\",0,IF(AS35>100%,1,0))","v":0},0,8,null,null,null,0,null,0,0,1,null,null,null,"RWG03ST ALBANS CITY HOSPITALDe La Mare/Beckett",false,0,"Complete",0,0,null,null,null,null,null,"R1DBRIDGNORTH HOSP OPD1","R1DJ1","BRIDGNORTH HOSP OPD1","R1DJ1","BRIDGNORTH HOSP OPD1","R1D",null,null,"Newham General Hospital","CCU NUH"]
["RWG02","WATFORD GENERAL HOSPITAL",{"$f":"IF(F36=\"\",0,IF(ISERROR(VLOOKUP(CONCATENATE(D36,\"-\",F36),Wards!$A:$A,1,FALSE)),1,0))","v":0},0,0,0,0,0,0,0,0,0,0,0,0,1,0,0,null,null,null,null,null,null,null,null,null,null,0,null,null,null,null,null,null,null,0,0,1,1,0,1,1,1,{"$f":"IF(AS36=\"\",0,IF(AS36>100%,1,0))","v":0},0,6,null,null,null,1,null,0,1,1,null,null,null,"RWG02WATFORD GENERAL HOSPITALElizabeth",false,0,"Complete",0,0,null,null,null,null,null,"R1DBRIDGNORTH HOSPITAL","R1D22","BRIDGNORTH HOSPITAL","R1D22","BRIDGNORTH HOSPITAL","R1D",null,null,"Newham General Hospital","DELIVERY SUITE NUH"]
["RWG02","WATFORD GENERAL HOSPITAL",{"$f":"IF(F37=\"\",0,IF(ISERROR(VLOOKUP(CONCATENATE(D37,\"-\",F37),Wards!$A:$A,1,FALSE)),1,0))","v":0},0,0,0,0,0,0,0,0,0,0,0,0,1,0,0,null,null,null,null,null,null,null,null,null,null,0,null,null,null,null,null,null,null,1,1,1,1,0,1,1,1,{"$f":"IF(AS37=\"\",0,IF(AS37>100%,1,0))","v":0},0,8,null,null,null,0,null,0,0,1,null,null,null,"RWG02WATFORD GENERAL HOSPITALFlaunden",false,0,"Complete",0,0,null,null,null,null,null,"R1DBUTCHER ROW (GP)","R1D55","BUTCHER ROW (GP)","R1D55","BUTCHER ROW (GP)","R1D",null,null,"Newham General Hospital","EAST HAM"]
["RWG02","WATFORD GENERAL HOSPITAL",{"$f":"IF(F38=\"\",0,IF(ISERROR(VLOOKUP(CONCATENATE(D38,\"-\",F38),Wards!$A:$A,1,FALSE)),1,0))","v":0},0,0,0,0,0,0,0,0,0,0,0,0,1,0,0,null,null,null,null,null,null,null,null,null,null,0,null,null,null,null,null,null,null,0,0,1,1,0,1,1,1,{"$f":"IF(AS38=\"\",0,IF(AS38>100%,1,0))","v":0},0,6,null,null,null,1,null,1,0,1,null,null,null,"RWG02WATFORD GENERAL HOSPITALLangley",false,0,"Complete",0,0,null,null,null,null,null,"R1DCASTLE CARE CASTLEHAVEN","R1D88","CASTLE CARE CASTLEHAVEN","R1D88","CASTLE CARE CASTLEHAVEN","R1D",null,null,"Newham General Hospital","HEATHER"]
["RWG02","WATFORD GENERAL HOSPITAL",{"$f":"IF(F39=\"\",0,IF(ISERROR(VLOOKUP(CONCATENATE(D39,\"-\",F39),Wards!$A:$A,1,FALSE)),1,0))","v":0},0,0,0,0,0,0,0,0,0,0,0,0,1,0,0,null,null,null,null,null,null,null,null,null,null,0,null,null,null,null,null,null,null,0,1,1,1,0,1,1,1,{"$f":"IF(AS39=\"\",0,IF(AS39>100%,1,0))","v":0},0,7,null,null,null,0,null,0,0,1,null,null,null,"RWG02WATFORD GENERAL HOSPITALLetchmore",false,0,"Complete",0,0,null,null,null,null,null,"R1DCLAREMONT BANK SITE (GP)","R1D56","CLAREMONT BANK SITE (GP)","R1D56","CLAREMONT BANK SITE (GP)","R1D",null,null,"Newham General Hospital","ICU NUH"]
["RWG02","WATFORD GENERAL HOSPITAL",{"$f":"IF(F40=\"\",0,IF(ISERROR(VLOOKUP(CONCATENATE(D40,\"-\",F40),Wards!$A:$A,1,FALSE)),1,0))","v":0},0,0,0,0,0,0,0,0,0,0,0,0,1,0,0,null,null,null,null,null,null,null,null,null,null,0,null,null,null,null,null,null,null,0,0,1,1,0,0,1,1,{"$f":"IF(AS40=\"\",0,IF(AS40>100%,1,0))","v":0},0,5,null,null,null,0,null,1,0,1,null,null,null,"RWG02WATFORD GENERAL HOSPITALRidge",false,0,"Complete",0,0,null,null,null,null,null,"R1DCLEE HILL (GP)","R1D67","CLEE HILL (GP)","R1D67","CLEE HILL (GP)","R1D",null,null,"Newham General Hospital","LARCH"]
["RWG02","WATFORD GENERAL HOSPITAL",{"$f":"IF(F41=\"\",0,IF(ISERROR(VLOOKUP(CONCATENATE(D41,\"-\",F41),Wards!$A:$A,1,FALSE)),1,0))","v":0},0,0,0,0,0,0,0,0,0,0,0,0,1,0,0,null,null,null,null,null,null,null,null,null,null,0,null,null,null,null,null,null,null,0,0,1,1,0,0,1,1,{"$f":"IF(AS41=\"\",0,IF(AS41>100%,1,0))","v":0},0,5,null,null,null,0,null,0,0,0,null,null,null,"RWG02WATFORD GENERAL HOSPITALABC",false,0,"Complete",0,0,null,null,null,null,null,"R1DCRAVEN ARMS (GP)","R1D69","CRAVEN ARMS (GP)","R1D69","CRAVEN ARMS (GP)","R1D",null,null,"Newham General Hospital","MAPLE"]
["RWG02","WATFORD GENERAL HOSPITAL",{"$f":"IF(F42=\"\",0,IF(ISERROR(VLOOKUP(CONCATENATE(D42,\"-\",F42),Wards!$A:$A,1,FALSE)),1,0))","v":0},0,0,0,0,0,0,0,0,0,0,0,0,1,0,0,null,null,null,null,null,null,null,null,null,null,0,null,null,null,null,null,null,null,0,0,1,1,0,0,1,1,{"$f":"IF(AS42=\"\",0,IF(AS42>100%,1,0))","v":0},0,5,null,null,null,0,null,0,0,0,null,null,null,"RWG02WATFORD GENERAL HOSPITALDelivery Suite",false,0,"Complete",0,0,null,null,null,null,null,"R1DCSMS 1","R1D97","CSMS 1","R1D97","CSMS 1","R1D",null,null,"Newham General Hospital","MAU NUH"]
["RWG02","WATFORD GENERAL HOSPITAL",{"$f":"IF(F43=\"\",0,IF(ISERROR(VLOOKUP(CONCATENATE(D43,\"-\",F43),Wards!$A:$A,1,FALSE)),1,0))","v":0},0,0,0,0,0,0,0,0,0,0,0,0,1,0,0,null,null,null,null,null,null,null,null,null,null,0,null,null,null,null,null,null,null,0,0,1,1,0,0,1,1,{"$f":"IF(AS43=\"\",0,IF(AS43>100%,1,0))","v":0},0,5,null,null,null,0,null,0,0,0,null,null,null,"RWG02WATFORD GENERAL HOSPITALKatherine",false,0,"Complete",0,0,null,null,null,null,null,"R1DCSMS 2","R1DAK","CSMS 2","R1DAK","CSMS 2","R1D",null,null,"Newham General Hospital","NEONATAL NUH"]
["RWG02","WATFORD GENERAL HOSPITAL",{"$f":"IF(F44=\"\",0,IF(ISERROR(VLOOKUP(CONCATENATE(D44,\"-\",F44),Wards!$A:$A,1,FALSE)),1,0))","v":0},0,0,0,0,0,0,0,0,0,0,0,0,1,0,0,null,null,null,null,null,null,null,null,null,null,0,null,null,null,null,null,null,null,1,0,1,1,1,0,1,1,{"$f":"IF(AS44=\"\",0,IF(AS44>100%,1,0))","v":0},0,7,null,null,null,0,null,0,0,0,null,null,null,"RWG02WATFORD GENERAL HOSPITALVictoria",false,0,"Complete",0,0,null,null,null,null,null,"R1DDALE ACRE - SHROPSHIRE COMMUNITY HEALTH","R1DF9","DALE ACRE - SHROPSHIRE COMMUNITY HEALTH","R1DF9","DALE ACRE - SHROPSHIRE COMMUNITY HEALTH","R1D",null,null,"Newham General Hospital","NUH MIDWIFERY"]
["RWG02","WATFORD GENERAL HOSPITAL",{"$f":"IF(F45=\"\",0,IF(ISERROR(VLOOKUP(CONCATENATE(D45,\"-\",F45),Wards!$A:$A,1,FALSE)),1,0))","v":0},0,0,0,0,0,0,0,0,0,0,0,0,1,0,0,null,null,null,null,null,null,null,null,null,null,0,null,null,null,null,null,null,null,0,0,1,1,1,1,1,1,{"$f":"IF(AS45=\"\",0,IF(AS45>100%,1,0))","v":0},0,7,null,null,null,1,null,0,1,0,null,null,null,"RWG02WATFORD GENERAL HOSPITALSCBU",false,0,"Complete",0,0,null,null,null,null,null,"R1DDIMENSIONS (NSO) RESIDENTIAL HOME","R1D78","DIMENSIONS (NSO) RESIDENTIAL HOME","R1D78","DIMENSIONS (NSO) RESIDENTIAL HOME","R1D",null,null,"Newham General Hospital","PLASHET"]
[{"$f":"VLOOKUP($D46,$BS:$BS,1,0)","v":{"$error":"#N/A"}},{"$f":"VLOOKUP($E46,$BT:$BT,1,0)","v":{"$error":"#N/A"}},{"$f":"IF(F46=\"\",0,IF(ISERROR(VLOOKUP(CONCATENATE(D46,\"-\",F46),Wards!$A:$A,1,FALSE)),1,0))","v":0},{"$f":"IF(D46=\"\",0,IF(ISERROR(VLOOKUP(D46,$BS$3:$BS$250,1,0)),0,IF(VLOOKUP(D46,$BS$3:$BW$250,5,0)=$B$8,0,1)))","v":0},0,"","",0,0,{"$f":"IF(G46=\"\",0,IF(ISERROR(VLOOKUP(G46,$AV$14:$AV$98,1,FALSE)),1,0))","v":0},{"$f":"IF(H46=\"\",0,IF(ISERROR(VLOOKUP(H46,$AV$14:$AV$98,1,FALSE)),1,0))","v":0},0,0,0,0,0,0,0,null,null,null,null,null,null,null,null,null,null,0,null,null,null,null,null,null,null,{"$f":"IF(AK46=\"\",0,IF(AK46>100%,1,0))","v":0},0,0,0,0,0,0,0,{"$f":"IF(AS46=\"\",0,IF(AS46>100%,1,0))","v":0},0,0,null,null,null,0,null,0,1,1,null,null,null,"RWG02WATFORD GENERAL HOSPITALStarfish",false,0,"Complete",0,0,null,null,null,null,null,"R1DFAMILY CONNECT","R1DHY","FAMILY CONNECT","R1DHY","FAMILY CONNECT","R1D",null,null,"Newham General Hospital","RAINBOW"]
[{"$error":"#N/A"},{"$error":"#N/A"},{"$f":"IF(F47=\"\",0,IF(ISERROR(VLOOKUP(CONCATENATE(D47,\"-\",F47),Wards!$A:$A,1,FALSE)),1,0))","v":0},0,0,"","",0,0,0,0,0,0,0,0,0,0,0,null,null,null,null,null,null,null,null,null,null,0,null,null,null,null,null,null,null,0,0,0,0,0,0,0,0,{"$f":"IF(AS47=\"\",0,IF(AS47>100%,1,0))","v":0},0,0,null,null,null,{"$f":"IF(AK46=\"\",0, IF(AK46=\"-\",0,IF(AK46>100%,1,0)))","v":0},null,0,0,0,null,null,null,"",{"$f":"IF(BG248=\"\",\"\",(IF(COUNTIF($BG$216:$BG$414,BG248)>1,1,0))=1)","v":""},0,{"$f":"IF(E46=\"\",(COUNTA(E47)=1),\"Complete\")","v":false},0,0,null,null,null,null,null,"R1DGLENVIEW","R1D89","GLENVIEW","R1D89","GLENVIEW","R1D",null,null,"Newham General Hospital","SILVERTOWN"]
[{"$error":"#N/A"},{"$error":"#N/A"},{"$f":"IF(F48=\"\",0,IF(ISERROR(VLOOKUP(CONCATENATE(D48,\"-\",F48),Wards!$A:$A,1,FALSE)),1,0))","v":0},0,0,"","",0,0,0,0,0,0,0,0,0,0,0,null,null,null,null,null,null,null,null,null,null,0,null,null,null,null,null,null,null,0,0,0,0,0,0,0,0,{"$f":"IF(AS48=\"\",0,IF(AS48>100%,1,0))","v":0},0,0,null,null,null,0,null,0,0,0,null,null,null,"","",0,false,0,0,null,null,null,null,null,"R1DHADLEY LEARNING COMMUNITY","R1DEG","HADLEY LEARNING COMMUNITY","R1DEG","HADLEY LEARNING COMMUNITY","R1D",null,null,"Newham General Hospital","STRATFORD"]
[{"$error":"#N/A"},{"$error":"#N/A"},{"$f":"IF(F49=\"\",0,IF(ISERROR(VLOOKUP(CONCATENATE(D49,\"-\",F49),Wards!$A:$A,1,FALSE)),1,0))","v":0},0,0,"","",0,0,0,0,0,0,0,0,0,0,0,null,null,null,null,null,null,null,null,null,null,0,null,null,null,null,null,null,null,0,0,0,0,0,0,0,0,{"$f":"IF(AS49=\"\",0,IF(AS49>100%,1,0))","v":0},0,0,null,null,null,0,null,0,0,0,null,null,null,"","",0,false,0,0,null,null,null,null,null,"R1DHIGHLEY (GP)","R1D70","HIGHLEY (GP)","R1D70","HIGHLEY (GP)","R1D",null,null,"Newham General Hospital","THISTLE"]
[{"$error":"#N/A"},{"$error":"#N/A"},{"$f":"IF(F50=\"\",0,IF(ISERROR(VLOOKUP(CONCATENATE(D50,\"-\",F50),Wards!$A:$A,1,FALSE)),1,0))","v":0},0,0,"","",0,0,0,0,0,0,0,0,0,0,0,null,null,null,null,null,null,null,null,null,null,0,null,null,null,null,null,null,null,0,0,0,0,0,0,0,0,{"$f":"IF(AS50=\"\",0,IF(AS50>100%,1,0))","v":0},0,0,null,null,null,0,null,0,0,0,null,null,null,"","",0,false,0,0,null,null,null,null,null,"R1DHINSTOCK MANOR","R1DA8","HINSTOCK MANOR","R1DA8","HINSTOCK MANOR","R1D",null,null,"Newham General Hospital","WEST HAM"]
[{"$error":"#N/A"},{"$error":"#N/A"},{"$f":"IF(F51=\"\",0,IF(ISERROR(VLOOKUP(CONCATENATE(D51,\"-\",F51),Wards!$A:$A,1,FALSE)),1,0))","v":0},0,0,"","",0,0,0,0,0,0,0,0,0,0,0,null,null,null,null,null,null,null,null,null,null,0,null,null,null,null,null,null,null,0,0,0,0,0,0,0,0,{"$f":"IF(AS51=\"\",0,IF(AS51>100%,1,0))","v":0},0,0,null,null,null,0,null,0,0,0,null,null,null,"","",0,false,0,0,null,null,null,null,null,"R1DHODNET (GP)","R1D75","HODNET (GP)","R1D75","HODNET (GP)","R1D",null,null,"St Bartholomew's Hospital","1C"]
[{"$error":"#N/A"},{"$error":"#N/A"},{"$f":"IF(F52=\"\",0,IF(ISERROR(VLOOKUP(CONCATENATE(D52,\"-\",F52),Wards!$A:$A,1,FALSE)),1,0))","v":0},0,0,"","",0,0,0,0,0,0,0,0,0,0,0,null,null,null,null,null,null,null,null,null,null,0,null,null,null,null,null,null,null,0,0,0,0,0,0,0,0,{"$f":"IF(AS52=\"\",0,IF(AS52>100%,1,0))","v":0},0,0,null,null,null,0,null,0,0,0,null,null,null,"","",0,false,0,0,null,null,null,null,null,"R1DIRONBRIDGE (GP)","R1D64","IRONBRIDGE (GP)","R1D64","IRONBRIDGE (GP)","R1D",null,null,"St Bartholomew's Hospital","1D"]
[{"$error":"#N/A"},{"$error":"#N/A"},{"$f":"IF(F53=\"\",0,IF(ISERROR(VLOOKUP(CONCATENATE(D53,\"-\",F53),Wards!$A:$A,1,FALSE)),1,0))","v":0},0,0,"","",0,0,0,0,0,0,0,0,0,0,0,null,null,null,null,null,null,null,null,null,null,0,null,null,null,null,null,null,null,0,0,0,0,0,0,0,0,{"$f":"IF(AS53=\"\",0,IF(AS53>100%,1,0))","v":0},0,0,null,null,null,0,null,0,0,0,null,null,null,"","",0,false,0,0,null,null,null,null,null,"R1DKEEPER'S CRESCENT","R1D91","KEEPER'S CRESCENT","R1D91","KEEPER'S CRESCENT","R1D",null,null,"St Bartholomew's Hospital","1E"]
[{"$error":"#N/A"},{"$error":"#N/A"},{"$f":"IF(F54=\"\",0,IF(ISERROR(VLOOKUP(CONCATENATE(D54,\"-\",F54),Wards!$A:$A,1,FALSE)),1,0))","v":0},0,0,"","",0,0,0,0,0,0,0,0,0,0,0,null,null,null,null,null,null,null,null,null,null,0,null,null,null,null,null,null,null,0,0,0,0,0,0,0,0,{"$f":"IF(AS54=\"\",0,IF(AS54>100%,1,0))","v":0},0,0,null,null,null,0,null,0,0,0,null,null,null,"","",0,false,0,0,null,null,null,null,null,"R1DLABURNHAMS","R1D82","LABURNHAMS","R1D82","LABURNHAMS","R1D",null,null,"St Bartholomew's Hospital","3A SBH"]
[{"$error":"#N/A"},{"$error":"#N/A"},{"$f":"IF(F55=\"\",0,IF(ISERROR(VLOOKUP(CONCATENATE(D55,\"-\",F55),Wards!$A:$A,1,FALSE)),1,0))","v":0},0,0,"","",0,0,0,0,0,0,0,0,0,0,0,null,null,null,null,null,null,null,null,null,null,0,null,null,null,null,null,null,null,0,0,0,0,0,0,0,0,{"$f":"IF(AS55=\"\",0,IF(AS55>100%,1,0))","v":0},0,0,null,null,null,0,null,0,0,0,null,null,null,"","",0,false,0,0,null,null,null,null,null,"R1DLIFESOURCE COLLABORATIVE PROCUREMENT HUB","R1DD8","LIFESOURCE COLLABORATIVE PROCUREMENT HUB","R1DD8","LIFESOURCE COLLABORATIVE PROCUREMENT HUB","R1D",null,null,"St Bartholomew's Hospital","3D  SBH"]
[{"$error":"#N/A"},{"$error":"#N/A"},{"$f":"IF(F56=\"\",0,IF(ISERROR(VLOOKUP(CONCATENATE(D56,\"-\",F56),Wards!$A:$A,1,FALSE)),1,0))","v":0},0,0,"","",0,0,0,0,0,0,0,0,0,0,0,null,null,null,null,null,null,null,null,null,null,0,null,null,null,null,null,null,null,0,0,0,0,0,0,0,0,{"$f":"IF(AS56=\"\",0,IF(AS56>100%,1,0))","v":0},0,0,null,null,null,0,null,0,0,0,null,null,null,"","",0,false,0,0,null,null,null,null,null,{"$f":"CONCATENATE(LEFT(BS257, 3),BT257)","v":"R1DLUDLOW COMMUNITY HOSPITAL"},"R1DG3","LUDLOW COMMUNITY HOSPITAL","R1DG3","LUDLOW COMMUNITY HOSPITAL","R1D",null,null,"St Bartholomew's Hospital","4A SBH"]
[{"$error":"#N/A"},{"$error":"#N/A"},{"$f":"IF(F57=\"\",0,IF(ISERROR(VLOOKUP(CONCATENATE(D57,\"-\",F57),Wards!$A:$A,1,FALSE)),1,0))","v":0},0,0,"","",0,0,0,0,0,0,0,0,0,0,0,null,null,null,null,null,null,null,null,null,null,0,null,null,null,null,null,null,null,0,0,0,0,0,0,0,0,{"$f":"IF(AS57=\"\",0,IF(AS57>100%,1,0))","v":0},0,0,null,null,null,0,null,0,0,0,null,null,null,"","",0,false,0,0,null,null,null,null,null,"R1DLUDLOW HOSP OPD1","R1DJ2","LUDLOW HOSP OPD1","R1DJ2","LUDLOW HOSP OPD1","R1D",null,null,"St Bartholomew's Hospital","4B SBH"]
[{"$error":"#N/A"},{"$error":"#N/A"},{"$f":"IF(F58=\"\",0,IF(ISERROR(VLOOKUP(CONCATENATE(D58,\"-\",F58),Wards!$A:$A,1,FALSE)),1,0))","v":0},0,0,"","",0,0,0,0,0,0,0,0,0,0,0,null,null,null,null,null,null,null,null,null,null,0,null,null,null,null,null,null,null,0,0,0,0,0,0,0,0,{"$f":"IF(AS58=\"\",0,IF(AS58>100%,1,0))","v":0},0,0,null,null,null,0,null,0,0,0,null,null,null,"","",0,false,0,0,null,null,null,null,null,"R1DLUDLOW HOSPITAL","R1D21","LUDLOW HOSPITAL","R1D21","LUDLOW HOSPITAL","R1D",null,null,"St Bartholomew's Hospital","4C SBH"]
[{"$error":"#N/A"},{"$error":"#N/A"},{"$f":"IF(F59=\"\",0,IF(ISERROR(VLOOKUP(CONCATENATE(D59,\"-\",F59),Wards!$A:$A,1,FALSE)),1,0))","v":0},0,0,"","",0,0,0,0,0,0,0,0,0,0,0,null,null,null,null,null,null,null,null,null,null,0,null,null,null,null,null,null,null,0,0,0,0,0,0,0,0,{"$f":"IF(AS59=\"\",0,IF(AS59>100%,1,0))","v":0},0,0,null,null,null,0,null,0,0,0,null,null,null,"","",0,false,0,0,null,null,null,null,null,"R1DMARKET DRAYTON COTTAGE HOSPITAL","R1D07","MARKET DRAYTON COTTAGE HOSPITAL","R1D07","MARKET DRAYTON COTTAGE HOSPITAL","R1D",null,null,"St Bartholomew's Hospital","4D &  4E SBH"]
[{"$error":"#N/A"},{"$error":"#N/A"},{"$f":"IF(F60=\"\",0,IF(ISERROR(VLOOKUP(CONCATENATE(D60,\"-\",F60),Wards!$A:$A,1,FALSE)),1,0))","v":0},0,0,"","",0,0,0,0,0,0,0,0,0,0,0,null,null,null,null,null,null,null,null,null,null,0,null,null,null,null,null,null,null,0,0,0,0,0,0,0,0,{"$f":"IF(AS60=\"\",0,IF(AS60>100%,1,0))","v":0},0,0,null,null,null,0,null,0,0,0,null,null,null,"","",0,false,0,0,null,null,null,null,null,"R1DNEWPORT (GP)","R1D63","NEWPORT (GP)","R1D63","NEWPORT (GP)",{"$f":"LEFT(BU261,3)","v":"R1D"},null,null,"St Bartholomew's Hospital","5A SBH"]
[{"$error":"#N/A"},{"$error":"#N/A"},{"$f":"IF(F61=\"\",0,IF(ISERROR(VLOOKUP(CONCATENATE(D61,\"-\",F61),Wards!$A:$A,1,FALSE)),1,0))","v":0},0,0,"","",0,0,0,0,0,0,0,0,0,0,0,null,null,null,null,null,null,null,null,null,null,0,null,null,null,null,null,null,null,0,0,0,0,0,0,0,0,{"$f":"IF(AS61=\"\",0,IF(AS61>100%,1,0))","v":0},0,0,null,null,null,0,null,0,0,0,null,null,null,"","",0,false,0,0,null,null,null,null,null,"R1DNEWPORT HOSPITAL","R1DAF","NEWPORT HOSPITAL","R1DAF","NEWPORT HOSPITAL","R1D",null,null,"St Bartholomew's Hospital","5B SBH"]
[{"$error":"#N/A"},{"$error":"#N/A"},{"$f":"IF(F62=\"\",0,IF(ISERROR(VLOOKUP(CONCATENATE(D62,\"-\",F62),Wards!$A:$A,1,FALSE)),1,0))","v":0},0,0,"","",0,0,0,0,0,0,0,0,0,0,0,null,null,null,null,null,null,null,null,null,null,0,null,null,null,null,null,null,null,{"$f":"IF(AK62=\"\",0,IF(AK62>100%,1,0))","v":0},0,0,0,0,0,0,0,{"$f":"IF(AS62=\"\",0,IF(AS62>100%,1,0))","v":0},0,0,null,null,null,0,null,0,0,0,null,null,null,"","",0,false,0,0,null,null,null,null,null,"R1DOCCUPATIONAL HEALTH DEPARTMENT - FENTON","R1DEK","OCCUPATIONAL HEALTH DEPARTMENT - FENTON","R1DEK","OCCUPATIONAL HEALTH DEPARTMENT - FENTON","R1D",null,null,"St Bartholomew's Hospital","5C SBH"]
[{"$error":"#N/A"},{"$error":"#N/A"},{"$f":"IF(F63=\"\",0,IF(ISERROR(VLOOKUP(CONCATENATE(D63,\"-\",F63),Wards!$A:$A,1,FALSE)),1,0))","v":0},0,0,"","",0,0,0,0,0,0,0,0,0,0,0,null,null,null,null,null,null,null,null,null,null,0,null,null,null,null,null,null,null,0,0,0,0,0,0,0,0,{"$f":"IF(AS63=\"\",0,IF(AS63>100%,1,0))","v":0},0,0,null,null,null,0,null,0,0,0,null,null,null,"","",0,false,0,0,null,null,null,null,null,"R1DOCCUPATIONAL HEALTH FENTON","R1DG7","OCCUPATIONAL HEALTH FENTON","R1DG7","OCCUPATIONAL HEALTH FENTON","R1D",null,null,"St Bartholomew's Hospital","5D SBH"]
[{"$error":"#N/A"},{"$error":"#N/A"},{"$f":"IF(F64=\"\",0,IF(ISERROR(VLOOKUP(CONCATENATE(D64,\"-\",F64),Wards!$A:$A,1,FALSE)),1,0))","v":0},0,0,"","",0,0,0,0,0,0,0,0,0,0,0,null,null,null,null,null,null,null,null,null,null,0,null,null,null,null,null,null,null,0,0,0,0,0,0,0,0,{"$f":"IF(AS64=\"\",0,IF(AS64>100%,1,0))","v":0},0,0,null,null,null,0,null,0,0,0,null,null,null,"","",0,false,0,0,null,null,null,null,null,"R1DOCCUPATIONAL HEALTH GAINS PARK","R1DD9","OCCUPATIONAL HEALTH GAINS PARK","R1DD9","OCCUPATIONAL HEALTH GAINS PARK","R1D",null,null,"St Bartholomew's Hospital","6A SBH"]
[{"$error":"#N/A"},{"$error":"#N/A"},{"$f":"IF(F65=\"\",0,IF(ISERROR(VLOOKUP(CONCATENATE(D65,\"-\",F65),Wards!$A:$A,1,FALSE)),1,0))","v":0},0,0,"","",0,0,0,0,0,0,0,0,0,0,0,null,null,null,null,null,null,null,null,null,null,0,null,null,null,null,null,null,null,0,0,0,0,0,0,0,0,{"$f":"IF(AS65=\"\",0,IF(AS65>100%,1,0))","v":0},0,0,null,null,null,0,null,0,0,0,null,null,null,"","",0,false,0,0,null,null,null,null,null,"R1DOLDFIELD RESIDENTIAL HOME","R1D92","OLDFIELD RESIDENTIAL HOME","R1D92","OLDFIELD RESIDENTIAL HOME","R1D",null,null,"St Bartholomew's Hospital","6D SBH"]
[{"$error":"#N/A"},{"$error":"#N/A"},{"$f":"IF(F66=\"\",0,IF(ISERROR(VLOOKUP(CONCATENATE(D66,\"-\",F66),Wards!$A:$A,1,FALSE)),1,0))","v":0},0,0,"","",0,0,0,0,0,0,0,0,0,0,0,null,null,null,null,null,null,null,null,null,null,0,null,null,null,null,null,null,null,0,0,0,0,0,0,0,0,{"$f":"IF(AS66=\"\",0,IF(AS66>100%,1,0))","v":0},0,0,null,null,null,0,null,0,0,0,null,null,null,"","",0,false,0,0,null,null,null,null,null,"R1DOSWESTRY SOCIAL & HEALTH CARE","R1DDC","OSWESTRY SOCIAL & HEALTH CARE","R1DDC","OSWESTRY SOCIAL & HEALTH CARE","R1D",null,null,"The Royal London Hospital","10E RLH"]
[{"$error":"#N/A"},{"$error":"#N/A"},{"$f":"IF(F67=\"\",0,IF(ISERROR(VLOOKUP(CONCATENATE(D67,\"-\",F67),Wards!$A:$A,1,FALSE)),1,0))","v":0},0,0,"","",0,0,0,0,0,0,0,0,0,0,0,null,null,null,null,null,null,null,null,null,null,0,null,null,null,null,null,null,null,0,0,0,0,0,0,0,0,{"$f":"IF(AS67=\"\",0,IF(AS67>100%,1,0))","v":0},0,0,null,null,null,0,null,0,0,0,null,null,null,"","",0,false,0,0,null,null,null,null,null,"R1DPLAS NEWYDD","R1DA6","PLAS NEWYDD","R1DA6","PLAS NEWYDD","R1D",null,null,"The Royal London Hospital","10F RLH"]
[{"$error":"#N/A"},{"$error":"#N/A"},{"$f":"IF(F68=\"\",0,IF(ISERROR(VLOOKUP(CONCATENATE(D68,\"-\",F68),Wards!$A:$A,1,FALSE)),1,0))","v":0},0,0,"","",0,0,0,0,0,0,0,0,0,0,0,null,null,null,null,null,null,null,null,null,null,0,null,null,null,null,null,null,null,0,0,0,0,0,0,0,0,{"$f":"IF(AS68=\"\",0,IF(AS68>100%,1,0))","v":0},0,0,null,null,null,0,null,0,0,0,null,null,null,"","",0,false,0,0,null,null,null,null,null,"R1DPRINCESS ROYAL HOSPITAL","R1D03","PRINCESS ROYAL HOSPITAL","R1D03","PRINCESS ROYAL HOSPITAL","R1D",null,null,"The Royal London Hospital","11C RLH"]
[{"$error":"#N/A"},{"$error":"#N/A"},{"$f":"IF(F69=\"\",0,IF(ISERROR(VLOOKUP(CONCATENATE(D69,\"-\",F69),Wards!$A:$A,1,FALSE)),1,0))","v":0},0,0,"","",0,0,0,0,0,0,0,0,0,0,0,null,null,null,null,null,null,null,null,null,null,0,null,null,null,null,null,null,null,0,0,0,0,0,0,0,0,{"$f":"IF(AS69=\"\",0,IF(AS69>100%,1,0))","v":0},0,0,null,null,null,0,null,0,0,0,null,null,null,"","",0,false,0,0,null,null,null,null,null,"R1DROBERT JONES & AGNES HUNT ORTHOPAEDIC HOSPITAL","R1DAC","ROBERT JONES & AGNES HUNT ORTHOPAEDIC HOSPITAL","R1DAC","ROBERT JONES & AGNES HUNT ORTHOPAEDIC HOSPITAL","R1D",null,null,"The Royal London Hospital","11E & 11F AAU"]
[{"$error":"#N/A"},{"$error":"#N/A"},{"$f":"IF(F70=\"\",0,IF(ISERROR(VLOOKUP(CONCATENATE(D70,\"-\",F70),Wards!$A:$A,1,FALSE)),1,0))","v":0},0,0,"","",0,0,0,0,0,0,0,0,0,0,0,null,null,null,null,null,null,null,null,null,null,0,null,null,null,null,null,null,null,0,0,0,0,0,0,0,0,{"$f":"IF(AS70=\"\",0,IF(AS70>100%,1,0))","v":0},0,0,null,null,null,0,null,0,0,0,null,null,null,"","",0,false,0,0,null,null,null,null,null,"R1DROYAL SHREWSBURY HOSPITAL","R1D16","ROYAL SHREWSBURY HOSPITAL","R1D16","ROYAL SHREWSBURY HOSPITAL","R1D",null,null,"The Royal London Hospital","12C RLH"]
[{"$error":"#N/A"},{"$error":"#N/A"},{"$f":"IF(F71=\"\",0,IF(ISERROR(VLOOKUP(CONCATENATE(D71,\"-\",F71),Wards!$A:$A,1,FALSE)),1,0))","v":0},0,0,"","",0,0,0,0,0,0,0,0,0,0,0,null,null,null,null,null,null,null,null,null,null,0,null,null,null,null,null,null,null,0,0,0,0,0,0,0,0,{"$f":"IF(AS71=\"\",0,IF(AS71>100%,1,0))","v":0},0,0,null,null,null,0,null,0,0,0,null,null,null,"","",0,false,0,0,null,null,null,null,null,"R1DSEVERN FIELDS HEALTH VILLAGE","R1DFC","SEVERN FIELDS HEALTH VILLAGE","R1DFC","SEVERN FIELDS HEALTH VILLAGE","R1D",null,null,"The Royal London Hospital","12D RLH"]
[{"$error":"#N/A"},{"$error":"#N/A"},{"$f":"IF(F72=\"\",0,IF(ISERROR(VLOOKUP(CONCATENATE(D72,\"-\",F72),Wards!$A:$A,1,FALSE)),1,0))","v":0},0,0,"","",0,0,0,0,0,0,0,0,0,0,0,null,null,null,null,null,null,null,null,null,null,0,null,null,null,null,null,null,null,0,0,0,0,0,0,0,0,{"$f":"IF(AS72=\"\",0,IF(AS72>100%,1,0))","v":0},0,0,null,null,null,0,null,0,0,0,null,null,null,"","",0,false,0,0,null,null,null,null,null,"R1DSHELTON HOSPITAL","R1D01","SHELTON HOSPITAL","R1D01","SHELTON HOSPITAL","R1D",null,null,"The Royal London Hospital","12E RLH"]
[{"$error":"#N/A"},{"$error":"#N/A"},{"$f":"IF(F73=\"\",0,IF(ISERROR(VLOOKUP(CONCATENATE(D73,\"-\",F73),Wards!$A:$A,1,FALSE)),1,0))","v":0},0,0,"","",0,0,0,0,0,0,0,0,0,0,0,null,null,null,null,null,null,null,null,null,null,0,null,null,null,null,null,null,null,0,0,0,0,0,0,0,0,{"$f":"IF(AS73=\"\",0,IF(AS73>100%,1,0))","v":0},0,0,null,null,null,0,null,0,0,0,null,null,null,"","",0,false,0,0,null,null,null,null,null,"R1DSHERBOURNE","R1D90","SHERBOURNE","R1D90","SHERBOURNE","R1D",null,null,"The Royal London Hospital","12F RLH"]
[{"$error":"#N/A"},{"$error":"#N/A"},{"$f":"IF(F74=\"\",0,IF(ISERROR(VLOOKUP(CONCATENATE(D74,\"-\",F74),Wards!$A:$A,1,FALSE)),1,0))","v":0},0,0,"","",0,0,0,0,0,0,0,0,0,0,0,null,null,null,null,null,null,null,null,null,null,0,null,null,null,null,null,null,null,0,0,0,0,0,0,0,0,{"$f":"IF(AS74=\"\",0,IF(AS74>100%,1,0))","v":0},0,0,null,null,null,0,null,0,0,0,null,null,null,"","",0,false,0,0,null,null,null,null,null,"R1DSINGLE POINT OF ACCESS","R1DJ5","SINGLE POINT OF ACCESS","R1DJ5","SINGLE POINT OF ACCESS","R1D",null,null,"The Royal London Hospital","13C RLH"]
[{"$error":"#N/A"},{"$error":"#N/A"},{"$f":"IF(F75=\"\",0,IF(ISERROR(VLOOKUP(CONCATENATE(D75,\"-\",F75),Wards!$A:$A,1,FALSE)),1,0))","v":0},0,0,"","",0,0,0,0,0,0,0,0,0,0,0,null,null,null,null,null,null,null,null,null,null,0,null,null,null,null,null,null,null,0,0,0,0,0,0,0,0,{"$f":"IF(AS75=\"\",0,IF(AS75>100%,1,0))","v":0},0,0,null,null,null,0,null,0,0,0,null,null,null,"","",0,false,0,0,null,null,null,null,null,"R1DTELFORD AND WREKIN PCT COMMISSIONERS","R1DEJ","TELFORD AND WREKIN PCT COMMISSIONERS","R1DEJ","TELFORD AND WREKIN PCT COMMISSIONERS","R1D",null,null,"The Royal London Hospital","13D RLH"]
[{"$error":"#N/A"},{"$error":"#N/A"},{"$f":"IF(F76=\"\",0,IF(ISERROR(VLOOKUP(CONCATENATE(D76,\"-\",F76),Wards!$A:$A,1,FALSE)),1,0))","v":0},0,0,"","",0,0,0,0,0,0,0,0,0,0,0,null,null,null,null,null,null,null,null,null,null,0,null,null,null,null,null,null,null,0,0,0,0,0,0,0,0,{"$f":"IF(AS76=\"\",0,IF(AS76>100%,1,0))","v":0},0,0,null,null,null,0,null,0,0,0,null,null,null,"","",0,false,0,0,null,null,null,null,null,"R1DTERRENCE HIGGINS TRUST WELLINGTON","R1DFL","TERRENCE HIGGINS TRUST WELLINGTON","R1DFL","TERRENCE HIGGINS TRUST WELLINGTON","R1D",null,null,"The Royal London Hospital","13E RLH"]
[{"$error":"#N/A"},{"$error":"#N/A"},{"$f":"IF(F77=\"\",0,IF(ISERROR(VLOOKUP(CONCATENATE(D77,\"-\",F77),Wards!$A:$A,1,FALSE)),1,0))","v":0},0,0,"","",0,0,0,0,0,0,0,0,0,0,0,null,null,null,null,null,null,null,null,null,null,0,null,null,null,null,null,null,null,0,0,0,0,0,0,0,0,{"$f":"IF(AS77=\"\",0,IF(AS77>100%,1,0))","v":0},0,0,null,null,null,0,null,0,0,0,null,null,null,"","",0,false,0,0,null,null,null,null,null,"R1DTHE HEATHERS","R1D80","THE HEATHERS","R1D80","THE HEATHERS","R1D",null,null,"The Royal London Hospital","13F RLH"]
[{"$f":"VLOOKUP($D78,$BS:$BS,1,0)","v":{"$error":"#N/A"}},{"$f":"VLOOKUP($E78,$BT:$BT,1,0)","v":{"$error":"#N/A"}},{"$f":"IF(F78=\"\",0,IF(ISERROR(VLOOKUP(CONCATENATE(D78,\"-\",F78),Wards!$A:$A,1,FALSE)),1,0))","v":0},{"$f":"IF(D78=\"\",0,IF(ISERROR(VLOOKUP(D78,$BS$3:$BS$250,1,0)),0,IF(VLOOKUP(D78,$BS$3:$BW$250,5,0)=$B$8,0,1)))","v":0},0,"","",0,0,{"$f":"IF(G78=\"\",0,IF(ISERROR(VLOOKUP(G78,$AV$14:$AV$98,1,FALSE)),1,0))","v":0},{"$f":"IF(H78=\"\",0,IF(ISERROR(VLOOKUP(H78,$AV$14:$AV$98,1,FALSE)),1,0))","v":0},0,0,0,0,0,0,0,null,null,null,null,null,null,null,null,null,null,0,null,null,null,null,null,null,null,{"$f":"IF(AK78=\"\",0,IF(AK78>100%,1,0))","v":0},0,0,0,0,0,0,0,{"$f":"IF(AS78=\"\",0,IF(AS78>100%,1,0))","v":0},0,0,null,null,null,0,null,0,0,0,null,null,null,"","",0,false,0,0,null,null,null,null,null,"R1DTHE LAUREL'S","R1DC1","THE LAUREL'S","R1DC1","THE LAUREL'S","R1D",null,null,"The Royal London Hospital","14E RLH"]
[{"$error":"#N/A"},{"$error":"#N/A"},{"$f":"IF(F79=\"\",0,IF(ISERROR(VLOOKUP(CONCATENATE(D79,\"-\",F79),Wards!$A:$A,1,FALSE)),1,0))","v":0},0,{"$f":"IF(E79=\"\",0,IF(G79=\"\",1,0))","v":0},{"$f":"IF(E79=\"\",\"\",IF(SUM(I79,K79,Q79,S79,M79,O79,U79,W79,Y79,AA79)=0,1,0))","v":""},{"$f":"IF(E79=\"\",\"\",IF(SUM(J79,L79,R79,T79,N79,P79,V79,X79,Z79,AB79)=0,1,0))","v":""},{"$f":"IF(E79=\"\",0,IF(SUM(I79:T79)<1448,1,0))","v":0},{"$f":"IF(E79=\"\",0,IF((J79+L79+R79+T79)>30000,1,0))","v":0},0,0,{"$f":"IF(E79=\"\",0,IF(D79=\"\",1,0))","v":0},{"$f":"IF(F79=\"\",0,IF(E79=\"\",1,0))","v":0},{"$f":"IF(G79=\"\",0,IF(F79=\"\",1,0))","v":0},{"$f":"IF(H79=\"\",0,IF(G79=\"\",1,0))","v":0},{"$f":"IF(I79=\"\",0,IF(H79=\"\",1,0))","v":0},{"$f":"IF(OR(I79<>\"\",K79<>\"\",J79<>\"\",L79<>\"\",Q79<>\"\",R79<>\"\",S79<>\"\",T79<>\"\",F79<>\"\",G79<>\"\",H79<>\"\",M79<>\"\",N79<>\"\",O79<>\"\",P79<>\"\",U79<>\"\",V79<>\"\",W79<>\"\",X79<>\"\",Y79<>\"\",Z79<>\"\",AA79<>\"\",AB79<>\"\",AC79<>\"\"),IF(E79=\"\",1,0),0)","v":0},{"$f":"IF(E79=\"\",0,IF(F79=\"\",1,0))","v":0},null,null,null,null,null,null,null,null,null,null,{"$f":"IF(AND(SUM(N79,P79,V79,J79,L79,R79,T79,X79,Z79,AB79)>0,AC79=0),1,0)","v":0},null,null,null,null,null,null,null,0,0,0,0,0,0,0,0,{"$f":"IF(AS79=\"\",0,IF(AS79>100%,1,0))","v":0},0,{"$f":"SUM(H280:AT280)","v":0},null,null,null,{"$f":"IF(AK78=\"\",0, IF(AK78=\"-\",0,IF(AK78>100%,1,0)))","v":0},null,0,0,0,null,null,null,"",{"$f":"IF(BG280=\"\",\"\",(IF(COUNTIF($BG$216:$BG$414,BG280)>1,1,0))=1)","v":""},0,{"$f":"IF(E78=\"\",(COUNTA(E79)=1),\"Complete\")","v":false},0,{"$f":"IF(G78=\"\",0,IF(G78=H78,1,0))","v":0},null,null,null,null,null,"R1DTHE MEWS","R1DDD","THE MEWS","R1DDD","THE MEWS","R1D",null,null,"The Royal London Hospital","14F RLH"]
[{"$error":"#N/A"},{"$error":"#N/A"},{"$f":"IF(F80=\"\",0,IF(ISERROR(VLOOKUP(CONCATENATE(D80,\"-\",F80),Wards!$A:$A,1,FALSE)),1,0))","v":0},0,0,"","",0,0,0,0,0,0,0,0,0,0,0,null,null,null,null,null,null,null,null,null,null,0,null,null,null,null,null,null,null,0,0,0,0,0,0,0,0,{"$f":"IF(AS80=\"\",0,IF(AS80>100%,1,0))","v":0},0,0,null,null,null,0,null,0,0,0,null,null,null,{"$f":"CONCATENATE(D79,E79,F79)","v":""},"",{"$f":"IF(BH281=TRUE,1,0)","v":0},false,{"$f":"IF(BJ281=\"Complete\",0, IF(BJ281=TRUE, 1, IF(BJ281=FALSE,0,0)))","v":0},0,null,null,null,null,null,"R1DTHE MOUNT","R1D02","THE MOUNT","R1D02","THE MOUNT","R1D",null,null,"The Royal London Hospital","3D RLH"]
[{"$error":"#N/A"},{"$error":"#N/A"},{"$f":"IF(F81=\"\",0,IF(ISERROR(VLOOKUP(CONCATENATE(D81,\"-\",F81),Wards!$A:$A,1,FALSE)),1,0))","v":0},0,0,"","",0,0,0,0,0,0,0,0,0,0,0,null,null,null,null,null,null,null,null,null,null,0,null,null,null,null,null,null,null,0,0,0,0,0,0,0,0,{"$f":"IF(AS81=\"\",0,IF(AS81>100%,1,0))","v":0},0,0,null,null,null,0,null,0,0,0,null,null,null,"","",0,false,0,0,null,null,null,null,null,"R1DTHE OLD BARN","R1D93","THE OLD BARN","R1D93","THE OLD BARN","R1D",null,null,"The Royal London Hospital","3E RLH"]
[{"$error":"#N/A"},{"$error":"#N/A"},{"$f":"IF(F82=\"\",0,IF(ISERROR(VLOOKUP(CONCATENATE(D82,\"-\",F82),Wards!$A:$A,1,FALSE)),1,0))","v":0},0,0,"","",0,0,0,0,0,0,0,0,0,0,0,null,null,null,null,null,null,null,null,null,null,0,null,null,null,null,null,null,null,0,0,0,0,0,0,0,0,{"$f":"IF(AS82=\"\",0,IF(AS82>100%,1,0))","v":0},0,0,null,null,null,0,null,0,0,0,null,null,null,"","",0,false,0,0,null,null,null,null,null,"R1DVISION HOMES (1A)","R1D84","VISION HOMES (1A)","R1D84","VISION HOMES (1A)","R1D",null,null,"The Royal London Hospital","3F RLH"]
[{"$error":"#N/A"},{"$error":"#N/A"},{"$f":"IF(F83=\"\",0,IF(ISERROR(VLOOKUP(CONCATENATE(D83,\"-\",F83),Wards!$A:$A,1,FALSE)),1,0))","v":0},0,0,"","",0,0,0,0,0,0,0,0,0,0,0,null,null,null,null,null,null,null,null,null,null,0,null,null,null,null,null,null,null,0,0,0,0,0,0,0,0,{"$f":"IF(AS83=\"\",0,IF(AS83>100%,1,0))","v":0},0,0,null,null,null,0,null,0,0,0,null,null,null,"","",0,false,0,0,null,null,null,null,null,"R1DWEST BANK","R1D11","WEST BANK","R1D11","WEST BANK","R1D",null,null,"The Royal London Hospital","4E RLH"]
[{"$error":"#N/A"},{"$error":"#N/A"},{"$f":"IF(F84=\"\",0,IF(ISERROR(VLOOKUP(CONCATENATE(D84,\"-\",F84),Wards!$A:$A,1,FALSE)),1,0))","v":0},0,0,"","",0,0,0,0,0,0,0,0,0,0,0,null,null,null,null,null,null,null,null,null,null,0,null,null,null,null,null,null,null,0,0,0,0,0,0,0,0,{"$f":"IF(AS84=\"\",0,IF(AS84>100%,1,0))","v":0},0,0,null,null,null,0,null,0,0,0,null,null,null,"","",0,false,0,0,null,null,null,null,null,"R1DWHITCHURCH COMMUNITY HOSPITAL","R1DG5","WHITCHURCH COMMUNITY HOSPITAL","R1DG5","WHITCHURCH COMMUNITY HOSPITAL","R1D",null,null,"The Royal London Hospital","6C RLH"]
[{"$error":"#N/A"},{"$error":"#N/A"},{"$f":"IF(F85=\"\",0,IF(ISERROR(VLOOKUP(CONCATENATE(D85,\"-\",F85),Wards!$A:$A,1,FALSE)),1,0))","v":0},0,0,"","",0,0,0,0,0,0,0,0,0,0,0,null,null,null,null,null,null,null,null,null,null,0,null,null,null,null,null,null,null,0,0,0,0,0,0,0,0,{"$f":"IF(AS85=\"\",0,IF(AS85>100%,1,0))","v":0},0,0,null,null,null,0,null,0,0,0,null,null,null,"","",0,false,0,0,null,null,null,null,null,"R1DWHITCHURCH HOSP OPD1","R1DJ4","WHITCHURCH HOSP OPD1","R1DJ4","WHITCHURCH HOSP OPD1","R1D",null,null,"The Royal London Hospital","6E & 6F RLH"]
[{"$error":"#N/A"},{"$error":"#N/A"},{"$f":"IF(F86=\"\",0,IF(ISERROR(VLOOKUP(CONCATENATE(D86,\"-\",F86),Wards!$A:$A,1,FALSE)),1,0))","v":0},0,0,"","",0,0,0,0,0,0,0,0,0,0,0,null,null,null,null,null,null,null,null,null,null,0,null,null,null,null,null,null,null,0,0,0,0,0,0,0,0,{"$f":"IF(AS86=\"\",0,IF(AS86>100%,1,0))","v":0},0,0,null,null,null,0,null,0,0,0,null,null,null,"","",0,false,0,0,null,null,null,null,null,"R1DWHITCHURCH HOSPITAL ","R1D34","WHITCHURCH HOSPITAL ","R1D34","WHITCHURCH HOSPITAL ","R1D",null,null,"The Royal London Hospital","7C RLH"]
[{"$error":"#N/A"},{"$error":"#N/A"},{"$f":"IF(F87=\"\",0,IF(ISERROR(VLOOKUP(CONCATENATE(D87,\"-\",F87),Wards!$A:$A,1,FALSE)),1,0))","v":0},0,0,"","",0,0,0,0,0,0,0,0,0,0,0,null,null,null,null,null,null,null,null,null,null,0,null,null,null,null,null,null,null,0,0,0,0,0,0,0,0,{"$f":"IF(AS87=\"\",0,IF(AS87>100%,1,0))","v":0},0,0,null,null,null,0,null,0,0,0,null,null,null,"","",0,false,0,0,null,null,null,null,null,"R1DWREXHAM MAELOR HOSPITAL","R1DD4","WREXHAM MAELOR HOSPITAL","R1DD4","WREXHAM MAELOR HOSPITAL","R1D",null,null,"The Royal London Hospital","7D RLH"]
[{"$error":"#N/A"},{"$error":"#N/A"},{"$f":"IF(F88=\"\",0,IF(ISERROR(VLOOKUP(CONCATENATE(D88,\"-\",F88),Wards!$A:$A,1,FALSE)),1,0))","v":0},0,0,"","",0,0,0,0,0,0,0,0,0,0,0,null,null,null,null,null,null,null,null,null,null,0,null,null,null,null,null,null,null,0,0,0,0,0,0,0,0,{"$f":"IF(AS88=\"\",0,IF(AS88>100%,1,0))","v":0},0,0,null,null,null,0,null,0,0,0,null,null,null,"","",0,false,0,0,null,null,null,null,null,"R1EAIRS - CHEADLE HOSPITAL","R1EL7","AIRS - CHEADLE HOSPITAL","R1EL7","AIRS - CHEADLE HOSPITAL","R1E",null,null,"The Royal London Hospital","7E NORTH RLH"]
[{"$error":"#N/A"},{"$error":"#N/A"},{"$f":"IF(F89=\"\",0,IF(ISERROR(VLOOKUP(CONCATENATE(D89,\"-\",F89),Wards!$A:$A,1,FALSE)),1,0))","v":0},0,0,"","",0,0,0,0,0,0,0,0,0,0,0,null,null,null,null,null,null,null,null,null,null,0,null,null,null,null,null,null,null,0,0,0,0,0,0,0,0,{"$f":"IF(AS89=\"\",0,IF(AS89>100%,1,0))","v":0},0,0,null,null,null,0,null,0,0,0,null,null,null,"","",0,false,0,0,null,null,null,null,null,"R1EAIRS - HAYWOOD HOSPTIAL","R1EK8","AIRS - HAYWOOD HOSPTIAL","R1EK8","AIRS - HAYWOOD HOSPTIAL","R1E",null,null,"The Royal London Hospital","7E RLH"]
[{"$error":"#N/A"},{"$error":"#N/A"},{"$f":"IF(F90=\"\",0,IF(ISERROR(VLOOKUP(CONCATENATE(D90,\"-\",F90),Wards!$A:$A,1,FALSE)),1,0))","v":0},0,0,"","",0,0,0,0,0,0,0,0,0,0,0,null,null,null,null,null,null,null,null,null,null,0,null,null,null,null,null,null,null,0,0,0,0,0,0,0,0,{"$f":"IF(AS90=\"\",0,IF(AS90>100%,1,0))","v":0},0,0,null,null,null,0,null,{"$f":"IF(AL89=\"\",0, IF(AL89=\"-\",0,IF(AL89>100%,1,0)))","v":0},{"$f":"IF(AO89=\"\",0, IF(AO89=\"-\",0,IF(AO89>100%,1,0)))","v":0},{"$f":"IF(AP89=\"\",0, IF(AP89=\"-\",0,IF(AP89>100%,1,0)))","v":0},null,null,null,"","",0,false,0,0,null,null,null,null,null,"R1EAIRS - LEEK MOORLANDS HOSPITAL","R1EL8","AIRS - LEEK MOORLANDS HOSPITAL","R1EL8","AIRS - LEEK MOORLANDS HOSPITAL","R1E",null,null,"The Royal London Hospital","7F RLH"]
[{"$error":"#N/A"},{"$error":"#N/A"},{"$f":"IF(F91=\"\",0,IF(ISERROR(VLOOKUP(CONCATENATE(D91,\"-\",F91),Wards!$A:$A,1,FALSE)),1,0))","v":0},0,0,"","",0,0,0,0,0,0,0,0,0,0,0,null,null,null,null,null,null,null,null,null,null,0,null,null,null,null,null,null,null,0,0,0,0,0,0,0,0,{"$f":"IF(AS91=\"\",0,IF(AS91>100%,1,0))","v":0},0,0,null,null,null,0,null,0,0,0,null,null,null,"","",0,false,0,0,null,null,null,null,null,"R1EAIRS - LONGTON COTTAGE HOSPTIAL","R1EK7","AIRS - LONGTON COTTAGE HOSPTIAL","R1EK7","AIRS - LONGTON COTTAGE HOSPTIAL","R1E",null,null,"The Royal London Hospital","8C RLH"]
[{"$error":"#N/A"},{"$error":"#N/A"},{"$f":"IF(F92=\"\",0,IF(ISERROR(VLOOKUP(CONCATENATE(D92,\"-\",F92),Wards!$A:$A,1,FALSE)),1,0))","v":0},0,0,"","",0,0,0,0,0,0,0,0,0,0,0,null,null,null,null,null,null,null,null,null,null,0,null,null,null,null,null,null,null,0,0,0,0,0,0,0,0,{"$f":"IF(AS92=\"\",0,IF(AS92>100%,1,0))","v":0},0,0,null,null,null,0,null,0,0,0,null,null,null,"","",0,false,0,0,null,null,null,null,null,"R1EAIRS -BRADWELL HOSPITAL","R1EL6","AIRS -BRADWELL HOSPITAL","R1EL6","AIRS -BRADWELL HOSPITAL","R1E",null,null,"The Royal London Hospital","8D RLH"]
[{"$error":"#N/A"},{"$error":"#N/A"},{"$f":"IF(F93=\"\",0,IF(ISERROR(VLOOKUP(CONCATENATE(D93,\"-\",F93),Wards!$A:$A,1,FALSE)),1,0))","v":0},0,0,"","",0,0,0,0,0,0,0,0,0,0,0,null,null,null,null,null,null,null,null,null,null,0,null,null,null,null,null,null,null,0,0,0,0,0,0,0,0,{"$f":"IF(AS93=\"\",0,IF(AS93>100%,1,0))","v":0},0,0,null,null,null,0,null,0,0,0,null,null,null,"","",0,false,0,0,null,null,null,null,null,"R1EAQUEDUCT","R1EM1","AQUEDUCT","R1EM1","AQUEDUCT","R1E",null,null,"The Royal London Hospital","8F RLH"]
[{"$error":"#N/A"},{"$error":"#N/A"},{"$f":"IF(F94=\"\",0,IF(ISERROR(VLOOKUP(CONCATENATE(D94,\"-\",F94),Wards!$A:$A,1,FALSE)),1,0))","v":0},0,0,"","",0,0,0,0,0,0,0,0,0,0,0,null,null,null,null,null,null,null,null,null,null,0,null,null,null,null,null,null,null,{"$f":"IF(AK94=\"\",0,IF(AK94>100%,1,0))","v":0},0,0,0,0,0,0,0,{"$f":"IF(AS94=\"\",0,IF(AS94>100%,1,0))","v":0},0,0,null,null,null,0,null,0,0,0,null,null,null,"","",0,false,0,0,null,null,null,null,null,"R1EBARTON UNDER NEEDWOOD COTTAGE HOSPITAL","R1E04","BARTON UNDER NEEDWOOD COTTAGE HOSPITAL","R1E04","BARTON UNDER NEEDWOOD COTTAGE HOSPITAL","R1E",null,null,"The Royal London Hospital","9E HDU RLH"]
[{"$error":"#N/A"},{"$error":"#N/A"},{"$f":"IF(F95=\"\",0,IF(ISERROR(VLOOKUP(CONCATENATE(D95,\"-\",F95),Wards!$A:$A,1,FALSE)),1,0))","v":0},0,0,"","",0,0,0,0,0,0,0,0,0,0,0,null,null,null,null,null,null,null,null,null,null,0,null,null,null,null,null,null,null,0,0,0,0,0,0,0,0,{"$f":"IF(AS95=\"\",0,IF(AS95>100%,1,0))","v":0},0,0,null,null,null,0,null,0,0,0,null,null,null,"","",0,false,0,0,null,null,null,null,null,"R1EBRADWELL HOSPITAL","R1EE5","BRADWELL HOSPITAL","R1EE5","BRADWELL HOSPITAL","R1E",null,null,"The Royal London Hospital","9E RLH"]
[{"$error":"#N/A"},{"$error":"#N/A"},{"$f":"IF(F96=\"\",0,IF(ISERROR(VLOOKUP(CONCATENATE(D96,\"-\",F96),Wards!$A:$A,1,FALSE)),1,0))","v":0},0,0,"","",0,0,0,0,0,0,0,0,0,0,0,null,null,null,null,null,null,null,null,null,null,0,null,null,null,null,null,null,null,0,0,0,0,0,0,0,0,{"$f":"IF(AS96=\"\",0,IF(AS96>100%,1,0))","v":0},0,0,null,null,null,0,null,0,0,0,null,null,null,"","",0,false,0,0,null,null,null,null,null,"R1EBUCKNALL HOSPITAL","R1E74","BUCKNALL HOSPITAL","R1E74","BUCKNALL HOSPITAL","R1E",null,null,"The Royal London Hospital","9F RLH"]
[{"$error":"#N/A"},{"$error":"#N/A"},{"$f":"IF(F97=\"\",0,IF(ISERROR(VLOOKUP(CONCATENATE(D97,\"-\",F97),Wards!$A:$A,1,FALSE)),1,0))","v":0},0,0,"","",0,0,0,0,0,0,0,0,0,0,0,null,null,null,null,null,null,null,null,null,null,0,null,null,null,null,null,null,null,0,0,0,0,0,0,0,0,{"$f":"IF(AS97=\"\",0,IF(AS97>100%,1,0))","v":0},0,0,null,null,null,0,null,0,0,0,null,null,null,"","",0,false,0,0,null,null,null,null,null,"R1ECANNOCK CHASE HOSPITAL","R1E07","CANNOCK CHASE HOSPITAL","R1E07","CANNOCK CHASE HOSPITAL","R1E",null,null,"Whipps Cross University Hospital","AAU WXH"]
[{"$error":"#N/A"},{"$error":"#N/A"},{"$f":"IF(F98=\"\",0,IF(ISERROR(VLOOKUP(CONCATENATE(D98,\"-\",F98),Wards!$A:$A,1,FALSE)),1,0))","v":0},0,0,"","",0,0,0,0,0,0,0,0,0,0,0,null,null,null,null,null,null,null,null,null,null,0,null,null,null,null,null,null,null,0,0,0,0,0,0,0,0,{"$f":"IF(AS98=\"\",0,IF(AS98>100%,1,0))","v":0},0,0,null,null,null,0,null,0,0,0,null,null,null,"","",0,false,0,0,null,null,null,null,null,"R1ECHEADLE HOSPITAL","R1EE4","CHEADLE HOSPITAL","R1EE4","CHEADLE HOSPITAL","R1E",null,null,"Whipps Cross University Hospital","ACACIA"]
[{"$error":"#N/A"},{"$error":"#N/A"},{"$f":"IF(F99=\"\",0,IF(ISERROR(VLOOKUP(CONCATENATE(D99,\"-\",F99),Wards!$A:$A,1,FALSE)),1,0))","v":0},0,0,"","",0,0,0,0,0,0,0,0,0,0,0,null,null,null,null,null,null,null,null,null,null,0,null,null,null,null,null,null,null,0,0,0,0,0,0,0,0,{"$f":"IF(AS99=\"\",0,IF(AS99>100%,1,0))","v":0},0,0,null,null,null,0,null,0,0,0,null,null,null,"","",0,false,0,0,null,null,null,null,null,"R1EDR PARIKH AND PARTNER","R1E97","DR PARIKH AND PARTNER","R1E97","DR PARIKH AND PARTNER","R1E",null,null,"Whipps Cross University Hospital","ACORN"]
[{"$error":"#N/A"},{"$error":"#N/A"},{"$f":"IF(F100=\"\",0,IF(ISERROR(VLOOKUP(CONCATENATE(D100,\"-\",F100),Wards!$A:$A,1,FALSE)),1,0))","v":0},0,0,"","",0,0,0,0,0,0,0,0,0,0,0,null,null,null,null,null,null,null,null,null,null,0,null,null,null,null,null,null,null,0,0,0,0,0,0,0,0,{"$f":"IF(AS100=\"\",0,IF(AS100>100%,1,0))","v":0},0,0,null,null,null,0,null,0,0,0,null,null,null,"","",0,false,0,0,null,null,null,null,null,"R1EDRUG LINK","R1EA2","DRUG LINK","R1EA2","DRUG LINK","R1E",null,null,"Whipps Cross University Hospital","BIRCH"]
[{"$error":"#N/A"},{"$error":"#N/A"},{"$f":"IF(F101=\"\",0,IF(ISERROR(VLOOKUP(CONCATENATE(D101,\"-\",F101),Wards!$A:$A,1,FALSE)),1,0))","v":0},0,0,"","",0,0,0,0,0,0,0,0,0,0,0,null,null,null,null,null,null,null,null,null,null,0,null,null,null,null,null,null,null,0,0,0,0,0,0,0,0,{"$f":"IF(AS101=\"\",0,IF(AS101>100%,1,0))","v":0},0,0,null,null,null,0,null,0,0,0,null,null,null,"","",0,false,0,0,null,null,null,null,null,"R1EHAYWOOD HOSPITAL","R1E56","HAYWOOD HOSPITAL","R1E56","HAYWOOD HOSPITAL","R1E",null,null,"Whipps Cross University Hospital","Bracken"]
[{"$error":"#N/A"},{"$error":"#N/A"},{"$f":"IF(F102=\"\",0,IF(ISERROR(VLOOKUP(CONCATENATE(D102,\"-\",F102),Wards!$A:$A,1,FALSE)),1,0))","v":0},0,0,"","",0,0,0,0,0,0,0,0,0,0,0,null,null,null,null,null,null,null,null,null,null,0,null,null,null,null,null,null,null,0,0,0,0,0,0,0,0,{"$f":"IF(AS102=\"\",0,IF(AS102>100%,1,0))","v":0},0,0,null,null,null,0,null,0,0,0,null,null,null,"","",0,false,0,0,null,null,null,null,null,"R1EHILLTOP / ST MICHAELS","R1EA4","HILLTOP / ST MICHAELS","R1EA4","HILLTOP / ST MICHAELS","R1E",null,null,"Whipps Cross University Hospital","CEDAR"]
[{"$error":"#N/A"},{"$error":"#N/A"},{"$f":"IF(F103=\"\",0,IF(ISERROR(VLOOKUP(CONCATENATE(D103,\"-\",F103),Wards!$A:$A,1,FALSE)),1,0))","v":0},0,0,"","",0,0,0,0,0,0,0,0,0,0,0,null,null,null,null,null,null,null,null,null,null,0,null,null,null,null,null,null,null,0,0,0,0,0,0,0,0,{"$f":"IF(AS103=\"\",0,IF(AS103>100%,1,0))","v":0},0,0,null,null,null,0,null,0,0,0,null,null,null,"","",0,false,0,0,null,null,null,null,null,"R1EKEELE UNIVERSITY","R1ED4","KEELE UNIVERSITY","R1ED4","KEELE UNIVERSITY","R1E",null,null,"Whipps Cross University Hospital","CHESTNUT"]
[{"$error":"#N/A"},{"$error":"#N/A"},{"$f":"IF(F104=\"\",0,IF(ISERROR(VLOOKUP(CONCATENATE(D104,\"-\",F104),Wards!$A:$A,1,FALSE)),1,0))","v":0},0,0,"","",0,0,0,0,0,0,0,0,0,0,0,null,null,null,null,null,null,null,null,null,null,0,null,null,null,null,null,null,null,0,0,0,0,0,0,0,0,{"$f":"IF(AS104=\"\",0,IF(AS104>100%,1,0))","v":0},0,0,null,null,null,0,null,0,0,0,null,null,null,"","",0,false,0,0,null,null,null,null,null,"R1ELEEK MOORLANDS HOSPITAL","R1EE3","LEEK MOORLANDS HOSPITAL","R1EE3","LEEK MOORLANDS HOSPITAL","R1E",null,null,"Whipps Cross University Hospital","CONIFER"]
[{"$error":"#N/A"},{"$error":"#N/A"},{"$f":"IF(F105=\"\",0,IF(ISERROR(VLOOKUP(CONCATENATE(D105,\"-\",F105),Wards!$A:$A,1,FALSE)),1,0))","v":0},0,0,"","",0,0,0,0,0,0,0,0,0,0,0,null,null,null,null,null,null,null,null,null,null,0,null,null,null,null,null,null,null,0,0,0,0,0,0,0,0,{"$f":"IF(AS105=\"\",0,IF(AS105>100%,1,0))","v":0},0,0,null,null,null,0,null,0,0,0,null,null,null,"","",0,false,0,0,null,null,null,null,null,"R1ELONGTON HOSPITAL","R1E75","LONGTON HOSPITAL","R1E75","LONGTON HOSPITAL","R1E",null,null,"Whipps Cross University Hospital","CURIE"]
[{"$error":"#N/A"},{"$error":"#N/A"},{"$f":"IF(F106=\"\",0,IF(ISERROR(VLOOKUP(CONCATENATE(D106,\"-\",F106),Wards!$A:$A,1,FALSE)),1,0))","v":0},0,0,"","",0,0,0,0,0,0,0,0,0,0,0,null,null,null,null,null,null,null,null,null,null,0,null,null,null,null,null,null,null,0,0,0,0,0,0,0,0,{"$f":"IF(AS106=\"\",0,IF(AS106>100%,1,0))","v":0},0,0,null,null,null,0,null,0,0,0,null,null,null,"","",0,false,0,0,null,null,null,null,null,"R1EMAIN BUILDING CITY GENERAL HOSPITAL","R1EH2","MAIN BUILDING CITY GENERAL HOSPITAL","R1EH2","MAIN BUILDING CITY GENERAL HOSPITAL","R1E",null,null,"Whipps Cross University Hospital","DELIVERY SUITE WXH"]
[{"$error":"#N/A"},{"$error":"#N/A"},{"$f":"IF(F107=\"\",0,IF(ISERROR(VLOOKUP(CONCATENATE(D107,\"-\",F107),Wards!$A:$A,1,FALSE)),1,0))","v":0},0,0,"","",0,0,0,0,0,0,0,0,0,0,0,null,null,null,null,null,null,null,null,null,null,0,null,null,null,null,null,null,null,0,0,0,0,0,0,0,0,{"$f":"IF(AS107=\"\",0,IF(AS107>100%,1,0))","v":0},0,0,null,null,null,0,null,0,0,0,null,null,null,"","",0,false,0,0,null,null,null,null,null,"R1ENORTH STAFFS URGENT CARE","R1E89","NORTH STAFFS URGENT CARE","R1E89","NORTH STAFFS URGENT CARE","R1E",null,null,"Whipps Cross University Hospital","ELIZABETH"]
[{"$error":"#N/A"},{"$error":"#N/A"},{"$f":"IF(F108=\"\",0,IF(ISERROR(VLOOKUP(CONCATENATE(D108,\"-\",F108),Wards!$A:$A,1,FALSE)),1,0))","v":0},0,0,"","",0,0,0,0,0,0,0,0,0,0,0,null,null,null,null,null,null,null,null,null,null,0,null,null,null,null,null,null,null,0,0,0,0,0,0,0,0,{"$f":"IF(AS108=\"\",0,IF(AS108>100%,1,0))","v":0},0,0,null,null,null,0,null,0,0,0,null,null,null,"","",0,false,0,0,null,null,null,null,null,"R1EOAKWOOD","R1EH1","OAKWOOD","R1EH1","OAKWOOD","R1E",null,null,"Whipps Cross University Hospital","FARADAY"]
[{"$error":"#N/A"},{"$error":"#N/A"},{"$f":"IF(F109=\"\",0,IF(ISERROR(VLOOKUP(CONCATENATE(D109,\"-\",F109),Wards!$A:$A,1,FALSE)),1,0))","v":0},0,0,"","",0,0,0,0,0,0,0,0,0,0,0,null,null,null,null,null,null,null,null,null,null,0,null,null,null,null,null,null,null,0,0,0,0,0,0,0,0,{"$f":"IF(AS109=\"\",0,IF(AS109>100%,1,0))","v":0},0,0,null,null,null,0,null,0,0,0,null,null,null,"","",0,false,0,0,null,null,null,null,null,"R1EREHABILITATION MEDICINE","R1EL9","REHABILITATION MEDICINE","R1EL9","REHABILITATION MEDICINE","R1E",null,null,"Whipps Cross University Hospital","Frail Elderly WXH"]
[{"$f":"VLOOKUP($D110,$BS:$BS,1,0)","v":{"$error":"#N/A"}},{"$f":"VLOOKUP($E110,$BT:$BT,1,0)","v":{"$error":"#N/A"}},{"$f":"IF(F110=\"\",0,IF(ISERROR(VLOOKUP(CONCATENATE(D110,\"-\",F110),Wards!$A:$A,1,FALSE)),1,0))","v":0},{"$f":"IF(D110=\"\",0,IF(ISERROR(VLOOKUP(D110,$BS$3:$BS$250,1,0)),0,IF(VLOOKUP(D110,$BS$3:$BW$250,5,0)=$B$8,0,1)))","v":0},0,"","",0,0,{"$f":"IF(G110=\"\",0,IF(ISERROR(VLOOKUP(G110,$AV$14:$AV$98,1,FALSE)),1,0))","v":0},{"$f":"IF(H110=\"\",0,IF(ISERROR(VLOOKUP(H110,$AV$14:$AV$98,1,FALSE)),1,0))","v":0},0,0,0,0,0,0,0,null,null,null,null,null,null,null,null,null,null,0,null,null,null,null,null,null,null,{"$f":"IF(AK110=\"\",0,IF(AK110>100%,1,0))","v":0},0,0,0,0,0,0,0,{"$f":"IF(AS110=\"\",0,IF(AS110>100%,1,0))","v":0},0,0,null,null,null,0,null,0,0,0,null,null,null,"","",0,false,0,0,null,null,null,null,null,"R1ESAMUEL JOHNSON COMMUNITY HOSPITAL","R1E28","SAMUEL JOHNSON COMMUNITY HOSPITAL","R1E28","SAMUEL JOHNSON COMMUNITY HOSPITAL","R1E",null,null,"Whipps Cross University Hospital","ICU WXH"]
[{"$error":"#N/A"},{"$error":"#N/A"},{"$f":"IF(F111=\"\",0,IF(ISERROR(VLOOKUP(CONCATENATE(D111,\"-\",F111),Wards!$A:$A,1,FALSE)),1,0))","v":0},0,0,"","",0,0,0,0,0,0,0,0,0,0,0,null,null,null,null,null,null,null,null,null,null,0,null,null,null,null,null,null,null,0,0,0,0,0,0,0,0,{"$f":"IF(AS111=\"\",0,IF(AS111>100%,1,0))","v":0},0,0,null,null,null,{"$f":"IF(AK110=\"\",0, IF(AK110=\"-\",0,IF(AK110>100%,1,0)))","v":0},null,0,0,0,null,null,null,"",{"$f":"IF(BG312=\"\",\"\",(IF(COUNTIF($BG$216:$BG$414,BG312)>1,1,0))=1)","v":""},0,{"$f":"IF(E110=\"\",(COUNTA(E111)=1),\"Complete\")","v":false},0,0,null,null,null,null,null,"R1ESIR ROBERT PEEL HOSPITAL","R1E30","SIR ROBERT PEEL HOSPITAL","R1E30","SIR ROBERT PEEL HOSPITAL","R1E",null,null,"Whipps Cross University Hospital","MARGARET"]
[{"$error":"#N/A"},{"$error":"#N/A"},{"$f":"IF(F112=\"\",0,IF(ISERROR(VLOOKUP(CONCATENATE(D112,\"-\",F112),Wards!$A:$A,1,FALSE)),1,0))","v":0},0,0,"","",0,0,0,0,0,0,0,0,0,0,0,null,null,null,null,null,null,null,null,null,null,0,null,null,null,null,null,null,null,0,0,0,0,0,0,0,0,{"$f":"IF(AS112=\"\",0,IF(AS112>100%,1,0))","v":0},0,0,null,null,null,0,null,0,0,0,null,null,null,"","",0,false,0,0,null,null,null,null,null,"R1EST MICHAEL'S HOSPITAL","R1E33","ST MICHAEL'S HOSPITAL","R1E33","ST MICHAEL'S HOSPITAL","R1E",null,null,"Whipps Cross University Hospital","Mary"]
[{"$error":"#N/A"},{"$error":"#N/A"},{"$f":"IF(F113=\"\",0,IF(ISERROR(VLOOKUP(CONCATENATE(D113,\"-\",F113),Wards!$A:$A,1,FALSE)),1,0))","v":0},0,0,"","",0,0,0,0,0,0,0,0,0,0,0,null,null,null,null,null,null,null,null,null,null,0,null,null,null,null,null,null,null,0,0,0,0,0,0,0,0,{"$f":"IF(AS113=\"\",0,IF(AS113>100%,1,0))","v":0},0,0,null,null,null,0,null,0,0,0,null,null,null,"","",0,false,0,0,null,null,null,null,null,"R1ESTOKE SPEAKS OUT","R1EC4","STOKE SPEAKS OUT","R1EC4","STOKE SPEAKS OUT","R1E",null,null,"Whipps Cross University Hospital","MIDWIFERY WXH"]
[{"$error":"#N/A"},{"$error":"#N/A"},{"$f":"IF(F114=\"\",0,IF(ISERROR(VLOOKUP(CONCATENATE(D114,\"-\",F114),Wards!$A:$A,1,FALSE)),1,0))","v":0},0,0,"","",0,0,0,0,0,0,0,0,0,0,0,null,null,null,null,null,null,null,null,null,null,0,null,null,null,null,null,null,null,0,0,0,0,0,0,0,0,{"$f":"IF(AS114=\"\",0,IF(AS114>100%,1,0))","v":0},0,0,null,null,null,0,null,0,0,0,null,null,null,"","",0,false,0,0,null,null,null,null,null,"R1ETHE MEADOWS RETIREMENT HOME","R1ED5","THE MEADOWS RETIREMENT HOME","R1ED5","THE MEADOWS RETIREMENT HOME","R1E",null,null,"Whipps Cross University Hospital","MULBERRY"]
[{"$error":"#N/A"},{"$error":"#N/A"},{"$f":"IF(F115=\"\",0,IF(ISERROR(VLOOKUP(CONCATENATE(D115,\"-\",F115),Wards!$A:$A,1,FALSE)),1,0))","v":0},0,0,"","",0,0,0,0,0,0,0,0,0,0,0,null,null,null,null,null,null,null,null,null,null,0,null,null,null,null,null,null,null,0,0,0,0,0,0,0,0,{"$f":"IF(AS115=\"\",0,IF(AS115>100%,1,0))","v":0},0,0,null,null,null,0,null,0,0,0,null,null,null,"","",0,false,0,0,null,null,null,null,null,"R1EUNIVERSITY HOSPITAL OF NORTH STAFFS","R1E58","UNIVERSITY HOSPITAL OF NORTH STAFFS","R1E58","UNIVERSITY HOSPITAL OF NORTH STAFFS","R1E",null,null,"Whipps Cross University Hospital","NEONATAL WXH"]
[{"$error":"#N/A"},{"$error":"#N/A"},{"$f":"IF(F116=\"\",0,IF(ISERROR(VLOOKUP(CONCATENATE(D116,\"-\",F116),Wards!$A:$A,1,FALSE)),1,0))","v":0},0,0,"","",0,0,0,0,0,0,0,0,0,0,0,null,null,null,null,null,null,null,null,null,null,0,null,null,null,null,null,null,null,0,0,0,0,0,0,0,0,{"$f":"IF(AS116=\"\",0,IF(AS116>100%,1,0))","v":0},0,0,null,null,null,0,null,0,0,0,null,null,null,"","",0,false,0,0,null,null,null,null,null,"R1EWHITFIELD UNIT","R1EL4","WHITFIELD UNIT","R1EL4","WHITFIELD UNIT","R1E",null,null,"Whipps Cross University Hospital","NIGHTINGALE"]
[{"$error":"#N/A"},{"$error":"#N/A"},{"$f":"IF(F117=\"\",0,IF(ISERROR(VLOOKUP(CONCATENATE(D117,\"-\",F117),Wards!$A:$A,1,FALSE)),1,0))","v":0},0,0,"","",0,0,0,0,0,0,0,0,0,0,0,null,null,null,null,null,null,null,null,null,null,0,null,null,null,null,null,null,null,0,0,0,0,0,0,0,0,{"$f":"IF(AS117=\"\",0,IF(AS117>100%,1,0))","v":0},0,0,null,null,null,0,null,0,0,0,null,null,null,"","",0,false,0,0,null,null,null,null,null,"R1FST MARY'S HOSPITAL","R1F01","ST MARY'S HOSPITAL","R1F01","ST MARY'S HOSPITAL","R1F",null,null,"Whipps Cross University Hospital","PEACE"]
[{"$error":"#N/A"},{"$error":"#N/A"},{"$f":"IF(F118=\"\",0,IF(ISERROR(VLOOKUP(CONCATENATE(D118,\"-\",F118),Wards!$A:$A,1,FALSE)),1,0))","v":0},0,0,"","",0,0,0,0,0,0,0,0,0,0,0,null,null,null,null,null,null,null,null,null,null,0,null,null,null,null,null,null,null,0,0,0,0,0,0,0,0,{"$f":"IF(AS118=\"\",0,IF(AS118>100%,1,0))","v":0},0,0,null,null,null,0,null,0,0,0,null,null,null,"","",0,false,0,0,null,null,null,null,null,"R1GASHBURTON AND BUCKFASTLEIGH HOSPITAL","R1G09","ASHBURTON AND BUCKFASTLEIGH HOSPITAL","R1G09","ASHBURTON AND BUCKFASTLEIGH HOSPITAL","R1G",null,null,"Whipps Cross University Hospital","POPLAR"]
[{"$error":"#N/A"},{"$error":"#N/A"},{"$f":"IF(F119=\"\",0,IF(ISERROR(VLOOKUP(CONCATENATE(D119,\"-\",F119),Wards!$A:$A,1,FALSE)),1,0))","v":0},0,0,"","",0,0,0,0,0,0,0,0,0,0,0,null,null,null,null,null,null,null,null,null,null,0,null,null,null,null,null,null,null,0,0,0,0,0,0,0,0,{"$f":"IF(AS119=\"\",0,IF(AS119>100%,1,0))","v":0},0,0,null,null,null,0,null,0,0,0,null,null,null,"","",0,false,0,0,null,null,null,null,null,"R1GBOVEY TRACEY HOSPITAL","R1G54","BOVEY TRACEY HOSPITAL","R1G54","BOVEY TRACEY HOSPITAL","R1G",null,null,"Whipps Cross University Hospital","PRIMROSE"]
[{"$error":"#N/A"},{"$error":"#N/A"},{"$f":"IF(F120=\"\",0,IF(ISERROR(VLOOKUP(CONCATENATE(D120,\"-\",F120),Wards!$A:$A,1,FALSE)),1,0))","v":0},0,0,"","",0,0,0,0,0,0,0,0,0,0,0,null,null,null,null,null,null,null,null,null,null,0,null,null,null,null,null,null,null,0,0,0,0,0,0,0,0,{"$f":"IF(AS120=\"\",0,IF(AS120>100%,1,0))","v":0},0,0,null,null,null,0,null,0,0,0,null,null,null,"","",0,false,0,0,null,null,null,null,null,{"$f":"CONCATENATE(LEFT(BS321, 3),BT321)","v":"R1GBRISEHAM UNIT"},"R1G06","BRISEHAM UNIT","R1G06","BRISEHAM UNIT","R1G",null,null,"Whipps Cross University Hospital","ROWAN"]
[{"$error":"#N/A"},{"$error":"#N/A"},{"$f":"IF(F121=\"\",0,IF(ISERROR(VLOOKUP(CONCATENATE(D121,\"-\",F121),Wards!$A:$A,1,FALSE)),1,0))","v":0},0,0,"","",0,0,0,0,0,0,0,0,0,0,0,null,null,null,null,null,null,null,null,null,null,0,null,null,null,null,null,null,null,0,0,0,0,0,0,0,0,{"$f":"IF(AS121=\"\",0,IF(AS121>100%,1,0))","v":0},0,0,null,null,null,0,null,0,0,0,null,null,null,"","",0,false,0,0,null,null,null,null,null,"R1GBRIXHAM CARERS","R1G65","BRIXHAM CARERS","R1G65","BRIXHAM CARERS","R1G",null,null,"Whipps Cross University Hospital","SAGE"]
[{"$error":"#N/A"},{"$error":"#N/A"},{"$f":"IF(F122=\"\",0,IF(ISERROR(VLOOKUP(CONCATENATE(D122,\"-\",F122),Wards!$A:$A,1,FALSE)),1,0))","v":0},0,0,"","",0,0,0,0,0,0,0,0,0,0,0,null,null,null,null,null,null,null,null,null,null,0,null,null,null,null,null,null,null,0,0,0,0,0,0,0,0,{"$f":"IF(AS122=\"\",0,IF(AS122>100%,1,0))","v":0},0,0,null,null,null,0,null,0,0,0,null,null,null,"","",0,false,0,0,null,null,null,null,null,"R1GBRIXHAM HOSPITAL","R1G02","BRIXHAM HOSPITAL","R1G02","BRIXHAM HOSPITAL","R1G",null,null,"Whipps Cross University Hospital","SYCAMORE"]
[{"$error":"#N/A"},{"$error":"#N/A"},{"$f":"IF(F123=\"\",0,IF(ISERROR(VLOOKUP(CONCATENATE(D123,\"-\",F123),Wards!$A:$A,1,FALSE)),1,0))","v":0},0,0,"","",0,0,0,0,0,0,0,0,0,0,0,null,null,null,null,null,null,null,null,null,null,0,null,null,null,null,null,null,null,0,0,0,0,0,0,0,0,{"$f":"IF(AS123=\"\",0,IF(AS123>100%,1,0))","v":0},0,0,null,null,null,0,null,0,0,0,null,null,null,"","",0,false,0,0,null,null,null,null,null,"R1GBRIXHAM MIU","R1G66","BRIXHAM MIU","R1G66","BRIXHAM MIU","R1G",null,null,"Whipps Cross University Hospital","SYRINGA"]
[{"$error":"#N/A"},{"$error":"#N/A"},{"$f":"IF(F124=\"\",0,IF(ISERROR(VLOOKUP(CONCATENATE(D124,\"-\",F124),Wards!$A:$A,1,FALSE)),1,0))","v":0},0,0,"","",0,0,0,0,0,0,0,0,0,0,0,null,null,null,null,null,null,null,null,null,null,0,null,null,null,null,null,null,null,0,0,0,0,0,0,0,0,{"$f":"IF(AS124=\"\",0,IF(AS124>100%,1,0))","v":0},0,0,null,null,null,0,null,0,0,0,null,null,null,"","",0,false,0,0,null,null,null,null,null,"R1GCHADWELL OPMH","R1G68","CHADWELL OPMH","R1G68","CHADWELL OPMH",{"$f":"LEFT(BU325,3)","v":"R1G"},null,null,"Whipps Cross University Hospital","VICTORY"]
[{"$error":"#N/A"},{"$error":"#N/A"},{"$f":"IF(F125=\"\",0,IF(ISERROR(VLOOKUP(CONCATENATE(D125,\"-\",F125),Wards!$A:$A,1,FALSE)),1,0))","v":0},0,0,"","",0,0,0,0,0,0,0,0,0,0,0,null,null,null,null,null,null,null,null,null,null,0,null,null,null,null,null,null,null,0,0,0,0,0,0,0,0,{"$f":"IF(AS125=\"\",0,IF(AS125>100%,1,0))","v":0},0,0,null,null,null,0,null,0,0,0,null,null,null,"","",0,false,0,0,null,null,null,null,null,"R1GDARTMOUTH HOSPITAL","R1G10","DARTMOUTH HOSPITAL","R1G10","DARTMOUTH HOSPITAL","R1G",null,null,"BASILDON UNIVERSITY HOSPITAL","AMU East"]
[{"$error":"#N/A"},{"$error":"#N/A"},{"$f":"IF(F126=\"\",0,IF(ISERROR(VLOOKUP(CONCATENATE(D126,\"-\",F126),Wards!$A:$A,1,FALSE)),1,0))","v":0},0,0,"","",0,0,0,0,0,0,0,0,0,0,0,null,null,null,null,null,null,null,null,null,null,0,null,null,null,null,null,null,null,{"$f":"IF(AK126=\"\",0,IF(AK126>100%,1,0))","v":0},0,0,0,0,0,0,0,{"$f":"IF(AS126=\"\",0,IF(AS126>100%,1,0))","v":0},0,0,null,null,null,0,null,0,0,0,null,null,null,"","",0,false,0,0,null,null,null,null,null,"R1GDAWLISH HOSPITAL","R1G11","DAWLISH HOSPITAL","R1G11","DAWLISH HOSPITAL","R1G",null,null,"BASILDON UNIVERSITY HOSPITAL","AMU west"]
[{"$error":"#N/A"},{"$error":"#N/A"},{"$f":"IF(F127=\"\",0,IF(ISERROR(VLOOKUP(CONCATENATE(D127,\"-\",F127),Wards!$A:$A,1,FALSE)),1,0))","v":0},0,0,"","",0,0,0,0,0,0,0,0,0,0,0,null,null,null,null,null,null,null,null,null,null,0,null,null,null,null,null,null,null,0,0,0,0,0,0,0,0,{"$f":"IF(AS127=\"\",0,IF(AS127>100%,1,0))","v":0},0,0,null,null,null,0,null,0,0,0,null,null,null,"","",0,false,0,0,null,null,null,null,null,"R1GNEWTON ABBOT HOSPITAL","R1G12","NEWTON ABBOT HOSPITAL","R1G12","NEWTON ABBOT HOSPITAL","R1G",null,null,"BASILDON UNIVERSITY HOSPITAL","Bulphan"]
[{"$error":"#N/A"},{"$error":"#N/A"},{"$f":"IF(F128=\"\",0,IF(ISERROR(VLOOKUP(CONCATENATE(D128,\"-\",F128),Wards!$A:$A,1,FALSE)),1,0))","v":0},0,0,"","",0,0,0,0,0,0,0,0,0,0,0,null,null,null,null,null,null,null,null,null,null,0,null,null,null,null,null,null,null,0,0,0,0,0,0,0,0,{"$f":"IF(AS128=\"\",0,IF(AS128>100%,1,0))","v":0},0,0,null,null,null,0,null,0,0,0,null,null,null,"","",0,false,0,0,null,null,null,null,null,"R1GNHS CONTINUING CARE RETROSPECTIVE REVIEW","R1G48","NHS CONTINUING CARE RETROSPECTIVE REVIEW","R1G48","NHS CONTINUING CARE RETROSPECTIVE REVIEW","R1G",null,null,"BASILDON UNIVERSITY HOSPITAL","Burstead"]
[{"$error":"#N/A"},{"$error":"#N/A"},{"$f":"IF(F129=\"\",0,IF(ISERROR(VLOOKUP(CONCATENATE(D129,\"-\",F129),Wards!$A:$A,1,FALSE)),1,0))","v":0},0,0,"","",0,0,0,0,0,0,0,0,0,0,0,null,null,null,null,null,null,null,null,null,null,0,null,null,null,null,null,null,null,0,0,0,0,0,0,0,0,{"$f":"IF(AS129=\"\",0,IF(AS129>100%,1,0))","v":0},0,0,null,null,null,0,null,0,0,0,null,null,null,"","",0,false,0,0,null,null,null,null,null,"R1GPAIGNTON HOSPITAL","R1G01","PAIGNTON HOSPITAL","R1G01","PAIGNTON HOSPITAL","R1G",null,null,"BASILDON UNIVERSITY HOSPITAL","CEDAR"]
[{"$error":"#N/A"},{"$error":"#N/A"},{"$f":"IF(F130=\"\",0,IF(ISERROR(VLOOKUP(CONCATENATE(D130,\"-\",F130),Wards!$A:$A,1,FALSE)),1,0))","v":0},0,0,"","",0,0,0,0,0,0,0,0,0,0,0,null,null,null,null,null,null,null,null,null,null,0,null,null,null,null,null,null,null,0,0,0,0,0,0,0,0,{"$f":"IF(AS130=\"\",0,IF(AS130>100%,1,0))","v":0},0,0,null,null,null,0,null,0,0,0,null,null,null,"","",0,false,0,0,null,null,null,null,null,"R1GSAFER COMMUNITIES TORBAY","R1G51","SAFER COMMUNITIES TORBAY","R1G51","SAFER COMMUNITIES TORBAY","R1G",null,null,"BASILDON UNIVERSITY HOSPITAL","Chelmer"]
[{"$error":"#N/A"},{"$error":"#N/A"},{"$f":"IF(F131=\"\",0,IF(ISERROR(VLOOKUP(CONCATENATE(D131,\"-\",F131),Wards!$A:$A,1,FALSE)),1,0))","v":0},0,0,"","",0,0,0,0,0,0,0,0,0,0,0,null,null,null,null,null,null,null,null,null,null,0,null,null,null,null,null,null,null,0,0,0,0,0,0,0,0,{"$f":"IF(AS131=\"\",0,IF(AS131>100%,1,0))","v":0},0,0,null,null,null,0,null,0,0,0,null,null,null,"","",0,false,0,0,null,null,null,null,null,"R1GSOUTH HAMS (KINGSBRIDGE) HOSPITAL","R1G55","SOUTH HAMS (KINGSBRIDGE) HOSPITAL","R1G55","SOUTH HAMS (KINGSBRIDGE) HOSPITAL","R1G",null,null,"BASILDON UNIVERSITY HOSPITAL","Colne"]
[{"$error":"#N/A"},{"$error":"#N/A"},{"$f":"IF(F132=\"\",0,IF(ISERROR(VLOOKUP(CONCATENATE(D132,\"-\",F132),Wards!$A:$A,1,FALSE)),1,0))","v":0},0,0,"","",0,0,0,0,0,0,0,0,0,0,0,null,null,null,null,null,null,null,null,null,null,0,null,null,null,null,null,null,null,0,0,0,0,0,0,0,0,{"$f":"IF(AS132=\"\",0,IF(AS132>100%,1,0))","v":0},0,0,null,null,null,0,null,0,0,0,null,null,null,"","",0,false,0,0,null,null,null,null,null,"R1GST EDMUNDS","R1G08","ST EDMUNDS","R1G08","ST EDMUNDS","R1G",null,null,"BASILDON UNIVERSITY HOSPITAL","DELIVERY SUITE"]
[{"$error":"#N/A"},{"$error":"#N/A"},{"$f":"IF(F133=\"\",0,IF(ISERROR(VLOOKUP(CONCATENATE(D133,\"-\",F133),Wards!$A:$A,1,FALSE)),1,0))","v":0},0,0,"","",0,0,0,0,0,0,0,0,0,0,0,null,null,null,null,null,null,null,null,null,null,0,null,null,null,null,null,null,null,0,0,0,0,0,0,0,0,{"$f":"IF(AS133=\"\",0,IF(AS133>100%,1,0))","v":0},0,0,null,null,null,0,null,0,0,0,null,null,null,"","",0,false,0,0,null,null,null,null,null,"R1GTAVISTOCK HOSPITAL","R1G56","TAVISTOCK HOSPITAL","R1G56","TAVISTOCK HOSPITAL","R1G",null,null,"BASILDON UNIVERSITY HOSPITAL","Edith Cavell"]
[{"$error":"#N/A"},{"$error":"#N/A"},{"$f":"IF(F134=\"\",0,IF(ISERROR(VLOOKUP(CONCATENATE(D134,\"-\",F134),Wards!$A:$A,1,FALSE)),1,0))","v":0},0,0,"","",0,0,0,0,0,0,0,0,0,0,0,null,null,null,null,null,null,null,null,null,null,0,null,null,null,null,null,null,null,0,0,0,0,0,0,0,0,{"$f":"IF(AS134=\"\",0,IF(AS134>100%,1,0))","v":0},0,0,null,null,null,0,null,0,0,0,null,null,null,"","",0,false,0,0,null,null,null,null,null,"R1GTEIGNMOUTH HOSPITAL","R1G13","TEIGNMOUTH HOSPITAL","R1G13","TEIGNMOUTH HOSPITAL","R1G",null,null,"BASILDON UNIVERSITY HOSPITAL","Elizabeth Fry"]
[{"$error":"#N/A"},{"$error":"#N/A"},{"$f":"IF(F135=\"\",0,IF(ISERROR(VLOOKUP(CONCATENATE(D135,\"-\",F135),Wards!$A:$A,1,FALSE)),1,0))","v":0},0,0,"","",0,0,0,0,0,0,0,0,0,0,0,null,null,null,null,null,null,null,null,null,null,0,null,null,null,null,null,null,null,0,0,0,0,0,0,0,0,{"$f":"IF(AS135=\"\",0,IF(AS135>100%,1,0))","v":0},0,0,null,null,null,0,null,0,0,0,null,null,null,"","",0,false,0,0,null,null,null,null,null,"R1GTOTNES HOSPITAL","R1G14","TOTNES HOSPITAL","R1G14","TOTNES HOSPITAL","R1G",null,null,"BASILDON UNIVERSITY HOSPITAL","Elsdon"]
[{"$error":"#N/A"},{"$error":"#N/A"},{"$f":"IF(F136=\"\",0,IF(ISERROR(VLOOKUP(CONCATENATE(D136,\"-\",F136),Wards!$A:$A,1,FALSE)),1,0))","v":0},0,0,"","",0,0,0,0,0,0,0,0,0,0,0,null,null,null,null,null,null,null,null,null,null,0,null,null,null,null,null,null,null,0,0,0,0,0,0,0,0,{"$f":"IF(AS136=\"\",0,IF(AS136>100%,1,0))","v":0},0,0,null,null,null,0,null,0,0,0,null,null,null,"","",0,false,0,0,null,null,null,null,null,"R1GUNIT 3","R1G64","UNIT 3","R1G64","UNIT 3","R1G",null,null,"BASILDON UNIVERSITY HOSPITAL","Florence Nightingale"]
[{"$error":"#N/A"},{"$error":"#N/A"},{"$f":"IF(F137=\"\",0,IF(ISERROR(VLOOKUP(CONCATENATE(D137,\"-\",F137),Wards!$A:$A,1,FALSE)),1,0))","v":0},0,0,"","",0,0,0,0,0,0,0,0,0,0,0,null,null,null,null,null,null,null,null,null,null,0,null,null,null,null,null,null,null,0,0,0,0,0,0,0,0,{"$f":"IF(AS137=\"\",0,IF(AS137>100%,1,0))","v":0},0,0,null,null,null,0,null,0,0,0,null,null,null,"","",0,false,0,0,null,null,null,null,null,"R1HAINSLEY UNIT","R1H42","AINSLEY UNIT","R1H42","AINSLEY UNIT","R1H",null,null,"BASILDON UNIVERSITY HOSPITAL","Horndon"]
[{"$error":"#N/A"},{"$error":"#N/A"},{"$f":"IF(F138=\"\",0,IF(ISERROR(VLOOKUP(CONCATENATE(D138,\"-\",F138),Wards!$A:$A,1,FALSE)),1,0))","v":0},0,0,"","",0,0,0,0,0,0,0,0,0,0,0,null,null,null,null,null,null,null,null,null,null,0,null,null,null,null,null,null,null,0,0,0,0,0,0,0,0,{"$f":"IF(AS138=\"\",0,IF(AS138>100%,1,0))","v":0},0,0,null,null,null,0,null,0,0,0,null,null,null,"","",0,false,0,0,null,null,null,null,null,"R1HBLT BIRTH CENTRE","R1H90","BLT BIRTH CENTRE","R1H90","BLT BIRTH CENTRE","R1H",null,null,"BASILDON UNIVERSITY HOSPITAL","ITU"]
[{"$error":"#N/A"},{"$error":"#N/A"},{"$f":"IF(F139=\"\",0,IF(ISERROR(VLOOKUP(CONCATENATE(D139,\"-\",F139),Wards!$A:$A,1,FALSE)),1,0))","v":0},0,0,"","",0,0,0,0,0,0,0,0,0,0,0,null,null,null,null,null,null,null,null,null,null,0,null,null,null,null,null,null,null,0,0,0,0,0,0,0,0,{"$f":"IF(AS139=\"\",0,IF(AS139>100%,1,0))","v":0},0,0,null,null,null,0,null,0,0,0,null,null,null,"","",0,false,0,0,null,null,null,null,null,"R1HBLT PRIVATE HOSPITALS","R1H86","BLT PRIVATE HOSPITALS","R1H86","BLT PRIVATE HOSPITALS","R1H",null,null,"BASILDON UNIVERSITY HOSPITAL","James McKenzie"]
[{"$error":"#N/A"},{"$error":"#N/A"},{"$f":"IF(F140=\"\",0,IF(ISERROR(VLOOKUP(CONCATENATE(D140,\"-\",F140),Wards!$A:$A,1,FALSE)),1,0))","v":0},0,0,"","",0,0,0,0,0,0,0,0,0,0,0,null,null,null,null,null,null,null,null,null,null,0,null,null,null,null,null,null,null,0,0,0,0,0,0,0,0,{"$f":"IF(AS140=\"\",0,IF(AS140>100%,1,0))","v":0},0,0,null,null,null,0,null,0,0,0,null,null,null,"","",0,false,0,0,null,null,null,null,null,"R1HGATEWAY SURGICAL CENTRE","R1H11","GATEWAY SURGICAL CENTRE","R1H11","GATEWAY SURGICAL CENTRE","R1H",null,null,"BASILDON UNIVERSITY HOSPITAL","Kingswood"]
[{"$error":"#N/A"},{"$error":"#N/A"},{"$f":"IF(F141=\"\",0,IF(ISERROR(VLOOKUP(CONCATENATE(D141,\"-\",F141),Wards!$A:$A,1,FALSE)),1,0))","v":0},0,0,"","",0,0,0,0,0,0,0,0,0,0,0,null,null,null,null,null,null,null,null,null,null,0,null,null,null,null,null,null,null,0,0,0,0,0,0,0,0,{"$f":"IF(AS141=\"\",0,IF(AS141>100%,1,0))","v":0},0,0,null,null,null,0,null,0,0,0,null,null,null,"","",0,false,0,0,null,null,null,null,null,"R1HMILE END HOSPITAL","R1H13","MILE END HOSPITAL","R1H13","MILE END HOSPITAL","R1H",null,null,"BASILDON UNIVERSITY HOSPITAL","Linford"]
[{"$f":"VLOOKUP($D142,$BS:$BS,1,0)","v":{"$error":"#N/A"}},{"$f":"VLOOKUP($E142,$BT:$BT,1,0)","v":{"$error":"#N/A"}},{"$f":"IF(F142=\"\",0,IF(ISERROR(VLOOKUP(CONCATENATE(D142,\"-\",F142),Wards!$A:$A,1,FALSE)),1,0))","v":0},{"$f":"IF(D142=\"\",0,IF(ISERROR(VLOOKUP(D142,$BS$3:$BS$250,1,0)),0,IF(VLOOKUP(D142,$BS$3:$BW$250,5,0)=$B$8,0,1)))","v":0},0,"","",0,0,{"$f":"IF(G142=\"\",0,IF(ISERROR(VLOOKUP(G142,$AV$14:$AV$98,1,FALSE)),1,0))","v":0},{"$f":"IF(H142=\"\",0,IF(ISERROR(VLOOKUP(H142,$AV$14:$AV$98,1,FALSE)),1,0))","v":0},0,0,0,0,0,0,0,null,null,null,null,null,null,null,null,null,null,0,null,null,null,null,null,null,null,{"$f":"IF(AK142=\"\",0,IF(AK142>100%,1,0))","v":0},0,0,0,0,0,0,0,{"$f":"IF(AS142=\"\",0,IF(AS142>100%,1,0))","v":0},0,0,null,null,null,0,null,0,0,0,null,null,null,"","",0,false,0,0,null,null,null,null,null,"R1HNEWHAM GENERAL HOSPITAL","R1HNH","NEWHAM GENERAL HOSPITAL","R1HNH","NEWHAM GENERAL HOSPITAL","R1H",null,null,"BASILDON UNIVERSITY HOSPITAL","Lionel Cosin"]
[{"$error":"#N/A"},{"$error":"#N/A"},{"$f":"IF(F143=\"\",0,IF(ISERROR(VLOOKUP(CONCATENATE(D143,\"-\",F143),Wards!$A:$A,1,FALSE)),1,0))","v":0},0,{"$f":"IF(E143=\"\",0,IF(G143=\"\",1,0))","v":0},{"$f":"IF(E143=\"\",\"\",IF(SUM(I143,K143,Q143,S143,M143,O143,U143,W143,Y143,AA143)=0,1,0))","v":""},{"$f":"IF(E143=\"\",\"\",IF(SUM(J143,L143,R143,T143,N143,P143,V143,X143,Z143,AB143)=0,1,0))","v":""},{"$f":"IF(E143=\"\",0,IF(SUM(I143:T143)<1448,1,0))","v":0},{"$f":"IF(E143=\"\",0,IF((J143+L143+R143+T143)>30000,1,0))","v":0},0,0,{"$f":"IF(E143=\"\",0,IF(D143=\"\",1,0))","v":0},{"$f":"IF(F143=\"\",0,IF(E143=\"\",1,0))","v":0},{"$f":"IF(G143=\"\",0,IF(F143=\"\",1,0))","v":0},{"$f":"IF(H143=\"\",0,IF(G143=\"\",1,0))","v":0},{"$f":"IF(I143=\"\",0,IF(H143=\"\",1,0))","v":0},{"$f":"IF(OR(I143<>\"\",K143<>\"\",J143<>\"\",L143<>\"\",Q143<>\"\",R143<>\"\",S143<>\"\",T143<>\"\",F143<>\"\",G143<>\"\",H143<>\"\",M143<>\"\",N143<>\"\",O143<>\"\",P143<>\"\",U143<>\"\",V143<>\"\",W143<>\"\",X143<>\"\",Y143<>\"\",Z143<>\"\",AA143<>\"\",AB143<>\"\",AC143<>\"\"),IF(E143=\"\",1,0),0)","v":0},{"$f":"IF(E143=\"\",0,IF(F143=\"\",1,0))","v":0},null,null,null,null,null,null,null,null,null,null,{"$f":"IF(AND(SUM(N143,P143,V143,J143,L143,R143,T143,X143,Z143,AB143)>0,AC143=0),1,0)","v":0},null,null,null,null,null,null,null,0,0,0,0,0,0,0,0,{"$f":"IF(AS143=\"\",0,IF(AS143>100%,1,0))","v":0},0,{"$f":"SUM(H344:AT344)","v":0},null,null,null,{"$f":"IF(AK142=\"\",0, IF(AK142=\"-\",0,IF(AK142>100%,1,0)))","v":0},null,0,0,0,null,null,null,"",{"$f":"IF(BG344=\"\",\"\",(IF(COUNTIF($BG$216:$BG$414,BG344)>1,1,0))=1)","v":""},0,{"$f":"IF(E142=\"\",(COUNTA(E143)=1),\"Complete\")","v":false},0,{"$f":"IF(G142=\"\",0,IF(G142=H142,1,0))","v":0},null,null,null,null,null,"R1HST BARTHOLOMEW'S HOSPITAL","R1HM0","ST BARTHOLOMEW'S HOSPITAL","R1HM0","ST BARTHOLOMEW'S HOSPITAL","R1H",null,null,"BASILDON UNIVERSITY HOSPITAL","Lister"]
[{"$error":"#N/A"},{"$error":"#N/A"},{"$f":"IF(F144=\"\",0,IF(ISERROR(VLOOKUP(CONCATENATE(D144,\"-\",F144),Wards!$A:$A,1,FALSE)),1,0))","v":0},0,0,"","",0,0,0,0,0,0,0,0,0,0,0,null,null,null,null,null,null,null,null,null,null,0,null,null,null,null,null,null,null,0,0,0,0,0,0,0,0,{"$f":"IF(AS144=\"\",0,IF(AS144>100%,1,0))","v":0},0,0,null,null,null,0,null,0,0,0,null,null,null,{"$f":"CONCATENATE(D143,E143,F143)","v":""},"",{"$f":"IF(BH345=TRUE,1,0)","v":0},false,{"$f":"IF(BJ345=\"Complete\",0, IF(BJ345=TRUE, 1, IF(BJ345=FALSE,0,0)))","v":0},0,null,null,null,null,null,"R1HTHE LONDON CHEST HOSPITAL","R1H83","THE LONDON CHEST HOSPITAL","R1H83","THE LONDON CHEST HOSPITAL","R1H",null,null,"BASILDON UNIVERSITY HOSPITAL","Marjorie Warren"]
[{"$error":"#N/A"},{"$error":"#N/A"},{"$f":"IF(F145=\"\",0,IF(ISERROR(VLOOKUP(CONCATENATE(D145,\"-\",F145),Wards!$A:$A,1,FALSE)),1,0))","v":0},0,0,"","",0,0,0,0,0,0,0,0,0,0,0,null,null,null,null,null,null,null,null,null,null,0,null,null,null,null,null,null,null,0,0,0,0,0,0,0,0,{"$f":"IF(AS145=\"\",0,IF(AS145>100%,1,0))","v":0},0,0,null,null,null,0,null,0,0,0,null,null,null,"","",0,false,0,0,null,null,null,null,null,"R1HTHE ROYAL LONDON HOSPITAL","R1H12","THE ROYAL LONDON HOSPITAL","R1H12","THE ROYAL LONDON HOSPITAL","R1H",null,null,"BASILDON UNIVERSITY HOSPITAL","NICU"]
[{"$error":"#N/A"},{"$error":"#N/A"},{"$f":"IF(F146=\"\",0,IF(ISERROR(VLOOKUP(CONCATENATE(D146,\"-\",F146),Wards!$A:$A,1,FALSE)),1,0))","v":0},0,0,"","",0,0,0,0,0,0,0,0,0,0,0,null,null,null,null,null,null,null,null,null,null,0,null,null,null,null,null,null,null,0,0,0,0,0,0,0,0,{"$f":"IF(AS146=\"\",0,IF(AS146>100%,1,0))","v":0},0,0,null,null,null,0,null,0,0,0,null,null,null,"","",0,false,0,0,null,null,null,null,null,"R1HWHIPPS CROSS AT SILVERTHORN MEDICAL","R1HMC","WHIPPS CROSS AT SILVERTHORN MEDICAL","R1HMC","WHIPPS CROSS AT SILVERTHORN MEDICAL","R1H",null,null,"BASILDON UNIVERSITY HOSPITAL","Orsett"]
[{"$error":"#N/A"},{"$error":"#N/A"},{"$f":"IF(F147=\"\",0,IF(ISERROR(VLOOKUP(CONCATENATE(D147,\"-\",F147),Wards!$A:$A,1,FALSE)),1,0))","v":0},0,0,"","",0,0,0,0,0,0,0,0,0,0,0,null,null,null,null,null,null,null,null,null,null,0,null,null,null,null,null,null,null,0,0,0,0,0,0,0,0,{"$f":"IF(AS147=\"\",0,IF(AS147>100%,1,0))","v":0},0,0,null,null,null,0,null,0,0,0,null,null,null,"","",0,false,0,0,null,null,null,null,null,"R1HWHIPPS CROSS UNIVERSITY HOSPITAL","R1HKH","WHIPPS CROSS UNIVERSITY HOSPITAL","R1HKH","WHIPPS CROSS UNIVERSITY HOSPITAL","R1H",null,null,"BASILDON UNIVERSITY HOSPITAL","Osler"]
[{"$error":"#N/A"},{"$error":"#N/A"},{"$f":"IF(F148=\"\",0,IF(ISERROR(VLOOKUP(CONCATENATE(D148,\"-\",F148),Wards!$A:$A,1,FALSE)),1,0))","v":0},0,0,"","",0,0,0,0,0,0,0,0,0,0,0,null,null,null,null,null,null,null,null,null,null,0,null,null,null,null,null,null,null,0,0,0,0,0,0,0,0,{"$f":"IF(AS148=\"\",0,IF(AS148>100%,1,0))","v":0},0,0,null,null,null,0,null,0,0,0,null,null,null,"","",0,false,0,0,null,null,null,null,null,"R1K EDGWARE COMMUNITY HOSPITAL","R1K21"," EDGWARE COMMUNITY HOSPITAL","R1K21"," EDGWARE COMMUNITY HOSPITAL","R1K",null,null,"BASILDON UNIVERSITY HOSPITAL","Pasteur"]
[{"$error":"#N/A"},{"$error":"#N/A"},{"$f":"IF(F149=\"\",0,IF(ISERROR(VLOOKUP(CONCATENATE(D149,\"-\",F149),Wards!$A:$A,1,FALSE)),1,0))","v":0},0,0,"","",0,0,0,0,0,0,0,0,0,0,0,null,null,null,null,null,null,null,null,null,null,0,null,null,null,null,null,null,null,0,0,0,0,0,0,0,0,{"$f":"IF(AS149=\"\",0,IF(AS149>100%,1,0))","v":0},0,0,null,null,null,0,null,0,0,0,null,null,null,"","",0,false,0,0,null,null,null,null,null,"R1KCENTRAL MIDDLESEX HOSPITAL","R1K02","CENTRAL MIDDLESEX HOSPITAL","R1K02","CENTRAL MIDDLESEX HOSPITAL","R1K",null,null,"BASILDON UNIVERSITY HOSPITAL","Puffin/wagtail"]
[{"$error":"#N/A"},{"$error":"#N/A"},{"$f":"IF(F150=\"\",0,IF(ISERROR(VLOOKUP(CONCATENATE(D150,\"-\",F150),Wards!$A:$A,1,FALSE)),1,0))","v":0},0,0,"","",0,0,0,0,0,0,0,0,0,0,0,null,null,null,null,null,null,null,null,null,null,0,null,null,null,null,null,null,null,0,0,0,0,0,0,0,0,{"$f":"IF(AS150=\"\",0,IF(AS150>100%,1,0))","v":0},0,0,null,null,null,0,null,0,0,0,null,null,null,"","",0,false,0,0,null,null,null,null,null,"R1KEALING HOSPITAL","R1K04","EALING HOSPITAL","R1K04","EALING HOSPITAL","R1K",null,null,"BASILDON UNIVERSITY HOSPITAL","Roding"]
[{"$error":"#N/A"},{"$error":"#N/A"},{"$f":"IF(F151=\"\",0,IF(ISERROR(VLOOKUP(CONCATENATE(D151,\"-\",F151),Wards!$A:$A,1,FALSE)),1,0))","v":0},0,0,"","",0,0,0,0,0,0,0,0,0,0,0,null,null,null,null,null,null,null,null,null,null,0,null,null,null,null,null,null,null,0,0,0,0,0,0,0,0,{"$f":"IF(AS151=\"\",0,IF(AS151>100%,1,0))","v":0},0,0,null,null,null,0,null,0,0,0,null,null,null,"","",0,false,0,0,null,null,null,null,null,"R1KNORTHWICK PARK HOSPITAL","R1K01","NORTHWICK PARK HOSPITAL","R1K01","NORTHWICK PARK HOSPITAL","R1K",null,null,"BASILDON UNIVERSITY HOSPITAL","SRU"]
[{"$error":"#N/A"},{"$error":"#N/A"},{"$f":"IF(F152=\"\",0,IF(ISERROR(VLOOKUP(CONCATENATE(D152,\"-\",F152),Wards!$A:$A,1,FALSE)),1,0))","v":0},0,0,"","",0,0,0,0,0,0,0,0,0,0,0,null,null,null,null,null,null,null,null,null,null,0,null,null,null,null,null,null,null,0,0,0,0,0,0,0,0,{"$f":"IF(AS152=\"\",0,IF(AS152>100%,1,0))","v":0},0,0,null,null,null,0,null,0,0,0,null,null,null,"","",0,false,0,0,null,null,null,null,null,"R1KNORTHWICK PARK HOSPITAL  STARRS HARROW","R1K46","NORTHWICK PARK HOSPITAL  STARRS HARROW","R1K46","NORTHWICK PARK HOSPITAL  STARRS HARROW","R1K",null,null,"BASILDON UNIVERSITY HOSPITAL","William Harvey"]
[{"$error":"#N/A"},{"$error":"#N/A"},{"$f":"IF(F153=\"\",0,IF(ISERROR(VLOOKUP(CONCATENATE(D153,\"-\",F153),Wards!$A:$A,1,FALSE)),1,0))","v":0},0,0,"","",0,0,0,0,0,0,0,0,0,0,0,null,null,null,null,null,null,null,null,null,null,0,null,null,null,null,null,null,null,0,0,0,0,0,0,0,0,{"$f":"IF(AS153=\"\",0,IF(AS153>100%,1,0))","v":0},0,0,null,null,null,0,null,0,0,0,null,null,null,"","",0,false,0,0,null,null,null,null,null,"R1KNORTHWICK PARK HOSPITAL ELCO COMMUNITY","R1K59","NORTHWICK PARK HOSPITAL ELCO COMMUNITY","R1K59","NORTHWICK PARK HOSPITAL ELCO COMMUNITY","R1K",null,null,"BASILDON UNIVERSITY HOSPITAL","WILLOW"]
[{"$error":"#N/A"},{"$error":"#N/A"},{"$f":"IF(F154=\"\",0,IF(ISERROR(VLOOKUP(CONCATENATE(D154,\"-\",F154),Wards!$A:$A,1,FALSE)),1,0))","v":0},0,0,"","",0,0,0,0,0,0,0,0,0,0,0,null,null,null,null,null,null,null,null,null,null,0,null,null,null,null,null,null,null,0,0,0,0,0,0,0,0,{"$f":"IF(AS154=\"\",0,IF(AS154>100%,1,0))","v":0},0,0,null,null,null,0,null,{"$f":"IF(AL153=\"\",0, IF(AL153=\"-\",0,IF(AL153>100%,1,0)))","v":0},{"$f":"IF(AO153=\"\",0, IF(AO153=\"-\",0,IF(AO153>100%,1,0)))","v":0},{"$f":"IF(AP153=\"\",0, IF(AP153=\"-\",0,IF(AP153>100%,1,0)))","v":0},null,null,null,"","",0,false,0,0,null,null,null,null,null,"R1KST MARKS HOSPITAL ","R1K03","ST MARKS HOSPITAL ","R1K03","ST MARKS HOSPITAL ","R1K",null,null,"BEDFORD HOSPITAL SOUTH WING","Arnold Whitchurch"]
[{"$error":"#N/A"},{"$error":"#N/A"},{"$f":"IF(F155=\"\",0,IF(ISERROR(VLOOKUP(CONCATENATE(D155,\"-\",F155),Wards!$A:$A,1,FALSE)),1,0))","v":0},0,0,"","",0,0,0,0,0,0,0,0,0,0,0,null,null,null,null,null,null,null,null,null,null,0,null,null,null,null,null,null,null,0,0,0,0,0,0,0,0,{"$f":"IF(AS155=\"\",0,IF(AS155>100%,1,0))","v":0},0,0,null,null,null,0,null,0,0,0,null,null,null,"","",0,false,0,0,null,null,null,null,null,"R1KURGENT CARE CENTRE CENTAL MIDDLESEX HOSPITAL","R1K12","URGENT CARE CENTRE CENTAL MIDDLESEX HOSPITAL","R1K12","URGENT CARE CENTRE CENTAL MIDDLESEX HOSPITAL","R1K",null,null,"BEDFORD HOSPITAL SOUTH WING","Coronary Care Unit"]
[{"$error":"#N/A"},{"$error":"#N/A"},{"$f":"IF(F156=\"\",0,IF(ISERROR(VLOOKUP(CONCATENATE(D156,\"-\",F156),Wards!$A:$A,1,FALSE)),1,0))","v":0},0,0,"","",0,0,0,0,0,0,0,0,0,0,0,null,null,null,null,null,null,null,null,null,null,0,null,null,null,null,null,null,null,0,0,0,0,0,0,0,0,{"$f":"IF(AS156=\"\",0,IF(AS156>100%,1,0))","v":0},0,0,null,null,null,0,null,0,0,0,null,null,null,"","",0,false,0,0,null,null,null,null,null,"R1KURGENT CARE CENTRE EALING HOSPITAL","R1K14","URGENT CARE CENTRE EALING HOSPITAL","R1K14","URGENT CARE CENTRE EALING HOSPITAL","R1K",null,null,"BEDFORD HOSPITAL SOUTH WING","Critical Care Complex"]
[{"$error":"#N/A"},{"$error":"#N/A"},{"$f":"IF(F157=\"\",0,IF(ISERROR(VLOOKUP(CONCATENATE(D157,\"-\",F157),Wards!$A:$A,1,FALSE)),1,0))","v":0},0,0,"","",0,0,0,0,0,0,0,0,0,0,0,null,null,null,null,null,null,null,null,null,null,0,null,null,null,null,null,null,null,0,0,0,0,0,0,0,0,{"$f":"IF(AS157=\"\",0,IF(AS157>100%,1,0))","v":0},0,0,null,null,null,0,null,0,0,0,null,null,null,"","",0,false,0,0,null,null,null,null,null,"R1LARCHER UNIT","R1L92","ARCHER UNIT","R1L92","ARCHER UNIT","R1L",null,null,"BEDFORD HOSPITAL SOUTH WING","Elizabeth"]
[{"$error":"#N/A"},{"$error":"#N/A"},{"$f":"IF(F158=\"\",0,IF(ISERROR(VLOOKUP(CONCATENATE(D158,\"-\",F158),Wards!$A:$A,1,FALSE)),1,0))","v":0},0,0,"","",0,0,0,0,0,0,0,0,0,0,0,null,null,null,null,null,null,null,null,null,null,0,null,null,null,null,null,null,null,{"$f":"IF(AK158=\"\",0,IF(AK158>100%,1,0))","v":0},0,0,0,0,0,0,0,{"$f":"IF(AS158=\"\",0,IF(AS158>100%,1,0))","v":0},0,0,null,null,null,0,null,0,0,0,null,null,null,"","",0,false,0,0,null,null,null,null,null,"R1LBRAINTREE - THE GABLES","R1LD1","BRAINTREE - THE GABLES","R1LD1","BRAINTREE - THE GABLES","R1L",null,null,"BEDFORD HOSPITAL SOUTH WING","Godber"]
[{"$error":"#N/A"},{"$error":"#N/A"},{"$f":"IF(F159=\"\",0,IF(ISERROR(VLOOKUP(CONCATENATE(D159,\"-\",F159),Wards!$A:$A,1,FALSE)),1,0))","v":0},0,0,"","",0,0,0,0,0,0,0,0,0,0,0,null,null,null,null,null,null,null,null,null,null,0,null,null,null,null,null,null,null,0,0,0,0,0,0,0,0,{"$f":"IF(AS159=\"\",0,IF(AS159>100%,1,0))","v":0},0,0,null,null,null,0,null,0,0,0,null,null,null,"","",0,false,0,0,null,null,null,null,null,"R1LBROCKFIELD HOUSE","R1LK9","BROCKFIELD HOUSE","R1LK9","BROCKFIELD HOUSE","R1L",null,null,"BEDFORD HOSPITAL SOUTH WING","Harpur"]
[{"$error":"#N/A"},{"$error":"#N/A"},{"$f":"IF(F160=\"\",0,IF(ISERROR(VLOOKUP(CONCATENATE(D160,\"-\",F160),Wards!$A:$A,1,FALSE)),1,0))","v":0},0,0,"","",0,0,0,0,0,0,0,0,0,0,0,null,null,null,null,null,null,null,null,null,null,0,null,null,null,null,null,null,null,0,0,0,0,0,0,0,0,{"$f":"IF(AS160=\"\",0,IF(AS160>100%,1,0))","v":0},0,0,null,null,null,0,null,0,0,0,null,null,null,"","",0,false,0,0,null,null,null,null,null,{"$f":"CONCATENATE(LEFT(BS361, 3),BT361)","v":"R1LCHELMSFORD - THE LINDEN CENTRE"},"R1LAH","CHELMSFORD - THE LINDEN CENTRE","R1LAH","CHELMSFORD - THE LINDEN CENTRE","R1L",null,null,"BEDFORD HOSPITAL SOUTH WING","Howard Surgical"]
[{"$error":"#N/A"},{"$error":"#N/A"},{"$f":"IF(F161=\"\",0,IF(ISERROR(VLOOKUP(CONCATENATE(D161,\"-\",F161),Wards!$A:$A,1,FALSE)),1,0))","v":0},0,0,"","",0,0,0,0,0,0,0,0,0,0,0,null,null,null,null,null,null,null,null,null,null,0,null,null,null,null,null,null,null,0,0,0,0,0,0,0,0,{"$f":"IF(AS161=\"\",0,IF(AS161>100%,1,0))","v":0},0,0,null,null,null,0,null,0,0,0,null,null,null,"","",0,false,0,0,null,null,null,null,null,"R1LCLACTON - MENTAL HEALTH SERVICES - CLACTON HOSPITAL","R1LE2","CLACTON - MENTAL HEALTH SERVICES - CLACTON HOSPITAL","R1LE2","CLACTON - MENTAL HEALTH SERVICES - CLACTON HOSPITAL","R1L",null,null,"BEDFORD HOSPITAL SOUTH WING","Meadow bank"]
[{"$error":"#N/A"},{"$error":"#N/A"},{"$f":"IF(F162=\"\",0,IF(ISERROR(VLOOKUP(CONCATENATE(D162,\"-\",F162),Wards!$A:$A,1,FALSE)),1,0))","v":0},0,0,"","",0,0,0,0,0,0,0,0,0,0,0,null,null,null,null,null,null,null,null,null,null,0,null,null,null,null,null,null,null,0,0,0,0,0,0,0,0,{"$f":"IF(AS162=\"\",0,IF(AS162>100%,1,0))","v":0},0,0,null,null,null,0,null,0,0,0,null,null,null,"","",0,false,0,0,null,null,null,null,null,"R1LCLIFTON LODGE","R1LJ3","CLIFTON LODGE","R1LJ3","CLIFTON LODGE","R1L",null,null,"BEDFORD HOSPITAL SOUTH WING","Orchard Gynae"]
[{"$error":"#N/A"},{"$error":"#N/A"},{"$f":"IF(F163=\"\",0,IF(ISERROR(VLOOKUP(CONCATENATE(D163,\"-\",F163),Wards!$A:$A,1,FALSE)),1,0))","v":0},0,0,"","",0,0,0,0,0,0,0,0,0,0,0,null,null,null,null,null,null,null,null,null,null,0,null,null,null,null,null,null,null,0,0,0,0,0,0,0,0,{"$f":"IF(AS163=\"\",0,IF(AS163>100%,1,0))","v":0},0,0,null,null,null,0,null,0,0,0,null,null,null,"","",0,false,0,0,null,null,null,null,null,"R1LCOLCHESTER - KING'S WOOD CENTRE","R1LD6","COLCHESTER - KING'S WOOD CENTRE","R1LD6","COLCHESTER - KING'S WOOD CENTRE","R1L",null,null,"BEDFORD HOSPITAL SOUTH WING","Orchard Maternity/Delivery"]
[{"$error":"#N/A"},{"$error":"#N/A"},{"$f":"IF(F164=\"\",0,IF(ISERROR(VLOOKUP(CONCATENATE(D164,\"-\",F164),Wards!$A:$A,1,FALSE)),1,0))","v":0},0,0,"","",0,0,0,0,0,0,0,0,0,0,0,null,null,null,null,null,null,null,null,null,null,0,null,null,null,null,null,null,null,0,0,0,0,0,0,0,0,{"$f":"IF(AS164=\"\",0,IF(AS164>100%,1,0))","v":0},0,0,null,null,null,0,null,0,0,0,null,null,null,"","",0,false,0,0,null,null,null,null,null,"R1LCOLCHESTER - THE BRAMBLES","R1LAT","COLCHESTER - THE BRAMBLES","R1LAT","COLCHESTER - THE BRAMBLES",{"$f":"LEFT(BU365,3)","v":"R1L"},null,null,"BEDFORD HOSPITAL SOUTH WING","Pilgrim"]
[{"$error":"#N/A"},{"$error":"#N/A"},{"$f":"IF(F165=\"\",0,IF(ISERROR(VLOOKUP(CONCATENATE(D165,\"-\",F165),Wards!$A:$A,1,FALSE)),1,0))","v":0},0,0,"","",0,0,0,0,0,0,0,0,0,0,0,null,null,null,null,null,null,null,null,null,null,0,null,null,null,null,null,null,null,0,0,0,0,0,0,0,0,{"$f":"IF(AS165=\"\",0,IF(AS165>100%,1,0))","v":0},0,0,null,null,null,0,null,0,0,0,null,null,null,"","",0,false,0,0,null,null,null,null,null,"R1LCOLCHESTER - THE LAKES","R1LE1","COLCHESTER - THE LAKES","R1LE1","COLCHESTER - THE LAKES","R1L",null,null,"BEDFORD HOSPITAL SOUTH WING","Reginald Hart"]
[{"$error":"#N/A"},{"$error":"#N/A"},{"$f":"IF(F166=\"\",0,IF(ISERROR(VLOOKUP(CONCATENATE(D166,\"-\",F166),Wards!$A:$A,1,FALSE)),1,0))","v":0},0,0,"","",0,0,0,0,0,0,0,0,0,0,0,null,null,null,null,null,null,null,null,null,null,0,null,null,null,null,null,null,null,0,0,0,0,0,0,0,0,{"$f":"IF(AS166=\"\",0,IF(AS166>100%,1,0))","v":0},0,0,null,null,null,0,null,0,0,0,null,null,null,"","",0,false,0,0,null,null,null,null,null,"R1LCUMBERLEDGE CENTRE","R1L90","CUMBERLEDGE CENTRE","R1L90","CUMBERLEDGE CENTRE","R1L",null,null,"BEDFORD HOSPITAL SOUTH WING","Richard Wells"]
[{"$error":"#N/A"},{"$error":"#N/A"},{"$f":"IF(F167=\"\",0,IF(ISERROR(VLOOKUP(CONCATENATE(D167,\"-\",F167),Wards!$A:$A,1,FALSE)),1,0))","v":0},0,0,"","",0,0,0,0,0,0,0,0,0,0,0,null,null,null,null,null,null,null,null,null,null,0,null,null,null,null,null,null,null,0,0,0,0,0,0,0,0,{"$f":"IF(AS167=\"\",0,IF(AS167>100%,1,0))","v":0},0,0,null,null,null,0,null,0,0,0,null,null,null,"","",0,false,0,0,null,null,null,null,null,"R1LHARLOW - DERWENT CENTRE","R1LPA","HARLOW - DERWENT CENTRE","R1LPA","HARLOW - DERWENT CENTRE","R1L",null,null,"BEDFORD HOSPITAL SOUTH WING","Riverbank"]
[{"$error":"#N/A"},{"$error":"#N/A"},{"$f":"IF(F168=\"\",0,IF(ISERROR(VLOOKUP(CONCATENATE(D168,\"-\",F168),Wards!$A:$A,1,FALSE)),1,0))","v":0},0,0,"","",0,0,0,0,0,0,0,0,0,0,0,null,null,null,null,null,null,null,null,null,null,0,null,null,null,null,null,null,null,0,0,0,0,0,0,0,0,{"$f":"IF(AS168=\"\",0,IF(AS168>100%,1,0))","v":0},0,0,null,null,null,0,null,0,0,0,null,null,null,"","",0,false,0,0,null,null,null,null,null,"R1LHARLOW - SYDENHAM HOUSE","R1LHF","HARLOW - SYDENHAM HOUSE","R1LHF","HARLOW - SYDENHAM HOUSE","R1L",null,null,"BEDFORD HOSPITAL SOUTH WING","Russell"]
[{"$error":"#N/A"},{"$error":"#N/A"},{"$f":"IF(F169=\"\",0,IF(ISERROR(VLOOKUP(CONCATENATE(D169,\"-\",F169),Wards!$A:$A,1,FALSE)),1,0))","v":0},0,0,"","",0,0,0,0,0,0,0,0,0,0,0,null,null,null,null,null,null,null,null,null,null,0,null,null,null,null,null,null,null,0,0,0,0,0,0,0,0,{"$f":"IF(AS169=\"\",0,IF(AS169>100%,1,0))","v":0},0,0,null,null,null,0,null,0,0,0,null,null,null,"","",0,false,0,0,null,null,null,null,null,"R1LHEATH CLOSE","R1LA9","HEATH CLOSE","R1LA9","HEATH CLOSE","R1L",null,null,"BEDFORD HOSPITAL SOUTH WING","Shand"]
[{"$error":"#N/A"},{"$error":"#N/A"},{"$f":"IF(F170=\"\",0,IF(ISERROR(VLOOKUP(CONCATENATE(D170,\"-\",F170),Wards!$A:$A,1,FALSE)),1,0))","v":0},0,0,"","",0,0,0,0,0,0,0,0,0,0,0,null,null,null,null,null,null,null,null,null,null,0,null,null,null,null,null,null,null,0,0,0,0,0,0,0,0,{"$f":"IF(AS170=\"\",0,IF(AS170>100%,1,0))","v":0},0,0,null,null,null,0,null,0,0,0,null,null,null,"","",0,false,0,0,null,null,null,null,null,"R1LMENTAL HEALTH UNIT (BASILDON)","R1L40","MENTAL HEALTH UNIT (BASILDON)","R1L40","MENTAL HEALTH UNIT (BASILDON)","R1L",null,null,"BEDFORD HOSPITAL SOUTH WING","Shuttleworth Medical"]
[{"$error":"#N/A"},{"$error":"#N/A"},{"$f":"IF(F171=\"\",0,IF(ISERROR(VLOOKUP(CONCATENATE(D171,\"-\",F171),Wards!$A:$A,1,FALSE)),1,0))","v":0},0,0,"","",0,0,0,0,0,0,0,0,0,0,0,null,null,null,null,null,null,null,null,null,null,0,null,null,null,null,null,null,null,0,0,0,0,0,0,0,0,{"$f":"IF(AS171=\"\",0,IF(AS171>100%,1,0))","v":0},0,0,null,null,null,0,null,0,0,0,null,null,null,"","",0,false,0,0,null,null,null,null,null,"R1LMOUNTNESSING COURT","R1L65","MOUNTNESSING COURT","R1L65","MOUNTNESSING COURT","R1L",null,null,"BEDFORD HOSPITAL SOUTH WING","Whitbread Medical"]
[{"$error":"#N/A"},{"$error":"#N/A"},{"$f":"IF(F172=\"\",0,IF(ISERROR(VLOOKUP(CONCATENATE(D172,\"-\",F172),Wards!$A:$A,1,FALSE)),1,0))","v":0},0,0,"","",0,0,0,0,0,0,0,0,0,0,0,null,null,null,null,null,null,null,null,null,null,0,null,null,null,null,null,null,null,0,0,0,0,0,0,0,0,{"$f":"IF(AS172=\"\",0,IF(AS172>100%,1,0))","v":0},0,0,null,null,null,0,null,0,0,0,null,null,null,"","",0,false,0,0,null,null,null,null,null,"R1LNEW ST AUBYN CENTRE","R1L22","NEW ST AUBYN CENTRE","R1LL","NEW ST AUBYN CENTRE","R1L",null,null,"PROSPECT PARK HOSPITAL","Bluebell Ward"]
[{"$error":"#N/A"},{"$error":"#N/A"},{"$f":"IF(F173=\"\",0,IF(ISERROR(VLOOKUP(CONCATENATE(D173,\"-\",F173),Wards!$A:$A,1,FALSE)),1,0))","v":0},0,0,"","",0,0,0,0,0,0,0,0,0,0,0,null,null,null,null,null,null,null,null,null,null,0,null,null,null,null,null,null,null,0,0,0,0,0,0,0,0,{"$f":"IF(AS173=\"\",0,IF(AS173>100%,1,0))","v":0},0,0,null,null,null,0,null,0,0,0,null,null,null,"","",0,false,0,0,null,null,null,null,null,"R1LROBIN PINTO UNIT","R1L31","ROBIN PINTO UNIT","R1L31","ROBIN PINTO UNIT","R1L",null,null,"PROSPECT PARK HOSPITAL","Campion Unit"]
[{"$f":"VLOOKUP($D174,$BS:$BS,1,0)","v":{"$error":"#N/A"}},{"$f":"VLOOKUP($E174,$BT:$BT,1,0)","v":{"$error":"#N/A"}},{"$f":"IF(F174=\"\",0,IF(ISERROR(VLOOKUP(CONCATENATE(D174,\"-\",F174),Wards!$A:$A,1,FALSE)),1,0))","v":0},{"$f":"IF(D174=\"\",0,IF(ISERROR(VLOOKUP(D174,$BS$3:$BS$250,1,0)),0,IF(VLOOKUP(D174,$BS$3:$BW$250,5,0)=$B$8,0,1)))","v":0},0,"","",0,0,{"$f":"IF(G174=\"\",0,IF(ISERROR(VLOOKUP(G174,$AV$14:$AV$98,1,FALSE)),1,0))","v":0},{"$f":"IF(H174=\"\",0,IF(ISERROR(VLOOKUP(H174,$AV$14:$AV$98,1,FALSE)),1,0))","v":0},0,0,0,0,0,0,0,null,null,null,null,null,null,null,null,null,null,0,null,null,null,null,null,null,null,{"$f":"IF(AK174=\"\",0,IF(AK174>100%,1,0))","v":0},0,0,0,0,0,0,0,{"$f":"IF(AS174=\"\",0,IF(AS174>100%,1,0))","v":0},0,0,null,null,null,0,null,0,0,0,null,null,null,"","",0,false,0,0,null,null,null,null,null,"R1LROCHFORD COMMUNITY HOSPITAL","R1L10","ROCHFORD COMMUNITY HOSPITAL","R1L10","ROCHFORD COMMUNITY HOSPITAL","R1L",null,null,"PROSPECT PARK HOSPITAL","Daisy Ward"]
[{"$error":"#N/A"},{"$error":"#N/A"},{"$f":"IF(F175=\"\",0,IF(ISERROR(VLOOKUP(CONCATENATE(D175,\"-\",F175),Wards!$A:$A,1,FALSE)),1,0))","v":0},0,0,"","",0,0,0,0,0,0,0,0,0,0,0,null,null,null,null,null,null,null,null,null,null,0,null,null,null,null,null,null,null,0,0,0,0,0,0,0,0,{"$f":"IF(AS175=\"\",0,IF(AS175>100%,1,0))","v":0},0,0,null,null,null,{"$f":"IF(AK174=\"\",0, IF(AK174=\"-\",0,IF(AK174>100%,1,0)))","v":0},null,0,0,0,null,null,null,"",{"$f":"IF(BG376=\"\",\"\",(IF(COUNTIF($BG$216:$BG$414,BG376)>1,1,0))=1)","v":""},0,{"$f":"IF(E174=\"\",(COUNTA(E175)=1),\"Complete\")","v":false},0,0,null,null,null,null,null,"R1LSAFFRON WALDEN COMMUNITY HOSPITAL","R1LTH","SAFFRON WALDEN COMMUNITY HOSPITAL","R1LTH","SAFFRON WALDEN COMMUNITY HOSPITAL","R1L",null,null,"PROSPECT PARK HOSPITAL","Oakwood Ward"]
[{"$error":"#N/A"},{"$error":"#N/A"},{"$f":"IF(F176=\"\",0,IF(ISERROR(VLOOKUP(CONCATENATE(D176,\"-\",F176),Wards!$A:$A,1,FALSE)),1,0))","v":0},0,0,"","",0,0,0,0,0,0,0,0,0,0,0,null,null,null,null,null,null,null,null,null,null,0,null,null,null,null,null,null,null,0,0,0,0,0,0,0,0,{"$f":"IF(AS176=\"\",0,IF(AS176>100%,1,0))","v":0},0,0,null,null,null,0,null,0,0,0,null,null,null,"","",0,false,0,0,null,null,null,null,null,"R1LST MARGARET'S HOSPITAL","R1LT1","ST MARGARET'S HOSPITAL","R1LT1","ST MARGARET'S HOSPITAL","R1L",null,null,"PROSPECT PARK HOSPITAL","Orchid Ward"]
[{"$error":"#N/A"},{"$error":"#N/A"},{"$f":"IF(F177=\"\",0,IF(ISERROR(VLOOKUP(CONCATENATE(D177,\"-\",F177),Wards!$A:$A,1,FALSE)),1,0))","v":0},0,0,"","",0,0,0,0,0,0,0,0,0,0,0,null,null,null,null,null,null,null,null,null,null,0,null,null,null,null,null,null,null,0,0,0,0,0,0,0,0,{"$f":"IF(AS177=\"\",0,IF(AS177>100%,1,0))","v":0},0,0,null,null,null,0,null,0,0,0,null,null,null,"","",0,false,0,0,null,null,null,null,null,"R1LTHE CRYSTAL CENTRE","R1L14","THE CRYSTAL CENTRE","R1L14","THE CRYSTAL CENTRE","R1L",null,null,"PROSPECT PARK HOSPITAL","Rose Ward"]
[{"$error":"#N/A"},{"$error":"#N/A"},{"$f":"IF(F178=\"\",0,IF(ISERROR(VLOOKUP(CONCATENATE(D178,\"-\",F178),Wards!$A:$A,1,FALSE)),1,0))","v":0},0,0,"","",0,0,0,0,0,0,0,0,0,0,0,null,null,null,null,null,null,null,null,null,null,0,null,null,null,null,null,null,null,0,0,0,0,0,0,0,0,{"$f":"IF(AS178=\"\",0,IF(AS178>100%,1,0))","v":0},0,0,null,null,null,0,null,0,0,0,null,null,null,"","",0,false,0,0,null,null,null,null,null,"R1LTHURROCK COMMUNITY HOSPITAL","R1L50","THURROCK COMMUNITY HOSPITAL","R1L50","THURROCK COMMUNITY HOSPITAL","R1L",null,null,"PROSPECT PARK HOSPITAL","Rowan Ward"]
[{"$error":"#N/A"},{"$error":"#N/A"},{"$f":"IF(F179=\"\",0,IF(ISERROR(VLOOKUP(CONCATENATE(D179,\"-\",F179),Wards!$A:$A,1,FALSE)),1,0))","v":0},0,0,"","",0,0,0,0,0,0,0,0,0,0,0,null,null,null,null,null,null,null,null,null,null,0,null,null,null,null,null,null,null,0,0,0,0,0,0,0,0,{"$f":"IF(AS179=\"\",0,IF(AS179>100%,1,0))","v":0},0,0,null,null,null,0,null,0,0,0,null,null,null,"","",0,false,0,0,null,null,null,null,null,"R1LWOODLEA CLINIC (LEARNING DISABILITY SERVICE)","R1LL8","WOODLEA CLINIC (LEARNING DISABILITY SERVICE)","R1LL8","WOODLEA CLINIC (LEARNING DISABILITY SERVICE)","R1L",null,null,"PROSPECT PARK HOSPITAL","Snowdrop Ward"]
[{"$error":"#N/A"},{"$error":"#N/A"},{"$f":"IF(F180=\"\",0,IF(ISERROR(VLOOKUP(CONCATENATE(D180,\"-\",F180),Wards!$A:$A,1,FALSE)),1,0))","v":0},0,0,"","",0,0,0,0,0,0,0,0,0,0,0,null,null,null,null,null,null,null,null,null,null,0,null,null,null,null,null,null,null,0,0,0,0,0,0,0,0,{"$f":"IF(AS180=\"\",0,IF(AS180>100%,1,0))","v":0},0,0,null,null,null,0,null,0,0,0,null,null,null,"","",0,false,0,0,null,null,null,null,null,"RA2FARNHAM HOSPITAL","RA215","FARNHAM HOSPITAL","RA215","FARNHAM HOSPITAL","RA2",null,null,"PROSPECT PARK HOSPITAL","Sorrel Ward"]
[{"$error":"#N/A"},{"$error":"#N/A"},{"$f":"IF(F181=\"\",0,IF(ISERROR(VLOOKUP(CONCATENATE(D181,\"-\",F181),Wards!$A:$A,1,FALSE)),1,0))","v":0},0,0,"","",0,0,0,0,0,0,0,0,0,0,0,null,null,null,null,null,null,null,null,null,null,0,null,null,null,null,null,null,null,0,0,0,0,0,0,0,0,{"$f":"IF(AS181=\"\",0,IF(AS181>100%,1,0))","v":0},0,0,null,null,null,0,null,0,0,0,null,null,null,"","",0,false,0,0,null,null,null,null,null,"RA2FRIMLEY PARK HOSPITAL","RA245","FRIMLEY PARK HOSPITAL","RA245","FRIMLEY PARK HOSPITAL","RA2",null,null,"ST MARKS HOSPITAL","Henry Tudor"]
[{"$error":"#N/A"},{"$error":"#N/A"},{"$f":"IF(F182=\"\",0,IF(ISERROR(VLOOKUP(CONCATENATE(D182,\"-\",F182),Wards!$A:$A,1,FALSE)),1,0))","v":0},0,0,"","",0,0,0,0,0,0,0,0,0,0,0,null,null,null,null,null,null,null,null,null,null,0,null,null,null,null,null,null,null,0,0,0,0,0,0,0,0,{"$f":"IF(AS182=\"\",0,IF(AS182>100%,1,0))","v":0},0,0,null,null,null,0,null,0,0,0,null,null,null,"","",0,false,0,0,null,null,null,null,null,"RA2HASLEMERE HOSPITAL","RA219","HASLEMERE HOSPITAL","RA219","HASLEMERE HOSPITAL","RA2",null,null,"UPTON HOSPITAL","Jubilee Ward"]
[{"$error":"#N/A"},{"$error":"#N/A"},{"$f":"IF(F183=\"\",0,IF(ISERROR(VLOOKUP(CONCATENATE(D183,\"-\",F183),Wards!$A:$A,1,FALSE)),1,0))","v":0},0,0,"","",0,0,0,0,0,0,0,0,0,0,0,null,null,null,null,null,null,null,null,null,null,0,null,null,null,null,null,null,null,0,0,0,0,0,0,0,0,{"$f":"IF(AS183=\"\",0,IF(AS183>100%,1,0))","v":0},0,0,null,null,null,0,null,0,0,0,null,null,null,"","",0,false,0,0,null,null,null,null,null,"RA2ROYAL SURREY COUNTY HOSPITAL","RA201","ROYAL SURREY COUNTY HOSPITAL","RA201","ROYAL SURREY COUNTY HOSPITAL","RA2",null,null,"WEST BERKSHIRE COMMUNITY HOSPITAL","WBCH Donnington Ward"]
[{"$error":"#N/A"},{"$error":"#N/A"},{"$f":"IF(F184=\"\",0,IF(ISERROR(VLOOKUP(CONCATENATE(D184,\"-\",F184),Wards!$A:$A,1,FALSE)),1,0))","v":0},0,0,"","",0,0,0,0,0,0,0,0,0,0,0,null,null,null,null,null,null,null,null,null,null,0,null,null,null,null,null,null,null,0,0,0,0,0,0,0,0,{"$f":"IF(AS184=\"\",0,IF(AS184>100%,1,0))","v":0},0,0,null,null,null,0,null,0,0,0,null,null,null,"","",0,false,0,0,null,null,null,null,null,"RA3CHILDREN'S SERVICES SOUTH","RA305","CHILDREN'S SERVICES SOUTH","RA305","CHILDREN'S SERVICES SOUTH","RA3",null,null,"WEST BERKSHIRE COMMUNITY HOSPITAL","WBCH Highclere Ward"]
[{"$error":"#N/A"},{"$error":"#N/A"},{"$f":"IF(F185=\"\",0,IF(ISERROR(VLOOKUP(CONCATENATE(D185,\"-\",F185),Wards!$A:$A,1,FALSE)),1,0))","v":0},0,0,"","",0,0,0,0,0,0,0,0,0,0,0,null,null,null,null,null,null,null,null,null,null,0,null,null,null,null,null,null,null,0,0,0,0,0,0,0,0,{"$f":"IF(AS185=\"\",0,IF(AS185>100%,1,0))","v":0},0,0,null,null,null,0,null,0,0,0,null,null,null,"","",0,false,0,0,null,null,null,null,null,"RA3WESTON GENERAL HOSPITAL","RA301","WESTON GENERAL HOSPITAL","RA301","WESTON GENERAL HOSPITAL","RA3",null,null,"WOKINGHAM COMMUNITY HOSPITAL","Willow House"]
[{"$error":"#N/A"},{"$error":"#N/A"},{"$f":"IF(F186=\"\",0,IF(ISERROR(VLOOKUP(CONCATENATE(D186,\"-\",F186),Wards!$A:$A,1,FALSE)),1,0))","v":0},0,0,"","",0,0,0,0,0,0,0,0,0,0,0,null,null,null,null,null,null,null,null,null,null,0,null,null,null,null,null,null,null,0,0,0,0,0,0,0,0,{"$f":"IF(AS186=\"\",0,IF(AS186>100%,1,0))","v":0},0,0,null,null,null,0,null,0,0,0,null,null,null,"","",0,false,0,0,null,null,null,null,null,"RA4YEOVIL DISTRICT HOSPITAL","RA430","YEOVIL DISTRICT HOSPITAL","RA430","YEOVIL DISTRICT HOSPITAL","RA4",null,null,"WOKINGHAM COMMUNITY HOSPITAL","Windsor Ward Days"]
[{"$error":"#N/A"},{"$error":"#N/A"},{"$f":"IF(F187=\"\",0,IF(ISERROR(VLOOKUP(CONCATENATE(D187,\"-\",F187),Wards!$A:$A,1,FALSE)),1,0))","v":0},0,0,"","",0,0,0,0,0,0,0,0,0,0,0,null,null,null,null,null,null,null,null,null,null,0,null,null,null,null,null,null,null,0,0,0,0,0,0,0,0,{"$f":"IF(AS187=\"\",0,IF(AS187>100%,1,0))","v":0},0,0,null,null,null,0,null,0,0,0,null,null,null,"","",0,false,0,0,null,null,null,null,null,"RA7BRISTOL EYE HOSPITAL","RA708","BRISTOL EYE HOSPITAL","RA708","BRISTOL EYE HOSPITAL","RA7",null,null,"ARDENLEIGH","Citrine"]
[{"$error":"#N/A"},{"$error":"#N/A"},{"$f":"IF(F188=\"\",0,IF(ISERROR(VLOOKUP(CONCATENATE(D188,\"-\",F188),Wards!$A:$A,1,FALSE)),1,0))","v":0},0,0,"","",0,0,0,0,0,0,0,0,0,0,0,null,null,null,null,null,null,null,null,null,null,0,null,null,null,null,null,null,null,0,0,0,0,0,0,0,0,{"$f":"IF(AS188=\"\",0,IF(AS188>100%,1,0))","v":0},0,0,null,null,null,0,null,0,0,0,null,null,null,"","",0,false,0,0,null,null,null,null,null,"RA7BRISTOL GENERAL HOSPITAL","RA702","BRISTOL GENERAL HOSPITAL","RA702","BRISTOL GENERAL HOSPITAL","RA7",null,null,"ARDENLEIGH","Coral"]
[{"$error":"#N/A"},{"$error":"#N/A"},{"$f":"IF(F189=\"\",0,IF(ISERROR(VLOOKUP(CONCATENATE(D189,\"-\",F189),Wards!$A:$A,1,FALSE)),1,0))","v":0},0,0,"","",0,0,0,0,0,0,0,0,0,0,0,null,null,null,null,null,null,null,null,null,null,0,null,null,null,null,null,null,null,0,0,0,0,0,0,0,0,{"$f":"IF(AS189=\"\",0,IF(AS189>100%,1,0))","v":0},0,0,null,null,null,0,null,0,0,0,null,null,null,"","",0,false,0,0,null,null,null,null,null,"RA7BRISTOL HAEMATOLOGY AND ONCOLOGY CENTRE","RA710","BRISTOL HAEMATOLOGY AND ONCOLOGY CENTRE","RA710","BRISTOL HAEMATOLOGY AND ONCOLOGY CENTRE","RA7",null,null,"ARDENLEIGH","Larimar"]
[{"$error":"#N/A"},{"$error":"#N/A"},{"$f":"IF(F190=\"\",0,IF(ISERROR(VLOOKUP(CONCATENATE(D190,\"-\",F190),Wards!$A:$A,1,FALSE)),1,0))","v":0},0,0,"","",0,0,0,0,0,0,0,0,0,0,0,null,null,null,null,null,null,null,null,null,null,0,null,null,null,null,null,null,null,{"$f":"IF(AK190=\"\",0,IF(AK190>100%,1,0))","v":0},0,0,0,0,0,0,0,{"$f":"IF(AS190=\"\",0,IF(AS190>100%,1,0))","v":0},0,0,null,null,null,0,null,0,0,0,null,null,null,"","",0,false,0,0,null,null,null,null,null,"RA7BRISTOL HOMEOPATHIC HOSPITAL","RA703","BRISTOL HOMEOPATHIC HOSPITAL","RA703","BRISTOL HOMEOPATHIC HOSPITAL","RA7",null,null,"ARDENLEIGH","Pacific"]
[{"$error":"#N/A"},{"$error":"#N/A"},{"$f":"IF(F191=\"\",0,IF(ISERROR(VLOOKUP(CONCATENATE(D191,\"-\",F191),Wards!$A:$A,1,FALSE)),1,0))","v":0},0,0,"","",0,0,0,0,0,0,0,0,0,0,0,null,null,null,null,null,null,null,null,null,null,0,null,null,null,null,null,null,null,0,0,0,0,0,0,0,0,{"$f":"IF(AS191=\"\",0,IF(AS191>100%,1,0))","v":0},0,0,null,null,null,0,null,0,0,0,null,null,null,"","",0,false,0,0,null,null,null,null,null,"RA7BRISTOL ROYAL HOSPITAL FOR CHILDREN","RA723","BRISTOL ROYAL HOSPITAL FOR CHILDREN","RA723","BRISTOL ROYAL HOSPITAL FOR CHILDREN","RA7",null,null,"ARDENLEIGH","Tourmaline"]
[{"$error":"#N/A"},{"$error":"#N/A"},{"$f":"IF(F192=\"\",0,IF(ISERROR(VLOOKUP(CONCATENATE(D192,\"-\",F192),Wards!$A:$A,1,FALSE)),1,0))","v":0},0,0,"","",0,0,0,0,0,0,0,0,0,0,0,null,null,null,null,null,null,null,null,null,null,0,null,null,null,null,null,null,null,0,0,0,0,0,0,0,0,{"$f":"IF(AS192=\"\",0,IF(AS192>100%,1,0))","v":0},0,0,null,null,null,0,null,0,0,0,null,null,null,"","",0,false,0,0,null,null,null,null,null,"RA7BRISTOL ROYAL INFIRMARY","RA701","BRISTOL ROYAL INFIRMARY","RA701","BRISTOL ROYAL INFIRMARY","RA7",null,null,"ASHCROFT","Ashcroft"]
[{"$error":"#N/A"},{"$error":"#N/A"},{"$f":"IF(F193=\"\",0,IF(ISERROR(VLOOKUP(CONCATENATE(D193,\"-\",F193),Wards!$A:$A,1,FALSE)),1,0))","v":0},0,0,"","",0,0,0,0,0,0,0,0,0,0,0,null,null,null,null,null,null,null,null,null,null,0,null,null,null,null,null,null,null,0,0,0,0,0,0,0,0,{"$f":"IF(AS193=\"\",0,IF(AS193>100%,1,0))","v":0},0,0,null,null,null,0,null,0,0,0,null,null,null,"","",0,false,0,0,null,null,null,null,null,"RA7KEYNSHAM HOSPITAL","RA705","KEYNSHAM HOSPITAL","RA705","KEYNSHAM HOSPITAL","RA7",null,null,"DAN MOONEY HOUSE","Dan Mooney"]
[{"$error":"#N/A"},{"$error":"#N/A"},{"$f":"IF(F194=\"\",0,IF(ISERROR(VLOOKUP(CONCATENATE(D194,\"-\",F194),Wards!$A:$A,1,FALSE)),1,0))","v":0},0,0,"","",0,0,0,0,0,0,0,0,0,0,0,null,null,null,null,null,null,null,null,null,null,0,null,null,null,null,null,null,null,0,0,0,0,0,0,0,0,{"$f":"IF(AS194=\"\",0,IF(AS194>100%,1,0))","v":0},0,0,null,null,null,0,null,0,0,0,null,null,null,"","",0,false,0,0,null,null,null,null,null,"RA7SOUTH BRISTOL COMMUNITY HOSPITAL","RA773","SOUTH BRISTOL COMMUNITY HOSPITAL","RA773","SOUTH BRISTOL COMMUNITY HOSPITAL","RA7",null,null,"DAVID BROMLEY","David Bromley"]
[{"$error":"#N/A"},{"$error":"#N/A"},{"$f":"IF(F195=\"\",0,IF(ISERROR(VLOOKUP(CONCATENATE(D195,\"-\",F195),Wards!$A:$A,1,FALSE)),1,0))","v":0},0,0,"","",0,0,0,0,0,0,0,0,0,0,0,null,null,null,null,null,null,null,null,null,null,0,null,null,null,null,null,null,null,0,0,0,0,0,0,0,0,{"$f":"IF(AS195=\"\",0,IF(AS195>100%,1,0))","v":0},0,0,null,null,null,0,null,0,0,0,null,null,null,"","",0,false,0,0,null,null,null,null,null,"RA7ST MICHAEL'S HOSPITAL","RA707","ST MICHAEL'S HOSPITAL","RA707","ST MICHAEL'S HOSPITAL","RA7",null,null,"EATING DISORDERS, THE BARBERRY","Cilantro"]
[{"$error":"#N/A"},{"$error":"#N/A"},{"$f":"IF(F196=\"\",0,IF(ISERROR(VLOOKUP(CONCATENATE(D196,\"-\",F196),Wards!$A:$A,1,FALSE)),1,0))","v":0},0,0,"","",0,0,0,0,0,0,0,0,0,0,0,null,null,null,null,null,null,null,null,null,null,0,null,null,null,null,null,null,null,0,0,0,0,0,0,0,0,{"$f":"IF(AS196=\"\",0,IF(AS196>100%,1,0))","v":0},0,0,null,null,null,0,null,0,0,0,null,null,null,"","",0,false,0,0,null,null,null,null,null,"RA7UNIVERSITY OF BRISTOL DENTAL HOSPITAL","RA709","UNIVERSITY OF BRISTOL DENTAL HOSPITAL","RA709","UNIVERSITY OF BRISTOL DENTAL HOSPITAL","RA7",null,null,"EDEN UNIT","Eden Acute"]
[{"$error":"#N/A"},{"$error":"#N/A"},{"$f":"IF(F197=\"\",0,IF(ISERROR(VLOOKUP(CONCATENATE(D197,\"-\",F197),Wards!$A:$A,1,FALSE)),1,0))","v":0},0,0,"","",0,0,0,0,0,0,0,0,0,0,0,null,null,null,null,null,null,null,null,null,null,0,null,null,null,null,null,null,null,0,0,0,0,0,0,0,0,{"$f":"IF(AS197=\"\",0,IF(AS197>100%,1,0))","v":0},0,0,null,null,null,0,null,0,0,0,null,null,null,"","",0,false,0,0,null,null,null,null,null,"RA9ASHBURTON AND BUCKFASTLEIGH HOSPITAL","RA952","ASHBURTON AND BUCKFASTLEIGH HOSPITAL","RA952","ASHBURTON AND BUCKFASTLEIGH HOSPITAL","RA9",null,null,"EDEN UNIT","Eden PICU"]
[{"$error":"#N/A"},{"$error":"#N/A"},{"$f":"IF(F198=\"\",0,IF(ISERROR(VLOOKUP(CONCATENATE(D198,\"-\",F198),Wards!$A:$A,1,FALSE)),1,0))","v":0},0,0,"","",0,0,0,0,0,0,0,0,0,0,0,null,null,null,null,null,null,null,null,null,null,0,null,null,null,null,null,null,null,0,0,0,0,0,0,0,0,{"$f":"IF(AS198=\"\",0,IF(AS198>100%,1,0))","v":0},0,0,null,null,null,0,null,0,0,0,null,null,null,"","",0,false,0,0,null,null,null,null,null,"RA9BOVEY TRACEY HOSPITAL","RA953","BOVEY TRACEY HOSPITAL","RA953","BOVEY TRACEY HOSPITAL","RA9",null,null,"ENDEAVOUR COURT","Endeavour Court"]
[{"$error":"#N/A"},{"$error":"#N/A"},{"$f":"IF(F199=\"\",0,IF(ISERROR(VLOOKUP(CONCATENATE(D199,\"-\",F199),Wards!$A:$A,1,FALSE)),1,0))","v":0},0,0,"","",0,0,0,0,0,0,0,0,0,0,0,null,null,null,null,null,null,null,null,null,null,0,null,null,null,null,null,null,null,0,0,0,0,0,0,0,0,{"$f":"IF(AS199=\"\",0,IF(AS199>100%,1,0))","v":0},0,0,null,null,null,0,null,0,0,0,null,null,null,"","",0,false,0,0,null,null,null,null,null,"RA9BRIXHAM HOSPITAL ","RA954","BRIXHAM HOSPITAL ","RA954","BRIXHAM HOSPITAL ","RA9",null,null,"ENDEAVOUR HOUSE","Endeavour House"]
[{"$error":"#N/A"},{"$error":"#N/A"},{"$f":"IF(F200=\"\",0,IF(ISERROR(VLOOKUP(CONCATENATE(D200,\"-\",F200),Wards!$A:$A,1,FALSE)),1,0))","v":0},0,0,"","",0,0,0,0,0,0,0,0,0,0,0,null,null,null,null,null,null,null,null,null,null,0,null,null,null,null,null,null,null,0,0,0,0,0,0,0,0,{"$f":"IF(AS200=\"\",0,IF(AS200>100%,1,0))","v":0},0,0,null,null,null,0,null,0,0,0,null,null,null,"","",0,false,0,0,null,null,null,null,null,"RA9DARTMOUTH HOSPITAL","RA955","DARTMOUTH HOSPITAL","RA955","DARTMOUTH HOSPITAL","RA9",null,null,"FORWARD HOUSE","Forward House"]
[{"$error":"#N/A"},{"$error":"#N/A"},{"$f":"IF(F201=\"\",0,IF(ISERROR(VLOOKUP(CONCATENATE(D201,\"-\",F201),Wards!$A:$A,1,FALSE)),1,0))","v":0},0,0,"","",0,0,0,0,0,0,0,0,0,0,0,null,null,null,null,null,null,null,null,null,null,0,null,null,null,null,null,null,null,0,0,0,0,0,0,0,0,{"$f":"IF(AS201=\"\",0,IF(AS201>100%,1,0))","v":0},0,0,null,null,null,0,null,0,0,0,null,null,null,"","",0,false,0,0,null,null,null,null,null,"RA9DAWLISH HOSPITAL","RA956","DAWLISH HOSPITAL","RA956","DAWLISH HOSPITAL","RA9",null,null,"GROVE AVENUE","Grove Avenue"]
[{"$error":"#N/A"},{"$error":"#N/A"},{"$f":"IF(F202=\"\",0,IF(ISERROR(VLOOKUP(CONCATENATE(D202,\"-\",F202),Wards!$A:$A,1,FALSE)),1,0))","v":0},0,0,"","",0,0,0,0,0,0,0,0,0,0,0,null,null,null,null,null,null,null,null,null,null,0,null,null,null,null,null,null,null,0,0,0,0,0,0,0,0,{"$f":"IF(AS202=\"\",0,IF(AS202>100%,1,0))","v":0},0,0,null,null,null,0,null,0,0,0,null,null,null,"","",0,false,0,0,null,null,null,null,null,"RA9NEWTON ABBOT HOSPITAL","RA957","NEWTON ABBOT HOSPITAL","RA957","NEWTON ABBOT HOSPITAL","RA9",null,null,"HERTFORD HOUSE","Hertford House"]
[{"$error":"#N/A"},{"$error":"#N/A"},{"$f":"IF(F203=\"\",0,IF(ISERROR(VLOOKUP(CONCATENATE(D203,\"-\",F203),Wards!$A:$A,1,FALSE)),1,0))","v":0},0,0,"","",0,0,0,0,0,0,0,0,0,0,0,null,null,null,null,null,null,null,null,null,null,0,null,null,null,null,null,null,null,0,0,0,0,0,0,0,0,{"$f":"IF(AS203=\"\",0,IF(AS203>100%,1,0))","v":0},0,0,null,null,null,0,null,0,0,0,null,null,null,"","",0,false,0,0,null,null,null,null,null,"RA9PAIGNTON HOSPITAL","RA958","PAIGNTON HOSPITAL","RA958","PAIGNTON HOSPITAL","RA9",null,null,"HILLIS LODGE","Hillis"]
[{"$error":"#N/A"},{"$error":"#N/A"},{"$f":"IF(F204=\"\",0,IF(ISERROR(VLOOKUP(CONCATENATE(D204,\"-\",F204),Wards!$A:$A,1,FALSE)),1,0))","v":0},0,0,"","",0,{"$f":"IF(E204=\"\",0,IF((J204+L204+R204+T204)>30000,1,0))","v":0},0,0,0,0,0,0,0,0,0,null,null,null,null,null,null,null,null,null,null,0,null,null,null,null,null,null,null,0,0,0,0,0,0,0,0,{"$f":"IF(AS204=\"\",0,IF(AS204>100%,1,0))","v":0},0,0,null,null,null,0,null,0,0,0,null,null,null,"","",0,false,0,0,null,null,null,null,null,"RA9TEIGNMOUTH HOSPITAL","RA959","TEIGNMOUTH HOSPITAL","RA959","TEIGNMOUTH HOSPITAL","RA9",null,null,"JUNIPER CENTRE","Bergamot"]
[{"$error":"#N/A"},{"$error":"#N/A"},{"$f":"IF(F205=\"\",0,IF(ISERROR(VLOOKUP(CONCATENATE(D205,\"-\",F205),Wards!$A:$A,1,FALSE)),1,0))","v":0},0,0,"","",0,0,0,0,0,0,0,0,0,0,0,null,null,null,null,null,null,null,null,null,null,0,null,null,null,null,null,null,null,0,0,0,0,0,0,0,0,{"$f":"IF(AS205=\"\",0,IF(AS205>100%,1,0))","v":0},0,0,null,null,null,0,null,0,0,0,null,null,null,"","",0,false,0,0,null,null,null,null,null,"RA9TORBAY HOSPITAL","RA901","TORBAY HOSPITAL","RA901","TORBAY HOSPITAL","RA9",null,null,"JUNIPER CENTRE","Rosemary"]
[{"$f":"VLOOKUP($D206,$BS:$BS,1,0)","v":{"$error":"#N/A"}},{"$f":"VLOOKUP($E206,$BT:$BT,1,0)","v":{"$error":"#N/A"}},{"$f":"IF(F206=\"\",0,IF(ISERROR(VLOOKUP(CONCATENATE(D206,\"-\",F206),Wards!$A:$A,1,FALSE)),1,0))","v":0},{"$f":"IF(D206=\"\",0,IF(ISERROR(VLOOKUP(D206,$BS$3:$BS$250,1,0)),0,IF(VLOOKUP(D206,$BS$3:$BW$250,5,0)=$B$8,0,1)))","v":0},0,"","",0,0,{"$f":"IF(G206=\"\",0,IF(ISERROR(VLOOKUP(G206,$AV$14:$AV$98,1,FALSE)),1,0))","v":0},0,0,0,0,0,0,0,0,null,null,null,null,null,null,null,null,null,null,0,null,null,null,null,null,null,null,{"$f":"IF(AK206=\"\",0,IF(AK206>100%,1,0))","v":0},0,0,0,0,0,0,0,{"$f":"IF(AS206=\"\",0,IF(AS206>100%,1,0))","v":0},0,0,null,null,null,0,null,0,0,0,null,null,null,"","",0,false,0,0,null,null,null,null,null,"RA9TOTNES HOSPITAL","RA979","TOTNES HOSPITAL","RA979","TOTNES HOSPITAL","RA9",null,null,"JUNIPER CENTRE","Sage"]
[{"$error":"#N/A"},{"$error":"#N/A"},{"$f":"IF(F207=\"\",0,IF(ISERROR(VLOOKUP(CONCATENATE(D207,\"-\",F207),Wards!$A:$A,1,FALSE)),1,0))","v":0},0,{"$f":"IF(E207=\"\",0,IF(G207=\"\",1,0))","v":0},{"$f":"IF(E207=\"\",\"\",IF(SUM(I207,K207,Q207,S207,M207,O207,U207,W207,Y207,AA207)=0,1,0))","v":""},{"$f":"IF(E207=\"\",\"\",IF(SUM(J207,L207,R207,T207,N207,P207,V207,X207,Z207,AB207)=0,1,0))","v":""},{"$f":"IF(E207=\"\",0,IF(SUM(I207:T207)<1448,1,0))","v":0},{"$f":"IF(E207=\"\",0,IF((J207+L207+R207+T207)>30000,1,0))","v":0},0,0,{"$f":"IF(E207=\"\",0,IF(D207=\"\",1,0))","v":0},{"$f":"IF(F207=\"\",0,IF(E207=\"\",1,0))","v":0},{"$f":"IF(G207=\"\",0,IF(F207=\"\",1,0))","v":0},{"$f":"IF(H207=\"\",0,IF(G207=\"\",1,0))","v":0},{"$f":"IF(I207=\"\",0,IF(H207=\"\",1,0))","v":0},{"$f":"IF(OR(I207<>\"\",K207<>\"\",J207<>\"\",L207<>\"\",Q207<>\"\",R207<>\"\",S207<>\"\",T207<>\"\",F207<>\"\",G207<>\"\",H207<>\"\",M207<>\"\",N207<>\"\",O207<>\"\",P207<>\"\",U207<>\"\",V207<>\"\",W207<>\"\",X207<>\"\",Y207<>\"\",Z207<>\"\",AA207<>\"\",AB207<>\"\",AC207<>\"\"),IF(E207=\"\",1,0),0)","v":0},{"$f":"IF(E207=\"\",0,IF(F207=\"\",1,0))","v":0},null,null,null,null,null,null,null,null,null,null,{"$f":"IF(AND(SUM(N207,P207,V207,J207,L207,R207,T207,X207,Z207,AB207)>0,AC207=0),1,0)","v":0},null,null,null,null,null,null,null,0,0,0,0,0,0,0,0,{"$f":"IF(AS207=\"\",0,IF(AS207>100%,1,0))","v":0},0,{"$f":"SUM(H408:AT408)","v":0},null,null,null,{"$f":"IF(AK206=\"\",0, IF(AK206=\"-\",0,IF(AK206>100%,1,0)))","v":0},null,0,0,0,null,null,null,"",{"$f":"IF(BG408=\"\",\"\",(IF(COUNTIF($BG$216:$BG$414,BG408)>1,1,0))=1)","v":""},0,{"$f":"IF(E206=\"\",(COUNTA(E207)=1),\"Complete\")","v":false},0,{"$f":"IF(G206=\"\",0,IF(G206=H206,1,0))","v":0},null,null,null,null,null,"RAEBRADFORD ROYAL INFIRMARY","RAE01","BRADFORD ROYAL INFIRMARY","RAE01","BRADFORD ROYAL INFIRMARY","RAE",null,null,"MARY SEACOLE HOUSE","Mary Seacole 1"]
[{"$error":"#N/A"},{"$error":"#N/A"},{"$f":"IF(F208=\"\",0,IF(ISERROR(VLOOKUP(CONCATENATE(D208,\"-\",F208),Wards!$A:$A,1,FALSE)),1,0))","v":0},0,0,"","",0,0,0,0,0,0,0,0,0,0,0,null,null,null,null,null,null,null,null,null,null,0,null,null,null,null,null,null,null,0,0,0,0,0,0,0,0,{"$f":"IF(AS208=\"\",0,IF(AS208>100%,1,0))","v":0},0,0,null,null,null,0,null,0,0,0,null,null,null,{"$f":"CONCATENATE(D207,E207,F207)","v":""},"",{"$f":"IF(BH409=TRUE,1,0)","v":0},false,{"$f":"IF(BJ409=\"Complete\",0, IF(BJ409=TRUE, 1, IF(BJ409=FALSE,0,0)))","v":0},0,null,null,null,null,null,"RAEST LUKES HOSPITAL","RAE05","ST LUKES HOSPITAL","RAE05","ST LUKES HOSPITAL","RAE",null,null,"MARY SEACOLE HOUSE","Mary Seacole 2"]
[{"$error":"#N/A"},{"$error":"#N/A"},{"$f":"IF(F209=\"\",0,IF(ISERROR(VLOOKUP(CONCATENATE(D209,\"-\",F209),Wards!$A:$A,1,FALSE)),1,0))","v":0},0,0,"","",0,0,0,0,0,0,0,0,0,0,0,null,null,null,null,null,null,null,null,null,null,0,null,null,null,null,null,null,null,0,0,0,0,0,0,0,0,{"$f":"IF(AS209=\"\",0,IF(AS209>100%,1,0))","v":0},0,0,null,null,null,0,null,0,0,0,null,null,null,"","",0,false,0,0,null,null,null,null,null,"RAJBASILDON HOSPITAL","RAJ12","BASILDON HOSPITAL","RAJ12","BASILDON HOSPITAL","RAJ",null,null,"MARY SEACOLE HOUSE","Meadowcroft"]
[{"$error":"#N/A"},{"$error":"#N/A"},{"$f":"IF(F210=\"\",0,IF(ISERROR(VLOOKUP(CONCATENATE(D210,\"-\",F210),Wards!$A:$A,1,FALSE)),1,0))","v":0},0,0,"","",0,0,0,0,0,0,0,0,0,0,0,null,null,null,null,null,null,null,null,null,null,0,null,null,null,null,null,null,null,0,0,0,0,0,0,0,0,{"$f":"IF(AS210=\"\",0,IF(AS210>100%,1,0))","v":0},0,0,null,null,null,0,null,0,0,0,null,null,null,"","",0,false,0,0,null,null,null,null,null,"RAJBRENTWOOD COMMUNITY HOSPITAL","RAJ25","BRENTWOOD COMMUNITY HOSPITAL","RAJ25","BRENTWOOD COMMUNITY HOSPITAL","RAJ",null,null,"MOTHER AND BABY UNIT","Chamomile"]
[{"$error":"#N/A"},{"$error":"#N/A"},{"$f":"IF(F211=\"\",0,IF(ISERROR(VLOOKUP(CONCATENATE(D211,\"-\",F211),Wards!$A:$A,1,FALSE)),1,0))","v":0},0,0,"","",0,0,0,0,0,0,0,0,0,0,0,null,null,null,null,null,null,null,null,null,null,0,null,null,null,null,null,null,null,0,0,0,0,0,0,0,0,{"$f":"IF(AS211=\"\",0,IF(AS211>100%,1,0))","v":0},0,0,null,null,null,0,null,0,0,0,null,null,null,"","",0,false,0,0,null,null,null,null,null,"RAJSOUTHEND HOSPITAL","RAJ01","SOUTHEND HOSPITAL","RAJ01","SOUTHEND HOSPITAL","RAJ",null,null,"NEWBRIDGE HOUSE","Newbridge"]
[{"$error":"#N/A"},{"$error":"#N/A"},{"$f":"IF(F212=\"\",0,IF(ISERROR(VLOOKUP(CONCATENATE(D212,\"-\",F212),Wards!$A:$A,1,FALSE)),1,0))","v":0},0,0,"","",0,0,0,0,0,0,0,0,0,0,0,null,null,null,null,null,null,null,null,null,null,0,null,null,null,null,null,null,null,0,0,0,0,0,0,0,0,{"$f":"IF(AS212=\"\",0,IF(AS212>100%,1,0))","v":0},0,0,null,null,null,0,null,0,0,0,null,null,null,"","",0,false,0,0,null,null,null,null,null,"RALBARNET HOSPITAL","RAL26","BARNET HOSPITAL","RAL26","BARNET HOSPITAL","RAL",null,null,"NORTHCROFT HOSPITAL","George"]
[{"$error":"#N/A"},{"$error":"#N/A"},{"$f":"IF(F213=\"\",0,IF(ISERROR(VLOOKUP(CONCATENATE(D213,\"-\",F213),Wards!$A:$A,1,FALSE)),1,0))","v":0},0,0,"","",0,0,0,0,0,{"$f":"IF(F213=\"\",0,IF(E213=\"\",1,0))","v":0},{"$f":"IF(G213=\"\",0,IF(F213=\"\",1,0))","v":0},{"$f":"IF(H213=\"\",0,IF(G213=\"\",1,0))","v":0},{"$f":"IF(I213=\"\",0,IF(H213=\"\",1,0))","v":0},0,0,null,null,null,null,null,null,null,null,null,null,0,null,null,null,null,null,null,null,0,0,0,0,0,0,0,0,{"$f":"IF(AS213=\"\",0,IF(AS213>100%,1,0))","v":0},0,0,null,null,null,0,null,0,0,0,null,null,null,"","",0,false,0,0,null,null,null,null,null,"RALCHASE FARM HOSPITAL","RALC7 ","CHASE FARM HOSPITAL","RALC7 ","CHASE FARM HOSPITAL","RAL",null,null,"REASIDE CLINIC","Avon"]
[{"$f":"IF((COUNTIF(D14:D213,\"\")=400),2,IF((COUNTIF(A215:A414,ERROR.TYPE(7)))=(COUNTIF(D14:D213,\"\")),0,1))","v":0},{"$f":"IF((COUNTIF(E14:E213,\"\")=400),2,IF((COUNTIF(B215:B414,ERROR.TYPE(7)))=(COUNTIF(E14:E213,\"\")),0,1))","v":0},{"$f":"IF(COUNTIF(C215:C414,1)>0,1,0)","v":1},0,0,0,0,0,{"$f":"IF(COUNTIF(I215:I414,1)>0,1,0)","v":0},0,0,0,0,0,0,1,0,0,null,null,null,null,null,null,null,null,null,null,{"$f":"IF(COUNTIF(AC215:AC414,1)>0,1,0)","v":0},null,null,null,null,null,null,null,{"$f":"IF(COUNTIF(AK215:AK414,1)>0,1,0)","v":1},1,1,1,1,1,1,1,{"$f":"IF(COUNTIF(AS215:AS414,1)>0,1,0)","v":0},0,9,null,null,null,0,null,0,0,0,null,null,null,null,null,null,false,0,0,null,null,null,null,null,"RALEDGWARE COMMUNITY HOSPITAL","RALRA","EDGWARE COMMUNITY HOSPITAL","RALRA","EDGWARE COMMUNITY HOSPITAL","RAL",null,null,"REASIDE CLINIC","Blythe"]
["got to equal 0","got to equal 0",null,"got to equal 0","got to equal 0","got to equal 0","got to equal 0","got to equal 0","got to equal 1",null,null,null,null,null,null,null,null,null,null,null,null,null,null,null,null,null,null,null,"Care hours, no patients",null,null,null,null,null,null,null,null,null,null,null,null,null,null,null,null,null,null,null,null,null,null,null,null,null,null,null,null,null,null,null,{"$f":"SUM(BI216:BI414)","v":0},null,{"$f":"SUM(BK216:BK415)","v":0},{"$f":"SUM(BL216:BL415)","v":0},null,null,null,null,null,"RALFINCHLEY MEMORIAL HOSPITAL","RAL22","FINCHLEY MEMORIAL HOSPITAL","RAL22","FINCHLEY MEMORIAL HOSPITAL","RAL",null,null,"REASIDE CLINIC","Dove"]
[null,null,null,null,"List one specialty","Total planned hrs >0","Total actual hrs >0","Total hrs <1448","Total hrs >30000","Check Spec 1 name","Check Spec 2 Name","Missing site code",null,null,null,null,null,null,null,null,null,null,null,null,null,null,null,null,null,null,null,null,null,null,null,null,null,null,null,null,null,null,null,null,null,null,null,null,null,null,{"$f":"SUM(AY216:AY415)","v":11},null,{"$f":"SUM(BA216:BA415)","v":11},13,24,null,null,null,null,null,null,null,"shows gap in rows of data. Must be 0.","shows duplicate specialitiy codes. Must be 0",null,null,null,null,null,"RALHARPENDEN MEMORIAL HOSPITAL","RALHA","HARPENDEN MEMORIAL HOSPITAL","RALHA","HARPENDEN MEMORIAL HOSPITAL","RAL",null,null,"REASIDE CLINIC","Kennett"]
["code in list","name in list",null,"does site belong to trust",null,null,null,null,null,null,null,null,null,null,null,null,null,null,null,null,null,null,null,null,null,null,null,null,null,null,null,null,null,null,null,null,null,null,null,null,null,null,null,null,null,null,null,null,null,null,null,null,null,null,null,null,null,null,null,null,null,null,null,null,null,null,null,null,null,"RALMOUNT VERNON HOSPITAL","RALMV","MOUNT VERNON HOSPITAL","RALMV","MOUNT VERNON HOSPITAL","RAL",null,null,"REASIDE CLINIC","Severn"]
[null,null,null,null,null,null,null,null,null,null,null,null,null,null,null,null,null,null,null,null,null,null,null,null,null,null,null,null,null,null,null,null,null,null,null,null,null,null,null,null,null,null,null,null,null,null,null,null,null,null,"Day nurse fill rate. Must be 0",null,"Day staff fill rate. Must be 0","Night nurse fill rate. Must be 0","Night staff fill rate. Must be 0",null,null,null,null,null,null,null,null,null,null,null,null,null,null,"RALQUEEN MARY'S HOUSE","RAL02","QUEEN MARY'S HOUSE","RAL02","QUEEN MARY'S HOUSE","RAL",null,null,"REASIDE CLINIC","Swift"]
["2- all blank","2- all blank",null,null,null,null,null,null,{"$f":"IF(I14<0, 1, 0)","v":0},{"$f":"IF(J14<0, 1, 0)","v":0},{"$f":"IF(K14<0, 1, 0)","v":0},0,0,0,0,0,0,0,0,0,0,0,0,0,{"$f":"IF(Y14<0, 1, 0)","v":0},0,0,0,{"$f":"IF(#REF!<0, 1, 0)","v":{"$error":"#REF!"}},null,null,null,null,null,null,null,0,0,0,0,0,0,0,0,{"$f":"IF(AS14<0, 1, 0)","v":0},0,null,null,null,null,null,null,null,null,null,null,null,null,null,null,null,null,null,null,null,null,null,null,null,"RALROYAL FREE HOSPITAL","RAL01","ROYAL FREE HOSPITAL","RAL01","ROYAL FREE HOSPITAL","RAL",null,null,"REASIDE CLINIC","Trent"]
[null,null,null,null,null,null,null,null,{"$f":"IF(I15<0, 1, 0)","v":0},{"$f":"IF(J15<0, 1, 0)","v":0},0,0,0,0,0,0,0,0,0,0,0,0,0,0,{"$f":"IF(Y15<0, 1, 0)","v":0},0,0,0,{"$f":"IF(AC15<0, 1, 0)","v":0},null,null,null,null,null,null,null,0,0,0,0,0,0,0,0,{"$f":"IF(AS15<0, 1, 0)","v":0},0,null,null,null,null,null,null,null,null,null,null,null,null,null,null,null,null,null,null,null,null,null,null,null,"RALST. ALBANS CITY HOSPITAL","RALAL","ST. ALBANS CITY HOSPITAL","RALAL","ST. ALBANS CITY HOSPITAL","RAL",null,null,"RESERVOIR COURT","Reservoir Court"]
[null,null,null,null,null,null,null,null,0,{"$f":"IF(J16<0, 1, 0)","v":0},0,0,0,0,0,0,0,0,0,0,0,0,0,0,{"$f":"IF(Y16<0, 1, 0)","v":0},0,0,0,{"$f":"IF(AC16<0, 1, 0)","v":0},null,null,null,null,null,null,null,0,0,0,0,0,0,0,0,{"$f":"IF(AS16<0, 1, 0)","v":0},0,null,null,null,null,null,null,null,null,null,null,null,null,null,null,null,null,null,null,null,null,null,null,null,"RALWATFORD GENERAL HOSPITAL","RALWA","WATFORD GENERAL HOSPITAL","RALWA","WATFORD GENERAL HOSPITAL","RAL",null,null,"TAMARIND CENTRE","Acacia"]
[null,null,null,null,null,null,null,null,0,{"$f":"IF(J17<0, 1, 0)","v":0},0,0,0,0,0,0,0,0,0,0,0,0,0,0,{"$f":"IF(Y17<0, 1, 0)","v":0},0,0,0,{"$f":"IF(AC17<0, 1, 0)","v":0},null,null,null,null,null,null,null,0,0,0,0,0,0,0,0,{"$f":"IF(AS17<0, 1, 0)","v":0},0,null,null,null,null,{"$f":"IF(AY417>0,\"Day Nurse Fill Rate must not exceed 100%\",\"\")","v":"Day Nurse Fill Rate must not exceed 100%"},null,{"$f":"IF(BA417>0,\"Day Staff Fill Rate must not exceed 100%\",\"\")","v":"Day Staff Fill Rate must not exceed 100%"},{"$f":"IF(BB417>0,\"Night Nurse Fill Rate must not exceed 100%\",\"\")","v":"Night Nurse Fill Rate must not exceed 100%"},{"$f":"IF(BC417>0,\"Night Staff Fill Rate must not exceed 100%\",\"\")","v":"Night Staff Fill Rate must not exceed 100%"},null,null,null,null,null,null,null,null,null,null,null,null,null,null,"RANROYAL NATIONAL ORTHOPAEDIC HOSPITAL (BOLSOVER STREET)","RAN02","ROYAL NATIONAL ORTHOPAEDIC HOSPITAL (BOLSOVER STREET)","RAN02","ROYAL NATIONAL ORTHOPAEDIC HOSPITAL (BOLSOVER STREET)","RAN",null,null,"TAMARIND CENTRE","Cedar"]
[null,null,null,null,null,null,null,null,0,{"$f":"IF(J18<0, 1, 0)","v":0},0,0,0,0,0,0,0,0,0,0,0,0,0,0,{"$f":"IF(Y18<0, 1, 0)","v":0},0,0,0,{"$f":"IF(AC18<0, 1, 0)","v":0},null,null,null,null,null,null,null,0,0,0,0,0,0,0,0,{"$f":"IF(AS18<0, 1, 0)","v":0},0,null,null,null,null,null,null,null,null,null,null,null,null,null,null,null,null,null,null,null,null,null,null,null,"RANTHE ROYAL NATIONAL ORTHOPAEDIC HOSPITAL (STANMORE)","RAN01","THE ROYAL NATIONAL ORTHOPAEDIC HOSPITAL (STANMORE)","RAN01","THE ROYAL NATIONAL ORTHOPAEDIC HOSPITAL (STANMORE)","RAN",null,null,"TAMARIND CENTRE","Hibiscus"]
[null,null,null,null,null,null,null,null,0,{"$f":"IF(J19<0, 1, 0)","v":0},0,0,0,0,0,0,0,0,0,0,0,0,0,0,{"$f":"IF(Y19<0, 1, 0)","v":0},0,0,0,{"$f":"IF(AC19<0, 1, 0)","v":0},null,null,null,null,null,null,null,0,0,0,0,0,0,0,0,{"$f":"IF(AS19<0, 1, 0)","v":0},0,null,null,null,null,null,null,null,null,null,null,null,null,null,null,null,null,null,null,null,null,null,null,null,{"$f":"CONCATENATE(LEFT(BS425, 3),BT425)","v":"RAPNORTH MIDDLESEX HOSPITAL"},"RAPNM","NORTH MIDDLESEX HOSPITAL","RAPNM","NORTH MIDDLESEX HOSPITAL","RAP",null,null,"TAMARIND CENTRE","Laurel"]
[null,null,null,{"$f":"IF(D14=\"\", IF(E14=\"\", 0,1),0)","v":0},null,null,null,null,0,{"$f":"IF(J20<0, 1, 0)","v":0},0,0,0,0,0,0,0,0,0,0,0,0,0,0,{"$f":"IF(Y20<0, 1, 0)","v":0},0,0,0,{"$f":"IF(AC20<0, 1, 0)","v":0},null,null,null,null,null,null,null,0,0,0,0,0,0,0,0,{"$f":"IF(AS20<0, 1, 0)","v":0},0,null,null,null,null,null,null,null,null,null,null,null,null,null,null,null,null,null,null,null,null,null,null,null,"RAPST ANNS HOSPITAL (ACUTE WARDS)","RAPST","ST ANNS HOSPITAL (ACUTE WARDS)","RAPST","ST ANNS HOSPITAL (ACUTE WARDS)","RAP",null,null,"TAMARIND CENTRE","Lobelia"]
[null,null,null,{"$f":"IF(D15=\"\", IF(E15=\"\", 0,1),0)","v":0},null,null,null,null,0,{"$f":"IF(J21<0, 1, 0)","v":0},0,0,0,0,0,0,0,0,0,0,0,0,0,0,{"$f":"IF(Y21<0, 1, 0)","v":0},0,0,0,{"$f":"IF(AC21<0, 1, 0)","v":0},null,null,null,null,null,null,null,0,0,0,0,0,0,0,0,{"$f":"IF(AS21<0, 1, 0)","v":0},0,null,null,null,null,null,null,null,null,null,null,null,null,null,null,null,null,null,null,null,null,null,null,null,"RASHILLINGDON HOSPITAL","RAS01","HILLINGDON HOSPITAL","RAS01","HILLINGDON HOSPITAL","RAS",null,null,"TAMARIND CENTRE","Myrtle"]
[null,null,null,0,null,null,null,null,0,{"$f":"IF(J22<0, 1, 0)","v":0},0,0,0,0,0,0,0,0,0,0,0,0,0,0,{"$f":"IF(Y22<0, 1, 0)","v":0},0,0,0,{"$f":"IF(AC22<0, 1, 0)","v":0},null,null,null,null,null,null,null,0,0,0,0,0,0,0,0,{"$f":"IF(AS22<0, 1, 0)","v":0},0,null,null,null,null,null,null,null,null,null,null,null,null,null,null,null,null,null,null,null,null,null,null,null,"RASMOUNT VERNON HOSPITAL SITE","RAS02","MOUNT VERNON HOSPITAL SITE","RAS02","MOUNT VERNON HOSPITAL SITE","RAS",null,null,"TAMARIND CENTRE","Sycamore"]
[null,null,null,0,null,null,null,null,0,{"$f":"IF(J23<0, 1, 0)","v":0},0,0,0,0,0,0,0,0,0,0,0,0,0,0,{"$f":"IF(Y23<0, 1, 0)","v":0},0,0,0,{"$f":"IF(AC14<0, 1, 0)","v":0},null,null,null,null,null,null,null,0,0,0,0,0,0,0,0,{"$f":"IF(AS23<0, 1, 0)","v":0},0,null,null,null,null,null,null,null,null,null,null,null,null,null,null,null,null,null,null,null,null,null,null,null,"RATBARKING HOSPITAL","RATAP","BARKING HOSPITAL","RATAP","BARKING HOSPITAL",{"$f":"LEFT(BU429,3)","v":"RAT"},null,null,"THE BARBERRY","Jasamine"]
[null,null,null,0,null,null,null,null,0,{"$f":"IF(J24<0, 1, 0)","v":0},0,0,0,0,0,0,0,0,0,0,0,0,0,0,{"$f":"IF(Y24<0, 1, 0)","v":0},0,0,0,{"$f":"IF(AC24<0, 1, 0)","v":0},null,null,null,null,null,null,null,0,0,0,0,0,0,0,0,{"$f":"IF(AS24<0, 1, 0)","v":0},0,null,null,null,null,null,null,null,null,null,null,null,null,null,null,null,null,null,null,null,null,null,null,null,"RATBASILDON HOSPITAL","RATJC","BASILDON HOSPITAL","RATJC","BASILDON HOSPITAL","RAT",null,null,"THE OLEASTER","Caffra"]
[null,null,null,0,null,null,null,null,0,{"$f":"IF(J25<0, 1, 0)","v":0},0,0,0,0,0,0,0,0,0,0,0,0,0,0,{"$f":"IF(Y25<0, 1, 0)","v":0},0,0,0,{"$f":"IF(AC25<0, 1, 0)","v":0},null,null,null,null,null,null,null,0,0,0,0,0,0,0,0,{"$f":"IF(AS25<0, 1, 0)","v":0},0,null,null,null,null,null,null,null,null,null,null,null,null,null,null,null,null,null,null,null,null,null,null,null,"RATBILLERICAY COMMUNITY HOSPITAL","RATDK","BILLERICAY COMMUNITY HOSPITAL","RATDK","BILLERICAY COMMUNITY HOSPITAL","RAT",null,null,"THE OLEASTER","Japonica New Ward"]
[null,null,null,0,null,null,null,null,0,{"$f":"IF(J26<0, 1, 0)","v":0},0,0,0,0,0,0,0,0,0,0,0,0,0,0,{"$f":"IF(Y26<0, 1, 0)","v":0},0,0,0,{"$f":"IF(AC26<0, 1, 0)","v":0},null,null,null,null,null,null,null,0,0,0,0,0,0,0,0,{"$f":"IF(AS26<0, 1, 0)","v":0},0,null,null,null,null,null,null,null,null,null,null,null,null,null,null,null,null,null,null,null,null,null,null,null,"RATBRENTWOOD COMMUNITY HOSPITAL","RATRM","BRENTWOOD COMMUNITY HOSPITAL","RATRM","BRENTWOOD COMMUNITY HOSPITAL","RAT",null,null,"THE OLEASTER","Magnolia"]
[null,null,null,0,null,null,null,null,0,{"$f":"IF(J27<0, 1, 0)","v":0},0,0,0,0,0,0,0,0,0,0,0,0,0,0,{"$f":"IF(Y27<0, 1, 0)","v":0},0,0,0,{"$f":"IF(AC27<0, 1, 0)","v":0},null,null,null,null,null,null,null,0,0,0,0,0,0,0,0,{"$f":"IF(AS27<0, 1, 0)","v":0},0,null,null,null,null,null,null,null,null,null,null,null,null,null,null,null,null,null,null,null,null,null,null,null,"RATBROOKSIDE","RATRY","BROOKSIDE","RATRY","BROOKSIDE","RAT",null,null,"THE OLEASTER","Melissa"]
[null,null,null,0,null,null,null,null,0,{"$f":"IF(J28<0, 1, 0)","v":0},0,0,0,0,0,0,0,0,0,0,0,0,0,0,{"$f":"IF(Y28<0, 1, 0)","v":0},0,0,0,{"$f":"IF(AC28<0, 1, 0)","v":0},null,null,null,null,null,null,null,0,0,0,0,0,0,0,0,{"$f":"IF(AS28<0, 1, 0)","v":0},0,null,null,null,null,null,null,null,null,null,null,null,null,null,null,null,null,null,null,null,null,null,null,null,"RATCHADWELL HEATH (CHS)","RATCS","CHADWELL HEATH (CHS)","RATCS","CHADWELL HEATH (CHS)","RAT",null,null,"THE OLEASTER","Tazetta"]
[null,null,null,0,null,null,null,null,0,{"$f":"IF(J29<0, 1, 0)","v":0},0,0,0,0,0,0,0,0,0,0,0,0,0,0,{"$f":"IF(Y29<0, 1, 0)","v":0},0,0,0,{"$f":"IF(AC29<0, 1, 0)","v":0},null,null,null,null,null,null,null,0,0,0,0,0,0,0,0,{"$f":"IF(AS29<0, 1, 0)","v":0},0,null,null,null,null,null,null,null,null,null,null,null,null,null,null,null,null,null,null,null,null,null,null,null,"RATCHILD & FAMILY FOREST","RATWC","CHILD & FAMILY FOREST","RATWC","CHILD & FAMILY FOREST","RAT",null,null,"THE ZINNIA CENTRE","Lavender"]
[null,null,null,0,null,null,null,null,0,{"$f":"IF(J30<0, 1, 0)","v":0},0,0,0,0,0,0,0,0,0,0,0,0,0,0,{"$f":"IF(Y30<0, 1, 0)","v":0},0,0,0,{"$f":"IF(AC30<0, 1, 0)","v":0},null,null,null,null,null,null,null,0,0,0,0,0,0,0,0,{"$f":"IF(AS30<0, 1, 0)","v":0},0,null,null,null,null,null,null,null,null,null,null,null,null,null,null,null,null,null,null,null,null,null,null,null,"RATCOMMUNITY PAEDIATRICS - CDC","RATE3","COMMUNITY PAEDIATRICS - CDC","RATE3","COMMUNITY PAEDIATRICS - CDC","RAT",null,null,"THE ZINNIA CENTRE","Saffron"]
[null,null,null,0,null,null,null,null,0,{"$f":"IF(J31<0, 1, 0)","v":0},0,0,0,0,0,0,0,0,0,0,0,0,0,0,{"$f":"IF(Y31<0, 1, 0)","v":0},0,0,0,{"$f":"IF(AC31<0, 1, 0)","v":0},null,null,null,null,null,null,null,0,0,0,0,0,0,0,0,{"$f":"IF(AS31<0, 1, 0)","v":0},0,null,null,null,null,null,null,null,null,null,null,null,null,null,null,null,null,null,null,null,null,null,null,null,"RATDRUG & ALCOHOL ILFORD","RATRD","DRUG & ALCOHOL ILFORD","RATRD","DRUG & ALCOHOL ILFORD","RAT",null,null,"COMMUNITY UNIT 3 GOOD HOPE HOSPITAL","C27"]
[null,null,null,0,null,null,null,null,0,{"$f":"IF(J32<0, 1, 0)","v":0},0,0,0,0,0,0,0,0,0,0,0,0,0,0,{"$f":"IF(Y32<0, 1, 0)","v":0},0,0,0,{"$f":"IF(AC32<0, 1, 0)","v":0},null,null,null,null,null,null,null,0,0,0,0,0,0,0,0,{"$f":"IF(AS32<0, 1, 0)","v":0},0,null,null,null,null,null,null,null,null,null,null,null,null,null,null,null,null,null,null,null,null,null,null,null,"RATFACE TO FACE","RATFF","FACE TO FACE","RATFF","FACE TO FACE","RAT",null,null,"HOBMOOR ROAD 192 (TOTAL SITE)","No 9 Kingswood"]
[null,null,null,0,null,null,null,null,0,{"$f":"IF(J33<0, 1, 0)","v":0},0,0,0,0,0,0,0,0,0,0,0,0,0,0,{"$f":"IF(Y33<0, 1, 0)","v":0},0,0,0,{"$f":"IF(AC33<0, 1, 0)","v":0},null,null,null,null,null,null,null,0,0,0,0,0,0,0,0,{"$f":"IF(AS33<0, 1, 0)","v":0},0,null,null,null,null,null,null,null,null,null,null,null,null,null,null,null,null,null,null,null,null,null,null,null,"RATFIVE ELMS (CHS)","RATFG","FIVE ELMS (CHS)","RATFG","FIVE ELMS (CHS)","RAT",null,null,"HOBMOOR ROAD 192 (TOTAL SITE)","Riverside Short breaks"]
[null,null,null,0,null,null,null,null,0,{"$f":"IF(J34<0, 1, 0)","v":0},0,0,0,0,0,0,0,0,0,0,0,0,0,0,{"$f":"IF(Y34<0, 1, 0)","v":0},0,0,0,{"$f":"IF(AC34<0, 1, 0)","v":0},null,null,null,null,null,null,null,0,0,0,0,0,0,0,0,{"$f":"IF(AS34<0, 1, 0)","v":0},0,null,null,null,null,null,null,null,null,null,null,null,null,null,null,null,null,null,null,null,null,null,null,null,"RATFOXGLOVE WARD","RATKG","FOXGLOVE WARD","RATKG","FOXGLOVE WARD","RAT",null,null,"INTERMEDIATE CARE REHABILITATION UNIT","Ann Marie Hawes"]
[null,null,null,0,null,null,null,null,0,{"$f":"IF(J35<0, 1, 0)","v":0},0,0,0,0,0,0,0,0,0,0,0,0,0,0,{"$f":"IF(Y35<0, 1, 0)","v":0},0,0,0,{"$f":"IF(AC35<0, 1, 0)","v":0},null,null,null,null,null,null,null,0,0,0,0,0,0,0,0,{"$f":"IF(AS35<0, 1, 0)","v":0},0,null,null,null,null,null,null,null,null,null,null,null,null,null,null,null,null,null,null,null,null,null,null,null,"RATGALLEON AND HERONWOOD","RATGF","GALLEON AND HERONWOOD","RATGF","GALLEON AND HERONWOOD","RAT",null,null,"INTERMEDIATE CARE REHABILITATION UNIT","Perrytrees"]
[null,null,null,0,null,null,null,null,0,{"$f":"IF(J36<0, 1, 0)","v":0},0,0,0,0,0,0,0,0,0,0,0,0,0,0,{"$f":"IF(Y36<0, 1, 0)","v":0},0,0,0,{"$f":"IF(AC36<0, 1, 0)","v":0},null,null,null,null,null,null,null,0,0,0,0,0,0,0,0,{"$f":"IF(AS36<0, 1, 0)","v":0},0,null,null,null,null,null,null,null,null,null,null,null,null,null,null,null,null,null,null,null,null,null,null,null,"RATGOODMAYES HOSPITAL","RATGM","GOODMAYES HOSPITAL","RATGM","GOODMAYES HOSPITAL","RAT",null,null,"KINGSWOOD DRIVE","No 10 Kingswood Short breaks"]
[null,null,null,0,null,null,null,null,0,{"$f":"IF(J37<0, 1, 0)","v":0},0,0,0,0,0,0,0,0,0,0,0,0,0,0,{"$f":"IF(Y37<0, 1, 0)","v":0},0,0,0,{"$f":"IF(AC37<0, 1, 0)","v":0},null,null,null,null,null,null,null,0,0,0,0,0,0,0,0,{"$f":"IF(AS37<0, 1, 0)","v":0},0,null,null,null,null,null,null,null,null,null,null,null,null,null,null,null,null,null,null,null,null,null,null,null,"RATGREENTHORNE","RATGT","GREENTHORNE","RATGT","GREENTHORNE","RAT",null,null,"MOSELEY HALL HOSPITAL","5"]
[null,null,null,0,null,null,null,null,0,{"$f":"IF(J38<0, 1, 0)","v":0},0,0,0,0,0,0,0,0,0,0,0,0,0,0,{"$f":"IF(Y38<0, 1, 0)","v":0},0,0,0,{"$f":"IF(AC38<0, 1, 0)","v":0},null,null,null,null,null,null,null,0,0,0,0,0,0,0,0,{"$f":"IF(AS38<0, 1, 0)","v":0},0,null,null,null,null,null,null,null,null,null,null,null,null,null,null,null,null,null,null,null,null,null,null,null,"RATGREENTHORNE","RATWF","GREENTHORNE","RATWF","GREENTHORNE","RAT",null,null,"MOSELEY HALL HOSPITAL","6"]
[null,null,null,0,null,null,null,null,0,{"$f":"IF(J39<0, 1, 0)","v":0},0,0,0,0,0,0,0,0,0,0,0,0,0,0,{"$f":"IF(Y39<0, 1, 0)","v":0},0,0,0,{"$f":"IF(AC39<0, 1, 0)","v":0},null,null,null,null,null,null,null,0,0,0,0,0,0,0,0,{"$f":"IF(AS39<0, 1, 0)","v":0},0,null,null,null,null,null,null,null,null,null,null,null,null,null,null,null,null,null,null,null,null,null,null,null,"RATGROVELANDS DAY HOSPITAL","RATRJ","GROVELANDS DAY HOSPITAL","RATRJ","GROVELANDS DAY HOSPITAL","RAT",null,null,"MOSELEY HALL HOSPITAL","8"]
[null,null,null,0,null,null,null,null,0,{"$f":"IF(J40<0, 1, 0)","v":0},0,0,0,0,0,0,0,0,0,0,0,0,0,0,{"$f":"IF(Y40<0, 1, 0)","v":0},0,0,0,{"$f":"IF(AC40<0, 1, 0)","v":0},null,null,null,null,null,null,null,0,0,0,0,0,0,0,0,{"$f":"IF(AS40<0, 1, 0)","v":0},0,null,null,null,null,null,null,null,null,null,null,null,null,null,null,null,null,null,null,null,null,null,null,null,"RATHAWKWELL COURT","RATHC","HAWKWELL COURT","RATHC","HAWKWELL COURT","RAT",null,null,"MOSELEY HALL HOSPITAL","9"]
[null,null,null,0,null,null,null,null,0,{"$f":"IF(J41<0, 1, 0)","v":0},0,0,0,0,0,0,0,0,0,0,0,0,0,0,{"$f":"IF(Y41<0, 1, 0)","v":0},0,0,0,{"$f":"IF(AC41<0, 1, 0)","v":0},null,null,null,null,null,null,null,0,0,0,0,0,0,0,0,{"$f":"IF(AS41<0, 1, 0)","v":0},0,null,null,null,null,null,null,null,null,null,null,null,null,null,null,null,null,null,null,null,null,null,null,null,"RATHERONWOOD AND GALLEON","RATC5","HERONWOOD AND GALLEON","RATC5","HERONWOOD AND GALLEON","RAT",null,null,"MOSELEY HALL HOSPITAL","CCDU"]
[null,null,null,0,null,null,null,null,0,{"$f":"IF(J42<0, 1, 0)","v":0},0,0,0,0,0,0,0,0,0,0,0,0,0,0,{"$f":"IF(Y42<0, 1, 0)","v":0},0,0,0,{"$f":"IF(AC42<0, 1, 0)","v":0},null,null,null,null,null,null,null,0,0,0,0,0,0,0,0,{"$f":"IF(AS42<0, 1, 0)","v":0},0,null,null,null,null,null,null,null,null,null,null,null,null,null,null,null,null,null,null,null,null,null,null,null,"RATICAT","RATC2","ICAT","RATC2","ICAT","RAT",null,null,"SHELDON HEATH - LAND ONLY","Sheldon unit"]
[null,null,null,0,null,null,null,null,0,{"$f":"IF(J43<0, 1, 0)","v":0},0,0,0,0,0,0,0,0,0,0,0,0,0,0,{"$f":"IF(Y43<0, 1, 0)","v":0},0,0,0,{"$f":"IF(AC43<0, 1, 0)","v":0},null,null,null,null,null,null,null,0,0,0,0,0,0,0,0,{"$f":"IF(AS43<0, 1, 0)","v":0},0,null,null,null,null,null,null,null,null,null,null,null,null,null,null,null,null,null,null,null,null,null,null,null,"RATINITIAL ASSESSMENT (HAV)","RATHA","INITIAL ASSESSMENT (HAV)","RATHA","INITIAL ASSESSMENT (HAV)","RAT",null,null,"WEST HEATH HOSPITAL","12"]
[null,null,null,0,null,null,null,null,0,{"$f":"IF(J44<0, 1, 0)","v":0},0,0,0,0,0,0,0,0,0,0,0,0,0,0,{"$f":"IF(Y44<0, 1, 0)","v":0},0,0,0,{"$f":"IF(AC44<0, 1, 0)","v":0},null,null,null,null,null,null,null,0,0,0,0,0,0,0,0,{"$f":"IF(AS44<0, 1, 0)","v":0},0,null,null,null,null,null,null,null,null,null,null,null,null,null,null,null,null,null,null,null,null,null,null,null,"RATJONES UNIT - RIVERSIDE","RATRV","JONES UNIT - RIVERSIDE","RATRV","JONES UNIT - RIVERSIDE","RAT",null,null,"WEST HEATH HOSPITAL","Willows"]
[null,null,null,0,null,null,null,null,0,{"$f":"IF(J45<0, 1, 0)","v":0},0,0,0,0,0,0,0,0,0,0,0,0,0,0,{"$f":"IF(Y45<0, 1, 0)","v":0},0,0,0,{"$f":"IF(AC45<0, 1, 0)","v":0},null,null,null,null,null,null,null,0,0,0,0,0,0,0,0,{"$f":"IF(AS45<0, 1, 0)","v":0},0,null,null,null,null,null,null,null,null,null,null,null,null,null,null,null,null,null,null,null,null,null,null,null,"RATJULIA ENGWELL (CHS)","RATJE","JULIA ENGWELL (CHS)","RATJE","JULIA ENGWELL (CHS)","RAT",null,null,"BIRMINGHAM CHILDREN'S HOSPITAL","Ashfield"]
[null,null,null,0,null,null,null,null,0,{"$f":"IF(J46<0, 1, 0)","v":0},0,0,0,0,0,0,0,0,0,0,0,0,0,0,{"$f":"IF(Y46<0, 1, 0)","v":0},0,0,0,{"$f":"IF(AC46<0, 1, 0)","v":0},null,null,null,null,null,null,null,0,0,0,0,0,0,0,0,{"$f":"IF(AS46<0, 1, 0)","v":0},0,null,null,null,null,null,null,null,null,null,null,null,null,null,null,null,null,null,null,null,null,null,null,null,"RATKING GEORGES HOSPITAL","RATDG","KING GEORGES HOSPITAL","RATDG","KING GEORGES HOSPITAL","RAT",null,null,"BIRMINGHAM CHILDREN'S HOSPITAL","Burns"]
[null,null,null,0,null,null,null,null,0,{"$f":"IF(J47<0, 1, 0)","v":0},0,0,0,0,0,0,0,0,0,0,0,0,0,0,{"$f":"IF(Y47<0, 1, 0)","v":0},0,0,0,{"$f":"IF(AC47<0, 1, 0)","v":0},null,null,null,null,null,null,null,0,0,0,0,0,0,0,0,{"$f":"IF(AS47<0, 1, 0)","v":0},0,null,null,null,null,null,null,null,null,null,null,null,null,null,null,null,null,null,null,null,null,null,null,null,"RATLITTLE HIGHWOOD","RATLH","LITTLE HIGHWOOD","RATLH","LITTLE HIGHWOOD","RAT",null,null,"BIRMINGHAM CHILDREN'S HOSPITAL","ED"]
[null,null,null,0,null,null,null,null,0,{"$f":"IF(J48<0, 1, 0)","v":0},0,0,0,0,0,0,0,0,0,0,0,0,0,0,{"$f":"IF(Y48<0, 1, 0)","v":0},0,0,0,{"$f":"IF(AC48<0, 1, 0)","v":0},null,null,null,null,null,null,null,0,0,0,0,0,0,0,0,{"$f":"IF(AS48<0, 1, 0)","v":0},0,null,null,null,null,null,null,null,null,null,null,null,null,null,null,null,null,null,null,null,null,null,null,null,"RATLOXFORD HALL","RATLX","LOXFORD HALL","RATLX","LOXFORD HALL","RAT",null,null,"BIRMINGHAM CHILDREN'S HOSPITAL","Heathlands"]
[null,null,null,0,null,null,null,null,0,{"$f":"IF(J49<0, 1, 0)","v":0},0,0,0,0,0,0,0,0,0,0,0,0,0,0,{"$f":"IF(Y49<0, 1, 0)","v":0},0,0,0,{"$f":"IF(AC49<0, 1, 0)","v":0},null,null,null,null,null,null,null,0,0,0,0,0,0,0,0,{"$f":"IF(AS49<0, 1, 0)","v":0},0,null,null,null,null,null,null,null,null,null,null,null,null,null,null,null,null,null,null,null,null,null,null,null,"RATLOXFORD HALL","RATRQ","LOXFORD HALL","RATRQ","LOXFORD HALL","RAT",null,null,"BIRMINGHAM CHILDREN'S HOSPITAL","Irwin"]
[null,null,null,0,null,null,null,null,0,{"$f":"IF(J50<0, 1, 0)","v":0},0,0,0,0,0,0,0,0,0,0,0,0,0,0,{"$f":"IF(Y50<0, 1, 0)","v":0},0,0,0,{"$f":"IF(AC50<0, 1, 0)","v":0},null,null,null,null,null,null,null,0,0,0,0,0,0,0,0,{"$f":"IF(AS50<0, 1, 0)","v":0},0,null,null,null,null,null,null,null,null,null,null,null,null,null,null,null,null,null,null,null,null,null,null,null,"RATMARKS GATE (CHS)","RATMG","MARKS GATE (CHS)","RATMG","MARKS GATE (CHS)","RAT",null,null,"BIRMINGHAM CHILDREN'S HOSPITAL","MHDU"]
[null,null,null,0,null,null,null,null,0,{"$f":"IF(J51<0, 1, 0)","v":0},0,0,0,0,0,0,0,0,0,0,0,0,0,0,{"$f":"IF(Y51<0, 1, 0)","v":0},0,0,0,{"$f":"IF(AC51<0, 1, 0)","v":0},null,null,null,null,null,null,null,0,0,0,0,0,0,0,0,{"$f":"IF(AS51<0, 1, 0)","v":0},0,null,null,null,null,null,null,null,null,null,null,null,null,null,null,null,null,null,null,null,null,null,null,null,"RATMASCALLS OLDER PEOPLE HAV","RATHG","MASCALLS OLDER PEOPLE HAV","RATHG","MASCALLS OLDER PEOPLE HAV","RAT",null,null,"BIRMINGHAM CHILDREN'S HOSPITAL","Neonatal Surgical"]
[null,null,null,0,null,null,null,null,0,{"$f":"IF(J52<0, 1, 0)","v":0},0,0,0,0,0,0,0,0,0,0,0,0,0,0,{"$f":"IF(Y52<0, 1, 0)","v":0},0,0,0,{"$f":"IF(AC52<0, 1, 0)","v":0},null,null,null,null,null,null,null,0,0,0,0,0,0,0,0,{"$f":"IF(AS52<0, 1, 0)","v":0},0,null,null,null,null,null,null,null,null,null,null,null,null,null,null,null,null,null,null,null,null,null,null,null,"RATMAYFIELD CENTRE","RATAF","MAYFIELD CENTRE","RATAF","MAYFIELD CENTRE","RAT",null,null,"BIRMINGHAM CHILDREN'S HOSPITAL","Ocean Ward Complex Care"]
[null,null,null,0,null,null,null,null,0,{"$f":"IF(J53<0, 1, 0)","v":0},0,0,0,0,0,0,0,0,0,0,0,0,0,0,{"$f":"IF(Y53<0, 1, 0)","v":0},0,0,0,{"$f":"IF(AC53<0, 1, 0)","v":0},null,null,null,null,null,null,null,0,0,0,0,0,0,0,0,{"$f":"IF(AS53<0, 1, 0)","v":0},0,null,null,null,null,null,null,null,null,null,null,null,null,null,null,null,null,null,null,null,null,null,null,null,"RATNEW DIRECTIONS","RATHP","NEW DIRECTIONS","RATHP","NEW DIRECTIONS","RAT",null,null,"BIRMINGHAM CHILDREN'S HOSPITAL","PAU"]
[null,null,null,0,null,null,null,null,0,{"$f":"IF(J54<0, 1, 0)","v":0},0,0,0,0,0,0,0,0,0,0,0,0,0,0,{"$f":"IF(Y54<0, 1, 0)","v":0},0,0,0,{"$f":"IF(AC54<0, 1, 0)","v":0},null,null,null,null,null,null,null,0,0,0,0,0,0,0,0,{"$f":"IF(AS54<0, 1, 0)","v":0},0,null,null,null,null,null,null,null,null,null,null,null,null,null,null,null,null,null,null,null,null,null,null,null,"RATOAHTT (BARKING HOSPITAL)","RATT3","OAHTT (BARKING HOSPITAL)","RATT3","OAHTT (BARKING HOSPITAL)","RAT",null,null,"BIRMINGHAM CHILDREN'S HOSPITAL","PICU"]
[null,null,null,0,null,null,null,null,0,{"$f":"IF(J55<0, 1, 0)","v":0},0,0,0,0,0,0,0,0,0,0,0,0,0,0,{"$f":"IF(Y55<0, 1, 0)","v":0},0,0,0,{"$f":"IF(AC55<0, 1, 0)","v":0},null,null,null,null,null,null,null,0,0,0,0,0,0,0,0,{"$f":"IF(AS55<0, 1, 0)","v":0},0,null,null,null,null,null,null,null,null,null,null,null,null,null,null,null,null,null,null,null,null,null,null,null,"RATORSETT HOSPITAL","RATPH","ORSETT HOSPITAL","RATPH","ORSETT HOSPITAL","RAT",null,null,"BIRMINGHAM CHILDREN'S HOSPITAL","Ward 1"]
[null,null,null,0,null,null,null,null,0,{"$f":"IF(J56<0, 1, 0)","v":0},0,0,0,0,0,0,0,0,0,0,0,0,0,0,{"$f":"IF(Y56<0, 1, 0)","v":0},0,0,0,{"$f":"IF(AC56<0, 1, 0)","v":0},null,null,null,null,null,null,null,0,0,0,0,0,0,0,0,{"$f":"IF(AS56<0, 1, 0)","v":0},0,null,null,null,null,null,null,null,null,null,null,null,null,null,null,null,null,null,null,null,null,null,null,null,"RATQUEENS HOSPITAL","RATQH","QUEENS HOSPITAL","RATQH","QUEENS HOSPITAL","RAT",null,null,"BIRMINGHAM CHILDREN'S HOSPITAL","Ward 10"]
[null,null,null,0,null,null,null,null,0,{"$f":"IF(J57<0, 1, 0)","v":0},0,0,0,0,0,0,0,0,0,0,0,0,0,0,{"$f":"IF(Y57<0, 1, 0)","v":0},0,0,0,{"$f":"IF(AC57<0, 1, 0)","v":0},null,null,null,null,null,null,null,0,0,0,0,0,0,0,0,{"$f":"IF(AS57<0, 1, 0)","v":0},0,null,null,null,null,null,null,null,null,null,null,null,null,null,null,null,null,null,null,null,null,null,null,null,"RATREDBRIDGE HTT","RATRN","REDBRIDGE HTT","RATRN","REDBRIDGE HTT","RAT",null,null,"BIRMINGHAM CHILDREN'S HOSPITAL","Ward 11"]
[null,null,null,0,null,null,null,null,0,{"$f":"IF(J58<0, 1, 0)","v":0},0,0,0,0,0,0,0,0,0,0,0,0,0,0,{"$f":"IF(Y58<0, 1, 0)","v":0},0,0,0,{"$f":"IF(AC58<0, 1, 0)","v":0},null,null,null,null,null,null,null,0,0,0,0,0,0,0,0,{"$f":"IF(AS58<0, 1, 0)","v":0},0,null,null,null,null,null,null,null,null,null,null,null,null,null,null,null,null,null,null,null,null,null,null,null,"RATROMFORD CRT","RATH3","ROMFORD CRT","RATH3","ROMFORD CRT","RAT",null,null,"BIRMINGHAM CHILDREN'S HOSPITAL","Ward 12"]
[null,null,null,0,null,null,null,null,0,{"$f":"IF(J59<0, 1, 0)","v":0},0,0,0,0,0,0,0,0,0,0,0,0,0,0,{"$f":"IF(Y59<0, 1, 0)","v":0},0,0,0,{"$f":"IF(AC59<0, 1, 0)","v":0},null,null,null,null,null,null,null,0,0,0,0,0,0,0,0,{"$f":"IF(AS59<0, 1, 0)","v":0},0,null,null,null,null,null,null,null,null,null,null,null,null,null,null,null,null,null,null,null,null,null,null,null,"RATST GEORGES","RATGK","ST GEORGES","RATGK","ST GEORGES","RAT",null,null,"BIRMINGHAM CHILDREN'S HOSPITAL","Ward 15"]
[null,null,null,0,null,null,null,null,0,{"$f":"IF(J60<0, 1, 0)","v":0},0,0,0,0,0,0,0,0,0,0,0,0,0,0,{"$f":"IF(Y60<0, 1, 0)","v":0},0,0,0,{"$f":"IF(AC60<0, 1, 0)","v":0},null,null,null,null,null,null,null,0,0,0,0,0,0,0,0,{"$f":"IF(AS60<0, 1, 0)","v":0},0,null,null,null,null,null,null,null,null,null,null,null,null,null,null,null,null,null,null,null,null,null,null,null,"RATST GEORGES DAY HOSPITAL","RATC3","ST GEORGES DAY HOSPITAL","RATC3","ST GEORGES DAY HOSPITAL","RAT",null,null,"BIRMINGHAM CHILDREN'S HOSPITAL","Ward 18"]
[null,null,null,0,null,null,null,null,0,{"$f":"IF(J61<0, 1, 0)","v":0},0,0,0,0,0,0,0,0,0,0,0,0,0,0,{"$f":"IF(Y61<0, 1, 0)","v":0},0,0,0,{"$f":"IF(AC61<0, 1, 0)","v":0},null,null,null,null,null,null,null,0,0,0,0,0,0,0,0,{"$f":"IF(AS61<0, 1, 0)","v":0},0,null,null,null,null,null,null,null,null,null,null,null,null,null,null,null,null,null,null,null,null,null,null,null,"RATSTONELEA","RATTL","STONELEA","RATTL","STONELEA","RAT",null,null,"BIRMINGHAM CHILDREN'S HOSPITAL","Ward 19"]
[null,null,null,0,null,null,null,null,0,{"$f":"IF(J62<0, 1, 0)","v":0},0,0,0,0,0,0,0,0,0,0,0,0,0,0,{"$f":"IF(Y62<0, 1, 0)","v":0},0,0,0,{"$f":"IF(AC62<0, 1, 0)","v":0},null,null,null,null,null,null,null,0,0,0,0,0,0,0,0,{"$f":"IF(AS62<0, 1, 0)","v":0},0,null,null,null,null,null,null,null,null,null,null,null,null,null,null,null,null,null,null,null,null,null,null,null,"RATTHAMES VIEW (CHS)","RATTV","THAMES VIEW (CHS)","RATTV","THAMES VIEW (CHS)","RAT",null,null,"BIRMINGHAM CHILDREN'S HOSPITAL","Ward 2"]
[null,null,null,0,null,null,null,null,0,{"$f":"IF(J63<0, 1, 0)","v":0},0,0,0,0,0,0,0,0,0,0,0,0,0,0,{"$f":"IF(Y63<0, 1, 0)","v":0},0,0,0,{"$f":"IF(AC63<0, 1, 0)","v":0},null,null,null,null,null,null,null,0,0,0,0,0,0,0,0,{"$f":"IF(AS63<0, 1, 0)","v":0},0,null,null,null,null,null,null,null,null,null,null,null,null,null,null,null,null,null,null,null,null,null,null,null,"RATTHE AINSLIE REHAB UNIT","RAT42","THE AINSLIE REHAB UNIT","RAT42","THE AINSLIE REHAB UNIT","RAT",null,null,"BIRMINGHAM CHILDREN'S HOSPITAL","Ward 5"]
[null,null,null,0,null,null,null,null,0,{"$f":"IF(J64<0, 1, 0)","v":0},0,0,0,0,0,0,0,0,0,0,0,0,0,0,{"$f":"IF(Y64<0, 1, 0)","v":0},0,0,0,{"$f":"IF(AC64<0, 1, 0)","v":0},null,null,null,null,null,null,null,0,0,0,0,0,0,0,0,{"$f":"IF(AS64<0, 1, 0)","v":0},0,null,null,null,null,null,null,null,null,null,null,null,null,null,null,null,null,null,null,null,null,null,null,null,"RATTHORNEBURY UNIT","RATHN","THORNEBURY UNIT","RATHN","THORNEBURY UNIT","RAT",null,null,"BIRMINGHAM CHILDREN'S HOSPITAL","Ward 8"]
[null,null,null,0,null,null,null,null,0,{"$f":"IF(J65<0, 1, 0)","v":0},0,0,0,0,0,0,0,0,0,0,0,0,0,0,{"$f":"IF(Y65<0, 1, 0)","v":0},0,0,0,{"$f":"IF(AC65<0, 1, 0)","v":0},null,null,null,null,null,null,null,0,0,0,0,0,0,0,0,{"$f":"IF(AS65<0, 1, 0)","v":0},0,null,null,null,null,null,null,null,null,null,null,null,null,null,null,null,null,null,null,null,null,null,null,null,"RATTHORPE COOMBE","RATTH","THORPE COOMBE","RATTH","THORPE COOMBE","RAT",null,null,"BIRMINGHAM CHILDREN'S HOSPITAL","Ward 9"]
[null,null,null,0,null,null,null,null,0,{"$f":"IF(J66<0, 1, 0)","v":0},0,0,0,0,0,0,0,0,0,0,0,0,0,0,{"$f":"IF(Y66<0, 1, 0)","v":0},0,0,0,{"$f":"IF(AC66<0, 1, 0)","v":0},null,null,null,null,null,null,null,0,0,0,0,0,0,0,0,{"$f":"IF(AS66<0, 1, 0)","v":0},0,null,null,null,null,null,null,null,null,null,null,null,null,null,null,null,null,null,null,null,null,null,null,null,"RATTHURROCK COMMUNITY HOSPITAL","RATH7","THURROCK COMMUNITY HOSPITAL","RATH7","THURROCK COMMUNITY HOSPITAL","RAT",null,null,"BIRMINGHAM WOMEN'S HOSPITAL","Birth Centre"]
[null,null,null,0,null,null,null,null,0,{"$f":"IF(J67<0, 1, 0)","v":0},0,0,0,0,0,0,0,0,0,0,0,0,0,0,{"$f":"IF(Y67<0, 1, 0)","v":0},0,0,0,{"$f":"IF(AC67<0, 1, 0)","v":0},null,null,null,null,null,null,null,0,0,0,0,0,0,0,0,{"$f":"IF(AS67<0, 1, 0)","v":0},0,null,null,null,null,null,null,null,null,null,null,null,null,null,null,null,null,null,null,null,null,null,null,null,"RATTOMSWOOD REHAB. UNIT","RATWT","TOMSWOOD REHAB. UNIT","RATWT","TOMSWOOD REHAB. UNIT","RAT",null,null,"BIRMINGHAM WOMEN'S HOSPITAL","Delivery Suite"]
[null,null,null,0,null,null,null,null,0,{"$f":"IF(J68<0, 1, 0)","v":0},0,0,0,0,0,0,0,0,0,0,0,0,0,0,{"$f":"IF(Y68<0, 1, 0)","v":0},0,0,0,{"$f":"IF(AC68<0, 1, 0)","v":0},null,null,null,null,null,null,null,0,0,0,0,0,0,0,0,{"$f":"IF(AS68<0, 1, 0)","v":0},0,null,null,null,null,null,null,null,null,null,null,null,null,null,null,null,null,null,null,null,null,null,null,null,"RATUPMINSTER CRT1","RATH5","UPMINSTER CRT1","RATH5","UPMINSTER CRT1","RAT",null,null,"BIRMINGHAM WOMEN'S HOSPITAL","Neonatal Unit"]
[null,null,null,0,null,null,null,null,0,{"$f":"IF(J69<0, 1, 0)","v":0},0,0,0,0,0,0,0,0,0,0,0,0,0,0,{"$f":"IF(Y69<0, 1, 0)","v":0},0,0,0,{"$f":"IF(AC69<0, 1, 0)","v":0},null,null,null,null,null,null,null,0,0,0,0,0,0,0,0,{"$f":"IF(AS69<0, 1, 0)","v":0},0,null,null,null,null,null,null,null,null,null,null,null,null,null,null,null,null,null,null,null,null,null,null,null,"RATVICARAGE FIELDS (CHS)","RATVF","VICARAGE FIELDS (CHS)","RATVF","VICARAGE FIELDS (CHS)","RAT",null,null,"BIRMINGHAM WOMEN'S HOSPITAL","Transitional Ward"]
[null,null,null,0,null,null,null,null,0,{"$f":"IF(J70<0, 1, 0)","v":0},0,0,0,0,0,0,0,0,0,0,0,0,0,0,{"$f":"IF(Y70<0, 1, 0)","v":0},0,0,0,{"$f":"IF(AC70<0, 1, 0)","v":0},null,null,null,null,null,null,null,0,0,0,0,0,0,0,0,{"$f":"IF(AS70<0, 1, 0)","v":0},0,null,null,null,null,null,null,null,null,null,null,null,null,null,null,null,null,null,null,null,null,null,null,null,"RATWOODBURY UNIT","RATWD","WOODBURY UNIT","RATWD","WOODBURY UNIT","RAT",null,null,"BIRMINGHAM WOMEN'S HOSPITAL","Ward 1"]
[null,null,null,0,null,null,null,null,0,{"$f":"IF(J71<0, 1, 0)","v":0},0,0,0,0,0,0,0,0,0,0,0,0,0,0,{"$f":"IF(Y71<0, 1, 0)","v":0},0,0,0,{"$f":"IF(AC71<0, 1, 0)","v":0},null,null,null,null,null,null,null,0,0,0,0,0,0,0,0,{"$f":"IF(AS71<0, 1, 0)","v":0},0,null,null,null,null,null,null,null,null,null,null,null,null,null,null,null,null,null,null,null,null,null,null,null,"RAXKINGSTON HOSPITAL","RAX01","KINGSTON HOSPITAL","RAX01","KINGSTON HOSPITAL","RAX",null,null,"BIRMINGHAM WOMEN'S HOSPITAL","Ward 3"]
[null,null,null,0,null,null,null,null,0,{"$f":"IF(J72<0, 1, 0)","v":0},0,0,0,0,0,0,0,0,0,0,0,0,0,0,{"$f":"IF(Y72<0, 1, 0)","v":0},0,0,0,{"$f":"IF(AC72<0, 1, 0)","v":0},null,null,null,null,null,null,null,0,0,0,0,0,0,0,0,{"$f":"IF(AS72<0, 1, 0)","v":0},0,null,null,null,null,null,null,null,null,null,null,null,null,null,null,null,null,null,null,null,null,null,null,null,"RBAFROME VICTORIA HOSPITAL","RBAD1","FROME VICTORIA HOSPITAL","RBAD1","FROME VICTORIA HOSPITAL","RBA",null,null,"BIRMINGHAM WOMEN'S HOSPITAL","Ward 4"]
[null,null,null,0,null,null,null,null,0,{"$f":"IF(J73<0, 1, 0)","v":0},0,0,0,0,0,0,0,0,0,0,0,0,0,0,{"$f":"IF(Y73<0, 1, 0)","v":0},0,0,0,{"$f":"IF(AC73<0, 1, 0)","v":0},null,null,null,null,null,null,null,0,0,0,0,0,0,0,0,{"$f":"IF(AS73<0, 1, 0)","v":0},0,null,null,null,null,null,null,null,null,null,null,null,null,null,null,null,null,null,null,null,null,null,null,null,"RBAMUSGROVE PARK HOSPITAL","RBA11","MUSGROVE PARK HOSPITAL","RBA11","MUSGROVE PARK HOSPITAL","RBA",null,null,"BIRMINGHAM WOMEN'S HOSPITAL","Ward 8"]
[null,null,null,0,null,null,null,null,0,{"$f":"IF(J74<0, 1, 0)","v":0},0,0,0,0,0,0,0,0,0,0,0,0,0,0,{"$f":"IF(Y74<0, 1, 0)","v":0},0,0,0,{"$f":"IF(AC74<0, 1, 0)","v":0},null,null,null,null,null,null,null,0,0,0,0,0,0,0,0,{"$f":"IF(AS74<0, 1, 0)","v":0},0,null,null,null,null,null,null,null,null,null,null,null,null,null,null,null,null,null,null,null,null,null,null,null,"RBASHEPTON MALLET COMMUNITY HOSPITAL","RBAD2","SHEPTON MALLET COMMUNITY HOSPITAL","RBAD2","SHEPTON MALLET COMMUNITY HOSPITAL","RBA",null,null,"EDWARD STREET HOSPITAL","Chance"]
[null,null,null,0,null,null,null,null,0,{"$f":"IF(J75<0, 1, 0)","v":0},0,0,0,0,0,0,0,0,0,0,0,0,0,0,{"$f":"IF(Y75<0, 1, 0)","v":0},0,0,0,{"$f":"IF(AC75<0, 1, 0)","v":0},null,null,null,null,null,null,null,0,0,0,0,0,0,0,0,{"$f":"IF(AS75<0, 1, 0)","v":0},0,null,null,null,null,null,null,null,null,null,null,null,null,null,null,null,null,null,null,null,null,null,null,null,"RBBCHIPPENHAM HOSPITAL","RBBP1","CHIPPENHAM HOSPITAL","RBBP1","CHIPPENHAM HOSPITAL","RBB",null,null,"EDWARD STREET HOSPITAL","Salter"]
[null,null,null,0,null,null,null,null,0,{"$f":"IF(J76<0, 1, 0)","v":0},0,0,0,0,0,0,0,0,0,0,0,0,0,0,{"$f":"IF(Y76<0, 1, 0)","v":0},0,0,0,{"$f":"IF(AC76<0, 1, 0)","v":0},null,null,null,null,null,null,null,0,0,0,0,0,0,0,0,{"$f":"IF(AS76<0, 1, 0)","v":0},0,null,null,null,null,null,null,null,null,null,null,null,null,null,null,null,null,null,null,null,null,null,null,null,"RBBDEVIZES HOSPITAL","RBBP2","DEVIZES HOSPITAL","RBBP2","DEVIZES HOSPITAL","RBB",null,null,"HALLAM STREET HOSPITAL","Abbey"]
[null,null,null,0,null,null,null,null,0,{"$f":"IF(J77<0, 1, 0)","v":0},0,0,0,0,0,0,0,0,0,0,0,0,0,0,{"$f":"IF(Y77<0, 1, 0)","v":0},0,0,0,{"$f":"IF(AC77<0, 1, 0)","v":0},null,null,null,null,null,null,null,0,0,0,0,0,0,0,0,{"$f":"IF(AS77<0, 1, 0)","v":0},0,null,null,null,null,null,null,null,null,null,null,null,null,null,null,null,null,null,null,null,null,null,null,null,"RBBFROME COMMUNITY HOSPITAL","RBBP3","FROME COMMUNITY HOSPITAL","RBBP3","FROME COMMUNITY HOSPITAL","RBB",null,null,"HALLAM STREET HOSPITAL","Charlemont"]
[null,null,null,0,null,null,null,null,0,{"$f":"IF(J78<0, 1, 0)","v":0},0,0,0,0,0,0,0,0,0,0,0,0,0,0,{"$f":"IF(Y78<0, 1, 0)","v":0},0,0,0,{"$f":"IF(AC78<0, 1, 0)","v":0},null,null,null,null,null,null,null,0,0,0,0,0,0,0,0,{"$f":"IF(AS78<0, 1, 0)","v":0},0,null,null,null,null,null,null,null,null,null,null,null,null,null,null,null,null,null,null,null,null,null,null,null,"RBBPAULTON MEMORIAL HOSPITAL","RBBP4","PAULTON MEMORIAL HOSPITAL","RBBP4","PAULTON MEMORIAL HOSPITAL","RBB",null,null,"HALLAM STREET HOSPITAL","Friar"]
[null,null,null,0,null,null,null,null,{"$f":"IF(I79<0, 1, 0)","v":0},{"$f":"IF(J79<0, 1, 0)","v":0},0,0,0,0,0,0,0,0,0,0,0,0,0,0,{"$f":"IF(Y79<0, 1, 0)","v":0},0,0,0,{"$f":"IF(AC79<0, 1, 0)","v":0},null,null,null,null,null,null,null,0,0,0,0,0,0,0,0,{"$f":"IF(AS79<0, 1, 0)","v":0},0,null,null,null,null,null,null,null,null,null,null,null,null,null,null,null,null,null,null,null,null,null,null,null,"RBBWARMINSTER HOSPITAL","RBBP5","WARMINSTER HOSPITAL","RBBP5","WARMINSTER HOSPITAL","RBB",null,null,"HALLAM STREET HOSPITAL","The Larches"]
[null,null,null,0,null,null,null,null,0,{"$f":"IF(J80<0, 1, 0)","v":0},0,0,0,0,0,0,0,0,0,0,0,0,0,0,{"$f":"IF(Y80<0, 1, 0)","v":0},0,0,0,{"$f":"IF(AC80<0, 1, 0)","v":0},null,null,null,null,null,null,null,0,0,0,0,0,0,0,0,{"$f":"IF(AS80<0, 1, 0)","v":0},0,null,null,null,null,null,null,null,null,null,null,null,null,null,null,null,null,null,null,null,null,null,null,null,"RBDBLANDFORD COMMUNITY HOSPITAL","RBD20","BLANDFORD COMMUNITY HOSPITAL","RBD20","BLANDFORD COMMUNITY HOSPITAL","RBD",null,null,"HEATH LANE HOSPITAL","Gerry Simon"]
[null,null,null,0,null,null,null,null,0,{"$f":"IF(J81<0, 1, 0)","v":0},0,0,0,0,0,0,0,0,0,0,0,0,0,0,{"$f":"IF(Y81<0, 1, 0)","v":0},0,0,0,{"$f":"IF(AC81<0, 1, 0)","v":0},null,null,null,null,null,null,null,0,0,0,0,0,0,0,0,{"$f":"IF(AS81<0, 1, 0)","v":0},0,null,null,null,null,null,null,null,null,null,null,null,null,null,null,null,null,null,null,null,null,null,null,null,"RBDBRIDPORT COMMUNITY HOSPITAL","RBD42","BRIDPORT COMMUNITY HOSPITAL","RBD42","BRIDPORT COMMUNITY HOSPITAL","RBD",null,null,"HEATH LANE HOSPITAL","MacArthur"]
[null,null,null,0,null,null,null,null,0,{"$f":"IF(J82<0, 1, 0)","v":0},0,0,0,0,0,0,0,0,0,0,0,0,0,0,{"$f":"IF(Y82<0, 1, 0)","v":0},0,0,0,{"$f":"IF(AC82<0, 1, 0)","v":0},null,null,null,null,null,null,null,0,0,0,0,0,0,0,0,{"$f":"IF(AS82<0, 1, 0)","v":0},0,null,null,null,null,null,null,null,null,null,null,null,null,null,null,null,null,null,null,null,null,null,null,null,"RBDDORSET COUNTY HOSPITAL","RBD01","DORSET COUNTY HOSPITAL","RBD01","DORSET COUNTY HOSPITAL","RBD",null,null,"HEATH LANE HOSPITAL","Penrose"]
[null,null,null,0,null,null,null,null,0,{"$f":"IF(J83<0, 1, 0)","v":0},0,0,0,0,0,0,0,0,0,0,0,0,0,0,{"$f":"IF(Y83<0, 1, 0)","v":0},0,0,0,{"$f":"IF(AC83<0, 1, 0)","v":0},null,null,null,null,null,null,null,0,0,0,0,0,0,0,0,{"$f":"IF(AS83<0, 1, 0)","v":0},0,null,null,null,null,null,null,null,null,null,null,null,null,null,null,null,null,null,null,null,null,null,null,null,{"$f":"CONCATENATE(LEFT(BS489, 3),BT489)","v":"RBDPORTLAND HOSPITAL"},"RBD08","PORTLAND HOSPITAL","RBD08","PORTLAND HOSPITAL","RBD",null,null,"PENN HOSPITAL","Brook"]
[null,null,null,0,null,null,null,null,0,{"$f":"IF(J84<0, 1, 0)","v":0},0,0,0,0,0,0,0,0,0,0,0,0,0,0,{"$f":"IF(Y84<0, 1, 0)","v":0},0,0,0,{"$f":"IF(AC84<0, 1, 0)","v":0},null,null,null,null,null,null,null,0,0,0,0,0,0,0,0,{"$f":"IF(AS84<0, 1, 0)","v":0},0,null,null,null,null,null,null,null,null,null,null,null,null,null,null,null,null,null,null,null,null,null,null,null,"RBDWEYMOUTH COMMUNITY HOSPITAL","RBD05","WEYMOUTH COMMUNITY HOSPITAL","RBD05","WEYMOUTH COMMUNITY HOSPITAL","RBD",null,null,"PENN HOSPITAL","Dale"]
[null,null,null,{"$f":"IF(D79=\"\", IF(E79=\"\", 0,1),0)","v":0},null,null,null,null,0,{"$f":"IF(J85<0, 1, 0)","v":0},0,0,0,0,0,0,0,0,0,0,0,0,0,0,{"$f":"IF(Y85<0, 1, 0)","v":0},0,0,0,{"$f":"IF(AC85<0, 1, 0)","v":0},null,null,null,null,null,null,null,0,0,0,0,0,0,0,0,{"$f":"IF(AS85<0, 1, 0)","v":0},0,null,null,null,null,null,null,null,null,null,null,null,null,null,null,null,null,null,null,null,null,null,null,null,"RBDYEATMAN HOSPITAL","RBD30","YEATMAN HOSPITAL","RBD30","YEATMAN HOSPITAL","RBD",null,null,"PENN HOSPITAL","Meadow"]
[null,null,null,0,null,null,null,null,0,{"$f":"IF(J86<0, 1, 0)","v":0},0,0,0,0,0,0,0,0,0,0,0,0,0,0,{"$f":"IF(Y86<0, 1, 0)","v":0},0,0,0,{"$f":"IF(AC86<0, 1, 0)","v":0},null,null,null,null,null,null,null,0,0,0,0,0,0,0,0,{"$f":"IF(AS86<0, 1, 0)","v":0},0,null,null,null,null,null,null,null,null,null,null,null,null,null,null,null,null,null,null,null,null,null,null,null,"RBKGOSCOTE HOSPITAL","RBK03","GOSCOTE HOSPITAL","RBK03","GOSCOTE HOSPITAL","RBK",null,null,"BLACKPOOL VICTORIA HOSPITAL","AMU"]
[null,null,null,0,null,null,null,null,0,{"$f":"IF(J87<0, 1, 0)","v":0},0,0,0,0,0,0,0,0,0,0,0,0,0,0,{"$f":"IF(Y87<0, 1, 0)","v":0},0,0,0,{"$f":"IF(AC87<0, 1, 0)","v":0},null,null,null,null,null,null,null,0,0,0,0,0,0,0,0,{"$f":"IF(AS87<0, 1, 0)","v":0},0,null,null,null,null,null,null,null,null,null,null,null,null,null,null,null,null,null,null,null,null,null,null,null,"RBKMANOR HOSPITAL","RBK02","MANOR HOSPITAL","RBK02","MANOR HOSPITAL",{"$f":"LEFT(BU493,3)","v":"RBK"},null,null,"BLACKPOOL VICTORIA HOSPITAL","CCU"]
[null,null,null,0,null,null,null,null,0,{"$f":"IF(J88<0, 1, 0)","v":0},0,0,0,0,0,0,0,0,0,0,0,0,0,0,{"$f":"IF(Y88<0, 1, 0)","v":0},0,0,0,{"$f":"IF(AC88<0, 1, 0)","v":0},null,null,null,null,null,null,null,0,0,0,0,0,0,0,0,{"$f":"IF(AS88<0, 1, 0)","v":0},0,null,null,null,null,null,null,null,null,null,null,null,null,null,null,null,null,null,null,null,null,null,null,null,"RBLARROWE PARK HOSPITAL","RBL14","ARROWE PARK HOSPITAL","RBL14","ARROWE PARK HOSPITAL","RBL",null,null,"BLACKPOOL VICTORIA HOSPITAL","Childrens Ward and Adolescent Ward"]
[null,null,null,0,null,null,null,null,0,{"$f":"IF(J89<0, 1, 0)","v":0},0,0,0,0,0,0,0,0,0,0,0,0,0,0,{"$f":"IF(Y89<0, 1, 0)","v":0},0,0,0,{"$f":"IF(AC89<0, 1, 0)","v":0},null,null,null,null,null,null,null,0,0,0,0,0,0,0,0,{"$f":"IF(AS89<0, 1, 0)","v":0},0,null,null,null,null,null,null,null,null,null,null,null,null,null,null,null,null,null,null,null,null,null,null,null,"RBLCLATTERBRIDGE HOSPITAL","RBL20","CLATTERBRIDGE HOSPITAL","RBL20","CLATTERBRIDGE HOSPITAL","RBL",null,null,"BLACKPOOL VICTORIA HOSPITAL","CITU"]
[null,null,null,0,null,null,null,null,0,{"$f":"IF(J90<0, 1, 0)","v":0},0,0,0,0,0,0,0,0,0,0,0,0,0,0,{"$f":"IF(Y90<0, 1, 0)","v":0},0,0,0,{"$f":"IF(AC90<0, 1, 0)","v":0},null,null,null,null,null,null,null,0,0,0,0,0,0,0,0,{"$f":"IF(AS90<0, 1, 0)","v":0},0,null,null,null,null,null,null,null,null,null,null,null,null,null,null,null,null,null,null,null,null,null,null,null,"RBLOUTPATIENTS DEPARTMENT (ST JOHN'S HOSPICE)","RBL25","OUTPATIENTS DEPARTMENT (ST JOHN'S HOSPICE)","RBL25","OUTPATIENTS DEPARTMENT (ST JOHN'S HOSPICE)","RBL",null,null,"BLACKPOOL VICTORIA HOSPITAL","Haematology Ward"]
[null,null,null,0,null,null,null,null,0,{"$f":"IF(J91<0, 1, 0)","v":0},0,0,0,0,0,0,0,0,0,0,0,0,0,0,{"$f":"IF(Y91<0, 1, 0)","v":0},0,0,0,{"$f":"IF(AC91<0, 1, 0)","v":0},null,null,null,null,null,null,null,0,0,0,0,0,0,0,0,{"$f":"IF(AS91<0, 1, 0)","v":0},0,null,null,null,null,null,null,null,null,null,null,null,null,null,null,null,null,null,null,null,null,null,null,null,"RBLST. CATHERINES HOSPITAL","RBL01","ST. CATHERINES HOSPITAL","RBL01","ST. CATHERINES HOSPITAL","RBL",null,null,"BLACKPOOL VICTORIA HOSPITAL","ITU"]
[null,null,null,0,null,null,null,null,0,{"$f":"IF(J92<0, 1, 0)","v":0},0,0,0,0,0,0,0,0,0,0,0,0,0,0,{"$f":"IF(Y92<0, 1, 0)","v":0},0,0,0,{"$f":"IF(AC92<0, 1, 0)","v":0},null,null,null,null,null,null,null,0,0,0,0,0,0,0,0,{"$f":"IF(AS92<0, 1, 0)","v":0},0,null,null,null,null,null,null,null,null,null,null,null,null,null,null,null,null,null,null,null,null,null,null,null,"RBLVICTORIA CENTRAL HOSPITAL","RBL02","VICTORIA CENTRAL HOSPITAL","RBL02","VICTORIA CENTRAL HOSPITAL","RBL",null,null,"BLACKPOOL VICTORIA HOSPITAL","Lancashire Suite"]
[null,null,null,0,null,null,null,null,0,{"$f":"IF(J93<0, 1, 0)","v":0},0,0,0,0,0,0,0,0,0,0,0,0,0,0,{"$f":"IF(Y93<0, 1, 0)","v":0},0,0,0,{"$f":"IF(AC93<0, 1, 0)","v":0},null,null,null,null,null,null,null,0,0,0,0,0,0,0,0,{"$f":"IF(AS93<0, 1, 0)","v":0},0,null,null,null,null,null,null,null,null,null,null,null,null,null,null,null,null,null,null,null,null,null,null,null,"RBNNEWTON COMMUNITY HOSPITAL","RBN03","NEWTON COMMUNITY HOSPITAL","RBN03","NEWTON COMMUNITY HOSPITAL","RBN",null,null,"BLACKPOOL VICTORIA HOSPITAL","Maternity Unit Ward D"]
[null,null,null,0,null,null,null,null,0,{"$f":"IF(J94<0, 1, 0)","v":0},0,0,0,0,0,0,0,0,0,0,0,0,0,0,{"$f":"IF(Y94<0, 1, 0)","v":0},0,0,0,{"$f":"IF(AC94<0, 1, 0)","v":0},null,null,null,null,null,null,null,0,0,0,0,0,0,0,0,{"$f":"IF(AS94<0, 1, 0)","v":0},0,null,null,null,null,null,null,null,null,null,null,null,null,null,null,null,null,null,null,null,null,null,null,null,"RBNST HELENS HOSPITAL","RBN02","ST HELENS HOSPITAL","RBN02","ST HELENS HOSPITAL","RBN",null,null,"BLACKPOOL VICTORIA HOSPITAL","NEONATES"]
[null,null,null,0,null,null,null,null,0,{"$f":"IF(J104<0, 1, 0)","v":0},0,0,0,0,0,0,0,0,0,0,0,0,0,0,{"$f":"IF(Y104<0, 1, 0)","v":0},0,0,0,{"$f":"IF(AC104<0, 1, 0)","v":0},null,null,null,null,null,null,null,0,0,0,0,0,0,0,0,{"$f":"IF(AS104<0, 1, 0)","v":0},0,null,null,null,null,null,null,null,null,null,null,null,null,null,null,null,null,null,null,null,null,null,null,null,"RBZAXMINSTER HOSPITAL","RBZ82","AXMINSTER HOSPITAL","RBZ82","AXMINSTER HOSPITAL","RBZ",null,null,"BLACKPOOL VICTORIA HOSPITAL","Ward 18"]
[null,null,null,0,null,null,null,null,0,{"$f":"IF(J117<0, 1, 0)","v":0},0,0,0,0,0,0,0,0,0,0,0,0,0,0,{"$f":"IF(Y117<0, 1, 0)","v":0},0,0,0,{"$f":"IF(AC117<0, 1, 0)","v":0},null,null,null,null,null,null,null,0,0,0,0,0,0,0,0,{"$f":"IF(AS117<0, 1, 0)","v":0},0,null,null,null,null,null,null,null,null,null,null,null,null,null,null,null,null,null,null,null,null,null,null,null,"RBZSOUTH MOLTON HOSPITAL","RBZ99","SOUTH MOLTON HOSPITAL","RBZ99","SOUTH MOLTON HOSPITAL","RBZ",null,null,"BLACKPOOL VICTORIA HOSPITAL","Ward 6"]
[null,null,null,0,null,null,null,null,0,{"$f":"IF(J126<0, 1, 0)","v":0},0,0,0,0,0,0,0,0,0,0,0,0,0,0,{"$f":"IF(Y126<0, 1, 0)","v":0},0,0,0,{"$f":"IF(AC126<0, 1, 0)","v":0},null,null,null,null,null,null,null,0,0,0,0,0,0,0,0,{"$f":"IF(AS126<0, 1, 0)","v":0},0,null,null,null,null,null,null,null,null,null,null,null,null,null,null,null,null,null,null,null,null,null,null,null,"RC3NEW SPECIALTY-INTERMEDIATE CARE EALING ","RC330","NEW SPECIALTY-INTERMEDIATE CARE EALING ","RC330","NEW SPECIALTY-INTERMEDIATE CARE EALING ","RC3",null,null,"ROYAL BOLTON HOSPITAL","Acute Frailty Unit - B1"]
[null,null,null,0,null,null,null,null,0,{"$f":"IF(J139<0, 1, 0)","v":0},0,0,0,0,0,0,0,0,0,0,0,0,0,0,{"$f":"IF(Y139<0, 1, 0)","v":0},0,0,0,{"$f":"IF(AC139<0, 1, 0)","v":0},null,null,null,null,null,null,null,0,0,0,0,0,0,0,0,{"$f":"IF(AS139<0, 1, 0)","v":0},0,null,null,null,null,null,null,null,null,null,null,null,null,null,null,null,null,null,null,null,null,null,null,null,"RCBST MONICAS HOSPITAL","RCB05","ST MONICAS HOSPITAL","RCB05","ST MONICAS HOSPITAL","RCB",null,null,"ROYAL BOLTON HOSPITAL","Ward D3"]
[null,null,null,0,null,null,null,null,0,{"$f":"IF(J148<0, 1, 0)","v":0},0,0,0,0,0,0,0,0,0,0,0,0,0,0,{"$f":"IF(Y148<0, 1, 0)","v":0},0,0,0,{"$f":"IF(AC148<0, 1, 0)","v":0},null,null,null,null,null,null,null,0,0,0,0,0,0,0,0,{"$f":"IF(AS148<0, 1, 0)","v":0},0,null,null,null,null,null,null,null,null,null,null,null,null,null,null,null,null,null,null,null,null,null,null,null,"RCFAIREDALE GENERAL HOSPITAL","RCF22","AIREDALE GENERAL HOSPITAL","RCF22","AIREDALE GENERAL HOSPITAL","RCF",null,null,"ROYAL BOLTON HOSPITAL","Ward H3"]
[null,null,null,0,null,null,null,null,0,{"$f":"IF(J157<0, 1, 0)","v":0},0,0,0,0,0,0,0,0,0,0,0,0,0,0,{"$f":"IF(Y157<0, 1, 0)","v":0},0,0,0,{"$f":"IF(AC157<0, 1, 0)","v":0},null,null,null,null,null,null,null,0,0,0,0,0,0,0,0,{"$f":"IF(AS157<0, 1, 0)","v":0},0,null,null,null,null,null,null,null,null,null,null,null,null,null,null,null,null,null,null,null,null,null,null,null,"RCUOAKWOOD YOUNG PEOPLES CENTRE","RCU55","OAKWOOD YOUNG PEOPLES CENTRE","RCU55","OAKWOOD YOUNG PEOPLES CENTRE","RCU",null,null,"LYNFIELD MOUNT HOSPITAL","Baildon"]
[null,null,null,0,null,null,null,null,0,{"$f":"IF(J170<0, 1, 0)","v":0},0,0,0,0,0,0,0,0,0,0,0,0,0,0,{"$f":"IF(Y170<0, 1, 0)","v":0},0,0,0,{"$f":"IF(AC170<0, 1, 0)","v":0},null,null,null,null,null,null,null,0,0,0,0,0,0,0,0,{"$f":"IF(AS170<0, 1, 0)","v":0},0,null,null,null,null,null,null,null,null,null,null,null,null,null,null,null,null,null,null,null,null,null,null,null,"RD1ROYAL UNITED HOSPITAL","RD130","ROYAL UNITED HOSPITAL","RD130","ROYAL UNITED HOSPITAL","RD1",null,null,"BRADFORD ROYAL INFIRMARY","Neonatal"]
[null,null,null,0,null,null,null,null,0,{"$f":"IF(J179<0, 1, 0)","v":0},0,0,0,0,0,0,0,0,0,0,0,0,0,0,{"$f":"IF(Y179<0, 1, 0)","v":0},0,0,0,{"$f":"IF(AC179<0, 1, 0)","v":0},null,null,null,null,null,null,null,0,0,0,0,0,0,0,0,{"$f":"IF(AS179<0, 1, 0)","v":0},0,null,null,null,null,null,null,null,null,null,null,null,null,null,null,null,null,null,null,null,null,null,null,null,"RD7GREAT HOLLANDS","RD764","GREAT HOLLANDS","RD764","GREAT HOLLANDS","RD7",null,null,"BRADFORD ROYAL INFIRMARY","Ward 20"]
[null,null,null,0,null,null,null,null,0,{"$f":"IF(J192<0, 1, 0)","v":0},0,0,0,0,0,0,0,0,0,0,0,0,0,0,{"$f":"IF(Y192<0, 1, 0)","v":0},0,0,0,{"$f":"IF(AC192<0, 1, 0)","v":0},null,null,null,null,null,null,null,0,0,0,0,0,0,0,0,{"$f":"IF(AS192<0, 1, 0)","v":0},0,null,null,null,null,null,null,null,null,null,null,null,null,null,null,null,null,null,null,null,null,null,null,null,"RDDBRENTWOOD COMMUNITY HOSPITAL","RDDH6","BRENTWOOD COMMUNITY HOSPITAL","RDDH6","BRENTWOOD COMMUNITY HOSPITAL","RDD",null,null,"BRADFORD ROYAL INFIRMARY","Ward 6"]
[null,null,null,{"$f":"IF(D207=\"\", IF(E207=\"\", 0,1),0)","v":0},null,null,null,null,0,{"$f":"IF(J213<0, 1, 0)","v":0},0,0,0,0,0,0,0,0,0,0,0,0,0,0,{"$f":"IF(Y213<0, 1, 0)","v":0},0,0,0,{"$f":"IF(AC213<0, 1, 0)","v":0},null,null,null,null,null,null,null,0,0,0,0,0,0,0,0,{"$f":"IF(AS213<0, 1, 0)","v":0},0,null,null,null,null,null,null,null,null,null,null,null,null,null,null,null,null,null,null,null,null,null,null,null,"RDRCHAILEY NEW HERITAGE","RDRCN","CHAILEY NEW HERITAGE","RDRCN","CHAILEY NEW HERITAGE","RDR",null,null,"PRINCESS ROYAL HOSPITAL","PRH Intensive Care Unit ITU (1st Floor)"]
[null,null,null,null,null,null,null,null,null,null,null,null,null,null,null,null,null,null,null,null,null,null,null,null,null,null,null,null,null,null,null,null,null,null,null,null,null,null,null,null,null,null,null,null,null,null,null,null,null,null,null,null,null,null,null,null,null,null,null,null,null,null,null,null,null,null,null,null,null,"RDRHAZEL COTTAGE","RDRHZ","HAZEL COTTAGE","RDRHZ","HAZEL COTTAGE","RDR",null,null,"ROYAL SUSSEX COUNTY HOSPITAL","Haematology-Oncology Ward - Level 9 Sussex Kidney Centre"]
[null,null,null,0,"",null,null,null,null,null,null,null,null,null,null,null,null,null,null,null,null,null,null,null,null,null,null,null,null,null,null,null,null,null,null,null,null,null,null,null,null,null,null,null,null,null,null,null,null,null,null,null,null,null,null,null,null,null,null,null,null,null,null,null,null,null,null,null,null,"RDRNEVILL HOSPITAL","RDRNH","NEVILL HOSPITAL","RDRNH","NEVILL HOSPITAL","RDR",null,null,"ROYAL SUSSEX COUNTY HOSPITAL","Medical Assessment Unit (AMU) - Level 5"]
[null,null,null,0,"",null,null,null,null,null,null,null,null,null,null,null,null,null,null,null,null,null,null,null,null,null,null,null,null,null,null,null,null,null,null,null,null,null,null,null,null,null,null,null,null,null,null,null,null,null,null,null,null,null,null,null,null,null,null,null,null,null,null,null,null,null,null,null,null,"RDRROYAL ALEXANDRA","RDRRA","ROYAL ALEXANDRA","RDRRA","ROYAL ALEXANDRA","RDR",null,null,"THE ROYAL ALEXANDRA CHILDREN'S HOSPITAL","RACH High Dependancy Unit HDU- Level 8"]
[null,null,null,0,"",null,null,null,null,null,null,null,null,null,null,null,null,null,null,null,null,null,null,null,null,null,null,null,null,null,null,null,null,null,null,null,null,null,null,null,null,null,null,null,null,null,null,null,null,null,null,null,null,null,null,null,null,null,null,null,null,null,null,null,null,null,null,null,null,"RDRTHE MARTLETS","RDRMT","THE MARTLETS","RDRMT","THE MARTLETS","RDR",null,null,"Buckingham Hospital","Buckingham"]
[null,null,null,"","",null,null,null,null,null,null,null,null,null,null,null,null,null,null,null,null,null,null,null,null,null,null,null,null,null,null,null,null,null,null,null,null,null,null,null,null,null,null,null,null,null,null,null,null,null,null,null,null,null,null,null,null,null,null,null,null,null,null,null,null,null,null,null,null,"RDUFITZWILLIAM HOUSE OUTPATIENT CENTRE","RDU56 ","FITZWILLIAM HOUSE OUTPATIENT CENTRE","RDU56 ","FITZWILLIAM HOUSE OUTPATIENT CENTRE","RDU",null,null,"Stoke Mandeville Hospital","SM Ward 16a"]
[null,null,null,"","",null,null,null,null,null,null,null,null,null,null,null,null,null,null,null,null,null,null,null,null,null,null,null,null,null,null,null,null,null,null,null,null,null,null,null,null,null,null,null,null,null,null,null,null,null,null,null,null,null,null,null,null,null,null,null,null,null,null,null,null,null,null,null,null,"RDUTHE ROYAL HOSPITAL HASLAR","RDU13","THE ROYAL HOSPITAL HASLAR","RDU13","THE ROYAL HOSPITAL HASLAR","RDU",null,null,"Stoke Mandeville Hospital","SM Ward 9 MfOP"]
[null,null,null,"","",null,null,null,null,null,null,null,null,null,null,null,null,null,null,null,null,null,null,null,null,null,null,null,null,null,null,null,null,null,null,null,null,null,null,null,null,null,null,null,null,null,null,null,null,null,null,null,null,null,null,null,null,null,null,null,null,null,null,null,null,null,null,null,null,"RDYBLANDFORD TARRANT WARD","RDYJC","BLANDFORD TARRANT WARD","RDYJC","BLANDFORD TARRANT WARD","RDY",null,null,"CALDERDALE ROYAL HOSPITAL","WARD 6C"]
[null,null,null,"","",null,null,null,null,null,null,null,null,null,null,null,null,null,null,null,null,null,null,null,null,null,null,null,null,null,null,null,null,null,null,null,null,null,null,null,null,null,null,null,null,null,null,null,null,null,null,null,null,null,null,null,null,null,null,null,null,null,null,null,null,null,null,null,null,"RDYFINIGAN UNIT","RDY46","FINIGAN UNIT","RDY46","FINIGAN UNIT","RDY",null,null,"HUDDERSFIELD ROYAL INFIRMARY","WARD 3"]
[null,null,null,"","",null,null,null,null,null,null,null,null,null,null,null,null,null,null,null,null,null,null,null,null,null,null,null,null,null,null,null,null,null,null,null,null,null,null,null,null,null,null,null,null,null,null,null,null,null,null,null,null,null,null,null,null,null,null,null,null,null,null,null,null,null,null,null,null,"RDYIN-REACH DORCHESTER","RDYLW","IN-REACH DORCHESTER","RDYLW","IN-REACH DORCHESTER","RDY",null,null,"ADDENBROOKE'S HOSPITAL","C3"]
[null,null,null,"","",null,null,null,null,null,null,null,null,null,null,null,null,null,null,null,null,null,null,null,null,null,null,null,null,null,null,null,null,null,null,null,null,null,null,null,null,null,null,null,null,null,null,null,null,null,null,null,null,null,null,null,null,null,null,null,null,null,null,null,null,null,null,null,null,"RDYPACT","RDYCA","PACT","RDYCA","PACT","RDY",null,null,"ADDENBROOKE'S HOSPITAL","D6 Neuro"]
[null,null,null,"","",null,null,null,null,null,null,null,null,null,null,null,null,null,null,null,null,null,null,null,null,null,null,null,null,null,null,null,null,null,null,null,null,null,null,null,null,null,null,null,null,null,null,null,null,null,null,null,null,null,null,null,null,null,null,null,null,null,null,null,null,null,null,null,null,"RDYSEDMAN UNIT","RDYCJ","SEDMAN UNIT","RDYCJ","SEDMAN UNIT","RDY",null,null,"ADDENBROOKE'S HOSPITAL","G3"]
[null,null,null,{"$f":"IF(G142=\"\",\"\",IF(ISERROR(VLOOKUP(G142,$AV$14:$AW$95,2,FALSE)),1,VLOOKUP(G142,$AV$14:$AW$95,2,FALSE)))","v":""},{"$f":"IF(H142=\"\",\"\",IF(ISERROR(VLOOKUP(H142,$AV$14:$AW$95,2,FALSE)),1,VLOOKUP(H142,$AV$14:$AW$95,2,FALSE)))","v":""},null,null,null,null,null,null,null,null,null,null,null,null,null,null,null,null,null,null,null,null,null,null,null,null,null,null,null,null,null,null,null,null,null,null,null,null,null,null,null,null,null,null,null,null,null,null,null,null,null,null,null,null,null,null,null,null,null,null,null,null,null,null,null,null,"RDYSWANAGE HOSPITAL MIU","RDYLE","SWANAGE HOSPITAL MIU","RDYLE","SWANAGE HOSPITAL MIU","RDY",null,null,"ADDENBROOKE'S HOSPITAL","M4"]
[null,null,null,"","",null,null,null,null,null,null,null,null,null,null,null,null,null,null,null,null,null,null,null,null,null,null,null,null,null,null,null,null,null,null,null,null,null,null,null,null,null,null,null,null,null,null,null,null,null,null,null,null,null,null,null,null,null,null,null,null,null,null,null,null,null,null,null,null,"RDYUNIT 4 PARK PLACE","RDYGX","UNIT 4 PARK PLACE","RDYGX","UNIT 4 PARK PLACE","RDY",null,null,"ROSIE HOSPITAL","Daphne"]
[null,null,null,"","",null,null,null,null,null,null,null,null,null,null,null,null,null,null,null,null,null,null,null,null,null,null,null,null,null,null,null,null,null,null,null,null,null,null,null,null,null,null,null,null,null,null,null,null,null,null,null,null,null,null,null,null,null,null,null,null,null,null,null,null,null,null,null,null,"RDYWEYMOUTH CHALBURY ELDERLY","RDYHW","WEYMOUTH CHALBURY ELDERLY","RDYHW","WEYMOUTH CHALBURY ELDERLY","RDY",null,null,"FULBOURN HOSPITAL","Mulberry 1"]
[null,null,null,"","",null,null,null,null,null,null,null,null,null,null,null,null,null,null,null,null,null,null,null,null,null,null,null,null,null,null,null,null,null,null,null,null,null,null,null,null,null,null,null,null,null,null,null,null,null,null,null,null,null,null,null,null,null,null,null,null,null,null,null,null,null,null,null,null,"RE9CLEVELAND VOCATIONAL TRAINING SCHEME","RE909","CLEVELAND VOCATIONAL TRAINING SCHEME","RE909","CLEVELAND VOCATIONAL TRAINING SCHEME","RE9",null,null,"PETERBOROUGH DISTRICT HOSPITAL","Maples"]
[null,null,null,"","",null,null,null,null,null,null,null,null,null,null,null,null,null,null,null,null,null,null,null,null,null,null,null,null,null,null,null,null,null,null,null,null,null,null,null,null,null,null,null,null,null,null,null,null,null,null,null,null,null,null,null,null,null,null,null,null,null,null,null,null,null,null,null,null,"REMVICTORIA CENTRAL HOSPITAL","REM35","VICTORIA CENTRAL HOSPITAL","REM35","VICTORIA CENTRAL HOSPITAL","REM",null,null,"  3 BEATRICE PLACE","Beatrice Place"]
[null,null,null,"","",null,null,null,null,null,null,null,null,null,null,null,null,null,null,null,null,null,null,null,null,null,null,null,null,null,null,null,null,null,null,null,null,null,null,null,null,null,null,null,null,null,null,null,null,null,null,null,null,null,null,null,null,null,null,null,null,null,null,null,null,null,null,null,null,"RETTHE WALTON CENTRE FOR NEUROLOGY AND NEUROSURGERY NHS TRUST","RET20","THE WALTON CENTRE FOR NEUROLOGY AND NEUROSURGERY NHS TRUST","RET20","THE WALTON CENTRE FOR NEUROLOGY AND NEUROSURGERY NHS TRUST","RET",null,null,"  PARK ROYAL CENTRE FOR MENTAL HEALTH","Pine Ward"]
[null,null,null,null,null,null,null,null,null,null,null,null,null,null,null,null,null,null,null,null,null,null,null,null,null,null,null,null,null,null,null,null,null,null,null,null,null,null,null,null,null,null,null,null,null,null,null,null,null,null,null,null,null,null,null,null,null,null,null,null,null,null,null,null,null,null,null,null,null,"RGDACOMB GARTH","RGDT1","ACOMB GARTH","RGDT1","ACOMB GARTH","RGD",null,null,"HILLINGDON HOSPITAL","Hawthorne Int. Care"]
[null,null,null,null,null,null,null,null,null,null,null,null,null,null,null,null,null,null,null,null,null,null,null,null,null,null,null,null,null,null,null,null,null,null,null,null,null,null,null,null,null,null,null,null,null,null,null,null,null,null,null,null,null,null,null,null,null,null,null,null,null,null,null,null,null,null,null,null,null,"RGDCHILD AND FAMILY PSYCHIATRIC UNIT","RGD48","CHILD AND FAMILY PSYCHIATRIC UNIT","RGD48","CHILD AND FAMILY PSYCHIATRIC UNIT","RGD",null,null,"ROXBOURNE HOSPITAL","Roxbourne Lodge"]
[null,null,null,null,null,null,null,null,null,null,null,null,null,null,null,null,null,null,null,null,null,null,null,null,null,null,null,null,null,null,null,null,null,null,null,null,null,null,null,null,null,null,null,null,null,null,null,null,null,null,null,null,null,null,null,null,null,null,null,null,null,null,null,null,null,null,null,null,null,"RGDMAWCROFT GRANGE","RGDDD","MAWCROFT GRANGE","RGDDD","MAWCROFT GRANGE","RGD",null,null,"THE GORDON HOSPITAL","Gerrard Ward"]
[null,null,null,null,null,null,null,null,null,null,null,null,null,null,null,null,null,null,null,null,null,null,null,null,null,null,null,null,null,null,null,null,null,null,null,null,null,null,null,null,null,null,null,null,null,null,null,null,null,null,null,null,null,null,null,null,null,null,null,null,null,null,null,null,null,null,null,null,null,"RGDOAK RISE","RGDT2","OAK RISE","RGDT2","OAK RISE","RGD",null,null,"PRINCESS LOUISE NURSING HOME","Alexa Rehab (PLK)"]
[null,null,null,null,null,null,null,null,null,null,null,null,null,null,null,null,null,null,null,null,null,null,null,null,null,null,null,null,null,null,null,null,null,null,null,null,null,null,null,null,null,null,null,null,null,null,null,null,null,null,null,null,null,null,null,null,null,null,null,null,null,null,null,null,null,null,null,null,null,{"$f":"CONCATENATE(LEFT(BS875, 3),BT875)","v":"RGDRYEDALE COUNSELLING"},"RGDV4","RYEDALE COUNSELLING","RGDV4","RYEDALE COUNSELLING","RGD",null,null,"CHELSEA AND WESTMINSTER HOSPITAL - RQM01","ICU"]
[null,null,null,null,null,null,null,null,null,null,null,null,null,null,null,null,null,null,null,null,null,null,null,null,null,null,null,null,null,null,null,null,null,null,null,null,null,null,null,null,null,null,null,null,null,null,null,null,null,null,null,null,null,null,null,null,null,null,null,null,null,null,null,null,null,null,null,null,null,"RGDWHARFEDALE GENERAL HOSPITAL","RGD07","WHARFEDALE GENERAL HOSPITAL","RGD07","WHARFEDALE GENERAL HOSPITAL","RGD",null,null,"WEST MIDDLESEX UNIVERSITY HOSPITAL","Crane"]
[null,null,null,null,null,null,null,null,null,null,null,null,null,null,null,null,null,null,null,null,null,null,null,null,null,null,null,null,null,null,null,null,null,null,null,null,null,null,null,null,null,null,null,null,null,null,null,null,null,null,null,null,null,null,null,null,null,null,null,null,null,null,null,null,null,null,null,null,null,"RGRGROVE LANE SURGERY","RGR62","GROVE LANE SURGERY","RGR62","GROVE LANE SURGERY","RGR",null,null,"BOWMERE HOSPITAL","Rosewood"]
[null,null,null,null,null,null,null,null,null,null,null,null,null,null,null,null,null,null,null,null,null,null,null,null,null,null,null,null,null,null,null,null,null,null,null,null,null,null,null,null,null,null,null,null,null,null,null,null,null,null,null,null,null,null,null,null,null,null,null,null,null,null,null,null,null,null,null,null,null,"RH5BLACK SWAN","RH590","BLACK SWAN","RH590","BLACK SWAN","RH5",null,null,"MACCLESFIELD MENTAL HEALTH","Bollin"]
[null,null,null,null,null,null,null,null,null,null,null,null,null,null,null,null,null,null,null,null,null,null,null,null,null,null,null,null,null,null,null,null,null,null,null,null,null,null,null,null,null,null,null,null,null,null,null,null,null,null,null,null,null,null,null,null,null,null,null,null,null,null,null,null,null,null,null,null,null,"RH5GLASTONBURY PCDS","RH5H3","GLASTONBURY PCDS","RH5H3","GLASTONBURY PCDS","RH5",null,null,"CHESTERFIELD ROYAL HOSPITAL","HASLAND"]
[null,null,null,null,null,null,null,null,null,null,null,null,null,null,null,null,null,null,null,null,null,null,null,null,null,null,null,null,null,null,null,null,null,null,null,null,null,null,null,null,null,null,null,null,null,null,null,null,null,null,null,null,null,null,null,null,null,null,null,null,null,null,null,null,null,null,null,null,null,"RH5RYDON","RH536","RYDON","RH536","RYDON","RH5",null,null,"CHESTERFIELD ROYAL HOSPITAL","RIDGEWAY"]
[null,null,null,null,null,null,null,null,null,null,null,null,null,null,null,null,null,null,null,null,null,null,null,null,null,null,null,null,null,null,null,null,null,null,null,null,null,null,null,null,null,null,null,null,null,null,null,null,null,null,null,null,null,null,null,null,null,null,null,null,null,null,null,null,null,null,null,null,null,"RH5WILLOWBANK DAY HOSPITAL","RH5C4","WILLOWBANK DAY HOSPITAL","RH5C4","WILLOWBANK DAY HOSPITAL","RH5",null,null,"INPATIENTS BODMIN","Harvest"]
[null,null,null,null,null,null,null,null,null,null,null,null,null,null,null,null,null,null,null,null,null,null,null,null,null,null,null,null,null,null,null,null,null,null,null,null,null,null,null,null,null,null,null,null,null,null,null,null,null,null,null,null,null,null,null,null,null,null,null,null,null,null,null,null,null,null,null,null,null,"RH8ROYAL DEVON AND EXETER HOSPITAL (WONFORD)","RH801","ROYAL DEVON AND EXETER HOSPITAL (WONFORD)","RH801","ROYAL DEVON AND EXETER HOSPITAL (WONFORD)","RH8",null,null,"ST AUSTELL COMMUNITY HOSPITAL","Heligan"]
[null,null,null,null,null,null,null,null,null,null,null,null,null,null,null,null,null,null,null,null,null,null,null,null,null,null,null,null,null,null,null,null,null,null,null,null,null,null,null,null,null,null,null,null,null,null,null,null,null,null,null,null,null,null,null,null,null,null,null,null,null,null,null,null,null,null,null,null,null,"RHAASHFIELD/MANSFIELD CLDT","RHACX","ASHFIELD/MANSFIELD CLDT","RHACX","ASHFIELD/MANSFIELD CLDT","RHA",null,null,"COUNTESS OF CHESTER HOSPITAL","Ward 33 Trinity Ward"]
[null,null,null,null,null,null,null,null,null,null,null,null,null,null,null,null,null,null,null,null,null,null,null,null,null,null,null,null,null,null,null,null,null,null,null,null,null,null,null,null,null,null,null,null,null,null,null,null,null,null,null,null,null,null,null,null,null,null,null,null,null,null,null,null,null,null,null,null,null,"RHACOAL AUTHORITY BUILDING","RHAPL","COAL AUTHORITY BUILDING","RHAPL","COAL AUTHORITY BUILDING","RHA",null,null,"COUNTESS OF CHESTER HOSPITAL","Ward 60 Haematology Oncology Suite"]
[null,null,null,null,null,null,null,null,null,null,null,null,null,null,null,null,null,null,null,null,null,null,null,null,null,null,null,null,null,null,null,null,null,null,null,null,null,null,null,null,null,null,null,null,null,null,null,null,null,null,null,null,null,null,null,null,null,null,null,null,null,null,null,null,null,null,null,null,null,"RHAMIND","RHAGL","MIND","RHAGL","MIND","RHA",null,null,"DARLINGTON MEMORIAL HOSPITAL","Ward 52 DMH (0211)"]
[null,null,null,null,null,null,null,null,null,null,null,null,null,null,null,null,null,null,null,null,null,null,null,null,null,null,null,null,null,null,null,null,null,null,null,null,null,null,null,null,null,null,null,null,null,null,null,null,null,null,null,null,null,null,null,null,null,null,null,null,null,null,null,null,null,null,null,null,null,"RHANORTH NOTTS LD YX - RX","RHAYX","NORTH NOTTS LD YX - RX","RHAYX","NORTH NOTTS LD YX - RX","RHA",null,null,"UNIVERSITY HOSPITAL OF NORTH DURHAM","Ward 12 Orthopaedic Unit UHND (1303)"]
[null,null,null,null,null,null,null,null,null,null,null,null,null,null,null,null,null,null,null,null,null,null,null,null,null,null,null,null,null,null,null,null,null,null,null,null,null,null,null,null,null,null,null,null,null,null,null,null,null,null,null,null,null,null,null,null,null,null,null,null,null,null,null,null,null,null,null,null,null,"RHANORTH NOTTS MILLBROOK XR-RX","RHAXR","NORTH NOTTS MILLBROOK XR-RX","RHAXR","NORTH NOTTS MILLBROOK XR-RX","RHA",null,null,"WEARDALE COMMUNITY HOSPITAL","Weardale Community Hospital (5001)"]
[null,null,null,null,null,null,null,null,null,null,null,null,null,null,null,null,null,null,null,null,null,null,null,null,null,null,null,null,null,null,null,null,null,null,null,null,null,null,null,null,null,null,null,null,null,null,null,null,null,null,null,null,null,null,null,null,null,null,null,null,null,null,null,null,null,null,null,null,null,"RHANORTH NOTTS NEWARK-RX","RHAXH","NORTH NOTTS NEWARK-RX","RHAXH","NORTH NOTTS NEWARK-RX","RHA",null,null,"ST MICHAEL'S","Hazelwood"]
[null,null,null,null,null,null,null,null,null,null,null,null,null,null,null,null,null,null,null,null,null,null,null,null,null,null,null,null,null,null,null,null,null,null,null,null,null,null,null,null,null,null,null,null,null,null,null,null,null,null,null,null,null,null,null,null,null,null,null,null,null,null,null,null,null,null,null,null,null,"RHASHERWOOD WEST (RAINWORTH)","RHA9L","SHERWOOD WEST (RAINWORTH)","RHA9L","SHERWOOD WEST (RAINWORTH)","RHA",null,null,"THE CALUDON CENTRE, COVENTRY","Westwood"]
[null,null,null,null,null,null,null,null,null,null,null,null,null,null,null,null,null,null,null,null,null,null,null,null,null,null,null,null,null,null,null,null,null,null,null,null,null,null,null,null,null,null,null,null,null,null,null,null,null,null,null,null,null,null,null,null,null,null,null,null,null,null,null,null,null,null,null,null,null,"RHATHE NEWLANDS","RHAGW","THE NEWLANDS","RHAGW","THE NEWLANDS","RHA",null,null,"CROYDON UNIVERSITY HOSPITAL","ITU/HDU"]
[null,null,null,null,null,null,null,null,null,null,null,null,null,null,null,null,null,null,null,null,null,null,null,null,null,null,null,null,null,null,null,null,null,null,null,null,null,null,null,null,null,null,null,null,null,null,null,null,null,null,null,null,null,null,null,null,null,null,null,null,null,null,null,null,null,null,null,null,null,"RHAUNIVERSITY HOSPITAL","RHARA","UNIVERSITY HOSPITAL","RHARA","UNIVERSITY HOSPITAL","RHA",null,null,"CROYDON UNIVERSITY HOSPITAL","Rupert Bear"]
[null,null,null,null,null,null,null,null,null,null,null,null,null,null,null,null,null,null,null,null,null,null,null,null,null,null,null,null,null,null,null,null,null,null,null,null,null,null,null,null,null,null,null,null,null,null,null,null,null,null,null,null,null,null,null,null,null,null,null,null,null,null,null,null,null,null,null,null,null,"RHQDONCASTER ROYAL INFIRMARY","RHQDR","DONCASTER ROYAL INFIRMARY","RHQDR","DONCASTER ROYAL INFIRMARY","RHQ",null,null,"COPELAND UNIT","Copeland Unit"]
[null,null,null,null,null,null,null,null,null,null,null,null,null,null,null,null,null,null,null,null,null,null,null,null,null,null,null,null,null,null,null,null,null,null,null,null,null,null,null,null,null,null,null,null,null,null,null,null,null,null,null,null,null,null,null,null,null,null,null,null,null,null,null,null,null,null,null,null,null,"RHWJOHN RADCLIFFE HOSPITAL","RHW12","JOHN RADCLIFFE HOSPITAL","RHW12","JOHN RADCLIFFE HOSPITAL","RHW",null,null,"DARENT VALLEY HOSPITAL","Palm"]
[null,null,null,null,null,null,null,null,null,null,null,null,null,null,null,null,null,null,null,null,null,null,null,null,null,null,null,null,null,null,null,null,null,null,null,null,null,null,null,null,null,null,null,null,null,null,null,null,null,null,null,null,null,null,null,null,null,null,null,null,null,null,null,null,null,null,null,null,null,"RHWWEST BERKSHIRE COMMUNITY HOSPITAL","RHW05","WEST BERKSHIRE COMMUNITY HOSPITAL","RHW05","WEST BERKSHIRE COMMUNITY HOSPITAL","RHW",null,null,"ILKESTON COMMUNITY HOSPITAL","HEANOR MANNERS"]
[null,null,null,null,null,null,null,null,null,null,null,null,null,null,null,null,null,null,null,null,null,null,null,null,null,null,null,null,null,null,null,null,null,null,null,null,null,null,null,null,null,null,null,null,null,null,null,null,null,null,null,null,null,null,null,null,null,null,null,null,null,null,null,null,null,null,null,null,null,"RJ2QUEEN ELIZABETH HOSPITAL","RJ231","QUEEN ELIZABETH HOSPITAL","RJ231","QUEEN ELIZABETH HOSPITAL","RJ2",null,null,"ADULT MENTAL HEALTH","KINGSWAY CUBLEY COURT - FEMALE"]
[null,null,null,null,null,null,null,null,null,null,null,null,null,null,null,null,null,null,null,null,null,null,null,null,null,null,null,null,null,null,null,null,null,null,null,null,null,null,null,null,null,null,null,null,null,null,null,null,null,null,null,null,null,null,null,null,null,null,null,null,null,null,null,null,null,null,null,null,null,"RJ8ADDACTION","RJ874","ADDACTION","RJ874","ADDACTION","RJ8",null,null,"WARD 35, PSYCHIATRIC UNIT","RADBOURNE UNIT - WARD 35 ADULT ACUTE INPATIENT"]
[null,null,null,null,null,null,null,null,null,null,null,null,null,null,null,null,null,null,null,null,null,null,null,null,null,null,null,null,null,null,null,null,null,null,null,null,null,null,null,null,null,null,null,null,null,null,null,null,null,null,null,null,null,null,null,null,null,null,null,null,null,null,null,null,null,null,null,null,null,"RJ8COBBLESTONES","RJ8EE","COBBLESTONES","RJ8EE","COBBLESTONES","RJ8",null,null,"NORTH DEVON DISTRICT HOSPITAL","Meadow View"]
[null,null,null,null,null,null,null,null,null,null,null,null,null,null,null,null,null,null,null,null,null,null,null,null,null,null,null,null,null,null,null,null,null,null,null,null,null,null,null,null,null,null,null,null,null,null,null,null,null,null,null,null,null,null,null,null,null,null,null,null,null,null,null,null,null,null,null,null,null,"RJ8INPATIENTS BODMIN","RJ85A","INPATIENTS BODMIN","RJ85A","INPATIENTS BODMIN","RJ8",null,null,"TORBAY HOSPITAL","Haytor"]
[null,null,null,null,null,null,null,null,null,null,null,null,null,null,null,null,null,null,null,null,null,null,null,null,null,null,null,null,null,null,null,null,null,null,null,null,null,null,null,null,null,null,null,null,null,null,null,null,null,null,null,null,null,null,null,null,null,null,null,null,null,null,null,null,null,null,null,null,null,"RJ8PRAZE MEADOW","RJ8CE","PRAZE MEADOW","RJ8CE","PRAZE MEADOW","RJ8",null,null,"DONCASTER ROYAL INFIRMARY","CDS"]
[null,null,null,null,null,null,null,null,null,null,null,null,null,null,null,null,null,null,null,null,null,null,null,null,null,null,null,null,null,null,null,null,null,null,null,null,null,null,null,null,null,null,null,null,null,null,null,null,null,null,null,null,null,null,null,null,null,null,null,null,null,null,null,null,null,null,null,null,null,"RJ8STRATTON HOSPITAL","RJ867","STRATTON HOSPITAL","RJ867","STRATTON HOSPITAL","RJ8",null,null,"DONCASTER ROYAL INFIRMARY","Stirling Ward"]
[null,null,null,null,null,null,null,null,null,null,null,null,null,null,null,null,null,null,null,null,null,null,null,null,null,null,null,null,null,null,null,null,null,null,null,null,null,null,null,null,null,null,null,null,null,null,null,null,null,null,null,null,null,null,null,null,null,null,null,null,null,null,null,null,null,null,null,null,null,"RJECOUNTY HOSPITAL","RJE09","COUNTY HOSPITAL","RJE09","COUNTY HOSPITAL",{"$f":"LEFT(BU1199,3)","v":"RJE"},null,null,"DORSET COUNTY HOSPITAL","Critical Care Unit"]
[null,null,null,null,null,null,null,null,null,null,null,null,null,null,null,null,null,null,null,null,null,null,null,null,null,null,null,null,null,null,null,null,null,null,null,null,null,null,null,null,null,null,null,null,null,null,null,null,null,null,null,null,null,null,null,null,null,null,null,null,null,null,null,null,null,null,null,null,null,"RJNMACCLESFIELD DISTRICT GENERAL HOSPITAL","RJN71","MACCLESFIELD DISTRICT GENERAL HOSPITAL","RJN71","MACCLESFIELD DISTRICT GENERAL HOSPITAL","RJN",null,null,"DORSET COUNTY HOSPITAL","The Stroke Unit"]
[null,null,null,null,null,null,null,null,null,null,null,null,null,null,null,null,null,null,null,null,null,null,null,null,null,null,null,null,null,null,null,null,null,null,null,null,null,null,null,null,null,null,null,null,null,null,null,null,null,null,null,null,null,null,null,null,null,null,null,null,null,null,null,null,null,null,null,null,null,"RJXFECITT BROW","RJX12","FECITT BROW","RJX12","FECITT BROW","RJX",null,null,"FORSTON CLINIC","Waterston AAU"]
[null,null,null,null,null,null,null,null,null,null,null,null,null,null,null,null,null,null,null,null,null,null,null,null,null,null,null,null,null,null,null,null,null,null,null,null,null,null,null,null,null,null,null,null,null,null,null,null,null,null,null,null,null,null,null,null,null,null,null,null,null,null,null,null,null,null,null,null,null,"RJZKING'S COLLEGE HOSPITAL (DULWICH)","RJZ03","KING'S COLLEGE HOSPITAL (DULWICH)","RJZ03","KING'S COLLEGE HOSPITAL (DULWICH)","RJZ",null,null,"ST ANN'S HOSPITAL","Chine Ward"]
[null,null,null,null,null,null,null,null,null,null,null,null,null,null,null,null,null,null,null,null,null,null,null,null,null,null,null,null,null,null,null,null,null,null,null,null,null,null,null,null,null,null,null,null,null,null,null,null,null,null,null,null,null,null,null,null,null,null,null,null,null,null,null,null,null,null,null,null,null,"RKBCOVENTRY AND WARWICKSHIRE HOSPITAL","RKB02","COVENTRY AND WARWICKSHIRE HOSPITAL","RKB02","COVENTRY AND WARWICKSHIRE HOSPITAL","RKB",null,null,"BUSHEY FIELDS HOSPITAL","Kinver"]
[null,null,null,null,null,null,null,null,null,null,null,null,null,null,null,null,null,null,null,null,null,null,null,null,null,null,null,null,null,null,null,null,null,null,null,null,null,null,null,null,null,null,null,null,null,null,null,null,null,null,null,null,null,null,null,null,null,null,null,null,null,null,null,null,null,null,null,null,null,"RKLBARB MEWS","RKL82","BARB MEWS","RKL82","BARB MEWS","RKL",null,null,"LISTER HOSPITAL","06B North; South"]
[null,null,null,null,null,null,null,null,null,null,null,null,null,null,null,null,null,null,null,null,null,null,null,null,null,null,null,null,null,null,null,null,null,null,null,null,null,null,null,null,null,null,null,null,null,null,null,null,null,null,null,null,null,null,null,null,null,null,null,null,null,null,null,null,null,null,null,null,null,"RKLEPS","RKL2Q","EPS","RKL2Q","EPS","RKL",null,null,"LISTER HOSPITAL","Maternity Unit - CLU"]
[null,null,null,null,null,null,null,null,null,null,null,null,null,null,null,null,null,null,null,null,null,null,null,null,null,null,null,null,null,null,null,null,null,null,null,null,null,null,null,null,null,null,null,null,null,null,null,null,null,null,null,null,null,null,null,null,null,null,null,null,null,null,null,null,null,null,null,null,null,"RKLLIMES","RKL1H","LIMES","RKL1H","LIMES","RKL",null,null,"LISTER HOSPITAL","Strathmore Wing - SSU"]
[null,null,null,null,null,null,null,null,null,null,null,null,null,null,null,null,null,null,null,null,null,null,null,null,null,null,null,null,null,null,null,null,null,null,null,null,null,null,null,null,null,null,null,null,null,null,null,null,null,null,null,null,null,null,null,null,null,null,null,null,null,null,null,null,null,null,null,null,null,"RL4THE ROYAL HOSPITAL (WOLVERHAMPTON)","RL401","THE ROYAL HOSPITAL (WOLVERHAMPTON)","RL401","THE ROYAL HOSPITAL (WOLVERHAMPTON)","RL4",null,null,"KENT AND CANTERBURY HOSPITAL","Invicta"]
[null,null,null,null,null,null,null,null,null,null,null,null,null,null,null,null,null,null,null,null,null,null,null,null,null,null,null,null,null,null,null,null,null,null,null,null,null,null,null,null,null,null,null,null,null,null,null,null,null,null,null,null,null,null,null,null,null,null,null,null,null,null,null,null,null,null,null,null,null,"RLUBIRMINGHAM WOMEN'S HOSPITAL","RLU01","BIRMINGHAM WOMEN'S HOSPITAL","RLU01","BIRMINGHAM WOMEN'S HOSPITAL","RLU",null,null,"QUEEN ELIZABETH THE QUEEN MOTHER HOSPITAL","Critical Care - QMH"]
[null,null,null,null,null,null,null,null,null,null,null,null,null,null,null,null,null,null,null,null,null,null,null,null,null,null,null,null,null,null,null,null,null,null,null,null,null,null,null,null,null,null,null,null,null,null,null,null,null,null,null,null,null,null,null,null,null,null,null,null,null,null,null,null,null,null,null,null,null,"RLYELVDON","RLY78","ELVDON","RLY78","ELVDON","RLY",null,null,"QUEEN ELIZABETH THE QUEEN MOTHER HOSPITAL","Sandwich Bay"]
[null,null,null,null,null,null,null,null,null,null,null,null,null,null,null,null,null,null,null,null,null,null,null,null,null,null,null,null,null,null,null,null,null,null,null,null,null,null,null,null,null,null,null,null,null,null,null,null,null,null,null,null,null,null,null,null,null,null,null,null,null,null,null,null,null,null,null,null,null,"RLYMEDICAL INSTITUTE","RLYC3","MEDICAL INSTITUTE","RLYC3","MEDICAL INSTITUTE",{"$f":"LEFT(BU1327,3)","v":"RLY"},null,null,"WILLIAM HARVEY HOSPITAL (ASHFORD)","Critical Care - WHH - add duties"]
[null,null,null,null,null,null,null,null,null,null,null,null,null,null,null,null,null,null,null,null,null,null,null,null,null,null,null,null,null,null,null,null,null,null,null,null,null,null,null,null,null,null,null,null,null,null,null,null,null,null,null,null,null,null,null,null,null,null,null,null,null,null,null,null,null,null,null,null,null,"RMYBECCLES AND DISTRICT HOSPITAL","RMY71","BECCLES AND DISTRICT HOSPITAL","RMY71","BECCLES AND DISTRICT HOSPITAL","RMY",null,null,"WILLIAM HARVEY HOSPITAL (ASHFORD)","WH Padua Ward"]
[null,null,null,null,null,null,null,null,null,null,null,null,null,null,null,null,null,null,null,null,null,null,null,null,null,null,null,null,null,null,null,null,null,null,null,null,null,null,null,null,null,null,null,null,null,null,null,null,null,null,null,null,null,null,null,null,null,null,null,null,null,null,null,null,null,null,null,null,null,"RMYHELLESDON HOSPITAL","RMY01","HELLESDON HOSPITAL","RMY01","HELLESDON HOSPITAL","RMY",null,null,"BURNLEY GENERAL HOSPITAL","Ward 19"]
[null,null,null,null,null,null,null,null,null,null,null,null,null,null,null,null,null,null,null,null,null,null,null,null,null,null,null,null,null,null,null,null,null,null,null,null,null,null,null,null,null,null,null,null,null,null,null,null,null,null,null,null,null,null,null,null,null,null,null,null,null,null,null,null,null,null,null,null,null,"RMYNORTH WALSHAM COTTAGE HOSPITAL","RMY61","NORTH WALSHAM COTTAGE HOSPITAL","RMY61","NORTH WALSHAM COTTAGE HOSPITAL","RMY",null,null,"ROYAL BLACKBURN HOSPITAL","C11"]
[null,null,null,null,null,null,null,null,null,null,null,null,null,null,null,null,null,null,null,null,null,null,null,null,null,null,null,null,null,null,null,null,null,null,null,null,null,null,null,null,null,null,null,null,null,null,null,null,null,null,null,null,null,null,null,null,null,null,null,null,null,null,null,null,null,null,null,null,null,"RMYST STEPHENS","RMY21","ST STEPHENS","RMY21","ST STEPHENS","RMY",null,null,"ROYAL BLACKBURN HOSPITAL","C5"]
[null,null,null,null,null,null,null,null,null,null,null,null,null,null,null,null,null,null,null,null,null,null,null,null,null,null,null,null,null,null,null,null,null,null,null,null,null,null,null,null,null,null,null,null,null,null,null,null,null,null,null,null,null,null,null,null,null,null,null,null,null,null,null,null,null,null,null,null,null,"RN5ROYAL HAMPSHIRE COUNTY HOSPITAL","RN541","ROYAL HAMPSHIRE COUNTY HOSPITAL","RN541","ROYAL HAMPSHIRE COUNTY HOSPITAL","RN5",null,null,"EAST HAM CARE CENTRE","Fothergill Ward"]
[null,null,null,null,null,null,null,null,null,null,null,null,null,null,null,null,null,null,null,null,null,null,null,null,null,null,null,null,null,null,null,null,null,null,null,null,null,null,null,null,null,null,null,null,null,null,null,null,null,null,null,null,null,null,null,null,null,null,null,null,null,null,null,null,null,null,null,null,null,"RNNBRAMPTON HOSPITAL","RNNCP","BRAMPTON HOSPITAL","RNNCP","BRAMPTON HOSPITAL","RNN",null,null,"FORENSIC CENTRE FOR MENTAL HEALTH","Morrison Ward"]
[null,null,null,null,null,null,null,null,null,null,null,null,null,null,null,null,null,null,null,null,null,null,null,null,null,null,null,null,null,null,null,null,null,null,null,null,null,null,null,null,null,null,null,null,null,null,null,null,null,null,null,null,null,null,null,null,null,null,null,null,null,null,null,null,null,null,null,null,null,"RNNCOPELAND UNIT","RNNCL","COPELAND UNIT","RNNCL","COPELAND UNIT","RNN",null,null,"LUTON & CENTRAL BEDS MHIP","BED Townsend Court"]
[null,null,null,null,null,null,null,null,null,null,null,null,null,null,null,null,null,null,null,null,null,null,null,null,null,null,null,null,null,null,null,null,null,null,null,null,null,null,null,null,null,null,null,null,null,null,null,null,null,null,null,null,null,null,null,null,null,null,null,null,null,null,null,null,null,null,null,null,null,"RNNKESWICK MINOR INJURY UNIT","RNNKM","KESWICK MINOR INJURY UNIT","RNNKM","KESWICK MINOR INJURY UNIT","RNN",null,null,"NEWHAM CENTRE FOR MENTAL HEALTH","Opal Ward"]
[null,null,null,null,null,null,null,null,null,null,null,null,null,null,null,null,null,null,null,null,null,null,null,null,null,null,null,null,null,null,null,null,null,null,null,null,null,null,null,null,null,null,null,null,null,null,null,null,null,null,null,null,null,null,null,null,null,null,null,null,null,null,null,null,null,null,null,null,null,"RNNMEADOWBANK","RNN76","MEADOWBANK","RNN76","MEADOWBANK","RNN",null,null,"toWER HAMLETS CENTRE FOR MENTAL HEALTH","Millharbour"]
[null,null,null,null,null,null,null,null,null,null,null,null,null,null,null,null,null,null,null,null,null,null,null,null,null,null,null,null,null,null,null,null,null,null,null,null,null,null,null,null,null,null,null,null,null,null,null,null,null,null,null,null,null,null,null,null,null,null,null,null,null,null,null,null,null,null,null,null,null,"RNNRUTH LANCASTER JAMES HOSPITAL","RNNRJ","RUTH LANCASTER JAMES HOSPITAL","RNNRJ","RUTH LANCASTER JAMES HOSPITAL","RNN",null,null,"COLCHESTER GENERAL HOSPITAL","432 INT Peldon Ward COH"]
[null,null,null,null,null,null,null,null,null,null,null,null,null,null,null,null,null,null,null,null,null,null,null,null,null,null,null,null,null,null,null,null,null,null,null,null,null,null,null,null,null,null,null,null,null,null,null,null,null,null,null,null,null,null,null,null,null,null,null,null,null,null,null,null,null,null,null,null,null,"RNQKETTERING GENERAL HOSPITAL","RNQ51","KETTERING GENERAL HOSPITAL","RNQ51","KETTERING GENERAL HOSPITAL","RNQ",null,null,"COLCHESTER GENERAL HOSPITAL","432 SURG Brightlingsea Ward COH"]
[null,null,null,null,null,null,null,null,null,null,null,null,null,null,null,null,null,null,null,null,null,null,null,null,null,null,null,null,null,null,null,null,null,null,null,null,null,null,null,null,null,null,null,null,null,null,null,null,null,null,null,null,null,null,null,null,null,null,null,null,null,null,null,null,null,null,null,null,null,"RNULITTLEMORE MENTAL HEALTH CENTRE","RNU30","LITTLEMORE MENTAL HEALTH CENTRE","RNU30","LITTLEMORE MENTAL HEALTH CENTRE","RNU",null,null,"COLCHESTER GENERAL HOSPITAL","432 W&C Stanway Ward COH"]
[null,null,null,null,null,null,null,null,null,null,null,null,null,null,null,null,null,null,null,null,null,null,null,null,null,null,null,null,null,null,null,null,null,null,null,null,null,null,null,null,null,null,null,null,null,null,null,null,null,null,null,null,null,null,null,null,null,null,null,null,null,null,null,null,null,null,null,null,null,"RP1BEECHWOOD WARD","RP126","BEECHWOOD WARD","RP126","BEECHWOOD WARD","RP1",null,null,"IPSWICH HOSPITAL NHS TRUST","178 SURG Stowupland IHT"]
[null,null,null,null,null,null,null,null,null,null,null,null,null,null,null,null,null,null,null,null,null,null,null,null,null,null,null,null,null,null,null,null,null,null,null,null,null,null,null,null,null,null,null,null,null,null,null,null,null,null,null,null,null,null,null,null,null,null,null,null,null,null,null,null,null,null,null,null,null,"RP1HEATHERS","RP1D6","HEATHERS","RP1D6","HEATHERS","RP1",null,null,"CONQUEST HOSPITAL","De Cham Ward Conquest"]
[null,null,null,null,null,null,null,null,null,null,null,null,null,null,null,null,null,null,null,null,null,null,null,null,null,null,null,null,null,null,null,null,null,null,null,null,null,null,null,null,null,null,null,null,null,null,null,null,null,null,null,null,null,null,null,null,null,null,null,null,null,null,null,null,null,null,null,null,null,"RP1MEDICAL LOANS","RP1P2","MEDICAL LOANS","RP1P2","MEDICAL LOANS","RP1",null,null,"CONQUEST HOSPITAL","Rye Memorial Care Centre"]
[null,null,null,null,null,null,null,null,null,null,null,null,null,null,null,null,null,null,null,null,null,null,null,null,null,null,null,null,null,null,null,null,null,null,null,null,null,null,null,null,null,null,null,null,null,null,null,null,null,null,null,null,null,null,null,null,null,null,null,null,null,null,null,null,null,null,null,null,null,"RP1SKIDDAW WALK UNIT","RP1H3","SKIDDAW WALK UNIT","RP1H3","SKIDDAW WALK UNIT","RP1",null,null,"EASTBOURNE DISTRICT GENERAL HOSPITAL","East Dean/Sovereign Ward"]
[null,null,null,null,null,null,null,null,null,null,null,null,null,null,null,null,null,null,null,null,null,null,null,null,null,null,null,null,null,null,null,null,null,null,null,null,null,null,null,null,null,null,null,null,null,null,null,null,null,null,null,null,null,null,null,null,null,null,null,null,null,null,null,null,null,null,null,null,null,"RP1THE SQUIRRELS","RP1D7","THE SQUIRRELS","RP1D7","THE SQUIRRELS","RP1",null,null,"EPSOM HOSPITAL","ALE (Alexandra)"]
[null,null,null,null,null,null,null,null,null,null,null,null,null,null,null,null,null,null,null,null,null,null,null,null,null,null,null,null,null,null,null,null,null,null,null,null,null,null,null,null,null,null,null,null,null,null,null,null,null,null,null,null,null,null,null,null,null,null,null,null,null,null,null,null,null,null,null,null,null,"RP5TICKHILL ROAD HOSPITAL","RP5TR","TICKHILL ROAD HOSPITAL","RP5TR","TICKHILL ROAD HOSPITAL","RP5",null,null,"EPSOM HOSPITAL","GLO (Gloucester)"]
[null,null,null,null,null,null,null,null,null,null,null,null,null,null,null,null,null,null,null,null,null,null,null,null,null,null,null,null,null,null,null,null,null,null,null,null,null,null,null,null,null,null,null,null,null,null,null,null,null,null,null,null,null,null,null,null,null,null,null,null,null,null,null,null,null,null,null,null,null,"RP6MOORFIELDS EYE HOSPITAL (CITY ROAD) - RP601","RP601","MOORFIELDS EYE HOSPITAL (CITY ROAD) - RP601","RP601","MOORFIELDS EYE HOSPITAL (CITY ROAD) - RP601","RP6",null,null,"ST HELIER HOSPITAL","B5M (B5 Medical)"]
[null,null,null,null,null,null,null,null,null,null,null,null,null,null,null,null,null,null,null,null,null,null,null,null,null,null,null,null,null,null,null,null,null,null,null,null,null,null,null,null,null,null,null,null,null,null,null,null,null,null,null,null,null,null,null,null,null,null,null,null,null,null,null,null,null,null,null,null,null,"RP7ADDACTION","RP7YP","ADDACTION","RP7YP","ADDACTION","RP7",null,null,"ST HELIER HOSPITAL","HS (Harry Secombe)"]
[null,null,null,null,null,null,null,null,null,null,null,null,null,null,null,null,null,null,null,null,null,null,null,null,null,null,null,null,null,null,null,null,null,null,null,null,null,null,null,null,null,null,null,null,null,null,null,null,null,null,null,null,null,null,null,null,null,null,null,null,null,null,null,null,null,null,null,null,null,"RP7MENTAL HEALTH UNIT - SYCAMORE","RP7WH","MENTAL HEALTH UNIT - SYCAMORE","RP7WH","MENTAL HEALTH UNIT - SYCAMORE","RP7",null,null,"CLACTON - MENTAL HEALTH SERVICES - CLACTON HOSPITAL","Peter Bruff"]
[null,null,null,null,null,null,null,null,null,null,null,null,null,null,null,null,null,null,null,null,null,null,null,null,null,null,null,null,null,null,null,null,null,null,null,null,null,null,null,null,null,null,null,null,null,null,null,null,null,null,null,null,null,null,null,null,null,null,null,null,null,null,null,null,null,null,null,null,null,"RP7THE WILLOWS- UNITS 1 AND 2","RP7YW","THE WILLOWS- UNITS 1 AND 2","RP7YW","THE WILLOWS- UNITS 1 AND 2","RP7",null,null,"MENTAL HEALTH UNIT (BASILDON)","Grangewater"]
[null,null,null,null,null,null,null,null,null,null,null,null,null,null,null,null,null,null,null,null,null,null,null,null,null,null,null,null,null,null,null,null,null,null,null,null,null,null,null,null,null,null,null,null,null,null,null,null,null,null,null,null,null,null,null,null,null,null,null,null,null,null,null,null,null,null,null,null,null,"RPCBUCKLAND HOSPITAL - RPC20","RPC20","BUCKLAND HOSPITAL - RPC20","RPC20","BUCKLAND HOSPITAL - RPC20","RPC",null,null,"ROCHFORD COMMUNITY HOSPITAL","Clifton Lodge"]
[null,null,null,null,null,null,null,null,null,null,null,null,null,null,null,null,null,null,null,null,null,null,null,null,null,null,null,null,null,null,null,null,null,null,null,null,null,null,null,null,null,null,null,null,null,null,null,null,null,null,null,null,null,null,null,null,null,null,null,null,null,null,null,null,null,null,null,null,null,"RPCMAIDSTONE DISTRICT GENERAL HOSPITAL - RPC15","RPC15","MAIDSTONE DISTRICT GENERAL HOSPITAL - RPC15","RPC15","MAIDSTONE DISTRICT GENERAL HOSPITAL - RPC15","RPC",null,null,"ST MARGARET'S HOSPITAL","Beech - St Margarets"]
[null,null,null,null,null,null,null,null,null,null,null,null,null,null,null,null,null,null,null,null,null,null,null,null,null,null,null,null,null,null,null,null,null,null,null,null,null,null,null,null,null,null,null,null,null,null,null,null,null,null,null,null,null,null,null,null,null,null,null,null,null,null,null,null,null,null,null,null,null,"RPGELTHAM COMMUNITY HOSPITAL","RPGHP","ELTHAM COMMUNITY HOSPITAL","RPGHP","ELTHAM COMMUNITY HOSPITAL","RPG",null,null,"FRIMLEY PARK HOSPITAL","F3"]
[null,null,null,null,null,null,null,null,null,null,null,null,null,null,null,null,null,null,null,null,null,null,null,null,null,null,null,null,null,null,null,null,null,null,null,null,null,null,null,null,null,null,null,null,null,null,null,null,null,null,null,null,null,null,null,null,null,null,null,null,null,null,null,null,null,null,null,null,null,"RPGISIS","RPGHV","ISIS","RPGHV","ISIS","RPG",null,null,"FRIMLEY PARK HOSPITAL","G2B"]
[null,null,null,null,null,null,null,null,null,null,null,null,null,null,null,null,null,null,null,null,null,null,null,null,null,null,null,null,null,null,null,null,null,null,null,null,null,null,null,null,null,null,null,null,null,null,null,null,null,null,null,null,null,null,null,null,null,null,null,null,null,null,null,null,null,null,null,null,null,"RPGSOMERSET VILLA","RPGAQ","SOMERSET VILLA","RPGAQ","SOMERSET VILLA","RPG",null,null,"FRIMLEY PARK HOSPITAL","SADU"]
[null,null,null,null,null,null,null,null,null,null,null,null,null,null,null,null,null,null,null,null,null,null,null,null,null,null,null,null,null,null,null,null,null,null,null,null,null,null,null,null,null,null,null,null,null,null,null,null,null,null,null,null,null,null,null,null,null,null,null,null,null,null,null,null,null,null,null,null,null,"RPGTUGMUTTON","RPGEM","TUGMUTTON","RPGEM","TUGMUTTON","RPG",null,null,"WEXHAM PARK HOSPITAL","Medicine Elderly Care (WP)"]
[null,null,null,null,null,null,null,null,null,null,null,null,null,null,null,null,null,null,null,null,null,null,null,null,null,null,null,null,null,null,null,null,null,null,null,null,null,null,null,null,null,null,null,null,null,null,null,null,null,null,null,null,null,null,null,null,null,null,null,null,null,null,null,null,null,null,null,null,null,"RQ3BIRMINGHAM CHILDREN'S HOSPITAL - DIABETICS","RQ342","BIRMINGHAM CHILDREN'S HOSPITAL - DIABETICS","RQ342","BIRMINGHAM CHILDREN'S HOSPITAL - DIABETICS","RQ3",null,null,"WEXHAM PARK HOSPITAL","Ward 11 Surgical (WP)"]
[null,null,null,null,null,null,null,null,null,null,null,null,null,null,null,null,null,null,null,null,null,null,null,null,null,null,null,null,null,null,null,null,null,null,null,null,null,null,null,null,null,null,null,null,null,null,null,null,null,null,null,null,null,null,null,null,null,null,null,null,null,null,null,null,null,null,null,null,null,"RQQTHE HUNTINGDON NHS TREATMENT CENTRE - RQQTC","RQQTC","THE HUNTINGDON NHS TREATMENT CENTRE - RQQTC","RQQTC","THE HUNTINGDON NHS TREATMENT CENTRE - RQQTC",{"$f":"LEFT(BU1695,3)","v":"RQQ"},null,null,"QUEEN ELIZABETH HOSPITAL - RR7EN","Ward 25 Jubilee Wing"]
[null,null,null,null,null,null,null,null,null,null,null,null,null,null,null,null,null,null,null,null,null,null,null,null,null,null,null,null,null,null,null,null,null,null,null,null,null,null,null,null,null,null,null,null,null,null,null,null,null,null,null,null,null,null,null,null,null,null,null,null,null,null,null,null,null,null,null,null,null,"RQWST. MARGARET'S HOSPITAL - RQWG1","RQWG1","ST. MARGARET'S HOSPITAL - RQWG1","RQWG1","ST. MARGARET'S HOSPITAL - RQWG1","RQW",null,null,"GEORGE ELIOT HOSPITAL - ACUTE SERVICES","AMU"]
[null,null,null,null,null,null,null,null,null,null,null,null,null,null,null,null,null,null,null,null,null,null,null,null,null,null,null,null,null,null,null,null,null,null,null,null,null,null,null,null,null,null,null,null,null,null,null,null,null,null,null,null,null,null,null,null,null,null,null,null,null,null,null,null,null,null,null,null,null,"RQYKINGSTON C.A.D.T","RQYDF","KINGSTON C.A.D.T","RQYDF","KINGSTON C.A.D.T","RQY",null,null,"CIRENCESTER HOSPITAL","Coln"]
[null,null,null,null,null,null,null,null,null,null,null,null,null,null,null,null,null,null,null,null,null,null,null,null,null,null,null,null,null,null,null,null,null,null,null,null,null,null,null,null,null,null,null,null,null,null,null,null,null,null,null,null,null,null,null,null,null,null,null,null,null,null,null,null,null,null,null,null,null,"RQYP.A.D.S","RQYPA","P.A.D.S","RQYPA","P.A.D.S","RQY",null,null,"CHELTENHAM GENERAL HOSPITAL - RTE01","ACUC"]
[null,null,null,null,null,null,null,null,null,null,null,null,null,null,null,null,null,null,null,null,null,null,null,null,null,null,null,null,null,null,null,null,null,null,null,null,null,null,null,null,null,null,null,null,null,null,null,null,null,null,null,null,null,null,null,null,null,null,null,null,null,null,null,null,null,null,null,null,null,"RQYSUTTON C.D.T","RQYDD","SUTTON C.D.T","RQYDD","SUTTON C.D.T","RQY",null,null,"CHELTENHAM GENERAL HOSPITAL - RTE01","LILLEYBROOK"]
[null,null,null,null,null,null,null,null,null,null,null,null,null,null,null,null,null,null,null,null,null,null,null,null,null,null,null,null,null,null,null,null,null,null,null,null,null,null,null,null,null,null,null,null,null,null,null,null,null,null,null,null,null,null,null,null,null,null,null,null,null,null,null,null,null,null,null,null,null,"RR7QUEEN ELIZABETH HOSPITAL - RR7EN","RR7EN","QUEEN ELIZABETH HOSPITAL - RR7EN","RR7EN","QUEEN ELIZABETH HOSPITAL - RR7EN","RR7",null,null,"GLOUCESTERSHIRE ROYAL HOSPITAL - RTE03","5A/SAU"]
[null,null,null,null,null,null,null,null,null,null,null,null,null,null,null,null,null,null,null,null,null,null,null,null,null,null,null,null,null,null,null,null,null,null,null,null,null,null,null,null,null,null,null,null,null,null,null,null,null,null,null,null,null,null,null,null,null,null,null,null,null,null,null,null,null,null,null,null,null,"RR8NEW HALL SURGERY - RR865","RR865","NEW HALL SURGERY - RR865","RR865","NEW HALL SURGERY - RR865","RR8",null,null,"GLOUCESTERSHIRE ROYAL HOSPITAL - RTE03","9B"]
[null,null,null,null,null,null,null,null,null,null,null,null,null,null,null,null,null,null,null,null,null,null,null,null,null,null,null,null,null,null,null,null,null,null,null,null,null,null,null,null,null,null,null,null,null,null,null,null,null,null,null,null,null,null,null,null,null,null,null,null,null,null,null,null,null,null,null,null,null,"RRDCOLCHESTER - THE LAKES","RRDE1","COLCHESTER - THE LAKES","RRDE1","COLCHESTER - THE LAKES","RRD",null,null,"GREAT ORMOND STREET HOSPITAL CENTRAL LONDON SITE","Kangaroo Ward"]
[null,null,null,null,null,null,null,null,null,null,null,null,null,null,null,null,null,null,null,null,null,null,null,null,null,null,null,null,null,null,null,null,null,null,null,null,null,null,null,null,null,null,null,null,null,null,null,null,null,null,null,null,null,null,null,null,null,null,null,null,null,null,null,null,null,null,null,null,null,"RRECHILDRENS","RRER4","CHILDRENS","RRER4","CHILDRENS","RRE",null,null,"THE GREAT WESTERN HOSPITAL","Beech & EPU"]
[null,null,null,null,null,null,null,null,null,null,null,null,null,null,null,null,null,null,null,null,null,null,null,null,null,null,null,null,null,null,null,null,null,null,null,null,null,null,null,null,null,null,null,null,null,null,null,null,null,null,null,null,null,null,null,null,null,null,null,null,null,null,null,null,null,null,null,null,null,"RREINCLUSION","RRET4","INCLUSION","RRET4","INCLUSION","RRE",null,null,"THE GREAT WESTERN HOSPITAL","Meldon"]
[null,null,null,null,null,null,null,null,null,null,null,null,null,null,null,null,null,null,null,null,null,null,null,null,null,null,null,null,null,null,null,null,null,null,null,null,null,null,null,null,null,null,null,null,null,null,null,null,null,null,null,null,null,null,null,null,null,null,null,null,null,null,null,null,null,null,null,null,null,"RREOLDER PEOPLE 10","RREV3","OLDER PEOPLE 10","RREV3","OLDER PEOPLE 10","RRE",null,null,"BRAMLEY STREET REHABILITATION UNIT","Bramley Street"]
[null,null,null,null,null,null,null,null,null,null,null,null,null,null,null,null,null,null,null,null,null,null,null,null,null,null,null,null,null,null,null,null,null,null,null,null,null,null,null,null,null,null,null,null,null,null,null,null,null,null,null,null,null,null,null,null,null,null,null,null,null,null,null,null,null,null,null,null,null,"RRESHELTON HOSPITAL","RRED9","SHELTON HOSPITAL","RRED9","SHELTON HOSPITAL",{"$f":"LEFT(BU1823,3)","v":"RRE"},null,null,"MEADOWBROOK HOSPITAL - SALFORD MH","Keats Ward"]
[null,null,null,null,null,null,null,null,null,null,null,null,null,null,null,null,null,null,null,null,null,null,null,null,null,null,null,null,null,null,null,null,null,null,null,null,null,null,null,null,null,null,null,null,null,null,null,null,null,null,null,null,null,null,null,null,null,null,null,null,null,null,null,null,null,null,null,null,null,"RRESUSTAIN","RRED7","SUSTAIN","RRED7","SUSTAIN","RRE",null,null,"PARK HOUSE SERVICES","Poplar"]
[null,null,null,null,null,null,null,null,null,null,null,null,null,null,null,null,null,null,null,null,null,null,null,null,null,null,null,null,null,null,null,null,null,null,null,null,null,null,null,null,null,null,null,null,null,null,null,null,null,null,null,null,null,null,null,null,null,null,null,null,null,null,null,null,null,null,null,null,null,"RREUNITS 5 AND 6 ASHFIELDS","RREA3","UNITS 5 AND 6 ASHFIELDS","RREA3","UNITS 5 AND 6 ASHFIELDS","RRE",null,null,"PRESTWICH HOSPITAL","Eskdale Ward"]
[null,null,null,null,null,null,null,null,null,null,null,null,null,null,null,null,null,null,null,null,null,null,null,null,null,null,null,null,null,null,null,null,null,null,null,null,null,null,null,null,null,null,null,null,null,null,null,null,null,null,null,null,null,null,null,null,null,null,null,null,null,null,null,null,null,null,null,null,null,"RRFBILLINGE HOSPITAL - RRF06","RRF06","BILLINGE HOSPITAL - RRF06","RRF06","BILLINGE HOSPITAL - RRF06","RRF",null,null,"PRESTWICH HOSPITAL","Keswick Ward"]
[null,null,null,null,null,null,null,null,null,null,null,null,null,null,null,null,null,null,null,null,null,null,null,null,null,null,null,null,null,null,null,null,null,null,null,null,null,null,null,null,null,null,null,null,null,null,null,null,null,null,null,null,null,null,null,null,null,null,null,null,null,null,null,null,null,null,null,null,null,"RRKQUEEN ELIZABETH HOSPITAL BIRMINGHAM - RRK15","RRK15","QUEEN ELIZABETH HOSPITAL BIRMINGHAM - RRK15","RRK15","QUEEN ELIZABETH HOSPITAL BIRMINGHAM - RRK15","RRK",null,null,"WOODLANDS HOSPITAL","Holly Ward"]
[null,null,null,null,null,null,null,null,null,null,null,null,null,null,null,null,null,null,null,null,null,null,null,null,null,null,null,null,null,null,null,null,null,null,null,null,null,null,null,null,null,null,null,null,null,null,null,null,null,null,null,null,null,null,null,null,null,null,null,null,null,null,null,null,null,null,null,null,null,"RRPST ANN'S HOSPITAL","RRP46","ST ANN'S HOSPITAL","RRP46","ST ANN'S HOSPITAL","RRP",null,null,"ST THOMAS' HOSPITAL","Ante Natal Ward"]
[null,null,null,null,null,null,null,null,null,null,null,null,null,null,null,null,null,null,null,null,null,null,null,null,null,null,null,null,null,null,null,null,null,null,null,null,null,null,null,null,null,null,null,null,null,null,null,null,null,null,null,null,null,null,null,null,null,null,null,null,null,null,null,null,null,null,null,null,null,"RRVTHE ROYAL LONDON HOSPITAL FOR INTEGRATED MEDICINE - RRV60","RRV60","THE ROYAL LONDON HOSPITAL FOR INTEGRATED MEDICINE - RRV60","RRV60","THE ROYAL LONDON HOSPITAL FOR INTEGRATED MEDICINE - RRV60","RRV",null,null,"ST THOMAS' HOSPITAL","Henry"]
[null,null,null,null,null,null,null,null,null,null,null,null,null,null,null,null,null,null,null,null,null,null,null,null,null,null,null,null,null,null,null,null,null,null,null,null,null,null,null,null,null,null,null,null,null,null,null,null,null,null,null,null,null,null,null,null,null,null,null,null,null,null,null,null,null,null,null,null,null,"RT1CADS PETERBOROUGH","RT173","CADS PETERBOROUGH","RT173","CADS PETERBOROUGH","RT1",null,null,"ST THOMAS' HOSPITAL","Sarah Swift"]
[null,null,null,null,null,null,null,null,null,null,null,null,null,null,null,null,null,null,null,null,null,null,null,null,null,null,null,null,null,null,null,null,null,null,null,null,null,null,null,null,null,null,null,null,null,null,null,null,null,null,null,null,null,null,null,null,null,null,null,null,null,null,null,null,null,null,null,null,null,"RT1COMMUNITY ALCOHOL AND DRUGS","RT121","COMMUNITY ALCOHOL AND DRUGS","RT121","COMMUNITY ALCOHOL AND DRUGS","RT1",null,null,"ANDOVER WAR MEMORIAL HOSPITAL","Kingfisher"]
[null,null,null,null,null,null,null,null,null,null,null,null,null,null,null,null,null,null,null,null,null,null,null,null,null,null,null,null,null,null,null,null,null,null,null,null,null,null,null,null,null,null,null,null,null,null,null,null,null,null,null,null,null,null,null,null,null,null,null,null,null,null,null,null,null,null,null,null,null,"RT1E CAMBS AND FENLAND LD","RT1EE","E CAMBS AND FENLAND LD","RT1EE","E CAMBS AND FENLAND LD","RT1",null,null,"BASINGSTOKE AND NORTH HAMPSHIRE HOSPITAL","Critical Care BNH"]
[null,null,null,null,null,null,null,null,null,null,null,null,null,null,null,null,null,null,null,null,null,null,null,null,null,null,null,null,null,null,null,null,null,null,null,null,null,null,null,null,null,null,null,null,null,null,null,null,null,null,null,null,null,null,null,null,null,null,null,null,null,null,null,null,null,null,null,null,null,"RT1MARU","RT1DP","MARU","RT1DP","MARU","RT1",null,null,"BASINGSTOKE AND NORTH HAMPSHIRE HOSPITAL","Overton Ward"]
[null,null,null,null,null,null,null,null,null,null,null,null,null,null,null,null,null,null,null,null,null,null,null,null,null,null,null,null,null,null,null,null,null,null,null,null,null,null,null,null,null,null,null,null,null,null,null,null,null,null,null,null,null,null,null,null,null,null,null,null,null,null,null,null,null,null,null,null,null,"RT1PETERBOROUGH OPMH","RT1DC","PETERBOROUGH OPMH","RT1DC","PETERBOROUGH OPMH",{"$f":"LEFT(BU1951,3)","v":"RT1"},null,null,"ROYAL HAMPSHIRE COUNTY HOSPITAL","Kemp Welch"]
[null,null,null,null,null,null,null,null,null,null,null,null,null,null,null,null,null,null,null,null,null,null,null,null,null,null,null,null,null,null,null,null,null,null,null,null,null,null,null,null,null,null,null,null,null,null,null,null,null,null,null,null,null,null,null,null,null,null,null,null,null,null,null,null,null,null,null,null,null,"RT1WHITTLESEY COMMUNITY HOME","RT120","WHITTLESEY COMMUNITY HOME","RT120","WHITTLESEY COMMUNITY HOME","RT1",null,null,"HARROGATE DISTRICT HOSPITAL","Farndale"]
[null,null,null,null,null,null,null,null,null,null,null,null,null,null,null,null,null,null,null,null,null,null,null,null,null,null,null,null,null,null,null,null,null,null,null,null,null,null,null,null,null,null,null,null,null,null,null,null,null,null,null,null,null,null,null,null,null,null,null,null,null,null,null,null,null,null,null,null,null,"RT2OLDER PEOPLE'S DAY HOSPITAL","RT284","OLDER PEOPLE'S DAY HOSPITAL","RT284","OLDER PEOPLE'S DAY HOSPITAL","RT2",null,null,"LANGLEY HOUSE","Langley"]
[null,null,null,null,null,null,null,null,null,null,null,null,null,null,null,null,null,null,null,null,null,null,null,null,null,null,null,null,null,null,null,null,null,null,null,null,null,null,null,null,null,null,null,null,null,null,null,null,null,null,null,null,null,null,null,null,null,null,null,null,null,null,null,null,null,null,null,null,null,"RT2THE MEADOWS (OLD AGE PSYCHIATRY UNIT)","RT208","THE MEADOWS (OLD AGE PSYCHIATRY UNIT)","RT208","THE MEADOWS (OLD AGE PSYCHIATRY UNIT)","RT2",null,null,"KINGSLEY GREEN","Dove"]
[null,null,null,null,null,null,null,null,null,null,null,null,null,null,null,null,null,null,null,null,null,null,null,null,null,null,null,null,null,null,null,null,null,null,null,null,null,null,null,null,null,null,null,null,null,null,null,null,null,null,null,null,null,null,null,null,null,null,null,null,null,null,null,null,null,null,null,null,null,"RT5BRACKEN BUILDING","RT522","BRACKEN BUILDING","RT522","BRACKEN BUILDING","RT5",null,null,"LOGANDENE EMI UNIT","Logandene"]
[null,null,null,null,null,null,null,null,null,null,null,null,null,null,null,null,null,null,null,null,null,null,null,null,null,null,null,null,null,null,null,null,null,null,null,null,null,null,null,null,null,null,null,null,null,null,null,null,null,null,null,null,null,null,null,null,null,null,null,null,null,null,null,null,null,null,null,null,null,"RT5CHARNWOOD 3 (EPMA)","RT5D5","CHARNWOOD 3 (EPMA)","RT5D5","CHARNWOOD 3 (EPMA)","RT5",null,null,"HOMERTON UNIVERSITY HOSPITAL - RQXM1","Graham"]
[null,null,null,null,null,null,null,null,null,null,null,null,null,null,null,null,null,null,null,null,null,null,null,null,null,null,null,null,null,null,null,null,null,null,null,null,null,null,null,null,null,null,null,null,null,null,null,null,null,null,null,null,null,null,null,null,null,null,null,null,null,null,null,null,null,null,null,null,null,"RT5CITY EAST 1 (EPMA)","RT5E6","CITY EAST 1 (EPMA)","RT5E6","CITY EAST 1 (EPMA)","RT5",null,null,"CASTLE HILL HOSPITAL","C07"]
[null,null,null,null,null,null,null,null,null,null,null,null,null,null,null,null,null,null,null,null,null,null,null,null,null,null,null,null,null,null,null,null,null,null,null,null,null,null,null,null,null,null,null,null,null,null,null,null,null,null,null,null,null,null,null,null,null,null,null,null,null,null,null,null,null,null,null,null,null,"RT5CITY WEST 2","RT5F4","CITY WEST 2","RT5F4","CITY WEST 2","RT5",null,null,"CASTLE HILL HOSPITAL","C19"]
[null,null,null,null,null,null,null,null,null,null,null,null,null,null,null,null,null,null,null,null,null,null,null,null,null,null,null,null,null,null,null,null,null,null,null,null,null,null,null,null,null,null,null,null,null,null,null,null,null,null,null,null,null,null,null,null,null,null,null,null,null,null,null,null,null,null,null,null,null,"RT5COGNITIVE BEHAVIOURAL THERAPY","RT512","COGNITIVE BEHAVIOURAL THERAPY","RT512","COGNITIVE BEHAVIOURAL THERAPY","RT5",null,null,"CASTLE HILL HOSPITAL","C30"]
[null,null,null,null,null,null,null,null,null,null,null,null,null,null,null,null,null,null,null,null,null,null,null,null,null,null,null,null,null,null,null,null,null,null,null,null,null,null,null,null,null,null,null,null,null,null,null,null,null,null,null,null,null,null,null,null,null,null,null,null,null,null,null,null,null,null,null,null,null,"RT5EATING DISORDERS 4","RT53C","EATING DISORDERS 4","RT53C","EATING DISORDERS 4","RT5",null,null,"CASTLE HILL HOSPITAL","CDC4"]
[null,null,null,null,null,null,null,null,null,null,null,null,null,null,null,null,null,null,null,null,null,null,null,null,null,null,null,null,null,null,null,null,null,null,null,null,null,null,null,null,null,null,null,null,null,null,null,null,null,null,null,null,null,null,null,null,null,null,null,null,null,null,null,null,null,null,null,null,null,"RT5HINCKLEY AND BOSWORTH 2 (EPMA)","RT5H3","HINCKLEY AND BOSWORTH 2 (EPMA)","RT5H3","HINCKLEY AND BOSWORTH 2 (EPMA)","RT5",null,null,"HULL ROYAL INFIRMARY","130E"]
[null,null,null,null,null,null,null,null,null,null,null,null,null,null,null,null,null,null,null,null,null,null,null,null,null,null,null,null,null,null,null,null,null,null,null,null,null,null,null,null,null,null,null,null,null,null,null,null,null,null,null,null,null,null,null,null,null,null,null,null,null,null,null,null,null,null,null,null,null,"RT5LD 2 (EPMA)","RT56C","LD 2 (EPMA)","RT56C","LD 2 (EPMA)","RT5",null,null,"HULL ROYAL INFIRMARY","C4"]
[null,null,null,null,null,null,null,null,null,null,null,null,null,null,null,null,null,null,null,null,null,null,null,null,null,null,null,null,null,null,null,null,null,null,null,null,null,null,null,null,null,null,null,null,null,null,null,null,null,null,null,null,null,null,null,null,null,null,null,null,null,null,null,null,null,null,null,null,null,"RT5LEICESTER FRITH (GARAGES)","RT5MM","LEICESTER FRITH (GARAGES)","RT5MM","LEICESTER FRITH (GARAGES)","RT5",null,null,"HULL ROYAL INFIRMARY","H11"]
[null,null,null,null,null,null,null,null,null,null,null,null,null,null,null,null,null,null,null,null,null,null,null,null,null,null,null,null,null,null,null,null,null,null,null,null,null,null,null,null,null,null,null,null,null,null,null,null,null,null,null,null,null,null,null,null,null,null,null,null,null,null,null,null,null,null,null,null,null,"RT5LEICESTER FRITH HOSPITAL (EPMA)","RT5X1","LEICESTER FRITH HOSPITAL (EPMA)","RT5X1","LEICESTER FRITH HOSPITAL (EPMA)","RT5",null,null,"HULL ROYAL INFIRMARY","H21"]
[null,null,null,null,null,null,null,null,null,null,null,null,null,null,null,null,null,null,null,null,null,null,null,null,null,null,null,null,null,null,null,null,null,null,null,null,null,null,null,null,null,null,null,null,null,null,null,null,null,null,null,null,null,null,null,null,null,null,null,null,null,null,null,null,null,null,null,null,null,"RT5MHSOP 11","RT5A9","MHSOP 11","RT5A9","MHSOP 11","RT5",null,null,"HULL ROYAL INFIRMARY","H4"]
[null,null,null,null,null,null,null,null,null,null,null,null,null,null,null,null,null,null,null,null,null,null,null,null,null,null,null,null,null,null,null,null,null,null,null,null,null,null,null,null,null,null,null,null,null,null,null,null,null,null,null,null,null,null,null,null,null,null,null,null,null,null,null,null,null,null,null,null,null,"RT5MHSOP 15 (EPMA)","RT5WL","MHSOP 15 (EPMA)","RT5WL","MHSOP 15 (EPMA)","RT5",null,null,"HULL ROYAL INFIRMARY","H70"]
[null,null,null,null,null,null,null,null,null,null,null,null,null,null,null,null,null,null,null,null,null,null,null,null,null,null,null,null,null,null,null,null,null,null,null,null,null,null,null,null,null,null,null,null,null,null,null,null,null,null,null,null,null,null,null,null,null,null,null,null,null,null,null,null,null,null,null,null,null,"RT5MHSOP 3","RT5A3","MHSOP 3","RT5A3","MHSOP 3","RT5",null,null,"HULL ROYAL INFIRMARY","HASU"]
[null,null,null,null,null,null,null,null,null,null,null,null,null,null,null,null,null,null,null,null,null,null,null,null,null,null,null,null,null,null,null,null,null,null,null,null,null,null,null,null,null,null,null,null,null,null,null,null,null,null,null,null,null,null,null,null,null,null,null,null,null,null,null,null,null,null,null,null,null,"RT5MHSOP 9 (EPMA)","RT5T7","MHSOP 9 (EPMA)","RT5T7","MHSOP 9 (EPMA)","RT5",null,null,"HULL ROYAL INFIRMARY","HORA"]
[null,null,null,null,null,null,null,null,null,null,null,null,null,null,null,null,null,null,null,null,null,null,null,null,null,null,null,null,null,null,null,null,null,null,null,null,null,null,null,null,null,null,null,null,null,null,null,null,null,null,null,null,null,null,null,null,null,null,null,null,null,null,null,null,null,null,null,null,null,"RT5PSYCHOTHERAPY 3","RT57D","PSYCHOTHERAPY 3","RT57D","PSYCHOTHERAPY 3","RT5",null,null,"HULL ROYAL INFIRMARY","RHDU"]
[null,null,null,null,null,null,null,null,null,null,null,null,null,null,null,null,null,null,null,null,null,null,null,null,null,null,null,null,null,null,null,null,null,null,null,null,null,null,null,null,null,null,null,null,null,null,null,null,null,null,null,null,null,null,null,null,null,null,null,null,null,null,null,null,null,null,null,null,null,"RT5PSYCHOTHERAPY 3 (EPMA)","RT58D","PSYCHOTHERAPY 3 (EPMA)","RT58D","PSYCHOTHERAPY 3 (EPMA)","RT5",null,null,"HULL ROYAL INFIRMARY","SPCU"]
[null,null,null,null,null,null,null,null,null,null,null,null,null,null,null,null,null,null,null,null,null,null,null,null,null,null,null,null,null,null,null,null,null,null,null,null,null,null,null,null,null,null,null,null,null,null,null,null,null,null,null,null,null,null,null,null,null,null,null,null,null,null,null,null,null,null,null,null,null,"RT5THE BRADGATE MENTAL HEALTH UNIT","RT5KF","THE BRADGATE MENTAL HEALTH UNIT","RT5KF","THE BRADGATE MENTAL HEALTH UNIT","RT5",null,null,"WHITBY HOSPITAL","Whitby"]
[null,null,null,null,null,null,null,null,null,null,null,null,null,null,null,null,null,null,null,null,null,null,null,null,null,null,null,null,null,null,null,null,null,null,null,null,null,null,null,null,null,null,null,null,null,null,null,null,null,null,null,null,null,null,null,null,null,null,null,null,null,null,null,null,null,null,null,null,null,"RT5TREATMENT AND RECOVERY 1","RT5L8","TREATMENT AND RECOVERY 1","RT5L8","TREATMENT AND RECOVERY 1","RT5",null,null,"CHARING CROSS HOSPITAL","7 West"]
[null,null,null,null,null,null,null,null,null,null,null,null,null,null,null,null,null,null,null,null,null,null,null,null,null,null,null,null,null,null,null,null,null,null,null,null,null,null,null,null,null,null,null,null,null,null,null,null,null,null,null,null,null,null,null,null,null,null,null,null,null,null,null,null,null,null,null,null,null,"RTDTHE NEWCASTLE FERTILITY CENTRE - RTD08","RTD08","THE NEWCASTLE FERTILITY CENTRE - RTD08","RTD08","THE NEWCASTLE FERTILITY CENTRE - RTD08","RTD",null,null,"HAMMERSMITH HOSPITAL","A6 CICU"]
[null,null,null,null,null,null,null,null,null,null,null,null,null,null,null,null,null,null,null,null,null,null,null,null,null,null,null,null,null,null,null,null,null,null,null,null,null,null,null,null,null,null,null,null,null,null,null,null,null,null,null,null,null,null,null,null,null,null,null,null,null,null,null,null,null,null,null,null,null,"RTECOLEFORD HOUSE - RTE52","RTE52","COLEFORD HOUSE - RTE52","RTE52","COLEFORD HOUSE - RTE52","RTE",null,null,"HAMMERSMITH HOSPITAL","Intensive care HH"]
[null,null,null,null,null,null,null,null,null,null,null,null,null,null,null,null,null,null,null,null,null,null,null,null,null,null,null,null,null,null,null,null,null,null,null,null,null,null,null,null,null,null,null,null,null,null,null,null,null,null,null,null,null,null,null,null,null,null,null,null,null,null,null,null,null,null,null,null,null,"RTEORCHARD MEDICAL CENTRE - RTE44","RTE44","ORCHARD MEDICAL CENTRE - RTE44","RTE44","ORCHARD MEDICAL CENTRE - RTE44","RTE",null,null,"ST MARY'S HOSPITAL (HQ)","GRAND UNION WARD"]
[null,null,null,null,null,null,null,null,null,null,null,null,null,null,null,null,null,null,null,null,null,null,null,null,null,null,null,null,null,null,null,null,null,null,null,null,null,null,null,null,null,null,null,null,null,null,null,null,null,null,null,null,null,null,null,null,null,null,null,null,null,null,null,null,null,null,null,null,null,"RTEST ROSES SPECIAL SCHOOL - RTE45","RTE45","ST ROSES SPECIAL SCHOOL - RTE45","RTE45","ST ROSES SPECIAL SCHOOL - RTE45","RTE",null,null,"ST MARY'S HOSPITAL (HQ)","ISIC SAU"]
[null,null,null,null,null,null,null,null,null,null,null,null,null,null,null,null,null,null,null,null,null,null,null,null,null,null,null,null,null,null,null,null,null,null,null,null,null,null,null,null,null,null,null,null,null,null,null,null,null,null,null,null,null,null,null,null,null,null,null,null,null,null,null,null,null,null,null,null,null,"RTFDENE WARD - RTFDD","RTFDD","DENE WARD - RTFDD","RTFDD","DENE WARD - RTFDD","RTF",null,null,"ST MARY'S HOSPITAL","Maternity Services"]
[null,null,null,null,null,null,null,null,null,null,null,null,null,null,null,null,null,null,null,null,null,null,null,null,null,null,null,null,null,null,null,null,null,null,null,null,null,null,null,null,null,null,null,null,null,null,null,null,null,null,null,null,null,null,null,null,null,null,null,null,null,null,null,null,null,null,null,null,null,"RTFHALTWHISTLE WAR MEMORIAL HOSPITAL - RTFDU","RTFDU","HALTWHISTLE WAR MEMORIAL HOSPITAL - RTFDU","RTFDU","HALTWHISTLE WAR MEMORIAL HOSPITAL - RTFDU","RTF",null,null,"ST MARY'S HOSPITAL","Mottistone Ward"]
[null,null,null,null,null,null,null,null,null,null,null,null,null,null,null,null,null,null,null,null,null,null,null,null,null,null,null,null,null,null,null,null,null,null,null,null,null,null,null,null,null,null,null,null,null,null,null,null,null,null,null,null,null,null,null,null,null,null,null,null,null,null,null,null,null,null,null,null,null,"RTGROYAL DERBY HOSPITAL - RTGFG","RTGFG","ROYAL DERBY HOSPITAL - RTGFG","RTGFG","ROYAL DERBY HOSPITAL - RTGFG","RTG",null,null,"JAMES PAGET UNIVERSITY HOSPITAL","JPH Ward 15"]
[null,null,null,null,null,null,null,null,null,null,null,null,null,null,null,null,null,null,null,null,null,null,null,null,null,null,null,null,null,null,null,null,null,null,null,null,null,null,null,null,null,null,null,null,null,null,null,null,null,null,null,null,null,null,null,null,null,null,null,null,null,null,null,null,null,null,null,null,null,"RTHBRISTOL RENAL - RTHC8","RTHC8","BRISTOL RENAL - RTHC8","RTHC8","BRISTOL RENAL - RTHC8","RTH",null,null,"JAMES PAGET UNIVERSITY HOSPITAL","JPH Ward 7"]
[null,null,null,null,null,null,null,null,null,null,null,null,null,null,null,null,null,null,null,null,null,null,null,null,null,null,null,null,null,null,null,null,null,null,null,null,null,null,null,null,null,null,null,null,null,null,null,null,null,null,null,null,null,null,null,null,null,null,null,null,null,null,null,null,null,null,null,null,null,"RTHMARIE STOPES CENTRE - READING","RTHF2","MARIE STOPES CENTRE - READING","RTHF2","MARIE STOPES CENTRE - READING","RTH",null,null,"GREENACRES","South Central EDMBU"]
[null,null,null,null,null,null,null,null,null,null,null,null,null,null,null,null,null,null,null,null,null,null,null,null,null,null,null,null,null,null,null,null,null,null,null,null,null,null,null,null,null,null,null,null,null,null,null,null,null,null,null,null,null,null,null,null,null,null,null,null,null,null,null,null,null,null,null,null,null,"RTHWEST BAR SURGERY, BANBURY","RTHD8","WEST BAR SURGERY, BANBURY","RTHD8","WEST BAR SURGERY, BANBURY","RTH",null,null,"MAIDSTONE HOSPITAL","Upnor Ward"]
[null,null,null,null,null,null,null,null,null,null,null,null,null,null,null,null,null,null,null,null,null,null,null,null,null,null,null,null,null,null,null,null,null,null,null,null,null,null,null,null,null,null,null,null,null,null,null,null,null,null,null,null,null,null,null,null,null,null,null,null,null,null,null,null,null,null,null,null,null,"RTKMOUNT ALVERNIA HOSPITAL","RTK51","MOUNT ALVERNIA HOSPITAL","RTK51","MOUNT ALVERNIA HOSPITAL","RTK",null,null,"EDENBRIDGE HOSPITAL","Hever/ Chartwell"]
[null,null,null,null,null,null,null,null,null,null,null,null,null,null,null,null,null,null,null,null,null,null,null,null,null,null,null,null,null,null,null,null,null,null,null,null,null,null,null,null,null,null,null,null,null,null,null,null,null,null,null,null,null,null,null,null,null,null,null,null,null,null,null,null,null,null,null,null,null,"RTKST PETER'S HOSPITAL","RTK01","ST PETER'S HOSPITAL","RTK01","ST PETER'S HOSPITAL","RTK",null,null,"KETTERING GENERAL HOSPITAL","Ashton"]
[null,null,null,null,null,null,null,null,null,null,null,null,null,null,null,null,null,null,null,null,null,null,null,null,null,null,null,null,null,null,null,null,null,null,null,null,null,null,null,null,null,null,null,null,null,null,null,null,null,null,null,null,null,null,null,null,null,null,null,null,null,null,null,null,null,null,null,null,null,"RTPOXTED AND LIMPSFIELD HOSPITAL","RTP07","OXTED AND LIMPSFIELD HOSPITAL","RTP07","OXTED AND LIMPSFIELD HOSPITAL","RTP",null,null,"KETTERING GENERAL HOSPITAL","Rowan"]
[null,null,null,null,null,null,null,null,null,null,null,null,null,null,null,null,null,null,null,null,null,null,null,null,null,null,null,null,null,null,null,null,null,null,null,null,null,null,null,null,null,null,null,null,null,null,null,null,null,null,null,null,null,null,null,null,null,null,null,null,null,null,null,null,null,null,null,null,null,"RTPREDWOOD DIAGNOSTIC TREATMENT CENTRE","RTP21","REDWOOD DIAGNOSTIC TREATMENT CENTRE","RTP21","REDWOOD DIAGNOSTIC TREATMENT CENTRE","RTP",null,null,"KETTERING GENERAL HOSPITAL","Skylark"]
[null,null,null,null,null,null,null,null,null,null,null,null,null,null,null,null,null,null,null,null,null,null,null,null,null,null,null,null,null,null,null,null,null,null,null,null,null,null,null,null,null,null,null,null,null,null,null,null,null,null,null,null,null,null,null,null,null,null,null,null,null,null,null,null,null,null,null,null,null,"RTQHILLSIDE INTERMEDIATE CARE UNIT","RTQHG","HILLSIDE INTERMEDIATE CARE UNIT","RTQHG","HILLSIDE INTERMEDIATE CARE UNIT","RTQ",null,null,"KING'S COLLEGE HOSPITAL (DENMARK HILL)","Howard Ward"]
[null,null,null,null,null,null,null,null,null,null,null,null,null,null,null,null,null,null,null,null,null,null,null,null,null,null,null,null,null,null,null,null,null,null,null,null,null,null,null,null,null,null,null,null,null,null,null,null,null,null,null,null,null,null,null,null,null,null,null,null,null,null,null,null,null,null,null,null,null,"RTQROSS ON WYE COMMUNITY HOSPITAL","RTQHF","ROSS ON WYE COMMUNITY HOSPITAL","RTQHF","ROSS ON WYE COMMUNITY HOSPITAL","RTQ",null,null,"KING'S COLLEGE HOSPITAL (DENMARK HILL)","Neonatal Intensive Care Unit"]
[null,null,null,null,null,null,null,null,null,null,null,null,null,null,null,null,null,null,null,null,null,null,null,null,null,null,null,null,null,null,null,null,null,null,null,null,null,null,null,null,null,null,null,null,null,null,null,null,null,null,null,null,null,null,null,null,null,null,null,null,null,null,null,null,null,null,null,null,null,"RTQUNDERLEAF","RTQ23","UNDERLEAF","RTQ23","UNDERLEAF","RTQ",null,null,"KING'S COLLEGE HOSPITAL (DENMARK HILL)","Toni & Guy Ward"]
[null,null,null,null,null,null,null,null,null,null,null,null,null,null,null,null,null,null,null,null,null,null,null,null,null,null,null,null,null,null,null,null,null,null,null,null,null,null,null,null,null,null,null,null,null,null,null,null,null,null,null,null,null,null,null,null,null,null,null,null,null,null,null,null,null,null,null,null,null,"RTRDUCHESS OF KENT HOSPITAL","RTR09","DUCHESS OF KENT HOSPITAL","RTR09","DUCHESS OF KENT HOSPITAL","RTR",null,null,"ORPINGTON HOSPITAL","Frank Cooksey Ward (ORP)"]
[null,null,null,null,null,null,null,null,null,null,null,null,null,null,null,null,null,null,null,null,null,null,null,null,null,null,null,null,null,null,null,null,null,null,null,null,null,null,null,null,null,null,null,null,null,null,null,null,null,null,null,null,null,null,null,null,null,null,null,null,null,null,null,null,null,null,null,null,null,"RTRTHE JAMES COOK UNIVERSITY HOSPITAL","RTRAT","THE JAMES COOK UNIVERSITY HOSPITAL","RTRAT","THE JAMES COOK UNIVERSITY HOSPITAL","RTR",null,null,"PRINCESS ROYAL UNIVERSITY HOSPITAL","Medical Ward 3"]
[null,null,null,null,null,null,null,null,null,null,null,null,null,null,null,null,null,null,null,null,null,null,null,null,null,null,null,null,null,null,null,null,null,null,null,null,null,null,null,null,null,null,null,null,null,null,null,null,null,null,null,null,null,null,null,null,null,null,null,null,null,null,null,null,null,null,null,null,null,"RTVHAZELMERE UNIT","RTV73","HAZELMERE UNIT","RTV73","HAZELMERE UNIT","RTV",null,null,"PRINCESS ROYAL UNIVERSITY HOSPITAL","Surgical Ward 3"]
[null,null,null,null,null,null,null,null,null,null,null,null,null,null,null,null,null,null,null,null,null,null,null,null,null,null,null,null,null,null,null,null,null,null,null,null,null,null,null,null,null,null,null,null,null,null,null,null,null,null,null,null,null,null,null,null,null,null,null,null,null,null,null,null,null,null,null,null,null,"RTVSTEPHENSON SUITE - WHISTON HOSPITAL","RTV55","STEPHENSON SUITE - WHISTON HOSPITAL","RTV55","STEPHENSON SUITE - WHISTON HOSPITAL","RTV",null,null,"KINGSTON HOSPITAL","Neonatal Unit"]
[null,null,null,null,null,null,null,null,null,null,null,null,null,null,null,null,null,null,null,null,null,null,null,null,null,null,null,null,null,null,null,null,null,null,null,null,null,null,null,null,null,null,null,null,null,null,null,null,null,null,null,null,null,null,null,null,null,null,null,null,null,null,null,null,null,null,null,null,null,"RTVSTEWART DAY HOSPITAL","RTV71","STEWART DAY HOSPITAL","RTV71","STEWART DAY HOSPITAL","RTV",null,null,"KINGSTON HOSPITAL","Sunshine"]
[null,null,null,null,null,null,null,null,null,null,null,null,null,null,null,null,null,null,null,null,null,null,null,null,null,null,null,null,null,null,null,null,null,null,null,null,null,null,null,null,null,null,null,null,null,null,null,null,null,null,null,null,null,null,null,null,null,null,null,null,null,null,null,null,null,null,null,null,null,"RV3CHILD & ADOLESCENT PSYCHIATRY","RV3J2","CHILD & ADOLESCENT PSYCHIATRY","RV3J2","CHILD & ADOLESCENT PSYCHIATRY","RV3",null,null,"ORMSKIRK AND DISTRICT GENERAL HOSPITAL","L7010 Scarisbrick Mental Health Inpatients (25-65)"]
[null,null,null,null,null,null,null,null,null,null,null,null,null,null,null,null,null,null,null,null,null,null,null,null,null,null,null,null,null,null,null,null,null,null,null,null,null,null,null,null,null,null,null,null,null,null,null,null,null,null,null,null,null,null,null,null,null,null,null,null,null,null,null,null,null,null,null,null,null,"RV3KINGSTON DAY NURSERY","RV3HG","KINGSTON DAY NURSERY","RV3HG","KINGSTON DAY NURSERY","RV3",null,null,"THE HARBOUR","L5094 Harbour - Churchill Ward (25-65)"]
[null,null,null,null,null,null,null,null,null,null,null,null,null,null,null,null,null,null,null,null,null,null,null,null,null,null,null,null,null,null,null,null,null,null,null,null,null,null,null,null,null,null,null,null,null,null,null,null,null,null,null,null,null,null,null,null,null,null,null,null,null,null,null,null,null,null,null,null,null,"RV3NORTHWOOD & PINNER COMMUNITY UNIT","RV3FD","NORTHWOOD & PINNER COMMUNITY UNIT","RV3FD","NORTHWOOD & PINNER COMMUNITY UNIT","RV3",null,null,"CHORLEY AND SOUTH RIBBLE HOSPITAL","Brindle Ward (Gastro)"]
[null,null,null,null,null,null,null,null,null,null,null,null,null,null,null,null,null,null,null,null,null,null,null,null,null,null,null,null,null,null,null,null,null,null,null,null,null,null,null,null,null,null,null,null,null,null,null,null,null,null,null,null,null,null,null,null,null,null,null,null,null,null,null,null,null,null,null,null,null,"RV3ST MARY'S HOSPITAL","RV3CP","ST MARY'S HOSPITAL","RV3CP","ST MARY'S HOSPITAL","RV3",null,null,"ROYAL PRESTON HOSPITAL","CCU RPH"]
[null,null,null,null,null,null,null,null,null,null,null,null,null,null,null,null,null,null,null,null,null,null,null,null,null,null,null,null,null,null,null,null,null,null,null,null,null,null,null,null,null,null,null,null,null,null,null,null,null,null,null,null,null,null,null,null,null,null,null,null,null,null,null,null,null,null,null,null,null,"RV5CANE HILL UNIT","RV575","CANE HILL UNIT","RV575","CANE HILL UNIT","RV5",null,null,"ROYAL PRESTON HOSPITAL","Ward 14"]
[null,null,null,null,null,null,null,null,null,null,null,null,null,null,null,null,null,null,null,null,null,null,null,null,null,null,null,null,null,null,null,null,null,null,null,null,null,null,null,null,null,null,null,null,null,null,null,null,null,null,null,null,null,null,null,null,null,null,null,null,null,null,null,null,null,null,null,null,null,"RV5DOMUS GRANVILLE PARK","RV5KT","DOMUS GRANVILLE PARK","RV5KT","DOMUS GRANVILLE PARK","RV5",null,null,"ROYAL PRESTON HOSPITAL","Ward 25"]
[null,null,null,null,null,null,null,null,null,null,null,null,null,null,null,null,null,null,null,null,null,null,null,null,null,null,null,null,null,null,null,null,null,null,null,null,null,null,null,null,null,null,null,null,null,null,null,null,null,null,null,null,null,null,null,null,null,null,null,null,null,null,null,null,null,null,null,null,null,"RV5NEURO & MEM DISORDERS","RV5DC","NEURO & MEM DISORDERS","RV5DC","NEURO & MEM DISORDERS","RV5",null,null,"NEWSAM CENTRE","NEWSAM WARD 2 WOMENS SERVICES"]
[null,null,null,null,null,null,null,null,null,null,null,null,null,null,null,null,null,null,null,null,null,null,null,null,null,null,null,null,null,null,null,null,null,null,null,null,null,null,null,null,null,null,null,null,null,null,null,null,null,null,null,null,null,null,null,null,null,null,null,null,null,null,null,null,null,null,null,null,null,"RV5THE LADYWELL UNIT","RV509","THE LADYWELL UNIT","RV509","THE LADYWELL UNIT","RV5",null,null,"ST MARY'S HOSPITAL","2 WOODLAND SQUARE"]
[null,null,null,null,null,null,null,null,null,null,null,null,null,null,null,null,null,null,null,null,null,null,null,null,null,null,null,null,null,null,null,null,null,null,null,null,null,null,null,null,null,null,null,null,null,null,null,null,null,null,null,null,null,null,null,null,null,null,null,null,null,null,null,null,null,null,null,null,null,{"$f":"CONCATENATE(LEFT(BS2587, 3),BT2587)","v":"RV9CARDIOLOGY (SNEY)"},"RV9JP","CARDIOLOGY (SNEY)","RV9JP","CARDIOLOGY (SNEY)","RV9",null,null,"Leeds General Infirmary - RR801","J08 Elderly Medicine"]
[null,null,null,null,null,null,null,null,null,null,null,null,null,null,null,null,null,null,null,null,null,null,null,null,null,null,null,null,null,null,null,null,null,null,null,null,null,null,null,null,null,null,null,null,null,null,null,null,null,null,null,null,null,null,null,null,null,null,null,null,null,null,null,null,null,null,null,null,null,"RV9ERSDS","RV9D6","ERSDS","RV9D6","ERSDS","RV9",null,null,"Leeds General Infirmary - RR801","J88 Haematology In-patients"]
[null,null,null,null,null,null,null,null,null,null,null,null,null,null,null,null,null,null,null,null,null,null,null,null,null,null,null,null,null,null,null,null,null,null,null,null,null,null,null,null,null,null,null,null,null,null,null,null,null,null,null,null,null,null,null,null,null,null,null,null,null,null,null,null,null,null,null,null,null,"RV9HAWTHORNE CT IN-PATIENT 101720","RV9AG","HAWTHORNE CT IN-PATIENT 101720","RV9AG","HAWTHORNE CT IN-PATIENT 101720","RV9",null,null,"Leeds General Infirmary - RR801","L17 Neurology"]
[null,null,null,null,null,null,null,null,null,null,null,null,null,null,null,null,null,null,null,null,null,null,null,null,null,null,null,null,null,null,null,null,null,null,null,null,null,null,null,null,null,null,null,null,null,null,null,null,null,null,null,null,null,null,null,null,null,null,null,null,null,null,null,null,null,null,null,null,null,"RV9LILAC WARD IN-PATIENT","RV9LT","LILAC WARD IN-PATIENT","RV9LT","LILAC WARD IN-PATIENT","RV9",null,null,"Leeds General Infirmary - RR801","L44 Obstetrics"]
[null,null,null,null,null,null,null,null,null,null,null,null,null,null,null,null,null,null,null,null,null,null,null,null,null,null,null,null,null,null,null,null,null,null,null,null,null,null,null,null,null,null,null,null,null,null,null,null,null,null,null,null,null,null,null,null,null,null,null,null,null,null,null,null,null,null,null,null,null,"RV9PAEDIATRIC MEDICINE (HEY)","RV9JJ","PAEDIATRIC MEDICINE (HEY)","RV9JJ","PAEDIATRIC MEDICINE (HEY)","RV9",null,null,"St James's University Hospital - RR813","J46 Acute General Surgery"]
[null,null,null,null,null,null,null,null,null,null,null,null,null,null,null,null,null,null,null,null,null,null,null,null,null,null,null,null,null,null,null,null,null,null,null,null,null,null,null,null,null,null,null,null,null,null,null,null,null,null,null,null,null,null,null,null,null,null,null,null,null,null,null,null,null,null,null,null,null,"RV9RST ER EAST - BRID","RV9JA","RST ER EAST - BRID","RV9JA","RST ER EAST - BRID","RV9",null,null,"St James's University Hospital - RR813","J92 Gastroenterology Ward"]
[null,null,null,null,null,null,null,null,null,null,null,null,null,null,null,null,null,null,null,null,null,null,null,null,null,null,null,null,null,null,null,null,null,null,null,null,null,null,null,null,null,null,null,null,null,null,null,null,null,null,null,null,null,null,null,null,null,null,null,null,null,null,null,null,null,null,null,null,null,"RV9WHITBY HOSPITAL","RV91W","WHITBY HOSPITAL","RV91W","WHITBY HOSPITAL","RV9",null,null,"St James's University Hospital - RR813","L47 Childrens Intensive Care"]
[null,null,null,null,null,null,null,null,null,null,null,null,null,null,null,null,null,null,null,null,null,null,null,null,null,null,null,null,null,null,null,null,null,null,null,null,null,null,null,null,null,null,null,null,null,null,null,null,null,null,null,null,null,null,null,null,null,null,null,null,null,null,null,null,null,null,null,null,null,"RV9WILLOW GARTH RESIDENTIAL HOME","RV953","WILLOW GARTH RESIDENTIAL HOME","RV953","WILLOW GARTH RESIDENTIAL HOME","RV9",null,null,"St James's University Hospital - RR813","L48H Childrens HDU"]
[null,null,null,null,null,null,null,null,null,null,null,null,null,null,null,null,null,null,null,null,null,null,null,null,null,null,null,null,null,null,null,null,null,null,null,null,null,null,null,null,null,null,null,null,null,null,null,null,null,null,null,null,null,null,null,null,null,null,null,null,null,null,null,null,null,null,null,null,null,"RVNB&NES ADULT","RVNN1","B&NES ADULT","RVNN1","B&NES ADULT","RVN",null,null,"Herschel Prins","Griffin Female PICU"]
[null,null,null,null,null,null,null,null,null,null,null,null,null,null,null,null,null,null,null,null,null,null,null,null,null,null,null,null,null,null,null,null,null,null,null,null,null,null,null,null,null,null,null,null,null,null,null,null,null,null,null,null,null,null,null,null,null,null,null,null,null,null,null,null,null,null,null,null,null,"RVNCENTRAL WILTS AOWA","RVNX3","CENTRAL WILTS AOWA","RVNX3","CENTRAL WILTS AOWA","RVN",null,null,"THE BRADGATE MENTAL HEALTH UNIT","Bosworth"]
[null,null,null,null,null,null,null,null,null,null,null,null,null,null,null,null,null,null,null,null,null,null,null,null,null,null,null,null,null,null,null,null,null,null,null,null,null,null,null,null,null,null,null,null,null,null,null,null,null,null,null,null,null,null,null,null,null,null,null,null,null,null,null,null,null,null,null,null,null,"RVNHILLVIEW LODGE ","RVN2A","HILLVIEW LODGE ","RVN2A","HILLVIEW LODGE ","RVN",null,null,"QUEEN ELIZABETH HOSPITAL","Greenwich Birth Centre"]
[null,null,null,null,null,null,null,null,null,null,null,null,null,null,null,null,null,null,null,null,null,null,null,null,null,null,null,null,null,null,null,null,null,null,null,null,null,null,null,null,null,null,null,null,null,null,null,null,null,null,null,null,null,null,null,null,null,null,null,null,null,null,null,null,null,null,null,null,null,"RVNNORTH SOMERSET OLDER ADULT","RVNT6","NORTH SOMERSET OLDER ADULT","RVNT6","NORTH SOMERSET OLDER ADULT","RVN",null,null,"QUEEN ELIZABETH HOSPITAL","Ward 19"]
[null,null,null,null,null,null,null,null,null,null,null,null,null,null,null,null,null,null,null,null,null,null,null,null,null,null,null,null,null,null,null,null,null,null,null,null,null,null,null,null,null,null,null,null,null,null,null,null,null,null,null,null,null,null,null,null,null,null,null,null,null,null,null,null,null,null,null,null,null,"RVNSWINDON PSYCHOTHERAPY","RVNR2","SWINDON PSYCHOTHERAPY","RVNR2","SWINDON PSYCHOTHERAPY","RVN",null,null,"UNIVERSITY HOSPITAL LEWISHAM","Juniper Ward"]
[null,null,null,null,null,null,null,null,null,null,null,null,null,null,null,null,null,null,null,null,null,null,null,null,null,null,null,null,null,null,null,null,null,null,null,null,null,null,null,null,null,null,null,null,null,null,null,null,null,null,null,null,null,null,null,null,null,null,null,null,null,null,null,null,null,null,null,null,null,"RVNTHE HOLLIES","RVN2P","THE HOLLIES","RVN2P","THE HOLLIES","RVN",null,null,"UNIVERSITY HOSPITAL LEWISHAM","Maple Ward"]
[null,null,null,null,null,null,null,null,null,null,null,null,null,null,null,null,null,null,null,null,null,null,null,null,null,null,null,null,null,null,null,null,null,null,null,null,null,null,null,null,null,null,null,null,null,null,null,null,null,null,null,null,null,null,null,null,null,null,null,null,null,null,null,null,null,null,null,null,null,"RVRNELSON HOSPITAL","RVR04","NELSON HOSPITAL","RVR04","NELSON HOSPITAL","RVR",null,null,"274 SSRH1 MAPLE LODGE REHAB L21525","Maple Lodge"]
[null,null,null,null,null,null,null,null,null,null,null,null,null,null,null,null,null,null,null,null,null,null,null,null,null,null,null,null,null,null,null,null,null,null,null,null,null,null,null,null,null,null,null,null,null,null,null,null,null,null,null,null,null,null,null,null,null,null,null,null,null,null,null,null,null,null,null,null,null,"RVVHOLLINGTON SURGERY","RVV86","HOLLINGTON SURGERY","RVV86","HOLLINGTON SURGERY","RVV",null,null,"MENTAL HEALTH LONG TERM REHABILITATION & DAY HOSPITAL","The Wolds"]
[null,null,null,null,null,null,null,null,null,null,null,null,null,null,null,null,null,null,null,null,null,null,null,null,null,null,null,null,null,null,null,null,null,null,null,null,null,null,null,null,null,null,null,null,null,null,null,null,null,null,null,null,null,null,null,null,null,null,null,null,null,null,null,null,null,null,null,null,null,"RVYSOUTHPORT AND FORMBY DISTRICT GENERAL HOSPITAL","RVY01","SOUTHPORT AND FORMBY DISTRICT GENERAL HOSPITAL","RVY01","SOUTHPORT AND FORMBY DISTRICT GENERAL HOSPITAL","RVY",null,null,"CENTRAL MIDDLESEX HOSPITAL","Gladstone 3"]
[null,null,null,null,null,null,null,null,null,null,null,null,null,null,null,null,null,null,null,null,null,null,null,null,null,null,null,null,null,null,null,null,null,null,null,null,null,null,null,null,null,null,null,null,null,null,null,null,null,null,null,null,null,null,null,null,null,null,null,null,null,null,null,null,null,null,null,null,null,"RW1BELBINS","RW1A1","BELBINS","RW1A1","BELBINS","RW1",null,null,"EALING HOSPITAL","Ward 6 North"]
[null,null,null,null,null,null,null,null,null,null,null,null,null,null,null,null,null,null,null,null,null,null,null,null,null,null,null,null,null,null,null,null,null,null,null,null,null,null,null,null,null,null,null,null,null,null,null,null,null,null,null,null,null,null,null,null,null,null,null,null,null,null,null,null,null,null,null,null,null,"RW1CHERRYTREE","RW1M6","CHERRYTREE","RW1M6","CHERRYTREE","RW1",null,null,"NORTHWICK PARK HOSPITAL","Crick Assessment Unit"]
[null,null,null,null,null,null,null,null,null,null,null,null,null,null,null,null,null,null,null,null,null,null,null,null,null,null,null,null,null,null,null,null,null,null,null,null,null,null,null,null,null,null,null,null,null,null,null,null,null,null,null,null,null,null,null,null,null,null,null,null,null,null,null,null,null,null,null,null,null,"RW1CUMBERLAND 2","RW1YK","CUMBERLAND 2","RW1YK","CUMBERLAND 2","RW1",null,null,"NORTHWICK PARK HOSPITAL","Evelyn"]
[null,null,null,null,null,null,null,null,null,null,null,null,null,null,null,null,null,null,null,null,null,null,null,null,null,null,null,null,null,null,null,null,null,null,null,null,null,null,null,null,null,null,null,null,null,null,null,null,null,null,null,null,null,null,null,null,null,null,null,null,null,null,null,null,null,null,null,null,null,"RW1FAREHAM REACH","RW1W2","FAREHAM REACH","RW1W2","FAREHAM REACH","RW1",null,null,"NORTHWICK PARK HOSPITAL","Medical HDU (Dryden)"]
[null,null,null,null,null,null,null,null,null,null,null,null,null,null,null,null,null,null,null,null,null,null,null,null,null,null,null,null,null,null,null,null,null,null,null,null,null,null,null,null,null,null,null,null,null,null,null,null,null,null,null,null,null,null,null,null,null,null,null,null,null,null,null,null,null,null,null,null,null,"RW1FOREST LODGE","RW134","FOREST LODGE","RW134","FOREST LODGE","RW1",null,null,"ST MARKS HOSPITAL","Jonson (IFU)"]
[null,null,null,null,null,null,null,null,null,null,null,null,null,null,null,null,null,null,null,null,null,null,null,null,null,null,null,null,null,null,null,null,null,null,null,null,null,null,null,null,null,null,null,null,null,null,null,null,null,null,null,null,null,null,null,null,null,null,null,null,null,null,null,null,null,null,null,null,null,"RW1HAVANT CRHT","RW1A7","HAVANT CRHT","RW1A7","HAVANT CRHT","RW1",null,null,"LUTON AND DUNSTABLE HOSPITAL","Ward 14"]
[null,null,null,null,null,null,null,null,null,null,null,null,null,null,null,null,null,null,null,null,null,null,null,null,null,null,null,null,null,null,null,null,null,null,null,null,null,null,null,null,null,null,null,null,null,null,null,null,null,null,null,null,null,null,null,null,null,null,null,null,null,null,null,null,null,null,null,null,null,"RW1JOHN SHARICH HOUSE","RW13F","JOHN SHARICH HOUSE","RW13F","JOHN SHARICH HOUSE","RW1",null,null,"LUTON AND DUNSTABLE HOSPITAL","Ward 22"]
[null,null,null,null,null,null,null,null,null,null,null,null,null,null,null,null,null,null,null,null,null,null,null,null,null,null,null,null,null,null,null,null,null,null,null,null,null,null,null,null,null,null,null,null,null,null,null,null,null,null,null,null,null,null,null,null,null,null,null,null,null,null,null,null,null,null,null,null,null,"RW1MOORGREEN HOSPITAL","RW154","MOORGREEN HOSPITAL","RW154","MOORGREEN HOSPITAL","RW1",null,null,"MAIDSTONE DISTRICT GENERAL HOSPITAL","Whatman"]
[null,null,null,null,null,null,null,null,null,null,null,null,null,null,null,null,null,null,null,null,null,null,null,null,null,null,null,null,null,null,null,null,null,null,null,null,null,null,null,null,null,null,null,null,null,null,null,null,null,null,null,null,null,null,null,null,null,null,null,null,null,null,null,null,null,null,null,null,null,"RW1ODIHAM COTTAGE HOSPITAL","RW11F","ODIHAM COTTAGE HOSPITAL","RW11F","ODIHAM COTTAGE HOSPITAL","RW1",null,null,"THE TUNBRIDGE WELLS HOSPITAL","Midwifery Services (ante/post natal & Delivery Suite)"]
[null,null,null,null,null,null,null,null,null,null,null,null,null,null,null,null,null,null,null,null,null,null,null,null,null,null,null,null,null,null,null,null,null,null,null,null,null,null,null,null,null,null,null,null,null,null,null,null,null,null,null,null,null,null,null,null,null,null,null,null,null,null,null,null,null,null,null,null,null,"RW1PSYCHOTHERAPY","RW1VY","PSYCHOTHERAPY","RW1VY","PSYCHOTHERAPY","RW1",null,null,"MANCHESTER ROYAL INFIRMARY","30M - 30M"]
[null,null,null,null,null,null,null,null,null,null,null,null,null,null,null,null,null,null,null,null,null,null,null,null,null,null,null,null,null,null,null,null,null,null,null,null,null,null,null,null,null,null,null,null,null,null,null,null,null,null,null,null,null,null,null,null,null,null,null,null,null,null,null,null,null,null,null,null,null,"RW1ROYAL HAMPSHIRE HOSPITAL","RW156","ROYAL HAMPSHIRE HOSPITAL","RW156","ROYAL HAMPSHIRE HOSPITAL","RW1",null,null,"MANCHESTER ROYAL INFIRMARY","AM3 - Am3"]
[null,null,null,null,null,null,null,null,null,null,null,null,null,null,null,null,null,null,null,null,null,null,null,null,null,null,null,null,null,null,null,null,null,null,null,null,null,null,null,null,null,null,null,null,null,null,null,null,null,null,null,null,null,null,null,null,null,null,null,null,null,null,null,null,null,null,null,null,null,"RW1SOUTHFIELDS","RW1AR","SOUTHFIELDS","RW1AR","SOUTHFIELDS","RW1",null,null,"MANCHESTER ROYAL INFIRMARY","MVC - MANCHESTER VASCULAR CENTRE"]
[null,null,null,null,null,null,null,null,null,null,null,null,null,null,null,null,null,null,null,null,null,null,null,null,null,null,null,null,null,null,null,null,null,null,null,null,null,null,null,null,null,null,null,null,null,null,null,null,null,null,null,null,null,null,null,null,null,null,null,null,null,null,null,null,null,null,null,null,null,"RW1TATCHBURY MOUNT","RW146","TATCHBURY MOUNT","RW146","TATCHBURY MOUNT","RW1",null,null,"ROYAL MANCHESTER CHILDREN'S HOSPITAL","84A - Ward 84 Bmtu"]
[null,null,null,null,null,null,null,null,null,null,null,null,null,null,null,null,null,null,null,null,null,null,null,null,null,null,null,null,null,null,null,null,null,null,null,null,null,null,null,null,null,null,null,null,null,null,null,null,null,null,null,null,null,null,null,null,null,null,null,null,null,null,null,null,null,null,null,null,null,"RW1UNIVERSITY DOP","RW1CW","UNIVERSITY DOP","RW1CW","UNIVERSITY DOP","RW1",null,null,"TRAFFORD GENERAL HOSPITAL","TINRU - INRU"]
[null,null,null,null,null,null,null,null,null,null,null,null,null,null,null,null,null,null,null,null,null,null,null,null,null,null,null,null,null,null,null,null,null,null,null,null,null,null,null,null,null,null,null,null,null,null,null,null,null,null,null,null,null,null,null,null,null,null,null,null,null,null,null,null,null,null,null,null,null,"RW1WILLIAM KIMBER CRESCENT","RW13M","WILLIAM KIMBER CRESCENT","RW13M","WILLIAM KIMBER CRESCENT","RW1",null,null,"WYTHENSHAWE HOSPITAL","A4"]
[null,null,null,null,null,null,null,null,null,null,null,null,null,null,null,null,null,null,null,null,null,null,null,null,null,null,null,null,null,null,null,null,null,null,null,null,null,null,null,null,null,null,null,null,null,null,null,null,null,null,null,null,null,null,null,null,null,null,null,null,null,null,null,null,null,null,null,null,null,"RW4LIVERPOOL AMI","RW413","LIVERPOOL AMI","RW413","LIVERPOOL AMI","RW4",null,null,"WYTHENSHAWE HOSPITAL","F2/F5"]
[null,null,null,null,null,null,null,null,null,null,null,null,null,null,null,null,null,null,null,null,null,null,null,null,null,null,null,null,null,null,null,null,null,null,null,null,null,null,null,null,null,null,null,null,null,null,null,null,null,null,null,null,null,null,null,null,null,null,null,null,null,null,null,null,null,null,null,null,null,"RW4PARK SITE","RW487","PARK SITE","RW487","PARK SITE","RW4",null,null,"WYTHENSHAWE HOSPITAL","Wilson Ward"]
[null,null,null,null,null,null,null,null,null,null,null,null,null,null,null,null,null,null,null,null,null,null,null,null,null,null,null,null,null,null,null,null,null,null,null,null,null,null,null,null,null,null,null,null,null,null,null,null,null,null,null,null,null,null,null,null,null,null,null,null,null,null,null,null,null,null,null,null,null,"RW4SEFTON HEALTH RESOURCE PARK","RW486","SEFTON HEALTH RESOURCE PARK","RW486","SEFTON HEALTH RESOURCE PARK","RW4",null,null,"MEDWAY MARITIME HOSPITAL - RPA02","Intensive Care Unit"]
[null,null,null,null,null,null,null,null,null,null,null,null,null,null,null,null,null,null,null,null,null,null,null,null,null,null,null,null,null,null,null,null,null,null,null,null,null,null,null,null,null,null,null,null,null,null,null,null,null,null,null,null,null,null,null,null,null,null,null,null,null,null,null,null,null,null,null,null,null,"RW5ALTHAM MEADOWS","RW5LX","ALTHAM MEADOWS","RW5LX","ALTHAM MEADOWS","RW5",null,null,"MEDWAY MARITIME HOSPITAL - RPA02","Pembroke"]
[null,null,null,null,null,null,null,null,null,null,null,null,null,null,null,null,null,null,null,null,null,null,null,null,null,null,null,null,null,null,null,null,null,null,null,null,null,null,null,null,null,null,null,null,null,null,null,null,null,null,null,null,null,null,null,null,null,null,null,null,null,null,null,null,null,null,null,null,null,"RW5CANAL WALK","RW5JT","CANAL WALK","RW5JT","CANAL WALK","RW5",null,null,"MEDWAY MARITIME HOSPITAL - RPA02","Will Adams"]
[null,null,null,null,null,null,null,null,null,null,null,null,null,null,null,null,null,null,null,null,null,null,null,null,null,null,null,null,null,null,null,null,null,null,null,null,null,null,null,null,null,null,null,null,null,null,null,null,null,null,null,null,null,null,null,null,null,null,null,null,null,null,null,null,null,null,null,null,null,"RW5DOB BRIDGE COTTAGE","RW5FC","DOB BRIDGE COTTAGE","RW5FC","DOB BRIDGE COTTAGE","RW5",null,null,"Ashworth Hospital","Lawrence"]
[null,null,null,null,null,null,null,null,null,null,null,null,null,null,null,null,null,null,null,null,null,null,null,null,null,null,null,null,null,null,null,null,null,null,null,null,null,null,null,null,null,null,null,null,null,null,null,null,null,null,null,null,null,null,null,null,null,null,null,null,null,null,null,null,null,null,null,null,null,"RW5OXFORD ANNEXE","RW5JP","OXFORD ANNEXE","RW5JP","OXFORD ANNEXE","RW5",null,null,"HEYS COURT","Heys Court"]
[null,null,null,null,null,null,null,null,null,null,null,null,null,null,null,null,null,null,null,null,null,null,null,null,null,null,null,null,null,null,null,null,null,null,null,null,null,null,null,null,null,null,null,null,null,null,null,null,null,null,null,null,null,null,null,null,null,null,null,null,null,null,null,null,null,null,null,null,null,"RW5PRESTON PRISON","RW5Z1","PRESTON PRISON","RW5Z1","PRESTON PRISON","RW5",null,null,"MERSEY CARE NHS TRUST BRAIN INJURY REHABILITATION","Brain Injury Rehabilitation"]
[null,null,null,null,null,null,null,null,null,null,null,null,null,null,null,null,null,null,null,null,null,null,null,null,null,null,null,null,null,null,null,null,null,null,null,null,null,null,null,null,null,null,null,null,null,null,null,null,null,null,null,null,null,null,null,null,null,null,null,null,null,null,null,null,null,null,null,null,null,"RW5WESHAM PARK HOSPITAL","RW5KD","WESHAM PARK HOSPITAL","RW5KD","WESHAM PARK HOSPITAL","RW5",null,null,"LEIGHTON HOSPITAL","Ward 11 SAU"]
[null,null,null,null,null,null,null,null,null,null,null,null,null,null,null,null,null,null,null,null,null,null,null,null,null,null,null,null,null,null,null,null,null,null,null,null,null,null,null,null,null,null,null,null,null,null,null,null,null,null,null,null,null,null,null,null,null,null,null,null,null,null,null,null,null,null,null,null,null,"RWAHULL ROYAL INFIRMARY","RWA01","HULL ROYAL INFIRMARY","RWA01","HULL ROYAL INFIRMARY","RWA",null,null,"LEIGHTON HOSPITAL","Ward 6 Rehab"]
[null,null,null,null,null,null,null,null,null,null,null,null,null,null,null,null,null,null,null,null,null,null,null,null,null,null,null,null,null,null,null,null,null,null,null,null,null,null,null,null,null,null,null,null,null,null,null,null,null,null,null,null,null,null,null,null,null,null,null,null,null,null,null,null,null,null,null,null,null,"RWDLINCOLN COUNTY HOSPITAL","RWDDA","LINCOLN COUNTY HOSPITAL","RWDDA","LINCOLN COUNTY HOSPITAL","RWD",null,null,"BROOMFIELD HOSPITAL - RQ8L0","Birthing Unit"]
[null,null,null,null,null,null,null,null,null,null,null,null,null,null,null,null,null,null,null,null,null,null,null,null,null,null,null,null,null,null,null,null,null,null,null,null,null,null,null,null,null,null,null,null,null,null,null,null,null,null,null,null,null,null,null,null,null,null,null,null,null,null,null,null,null,null,null,null,null,"RWFEDENBRIDGE WAR MEMORIAL HOSPITAL","RWF06","EDENBRIDGE WAR MEMORIAL HOSPITAL","RWF06","EDENBRIDGE WAR MEMORIAL HOSPITAL","RWF",null,null,"BROOMFIELD HOSPITAL - RQ8L0","Mayflower (BADB)"]
[null,null,null,null,null,null,null,null,null,null,null,null,null,null,null,null,null,null,null,null,null,null,null,null,null,null,null,null,null,null,null,null,null,null,null,null,null,null,null,null,null,null,null,null,null,null,null,null,null,null,null,null,null,null,null,null,null,null,null,null,null,null,null,null,null,null,null,null,null,"RWFQEQM HOSPITAL","RWF33","QEQM HOSPITAL","RWF33","QEQM HOSPITAL","RWF",null,null,"BROOMFIELD HOSPITAL - RQ8L0","Tollesbury Ward"]
[null,null,null,null,null,null,null,null,null,null,null,null,null,null,null,null,null,null,null,null,null,null,null,null,null,null,null,null,null,null,null,null,null,null,null,null,null,null,null,null,null,null,null,null,null,null,null,null,null,null,null,null,null,null,null,null,null,null,null,null,null,null,null,null,null,null,null,null,null,"RWFTONBRIDGE COTTAGE HOSPITAL","RWF10","TONBRIDGE COTTAGE HOSPITAL","RWF10","TONBRIDGE COTTAGE HOSPITAL","RWF",null,null,"DEWSBURY AND DISTRICT HOSPITAL","Ward 4 Neuro and Stroke"]
[null,null,null,null,null,null,null,null,null,null,null,null,null,null,null,null,null,null,null,null,null,null,null,null,null,null,null,null,null,null,null,null,null,null,null,null,null,null,null,null,null,null,null,null,null,null,null,null,null,null,null,null,null,null,null,null,null,null,null,null,null,null,null,null,null,null,null,null,null,"RWHMOUNT VERNON CANCER CENTRE","RWH04","MOUNT VERNON CANCER CENTRE","RWH04","MOUNT VERNON CANCER CENTRE","RWH",null,null,"PINDERFIELDS GENERAL HOSPITAL","Gate 30 PGH, Intensive Care"]
[null,null,null,null,null,null,null,null,null,null,null,null,null,null,null,null,null,null,null,null,null,null,null,null,null,null,null,null,null,null,null,null,null,null,null,null,null,null,null,null,null,null,null,null,null,null,null,null,null,null,null,null,null,null,null,null,null,null,null,null,null,null,null,null,null,null,null,null,null,"RWKACE ENTERPRISES","RWK2R","ACE ENTERPRISES","RWK2R","ACE ENTERPRISES","RWK",null,null,"PINDERFIELDS GENERAL HOSPITAL","Gate 42 PGH, Elderly Care"]
[null,null,null,null,null,null,null,null,null,null,null,null,null,null,null,null,null,null,null,null,null,null,null,null,null,null,null,null,null,null,null,null,null,null,null,null,null,null,null,null,null,null,null,null,null,null,null,null,null,null,null,null,null,null,null,null,null,null,null,null,null,null,null,null,null,null,null,null,null,"RWKEMPOWA","RWK1W","EMPOWA","RWK1W","EMPOWA","RWK",null,null,"PINDERFIELDS GENERAL HOSPITAL","Wakefield Intermediate Care Unit"]
[null,null,null,null,null,null,null,null,null,null,null,null,null,null,null,null,null,null,null,null,null,null,null,null,null,null,null,null,null,null,null,null,null,null,null,null,null,null,null,null,null,null,null,null,null,null,null,null,null,null,null,null,null,null,null,null,null,null,null,null,null,null,null,null,null,null,null,null,null,"RWKWHICHELLOS WHARF","RWK2N","WHICHELLOS WHARF","RWK2N","WHICHELLOS WHARF","RWK",null,null,"ST GEORGE'S HOSPITAL","Norton House"]
[null,null,null,null,null,null,null,null,null,null,null,null,null,null,null,null,null,null,null,null,null,null,null,null,null,null,null,null,null,null,null,null,null,null,null,null,null,null,null,null,null,null,null,null,null,null,null,null,null,null,null,null,null,null,null,null,null,null,null,null,null,null,null,null,null,null,null,null,null,"RWNBEDFORD HOSPITAL SOUTH","RWNM7","BEDFORD HOSPITAL SOUTH","RWNM7","BEDFORD HOSPITAL SOUTH","RWN",null,null,"MILTON KEYNES HOSPITAL","A & E"]
[null,null,null,null,null,null,null,null,null,null,null,null,null,null,null,null,null,null,null,null,null,null,null,null,null,null,null,null,null,null,null,null,null,null,null,null,null,null,null,null,null,null,null,null,null,null,null,null,null,null,null,null,null,null,null,null,null,null,null,null,null,null,null,null,null,null,null,null,null,"RWNDRR LUTON","RWN18","DRR LUTON","RWN18","DRR LUTON","RWN",null,null,"MILTON KEYNES HOSPITAL","Ward 16"]
[null,null,null,null,null,null,null,null,null,null,null,null,null,null,null,null,null,null,null,null,null,null,null,null,null,null,null,null,null,null,null,null,null,null,null,null,null,null,null,null,null,null,null,null,null,null,null,null,null,null,null,null,null,null,null,null,null,null,null,null,null,null,null,null,null,null,null,null,null,"RWNLUTON SSMS [LDASS]","RWN17","LUTON SSMS [LDASS]","RWN17","LUTON SSMS [LDASS]","RWN",null,null,"MOORFIELDS EYE HOSPITAL (CITY ROAD) - RP601","Cumberlege Wing"]
[null,null,null,null,null,null,null,null,null,null,null,null,null,null,null,null,null,null,null,null,null,null,null,null,null,null,null,null,null,null,null,null,null,null,null,null,null,null,null,null,null,null,null,null,null,null,null,null,null,null,null,null,null,null,null,null,null,null,null,null,null,null,null,null,null,null,null,null,null,"RWNOPMH LUTON","RWN39","OPMH LUTON","RWN39","OPMH LUTON","RWN",null,null,"NORFOLK AND NORWICH UNIVERSITY HOSPITAL","Cley Obstetrics"]
[null,null,null,null,null,null,null,null,null,null,null,null,null,null,null,null,null,null,null,null,null,null,null,null,null,null,null,null,null,null,null,null,null,null,null,null,null,null,null,null,null,null,null,null,null,null,null,null,null,null,null,null,null,null,null,null,null,null,null,null,null,null,null,null,null,null,null,null,null,"RWNSOUTHEND RESOUCE THERAPY","RWN97","SOUTHEND RESOUCE THERAPY","RWN97","SOUTHEND RESOUCE THERAPY","RWN",null,null,"NORFOLK AND NORWICH UNIVERSITY HOSPITAL","Gateley Ward"]
[null,null,null,null,null,null,null,null,null,null,null,null,null,null,null,null,null,null,null,null,null,null,null,null,null,null,null,null,null,null,null,null,null,null,null,null,null,null,null,null,null,null,null,null,null,null,null,null,null,null,null,null,null,null,null,null,null,null,null,null,null,null,null,null,null,null,null,null,null,"RWPALEXANDRA HOSPITAL","RWP01","ALEXANDRA HOSPITAL","RWP01","ALEXANDRA HOSPITAL","RWP",null,null,"NORFOLK AND NORWICH UNIVERSITY HOSPITAL","Mattishall Ward"]
[null,null,null,null,null,null,null,null,null,null,null,null,null,null,null,null,null,null,null,null,null,null,null,null,null,null,null,null,null,null,null,null,null,null,null,null,null,null,null,null,null,null,null,null,null,null,null,null,null,null,null,null,null,null,null,null,null,null,null,null,null,null,null,null,null,null,null,null,null,"RWRCOMMUNITY DRUG AND ALCOHOL UNIT (STATION RD)","RWR73","COMMUNITY DRUG AND ALCOHOL UNIT (STATION RD)","RWR73","COMMUNITY DRUG AND ALCOHOL UNIT (STATION RD)","RWR",null,null,"IP3 8LY","Walker Close"]
[null,null,null,null,null,null,null,null,null,null,null,null,null,null,null,null,null,null,null,null,null,null,null,null,null,null,null,null,null,null,null,null,null,null,null,null,null,null,null,null,null,null,null,null,null,null,null,null,null,null,null,null,null,null,null,null,null,null,null,null,null,null,null,null,null,null,null,null,null,"RWRMENTAL HEALTH SERVICE (LISTER HOSPITAL)","RWR34","MENTAL HEALTH SERVICE (LISTER HOSPITAL)","RWR34","MENTAL HEALTH SERVICE (LISTER HOSPITAL)","RWR",null,null,"Dereham Hospital","Foxley Ward"]
[null,null,null,null,null,null,null,null,null,null,null,null,null,null,null,null,null,null,null,null,null,null,null,null,null,null,null,null,null,null,null,null,null,null,null,null,null,null,null,null,null,null,null,null,null,null,null,null,null,null,null,null,null,null,null,null,null,null,null,null,null,null,null,null,null,null,null,null,null,"RWRRAID - NORTH EAST","RWRPL","RAID - NORTH EAST","RWRPL","RAID - NORTH EAST","RWR",null,null,"COSSHAM HOSPITAL","CSH_CSHBtS"]
[null,null,null,null,null,null,null,null,null,null,null,null,null,null,null,null,null,null,null,null,null,null,null,null,null,null,null,null,null,null,null,null,null,null,null,null,null,null,null,null,null,null,null,null,null,null,null,null,null,null,null,null,null,null,null,null,null,null,null,null,null,null,null,null,null,null,null,null,null,"RWRST MARGARET'S HOSPITAL","RWRG1","ST MARGARET'S HOSPITAL","RWRG1","ST MARGARET'S HOSPITAL","RWR",null,null,"SOUTHMEAD HOSPITAL","BBS_L3G34a"]
[null,null,null,null,null,null,null,null,null,null,null,null,null,null,null,null,null,null,null,null,null,null,null,null,null,null,null,null,null,null,null,null,null,null,null,null,null,null,null,null,null,null,null,null,null,null,null,null,null,null,null,null,null,null,null,null,null,null,null,null,null,null,null,null,null,null,null,null,null,"RWRTHE STEWARTS","RWR62","THE STEWARTS","RWR62","THE STEWARTS","RWR",null,null,"SOUTHMEAD HOSPITAL","BBS_L5G28b"]
[null,null,null,null,null,null,null,null,null,null,null,null,null,null,null,null,null,null,null,null,null,null,null,null,null,null,null,null,null,null,null,null,null,null,null,null,null,null,null,null,null,null,null,null,null,null,null,null,null,null,null,null,null,null,null,null,null,null,null,null,null,null,null,null,null,null,null,null,null,"RWVCULVERHAY","RWV09","CULVERHAY","RWV09","CULVERHAY","RWV",null,null,"SOUTHMEAD HOSPITAL","SMD_COTSWD"]
[null,null,null,null,null,null,null,null,null,null,null,null,null,null,null,null,null,null,null,null,null,null,null,null,null,null,null,null,null,null,null,null,null,null,null,null,null,null,null,null,null,null,null,null,null,null,null,null,null,null,null,null,null,null,null,null,null,null,null,null,null,null,null,null,null,null,null,null,null,"RWVEXETER (HEALTH)","RWV86","EXETER (HEALTH)","RWV86","EXETER (HEALTH)","RWV",null,null,"CUMBERLAND INFIRMARY","ESAU"]
[null,null,null,null,null,null,null,null,null,null,null,null,null,null,null,null,null,null,null,null,null,null,null,null,null,null,null,null,null,null,null,null,null,null,null,null,null,null,null,null,null,null,null,null,null,null,null,null,null,null,null,null,null,null,null,null,null,null,null,null,null,null,null,null,null,null,null,null,null,"RWVLEANDER UNIT","RWV70","LEANDER UNIT","RWV70","LEANDER UNIT","RWV",null,null,"CUMBERLAND INFIRMARY","THE HEART CENTRE"]
[null,null,null,null,null,null,null,null,null,null,null,null,null,null,null,null,null,null,null,null,null,null,null,null,null,null,null,null,null,null,null,null,null,null,null,null,null,null,null,null,null,null,null,null,null,null,null,null,null,null,null,null,null,null,null,null,null,null,null,null,null,null,null,null,null,null,null,null,null,"RWVRIL & MWA EXMOUTH","RWVCL","RIL & MWA EXMOUTH","RWVCL","RIL & MWA EXMOUTH","RWV",null,null,"GOODMAYES HOSPITAL","Moore Ward"]
[null,null,null,null,null,null,null,null,null,null,null,null,null,null,null,null,null,null,null,null,null,null,null,null,null,null,null,null,null,null,null,null,null,null,null,null,null,null,null,null,null,null,null,null,null,null,null,null,null,null,null,null,null,null,null,null,null,null,null,null,null,null,null,null,null,null,null,null,null,"RWVTHE QUAY","RWV83","THE QUAY","RWV83","THE QUAY","RWV",null,null,"NORTH MIDDLESEX HOSPITAL","Acute Medical Unit"]
[null,null,null,null,null,null,null,null,null,null,null,null,null,null,null,null,null,null,null,null,null,null,null,null,null,null,null,null,null,null,null,null,null,null,null,null,null,null,null,null,null,null,null,null,null,null,null,null,null,null,null,null,null,null,null,null,null,null,null,null,null,null,null,null,null,null,null,null,null,"RWWHIGHFIELD HOSPITAL","RWW46","HIGHFIELD HOSPITAL","RWW46","HIGHFIELD HOSPITAL","RWW",null,null,"NORTH MIDDLESEX HOSPITAL","Rainbow"]
[null,null,null,null,null,null,null,null,null,null,null,null,null,null,null,null,null,null,null,null,null,null,null,null,null,null,null,null,null,null,null,null,null,null,null,null,null,null,null,null,null,null,null,null,null,null,null,null,null,null,null,null,null,null,null,null,null,null,null,null,null,null,null,null,null,null,null,null,null,"RWXDAY HOSPITAL - P7D","RWX7D","DAY HOSPITAL - P7D","RWX7D","DAY HOSPITAL - P7D","RWX",null,null,"HARPLANDS HOSPITAL","A&T"]
[null,null,null,null,null,null,null,null,null,null,null,null,null,null,null,null,null,null,null,null,null,null,null,null,null,null,null,null,null,null,null,null,null,null,null,null,null,null,null,null,null,null,null,null,null,null,null,null,null,null,null,null,null,null,null,null,null,null,null,null,null,null,null,null,null,null,null,null,null,"RWXINTERMEDIATE CARE - P2A","RWX2A","INTERMEDIATE CARE - P2A","RWX2A","INTERMEDIATE CARE - P2A","RWX",null,null,"HARPLANDS HOSPITAL","Ward 7"]
[null,null,null,null,null,null,null,null,null,null,null,null,null,null,null,null,null,null,null,null,null,null,null,null,null,null,null,null,null,null,null,null,null,null,null,null,null,null,null,null,null,null,null,null,null,null,null,null,null,null,null,null,null,null,null,null,null,null,null,null,null,null,null,null,null,null,null,null,null,"RWXROYAL BERKSHIRE HOSPITAL","RWX83","ROYAL BERKSHIRE HOSPITAL","RWX83","ROYAL BERKSHIRE HOSPITAL","RWX",null,null,"UNIVERSITY HOSPITAL OF NORTH TEES","Ward 26 (Gastroenterology)"]
[null,null,null,null,null,null,null,null,null,null,null,null,null,null,null,null,null,null,null,null,null,null,null,null,null,null,null,null,null,null,null,null,null,null,null,null,null,null,null,null,null,null,null,null,null,null,null,null,null,null,null,null,null,null,null,null,null,null,null,null,null,null,null,null,null,null,null,null,null,"RWXST PETERS HOSPITAL","RWXAV","ST PETERS HOSPITAL","RWXAV","ST PETERS HOSPITAL","RWX",null,null,"UNIVERSITY HOSPITAL OF NORTH TEES","Ward 38"]
[null,null,null,null,null,null,null,null,null,null,null,null,null,null,null,null,null,null,null,null,null,null,null,null,null,null,null,null,null,null,null,null,null,null,null,null,null,null,null,null,null,null,null,null,null,null,null,null,null,null,null,null,null,null,null,null,null,null,null,null,null,null,null,null,null,null,null,null,null,"RWXTURNING POINT, NEWBURY","RWXAK","TURNING POINT, NEWBURY","RWXAK","TURNING POINT, NEWBURY","RWX",null,null,"HINCHINGBROOKE HOSPITAL","Critical Care Centre"]
[null,null,null,null,null,null,null,null,null,null,null,null,null,null,null,null,null,null,null,null,null,null,null,null,null,null,null,null,null,null,null,null,null,null,null,null,null,null,null,null,null,null,null,null,null,null,null,null,null,null,null,null,null,null,null,null,null,null,null,null,null,null,null,null,null,null,null,null,null,"RX1NOTTINGHAM UNIVERSITY HOSPITALS NHS TRUST - CITY CAMPUS","RX1CC","NOTTINGHAM UNIVERSITY HOSPITALS NHS TRUST - CITY CAMPUS","RX1CC","NOTTINGHAM UNIVERSITY HOSPITALS NHS TRUST - CITY CAMPUS","RX1",null,null,"PETERBOROUGH CITY HOSPITAL","Haematology/Oncology Ward"]
[null,null,null,null,null,null,null,null,null,null,null,null,null,null,null,null,null,null,null,null,null,null,null,null,null,null,null,null,null,null,null,null,null,null,null,null,null,null,null,null,null,null,null,null,null,null,null,null,null,null,null,null,null,null,null,null,null,null,null,null,null,null,null,null,null,null,null,null,null,"RX2BEECHMONT","RX2D6","BEECHMONT","RX2D6","BEECHMONT","RX2",null,null,"STAMFORD AND RUTLAND HOSPITAL","John Van Geest Unit"]
[null,null,null,null,null,null,null,null,null,null,null,null,null,null,null,null,null,null,null,null,null,null,null,null,null,null,null,null,null,null,null,null,null,null,null,null,null,null,null,null,null,null,null,null,null,null,null,null,null,null,null,null,null,null,null,null,null,null,null,null,null,null,null,null,null,null,null,null,null,"RX2BRIGHTON WEST LWWDT (VL)","RX21N","BRIGHTON WEST LWWDT (VL)","RX21N","BRIGHTON WEST LWWDT (VL)","RX2",null,null,"HOLLINS PARK","Austen"]
[null,null,null,null,null,null,null,null,null,null,null,null,null,null,null,null,null,null,null,null,null,null,null,null,null,null,null,null,null,null,null,null,null,null,null,null,null,null,null,null,null,null,null,null,null,null,null,null,null,null,null,null,null,null,null,null,null,null,null,null,null,null,null,null,null,null,null,null,null,"RX2CLAYTON WARD","RX250","CLAYTON WARD","RX250","CLAYTON WARD","RX2",null,null,"NORTHAMPTON GENERAL HOSPITAL (ACUTE)","Allebone Ward (Stroke)"]
[null,null,null,null,null,null,null,null,null,null,null,null,null,null,null,null,null,null,null,null,null,null,null,null,null,null,null,null,null,null,null,null,null,null,null,null,null,null,null,null,null,null,null,null,null,null,null,null,null,null,null,null,null,null,null,null,null,null,null,null,null,null,null,null,null,null,null,null,null,"RX2CRAWLEY RECOVERY AND WELL-BEING","RX2XV","CRAWLEY RECOVERY AND WELL-BEING","RX2XV","CRAWLEY RECOVERY AND WELL-BEING","RX2",null,null,"NORTHAMPTON GENERAL HOSPITAL (ACUTE)","Dryden Ward"]
[null,null,null,null,null,null,null,null,null,null,null,null,null,null,null,null,null,null,null,null,null,null,null,null,null,null,null,null,null,null,null,null,null,null,null,null,null,null,null,null,null,null,null,null,null,null,null,null,null,null,null,null,null,null,null,null,null,null,null,null,null,null,null,null,null,null,null,null,null,"RX2DEPARTMENT OF PSYCHIATRY","RX2E7","DEPARTMENT OF PSYCHIATRY","RX2E7","DEPARTMENT OF PSYCHIATRY","RX2",null,null,"NORTHAMPTON GENERAL HOSPITAL (ACUTE)","Knightley Ward"]
[null,null,null,null,null,null,null,null,null,null,null,null,null,null,null,null,null,null,null,null,null,null,null,null,null,null,null,null,null,null,null,null,null,null,null,null,null,null,null,null,null,null,null,null,null,null,null,null,null,null,null,null,null,null,null,null,null,null,null,null,null,null,null,null,null,null,null,null,null,"RX2FOXHOLME COTTAGES (1&2)","RX251","FOXHOLME COTTAGES (1&2)","RX251","FOXHOLME COTTAGES (1&2)","RX2",null,null,"BERRYWOOD HOSPITAL","Bay"]
[null,null,null,null,null,null,null,null,null,null,null,null,null,null,null,null,null,null,null,null,null,null,null,null,null,null,null,null,null,null,null,null,null,null,null,null,null,null,null,null,null,null,null,null,null,null,null,null,null,null,null,null,null,null,null,null,null,null,null,null,null,null,null,null,null,null,null,null,null,"RX2H & ROTHER SMHT (RS)","RX2CA","H & ROTHER SMHT (RS)","RX2CA","H & ROTHER SMHT (RS)","RX2",null,null,"ISEBROOK HOSPITAL","Beechwood"]
[null,null,null,null,null,null,null,null,null,null,null,null,null,null,null,null,null,null,null,null,null,null,null,null,null,null,null,null,null,null,null,null,null,null,null,null,null,null,null,null,null,null,null,null,null,null,null,null,null,null,null,null,null,null,null,null,null,null,null,null,null,null,null,null,null,null,null,null,null,"RX2HIGHMORE","RX2E8","HIGHMORE","RX2E8","HIGHMORE","RX2",null,null,"THE SQUIRRELS","The Squirrels"]
[null,null,null,null,null,null,null,null,null,null,null,null,null,null,null,null,null,null,null,null,null,null,null,null,null,null,null,null,null,null,null,null,null,null,null,null,null,null,null,null,null,null,null,null,null,null,null,null,null,null,null,null,null,null,null,null,null,null,null,null,null,null,null,null,null,null,null,null,null,"RX2LINWOOD","RX269","LINWOOD","RX269","LINWOOD","RX2",null,null,"DIANA, PRINCESS OF WALES HOSPITAL","ITU DPoW"]
[null,null,null,null,null,null,null,null,null,null,null,null,null,null,null,null,null,null,null,null,null,null,null,null,null,null,null,null,null,null,null,null,null,null,null,null,null,null,null,null,null,null,null,null,null,null,null,null,null,null,null,null,null,null,null,null,null,null,null,null,null,null,null,null,null,null,null,null,null,"RX2MINSTRELS GALLERY","RX2A4","MINSTRELS GALLERY","RX2A4","MINSTRELS GALLERY","RX2",null,null,"DIANA, PRINCESS OF WALES HOSPITAL","WARD C6 DPoW"]
[null,null,null,null,null,null,null,null,null,null,null,null,null,null,null,null,null,null,null,null,null,null,null,null,null,null,null,null,null,null,null,null,null,null,null,null,null,null,null,null,null,null,null,null,null,null,null,null,null,null,null,null,null,null,null,null,null,null,null,null,null,null,null,null,null,null,null,null,null,"RX2NORTHDOWN","RX223","NORTHDOWN","RX223","NORTHDOWN","RX2",null,null,"SCUNTHORPE GENERAL HOSPITAL","Stroke Unit SGH"]
[null,null,null,null,null,null,null,null,null,null,null,null,null,null,null,null,null,null,null,null,null,null,null,null,null,null,null,null,null,null,null,null,null,null,null,null,null,null,null,null,null,null,null,null,null,null,null,null,null,null,null,null,null,null,null,null,null,null,null,null,null,null,null,null,null,null,null,null,null,"RX2PRESTON HALL HOSPITAL","RX2YC","PRESTON HALL HOSPITAL","RX2YC","PRESTON HALL HOSPITAL","RX2",null,null,"SCUNTHORPE GENERAL HOSPITAL","Ward 26 SGH"]
[null,null,null,null,null,null,null,null,null,null,null,null,null,null,null,null,null,null,null,null,null,null,null,null,null,null,null,null,null,null,null,null,null,null,null,null,null,null,null,null,null,null,null,null,null,null,null,null,null,null,null,null,null,null,null,null,null,null,null,null,null,null,null,null,null,null,null,null,null,"RX2ROYAL SUSSEX COUNTY HOSPITAL","RX2N2","ROYAL SUSSEX COUNTY HOSPITAL","RX2N2","ROYAL SUSSEX COUNTY HOSPITAL","RX2",null,null,"HOPEWOOD PARK","CLEARBROOK - LOWER WILLOWS"]
[null,null,null,null,null,null,null,null,null,null,null,null,null,null,null,null,null,null,null,null,null,null,null,null,null,null,null,null,null,null,null,null,null,null,null,null,null,null,null,null,null,null,null,null,null,null,null,null,null,null,null,null,null,null,null,null,null,null,null,null,null,null,null,null,null,null,null,null,null,"RX2SMS E'BOURNE - ST ANDREWS","RX2AK","SMS E'BOURNE - ST ANDREWS","RX2AK","SMS E'BOURNE - ST ANDREWS","RX2",null,null,"NEWCASTLE GENERAL HOSPITAL","LOWRY"]
[null,null,null,null,null,null,null,null,null,null,null,null,null,null,null,null,null,null,null,null,null,null,null,null,null,null,null,null,null,null,null,null,null,null,null,null,null,null,null,null,null,null,null,null,null,null,null,null,null,null,null,null,null,null,null,null,null,null,null,null,null,null,null,null,null,null,null,null,null,"RX2SPRINGVALE CMHC (EAST GRINSTEAD)","RX270","SPRINGVALE CMHC (EAST GRINSTEAD)","RX270","SPRINGVALE CMHC (EAST GRINSTEAD)","RX2",null,null,"ROSE LODGE","ROSE LODGE"]
[null,null,null,null,null,null,null,null,null,null,null,null,null,null,null,null,null,null,null,null,null,null,null,null,null,null,null,null,null,null,null,null,null,null,null,null,null,null,null,null,null,null,null,null,null,null,null,null,null,null,null,null,null,null,null,null,null,null,null,null,null,null,null,null,null,null,null,null,null,"RX2THE CHAPEL (HELLINGLY SITE)","RX2K4","THE CHAPEL (HELLINGLY SITE)","RX2K4","THE CHAPEL (HELLINGLY SITE)","RX2",null,null,"ST NICHOLAS HOSPITAL (NEWCASTLE UPON TYNE)","CUTHBERT"]
[null,null,null,null,null,null,null,null,null,null,null,null,null,null,null,null,null,null,null,null,null,null,null,null,null,null,null,null,null,null,null,null,null,null,null,null,null,null,null,null,null,null,null,null,null,null,null,null,null,null,null,null,null,null,null,null,null,null,null,null,null,null,null,null,null,null,null,null,null,"RX2W. SUSSEX MAS SOUTH (GB)","RX2DG","W. SUSSEX MAS SOUTH (GB)","RX2DG","W. SUSSEX MAS SOUTH (GB)","RX2",null,null,"NORTH TYNESIDE GENERAL HOSPITAL - RTFFS","NTGH15"]
[null,null,null,null,null,null,null,null,null,null,null,null,null,null,null,null,null,null,null,null,null,null,null,null,null,null,null,null,null,null,null,null,null,null,null,null,null,null,null,null,null,null,null,null,null,null,null,null,null,null,null,null,null,null,null,null,null,null,null,null,null,null,null,null,null,null,null,null,null,{"$f":"CONCATENATE(LEFT(BS3675, 3),BT3675)","v":"RX2WESTERN SUSSEX ATS (JS)"},"RX26X","WESTERN SUSSEX ATS (JS)","RX26X","WESTERN SUSSEX ATS (JS)","RX2",null,null,"NORTHUMBRIA SPECIALIST EMERGENCY CARE HOSPITAL","NSEC12"]
[null,null,null,null,null,null,null,null,null,null,null,null,null,null,null,null,null,null,null,null,null,null,null,null,null,null,null,null,null,null,null,null,null,null,null,null,null,null,null,null,null,null,null,null,null,null,null,null,null,null,null,null,null,null,null,null,null,null,null,null,null,null,null,null,null,null,null,null,null,"RX2WESTERN SUSSEX LWWD (AC)","RX26J","WESTERN SUSSEX LWWD (AC)","RX26J","WESTERN SUSSEX LWWD (AC)","RX2",null,null,"NORTHUMBRIA SPECIALIST EMERGENCY CARE HOSPITAL","NSECCAU"]
[null,null,null,null,null,null,null,null,null,null,null,null,null,null,null,null,null,null,null,null,null,null,null,null,null,null,null,null,null,null,null,null,null,null,null,null,null,null,null,null,null,null,null,null,null,null,null,null,null,null,null,null,null,null,null,null,null,null,null,null,null,null,null,null,null,null,null,null,null,"RX3BANKFIELDS COURT ADMIN UNIT","RX3NT","BANKFIELDS COURT ADMIN UNIT","RX3NT","BANKFIELDS COURT ADMIN UNIT","RX3",null,null,"NOTTINGHAM UNIVERSITY HOSPITALS NHS TRUST - CITY CAMPUS","Barclay"]
[null,null,null,null,null,null,null,null,null,null,null,null,null,null,null,null,null,null,null,null,null,null,null,null,null,null,null,null,null,null,null,null,null,null,null,null,null,null,null,null,null,null,null,null,null,null,null,null,null,null,null,null,null,null,null,null,null,null,null,null,null,null,null,null,null,null,null,null,null,"RX3CHILDRENS & YOUNG PEOPLES(3)","RX31C","CHILDRENS & YOUNG PEOPLES(3)","RX31C","CHILDRENS & YOUNG PEOPLES(3)","RX3",null,null,"NOTTINGHAM UNIVERSITY HOSPITALS NHS TRUST - CITY CAMPUS","Fleming"]
[null,null,null,null,null,null,null,null,null,null,null,null,null,null,null,null,null,null,null,null,null,null,null,null,null,null,null,null,null,null,null,null,null,null,null,null,null,null,null,null,null,null,null,null,null,null,null,null,null,null,null,null,null,null,null,null,null,null,null,null,null,null,null,null,null,null,null,null,null,"RX3EATING DISORDERS OP","RX3WM","EATING DISORDERS OP","RX3WM","EATING DISORDERS OP","RX3",null,null,"NOTTINGHAM UNIVERSITY HOSPITALS NHS TRUST - CITY CAMPUS","Labour Suite City"]
[null,null,null,null,null,null,null,null,null,null,null,null,null,null,null,null,null,null,null,null,null,null,null,null,null,null,null,null,null,null,null,null,null,null,null,null,null,null,null,null,null,null,null,null,null,null,null,null,null,null,null,null,null,null,null,null,null,null,null,null,null,null,null,null,null,null,null,null,null,"RX3GROUND FLOOR","RX3MQ","GROUND FLOOR","RX3MQ","GROUND FLOOR","RX3",null,null,"NOTTINGHAM UNIVERSITY HOSPITALS NHS TRUST - CITY CAMPUS","Papplewick"]
[null,null,null,null,null,null,null,null,null,null,null,null,null,null,null,null,null,null,null,null,null,null,null,null,null,null,null,null,null,null,null,null,null,null,null,null,null,null,null,null,null,null,null,null,null,null,null,null,null,null,null,null,null,null,null,null,null,null,null,null,null,null,null,null,null,null,null,null,null,"RX3LUNEDALE","RX3VY","LUNEDALE","RX3VY","LUNEDALE","RX3",null,null,"NOTTINGHAM UNIVERSITY HOSPITALS NHS TRUST - QUEEN'S MEDICAL CENTRE CAMPUS","B48"]
[null,null,null,null,null,null,null,null,null,null,null,null,null,null,null,null,null,null,null,null,null,null,null,null,null,null,null,null,null,null,null,null,null,null,null,null,null,null,null,null,null,null,null,null,null,null,null,null,null,null,null,null,null,null,null,null,null,null,null,null,null,null,null,null,null,null,null,null,null,"RX3NMP - MHSOP H'GATE","RX31K","NMP - MHSOP H'GATE","RX31K","NMP - MHSOP H'GATE","RX3",null,null,"NOTTINGHAM UNIVERSITY HOSPITALS NHS TRUST - QUEEN'S MEDICAL CENTRE CAMPUS","D58"]
[null,null,null,null,null,null,null,null,null,null,null,null,null,null,null,null,null,null,null,null,null,null,null,null,null,null,null,null,null,null,null,null,null,null,null,null,null,null,null,null,null,null,null,null,null,null,null,null,null,null,null,null,null,null,null,null,null,null,null,null,null,null,null,null,null,null,null,null,null,"RX3PARK VIEW","RX30P","PARK VIEW","RX30P","PARK VIEW","RX3",null,null,"NOTTINGHAM UNIVERSITY HOSPITALS NHS TRUST - QUEEN'S MEDICAL CENTRE CAMPUS","Neonatal QMC"]
[null,null,null,null,null,null,null,null,null,null,null,null,null,null,null,null,null,null,null,null,null,null,null,null,null,null,null,null,null,null,null,null,null,null,null,null,null,null,null,null,null,null,null,null,null,null,null,null,null,null,null,null,null,null,null,null,null,null,null,null,null,null,null,null,null,null,null,null,null,"RX3POA - DARLINGTON WEST PARK 2","RX320","POA - DARLINGTON WEST PARK 2","RX320","POA - DARLINGTON WEST PARK 2","RX3",null,null,"ARNOLD LODGE REGIONAL SECURE UNIT","Rutland"]
[null,null,null,null,null,null,null,null,null,null,null,null,null,null,null,null,null,null,null,null,null,null,null,null,null,null,null,null,null,null,null,null,null,null,null,null,null,null,null,null,null,null,null,null,null,null,null,null,null,null,null,null,null,null,null,null,null,null,null,null,null,null,null,null,null,null,null,null,null,"RX3REDCAR AND CLEVELAND PSYCHOSIS NMP","RX3VT","REDCAR AND CLEVELAND PSYCHOSIS NMP","RX3VT","REDCAR AND CLEVELAND PSYCHOSIS NMP","RX3",null,null,"HIGHBURY HOSPITAL","Redwood 2"]
[null,null,null,null,null,null,null,null,null,null,null,null,null,null,null,null,null,null,null,null,null,null,null,null,null,null,null,null,null,null,null,null,null,null,null,null,null,null,null,null,null,null,null,null,null,null,null,null,null,null,null,null,null,null,null,null,null,null,null,null,null,null,null,null,null,null,null,null,null,{"$f":"CONCATENATE(LEFT(BS3803, 3),BT3803)","v":"RX3TEES, ESK, WEAR VALLEY NHS TRUST (DURHAM)"},"RX301","TEES, ESK, WEAR VALLEY NHS TRUST (DURHAM)","RX301","TEES, ESK, WEAR VALLEY NHS TRUST (DURHAM)","RX3",null,null,"MANSFIELD COMMUNITY HOSPITAL","Alexander House"]
[null,null,null,null,null,null,null,null,null,null,null,null,null,null,null,null,null,null,null,null,null,null,null,null,null,null,null,null,null,null,null,null,null,null,null,null,null,null,null,null,null,null,null,null,null,null,null,null,null,null,null,null,null,null,null,null,null,null,null,null,null,null,null,null,null,null,null,null,null,"RX3THE MALTINGS","RX3QX","THE MALTINGS","RX3QX","THE MALTINGS","RX3",null,null,"RAMPTON HOSPITAL","Alford Ward"]
[null,null,null,null,null,null,null,null,null,null,null,null,null,null,null,null,null,null,null,null,null,null,null,null,null,null,null,null,null,null,null,null,null,null,null,null,null,null,null,null,null,null,null,null,null,null,null,null,null,null,null,null,null,null,null,null,null,null,null,null,null,null,null,null,null,null,null,null,null,"RX3WEST LANE HOSPITAL WESTWOOD CENTRE","RX3GV","WEST LANE HOSPITAL WESTWOOD CENTRE","RX3GV","WEST LANE HOSPITAL WESTWOOD CENTRE","RX3",null,null,"RAMPTON HOSPITAL","Erskine Ward (was Anston)"]
[null,null,null,null,null,null,null,null,null,null,null,null,null,null,null,null,null,null,null,null,null,null,null,null,null,null,null,null,null,null,null,null,null,null,null,null,null,null,null,null,null,null,null,null,null,null,null,null,null,null,null,null,null,null,null,null,null,null,null,null,null,null,null,null,null,null,null,null,null,"RX4BARNES UNIT","RX4J4","BARNES UNIT","RX4J4","BARNES UNIT","RX4",null,null,"THE WELLS ROAD CENTRE","Trent"]
[null,null,null,null,null,null,null,null,null,null,null,null,null,null,null,null,null,null,null,null,null,null,null,null,null,null,null,null,null,null,null,null,null,null,null,null,null,null,null,null,null,null,null,null,null,null,null,null,null,null,null,null,null,null,null,null,null,null,null,null,null,null,null,null,null,null,null,null,null,"RX4CHILD PSYCH CENTRAL - AISLING UNIT","RX4DX","CHILD PSYCH CENTRAL - AISLING UNIT","RX4DX","CHILD PSYCH CENTRAL - AISLING UNIT","RX4",null,null,"LITTLEMORE MENTAL HEALTH CENTRE","Lambourne House"]
[null,null,null,null,null,null,null,null,null,null,null,null,null,null,null,null,null,null,null,null,null,null,null,null,null,null,null,null,null,null,null,null,null,null,null,null,null,null,null,null,null,null,null,null,null,null,null,null,null,null,null,null,null,null,null,null,null,null,null,null,null,null,null,null,null,null,null,null,null,"RX4ELSDEN MEWS MENTAL HEALTH COMMUNITY UNIT","RX492","ELSDEN MEWS MENTAL HEALTH COMMUNITY UNIT","RX492","ELSDEN MEWS MENTAL HEALTH COMMUNITY UNIT","RX4",null,null,"WARNEFORD HOSPITAL","Highfield"]
[null,null,null,null,null,null,null,null,null,null,null,null,null,null,null,null,null,null,null,null,null,null,null,null,null,null,null,null,null,null,null,null,null,null,null,null,null,null,null,null,null,null,null,null,null,null,null,null,null,null,null,null,null,null,null,null,null,null,null,null,null,null,null,null,null,null,null,null,null,"RX4HIRST VILLAS MENTAL HEALTH COMMUNITY UNIT","RX4V5","HIRST VILLAS MENTAL HEALTH COMMUNITY UNIT","RX4V5","HIRST VILLAS MENTAL HEALTH COMMUNITY UNIT","RX4",null,null,"WITNEY COMMUNITY HOSPITAL","Wenrisc"]
[null,null,null,null,null,null,null,null,null,null,null,null,null,null,null,null,null,null,null,null,null,null,null,null,null,null,null,null,null,null,null,null,null,null,null,null,null,null,null,null,null,null,null,null,null,null,null,null,null,null,null,null,null,null,null,null,null,null,null,null,null,null,null,null,null,null,null,null,null,"RX4MONKWEARMOUTH HOSPITAL","RX4K2","MONKWEARMOUTH HOSPITAL","RX4K2","MONKWEARMOUTH HOSPITAL","RX4",null,null,"Churchill Hospital - RTH02","C-WD Wytham"]
[null,null,null,null,null,null,null,null,null,null,null,null,null,null,null,null,null,null,null,null,null,null,null,null,null,null,null,null,null,null,null,null,null,null,null,null,null,null,null,null,null,null,null,null,null,null,null,null,null,null,null,null,null,null,null,null,null,null,null,null,null,null,null,null,null,null,null,null,null,"RX4OLD AGE PSYCHIATRY - TYNEDALE","RX4EF","OLD AGE PSYCHIATRY - TYNEDALE","RX4EF","OLD AGE PSYCHIATRY - TYNEDALE","RX4",null,null,"John Radcliffe Hospital","J-WD AdamTrauma"]
[null,null,null,null,null,null,null,null,null,null,null,null,null,null,null,null,null,null,null,null,null,null,null,null,null,null,null,null,null,null,null,null,null,null,null,null,null,null,null,null,null,null,null,null,null,null,null,null,null,null,null,null,null,null,null,null,null,null,null,null,null,null,null,null,null,null,null,null,null,"RX4REHABILITATION - TRANWELL UNIT","RX4AY","REHABILITATION - TRANWELL UNIT","RX4AY","REHABILITATION - TRANWELL UNIT","RX4",null,null,"John Radcliffe Hospital","J-WD CTVCC"]
[null,null,null,null,null,null,null,null,null,null,null,null,null,null,null,null,null,null,null,null,null,null,null,null,null,null,null,null,null,null,null,null,null,null,null,null,null,null,null,null,null,null,null,null,null,null,null,null,null,null,null,null,null,null,null,null,null,null,null,null,null,null,null,null,null,null,null,null,null,"RX4ST GEORGES HOSPITAL SITE (MORPETH)","RX4E2","ST GEORGES HOSPITAL SITE (MORPETH)","RX4E2","ST GEORGES HOSPITAL SITE (MORPETH)","RX4",null,null,"John Radcliffe Hospital","J-WD NeuroPurpl"]
[null,null,null,null,null,null,null,null,null,null,null,null,null,null,null,null,null,null,null,null,null,null,null,null,null,null,null,null,null,null,null,null,null,null,null,null,null,null,null,null,null,null,null,null,null,null,null,null,null,null,null,null,null,null,null,null,null,null,null,null,null,null,null,null,null,null,null,null,null,{"$f":"CONCATENATE(LEFT(BS3931, 3),BT3931)","v":"RX4THE GRANGE"},"RX4A5","THE GRANGE","RX4A5","THE GRANGE","RX4",null,null,"John Radcliffe Hospital","J-WD Toms"]
[null,null,null,null,null,null,null,null,null,null,null,null,null,null,null,null,null,null,null,null,null,null,null,null,null,null,null,null,null,null,null,null,null,null,null,null,null,null,null,null,null,null,null,null,null,null,null,null,null,null,null,null,null,null,null,null,null,null,null,null,null,null,null,null,null,null,null,null,null,"RXACLATTERBRIDGE HOSPITAL PSYCH SERVICES","RXA54","CLATTERBRIDGE HOSPITAL PSYCH SERVICES","RXA54","CLATTERBRIDGE HOSPITAL PSYCH SERVICES","RXA",null,null,"GREEN PARK'S HOUSE","Scadbury Ward"]
[null,null,null,null,null,null,null,null,null,null,null,null,null,null,null,null,null,null,null,null,null,null,null,null,null,null,null,null,null,null,null,null,null,null,null,null,null,null,null,null,null,null,null,null,null,null,null,null,null,null,null,null,null,null,null,null,null,null,null,null,null,null,null,null,null,null,null,null,null,"RXASOUTH CHESHIRE & VALE ROYAL","RXAE9","SOUTH CHESHIRE & VALE ROYAL","RXAE9","SOUTH CHESHIRE & VALE ROYAL",{"$f":"LEFT(BU3965,3)","v":"RXA"},null,null,"WOODLANDS","Milbrook"]
[null,null,null,null,null,null,null,null,null,null,null,null,null,null,null,null,null,null,null,null,null,null,null,null,null,null,null,null,null,null,null,null,null,null,null,null,null,null,null,null,null,null,null,null,null,null,null,null,null,null,null,null,null,null,null,null,null,null,null,null,null,null,null,null,null,null,null,null,null,"RXCEASTBOURNE DISTRICT GENERAL HOSPITAL","RXC02","EASTBOURNE DISTRICT GENERAL HOSPITAL","RXC02","EASTBOURNE DISTRICT GENERAL HOSPITAL","RXC",null,null,"FAIRFIELD GENERAL HOSPITAL","Ward 5"]
[null,null,null,null,null,null,null,null,null,null,null,null,null,null,null,null,null,null,null,null,null,null,null,null,null,null,null,null,null,null,null,null,null,null,null,null,null,null,null,null,null,null,null,null,null,null,null,null,null,null,null,null,null,null,null,null,null,null,null,null,null,null,null,null,null,null,null,null,null,"RXENTH LINCS PSYCHOLOGICAL THERAPIES 2","RXE96","NTH LINCS PSYCHOLOGICAL THERAPIES 2","RXE96","NTH LINCS PSYCHOLOGICAL THERAPIES 2","RXE",null,null,"NORTH MANCHESTER GENERAL HOSPITAL","Ward C6"]
[null,null,null,null,null,null,null,null,null,null,null,null,null,null,null,null,null,null,null,null,null,null,null,null,null,null,null,null,null,null,null,null,null,null,null,null,null,null,null,null,null,null,null,null,null,null,null,null,null,null,null,null,null,null,null,null,null,null,null,null,null,null,null,null,null,null,null,null,null,"RXEROTHERHAM LEARNING DISABILITIES ASSESSMENT AND TREATMENT UNIT","RXEC4","ROTHERHAM LEARNING DISABILITIES ASSESSMENT AND TREATMENT UNIT","RXEC4","ROTHERHAM LEARNING DISABILITIES ASSESSMENT AND TREATMENT UNIT","RXE",null,null,"NORTH MANCHESTER GENERAL HOSPITAL","Ward E3"]
[null,null,null,null,null,null,null,null,null,null,null,null,null,null,null,null,null,null,null,null,null,null,null,null,null,null,null,null,null,null,null,null,null,null,null,null,null,null,null,null,null,null,null,null,null,null,null,null,null,null,null,null,null,null,null,null,null,null,null,null,null,null,null,null,null,null,null,null,null,"RXGCDIP","RXGDR","CDIP","RXGDR","CDIP","RXG",null,null,"ROYAL OLDHAM HOSPITAL","Antenatal Ward"]
[null,null,null,null,null,null,null,null,null,null,null,null,null,null,null,null,null,null,null,null,null,null,null,null,null,null,null,null,null,null,null,null,null,null,null,null,null,null,null,null,null,null,null,null,null,null,null,null,null,null,null,null,null,null,null,null,null,null,null,null,null,null,null,null,null,null,null,null,null,"RXGKENDRAY HOSPITAL","RXG82","KENDRAY HOSPITAL","RXG82","KENDRAY HOSPITAL","RXG",null,null,"ROYAL OLDHAM HOSPITAL","Ward F9"]
[null,null,null,null,null,null,null,null,null,null,null,null,null,null,null,null,null,null,null,null,null,null,null,null,null,null,null,null,null,null,null,null,null,null,null,null,null,null,null,null,null,null,null,null,null,null,null,null,null,null,null,null,null,null,null,null,null,null,null,null,null,null,null,null,null,null,null,null,null,"RXGTHE DANCER","RXG28","THE DANCER","RXG28","THE DANCER","RXG",null,null,"PENNINE CARE NHS TRUST","Bury - North Ward"]
[null,null,null,null,null,null,null,null,null,null,null,null,null,null,null,null,null,null,null,null,null,null,null,null,null,null,null,null,null,null,null,null,null,null,null,null,null,null,null,null,null,null,null,null,null,null,null,null,null,null,null,null,null,null,null,null,null,null,null,null,null,null,null,null,null,null,null,null,null,"RXLDEVONSHIRE ROAD HOSPITAL","RXL02","DEVONSHIRE ROAD HOSPITAL","RXL02","DEVONSHIRE ROAD HOSPITAL","RXL",null,null,"PENNINE CARE NHS TRUST","Stockport - Rosewood"]
[null,null,null,null,null,null,null,null,null,null,null,null,null,null,null,null,null,null,null,null,null,null,null,null,null,null,null,null,null,null,null,null,null,null,null,null,null,null,null,null,null,null,null,null,null,null,null,null,null,null,null,null,null,null,null,null,null,null,null,null,null,null,null,null,null,null,null,null,null,"RXMDALE BANK VIEW","RXMF6","DALE BANK VIEW","RXMF6","DALE BANK VIEW","RXM",null,null,"POOLE GENERAL HOSPITAL NHS TRUST HQ","AMU"]
[null,null,null,null,null,null,null,null,null,null,null,null,null,null,null,null,null,null,null,null,null,null,null,null,null,null,null,null,null,null,null,null,null,null,null,null,null,null,null,null,null,null,null,null,null,null,null,null,null,null,null,null,null,null,null,null,null,null,null,null,null,null,null,null,null,null,null,null,null,"RXMHIGHLY SPECIALIST COGNITIVE BEHAVIOURAL PSYCHOTHERAPIST","RXMW6","HIGHLY SPECIALIST COGNITIVE BEHAVIOURAL PSYCHOTHERAPIST","RXMW6","HIGHLY SPECIALIST COGNITIVE BEHAVIOURAL PSYCHOTHERAPIST","RXM",null,null,"POOLE GENERAL HOSPITAL NHS TRUST HQ","E3"]
[null,null,null,null,null,null,null,null,null,null,null,null,null,null,null,null,null,null,null,null,null,null,null,null,null,null,null,null,null,null,null,null,null,null,null,null,null,null,null,null,null,null,null,null,null,null,null,null,null,null,null,null,null,null,null,null,null,null,null,null,null,null,null,null,null,null,null,null,null,"RXMST KATHERINES","RXM92","ST KATHERINES","RXM92","ST KATHERINES","RXM",null,null,"QUEEN ALEXANDRA HOSPITAL","A5,6"]
[null,null,null,null,null,null,null,null,null,null,null,null,null,null,null,null,null,null,null,null,null,null,null,null,null,null,null,null,null,null,null,null,null,null,null,null,null,null,null,null,null,null,null,null,null,null,null,null,null,null,null,null,null,null,null,null,null,null,null,null,null,null,null,null,null,null,null,null,null,"RXMWARD 2","RXM60","WARD 2","RXM60","WARD 2",{"$f":"LEFT(BU4093,3)","v":"RXM"},null,null,"QUEEN ALEXANDRA HOSPITAL","D5"]
[null,null,null,null,null,null,null,null,null,null,null,null,null,null,null,null,null,null,null,null,null,null,null,null,null,null,null,null,null,null,null,null,null,null,null,null,null,null,null,null,null,null,null,null,null,null,null,null,null,null,null,null,null,null,null,null,null,null,null,null,null,null,null,null,null,null,null,null,null,"RXNBLACKPOOL VICTORIA HOSPITAL","RXN08","BLACKPOOL VICTORIA HOSPITAL","RXN08","BLACKPOOL VICTORIA HOSPITAL","RXN",null,null,"QUEEN ALEXANDRA HOSPITAL","E7"]
[null,null,null,null,null,null,null,null,null,null,null,null,null,null,null,null,null,null,null,null,null,null,null,null,null,null,null,null,null,null,null,null,null,null,null,null,null,null,null,null,null,null,null,null,null,null,null,null,null,null,null,null,null,null,null,null,null,null,null,null,null,null,null,null,null,null,null,null,null,"RXPSUNDERLAND ROYAL HOSPITAL","RXPWE","SUNDERLAND ROYAL HOSPITAL","RXPWE","SUNDERLAND ROYAL HOSPITAL","RXP",null,null,"QUEEN ALEXANDRA HOSPITAL","G7"]
[null,null,null,null,null,null,null,null,null,null,null,null,null,null,null,null,null,null,null,null,null,null,null,null,null,null,null,null,null,null,null,null,null,null,null,null,null,null,null,null,null,null,null,null,null,null,null,null,null,null,null,null,null,null,null,null,null,null,null,null,null,null,null,null,null,null,null,null,null,"RXQFLORENCE NIGHTINGALE HOSPICE","RXQFN","FLORENCE NIGHTINGALE HOSPICE","RXQFN","FLORENCE NIGHTINGALE HOSPICE","RXQ",null,null,"QUEEN VICTORIA HOSPITAL (EAST GRINSTEAD) - RPC04","Critical Care Unit"]
[null,null,null,null,null,null,null,null,null,null,null,null,null,null,null,null,null,null,null,null,null,null,null,null,null,null,null,null,null,null,null,null,null,null,null,null,null,null,null,null,null,null,null,null,null,null,null,null,null,null,null,null,null,null,null,null,null,null,null,null,null,null,null,null,null,null,null,null,null,"RXTDAVID BROMLEY","RXT15","DAVID BROMLEY","RXT15","DAVID BROMLEY","RXT",null,null,"ST CATHERINE'S","Windermere"]
[null,null,null,null,null,null,null,null,null,null,null,null,null,null,null,null,null,null,null,null,null,null,null,null,null,null,null,null,null,null,null,null,null,null,null,null,null,null,null,null,null,null,null,null,null,null,null,null,null,null,null,null,null,null,null,null,null,null,null,null,null,null,null,null,null,null,null,null,null,"RXTFORMER WOMENS HOSPITAL","RXT21","FORMER WOMENS HOSPITAL","RXT21","FORMER WOMENS HOSPITAL","RXT",null,null,"ROYAL BERKSHIRE HOSPITAL","Cardiac Care Unit"]
[null,null,null,null,null,null,null,null,null,null,null,null,null,null,null,null,null,null,null,null,null,null,null,null,null,null,null,null,null,null,null,null,null,null,null,null,null,null,null,null,null,null,null,null,null,null,null,null,null,null,null,null,null,null,null,null,null,null,null,null,null,null,null,null,null,null,null,null,null,"RXTJUNIPER INPATIENT JNIP POST 1","RXTYT","JUNIPER INPATIENT JNIP POST 1","RXTYT","JUNIPER INPATIENT JNIP POST 1","RXT",null,null,"ROYAL BERKSHIRE HOSPITAL","Mortimer"]
[null,null,null,null,null,null,null,null,null,null,null,null,null,null,null,null,null,null,null,null,null,null,null,null,null,null,null,null,null,null,null,null,null,null,null,null,null,null,null,null,null,null,null,null,null,null,null,null,null,null,null,null,null,null,null,null,null,null,null,null,null,null,null,null,null,null,null,null,null,"RXTNP HOB WEST EIS HWEI","RXTWW","NP HOB WEST EIS HWEI","RXTWW","NP HOB WEST EIS HWEI","RXT",null,null,"HAREFIELD HOSPITAL - RT301","Maple Ward"]
[null,null,null,null,null,null,null,null,null,null,null,null,null,null,null,null,null,null,null,null,null,null,null,null,null,null,null,null,null,null,null,null,null,null,null,null,null,null,null,null,null,null,null,null,null,null,null,null,null,null,null,null,null,null,null,null,null,null,null,null,null,null,null,null,null,null,null,null,null,"RXTNP YARDLEY AOR YDAR","RXTWQ","NP YARDLEY AOR YDAR","RXTWQ","NP YARDLEY AOR YDAR","RXT",null,null,"ROYAL BROMPTON HOSPITAL - RT302","Rose Ward"]
[null,null,null,null,null,null,null,null,null,null,null,null,null,null,null,null,null,null,null,null,null,null,null,null,null,null,null,null,null,null,null,null,null,null,null,null,null,null,null,null,null,null,null,null,null,null,null,null,null,null,null,null,null,null,null,null,null,null,null,null,null,null,null,null,null,null,null,null,null,"RXTSOHO HILL","RXT74","SOHO HILL","RXT74","SOHO HILL","RXT",null,null,"ROYAL CORNWALL HOSPITAL (TRELISKE)","Critical Care Unit"]
[null,null,null,null,null,null,null,null,null,null,null,null,null,null,null,null,null,null,null,null,null,null,null,null,null,null,null,null,null,null,null,null,null,null,null,null,null,null,null,null,null,null,null,null,null,null,null,null,null,null,null,null,null,null,null,null,null,null,null,null,null,null,null,null,null,null,null,null,null,"RXTTHE ZINNIA CENTRE","RXTD2","THE ZINNIA CENTRE","RXTD2","THE ZINNIA CENTRE","RXT",null,null,"ROYAL CORNWALL HOSPITAL (TRELISKE)","Trauma Unit"]
[null,null,null,null,null,null,null,null,null,null,null,null,null,null,null,null,null,null,null,null,null,null,null,null,null,null,null,null,null,null,null,null,null,null,null,null,null,null,null,null,null,null,null,null,null,null,null,null,null,null,null,null,null,null,null,null,null,null,null,null,null,null,null,null,null,null,null,null,null,"RXVDISCOVER, WESTGATE","RXVC8","DISCOVER, WESTGATE","RXVC8","DISCOVER, WESTGATE",{"$f":"LEFT(BU4221,3)","v":"RXV"},null,null,"ROYAL DEVON AND EXETER HOSPITAL (WONFORD)","Abbey"]
[null,null,null,null,null,null,null,null,null,null,null,null,null,null,null,null,null,null,null,null,null,null,null,null,null,null,null,null,null,null,null,null,null,null,null,null,null,null,null,null,null,null,null,null,null,null,null,null,null,null,null,null,null,null,null,null,null,null,null,null,null,null,null,null,null,null,null,null,null,"RXVWENTWORTH HOUSE","RXV20","WENTWORTH HOUSE","RXV20","WENTWORTH HOUSE","RXV",null,null,"ROYAL DEVON AND EXETER HOSPITAL (WONFORD)","Dart"]
[null,null,null,null,null,null,null,null,null,null,null,null,null,null,null,null,null,null,null,null,null,null,null,null,null,null,null,null,null,null,null,null,null,null,null,null,null,null,null,null,null,null,null,null,null,null,null,null,null,null,null,null,null,null,null,null,null,null,null,null,null,null,null,null,null,null,null,null,null,"RXXCHERRY OAK","RXXHY","CHERRY OAK","RXXHY","CHERRY OAK","RXX",null,null,"ROYAL DEVON AND EXETER HOSPITAL (WONFORD)","Yeo"]
[null,null,null,null,null,null,null,null,null,null,null,null,null,null,null,null,null,null,null,null,null,null,null,null,null,null,null,null,null,null,null,null,null,null,null,null,null,null,null,null,null,null,null,null,null,null,null,null,null,null,null,null,null,null,null,null,null,null,null,null,null,null,null,null,null,null,null,null,null,"RXXEAST SURREY HOSPITAL","RXX35","EAST SURREY HOSPITAL","RXX35","EAST SURREY HOSPITAL","RXX",null,null,"BARNET HOSPITAL","Galaxy Ward"]
[null,null,null,null,null,null,null,null,null,null,null,null,null,null,null,null,null,null,null,null,null,null,null,null,null,null,null,null,null,null,null,null,null,null,null,null,null,null,null,null,null,null,null,null,null,null,null,null,null,null,null,null,null,null,null,null,null,null,null,null,null,null,null,null,null,null,null,null,null,"RXXGRANDVIEW","RXXA8","GRANDVIEW","RXXA8","GRANDVIEW","RXX",null,null,"EDGWARE COMMUNITY HOSPITAL","Neuro Rehab"]
[null,null,null,null,null,null,null,null,null,null,null,null,null,null,null,null,null,null,null,null,null,null,null,null,null,null,null,null,null,null,null,null,null,null,null,null,null,null,null,null,null,null,null,null,null,null,null,null,null,null,null,null,null,null,null,null,null,null,null,null,null,null,null,null,null,null,null,null,null,"RXXLARKFIELD","RXXHL","LARKFIELD","RXXHL","LARKFIELD","RXX",null,null,"ROYAL FREE HOSPITAL","5 South"]
[null,null,null,null,null,null,null,null,null,null,null,null,null,null,null,null,null,null,null,null,null,null,null,null,null,null,null,null,null,null,null,null,null,null,null,null,null,null,null,null,null,null,null,null,null,null,null,null,null,null,null,null,null,null,null,null,null,null,null,null,null,null,null,null,null,null,null,null,null,"RXXNURSE RXXV2","RXXV2","NURSE RXXV2","RXXV2","NURSE RXXV2","RXX",null,null,"ROYAL FREE HOSPITAL","8 West"]
[null,null,null,null,null,null,null,null,null,null,null,null,null,null,null,null,null,null,null,null,null,null,null,null,null,null,null,null,null,null,null,null,null,null,null,null,null,null,null,null,null,null,null,null,null,null,null,null,null,null,null,null,null,null,null,null,null,null,null,null,null,null,null,null,null,null,null,null,null,"RXXOLDER PEOPLE'S PSYCHIATRY","RXX88","OLDER PEOPLE'S PSYCHIATRY","RXX88","OLDER PEOPLE'S PSYCHIATRY","RXX",null,null,"BROADGREEN HOSPITAL - RQ601","Ward 11"]
[null,null,null,null,null,null,null,null,null,null,null,null,null,null,null,null,null,null,null,null,null,null,null,null,null,null,null,null,null,null,null,null,null,null,null,null,null,null,null,null,null,null,null,null,null,null,null,null,null,null,null,null,null,null,null,null,null,null,null,null,null,null,null,null,null,null,null,null,null,"RXXWEST PARK","RXX2T","WEST PARK","RXX2T","WEST PARK","RXX",null,null,"THE ROYAL LIVERPOOL UNIVERSITY HOSPITAL - RQ617","3X"]
[null,null,null,null,null,null,null,null,null,null,null,null,null,null,null,null,null,null,null,null,null,null,null,null,null,null,null,null,null,null,null,null,null,null,null,null,null,null,null,null,null,null,null,null,null,null,null,null,null,null,null,null,null,null,null,null,null,null,null,null,null,null,null,null,null,null,null,null,null,"RXYAUDLEY HOUSE","RXYA6","AUDLEY HOUSE","RXYA6","AUDLEY HOUSE","RXY",null,null,"THE ROYAL LIVERPOOL UNIVERSITY HOSPITAL - RQ617","8A"]
[null,null,null,null,null,null,null,null,null,null,null,null,null,null,null,null,null,null,null,null,null,null,null,null,null,null,null,null,null,null,null,null,null,null,null,null,null,null,null,null,null,null,null,null,null,null,null,null,null,null,null,null,null,null,null,null,null,null,null,null,null,null,null,null,null,null,null,null,null,"RXYFERN","RXY2P","FERN","RXY2P","FERN","RXY",null,null,"THE ROYAL NATIONAL ORTHOPAEDIC HOSPITAL (STANMORE)","Spinal Injuries Ward"]
[null,null,null,null,null,null,null,null,null,null,null,null,null,null,null,null,null,null,null,null,null,null,null,null,null,null,null,null,null,null,null,null,null,null,null,null,null,null,null,null,null,null,null,null,null,null,null,null,null,null,null,null,null,null,null,null,null,null,null,null,null,null,null,null,null,null,null,null,null,"RXYHIGHLANDS HOUSE","RXYH4","HIGHLANDS HOUSE","RXYH4","HIGHLANDS HOUSE","RXY",null,null,"ROYAL SURREY COUNTY HOSPITAL","Bramshott"]
[null,null,null,null,null,null,null,null,null,null,null,null,null,null,null,null,null,null,null,null,null,null,null,null,null,null,null,null,null,null,null,null,null,null,null,null,null,null,null,null,null,null,null,null,null,null,null,null,null,null,null,null,null,null,null,null,null,null,null,null,null,null,null,null,null,null,null,null,null,"RXYLANGDALE RISE","RXY7A","LANGDALE RISE","RXY7A","LANGDALE RISE","RXY",null,null,"ROYAL SURREY COUNTY HOSPITAL","Maternity"]
[null,null,null,null,null,null,null,null,null,null,null,null,null,null,null,null,null,null,null,null,null,null,null,null,null,null,null,null,null,null,null,null,null,null,null,null,null,null,null,null,null,null,null,null,null,null,null,null,null,null,null,null,null,null,null,null,null,null,null,null,null,null,null,null,null,null,null,null,null,"RXYMEDICAL CENTRE, EUREKA PLACE","RXY2V","MEDICAL CENTRE, EUREKA PLACE","RXY2V","MEDICAL CENTRE, EUREKA PLACE","RXY",null,null,"FROME VICTORIA HOSPITAL","Frome Birthing centre"]
[null,null,null,null,null,null,null,null,null,null,null,null,null,null,null,null,null,null,null,null,null,null,null,null,null,null,null,null,null,null,null,null,null,null,null,null,null,null,null,null,null,null,null,null,null,null,null,null,null,null,null,null,null,null,null,null,null,null,null,null,null,null,null,null,null,null,null,null,null,"RXYOAKAPPLE LANE REHAB. CENTRE","RXYTJ","OAKAPPLE LANE REHAB. CENTRE","RXYTJ","OAKAPPLE LANE REHAB. CENTRE","RXY",null,null,"ROYAL UNITED HOSPITAL","Combe Ward"]
[null,null,null,null,null,null,null,null,null,null,null,null,null,null,null,null,null,null,null,null,null,null,null,null,null,null,null,null,null,null,null,null,null,null,null,null,null,null,null,null,null,null,null,null,null,null,null,null,null,null,null,null,null,null,null,null,null,null,null,null,null,null,null,null,null,null,null,null,null,"RXYOPMH SEVENOAKS","RXY76","OPMH SEVENOAKS","RXY76","OPMH SEVENOAKS","RXY",null,null,"ROYAL UNITED HOSPITAL","Pierce"]
[null,null,null,null,null,null,null,null,null,null,null,null,null,null,null,null,null,null,null,null,null,null,null,null,null,null,null,null,null,null,null,null,null,null,null,null,null,null,null,null,null,null,null,null,null,null,null,null,null,null,null,null,null,null,null,null,null,null,null,null,null,null,null,null,null,null,null,null,null,"RXYPARK ROAD","RXYP2","PARK ROAD","RXYP2","PARK ROAD","RXY",null,null,"SALFORD ROYAL","ANU"]
[null,null,null,null,null,null,null,null,null,null,null,null,null,null,null,null,null,null,null,null,null,null,null,null,null,null,null,null,null,null,null,null,null,null,null,null,null,null,null,null,null,null,null,null,null,null,null,null,null,null,null,null,null,null,null,null,null,null,null,null,null,null,null,null,null,null,null,null,null,"RXYSPRINGWOOD CLOSE","RXYRM","SPRINGWOOD CLOSE","RXYRM","SPRINGWOOD CLOSE","RXY",null,null,"SALFORD ROYAL","HCU"]
[null,null,null,null,null,null,null,null,null,null,null,null,null,null,null,null,null,null,null,null,null,null,null,null,null,null,null,null,null,null,null,null,null,null,null,null,null,null,null,null,null,null,null,null,null,null,null,null,null,null,null,null,null,null,null,null,null,null,null,null,null,null,null,null,null,null,null,null,null,"RXYTWISLETON COURT","RXYTT","TWISLETON COURT","RXYTT","TWISLETON COURT","RXY",null,null,"SALFORD ROYAL","STU"]
[null,null,null,null,null,null,null,null,null,null,null,null,null,null,null,null,null,null,null,null,null,null,null,null,null,null,null,null,null,null,null,null,null,null,null,null,null,null,null,null,null,null,null,null,null,null,null,null,null,null,null,null,null,null,null,null,null,null,null,null,null,null,null,null,null,null,null,null,null,"RY1HOME LOANS","RY163","HOME LOANS","RY163","HOME LOANS","RY1",null,null,"SALISBURY DISTRICT HOSPITAL","Farley"]
[null,null,null,null,null,null,null,null,null,null,null,null,null,null,null,null,null,null,null,null,null,null,null,null,null,null,null,null,null,null,null,null,null,null,null,null,null,null,null,null,null,null,null,null,null,null,null,null,null,null,null,null,null,null,null,null,null,null,null,null,null,null,null,null,null,null,null,null,null,"RY1NEWHALL CAMPUS (COTTAGE 7)","RY162","NEWHALL CAMPUS (COTTAGE 7)","RY162","NEWHALL CAMPUS (COTTAGE 7)","RY1",null,null,"SALISBURY DISTRICT HOSPITAL","Spire"]
[null,null,null,null,null,null,null,null,null,null,null,null,null,null,null,null,null,null,null,null,null,null,null,null,null,null,null,null,null,null,null,null,null,null,null,null,null,null,null,null,null,null,null,null,null,null,null,null,null,null,null,null,null,null,null,null,null,null,null,null,null,null,null,null,null,null,null,null,null,"RY2CINNAMON BROW UNIT","RY2V3","CINNAMON BROW UNIT","RY2V3","CINNAMON BROW UNIT","RY2",null,null,"CITY HOSPITAL","D43 - Community RTG"]
[null,null,null,null,null,null,null,null,null,null,null,null,null,null,null,null,null,null,null,null,null,null,null,null,null,null,null,null,null,null,null,null,null,null,null,null,null,null,null,null,null,null,null,null,null,null,null,null,null,null,null,null,null,null,null,null,null,null,null,null,null,null,null,null,null,null,null,null,null,"RY2TAMESIDE GENERAL HOSPITAL","RY25X","TAMESIDE GENERAL HOSPITAL","RY25X","TAMESIDE GENERAL HOSPITAL","RY2",null,null,"SANDWELL GENERAL HOSPITAL","Critical Care - Sandwell"]
[null,null,null,null,null,null,null,null,null,null,null,null,null,null,null,null,null,null,null,null,null,null,null,null,null,null,null,null,null,null,null,null,null,null,null,null,null,null,null,null,null,null,null,null,null,null,null,null,null,null,null,null,null,null,null,null,null,null,null,null,null,null,null,null,null,null,null,null,null,"RY3BENJAMIN COURT","RY390","BENJAMIN COURT","RY390","BENJAMIN COURT","RY3",null,null,"SANDWELL GENERAL HOSPITAL","Newton 5 - Haematology"]
[null,null,null,null,null,null,null,null,null,null,null,null,null,null,null,null,null,null,null,null,null,null,null,null,null,null,null,null,null,null,null,null,null,null,null,null,null,null,null,null,null,null,null,null,null,null,null,null,null,null,null,null,null,null,null,null,null,null,null,null,null,null,null,null,null,null,null,null,null,"RY3LAKESIDE 400","RY304","LAKESIDE 400","RY304","LAKESIDE 400","RY3",null,null,"SHEFFIELD CHILDREN'S HOSPITAL","Ruby"]
[null,null,null,null,null,null,null,null,null,null,null,null,null,null,null,null,null,null,null,null,null,null,null,null,null,null,null,null,null,null,null,null,null,null,null,null,null,null,null,null,null,null,null,null,null,null,null,null,null,null,null,null,null,null,null,null,null,null,null,null,null,null,null,null,null,null,null,null,null,"RY3RUNWOOD HOMES","RY37G","RUNWOOD HOMES","RY37G","RUNWOOD HOMES","RY3",null,null,"FOREST LODGE","Forest Lodge Rehab"]
[null,null,null,null,null,null,null,null,null,null,null,null,null,null,null,null,null,null,null,null,null,null,null,null,null,null,null,null,null,null,null,null,null,null,null,null,null,null,null,null,null,null,null,null,null,null,null,null,null,null,null,null,null,null,null,null,null,null,null,null,null,null,null,null,null,null,null,null,null,"RY4HERTFORDSHIRE & ESSEX HOSPITAL","RY409","HERTFORDSHIRE & ESSEX HOSPITAL","RY409","HERTFORDSHIRE & ESSEX HOSPITAL","RY4",null,null,"NORTHERN GENERAL HOSPITAL","Chesterman 3"]
[null,null,null,null,null,null,null,null,null,null,null,null,null,null,null,null,null,null,null,null,null,null,null,null,null,null,null,null,null,null,null,null,null,null,null,null,null,null,null,null,null,null,null,null,null,null,null,null,null,null,null,null,null,null,null,null,null,null,null,null,null,null,null,null,null,null,null,null,null,"RY4QE2","RY480","QE2","RY480","QE2","RY4",null,null,"NORTHERN GENERAL HOSPITAL","Firth 9"]
[null,null,null,null,null,null,null,null,null,null,null,null,null,null,null,null,null,null,null,null,null,null,null,null,null,null,null,null,null,null,null,null,null,null,null,null,null,null,null,null,null,null,null,null,null,null,null,null,null,null,null,null,null,null,null,null,null,null,null,null,null,null,null,null,null,null,null,null,null,"RY6BECKETTS PARK","RY603","BECKETTS PARK","RY603","BECKETTS PARK","RY6",null,null,"NORTHERN GENERAL HOSPITAL","Osborn 4"]
[null,null,null,null,null,null,null,null,null,null,null,null,null,null,null,null,null,null,null,null,null,null,null,null,null,null,null,null,null,null,null,null,null,null,null,null,null,null,null,null,null,null,null,null,null,null,null,null,null,null,null,null,null,null,null,null,null,null,null,null,null,null,null,null,null,null,null,null,null,"RY6CHAPELTOWN HEALTH CENTRE","RY610","CHAPELTOWN HEALTH CENTRE","RY610","CHAPELTOWN HEALTH CENTRE","RY6",null,null,"ROYAL HALLAMSHIRE HOSPITAL","Labour Ward"]
[null,null,null,null,null,null,null,null,null,null,null,null,null,null,null,null,null,null,null,null,null,null,null,null,null,null,null,null,null,null,null,null,null,null,null,null,null,null,null,null,null,null,null,null,null,null,null,null,null,null,null,null,null,null,null,null,null,null,null,null,null,null,null,null,null,null,null,null,null,"RY6HANNAH HOUSE","RY622","HANNAH HOUSE","RY622","HANNAH HOUSE","RY6",null,null,"ROYAL HALLAMSHIRE HOSPITAL","Ward N2"]
[null,null,null,null,null,null,null,null,null,null,null,null,null,null,null,null,null,null,null,null,null,null,null,null,null,null,null,null,null,null,null,null,null,null,null,null,null,null,null,null,null,null,null,null,null,null,null,null,null,null,null,null,null,null,null,null,null,null,null,null,null,null,null,null,null,null,null,null,null,"RY6HUNSLET HEALTH CENTRE","RY627","HUNSLET HEALTH CENTRE","RY627","HUNSLET HEALTH CENTRE","RY6",null,null,"KING'S MILL HOSPITAL","CCU"]
[null,null,null,null,null,null,null,null,null,null,null,null,null,null,null,null,null,null,null,null,null,null,null,null,null,null,null,null,null,null,null,null,null,null,null,null,null,null,null,null,null,null,null,null,null,null,null,null,null,null,null,null,null,null,null,null,null,null,null,null,null,null,null,null,null,null,null,null,null,"RY6LEEDS COMMUNITY EQUIPMENT SERVICE","RY631","LEEDS COMMUNITY EQUIPMENT SERVICE","RY631","LEEDS COMMUNITY EQUIPMENT SERVICE","RY6",null,null,"KING'S MILL HOSPITAL","Ward 21 - Orthopaedics"]
[null,null,null,null,null,null,null,null,null,null,null,null,null,null,null,null,null,null,null,null,null,null,null,null,null,null,null,null,null,null,null,null,null,null,null,null,null,null,null,null,null,null,null,null,null,null,null,null,null,null,null,null,null,null,null,null,null,null,null,null,null,null,null,null,null,null,null,null,null,"RY6OSMONDTHORPE ONE STOP SHOP","RY637","OSMONDTHORPE ONE STOP SHOP","RY637","OSMONDTHORPE ONE STOP SHOP","RY6",null,null,"KING'S MILL HOSPITAL","Ward 51"]
[null,null,null,null,null,null,null,null,null,null,null,null,null,null,null,null,null,null,null,null,null,null,null,null,null,null,null,null,null,null,null,null,null,null,null,null,null,null,null,null,null,null,null,null,null,null,null,null,null,null,null,null,null,null,null,null,null,null,null,null,null,null,null,null,null,null,null,null,null,"RY6SEACROFT ONE STOP SHOP","RY648","SEACROFT ONE STOP SHOP","RY648","SEACROFT ONE STOP SHOP","RY6",null,null,"ROYAL SHREWSBURY HOSPITAL","Ward 26 S/ICA/U"]
[null,null,null,null,null,null,null,null,null,null,null,null,null,null,null,null,null,null,null,null,null,null,null,null,null,null,null,null,null,null,null,null,null,null,null,null,null,null,null,null,null,null,null,null,null,null,null,null,null,null,null,null,null,null,null,null,null,null,null,null,null,null,null,null,null,null,null,null,null,"RY6SWILLINGTON CLINIC","RY653","SWILLINGTON CLINIC","RY653","SWILLINGTON CLINIC","RY6",null,null,"THE PRINCESS ROYAL HOSPITAL","Ward 11"]
[null,null,null,null,null,null,null,null,null,null,null,null,null,null,null,null,null,null,null,null,null,null,null,null,null,null,null,null,null,null,null,null,null,null,null,null,null,null,null,null,null,null,null,null,null,null,null,null,null,null,null,null,null,null,null,null,null,null,null,null,null,null,null,null,null,null,null,null,null,"RY8BUXTON COTTAGE HOSPITAL","RY839","BUXTON COTTAGE HOSPITAL","RY839","BUXTON COTTAGE HOSPITAL","RY8",null,null,"JUBILEE HOUSE","ADP Jubilee House Continuing Care"]
[null,null,null,null,null,null,null,null,null,null,null,null,null,null,null,null,null,null,null,null,null,null,null,null,null,null,null,null,null,null,null,null,null,null,null,null,null,null,null,null,null,null,null,null,null,null,null,null,null,null,null,null,null,null,null,null,null,null,null,null,null,null,null,null,null,null,null,null,null,"RY8DRONFIELD CIVIC HALL","RY820","DRONFIELD CIVIC HALL","RY820","DRONFIELD CIVIC HALL","RY8",null,null,"WESTERN COMMUNITY HOSPITAL","ADS The Kite Unit"]
[null,null,null,null,null,null,null,null,null,null,null,null,null,null,null,null,null,null,null,null,null,null,null,null,null,null,null,null,null,null,null,null,null,null,null,null,null,null,null,null,null,null,null,null,null,null,null,null,null,null,null,null,null,null,null,null,null,null,null,null,null,null,null,null,null,null,null,null,null,"RY8GASTROENTEROLOGY DPT(CCH)","RY8VN","GASTROENTEROLOGY DPT(CCH)","RY8VN","GASTROENTEROLOGY DPT(CCH)","RY8",null,null,"RYDON","Rydon 2"]
[null,null,null,null,null,null,null,null,null,null,null,null,null,null,null,null,null,null,null,null,null,null,null,null,null,null,null,null,null,null,null,null,null,null,null,null,null,null,null,null,null,null,null,null,null,null,null,null,null,null,null,null,null,null,null,null,null,null,null,null,null,null,null,null,null,null,null,null,null,"RY8GYNAECOLOGY - RIPLEY","RY8EJ","GYNAECOLOGY - RIPLEY","RY8EJ","GYNAECOLOGY - RIPLEY","RY8",null,null,"Bethlem Royal Hospital","Acorn Lodge Childrens Unit"]
[null,null,null,null,null,null,null,null,null,null,null,null,null,null,null,null,null,null,null,null,null,null,null,null,null,null,null,null,null,null,null,null,null,null,null,null,null,null,null,null,null,null,null,null,null,null,null,null,null,null,null,null,null,null,null,null,null,null,null,null,null,null,null,null,null,null,null,null,null,"RY8ILKESTON HOSPITAL","RY846","ILKESTON HOSPITAL","RY846","ILKESTON HOSPITAL","RY8",null,null,"Bethlem Royal Hospital","Fitzmary 1 (FM1)"]
[null,null,null,null,null,null,null,null,null,null,null,null,null,null,null,null,null,null,null,null,null,null,null,null,null,null,null,null,null,null,null,null,null,null,null,null,null,null,null,null,null,null,null,null,null,null,null,null,null,null,null,null,null,null,null,null,null,null,null,null,null,null,null,null,null,null,null,null,null,"RY8OPMH","RY8HN","OPMH","RY8HN","OPMH","RY8",null,null,"LEWISHAM HEATHER CLOSE","Heather Close Rehabilitation Inpatient Ward"]
[null,null,null,null,null,null,null,null,null,null,null,null,null,null,null,null,null,null,null,null,null,null,null,null,null,null,null,null,null,null,null,null,null,null,null,null,null,null,null,null,null,null,null,null,null,null,null,null,null,null,null,null,null,null,null,null,null,null,null,null,null,null,null,null,null,null,null,null,null,"RY8ST MARY'S HOSPITAL","RY8CX","ST MARY'S HOSPITAL","RY8CX","ST MARY'S HOSPITAL","RY8",null,null,"The Lambeth Hospital","Rosa Parks Ward"]
[null,null,null,null,null,null,null,null,null,null,null,null,null,null,null,null,null,null,null,null,null,null,null,null,null,null,null,null,null,null,null,null,null,null,null,null,null,null,null,null,null,null,null,null,null,null,null,null,null,null,null,null,null,null,null,null,null,null,null,null,null,null,null,null,null,null,null,null,null,"RY8ST OSWALD'S","RY87V","ST OSWALD'S","RY87V","ST OSWALD'S","RY8",null,null,"The Lambeth Hospital","Tony Hillis Unit"]
[null,null,null,null,null,null,null,null,null,null,null,null,null,null,null,null,null,null,null,null,null,null,null,null,null,null,null,null,null,null,null,null,null,null,null,null,null,null,null,null,null,null,null,null,null,null,null,null,null,null,null,null,null,null,null,null,null,null,null,null,null,null,null,null,null,null,null,null,null,"RYGCANLEY HEALTH VISITORS BASE","RYGFL","CANLEY HEALTH VISITORS BASE","RYGFL","CANLEY HEALTH VISITORS BASE","RYG",null,null,"THE JAMES COOK UNIVERSITY HOSPITAL","JC24 (Ward 24)"]
[null,null,null,null,null,null,null,null,null,null,null,null,null,null,null,null,null,null,null,null,null,null,null,null,null,null,null,null,null,null,null,null,null,null,null,null,null,null,null,null,null,null,null,null,null,null,null,null,null,null,null,null,null,null,null,null,null,null,null,null,null,null,null,null,null,null,null,null,null,"RYGPAYBODY BUILDING","RYGHP","PAYBODY BUILDING","RYGHP","PAYBODY BUILDING","RYG",null,null,"THE JAMES COOK UNIVERSITY HOSPITAL","JC34 (Ward 34)"]
[null,null,null,null,null,null,null,null,null,null,null,null,null,null,null,null,null,null,null,null,null,null,null,null,null,null,null,null,null,null,null,null,null,null,null,null,null,null,null,null,null,null,null,null,null,null,null,null,null,null,null,null,null,null,null,null,null,null,null,null,null,null,null,null,null,null,null,null,null,"RYGTHE WILLOWS","RYG50","THE WILLOWS","RYG50","THE WILLOWS","RYG",null,null,"THE JAMES COOK UNIVERSITY HOSPITAL","Ward 3"]
[null,null,null,null,null,null,null,null,null,null,null,null,null,null,null,null,null,null,null,null,null,null,null,null,null,null,null,null,null,null,null,null,null,null,null,null,null,null,null,null,null,null,null,null,null,null,null,null,null,null,null,null,null,null,null,null,null,null,null,null,null,null,null,null,null,null,null,null,null,"RYKBUSHEY FIELDS HOSPITAL 10","RYKD7","BUSHEY FIELDS HOSPITAL 10","RYKD7","BUSHEY FIELDS HOSPITAL 10","RYK",null,null,"SOUTH TYNESIDE DISTRICT HOSPITAL","WARD 6 / CCU (CORONARY CARE UNIT)"]
[null,null,null,null,null,null,null,null,null,null,null,null,null,null,null,null,null,null,null,null,null,null,null,null,null,null,null,null,null,null,null,null,null,null,null,null,null,null,null,null,null,null,null,null,null,null,null,null,null,null,null,null,null,null,null,null,null,null,null,null,null,null,null,null,null,null,null,null,null,"RYKBUSHEY FIELDS HOSPITAL 12","RYKD9","BUSHEY FIELDS HOSPITAL 12","RYKD9","BUSHEY FIELDS HOSPITAL 12","RYK",null,null,"ST BENEDICT'S HOSPICE","ST BENEDICTS"]
[null,null,null,null,null,null,null,null,null,null,null,null,null,null,null,null,null,null,null,null,null,null,null,null,null,null,null,null,null,null,null,null,null,null,null,null,null,null,null,null,null,null,null,null,null,null,null,null,null,null,null,null,null,null,null,null,null,null,null,null,null,null,null,null,null,null,null,null,null,"RYKCANALSIDE 1","RYKA8","CANALSIDE 1","RYKA8","CANALSIDE 1","RYK",null,null,"SUNDERLAND ROYAL HOSPITAL","DGD42"]
[null,null,null,null,null,null,null,null,null,null,null,null,null,null,null,null,null,null,null,null,null,null,null,null,null,null,null,null,null,null,null,null,null,null,null,null,null,null,null,null,null,null,null,null,null,null,null,null,null,null,null,null,null,null,null,null,null,null,null,null,null,null,null,null,null,null,null,null,null,"RYQQUEEN MARY'S HOSPITAL SIDCUP","RYQ10","QUEEN MARY'S HOSPITAL SIDCUP","RYQ10","QUEEN MARY'S HOSPITAL SIDCUP","RYQ",null,null,"ROYAL LEAMINGTON SPA REHABILITATION HOSPITAL","Campion ward"]
[null,null,null,null,null,null,null,null,null,null,null,null,null,null,null,null,null,null,null,null,null,null,null,null,null,null,null,null,null,null,null,null,null,null,null,null,null,null,null,null,null,null,null,null,null,null,null,null,null,null,null,null,null,null,null,null,null,null,null,null,null,null,null,null,null,null,null,null,null,"RYQSLH @ DARENT VALLEY HOSPITAL","RYQ22","SLH @ DARENT VALLEY HOSPITAL","RYQ22","SLH @ DARENT VALLEY HOSPITAL","RYQ",null,null,"ROYAL LEAMINGTON SPA REHABILITATION HOSPITAL","Chadwick ward"]
[null,null,null,null,null,null,null,null,null,null,null,null,null,null,null,null,null,null,null,null,null,null,null,null,null,null,null,null,null,null,null,null,null,null,null,null,null,null,null,null,null,null,null,null,null,null,null,null,null,null,null,null,null,null,null,null,null,null,null,null,null,null,null,null,null,null,null,null,null,"RYVPRINCESS OF WALES HOSPITAL","RYV03","PRINCESS OF WALES HOSPITAL","RYV03","PRINCESS OF WALES HOSPITAL","RYV",null,null,"QUEEN MARY'S HOSPITAL","Laurel Ward"]
[null,null,null,null,null,null,null,null,null,null,null,null,null,null,null,null,null,null,null,null,null,null,null,null,null,null,null,null,null,null,null,null,null,null,null,null,null,null,null,null,null,null,null,null,null,null,null,null,null,null,null,null,null,null,null,null,null,null,null,null,null,null,null,null,null,null,null,null,null,"RYWCOMMUNITY UNIT 29 AT HEARTLANDS HOSPITAL","RYW02","COMMUNITY UNIT 29 AT HEARTLANDS HOSPITAL","RYW02","COMMUNITY UNIT 29 AT HEARTLANDS HOSPITAL","RYW",null,null,"SPRINGFIELD UNIVERSITY HOSPITAL","Halswell Ward"]
[null,null,null,null,null,null,null,null,null,null,null,null,null,null,null,null,null,null,null,null,null,null,null,null,null,null,null,null,null,null,null,null,null,null,null,null,null,null,null,null,null,null,null,null,null,null,null,null,null,null,null,null,null,null,null,null,null,null,null,null,null,null,null,null,null,null,null,null,null,"RYWSHELDON HEATH - LAND ONLY","RYW15","SHELDON HEATH - LAND ONLY","RYW15","SHELDON HEATH - LAND ONLY","RYW",null,null,"TOLWORTH HOSPITAL","Lilacs Ward"]
[null,null,null,null,null,null,null,null,null,null,null,null,null,null,null,null,null,null,null,null,null,null,null,null,null,null,null,null,null,null,null,null,null,null,null,null,null,null,null,null,null,null,null,null,null,null,null,null,null,null,null,null,null,null,null,null,null,null,null,null,null,null,null,null,null,null,null,null,null,"RYXPRINCESS LOUISE NURSING HOME","RYX27","PRINCESS LOUISE NURSING HOME","RYX27","PRINCESS LOUISE NURSING HOME","RYX",null,null,"FIELDHEAD HOSPITAL","Newhaven"]
[null,null,null,null,null,null,null,null,null,null,null,null,null,null,null,null,null,null,null,null,null,null,null,null,null,null,null,null,null,null,null,null,null,null,null,null,null,null,null,null,null,null,null,null,null,null,null,null,null,null,null,null,null,null,null,null,null,null,null,null,null,null,null,null,null,null,null,null,null,"RYYFAMILY PLANNING","RYYL8","FAMILY PLANNING","RYYL8","FAMILY PLANNING","RYY",null,null,"KENDRAY HOSPITAL","Stroke Rehab Unit"]
[null,null,null,null,null,null,null,null,null,null,null,null,null,null,null,null,null,null,null,null,null,null,null,null,null,null,null,null,null,null,null,null,null,null,null,null,null,null,null,null,null,null,null,null,null,null,null,null,null,null,null,null,null,null,null,null,null,null,null,null,null,null,null,null,null,null,null,null,null,"RYYHIGHPOINT UNIT 1","RYY03","HIGHPOINT UNIT 1","RYY03","HIGHPOINT UNIT 1","RYY",null,null,"THE POPLARS","Poplars"]
[null,null,null,null,null,null,null,null,null,null,null,null,null,null,null,null,null,null,null,null,null,null,null,null,null,null,null,null,null,null,null,null,null,null,null,null,null,null,null,null,null,null,null,null,null,null,null,null,null,null,null,null,null,null,null,null,null,null,null,null,null,null,null,null,null,null,null,null,null,"RYYTHE OAST","RYYE3","THE OAST","RYYE3","THE OAST","RYY",null,null,"SOUTHEND HOSPITAL","Stroke Unit (Paglesham & Benfleet)"]
[null,null,null,null,null,null,null,null,null,null,null,null,null,null,null,null,null,null,null,null,null,null,null,null,null,null,null,null,null,null,null,null,null,null,null,null,null,null,null,null,null,null,null,null,null,null,null,null,null,null,null,null,null,null,null,null,null,null,null,null,null,null,null,null,null,null,null,null,null,"RYYTONBRIDGE COTTAGE HOSPITAL","RYYDC","TONBRIDGE COTTAGE HOSPITAL","RYYDC","TONBRIDGE COTTAGE HOSPITAL","RYY",null,null,"SOUTHEND HOSPITAL","Windsor"]
[null,null,null,null,null,null,null,null,null,null,null,null,null,null,null,null,null,null,null,null,null,null,null,null,null,null,null,null,null,null,null,null,null,null,null,null,null,null,null,null,null,null,null,null,null,null,null,null,null,null,null,null,null,null,null,null,null,null,null,null,null,null,null,null,null,null,null,null,null,"TADGENESIS 5","TAD85","GENESIS 5","TAD85","GENESIS 5","TAD",null,null,"LYMINGTON NEW FOREST HOSPITAL","Longbeech Ward"]
[null,null,null,null,null,null,null,null,null,null,null,null,null,null,null,null,null,null,null,null,null,null,null,null,null,null,null,null,null,null,null,null,null,null,null,null,null,null,null,null,null,null,null,null,null,null,null,null,null,null,null,null,null,null,null,null,null,null,null,null,null,null,null,null,null,null,null,null,null,"TAFCALEDONIAN ROAD (RESIDENTIAL SERVICES)","TAF75","CALEDONIAN ROAD (RESIDENTIAL SERVICES)","TAF75","CALEDONIAN ROAD (RESIDENTIAL SERVICES)","TAF",null,null,"RAVENSWOOD HOUSE","Lyndhurst Ward"]
[null,null,null,null,null,null,null,null,null,null,null,null,null,null,null,null,null,null,null,null,null,null,null,null,null,null,null,null,null,null,null,null,null,null,null,null,null,null,null,null,null,null,null,null,null,null,null,null,null,null,null,null,null,null,null,null,null,null,null,null,null,null,null,null,null,null,null,null,null,"TAFELTHORNE MENTAL HEALTH & SOCIAL CARE CENTRE","TAF33","ELTHORNE MENTAL HEALTH & SOCIAL CARE CENTRE","TAF33","ELTHORNE MENTAL HEALTH & SOCIAL CARE CENTRE","TAF",null,null,"ORMSKIRK AND DISTRICT GENERAL HOSPITAL","Short Stay Surgical Unit"]
[null,null,null,null,null,null,null,null,null,null,null,null,null,null,null,null,null,null,null,null,null,null,null,null,null,null,null,null,null,null,null,null,null,null,null,null,null,null,null,null,null,null,null,null,null,null,null,null,null,null,null,null,null,null,null,null,null,null,null,null,null,null,null,null,null,null,null,null,null,"TAFHILL HOUSE","TAF80","HILL HOUSE","TAF80","HILL HOUSE","TAF",null,null,"SOUTHPORT AND FORMBY DISTRICT GENERAL HOSPITAL","Spinal Injuries Unit"]
[null,null,null,null,null,null,null,null,null,null,null,null,null,null,null,null,null,null,null,null,null,null,null,null,null,null,null,null,null,null,null,null,null,null,null,null,null,null,null,null,null,null,null,null,null,null,null,null,null,null,null,null,null,null,null,null,null,null,null,null,null,null,null,null,null,null,null,null,null,"TAFPECKWATER CENTRE","TAF58","PECKWATER CENTRE","TAF58","PECKWATER CENTRE","TAF",null,null,"ST GEORGE'S HOSPITAL (TOOTING)","Belgrave Ward AMW"]
[null,null,null,null,null,null,null,null,null,null,null,null,null,null,null,null,null,null,null,null,null,null,null,null,null,null,null,null,null,null,null,null,null,null,null,null,null,null,null,null,null,null,null,null,null,null,null,null,null,null,null,null,null,null,null,null,null,null,null,null,null,null,null,null,null,null,null,null,null,"TAFROYAL FREE HOSPITAL","TAF06","ROYAL FREE HOSPITAL","TAF06","ROYAL FREE HOSPITAL","TAF",null,null,"ST GEORGE'S HOSPITAL (TOOTING)","Coronary Care Unit"]
[null,null,null,null,null,null,null,null,null,null,null,null,null,null,null,null,null,null,null,null,null,null,null,null,null,null,null,null,null,null,null,null,null,null,null,null,null,null,null,null,null,null,null,null,null,null,null,null,null,null,null,null,null,null,null,null,null,null,null,null,null,null,null,null,null,null,null,null,null,"TAHGREENACRES","TAH43","GREENACRES","TAH43","GREENACRES","TAH",null,null,"ST GEORGE'S HOSPITAL (TOOTING)","Nye Bevan Unit"]
[null,null,null,null,null,null,null,null,null,null,null,null,null,null,null,null,null,null,null,null,null,null,null,null,null,null,null,null,null,null,null,null,null,null,null,null,null,null,null,null,null,null,null,null,null,null,null,null,null,null,null,null,null,null,null,null,null,null,null,null,null,null,null,null,null,null,null,null,null,"TAHGRENOSIDE GRANGE","TAHXP","GRENOSIDE GRANGE","TAHXP","GRENOSIDE GRANGE","TAH",null,null,"ST GEORGE'S HOSPITAL (TOOTING)","Paediatric Intensive Care Unit"]
[null,null,null,null,null,null,null,null,null,null,null,null,null,null,null,null,null,null,null,null,null,null,null,null,null,null,null,null,null,null,null,null,null,null,null,null,null,null,null,null,null,null,null,null,null,null,null,null,null,null,null,null,null,null,null,null,null,null,null,null,null,null,null,null,null,null,null,null,null,"TAJEDWARD STREET HOSPITAL","TAJ07","EDWARD STREET HOSPITAL","TAJ07","EDWARD STREET HOSPITAL","TAJ",null,null,"WHISTON HOSPITAL","2C"]
[null,null,null,null,null,null,null,null,null,null,null,null,null,null,null,null,null,null,null,null,null,null,null,null,null,null,null,null,null,null,null,null,null,null,null,null,null,null,null,null,null,null,null,null,null,null,null,null,null,null,null,null,null,null,null,null,null,null,null,null,null,null,null,null,null,null,null,null,null,null,null,null,null,null,"",null,null,"WHISTON HOSPITAL","4C"]
[null,null,null,null,null,null,null,null,null,null,null,null,null,null,null,null,null,null,null,null,null,null,null,null,null,null,null,null,null,null,null,null,null,null,null,null,null,null,null,null,null,null,null,null,null,null,null,null,null,null,null,null,null,null,null,null,null,null,null,null,null,null,null,null,null,null,null,null,null,null,null,null,null,null,"",null,null,"CHERRY TREE HOSPITAL","Devonshire Centre for Neuro-Rehabilitation"]
[null,null,null,null,null,null,null,null,null,null,null,null,null,null,null,null,null,null,null,null,null,null,null,null,null,null,null,null,null,null,null,null,null,null,null,null,null,null,null,null,null,null,null,null,null,null,null,null,null,null,null,null,null,null,null,null,null,null,null,null,null,null,null,null,null,null,null,null,null,null,null,null,null,null,"",null,null,"STEPPING HILL HOSPITAL","C3"]
[null,null,null,null,null,null,null,null,null,null,null,null,null,null,null,null,null,null,null,null,null,null,null,null,null,null,null,null,null,null,null,null,null,null,null,null,null,null,null,null,null,null,null,null,null,null,null,null,null,null,null,null,null,null,null,null,null,null,null,null,null,null,null,null,null,null,null,null,null,null,null,null,null,null,"",null,null,"STEPPING HILL HOSPITAL","E2"]
[null,null,null,null,null,null,null,null,null,null,null,null,null,null,null,null,null,null,null,null,null,null,null,null,null,null,null,null,null,null,null,null,null,null,null,null,null,null,null,null,null,null,null,null,null,null,null,null,null,null,null,null,null,null,null,null,null,null,null,null,null,null,null,null,null,null,null,null,null,null,null,null,null,null,"",null,null,"FARNHAM HOSPITAL","Rowan"]
[null,null,null,null,null,null,null,null,null,null,null,null,null,null,null,null,null,null,null,null,null,null,null,null,null,null,null,null,null,null,null,null,null,null,null,null,null,null,null,null,null,null,null,null,null,null,null,null,null,null,null,null,null,null,null,null,null,null,null,null,null,null,null,null,null,null,null,null,null,null,null,null,null,null,"",null,null,"EAST SURREY HOSPITAL","Capel Ward"]
[null,null,null,null,null,null,null,null,null,null,null,null,null,null,null,null,null,null,null,null,null,null,null,null,null,null,null,null,null,null,null,null,null,null,null,null,null,null,null,null,null,null,null,null,null,null,null,null,null,null,null,null,null,null,null,null,null,null,null,null,null,null,null,null,null,null,null,null,null,null,null,null,null,null,"",null,null,"EAST SURREY HOSPITAL","Chaldon Ward"]
[null,null,null,null,null,null,null,null,null,null,null,null,null,null,null,null,null,null,null,null,null,null,null,null,null,null,null,null,null,null,null,null,null,null,null,null,null,null,null,null,null,null,null,null,null,null,null,null,null,null,null,null,null,null,null,null,null,null,null,null,null,null,null,null,null,null,null,null,null,null,null,null,null,null,"",null,null,"EAST SURREY HOSPITAL","Woodland Ward"]
[null,null,null,null,null,null,null,null,null,null,null,null,null,null,null,null,null,null,null,null,null,null,null,null,null,null,null,null,null,null,null,null,null,null,null,null,null,null,null,null,null,null,null,null,null,null,null,null,null,null,null,null,null,null,null,null,null,null,null,null,null,null,null,null,null,null,null,null,null,null,null,null,null,null,"",null,null,"ZACHARY MERTON HOSPITAL","Zachary Merton Ward"]
[null,null,null,null,null,null,null,null,null,null,null,null,null,null,null,null,null,null,null,null,null,null,null,null,null,null,null,null,null,null,null,null,null,null,null,null,null,null,null,null,null,null,null,null,null,null,null,null,null,null,null,null,null,null,null,null,null,null,null,null,null,null,null,null,null,null,null,null,null,null,null,null,null,null,"",null,null,"CONQUEST HOSPITAL","Woodlands Castle"]
[null,null,null,null,null,null,null,null,null,null,null,null,null,null,null,null,null,null,null,null,null,null,null,null,null,null,null,null,null,null,null,null,null,null,null,null,null,null,null,null,null,null,null,null,null,null,null,null,null,null,null,null,null,null,null,null,null,null,null,null,null,null,null,null,null,null,null,null,null,null,null,null,null,null,null,null,null,"IRIS WARD","Iris Ward"]
[null,null,null,null,null,null,null,null,null,null,null,null,null,null,null,null,null,null,null,null,null,null,null,null,null,null,null,null,null,null,null,null,null,null,null,null,null,null,null,null,null,null,null,null,null,null,null,null,null,null,null,null,null,null,null,null,null,null,null,null,null,null,null,null,null,null,null,null,null,null,null,null,null,null,null,null,null,"MILL VIEW HOSPITAL","Pavillion Ward"]
[null,null,null,null,null,null,null,null,null,null,null,null,null,null,null,null,null,null,null,null,null,null,null,null,null,null,null,null,null,null,null,null,null,null,null,null,null,null,null,null,null,null,null,null,null,null,null,null,null,null,null,null,null,null,null,null,null,null,null,null,null,null,null,null,null,null,null,null,null,null,null,null,null,null,null,null,null,"TAMESIDE GENERAL HOSPITAL","Childrens Unit"]
[null,null,null,null,null,null,null,null,null,null,null,null,null,null,null,null,null,null,null,null,null,null,null,null,null,null,null,null,null,null,null,null,null,null,null,null,null,null,null,null,null,null,null,null,null,null,null,null,null,null,null,null,null,null,null,null,null,null,null,null,null,null,null,null,null,null,null,null,null,null,null,null,null,null,null,null,null,"MUSGROVE PARK HOSPITAL","Blake"]
[null,null,null,null,null,null,null,null,null,null,null,null,null,null,null,null,null,null,null,null,null,null,null,null,null,null,null,null,null,null,null,null,null,null,null,null,null,null,null,null,null,null,null,null,null,null,null,null,null,null,null,null,null,null,null,null,null,null,null,null,null,null,null,null,null,null,null,null,null,null,null,null,null,null,null,null,null,"MUSGROVE PARK HOSPITAL","CCU"]
[null,null,null,null,null,null,null,null,null,null,null,null,null,null,null,null,null,null,null,null,null,null,null,null,null,null,null,null,null,null,null,null,null,null,null,null,null,null,null,null,null,null,null,null,null,null,null,null,null,null,null,null,null,null,null,null,null,null,null,null,null,null,null,null,null,null,null,null,null,null,null,null,null,null,null,null,null,"MUSGROVE PARK HOSPITAL","Wordsworth"]
[null,null,null,null,null,null,null,null,null,null,null,null,null,null,null,null,null,null,null,null,null,null,null,null,null,null,null,null,null,null,null,null,null,null,null,null,null,null,null,null,null,null,null,null,null,null,null,null,null,null,null,null,null,null,null,null,null,null,null,null,null,null,null,null,null,null,null,null,null,null,null,null,null,null,null,null,null,"LANCHESTER ROAD HOSPITAL","Roseberry Wards"]
[null,null,null,null,null,null,null,null,null,null,null,null,null,null,null,null,null,null,null,null,null,null,null,null,null,null,null,null,null,null,null,null,null,null,null,null,null,null,null,null,null,null,null,null,null,null,null,null,null,null,null,null,null,null,null,null,null,null,null,null,null,null,null,null,null,null,null,null,null,null,null,null,null,null,null,null,null,"OAKWOOD UNIT","Oakwood"]
[null,null,null,null,null,null,null,null,null,null,null,null,null,null,null,null,null,null,null,null,null,null,null,null,null,null,null,null,null,null,null,null,null,null,null,null,null,null,null,null,null,null,null,null,null,null,null,null,null,null,null,null,null,null,null,null,null,null,null,null,null,null,null,null,null,null,null,null,null,null,null,null,null,null,null,null,null,"ROSEBERRY PARK HOSPITAL","Kestrel / Kite."]
[null,null,null,null,null,null,null,null,null,null,null,null,null,null,null,null,null,null,null,null,null,null,null,null,null,null,null,null,null,null,null,null,null,null,null,null,null,null,null,null,null,null,null,null,null,null,null,null,null,null,null,null,null,null,null,null,null,null,null,null,null,null,null,null,null,null,null,null,null,null,null,null,null,null,null,null,null,"ROSEBERRY PARK HOSPITAL","Swift Ward"]
[null,null,null,null,null,null,null,null,null,null,null,null,null,null,null,null,null,null,null,null,null,null,null,null,null,null,null,null,null,null,null,null,null,null,null,null,null,null,null,null,null,null,null,null,null,null,null,null,null,null,null,null,null,null,null,null,null,null,null,null,null,null,null,null,null,null,null,null,null,null,null,null,null,null,null,null,null,"WEST LANE HOSPITAL","The Evergreen Centre"]
[null,null,null,null,null,null,null,null,null,null,null,null,null,null,null,null,null,null,null,null,null,null,null,null,null,null,null,null,null,null,null,null,null,null,null,null,null,null,null,null,null,null,null,null,null,null,null,null,null,null,null,null,null,null,null,null,null,null,null,null,null,null,null,null,null,null,null,null,null,null,null,null,null,null,null,null,null,"THE CHRISTIE","Ward 11"]
[null,null,null,null,null,null,null,null,null,null,null,null,null,null,null,null,null,null,null,null,null,null,null,null,null,null,null,null,null,null,null,null,null,null,null,null,null,null,null,null,null,null,null,null,null,null,null,null,null,null,null,null,null,null,null,null,null,null,null,null,null,null,null,null,null,null,null,null,null,null,null,null,null,null,null,null,null,"RUSSELLS HALL HOSPITAL","B2(H)"]
[null,null,null,null,null,null,null,null,null,null,null,null,null,null,null,null,null,null,null,null,null,null,null,null,null,null,null,null,null,null,null,null,null,null,null,null,null,null,null,null,null,null,null,null,null,null,null,null,null,null,null,null,null,null,null,null,null,null,null,null,null,null,null,null,null,null,null,null,null,null,null,null,null,null,null,null,null,"HILLINGDON HOSPITAL","AMU"]
[null,null,null,null,null,null,null,null,null,null,null,null,null,null,null,null,null,null,null,null,null,null,null,null,null,null,null,null,null,null,null,null,null,null,null,null,null,null,null,null,null,null,null,null,null,null,null,null,null,null,null,null,null,null,null,null,null,null,null,null,null,null,null,null,null,null,null,null,null,null,null,null,null,null,null,null,null,"HILLINGDON HOSPITAL","KENNEDY"]
[null,null,null,null,null,null,null,null,null,null,null,null,null,null,null,null,null,null,null,null,null,null,null,null,null,null,null,null,null,null,null,null,null,null,null,null,null,null,null,null,null,null,null,null,null,null,null,null,null,null,null,null,null,null,null,null,null,null,null,null,null,null,null,null,null,null,null,null,null,null,null,null,null,null,null,null,null,"FREEMAN HOSPITAL - RTD01","FH01"]
[null,null,null,null,null,null,null,null,null,null,null,null,null,null,null,null,null,null,null,null,null,null,null,null,null,null,null,null,null,null,null,null,null,null,null,null,null,null,null,null,null,null,null,null,null,null,null,null,null,null,null,null,null,null,null,null,null,null,null,null,null,null,null,null,null,null,null,null,null,null,null,null,null,null,null,null,null,"FREEMAN HOSPITAL - RTD01","FH13"]
[null,null,null,null,null,null,null,null,null,null,null,null,null,null,null,null,null,null,null,null,null,null,null,null,null,null,null,null,null,null,null,null,null,null,null,null,null,null,null,null,null,null,null,null,null,null,null,null,null,null,null,null,null,null,null,null,null,null,null,null,null,null,null,null,null,null,null,null,null,null,null,null,null,null,null,null,null,"FREEMAN HOSPITAL - RTD01","FH29"]
[null,null,null,null,null,null,null,null,null,null,null,null,null,null,null,null,null,null,null,null,null,null,null,null,null,null,null,null,null,null,null,null,null,null,null,null,null,null,null,null,null,null,null,null,null,null,null,null,null,null,null,null,null,null,null,null,null,null,null,null,null,null,null,null,null,null,null,null,null,null,null,null,null,null,null,null,null,"THE ROYAL VICTORIA INFIRMARY - RTD02","RV01A"]
[null,null,null,null,null,null,null,null,null,null,null,null,null,null,null,null,null,null,null,null,null,null,null,null,null,null,null,null,null,null,null,null,null,null,null,null,null,null,null,null,null,null,null,null,null,null,null,null,null,null,null,null,null,null,null,null,null,null,null,null,null,null,null,null,null,null,null,null,null,null,null,null,null,null,null,null,null,"THE ROYAL VICTORIA INFIRMARY - RTD02","RV19"]
[null,null,null,null,null,null,null,null,null,null,null,null,null,null,null,null,null,null,null,null,null,null,null,null,null,null,null,null,null,null,null,null,null,null,null,null,null,null,null,null,null,null,null,null,null,null,null,null,null,null,null,null,null,null,null,null,null,null,null,null,null,null,null,null,null,null,null,null,null,null,null,null,null,null,null,null,null,"THE ROYAL VICTORIA INFIRMARY - RTD02","RV49"]
[null,null,null,null,null,null,null,null,null,null,null,null,null,null,null,null,null,null,null,null,null,null,null,null,null,null,null,null,null,null,null,null,null,null,null,null,null,null,null,null,null,null,null,null,null,null,null,null,null,null,null,null,null,null,null,null,null,null,null,null,null,null,null,null,null,null,null,null,null,null,null,null,null,null,null,null,null,"PRINCESS ALEXANDRA HOSPITAL - RQWG0","Dolphin Ward"]
[null,null,null,null,null,null,null,null,null,null,null,null,null,null,null,null,null,null,null,null,null,null,null,null,null,null,null,null,null,null,null,null,null,null,null,null,null,null,null,null,null,null,null,null,null,null,null,null,null,null,null,null,null,null,null,null,null,null,null,null,null,null,null,null,null,null,null,null,null,null,null,null,null,null,null,null,null,"PRINCESS ALEXANDRA HOSPITAL - RQWG0","Neo-Natal Unit"]
[null,null,null,null,null,null,null,null,null,null,null,null,null,null,null,null,null,null,null,null,null,null,null,null,null,null,null,null,null,null,null,null,null,null,null,null,null,null,null,null,null,null,null,null,null,null,null,null,null,null,null,null,null,null,null,null,null,null,null,null,null,null,null,null,null,null,null,null,null,null,null,null,null,null,null,null,null,"THE QUEEN ELIZABETH HOSPITAL","Central Delivery suite"]
[null,null,null,null,null,null,null,null,null,null,null,null,null,null,null,null,null,null,null,null,null,null,null,null,null,null,null,null,null,null,null,null,null,null,null,null,null,null,null,null,null,null,null,null,null,null,null,null,null,null,null,null,null,null,null,null,null,null,null,null,null,null,null,null,null,null,null,null,null,null,null,null,null,null,null,null,null,"THE QUEEN ELIZABETH HOSPITAL","Oxborough"]
[null,null,null,null,null,null,null,null,null,null,null,null,null,null,null,null,null,null,null,null,null,null,null,null,null,null,null,null,null,null,null,null,null,null,null,null,null,null,null,null,null,null,null,null,null,null,null,null,null,null,null,null,null,null,null,null,null,null,null,null,null,null,null,null,null,null,null,null,null,null,null,null,null,null,null,null,null,"ROBERT JONES AND AGNES HUNT ORTHOPAEDIC HOSPITAL","Kenyon"]
[null,null,null,null,null,null,null,null,null,null,null,null,null,null,null,null,null,null,null,null,null,null,null,null,null,null,null,null,null,null,null,null,null,null,null,null,null,null,null,null,null,null,null,null,null,null,null,null,null,null,null,null,null,null,null,null,null,null,null,null,null,null,null,null,null,null,null,null,null,null,null,null,null,null,null,null,null,"ROTHERHAM DISTRICT GENERAL HOSPITAL","A5"]
[null,null,null,null,null,null,null,null,null,null,null,null,null,null,null,null,null,null,null,null,null,null,null,null,null,null,null,null,null,null,null,null,null,null,null,null,null,null,null,null,null,null,null,null,null,null,null,null,null,null,null,null,null,null,null,null,null,null,null,null,null,null,null,null,null,null,null,null,null,null,null,null,null,null,null,null,null,"ROTHERHAM DISTRICT GENERAL HOSPITAL","Neuro Rehab"]
[null,null,null,null,null,null,null,null,null,null,null,null,null,null,null,null,null,null,null,null,null,null,null,null,null,null,null,null,null,null,null,null,null,null,null,null,null,null,null,null,null,null,null,null,null,null,null,null,null,null,null,null,null,null,null,null,null,null,null,null,null,null,null,null,null,null,null,null,null,null,null,null,null,null,null,null,null,"ROYAL BOURNEMOUTH GENERAL HOSPITAL","RB04"]
[null,null,null,null,null,null,null,null,null,null,null,null,null,null,null,null,null,null,null,null,null,null,null,null,null,null,null,null,null,null,null,null,null,null,null,null,null,null,null,null,null,null,null,null,null,null,null,null,null,null,null,null,null,null,null,null,null,null,null,null,null,null,null,null,null,null,null,null,null,null,null,null,null,null,null,null,null,"ROYAL BOURNEMOUTH GENERAL HOSPITAL","RBO"]
[null,null,null,null,null,null,null,null,null,null,null,null,null,null,null,null,null,null,null,null,null,null,null,null,null,null,null,null,null,null,null,null,null,null,null,null,null,null,null,null,null,null,null,null,null,null,null,null,null,null,null,null,null,null,null,null,null,null,null,null,null,null,null,null,null,null,null,null,null,null,null,null,null,null,null,null,null,"THE ROYAL MARSDEN HOSPITAL (SURREY) - RPY02","Bud Flanagan West Ward"]
[null,null,null,null,null,null,null,null,null,null,null,null,null,null,null,null,null,null,null,null,null,null,null,null,null,null,null,null,null,null,null,null,null,null,null,null,null,null,null,null,null,null,null,null,null,null,null,null,null,null,null,null,null,null,null,null,null,null,null,null,null,null,null,null,null,null,null,null,null,null,null,null,null,null,null,null,null,"ROYAL ORTHOPAEDIC HOSPITAL - RRJ05","Ward 1"]
[null,null,null,null,null,null,null,null,null,null,null,null,null,null,null,null,null,null,null,null,null,null,null,null,null,null,null,null,null,null,null,null,null,null,null,null,null,null,null,null,null,null,null,null,null,null,null,null,null,null,null,null,null,null,null,null,null,null,null,null,null,null,null,null,null,null,null,null,null,null,null,null,null,null,null,null,null,"NEW CROSS HOSPITAL","A7"]
[null,null,null,null,null,null,null,null,null,null,null,null,null,null,null,null,null,null,null,null,null,null,null,null,null,null,null,null,null,null,null,null,null,null,null,null,null,null,null,null,null,null,null,null,null,null,null,null,null,null,null,null,null,null,null,null,null,null,null,null,null,null,null,null,null,null,null,null,null,null,null,null,null,null,null,null,null,"NEW CROSS HOSPITAL","C16"]
[null,null,null,null,null,null,null,null,null,null,null,null,null,null,null,null,null,null,null,null,null,null,null,null,null,null,null,null,null,null,null,null,null,null,null,null,null,null,null,null,null,null,null,null,null,null,null,null,null,null,null,null,null,null,null,null,null,null,null,null,null,null,null,null,null,null,null,null,null,null,null,null,null,null,null,null,null,"THE WALTON CENTRE FOR NEUROLOGY AND NEUROSURGERY NHS TRUST","Cairns"]
[null,null,null,null,null,null,null,null,null,null,null,null,null,null,null,null,null,null,null,null,null,null,null,null,null,null,null,null,null,null,null,null,null,null,null,null,null,null,null,null,null,null,null,null,null,null,null,null,null,null,null,null,null,null,null,null,null,null,null,null,null,null,null,null,null,null,null,null,null,null,null,null,null,null,null,null,null,"THE WALTON CENTRE FOR NEUROLOGY AND NEUROSURGERY NHS TRUST","Lipton"]
[null,null,null,null,null,null,null,null,null,null,null,null,null,null,null,null,null,null,null,null,null,null,null,null,null,null,null,null,null,null,null,null,null,null,null,null,null,null,null,null,null,null,null,null,null,null,null,null,null,null,null,null,null,null,null,null,null,null,null,null,null,null,null,null,null,null,null,null,null,null,null,null,null,null,null,null,null,"TORBAY HOSPITAL","Coronary Care"]
[null,null,null,null,null,null,null,null,null,null,null,null,null,null,null,null,null,null,null,null,null,null,null,null,null,null,null,null,null,null,null,null,null,null,null,null,null,null,null,null,null,null,null,null,null,null,null,null,null,null,null,null,null,null,null,null,null,null,null,null,null,null,null,null,null,null,null,null,null,null,null,null,null,null,null,null,null,"LINCOLN COUNTY HOSPITAL","Ashby"]
[null,null,null,null,null,null,null,null,null,null,null,null,null,null,null,null,null,null,null,null,null,null,null,null,null,null,null,null,null,null,null,null,null,null,null,null,null,null,null,null,null,null,null,null,null,null,null,null,null,null,null,null,null,null,null,null,null,null,null,null,null,null,null,null,null,null,null,null,null,null,null,null,null,null,null,null,null,"LINCOLN COUNTY HOSPITAL","MEAU"]
[null,null,null,null,null,null,null,null,null,null,null,null,null,null,null,null,null,null,null,null,null,null,null,null,null,null,null,null,null,null,null,null,null,null,null,null,null,null,null,null,null,null,null,null,null,null,null,null,null,null,null,null,null,null,null,null,null,null,null,null,null,null,null,null,null,null,null,null,null,null,null,null,null,null,null,null,null,"LINCOLN COUNTY HOSPITAL","Stroke Unit"]
[null,null,null,null,null,null,null,null,null,null,null,null,null,null,null,null,null,null,null,null,null,null,null,null,null,null,null,null,null,null,null,null,null,null,null,null,null,null,null,null,null,null,null,null,null,null,null,null,null,null,null,null,null,null,null,null,null,null,null,null,null,null,null,null,null,null,null,null,null,null,null,null,null,null,null,null,null,"PILGRIM HOSPITAL","Stroke Unit"]
[null,null,null,null,null,null,null,null,null,null,null,null,null,null,null,null,null,null,null,null,null,null,null,null,null,null,null,null,null,null,null,null,null,null,null,null,null,null,null,null,null,null,null,null,null,null,null,null,null,null,null,null,null,null,null,null,null,null,null,null,null,null,null,null,null,null,null,null,null,null,null,null,null,null,null,null,null,"NATIONAL HOSPITAL FOR NEUROLOGY AND NEUROSURGERY, QUEEN SQUARE - RRVNQ","David Ferrier"]
[null,null,null,null,null,null,null,null,null,null,null,null,null,null,null,null,null,null,null,null,null,null,null,null,null,null,null,null,null,null,null,null,null,null,null,null,null,null,null,null,null,null,null,null,null,null,null,null,null,null,null,null,null,null,null,null,null,null,null,null,null,null,null,null,null,null,null,null,null,null,null,null,null,null,null,null,null,"NATIONAL HOSPITAL FOR NEUROLOGY AND NEUROSURGERY, QUEEN SQUARE - RRVNQ","Telemetry Unit"]
[null,null,null,null,null,null,null,null,null,null,null,null,null,null,null,null,null,null,null,null,null,null,null,null,null,null,null,null,null,null,null,null,null,null,null,null,null,null,null,null,null,null,null,null,null,null,null,null,null,null,null,null,null,null,null,null,null,null,null,null,null,null,null,null,null,null,null,null,null,null,null,null,null,null,null,null,null,"UNIVERSITY COLLEGE HOSPITAL - RRV03","T12 South"]
[null,null,null,null,null,null,null,null,null,null,null,null,null,null,null,null,null,null,null,null,null,null,null,null,null,null,null,null,null,null,null,null,null,null,null,null,null,null,null,null,null,null,null,null,null,null,null,null,null,null,null,null,null,null,null,null,null,null,null,null,null,null,null,null,null,null,null,null,null,null,null,null,null,null,null,null,null,"UNIVERSITY COLLEGE HOSPITAL - RRV03","UCH Tower 16th Floor N Haematology"]
[null,null,null,null,null,null,null,null,null,null,null,null,null,null,null,null,null,null,null,null,null,null,null,null,null,null,null,null,null,null,null,null,null,null,null,null,null,null,null,null,null,null,null,null,null,null,null,null,null,null,null,null,null,null,null,null,null,null,null,null,null,null,null,null,null,null,null,null,null,null,null,null,null,null,null,null,null,"PRINCESS ANNE HOSPITAL","188 W&N Neonatal Unit"]
[null,null,null,null,null,null,null,null,null,null,null,null,null,null,null,null,null,null,null,null,null,null,null,null,null,null,null,null,null,null,null,null,null,null,null,null,null,null,null,null,null,null,null,null,null,null,null,null,null,null,null,null,null,null,null,null,null,null,null,null,null,null,null,null,null,null,null,null,null,null,null,null,null,null,null,null,null,"SOUTHAMPTON GENERAL HOSPITAL","188 CHI Paediatric Assessment Unit"]
[null,null,null,null,null,null,null,null,null,null,null,null,null,null,null,null,null,null,null,null,null,null,null,null,null,null,null,null,null,null,null,null,null,null,null,null,null,null,null,null,null,null,null,null,null,null,null,null,null,null,null,null,null,null,null,null,null,null,null,null,null,null,null,null,null,null,null,null,null,null,null,null,null,null,null,null,null,"SOUTHAMPTON GENERAL HOSPITAL","188 CHI Ward G3"]
[null,null,null,null,null,null,null,null,null,null,null,null,null,null,null,null,null,null,null,null,null,null,null,null,null,null,null,null,null,null,null,null,null,null,null,null,null,null,null,null,null,null,null,null,null,null,null,null,null,null,null,null,null,null,null,null,null,null,null,null,null,null,null,null,null,null,null,null,null,null,null,null,null,null,null,null,null,"SOUTHAMPTON GENERAL HOSPITAL","188 NEU hasu"]
[null,null,null,null,null,null,null,null,null,null,null,null,null,null,null,null,null,null,null,null,null,null,null,null,null,null,null,null,null,null,null,null,null,null,null,null,null,null,null,null,null,null,null,null,null,null,null,null,null,null,null,null,null,null,null,null,null,null,null,null,null,null,null,null,null,null,null,null,null,null,null,null,null,null,null,null,null,"SOUTHAMPTON GENERAL HOSPITAL","188 SUR E8 HPB/Urology"]
[null,null,null,null,null,null,null,null,null,null,null,null,null,null,null,null,null,null,null,null,null,null,null,null,null,null,null,null,null,null,null,null,null,null,null,null,null,null,null,null,null,null,null,null,null,null,null,null,null,null,null,null,null,null,null,null,null,null,null,null,null,null,null,null,null,null,null,null,null,null,null,null,null,null,null,null,null,"GOOD HOPE HOSPITAL","AMU SS GHH"]
[null,null,null,null,null,null,null,null,null,null,null,null,null,null,null,null,null,null,null,null,null,null,null,null,null,null,null,null,null,null,null,null,null,null,null,null,null,null,null,null,null,null,null,null,null,null,null,null,null,null,null,null,null,null,null,null,null,null,null,null,null,null,null,null,null,null,null,null,null,null,null,null,null,null,null,null,null,"GOOD HOPE HOSPITAL","Ward 17 GHH *"]
[null,null,null,null,null,null,null,null,null,null,null,null,null,null,null,null,null,null,null,null,null,null,null,null,null,null,null,null,null,null,null,null,null,null,null,null,null,null,null,null,null,null,null,null,null,null,null,null,null,null,null,null,null,null,null,null,null,null,null,null,null,null,null,null,null,null,null,null,null,null,null,null,null,null,null,null,null,"HEARTLANDS HOSPITAL","AMU 1 BHH"]
[null,null,null,null,null,null,null,null,null,null,null,null,null,null,null,null,null,null,null,null,null,null,null,null,null,null,null,null,null,null,null,null,null,null,null,null,null,null,null,null,null,null,null,null,null,null,null,null,null,null,null,null,null,null,null,null,null,null,null,null,null,null,null,null,null,null,null,null,null,null,null,null,null,null,null,null,null,"HEARTLANDS HOSPITAL","Ward 11 BHH"]
[null,null,null,null,null,null,null,null,null,null,null,null,null,null,null,null,null,null,null,null,null,null,null,null,null,null,null,null,null,null,null,null,null,null,null,null,null,null,null,null,null,null,null,null,null,null,null,null,null,null,null,null,null,null,null,null,null,null,null,null,null,null,null,null,null,null,null,null,null,null,null,null,null,null,null,null,null,"QUEEN ELIZABETH HOSPITAL - RRK02","W304"]
[null,null,null,null,null,null,null,null,null,null,null,null,null,null,null,null,null,null,null,null,null,null,null,null,null,null,null,null,null,null,null,null,null,null,null,null,null,null,null,null,null,null,null,null,null,null,null,null,null,null,null,null,null,null,null,null,null,null,null,null,null,null,null,null,null,null,null,null,null,null,null,null,null,null,null,null,null,"QUEEN ELIZABETH HOSPITAL - RRK02","W513"]
[null,null,null,null,null,null,null,null,null,null,null,null,null,null,null,null,null,null,null,null,null,null,null,null,null,null,null,null,null,null,null,null,null,null,null,null,null,null,null,null,null,null,null,null,null,null,null,null,null,null,null,null,null,null,null,null,null,null,null,null,null,null,null,null,null,null,null,null,null,null,null,null,null,null,null,null,null,"QUEEN ELIZABETH HOSPITAL - RRK02","W728"]
[null,null,null,null,null,null,null,null,null,null,null,null,null,null,null,null,null,null,null,null,null,null,null,null,null,null,null,null,null,null,null,null,null,null,null,null,null,null,null,null,null,null,null,null,null,null,null,null,null,null,null,null,null,null,null,null,null,null,null,null,null,null,null,null,null,null,null,null,null,null,null,null,null,null,null,null,null,"SOLIHULL HOSPITAL","AMU SS SH"]
[null,null,null,null,null,null,null,null,null,null,null,null,null,null,null,null,null,null,null,null,null,null,null,null,null,null,null,null,null,null,null,null,null,null,null,null,null,null,null,null,null,null,null,null,null,null,null,null,null,null,null,null,null,null,null,null,null,null,null,null,null,null,null,null,null,null,null,null,null,null,null,null,null,null,null,null,null,"Bristol Eye Hospital","H304A"]
[null,null,null,null,null,null,null,null,null,null,null,null,null,null,null,null,null,null,null,null,null,null,null,null,null,null,null,null,null,null,null,null,null,null,null,null,null,null,null,null,null,null,null,null,null,null,null,null,null,null,null,null,null,null,null,null,null,null,null,null,null,null,null,null,null,null,null,null,null,null,null,null,null,null,null,null,null,"Bristol Royal Hospital For Children","E702"]
[null,null,null,null,null,null,null,null,null,null,null,null,null,null,null,null,null,null,null,null,null,null,null,null,null,null,null,null,null,null,null,null,null,null,null,null,null,null,null,null,null,null,null,null,null,null,null,null,null,null,null,null,null,null,null,null,null,null,null,null,null,null,null,null,null,null,null,null,null,null,null,null,null,null,null,null,null,"Bristol Royal Infirmary","C604"]
[null,null,null,null,null,null,null,null,null,null,null,null,null,null,null,null,null,null,null,null,null,null,null,null,null,null,null,null,null,null,null,null,null,null,null,null,null,null,null,null,null,null,null,null,null,null,null,null,null,null,null,null,null,null,null,null,null,null,null,null,null,null,null,null,null,null,null,null,null,null,null,null,null,null,null,null,null,"St Michael's Hospital","73"]
[null,null,null,null,null,null,null,null,null,null,null,null,null,null,null,null,null,null,null,null,null,null,null,null,null,null,null,null,null,null,null,null,null,null,null,null,null,null,null,null,null,null,null,null,null,null,null,null,null,null,null,null,null,null,null,null,null,null,null,null,null,null,null,null,null,null,null,null,null,null,null,null,null,null,null,null,null,"UNIVERSITY HOSPITAL (COVENTRY)","Ward 10"]
[null,null,null,null,null,null,null,null,null,null,null,null,null,null,null,null,null,null,null,null,null,null,null,null,null,null,null,null,null,null,null,null,null,null,null,null,null,null,null,null,null,null,null,null,null,null,null,null,null,null,null,null,null,null,null,null,null,null,null,null,null,null,null,null,null,null,null,null,null,null,null,null,null,null,null,null,null,"UNIVERSITY HOSPITAL (COVENTRY)","Ward 22 ECU"]
[null,null,null,null,null,null,null,null,null,null,null,null,null,null,null,null,null,null,null,null,null,null,null,null,null,null,null,null,null,null,null,null,null,null,null,null,null,null,null,null,null,null,null,null,null,null,null,null,null,null,null,null,null,null,null,null,null,null,null,null,null,null,null,null,null,null,null,null,null,null,null,null,null,null,null,null,null,"UNIVERSITY HOSPITAL (COVENTRY)","Ward 35"]
[null,null,null,null,null,null,null,null,null,null,null,null,null,null,null,null,null,null,null,null,null,null,null,null,null,null,null,null,null,null,null,null,null,null,null,null,null,null,null,null,null,null,null,null,null,null,null,null,null,null,null,null,null,null,null,null,null,null,null,null,null,null,null,null,null,null,null,null,null,null,null,null,null,null,null,null,null,"BURTON HOSPITAL - RTG02","Childrens Wards"]
[null,null,null,null,null,null,null,null,null,null,null,null,null,null,null,null,null,null,null,null,null,null,null,null,null,null,null,null,null,null,null,null,null,null,null,null,null,null,null,null,null,null,null,null,null,null,null,null,null,null,null,null,null,null,null,null,null,null,null,null,null,null,null,null,null,null,null,null,null,null,null,null,null,null,null,null,null,"BURTON HOSPITAL - RTG02","Ward 5"]
[null,null,null,null,null,null,null,null,null,null,null,null,null,null,null,null,null,null,null,null,null,null,null,null,null,null,null,null,null,null,null,null,null,null,null,null,null,null,null,null,null,null,null,null,null,null,null,null,null,null,null,null,null,null,null,null,null,null,null,null,null,null,null,null,null,null,null,null,null,null,null,null,null,null,null,null,null,"ROYAL DERBY HOSPITAL - RTGFG","203"]
[null,null,null,null,null,null,null,null,null,null,null,null,null,null,null,null,null,null,null,null,null,null,null,null,null,null,null,null,null,null,null,null,null,null,null,null,null,null,null,null,null,null,null,null,null,null,null,null,null,null,null,null,null,null,null,null,null,null,null,null,null,null,null,null,null,null,null,null,null,null,null,null,null,null,null,null,null,"ROYAL DERBY HOSPITAL - RTGFG","303"]
[null,null,null,null,null,null,null,null,null,null,null,null,null,null,null,null,null,null,null,null,null,null,null,null,null,null,null,null,null,null,null,null,null,null,null,null,null,null,null,null,null,null,null,null,null,null,null,null,null,null,null,null,null,null,null,null,null,null,null,null,null,null,null,null,null,null,null,null,null,null,null,null,null,null,null,null,null,"ROYAL DERBY HOSPITAL - RTGFG","401"]
[null,null,null,null,null,null,null,null,null,null,null,null,null,null,null,null,null,null,null,null,null,null,null,null,null,null,null,null,null,null,null,null,null,null,null,null,null,null,null,null,null,null,null,null,null,null,null,null,null,null,null,null,null,null,null,null,null,null,null,null,null,null,null,null,null,null,null,null,null,null,null,null,null,null,null,null,null,"ROYAL DERBY HOSPITAL - RTGFG","SUNF"]
[null,null,null,null,null,null,null,null,null,null,null,null,null,null,null,null,null,null,null,null,null,null,null,null,null,null,null,null,null,null,null,null,null,null,null,null,null,null,null,null,null,null,null,null,null,null,null,null,null,null,null,null,null,null,null,null,null,null,null,null,null,null,null,null,null,null,null,null,null,null,null,null,null,null,null,null,null,"GLENFIELD HOSPITAL","GH-Wd 16 Respiratory"]
[null,null,null,null,null,null,null,null,null,null,null,null,null,null,null,null,null,null,null,null,null,null,null,null,null,null,null,null,null,null,null,null,null,null,null,null,null,null,null,null,null,null,null,null,null,null,null,null,null,null,null,null,null,null,null,null,null,null,null,null,null,null,null,null,null,null,null,null,null,null,null,null,null,null,null,null,null,"LEICESTER GENERAL HOSPITAL","LGH-Delivery Suite"]
[null,null,null,null,null,null,null,null,null,null,null,null,null,null,null,null,null,null,null,null,null,null,null,null,null,null,null,null,null,null,null,null,null,null,null,null,null,null,null,null,null,null,null,null,null,null,null,null,null,null,null,null,null,null,null,null,null,null,null,null,null,null,null,null,null,null,null,null,null,null,null,null,null,null,null,null,null,"LEICESTER GENERAL HOSPITAL","LGH-Wd 15 High Dependency Renal"]
[null,null,null,null,null,null,null,null,null,null,null,null,null,null,null,null,null,null,null,null,null,null,null,null,null,null,null,null,null,null,null,null,null,null,null,null,null,null,null,null,null,null,null,null,null,null,null,null,null,null,null,null,null,null,null,null,null,null,null,null,null,null,null,null,null,null,null,null,null,null,null,null,null,null,null,null,null,"LEICESTER ROYAL INFIRMARY","LRI-ITU (Gen.Surgery,Haematology,Med,Max.Facial)"]
[null,null,null,null,null,null,null,null,null,null,null,null,null,null,null,null,null,null,null,null,null,null,null,null,null,null,null,null,null,null,null,null,null,null,null,null,null,null,null,null,null,null,null,null,null,null,null,null,null,null,null,null,null,null,null,null,null,null,null,null,null,null,null,null,null,null,null,null,null,null,null,null,null,null,null,null,null,"LEICESTER ROYAL INFIRMARY","LRI-Wd 18 Trauma Ortho Admissions"]
[null,null,null,null,null,null,null,null,null,null,null,null,null,null,null,null,null,null,null,null,null,null,null,null,null,null,null,null,null,null,null,null,null,null,null,null,null,null,null,null,null,null,null,null,null,null,null,null,null,null,null,null,null,null,null,null,null,null,null,null,null,null,null,null,null,null,null,null,null,null,null,null,null,null,null,null,null,"LEICESTER ROYAL INFIRMARY","LRI-Wd 32 Trauma Ortho"]
[null,null,null,null,null,null,null,null,null,null,null,null,null,null,null,null,null,null,null,null,null,null,null,null,null,null,null,null,null,null,null,null,null,null,null,null,null,null,null,null,null,null,null,null,null,null,null,null,null,null,null,null,null,null,null,null,null,null,null,null,null,null,null,null,null,null,null,null,null,null,null,null,null,null,null,null,null,"FURNESS GENERAL HOSPITAL","FGH Day Unit Dept"]
[null,null,null,null,null,null,null,null,null,null,null,null,null,null,null,null,null,null,null,null,null,null,null,null,null,null,null,null,null,null,null,null,null,null,null,null,null,null,null,null,null,null,null,null,null,null,null,null,null,null,null,null,null,null,null,null,null,null,null,null,null,null,null,null,null,null,null,null,null,null,null,null,null,null,null,null,null,"ROYAL LANCASTER INFIRMARY","RLI NNU Dept"]
[null,null,null,null,null,null,null,null,null,null,null,null,null,null,null,null,null,null,null,null,null,null,null,null,null,null,null,null,null,null,null,null,null,null,null,null,null,null,null,null,null,null,null,null,null,null,null,null,null,null,null,null,null,null,null,null,null,null,null,null,null,null,null,null,null,null,null,null,null,null,null,null,null,null,null,null,null,"ROYAL LANCASTER INFIRMARY","RLI Ward 35 - Orthopaedics Dept"]
[null,null,null,null,null,null,null,null,null,null,null,null,null,null,null,null,null,null,null,null,null,null,null,null,null,null,null,null,null,null,null,null,null,null,null,null,null,null,null,null,null,null,null,null,null,null,null,null,null,null,null,null,null,null,null,null,null,null,null,null,null,null,null,null,null,null,null,null,null,null,null,null,null,null,null,null,null,"COUNTY HOSPITAL","Ward 15"]
[null,null,null,null,null,null,null,null,null,null,null,null,null,null,null,null,null,null,null,null,null,null,null,null,null,null,null,null,null,null,null,null,null,null,null,null,null,null,null,null,null,null,null,null,null,null,null,null,null,null,null,null,null,null,null,null,null,null,null,null,null,null,null,null,null,null,null,null,null,null,null,null,null,null,null,null,null,"ROYAL STOKE UNIVERSITY HOSPITAL","Ward 100 SAU"]
[null,null,null,null,null,null,null,null,null,null,null,null,null,null,null,null,null,null,null,null,null,null,null,null,null,null,null,null,null,null,null,null,null,null,null,null,null,null,null,null,null,null,null,null,null,null,null,null,null,null,null,null,null,null,null,null,null,null,null,null,null,null,null,null,null,null,null,null,null,null,null,null,null,null,null,null,null,"ROYAL STOKE UNIVERSITY HOSPITAL","Ward 126"]
[null,null,null,null,null,null,null,null,null,null,null,null,null,null,null,null,null,null,null,null,null,null,null,null,null,null,null,null,null,null,null,null,null,null,null,null,null,null,null,null,null,null,null,null,null,null,null,null,null,null,null,null,null,null,null,null,null,null,null,null,null,null,null,null,null,null,null,null,null,null,null,null,null,null,null,null,null,"ROYAL STOKE UNIVERSITY HOSPITAL","Ward 220"]
[null,null,null,null,null,null,null,null,null,null,null,null,null,null,null,null,null,null,null,null,null,null,null,null,null,null,null,null,null,null,null,null,null,null,null,null,null,null,null,null,null,null,null,null,null,null,null,null,null,null,null,null,null,null,null,null,null,null,null,null,null,null,null,null,null,null,null,null,null,null,null,null,null,null,null,null,null,"ROYAL STOKE UNIVERSITY HOSPITAL","Ward 231 (ASU)"]
[null,null,null,null,null,null,null,null,null,null,null,null,null,null,null,null,null,null,null,null,null,null,null,null,null,null,null,null,null,null,null,null,null,null,null,null,null,null,null,null,null,null,null,null,null,null,null,null,null,null,null,null,null,null,null,null,null,null,null,null,null,null,null,null,null,null,null,null,null,null,null,null,null,null,null,null,null,"DERRIFORD HOSPITAL","Brent Ward"]
[null,null,null,null,null,null,null,null,null,null,null,null,null,null,null,null,null,null,null,null,null,null,null,null,null,null,null,null,null,null,null,null,null,null,null,null,null,null,null,null,null,null,null,null,null,null,null,null,null,null,null,null,null,null,null,null,null,null,null,null,null,null,null,null,null,null,null,null,null,null,null,null,null,null,null,null,null,"DERRIFORD HOSPITAL","Paed HDU"]
[null,null,null,null,null,null,null,null,null,null,null,null,null,null,null,null,null,null,null,null,null,null,null,null,null,null,null,null,null,null,null,null,null,null,null,null,null,null,null,null,null,null,null,null,null,null,null,null,null,null,null,null,null,null,null,null,null,null,null,null,null,null,null,null,null,null,null,null,null,null,null,null,null,null,null,null,null,"DERRIFORD HOSPITAL","Woodcock Ward"]
[null,null,null,null,null,null,null,null,null,null,null,null,null,null,null,null,null,null,null,null,null,null,null,null,null,null,null,null,null,null,null,null,null,null,null,null,null,null,null,null,null,null,null,null,null,null,null,null,null,null,null,null,null,null,null,null,null,null,null,null,null,null,null,null,null,null,null,null,null,null,null,null,null,null,null,null,null,"MANOR HOSPITAL","Ward 04"]
[null,null,null,null,null,null,null,null,null,null,null,null,null,null,null,null,null,null,null,null,null,null,null,null,null,null,null,null,null,null,null,null,null,null,null,null,null,null,null,null,null,null,null,null,null,null,null,null,null,null,null,null,null,null,null,null,null,null,null,null,null,null,null,null,null,null,null,null,null,null,null,null,null,null,null,null,null,"MANOR HOSPITAL","Ward 21"]
[null,null,null,null,null,null,null,null,null,null,null,null,null,null,null,null,null,null,null,null,null,null,null,null,null,null,null,null,null,null,null,null,null,null,null,null,null,null,null,null,null,null,null,null,null,null,null,null,null,null,null,null,null,null,null,null,null,null,null,null,null,null,null,null,null,null,null,null,null,null,null,null,null,null,null,null,null,"WARRINGTON HOSPITAL","W-A6 - Ward A6"]
[null,null,null,null,null,null,null,null,null,null,null,null,null,null,null,null,null,null,null,null,null,null,null,null,null,null,null,null,null,null,null,null,null,null,null,null,null,null,null,null,null,null,null,null,null,null,null,null,null,null,null,null,null,null,null,null,null,null,null,null,null,null,null,null,null,null,null,null,null,null,null,null,null,null,null,null,null,"WARRINGTON HOSPITAL","W-B19 - Ward B19"]
[null,null,null,null,null,null,null,null,null,null,null,null,null,null,null,null,null,null,null,null,null,null,null,null,null,null,null,null,null,null,null,null,null,null,null,null,null,null,null,null,null,null,null,null,null,null,null,null,null,null,null,null,null,null,null,null,null,null,null,null,null,null,null,null,null,null,null,null,null,null,null,null,null,null,null,null,null,"WATFORD GENERAL HOSPITAL","AAU Green Level 1"]
[null,null,null,null,null,null,null,null,null,null,null,null,null,null,null,null,null,null,null,null,null,null,null,null,null,null,null,null,null,null,null,null,null,null,null,null,null,null,null,null,null,null,null,null,null,null,null,null,null,null,null,null,null,null,null,null,null,null,null,null,null,null,null,null,null,null,null,null,null,null,null,null,null,null,null,null,null,"WATFORD GENERAL HOSPITAL","Delivery Suite"]
[null,null,null,null,null,null,null,null,null,null,null,null,null,null,null,null,null,null,null,null,null,null,null,null,null,null,null,null,null,null,null,null,null,null,null,null,null,null,null,null,null,null,null,null,null,null,null,null,null,null,null,null,null,null,null,null,null,null,null,null,null,null,null,null,null,null,null,null,null,null,null,null,null,null,null,null,null,"BROADMOOR HOSPITAL","WLB FOLKESTONE"]
[null,null,null,null,null,null,null,null,null,null,null,null,null,null,null,null,null,null,null,null,null,null,null,null,null,null,null,null,null,null,null,null,null,null,null,null,null,null,null,null,null,null,null,null,null,null,null,null,null,null,null,null,null,null,null,null,null,null,null,null,null,null,null,null,null,null,null,null,null,null,null,null,null,null,null,null,null,"CLAYPONDS REHABILITATION HOSPITAL","ROSEMARY"]
[null,null,null,null,null,null,null,null,null,null,null,null,null,null,null,null,null,null,null,null,null,null,null,null,null,null,null,null,null,null,null,null,null,null,null,null,null,null,null,null,null,null,null,null,null,null,null,null,null,null,null,null,null,null,null,null,null,null,null,null,null,null,null,null,null,null,null,null,null,null,null,null,null,null,null,null,null,"LAKESIDE UNIT","HOU KINGFISHER"]
[null,null,null,null,null,null,null,null,null,null,null,null,null,null,null,null,null,null,null,null,null,null,null,null,null,null,null,null,null,null,null,null,null,null,null,null,null,null,null,null,null,null,null,null,null,null,null,null,null,null,null,null,null,null,null,null,null,null,null,null,null,null,null,null,null,null,null,null,null,null,null,null,null,null,null,null,null,"ST BERNARD'S WING","EALING HOPE FEMALE ASSESSMENT WARD"]
[null,null,null,null,null,null,null,null,null,null,null,null,null,null,null,null,null,null,null,null,null,null,null,null,null,null,null,null,null,null,null,null,null,null,null,null,null,null,null,null,null,null,null,null,null,null,null,null,null,null,null,null,null,null,null,null,null,null,null,null,null,null,null,null,null,null,null,null,null,null,null,null,null,null,null,null,null,"THE ORCHARD ","MSU GARNET"]
[null,null,null,null,null,null,null,null,null,null,null,null,null,null,null,null,null,null,null,null,null,null,null,null,null,null,null,null,null,null,null,null,null,null,null,null,null,null,null,null,null,null,null,null,null,null,null,null,null,null,null,null,null,null,null,null,null,null,null,null,null,null,null,null,null,null,null,null,null,null,null,null,null,null,null,null,null,"WEST SUFFOLK HOSPITAL","F1"]
[null,null,null,null,null,null,null,null,null,null,null,null,null,null,null,null,null,null,null,null,null,null,null,null,null,null,null,null,null,null,null,null,null,null,null,null,null,null,null,null,null,null,null,null,null,null,null,null,null,null,null,null,null,null,null,null,null,null,null,null,null,null,null,null,null,null,null,null,null,null,null,null,null,null,null,null,null,"WEST SUFFOLK HOSPITAL","Glastonbury Court"]
[null,null,null,null,null,null,null,null,null,null,null,null,null,null,null,null,null,null,null,null,null,null,null,null,null,null,null,null,null,null,null,null,null,null,null,null,null,null,null,null,null,null,null,null,null,null,null,null,null,null,null,null,null,null,null,null,null,null,null,null,null,null,null,null,null,null,null,null,null,null,null,null,null,null,null,null,null,"ST RICHARD'S HOSPITAL","Boxgrove Ward M105 C"]
[null,null,null,null,null,null,null,null,null,null,null,null,null,null,null,null,null,null,null,null,null,null,null,null,null,null,null,null,null,null,null,null,null,null,null,null,null,null,null,null,null,null,null,null,null,null,null,null,null,null,null,null,null,null,null,null,null,null,null,null,null,null,null,null,null,null,null,null,null,null,null,null,null,null,null,null,null,"WORTHING HOSPITAL","Buckingham Ward M661 W"]
[null,null,null,null,null,null,null,null,null,null,null,null,null,null,null,null,null,null,null,null,null,null,null,null,null,null,null,null,null,null,null,null,null,null,null,null,null,null,null,null,null,null,null,null,null,null,null,null,null,null,null,null,null,null,null,null,null,null,null,null,null,null,null,null,null,null,null,null,null,null,null,null,null,null,null,null,null,"WORTHING HOSPITAL","Erringham Ward M604 W"]
[null,null,null,null,null,null,null,null,null,null,null,null,null,null,null,null,null,null,null,null,null,null,null,null,null,null,null,null,null,null,null,null,null,null,null,null,null,null,null,null,null,null,null,null,null,null,null,null,null,null,null,null,null,null,null,null,null,null,null,null,null,null,null,null,null,null,null,null,null,null,null,null,null,null,null,null,null,"WESTON GENERAL HOSPITAL","Medical Assessment Unit"]
[null,null,null,null,null,null,null,null,null,null,null,null,null,null,null,null,null,null,null,null,null,null,null,null,null,null,null,null,null,null,null,null,null,null,null,null,null,null,null,null,null,null,null,null,null,null,null,null,null,null,null,null,null,null,null,null,null,null,null,null,null,null,null,null,null,null,null,null,null,null,null,null,null,null,null,null,null,"THE WHITTINGTON HOSPITAL","IFOR"]
[null,null,null,null,null,null,null,null,null,null,null,null,null,null,null,null,null,null,null,null,null,null,null,null,null,null,null,null,null,null,null,null,null,null,null,null,null,null,null,null,null,null,null,null,null,null,null,null,null,null,null,null,null,null,null,null,null,null,null,null,null,null,null,null,null,null,null,null,null,null,null,null,null,null,null,null,null,"WARMINSTER COMMUNITY HOSPITAL","Longleat"]
[null,null,null,null,null,null,null,null,null,null,null,null,null,null,null,null,null,null,null,null,null,null,null,null,null,null,null,null,null,null,null,null,null,null,null,null,null,null,null,null,null,null,null,null,null,null,null,null,null,null,null,null,null,null,null,null,null,null,null,null,null,null,null,null,null,null,null,null,null,null,null,null,null,null,null,null,null,"ARROWE PARK HOSPITAL","21"]
[null,null,null,null,null,null,null,null,null,null,null,null,null,null,null,null,null,null,null,null,null,null,null,null,null,null,null,null,null,null,null,null,null,null,null,null,null,null,null,null,null,null,null,null,null,null,null,null,null,null,null,null,null,null,null,null,null,null,null,null,null,null,null,null,null,null,null,null,null,null,null,null,null,null,null,null,null,"ARROWE PARK HOSPITAL","54"]
[null,null,null,null,null,null,null,null,null,null,null,null,null,null,null,null,null,null,null,null,null,null,null,null,null,null,null,null,null,null,null,null,null,null,null,null,null,null,null,null,null,null,null,null,null,null,null,null,null,null,null,null,null,null,null,null,null,null,null,null,null,null,null,null,null,null,null,null,null,null,null,null,null,null,null,null,null,"ARROWE PARK HOSPITAL","ITU"]
[null,null,null,null,null,null,null,null,null,null,null,null,null,null,null,null,null,null,null,null,null,null,null,null,null,null,null,null,null,null,null,null,null,null,null,null,null,null,null,null,null,null,null,null,null,null,null,null,null,null,null,null,null,null,null,null,null,null,null,null,null,null,null,null,null,null,null,null,null,null,null,null,null,null,null,null,null,"ALEXANDRA HOSPITAL","Ward 2 - Medicine"]
[null,null,null,null,null,null,null,null,null,null,null,null,null,null,null,null,null,null,null,null,null,null,null,null,null,null,null,null,null,null,null,null,null,null,null,null,null,null,null,null,null,null,null,null,null,null,null,null,null,null,null,null,null,null,null,null,null,null,null,null,null,null,null,null,null,null,null,null,null,null,null,null,null,null,null,null,null,"WORCESTERSHIRE ROYAL HOSPITAL","Beech High Care"]
[null,null,null,null,null,null,null,null,null,null,null,null,null,null,null,null,null,null,null,null,null,null,null,null,null,null,null,null,null,null,null,null,null,null,null,null,null,null,null,null,null,null,null,null,null,null,null,null,null,null,null,null,null,null,null,null,null,null,null,null,null,null,null,null,null,null,null,null,null,null,null,null,null,null,null,null,null,"WORCESTERSHIRE ROYAL HOSPITAL","MAU Assessment"]
[null,null,null,null,null,null,null,null,null,null,null,null,null,null,null,null,null,null,null,null,null,null,null,null,null,null,null,null,null,null,null,null,null,null,null,null,null,null,null,null,null,null,null,null,null,null,null,null,null,null,null,null,null,null,null,null,null,null,null,null,null,null,null,null,null,null,null,null,null,null,null,null,null,null,null,null,null,"WORCESTERSHIRE ROYAL HOSPITAL","Trauma & Orthopaedic A Ward - WRH"]
[null,null,null,null,null,null,null,null,null,null,null,null,null,null,null,null,null,null,null,null,null,null,null,null,null,null,null,null,null,null,null,null,null,null,null,null,null,null,null,null,null,null,null,null,null,null,null,null,null,null,null,null,null,null,null,null,null,null,null,null,null,null,null,null,null,null,null,null,null,null,null,null,null,null,null,null,null,"WORCESTERSHIRE ROYAL HOSPITAL","Vascular Unit & VHCU"]
[null,null,null,null,null,null,null,null,null,null,null,null,null,null,null,null,null,null,null,null,null,null,null,null,null,null,null,null,null,null,null,null,null,null,null,null,null,null,null,null,null,null,null,null,null,null,null,null,null,null,null,null,null,null,null,null,null,null,null,null,null,null,null,null,null,null,null,null,null,null,null,null,null,null,null,null,null,"CHURCHVIEW HOUSE","CHURCHVIEW HOUSE"]
[null,null,null,null,null,null,null,null,null,null,null,null,null,null,null,null,null,null,null,null,null,null,null,null,null,null,null,null,null,null,null,null,null,null,null,null,null,null,null,null,null,null,null,null,null,null,null,null,null,null,null,null,null,null,null,null,null,null,null,null,null,null,null,null,null,null,null,null,null,null,null,null,null,null,null,null,null,"COMM HOSP WARDS (EVESHAM)","ABBOTT WARD"]
[null,null,null,null,null,null,null,null,null,null,null,null,null,null,null,null,null,null,null,null,null,null,null,null,null,null,null,null,null,null,null,null,null,null,null,null,null,null,null,null,null,null,null,null,null,null,null,null,null,null,null,null,null,null,null,null,null,null,null,null,null,null,null,null,null,null,null,null,null,null,null,null,null,null,null,null,null,"COMM HOSP WARDS (EVESHAM)","IZOD WARD"]
[null,null,null,null,null,null,null,null,null,null,null,null,null,null,null,null,null,null,null,null,null,null,null,null,null,null,null,null,null,null,null,null,null,null,null,null,null,null,null,null,null,null,null,null,null,null,null,null,null,null,null,null,null,null,null,null,null,null,null,null,null,null,null,null,null,null,null,null,null,null,null,null,null,null,null,null,null,"COMM HOSP WARDS (EVESHAM)","WA ORTHOPAEDIC REHABILITATION UNIT"]
[null,null,null,null,null,null,null,null,null,null,null,null,null,null,null,null,null,null,null,null,null,null,null,null,null,null,null,null,null,null,null,null,null,null,null,null,null,null,null,null,null,null,null,null,null,null,null,null,null,null,null,null,null,null,null,null,null,null,null,null,null,null,null,null,null,null,null,null,null,null,null,null,null,null,null,null,null,"COMM HOSP WARDS (EVESHAM)","WILLOWS STROKE WARD"]
[null,null,null,null,null,null,null,null,null,null,null,null,null,null,null,null,null,null,null,null,null,null,null,null,null,null,null,null,null,null,null,null,null,null,null,null,null,null,null,null,null,null,null,null,null,null,null,null,null,null,null,null,null,null,null,null,null,null,null,null,null,null,null,null,null,null,null,null,null,null,null,null,null,null,null,null,null,"COMM HOSP WARDS (MALVERN)","MALVERN COMMUNITY HOSPITAL"]
[null,null,null,null,null,null,null,null,null,null,null,null,null,null,null,null,null,null,null,null,null,null,null,null,null,null,null,null,null,null,null,null,null,null,null,null,null,null,null,null,null,null,null,null,null,null,null,null,null,null,null,null,null,null,null,null,null,null,null,null,null,null,null,null,null,null,null,null,null,null,null,null,null,null,null,null,null,"COMM HOSP WARDS (PERSHORE)","PERSHORE COMMUNITY HOSPITAL"]
[null,null,null,null,null,null,null,null,null,null,null,null,null,null,null,null,null,null,null,null,null,null,null,null,null,null,null,null,null,null,null,null,null,null,null,null,null,null,null,null,null,null,null,null,null,null,null,null,null,null,null,null,null,null,null,null,null,null,null,null,null,null,null,null,null,null,null,null,null,null,null,null,null,null,null,null,null,"COMM HOSP WARDS (TENBURY)","TENBURY COMMUNITY HOSPITAL"]
[null,null,null,null,null,null,null,null,null,null,null,null,null,null,null,null,null,null,null,null,null,null,null,null,null,null,null,null,null,null,null,null,null,null,null,null,null,null,null,null,null,null,null,null,null,null,null,null,null,null,null,null,null,null,null,null,null,null,null,null,null,null,null,null,null,null,null,null,null,null,null,null,null,null,null,null,null,"COMMUNITY HOSP WARDS (POWCH)","COTTAGE WARD"]
[null,null,null,null,null,null,null,null,null,null,null,null,null,null,null,null,null,null,null,null,null,null,null,null,null,null,null,null,null,null,null,null,null,null,null,null,null,null,null,null,null,null,null,null,null,null,null,null,null,null,null,null,null,null,null,null,null,null,null,null,null,null,null,null,null,null,null,null,null,null,null,null,null,null,null,null,null,"COMMUNITY HOSP WARDS (POWCH)","LICKEY WARD"]
[null,null,null,null,null,null,null,null,null,null,null,null,null,null,null,null,null,null,null,null,null,null,null,null,null,null,null,null,null,null,null,null,null,null,null,null,null,null,null,null,null,null,null,null,null,null,null,null,null,null,null,null,null,null,null,null,null,null,null,null,null,null,null,null,null,null,null,null,null,null,null,null,null,null,null,null,null,"COMMUNITY HOSP WARDS (POWCH)","PRIMROSE UNIT"]
[null,null,null,null,null,null,null,null,null,null,null,null,null,null,null,null,null,null,null,null,null,null,null,null,null,null,null,null,null,null,null,null,null,null,null,null,null,null,null,null,null,null,null,null,null,null,null,null,null,null,null,null,null,null,null,null,null,null,null,null,null,null,null,null,null,null,null,null,null,null,null,null,null,null,null,null,null,"COMMUNITY HOSP WARDS (POWCH)","WYRE FOREST WARD"]
[null,null,null,null,null,null,null,null,null,null,null,null,null,null,null,null,null,null,null,null,null,null,null,null,null,null,null,null,null,null,null,null,null,null,null,null,null,null,null,null,null,null,null,null,null,null,null,null,null,null,null,null,null,null,null,null,null,null,null,null,null,null,null,null,null,null,null,null,null,null,null,null,null,null,null,null,null,"CROMWELL HOUSE","CROMWELL HOUSE"]
[null,null,null,null,null,null,null,null,null,null,null,null,null,null,null,null,null,null,null,null,null,null,null,null,null,null,null,null,null,null,null,null,null,null,null,null,null,null,null,null,null,null,null,null,null,null,null,null,null,null,null,null,null,null,null,null,null,null,null,null,null,null,null,null,null,null,null,null,null,null,null,null,null,null,null,null,null,"HILL CREST MENTAL HEALTH UNIT","HILL CREST WARD"]
[null,null,null,null,null,null,null,null,null,null,null,null,null,null,null,null,null,null,null,null,null,null,null,null,null,null,null,null,null,null,null,null,null,null,null,null,null,null,null,null,null,null,null,null,null,null,null,null,null,null,null,null,null,null,null,null,null,null,null,null,null,null,null,null,null,null,null,null,null,null,null,null,null,null,null,null,null,"KEITH WINTER CLOSE MENTAL HEALTH UNIT","KEITH WINTER CLOSE"]
[null,null,null,null,null,null,null,null,null,null,null,null,null,null,null,null,null,null,null,null,null,null,null,null,null,null,null,null,null,null,null,null,null,null,null,null,null,null,null,null,null,null,null,null,null,null,null,null,null,null,null,null,null,null,null,null,null,null,null,null,null,null,null,null,null,null,null,null,null,null,null,null,null,null,null,null,null,"LUDLOW ROAD","LUDLOW ROAD"]
[null,null,null,null,null,null,null,null,null,null,null,null,null,null,null,null,null,null,null,null,null,null,null,null,null,null,null,null,null,null,null,null,null,null,null,null,null,null,null,null,null,null,null,null,null,null,null,null,null,null,null,null,null,null,null,null,null,null,null,null,null,null,null,null,null,null,null,null,null,null,null,null,null,null,null,null,null,"NEW HAVEN (MENTAL HEALTH UNIT)","MEADOW WARD (NEW HAVEN)"]
[null,null,null,null,null,null,null,null,null,null,null,null,null,null,null,null,null,null,null,null,null,null,null,null,null,null,null,null,null,null,null,null,null,null,null,null,null,null,null,null,null,null,null,null,null,null,null,null,null,null,null,null,null,null,null,null,null,null,null,null,null,null,null,null,null,null,null,null,null,null,null,null,null,null,null,null,null,"NEW HAVEN (MENTAL HEALTH UNIT)","WOODLAND WARD (NEW HAVEN)"]
[null,null,null,null,null,null,null,null,null,null,null,null,null,null,null,null,null,null,null,null,null,null,null,null,null,null,null,null,null,null,null,null,null,null,null,null,null,null,null,null,null,null,null,null,null,null,null,null,null,null,null,null,null,null,null,null,null,null,null,null,null,null,null,null,null,null,null,null,null,null,null,null,null,null,null,null,null,"NEWTOWN HOSPITAL","ATHELON WARD"]
[null,null,null,null,null,null,null,null,null,null,null,null,null,null,null,null,null,null,null,null,null,null,null,null,null,null,null,null,null,null,null,null,null,null,null,null,null,null,null,null,null,null,null,null,null,null,null,null,null,null,null,null,null,null,null,null,null,null,null,null,null,null,null,null,null,null,null,null,null,null,null,null,null,null,null,null,null,"NEWTOWN HOSPITAL","HADLEY UNIT (PICU)"]
[null,null,null,null,null,null,null,null,null,null,null,null,null,null,null,null,null,null,null,null,null,null,null,null,null,null,null,null,null,null,null,null,null,null,null,null,null,null,null,null,null,null,null,null,null,null,null,null,null,null,null,null,null,null,null,null,null,null,null,null,null,null,null,null,null,null,null,null,null,null,null,null,null,null,null,null,null,"NEWTOWN HOSPITAL","HOLT WARD"]
[null,null,null,null,null,null,null,null,null,null,null,null,null,null,null,null,null,null,null,null,null,null,null,null,null,null,null,null,null,null,null,null,null,null,null,null,null,null,null,null,null,null,null,null,null,null,null,null,null,null,null,null,null,null,null,null,null,null,null,null,null,null,null,null,null,null,null,null,null,null,null,null,null,null,null,null,null,"OSBORNE COURT","OSBORNE COURT"]
[null,null,null,null,null,null,null,null,null,null,null,null,null,null,null,null,null,null,null,null,null,null,null,null,null,null,null,null,null,null,null,null,null,null,null,null,null,null,null,null,null,null,null,null,null,null,null,null,null,null,null,null,null,null,null,null,null,null,null,null,null,null,null,null,null,null,null,null,null,null,null,null,null,null,null,null,null,"TIMBERDINE HOME RESIDENTIAL CARE","APPLE ORCHARD WARD"]
[null,null,null,null,null,null,null,null,null,null,null,null,null,null,null,null,null,null,null,null,null,null,null,null,null,null,null,null,null,null,null,null,null,null,null,null,null,null,null,null,null,null,null,null,null,null,null,null,null,null,null,null,null,null,null,null,null,null,null,null,null,null,null,null,null,null,null,null,null,null,null,null,null,null,null,null,null,"TIMBERDINE HOME RESIDENTIAL CARE","CHERRY ORCHARD WARD"]
[null,null,null,null,null,null,null,null,null,null,null,null,null,null,null,null,null,null,null,null,null,null,null,null,null,null,null,null,null,null,null,null,null,null,null,null,null,null,null,null,null,null,null,null,null,null,null,null,null,null,null,null,null,null,null,null,null,null,null,null,null,null,null,null,null,null,null,null,null,null,null,null,null,null,null,null,null,"ROYAL ALBERT EDWARD INFIRMARY - RRF02","Acute Stroke Unit"]
[null,null,null,null,null,null,null,null,null,null,null,null,null,null,null,null,null,null,null,null,null,null,null,null,null,null,null,null,null,null,null,null,null,null,null,null,null,null,null,null,null,null,null,null,null,null,null,null,null,null,null,null,null,null,null,null,null,null,null,null,null,null,null,null,null,null,null,null,null,null,null,null,null,null,null,null,null,"ROYAL ALBERT EDWARD INFIRMARY - RRF02","Aspull"]
[null,null,null,null,null,null,null,null,null,null,null,null,null,null,null,null,null,null,null,null,null,null,null,null,null,null,null,null,null,null,null,null,null,null,null,null,null,null,null,null,null,null,null,null,null,null,null,null,null,null,null,null,null,null,null,null,null,null,null,null,null,null,null,null,null,null,null,null,null,null,null,null,null,null,null,null,null,"ROYAL ALBERT EDWARD INFIRMARY - RRF02","Cardio and Respiratory"]
[null,null,null,null,null,null,null,null,null,null,null,null,null,null,null,null,null,null,null,null,null,null,null,null,null,null,null,null,null,null,null,null,null,null,null,null,null,null,null,null,null,null,null,null,null,null,null,null,null,null,null,null,null,null,null,null,null,null,null,null,null,null,null,null,null,null,null,null,null,null,null,null,null,null,null,null,null,"ROYAL ALBERT EDWARD INFIRMARY - RRF02","Coronary Care Unit"]
[null,null,null,null,null,null,null,null,null,null,null,null,null,null,null,null,null,null,null,null,null,null,null,null,null,null,null,null,null,null,null,null,null,null,null,null,null,null,null,null,null,null,null,null,null,null,null,null,null,null,null,null,null,null,null,null,null,null,null,null,null,null,null,null,null,null,null,null,null,null,null,null,null,null,null,null,null,"ROYAL ALBERT EDWARD INFIRMARY - RRF02","Elderly Care Unit"]
[null,null,null,null,null,null,null,null,null,null,null,null,null,null,null,null,null,null,null,null,null,null,null,null,null,null,null,null,null,null,null,null,null,null,null,null,null,null,null,null,null,null,null,null,null,null,null,null,null,null,null,null,null,null,null,null,null,null,null,null,null,null,null,null,null,null,null,null,null,null,null,null,null,null,null,null,null,"ROYAL ALBERT EDWARD INFIRMARY - RRF02","Highfield"]
[null,null,null,null,null,null,null,null,null,null,null,null,null,null,null,null,null,null,null,null,null,null,null,null,null,null,null,null,null,null,null,null,null,null,null,null,null,null,null,null,null,null,null,null,null,null,null,null,null,null,null,null,null,null,null,null,null,null,null,null,null,null,null,null,null,null,null,null,null,null,null,null,null,null,null,null,null,"ROYAL ALBERT EDWARD INFIRMARY - RRF02","Intensive Care Unit/ High Dependancy Unit"]
[null,null,null,null,null,null,null,null,null,null,null,null,null,null,null,null,null,null,null,null,null,null,null,null,null,null,null,null,null,null,null,null,null,null,null,null,null,null,null,null,null,null,null,null,null,null,null,null,null,null,null,null,null,null,null,null,null,null,null,null,null,null,null,null,null,null,null,null,null,null,null,null,null,null,null,null,null,"ROYAL ALBERT EDWARD INFIRMARY - RRF02","Langtree"]
[null,null,null,null,null,null,null,null,null,null,null,null,null,null,null,null,null,null,null,null,null,null,null,null,null,null,null,null,null,null,null,null,null,null,null,null,null,null,null,null,null,null,null,null,null,null,null,null,null,null,null,null,null,null,null,null,null,null,null,null,null,null,null,null,null,null,null,null,null,null,null,null,null,null,null,null,null,"ROYAL ALBERT EDWARD INFIRMARY - RRF02","Maternity unit"]
[null,null,null,null,null,null,null,null,null,null,null,null,null,null,null,null,null,null,null,null,null,null,null,null,null,null,null,null,null,null,null,null,null,null,null,null,null,null,null,null,null,null,null,null,null,null,null,null,null,null,null,null,null,null,null,null,null,null,null,null,null,null,null,null,null,null,null,null,null,null,null,null,null,null,null,null,null,"ROYAL ALBERT EDWARD INFIRMARY - RRF02","Neonatal Unit"]
[null,null,null,null,null,null,null,null,null,null,null,null,null,null,null,null,null,null,null,null,null,null,null,null,null,null,null,null,null,null,null,null,null,null,null,null,null,null,null,null,null,null,null,null,null,null,null,null,null,null,null,null,null,null,null,null,null,null,null,null,null,null,null,null,null,null,null,null,null,null,null,null,null,null,null,null,null,"ROYAL ALBERT EDWARD INFIRMARY - RRF02","Orrell"]
[null,null,null,null,null,null,null,null,null,null,null,null,null,null,null,null,null,null,null,null,null,null,null,null,null,null,null,null,null,null,null,null,null,null,null,null,null,null,null,null,null,null,null,null,null,null,null,null,null,null,null,null,null,null,null,null,null,null,null,null,null,null,null,null,null,null,null,null,null,null,null,null,null,null,null,null,null,"ROYAL ALBERT EDWARD INFIRMARY - RRF02","Pemberton"]
[null,null,null,null,null,null,null,null,null,null,null,null,null,null,null,null,null,null,null,null,null,null,null,null,null,null,null,null,null,null,null,null,null,null,null,null,null,null,null,null,null,null,null,null,null,null,null,null,null,null,null,null,null,null,null,null,null,null,null,null,null,null,null,null,null,null,null,null,null,null,null,null,null,null,null,null,null,"ROYAL ALBERT EDWARD INFIRMARY - RRF02","Rainbow"]
[null,null,null,null,null,null,null,null,null,null,null,null,null,null,null,null,null,null,null,null,null,null,null,null,null,null,null,null,null,null,null,null,null,null,null,null,null,null,null,null,null,null,null,null,null,null,null,null,null,null,null,null,null,null,null,null,null,null,null,null,null,null,null,null,null,null,null,null,null,null,null,null,null,null,null,null,null,"ROYAL ALBERT EDWARD INFIRMARY - RRF02","Shevington"]
[null,null,null,null,null,null,null,null,null,null,null,null,null,null,null,null,null,null,null,null,null,null,null,null,null,null,null,null,null,null,null,null,null,null,null,null,null,null,null,null,null,null,null,null,null,null,null,null,null,null,null,null,null,null,null,null,null,null,null,null,null,null,null,null,null,null,null,null,null,null,null,null,null,null,null,null,null,"ROYAL ALBERT EDWARD INFIRMARY - RRF02","Swinley"]
[null,null,null,null,null,null,null,null,null,null,null,null,null,null,null,null,null,null,null,null,null,null,null,null,null,null,null,null,null,null,null,null,null,null,null,null,null,null,null,null,null,null,null,null,null,null,null,null,null,null,null,null,null,null,null,null,null,null,null,null,null,null,null,null,null,null,null,null,null,null,null,null,null,null,null,null,null,"WRIGHTINGTON HOSPITAL - RRF53","John Charnley"]
[null,null,null,null,null,null,null,null,null,null,null,null,null,null,null,null,null,null,null,null,null,null,null,null,null,null,null,null,null,null,null,null,null,null,null,null,null,null,null,null,null,null,null,null,null,null,null,null,null,null,null,null,null,null,null,null,null,null,null,null,null,null,null,null,null,null,null,null,null,null,null,null,null,null,null,null,null,"WRIGHTINGTON HOSPITAL - RRF53","Ward A"]
[null,null,null,null,null,null,null,null,null,null,null,null,null,null,null,null,null,null,null,null,null,null,null,null,null,null,null,null,null,null,null,null,null,null,null,null,null,null,null,null,null,null,null,null,null,null,null,null,null,null,null,null,null,null,null,null,null,null,null,null,null,null,null,null,null,null,null,null,null,null,null,null,null,null,null,null,null,"WRIGHTINGTON HOSPITAL - RRF53","Ward B"]
[null,null,null,null,null,null,null,null,null,null,null,null,null,null,null,null,null,null,null,null,null,null,null,null,null,null,null,null,null,null,null,null,null,null,null,null,null,null,null,null,null,null,null,null,null,null,null,null,null,null,null,null,null,null,null,null,null,null,null,null,null,null,null,null,null,null,null,null,null,null,null,null,null,null,null,null,null,"HEREFORD COUNTY HOSPITAL","Acute Medical Unit"]
[null,null,null,null,null,null,null,null,null,null,null,null,null,null,null,null,null,null,null,null,null,null,null,null,null,null,null,null,null,null,null,null,null,null,null,null,null,null,null,null,null,null,null,null,null,null,null,null,null,null,null,null,null,null,null,null,null,null,null,null,null,null,null,null,null,null,null,null,null,null,null,null,null,null,null,null,null,"HEREFORD COUNTY HOSPITAL","Arrow Ward"]
[null,null,null,null,null,null,null,null,null,null,null,null,null,null,null,null,null,null,null,null,null,null,null,null,null,null,null,null,null,null,null,null,null,null,null,null,null,null,null,null,null,null,null,null,null,null,null,null,null,null,null,null,null,null,null,null,null,null,null,null,null,null,null,null,null,null,null,null,null,null,null,null,null,null,null,null,null,"HEREFORD COUNTY HOSPITAL","Bromyard Community Hospital"]
[null,null,null,null,null,null,null,null,null,null,null,null,null,null,null,null,null,null,null,null,null,null,null,null,null,null,null,null,null,null,null,null,null,null,null,null,null,null,null,null,null,null,null,null,null,null,null,null,null,null,null,null,null,null,null,null,null,null,null,null,null,null,null,null,null,null,null,null,null,null,null,null,null,null,null,null,null,"HEREFORD COUNTY HOSPITAL","Cardiac Care Unit"]
[null,null,null,null,null,null,null,null,null,null,null,null,null,null,null,null,null,null,null,null,null,null,null,null,null,null,null,null,null,null,null,null,null,null,null,null,null,null,null,null,null,null,null,null,null,null,null,null,null,null,null,null,null,null,null,null,null,null,null,null,null,null,null,null,null,null,null,null,null,null,null,null,null,null,null,null,null,"HEREFORD COUNTY HOSPITAL","Childrens Ward"]
[null,null,null,null,null,null,null,null,null,null,null,null,null,null,null,null,null,null,null,null,null,null,null,null,null,null,null,null,null,null,null,null,null,null,null,null,null,null,null,null,null,null,null,null,null,null,null,null,null,null,null,null,null,null,null,null,null,null,null,null,null,null,null,null,null,null,null,null,null,null,null,null,null,null,null,null,null,"HEREFORD COUNTY HOSPITAL","Frome Ward"]
[null,null,null,null,null,null,null,null,null,null,null,null,null,null,null,null,null,null,null,null,null,null,null,null,null,null,null,null,null,null,null,null,null,null,null,null,null,null,null,null,null,null,null,null,null,null,null,null,null,null,null,null,null,null,null,null,null,null,null,null,null,null,null,null,null,null,null,null,null,null,null,null,null,null,null,null,null,"HEREFORD COUNTY HOSPITAL","Gilwern Assessment Unit"]
[null,null,null,null,null,null,null,null,null,null,null,null,null,null,null,null,null,null,null,null,null,null,null,null,null,null,null,null,null,null,null,null,null,null,null,null,null,null,null,null,null,null,null,null,null,null,null,null,null,null,null,null,null,null,null,null,null,null,null,null,null,null,null,null,null,null,null,null,null,null,null,null,null,null,null,null,null,"HEREFORD COUNTY HOSPITAL","Intensive Care Unit"]
[null,null,null,null,null,null,null,null,null,null,null,null,null,null,null,null,null,null,null,null,null,null,null,null,null,null,null,null,null,null,null,null,null,null,null,null,null,null,null,null,null,null,null,null,null,null,null,null,null,null,null,null,null,null,null,null,null,null,null,null,null,null,null,null,null,null,null,null,null,null,null,null,null,null,null,null,null,"HEREFORD COUNTY HOSPITAL","Leadon Ward"]
[null,null,null,null,null,null,null,null,null,null,null,null,null,null,null,null,null,null,null,null,null,null,null,null,null,null,null,null,null,null,null,null,null,null,null,null,null,null,null,null,null,null,null,null,null,null,null,null,null,null,null,null,null,null,null,null,null,null,null,null,null,null,null,null,null,null,null,null,null,null,null,null,null,null,null,null,null,"HEREFORD COUNTY HOSPITAL","Leominster Community Hospital"]
[null,null,null,null,null,null,null,null,null,null,null,null,null,null,null,null,null,null,null,null,null,null,null,null,null,null,null,null,null,null,null,null,null,null,null,null,null,null,null,null,null,null,null,null,null,null,null,null,null,null,null,null,null,null,null,null,null,null,null,null,null,null,null,null,null,null,null,null,null,null,null,null,null,null,null,null,null,"HEREFORD COUNTY HOSPITAL","Lugg Ward"]
[null,null,null,null,null,null,null,null,null,null,null,null,null,null,null,null,null,null,null,null,null,null,null,null,null,null,null,null,null,null,null,null,null,null,null,null,null,null,null,null,null,null,null,null,null,null,null,null,null,null,null,null,null,null,null,null,null,null,null,null,null,null,null,null,null,null,null,null,null,null,null,null,null,null,null,null,null,"HEREFORD COUNTY HOSPITAL","Maternity Ward"]
[null,null,null,null,null,null,null,null,null,null,null,null,null,null,null,null,null,null,null,null,null,null,null,null,null,null,null,null,null,null,null,null,null,null,null,null,null,null,null,null,null,null,null,null,null,null,null,null,null,null,null,null,null,null,null,null,null,null,null,null,null,null,null,null,null,null,null,null,null,null,null,null,null,null,null,null,null,"HEREFORD COUNTY HOSPITAL","Monnow Ward"]
[null,null,null,null,null,null,null,null,null,null,null,null,null,null,null,null,null,null,null,null,null,null,null,null,null,null,null,null,null,null,null,null,null,null,null,null,null,null,null,null,null,null,null,null,null,null,null,null,null,null,null,null,null,null,null,null,null,null,null,null,null,null,null,null,null,null,null,null,null,null,null,null,null,null,null,null,null,"HEREFORD COUNTY HOSPITAL","Redbrook Ward"]
[null,null,null,null,null,null,null,null,null,null,null,null,null,null,null,null,null,null,null,null,null,null,null,null,null,null,null,null,null,null,null,null,null,null,null,null,null,null,null,null,null,null,null,null,null,null,null,null,null,null,null,null,null,null,null,null,null,null,null,null,null,null,null,null,null,null,null,null,null,null,null,null,null,null,null,null,null,"HEREFORD COUNTY HOSPITAL","Ross Community Hospital"]
[null,null,null,null,null,null,null,null,null,null,null,null,null,null,null,null,null,null,null,null,null,null,null,null,null,null,null,null,null,null,null,null,null,null,null,null,null,null,null,null,null,null,null,null,null,null,null,null,null,null,null,null,null,null,null,null,null,null,null,null,null,null,null,null,null,null,null,null,null,null,null,null,null,null,null,null,null,"HEREFORD COUNTY HOSPITAL","Special Baby Care Unit"]
[null,null,null,null,null,null,null,null,null,null,null,null,null,null,null,null,null,null,null,null,null,null,null,null,null,null,null,null,null,null,null,null,null,null,null,null,null,null,null,null,null,null,null,null,null,null,null,null,null,null,null,null,null,null,null,null,null,null,null,null,null,null,null,null,null,null,null,null,null,null,null,null,null,null,null,null,null,"HEREFORD COUNTY HOSPITAL","Teme Ward"]
[null,null,null,null,null,null,null,null,null,null,null,null,null,null,null,null,null,null,null,null,null,null,null,null,null,null,null,null,null,null,null,null,null,null,null,null,null,null,null,null,null,null,null,null,null,null,null,null,null,null,null,null,null,null,null,null,null,null,null,null,null,null,null,null,null,null,null,null,null,null,null,null,null,null,null,null,null,"HEREFORD COUNTY HOSPITAL","Womens Health"]
[null,null,null,null,null,null,null,null,null,null,null,null,null,null,null,null,null,null,null,null,null,null,null,null,null,null,null,null,null,null,null,null,null,null,null,null,null,null,null,null,null,null,null,null,null,null,null,null,null,null,null,null,null,null,null,null,null,null,null,null,null,null,null,null,null,null,null,null,null,null,null,null,null,null,null,null,null,"HEREFORD COUNTY HOSPITAL","Wye Ward"]
[null,null,null,null,null,null,null,null,null,null,null,null,null,null,null,null,null,null,null,null,null,null,null,null,null,null,null,null,null,null,null,null,null,null,null,null,null,null,null,null,null,null,null,null,null,null,null,null,null,null,null,null,null,null,null,null,null,null,null,null,null,null,null,null,null,null,null,null,null,null,null,null,null,null,null,null,null,"YEOVIL DISTRICT HOSPITAL","6A (Elective)"]
[null,null,null,null,null,null,null,null,null,null,null,null,null,null,null,null,null,null,null,null,null,null,null,null,null,null,null,null,null,null,null,null,null,null,null,null,null,null,null,null,null,null,null,null,null,null,null,null,null,null,null,null,null,null,null,null,null,null,null,null,null,null,null,null,null,null,null,null,null,null,null,null,null,null,null,null,null,"YEOVIL DISTRICT HOSPITAL","6B"]
[null,null,null,null,null,null,null,null,null,null,null,null,null,null,null,null,null,null,null,null,null,null,null,null,null,null,null,null,null,null,null,null,null,null,null,null,null,null,null,null,null,null,null,null,null,null,null,null,null,null,null,null,null,null,null,null,null,null,null,null,null,null,null,null,null,null,null,null,null,null,null,null,null,null,null,null,null,"YEOVIL DISTRICT HOSPITAL","7A"]
[null,null,null,null,null,null,null,null,null,null,null,null,null,null,null,null,null,null,null,null,null,null,null,null,null,null,null,null,null,null,null,null,null,null,null,null,null,null,null,null,null,null,null,null,null,null,null,null,null,null,null,null,null,null,null,null,null,null,null,null,null,null,null,null,null,null,null,null,null,null,null,null,null,null,null,null,null,"YEOVIL DISTRICT HOSPITAL","7B (MFFD)"]
[null,null,null,null,null,null,null,null,null,null,null,null,null,null,null,null,null,null,null,null,null,null,null,null,null,null,null,null,null,null,null,null,null,null,null,null,null,null,null,null,null,null,null,null,null,null,null,null,null,null,null,null,null,null,null,null,null,null,null,null,null,null,null,null,null,null,null,null,null,null,null,null,null,null,null,null,null,"YEOVIL DISTRICT HOSPITAL","8A"]
[null,null,null,null,null,null,null,null,null,null,null,null,null,null,null,null,null,null,null,null,null,null,null,null,null,null,null,null,null,null,null,null,null,null,null,null,null,null,null,null,null,null,null,null,null,null,null,null,null,null,null,null,null,null,null,null,null,null,null,null,null,null,null,null,null,null,null,null,null,null,null,null,null,null,null,null,null,"YEOVIL DISTRICT HOSPITAL","8B"]
[null,null,null,null,null,null,null,null,null,null,null,null,null,null,null,null,null,null,null,null,null,null,null,null,null,null,null,null,null,null,null,null,null,null,null,null,null,null,null,null,null,null,null,null,null,null,null,null,null,null,null,null,null,null,null,null,null,null,null,null,null,null,null,null,null,null,null,null,null,null,null,null,null,null,null,null,null,"YEOVIL DISTRICT HOSPITAL","9A"]
[null,null,null,null,null,null,null,null,null,null,null,null,null,null,null,null,null,null,null,null,null,null,null,null,null,null,null,null,null,null,null,null,null,null,null,null,null,null,null,null,null,null,null,null,null,null,null,null,null,null,null,null,null,null,null,null,null,null,null,null,null,null,null,null,null,null,null,null,null,null,null,null,null,null,null,null,null,"YEOVIL DISTRICT HOSPITAL","9B"]
[null,null,null,null,null,null,null,null,null,null,null,null,null,null,null,null,null,null,null,null,null,null,null,null,null,null,null,null,null,null,null,null,null,null,null,null,null,null,null,null,null,null,null,null,null,null,null,null,null,null,null,null,null,null,null,null,null,null,null,null,null,null,null,null,null,null,null,null,null,null,null,null,null,null,null,null,null,"YEOVIL DISTRICT HOSPITAL","ACCU"]
[null,null,null,null,null,null,null,null,null,null,null,null,null,null,null,null,null,null,null,null,null,null,null,null,null,null,null,null,null,null,null,null,null,null,null,null,null,null,null,null,null,null,null,null,null,null,null,null,null,null,null,null,null,null,null,null,null,null,null,null,null,null,null,null,null,null,null,null,null,null,null,null,null,null,null,null,null,"YEOVIL DISTRICT HOSPITAL","EAU"]
[null,null,null,null,null,null,null,null,null,null,null,null,null,null,null,null,null,null,null,null,null,null,null,null,null,null,null,null,null,null,null,null,null,null,null,null,null,null,null,null,null,null,null,null,null,null,null,null,null,null,null,null,null,null,null,null,null,null,null,null,null,null,null,null,null,null,null,null,null,null,null,null,null,null,null,null,null,"YEOVIL DISTRICT HOSPITAL","ICU"]
[null,null,null,null,null,null,null,null,null,null,null,null,null,null,null,null,null,null,null,null,null,null,null,null,null,null,null,null,null,null,null,null,null,null,null,null,null,null,null,null,null,null,null,null,null,null,null,null,null,null,null,null,null,null,null,null,null,null,null,null,null,null,null,null,null,null,null,null,null,null,null,null,null,null,null,null,null,"YEOVIL DISTRICT HOSPITAL","KW"]
[null,null,null,null,null,null,null,null,null,null,null,null,null,null,null,null,null,null,null,null,null,null,null,null,null,null,null,null,null,null,null,null,null,null,null,null,null,null,null,null,null,null,null,null,null,null,null,null,null,null,null,null,null,null,null,null,null,null,null,null,null,null,null,null,null,null,null,null,null,null,null,null,null,null,null,null,null,"YEOVIL DISTRICT HOSPITAL","Maternity"]
[null,null,null,null,null,null,null,null,null,null,null,null,null,null,null,null,null,null,null,null,null,null,null,null,null,null,null,null,null,null,null,null,null,null,null,null,null,null,null,null,null,null,null,null,null,null,null,null,null,null,null,null,null,null,null,null,null,null,null,null,null,null,null,null,null,null,null,null,null,null,null,null,null,null,null,null,null,"YEOVIL DISTRICT HOSPITAL","SCBU"]
[null,null,null,null,null,null,null,null,null,null,null,null,null,null,null,null,null,null,null,null,null,null,null,null,null,null,null,null,null,null,null,null,null,null,null,null,null,null,null,null,null,null,null,null,null,null,null,null,null,null,null,null,null,null,null,null,null,null,null,null,null,null,null,null,null,null,null,null,null,null,null,null,null,null,null,null,null,"YEOVIL DISTRICT HOSPITAL","Ward 10"]
[null,null,null,null,null,null,null,null,null,null,null,null,null,null,null,null,null,null,null,null,null,null,null,null,null,null,null,null,null,null,null,null,null,null,null,null,null,null,null,null,null,null,null,null,null,null,null,null,null,null,null,null,null,null,null,null,null,null,null,null,null,null,null,null,null,null,null,null,null,null,null,null,null,null,null,null,null,"BRIDLINGTON AND DISTRICT HOSPITAL","Johnson"]
[null,null,null,null,null,null,null,null,null,null,null,null,null,null,null,null,null,null,null,null,null,null,null,null,null,null,null,null,null,null,null,null,null,null,null,null,null,null,null,null,null,null,null,null,null,null,null,null,null,null,null,null,null,null,null,null,null,null,null,null,null,null,null,null,null,null,null,null,null,null,null,null,null,null,null,null,null,"BRIDLINGTON AND DISTRICT HOSPITAL","Kent"]
[null,null,null,null,null,null,null,null,null,null,null,null,null,null,null,null,null,null,null,null,null,null,null,null,null,null,null,null,null,null,null,null,null,null,null,null,null,null,null,null,null,null,null,null,null,null,null,null,null,null,null,null,null,null,null,null,null,null,null,null,null,null,null,null,null,null,null,null,null,null,null,null,null,null,null,null,null,"BRIDLINGTON AND DISTRICT HOSPITAL","Lloyd"]
[null,null,null,null,null,null,null,null,null,null,null,null,null,null,null,null,null,null,null,null,null,null,null,null,null,null,null,null,null,null,null,null,null,null,null,null,null,null,null,null,null,null,null,null,null,null,null,null,null,null,null,null,null,null,null,null,null,null,null,null,null,null,null,null,null,null,null,null,null,null,null,null,null,null,null,null,null,"SCARBOROUGH GENERAL HOSPITAL","Ann Wright"]
[null,null,null,null,null,null,null,null,null,null,null,null,null,null,null,null,null,null,null,null,null,null,null,null,null,null,null,null,null,null,null,null,null,null,null,null,null,null,null,null,null,null,null,null,null,null,null,null,null,null,null,null,null,null,null,null,null,null,null,null,null,null,null,null,null,null,null,null,null,null,null,null,null,null,null,null,null,"SCARBOROUGH GENERAL HOSPITAL","Ash"]
[null,null,null,null,null,null,null,null,null,null,null,null,null,null,null,null,null,null,null,null,null,null,null,null,null,null,null,null,null,null,null,null,null,null,null,null,null,null,null,null,null,null,null,null,null,null,null,null,null,null,null,null,null,null,null,null,null,null,null,null,null,null,null,null,null,null,null,null,null,null,null,null,null,null,null,null,null,"SCARBOROUGH GENERAL HOSPITAL","Beech"]
[null,null,null,null,null,null,null,null,null,null,null,null,null,null,null,null,null,null,null,null,null,null,null,null,null,null,null,null,null,null,null,null,null,null,null,null,null,null,null,null,null,null,null,null,null,null,null,null,null,null,null,null,null,null,null,null,null,null,null,null,null,null,null,null,null,null,null,null,null,null,null,null,null,null,null,null,null,"SCARBOROUGH GENERAL HOSPITAL","Cherry"]
[null,null,null,null,null,null,null,null,null,null,null,null,null,null,null,null,null,null,null,null,null,null,null,null,null,null,null,null,null,null,null,null,null,null,null,null,null,null,null,null,null,null,null,null,null,null,null,null,null,null,null,null,null,null,null,null,null,null,null,null,null,null,null,null,null,null,null,null,null,null,null,null,null,null,null,null,null,"SCARBOROUGH GENERAL HOSPITAL","Chestnut"]
[null,null,null,null,null,null,null,null,null,null,null,null,null,null,null,null,null,null,null,null,null,null,null,null,null,null,null,null,null,null,null,null,null,null,null,null,null,null,null,null,null,null,null,null,null,null,null,null,null,null,null,null,null,null,null,null,null,null,null,null,null,null,null,null,null,null,null,null,null,null,null,null,null,null,null,null,null,"SCARBOROUGH GENERAL HOSPITAL","Coronary Care Unit"]
[null,null,null,null,null,null,null,null,null,null,null,null,null,null,null,null,null,null,null,null,null,null,null,null,null,null,null,null,null,null,null,null,null,null,null,null,null,null,null,null,null,null,null,null,null,null,null,null,null,null,null,null,null,null,null,null,null,null,null,null,null,null,null,null,null,null,null,null,null,null,null,null,null,null,null,null,null,"SCARBOROUGH GENERAL HOSPITAL","Duke of Kent"]
[null,null,null,null,null,null,null,null,null,null,null,null,null,null,null,null,null,null,null,null,null,null,null,null,null,null,null,null,null,null,null,null,null,null,null,null,null,null,null,null,null,null,null,null,null,null,null,null,null,null,null,null,null,null,null,null,null,null,null,null,null,null,null,null,null,null,null,null,null,null,null,null,null,null,null,null,null,"SCARBOROUGH GENERAL HOSPITAL","Graham"]
[null,null,null,null,null,null,null,null,null,null,null,null,null,null,null,null,null,null,null,null,null,null,null,null,null,null,null,null,null,null,null,null,null,null,null,null,null,null,null,null,null,null,null,null,null,null,null,null,null,null,null,null,null,null,null,null,null,null,null,null,null,null,null,null,null,null,null,null,null,null,null,null,null,null,null,null,null,"SCARBOROUGH GENERAL HOSPITAL","Hawthorn"]
[null,null,null,null,null,null,null,null,null,null,null,null,null,null,null,null,null,null,null,null,null,null,null,null,null,null,null,null,null,null,null,null,null,null,null,null,null,null,null,null,null,null,null,null,null,null,null,null,null,null,null,null,null,null,null,null,null,null,null,null,null,null,null,null,null,null,null,null,null,null,null,null,null,null,null,null,null,"SCARBOROUGH GENERAL HOSPITAL","Holly"]
[null,null,null,null,null,null,null,null,null,null,null,null,null,null,null,null,null,null,null,null,null,null,null,null,null,null,null,null,null,null,null,null,null,null,null,null,null,null,null,null,null,null,null,null,null,null,null,null,null,null,null,null,null,null,null,null,null,null,null,null,null,null,null,null,null,null,null,null,null,null,null,null,null,null,null,null,null,"SCARBOROUGH GENERAL HOSPITAL","Intensive Therapy Unit"]
[null,null,null,null,null,null,null,null,null,null,null,null,null,null,null,null,null,null,null,null,null,null,null,null,null,null,null,null,null,null,null,null,null,null,null,null,null,null,null,null,null,null,null,null,null,null,null,null,null,null,null,null,null,null,null,null,null,null,null,null,null,null,null,null,null,null,null,null,null,null,null,null,null,null,null,null,null,"SCARBOROUGH GENERAL HOSPITAL","Lilac"]
[null,null,null,null,null,null,null,null,null,null,null,null,null,null,null,null,null,null,null,null,null,null,null,null,null,null,null,null,null,null,null,null,null,null,null,null,null,null,null,null,null,null,null,null,null,null,null,null,null,null,null,null,null,null,null,null,null,null,null,null,null,null,null,null,null,null,null,null,null,null,null,null,null,null,null,null,null,"SCARBOROUGH GENERAL HOSPITAL","Maple"]
[null,null,null,null,null,null,null,null,null,null,null,null,null,null,null,null,null,null,null,null,null,null,null,null,null,null,null,null,null,null,null,null,null,null,null,null,null,null,null,null,null,null,null,null,null,null,null,null,null,null,null,null,null,null,null,null,null,null,null,null,null,null,null,null,null,null,null,null,null,null,null,null,null,null,null,null,null,"SCARBOROUGH GENERAL HOSPITAL","Oak"]
[null,null,null,null,null,null,null,null,null,null,null,null,null,null,null,null,null,null,null,null,null,null,null,null,null,null,null,null,null,null,null,null,null,null,null,null,null,null,null,null,null,null,null,null,null,null,null,null,null,null,null,null,null,null,null,null,null,null,null,null,null,null,null,null,null,null,null,null,null,null,null,null,null,null,null,null,null,"SCARBOROUGH GENERAL HOSPITAL","Stroke"]
[null,null,null,null,null,null,null,null,null,null,null,null,null,null,null,null,null,null,null,null,null,null,null,null,null,null,null,null,null,null,null,null,null,null,null,null,null,null,null,null,null,null,null,null,null,null,null,null,null,null,null,null,null,null,null,null,null,null,null,null,null,null,null,null,null,null,null,null,null,null,null,null,null,null,null,null,null,"SELBY AND DISTRICT WAR MEMORIAL HOSPITAL","Inpatient Unit"]
[null,null,null,null,null,null,null,null,null,null,null,null,null,null,null,null,null,null,null,null,null,null,null,null,null,null,null,null,null,null,null,null,null,null,null,null,null,null,null,null,null,null,null,null,null,null,null,null,null,null,null,null,null,null,null,null,null,null,null,null,null,null,null,null,null,null,null,null,null,null,null,null,null,null,null,null,null,"ST HELENS REHABILITATION HOSPITAL","St Helens"]
[null,null,null,null,null,null,null,null,null,null,null,null,null,null,null,null,null,null,null,null,null,null,null,null,null,null,null,null,null,null,null,null,null,null,null,null,null,null,null,null,null,null,null,null,null,null,null,null,null,null,null,null,null,null,null,null,null,null,null,null,null,null,null,null,null,null,null,null,null,null,null,null,null,null,null,null,null,"ST MONICAS HOSPITAL","St Monicas"]
[null,null,null,null,null,null,null,null,null,null,null,null,null,null,null,null,null,null,null,null,null,null,null,null,null,null,null,null,null,null,null,null,null,null,null,null,null,null,null,null,null,null,null,null,null,null,null,null,null,null,null,null,null,null,null,null,null,null,null,null,null,null,null,null,null,null,null,null,null,null,null,null,null,null,null,null,null,"WHITE CROSS REHABILITATION HOSPITAL","Whitecross Court"]
[null,null,null,null,null,null,null,null,null,null,null,null,null,null,null,null,null,null,null,null,null,null,null,null,null,null,null,null,null,null,null,null,null,null,null,null,null,null,null,null,null,null,null,null,null,null,null,null,null,null,null,null,null,null,null,null,null,null,null,null,null,null,null,null,null,null,null,null,null,null,null,null,null,null,null,null,null,"YORK HOSPITAL","11"]
[null,null,null,null,null,null,null,null,null,null,null,null,null,null,null,null,null,null,null,null,null,null,null,null,null,null,null,null,null,null,null,null,null,null,null,null,null,null,null,null,null,null,null,null,null,null,null,null,null,null,null,null,null,null,null,null,null,null,null,null,null,null,null,null,null,null,null,null,null,null,null,null,null,null,null,null,null,"YORK HOSPITAL","14"]
[null,null,null,null,null,null,null,null,null,null,null,null,null,null,null,null,null,null,null,null,null,null,null,null,null,null,null,null,null,null,null,null,null,null,null,null,null,null,null,null,null,null,null,null,null,null,null,null,null,null,null,null,null,null,null,null,null,null,null,null,null,null,null,null,null,null,null,null,null,null,null,null,null,null,null,null,null,"YORK HOSPITAL","16"]
[null,null,null,null,null,null,null,null,null,null,null,null,null,null,null,null,null,null,null,null,null,null,null,null,null,null,null,null,null,null,null,null,null,null,null,null,null,null,null,null,null,null,null,null,null,null,null,null,null,null,null,null,null,null,null,null,null,null,null,null,null,null,null,null,null,null,null,null,null,null,null,null,null,null,null,null,null,"YORK HOSPITAL","17"]
[null,null,null,null,null,null,null,null,null,null,null,null,null,null,null,null,null,null,null,null,null,null,null,null,null,null,null,null,null,null,null,null,null,null,null,null,null,null,null,null,null,null,null,null,null,null,null,null,null,null,null,null,null,null,null,null,null,null,null,null,null,null,null,null,null,null,null,null,null,null,null,null,null,null,null,null,null,"YORK HOSPITAL","23"]
[null,null,null,null,null,null,null,null,null,null,null,null,null,null,null,null,null,null,null,null,null,null,null,null,null,null,null,null,null,null,null,null,null,null,null,null,null,null,null,null,null,null,null,null,null,null,null,null,null,null,null,null,null,null,null,null,null,null,null,null,null,null,null,null,null,null,null,null,null,null,null,null,null,null,null,null,null,"YORK HOSPITAL","25"]
[null,null,null,null,null,null,null,null,null,null,null,null,null,null,null,null,null,null,null,null,null,null,null,null,null,null,null,null,null,null,null,null,null,null,null,null,null,null,null,null,null,null,null,null,null,null,null,null,null,null,null,null,null,null,null,null,null,null,null,null,null,null,null,null,null,null,null,null,null,null,null,null,null,null,null,null,null,"YORK HOSPITAL","26"]
[null,null,null,null,null,null,null,null,null,null,null,null,null,null,null,null,null,null,null,null,null,null,null,null,null,null,null,null,null,null,null,null,null,null,null,null,null,null,null,null,null,null,null,null,null,null,null,null,null,null,null,null,null,null,null,null,null,null,null,null,null,null,null,null,null,null,null,null,null,null,null,null,null,null,null,null,null,"YORK HOSPITAL","28"]
[null,null,null,null,null,null,null,null,null,null,null,null,null,null,null,null,null,null,null,null,null,null,null,null,null,null,null,null,null,null,null,null,null,null,null,null,null,null,null,null,null,null,null,null,null,null,null,null,null,null,null,null,null,null,null,null,null,null,null,null,null,null,null,null,null,null,null,null,null,null,null,null,null,null,null,null,null,"YORK HOSPITAL","29"]
[null,null,null,null,null,null,null,null,null,null,null,null,null,null,null,null,null,null,null,null,null,null,null,null,null,null,null,null,null,null,null,null,null,null,null,null,null,null,null,null,null,null,null,null,null,null,null,null,null,null,null,null,null,null,null,null,null,null,null,null,null,null,null,null,null,null,null,null,null,null,null,null,null,null,null,null,null,"YORK HOSPITAL","31"]
[null,null,null,null,null,null,null,null,null,null,null,null,null,null,null,null,null,null,null,null,null,null,null,null,null,null,null,null,null,null,null,null,null,null,null,null,null,null,null,null,null,null,null,null,null,null,null,null,null,null,null,null,null,null,null,null,null,null,null,null,null,null,null,null,null,null,null,null,null,null,null,null,null,null,null,null,null,"YORK HOSPITAL","32"]
[null,null,null,null,null,null,null,null,null,null,null,null,null,null,null,null,null,null,null,null,null,null,null,null,null,null,null,null,null,null,null,null,null,null,null,null,null,null,null,null,null,null,null,null,null,null,null,null,null,null,null,null,null,null,null,null,null,null,null,null,null,null,null,null,null,null,null,null,null,null,null,null,null,null,null,null,null,"YORK HOSPITAL","33"]
[null,null,null,null,null,null,null,null,null,null,null,null,null,null,null,null,null,null,null,null,null,null,null,null,null,null,null,null,null,null,null,null,null,null,null,null,null,null,null,null,null,null,null,null,null,null,null,null,null,null,null,null,null,null,null,null,null,null,null,null,null,null,null,null,null,null,null,null,null,null,null,null,null,null,null,null,null,"YORK HOSPITAL","34"]
[null,null,null,null,null,null,null,null,null,null,null,null,null,null,null,null,null,null,null,null,null,null,null,null,null,null,null,null,null,null,null,null,null,null,null,null,null,null,null,null,null,null,null,null,null,null,null,null,null,null,null,null,null,null,null,null,null,null,null,null,null,null,null,null,null,null,null,null,null,null,null,null,null,null,null,null,null,"YORK HOSPITAL","35"]
[null,null,null,null,null,null,null,null,null,null,null,null,null,null,null,null,null,null,null,null,null,null,null,null,null,null,null,null,null,null,null,null,null,null,null,null,null,null,null,null,null,null,null,null,null,null,null,null,null,null,null,null,null,null,null,null,null,null,null,null,null,null,null,null,null,null,null,null,null,null,null,null,null,null,null,null,null,"YORK HOSPITAL","37"]
[null,null,null,null,null,null,null,null,null,null,null,null,null,null,null,null,null,null,null,null,null,null,null,null,null,null,null,null,null,null,null,null,null,null,null,null,null,null,null,null,null,null,null,null,null,null,null,null,null,null,null,null,null,null,null,null,null,null,null,null,null,null,null,null,null,null,null,null,null,null,null,null,null,null,null,null,null,"YORK HOSPITAL","39"]
[null,null,null,null,null,null,null,null,null,null,null,null,null,null,null,null,null,null,null,null,null,null,null,null,null,null,null,null,null,null,null,null,null,null,null,null,null,null,null,null,null,null,null,null,null,null,null,null,null,null,null,null,null,null,null,null,null,null,null,null,null,null,null,null,null,null,null,null,null,null,null,null,null,null,null,null,null,"YORK HOSPITAL","36 - Acute Stroke Unit"]
[null,null,null,null,null,null,null,null,null,null,null,null,null,null,null,null,null,null,null,null,null,null,null,null,null,null,null,null,null,null,null,null,null,null,null,null,null,null,null,null,null,null,null,null,null,null,null,null,null,null,null,null,null,null,null,null,null,null,null,null,null,null,null,null,null,null,null,null,null,null,null,null,null,null,null,null,null,"YORK HOSPITAL","Acute Medical Unit"]
[null,null,null,null,null,null,null,null,null,null,null,null,null,null,null,null,null,null,null,null,null,null,null,null,null,null,null,null,null,null,null,null,null,null,null,null,null,null,null,null,null,null,null,null,null,null,null,null,null,null,null,null,null,null,null,null,null,null,null,null,null,null,null,null,null,null,null,null,null,null,null,null,null,null,null,null,null,"YORK HOSPITAL","Coronary Care Unit"]
[null,null,null,null,null,null,null,null,null,null,null,null,null,null,null,null,null,null,null,null,null,null,null,null,null,null,null,null,null,null,null,null,null,null,null,null,null,null,null,null,null,null,null,null,null,null,null,null,null,null,null,null,null,null,null,null,null,null,null,null,null,null,null,null,null,null,null,null,null,null,null,null,null,null,null,null,null,"YORK HOSPITAL","Extended Stay Area"]
[null,null,null,null,null,null,null,null,null,null,null,null,null,null,null,null,null,null,null,null,null,null,null,null,null,null,null,null,null,null,null,null,null,null,null,null,null,null,null,null,null,null,null,null,null,null,null,null,null,null,null,null,null,null,null,null,null,null,null,null,null,null,null,null,null,null,null,null,null,null,null,null,null,null,null,null,null,"YORK HOSPITAL","Frailty Unit"]
[null,null,null,null,null,null,null,null,null,null,null,null,null,null,null,null,null,null,null,null,null,null,null,null,null,null,null,null,null,null,null,null,null,null,null,null,null,null,null,null,null,null,null,null,null,null,null,null,null,null,null,null,null,null,null,null,null,null,null,null,null,null,null,null,null,null,null,null,null,null,null,null,null,null,null,null,null,"YORK HOSPITAL","G1"]
[null,null,null,null,null,null,null,null,null,null,null,null,null,null,null,null,null,null,null,null,null,null,null,null,null,null,null,null,null,null,null,null,null,null,null,null,null,null,null,null,null,null,null,null,null,null,null,null,null,null,null,null,null,null,null,null,null,null,null,null,null,null,null,null,null,null,null,null,null,null,null,null,null,null,null,null,null,"YORK HOSPITAL","G2"]
[null,null,null,null,null,null,null,null,null,null,null,null,null,null,null,null,null,null,null,null,null,null,null,null,null,null,null,null,null,null,null,null,null,null,null,null,null,null,null,null,null,null,null,null,null,null,null,null,null,null,null,null,null,null,null,null,null,null,null,null,null,null,null,null,null,null,null,null,null,null,null,null,null,null,null,null,null,"YORK HOSPITAL","G3"]
[null,null,null,null,null,null,null,null,null,null,null,null,null,null,null,null,null,null,null,null,null,null,null,null,null,null,null,null,null,null,null,null,null,null,null,null,null,null,null,null,null,null,null,null,null,null,null,null,null,null,null,null,null,null,null,null,null,null,null,null,null,null,null,null,null,null,null,null,null,null,null,null,null,null,null,null,null,"YORK HOSPITAL","Intensive Care Unit"]

{"sheet":"Validation","index":4,"n_rows":59,"n_cols":12,"rows_kept":59,"cut":false,"hidden":true,"merged":[]}
[]
["Requested validations","FFT IP validation code"]
[]
["ERRORS:"]
["1)    Organisation code must be selected;"]
["3)    An ODS site code must be selected for each row;"]
["4)    A ward name must be entered for each row;"]
["5)    At least one specialty must be selected (Specialty 1) for each row;"]
["6)    Specialties (Specialty 1 and Specialty 2) must be selected from drop downs;","internal?"]
["7)    Total planned hours for each row must be greater than zero;"]
["8)    Total actual hours for each row must be greater than zero;"]
["9)    There should be no gaps between each row;","?"]
["10) Duplication of a ward name within a site.","\"=IF($AA$816>0,\"Duplicate 'Ward name' (Col D), with the same specialty(s) (Col L and Col M), has been provided for at least 1 'Hospital Site'(Col C)\",\"\")\"","does not work in the other sheets!!"]
["WARNINGS:"]
["1)    One or more wards has a day nurse fill rate > 100%;"]
["2)    One or more wards has a day care staff fill rate > 100%;"]
["3)    One or more wards has a night nurse fill rate > 100%;"]
["4)    One or more wards has a night care staff fill rate > 100%;"]
["5)    One or more wards has less than 1448 actual hours (approx. 2 full time staff);"]
["6)    One or more wards has more than 30 000 actual hours (approx. 40 full time staff);"]
["7)    One or more wards has submitted actual hours but zero CHPPD patients."]
[]
[]
[]
["Other"]
[]
["no duplicate speciality codes","\"=IF(Y816>0,\"The same 'Specialty' (Col L and Col M) can not be selected twice\",\"\")\""]
["all relevant cells to be filled in","\"=IF(T816>0,\"Data not complete for all rows\",IF(W816>0,\"Data not complete for all rows\",\"\"))\""]
[]
["Fix ODS ref data"]
[]
[]
[]
[]
[]
[]
[]
[]
[]
[]
[]
[]
[]
[]
[]
[]
[null,null,"a",1,"p",null,null,null,null,null,{"$f":"CONCATENATE(C47,D47,E47,F47)","v":"a1p"},{"$f":"(IF(COUNTIF($K$47:$K$59,K47)>1,1,0))=1","v":false}]
[null,null,"b",2,"o",null,null,null,null,null,{"$f":"CONCATENATE(C48,D48,E48,F48)","v":"b2o"},{"$f":"(IF(COUNTIF($K$47:$K$59,K48)>1,1,0))=1","v":false}]
[null,null,"c",3,"i",null,null,null,null,null,"c3i",false]
[null,null,"d",4,"u",null,null,null,null,null,"d4u",false]
[null,null,"e",5,"y",null,null,null,null,null,"e5y",false]
[null,null,"f",6,"t",null,null,null,null,null,"f6t",false]
[null,null,"g",7,"r",null,null,null,null,null,"g7r",false]
[null,null,"h",8,"e",null,null,null,null,null,"h8e",false]
[null,null,"i",9,"s",null,null,null,null,null,"i9s",false]
[null,null,"j",10,"w",null,null,null,null,null,"j10w",false]
[null,null,"w",13,"w",null,null,null,null,null,"w13w",true]
[null,null,"w",13,"w",null,null,null,null,null,"w13w",true]
[null,null,"w",13,"w","q",null,null,null,null,"w13wq",false]

{"sheet":"Wards","index":5,"n_rows":6671,"n_cols":6,"rows_kept":6671,"cut":false,"hidden":false,"merged":[]}
["Concatenate","Org code","Org name","Site Code","Site Name","Ward"]
[{"$f":"CONCATENATE(D2,\"-\",F2)","v":"AXG01-Cedar"},"AXG","WILTSHIRE HEALTH & CARE","AXG01","WILTSHIRE HEALTH & CARE (CHIPPENHAM COMMUNITY HOSPITAL)","Cedar"]
[{"$f":"CONCATENATE(D3,\"-\",F3)","v":"AXG01-Mulberry"},"AXG","WILTSHIRE HEALTH & CARE","AXG01","WILTSHIRE HEALTH & CARE (CHIPPENHAM COMMUNITY HOSPITAL)","Mulberry"]
["AXG02-Ailesbury","AXG","WILTSHIRE HEALTH & CARE","AXG02","SAVERNAKE COMMUNITY HOSPITAL","Ailesbury"]
["AXG03-Longleat","AXG","WILTSHIRE HEALTH & CARE","AXG03","WARMINSTER COMMUNITY HOSPITAL","Longleat"]
["R0A02-11M+12M - Ward 11 & 12","R0A","MANCHESTER UNIVERSITY NHS FOUNDATION TRUST","R0A02","MANCHESTER ROYAL INFIRMARY","11M+12M - Ward 11 & 12"]
["R0A02-30M - 30M","R0A","MANCHESTER UNIVERSITY NHS FOUNDATION TRUST","R0A02","MANCHESTER ROYAL INFIRMARY","30M - 30M"]
["R0A02-31 - Ward 31","R0A","MANCHESTER UNIVERSITY NHS FOUNDATION TRUST","R0A02","MANCHESTER ROYAL INFIRMARY","31 - Ward 31"]
["R0A02-32M - 32M","R0A","MANCHESTER UNIVERSITY NHS FOUNDATION TRUST","R0A02","MANCHESTER ROYAL INFIRMARY","32M - 32M"]
["R0A02-35 - Ward 35 (ACC)","R0A","MANCHESTER UNIVERSITY NHS FOUNDATION TRUST","R0A02","MANCHESTER ROYAL INFIRMARY","35 - Ward 35 (ACC)"]
["R0A02-3M - Ward 3","R0A","MANCHESTER UNIVERSITY NHS FOUNDATION TRUST","R0A02","MANCHESTER ROYAL INFIRMARY","3M - Ward 3"]
["R0A02-44 - Ward 44","R0A","MANCHESTER UNIVERSITY NHS FOUNDATION TRUST","R0A02","MANCHESTER ROYAL INFIRMARY","44 - Ward 44"]
["R0A02-45 - Ward 45","R0A","MANCHESTER UNIVERSITY NHS FOUNDATION TRUST","R0A02","MANCHESTER ROYAL INFIRMARY","45 - Ward 45"]
["R0A02-46 - Ward 46","R0A","MANCHESTER UNIVERSITY NHS FOUNDATION TRUST","R0A02","MANCHESTER ROYAL INFIRMARY","46 - Ward 46"]
["R0A02-4M - Ward 4","R0A","MANCHESTER UNIVERSITY NHS FOUNDATION TRUST","R0A02","MANCHESTER ROYAL INFIRMARY","4M - Ward 4"]
["R0A02-8HPB - Ward 8 HPB","R0A","MANCHESTER UNIVERSITY NHS FOUNDATION TRUST","R0A02","MANCHESTER ROYAL INFIRMARY","8HPB - Ward 8 HPB"]
["R0A02-9M+10M - Ward 9 & 10","R0A","MANCHESTER UNIVERSITY NHS FOUNDATION TRUST","R0A02","MANCHESTER ROYAL INFIRMARY","9M+10M - Ward 9 & 10"]
["R0A02-AM1 - Am1","R0A","MANCHESTER UNIVERSITY NHS FOUNDATION TRUST","R0A02","MANCHESTER ROYAL INFIRMARY","AM1 - Am1"]
["R0A02-AM2 - Am2","R0A","MANCHESTER UNIVERSITY NHS FOUNDATION TRUST","R0A02","MANCHESTER ROYAL INFIRMARY","AM2 - Am2"]
["R0A02-AM3 - Am3","R0A","MANCHESTER UNIVERSITY NHS FOUNDATION TRUST","R0A02","MANCHESTER ROYAL INFIRMARY","AM3 - Am3"]
["R0A02-AM4 - Am4","R0A","MANCHESTER UNIVERSITY NHS FOUNDATION TRUST","R0A02","MANCHESTER ROYAL INFIRMARY","AM4 - Am4"]
["R0A02-AMU","R0A","MANCHESTER UNIVERSITY NHS FOUNDATION TRUST","R0A02","MANCHESTER ROYAL INFIRMARY","AMU"]
["R0A02-Critical Care Unit","R0A","MANCHESTER UNIVERSITY NHS FOUNDATION TRUST","R0A02","MANCHESTER ROYAL INFIRMARY","Critical Care Unit"]
["R0A02-CSITU","R0A","MANCHESTER UNIVERSITY NHS FOUNDATION TRUST","R0A02","MANCHESTER ROYAL INFIRMARY","CSITU"]
["R0A02-ESTU - Emergency Surgical Trauma Unit","R0A","MANCHESTER UNIVERSITY NHS FOUNDATION TRUST","R0A02","MANCHESTER ROYAL INFIRMARY","ESTU - Emergency Surgical Trauma Unit"]
["R0A02-ETCS - Etc Short Stay","R0A","MANCHESTER UNIVERSITY NHS FOUNDATION TRUST","R0A02","MANCHESTER ROYAL INFIRMARY","ETCS - Etc Short Stay"]
["R0A02-HNSU - Head and Neck Surgical Unit","R0A","MANCHESTER UNIVERSITY NHS FOUNDATION TRUST","R0A02","MANCHESTER ROYAL INFIRMARY","HNSU - Head and Neck Surgical Unit"]
["R0A02-MANCHESTER WARD - MANW","R0A","MANCHESTER UNIVERSITY NHS FOUNDATION TRUST","R0A02","MANCHESTER ROYAL INFIRMARY","MANCHESTER WARD - MANW"]
["R0A02-MVC - MANCHESTER VASCULAR CENTRE","R0A","MANCHESTER UNIVERSITY NHS FOUNDATION TRUST","R0A02","MANCHESTER ROYAL INFIRMARY","MVC - MANCHESTER VASCULAR CENTRE"]
["R0A02-Ward 36/37","R0A","MANCHESTER UNIVERSITY NHS FOUNDATION TRUST","R0A02","MANCHESTER ROYAL INFIRMARY","Ward 36/37"]
["R0A03-75 - Ward 75","R0A","MANCHESTER UNIVERSITY NHS FOUNDATION TRUST","R0A03","ROYAL MANCHESTER CHILDREN'S HOSPITAL","75 - Ward 75"]
["R0A03-76 - Ward 76","R0A","MANCHESTER UNIVERSITY NHS FOUNDATION TRUST","R0A03","ROYAL MANCHESTER CHILDREN'S HOSPITAL","76 - Ward 76"]
["R0A03-77 - Ward 77","R0A","MANCHESTER UNIVERSITY NHS FOUNDATION TRUST","R0A03","ROYAL MANCHESTER CHILDREN'S HOSPITAL","77 - Ward 77"]
["R0A03-78 - Ward 78","R0A","MANCHESTER UNIVERSITY NHS FOUNDATION TRUST","R0A03","ROYAL MANCHESTER CHILDREN'S HOSPITAL","78 - Ward 78"]
["R0A03-81 - Ward 81 Burns","R0A","MANCHESTER UNIVERSITY NHS FOUNDATION TRUST","R0A03","ROYAL MANCHESTER CHILDREN'S HOSPITAL","81 - Ward 81 Burns"]
["R0A03-83 - Ward 83","R0A","MANCHESTER UNIVERSITY NHS FOUNDATION TRUST","R0A03","ROYAL MANCHESTER CHILDREN'S HOSPITAL","83 - Ward 83"]
["R0A03-84 - Ward 84","R0A","MANCHESTER UNIVERSITY NHS FOUNDATION TRUST","R0A03","ROYAL MANCHESTER CHILDREN'S HOSPITAL","84 - Ward 84"]
["R0A03-84A - Ward 84 Bmtu","R0A","MANCHESTER UNIVERSITY NHS FOUNDATION TRUST","R0A03","ROYAL MANCHESTER CHILDREN'S HOSPITAL","84A - Ward 84 Bmtu"]
["R0A03-85 - Ward 85","R0A","MANCHESTER UNIVERSITY NHS FOUNDATION TRUST","R0A03","ROYAL MANCHESTER CHILDREN'S HOSPITAL","85 - Ward 85"]
["R0A03-87 - Ward 87 Galaxy","R0A","MANCHESTER UNIVERSITY NHS FOUNDATION TRUST","R0A03","ROYAL MANCHESTER CHILDREN'S HOSPITAL","87 - Ward 87 Galaxy"]
["R0A03-Paediatric Critical Care","R0A","MANCHESTER UNIVERSITY NHS FOUNDATION TRUST","R0A03","ROYAL MANCHESTER CHILDREN'S HOSPITAL","Paediatric Critical Care"]
["R0A04-55I - Ward 55 Inpatients Reh","R0A","MANCHESTER UNIVERSITY NHS FOUNDATION TRUST","R0A04","MANCHESTER ROYAL EYE HOSPITAL","55I - Ward 55 Inpatients Reh"]
["R0A05-62 - Ward 62 - Gynae Inpatients","R0A","MANCHESTER UNIVERSITY NHS FOUNDATION TRUST","R0A05","ST MARY'S HOSPITAL","62 - Ward 62 - Gynae Inpatients"]
["R0A05-NICU - Neonatal Intensive Care Unit","R0A","MANCHESTER UNIVERSITY NHS FOUNDATION TRUST","R0A05","ST MARY'S HOSPITAL","NICU - Neonatal Intensive Care Unit"]
["R0A05-Ward 47a Midwifery Led Unit","R0A","MANCHESTER UNIVERSITY NHS FOUNDATION TRUST","R0A05","ST MARY'S HOSPITAL","Ward 47a Midwifery Led Unit"]
["R0A05-Ward 47b Postnatal","R0A","MANCHESTER UNIVERSITY NHS FOUNDATION TRUST","R0A05","ST MARY'S HOSPITAL","Ward 47b Postnatal"]
["R0A05-Ward 64 Delivery Unit","R0A","MANCHESTER UNIVERSITY NHS FOUNDATION TRUST","R0A05","ST MARY'S HOSPITAL","Ward 64 Delivery Unit"]
["R0A05-Ward 65 Antenatal","R0A","MANCHESTER UNIVERSITY NHS FOUNDATION TRUST","R0A05","ST MARY'S HOSPITAL","Ward 65 Antenatal"]
["R0A05-Ward 66 Postnatal","R0A","MANCHESTER UNIVERSITY NHS FOUNDATION TRUST","R0A05","ST MARY'S HOSPITAL","Ward 66 Postnatal"]
["R0A07-A1","R0A","MANCHESTER UNIVERSITY NHS FOUNDATION TRUST","R0A07","WYTHENSHAWE HOSPITAL","A1"]
["R0A07-A2","R0A","MANCHESTER UNIVERSITY NHS FOUNDATION TRUST","R0A07","WYTHENSHAWE HOSPITAL","A2"]
["R0A07-A3","R0A","MANCHESTER UNIVERSITY NHS FOUNDATION TRUST","R0A07","WYTHENSHAWE HOSPITAL","A3"]
["R0A07-A4","R0A","MANCHESTER UNIVERSITY NHS FOUNDATION TRUST","R0A07","WYTHENSHAWE HOSPITAL","A4"]
["R0A07-A5","R0A","MANCHESTER UNIVERSITY NHS FOUNDATION TRUST","R0A07","WYTHENSHAWE HOSPITAL","A5"]
["R0A07-A6","R0A","MANCHESTER UNIVERSITY NHS FOUNDATION TRUST","R0A07","WYTHENSHAWE HOSPITAL","A6"]
["R0A07-A7","R0A","MANCHESTER UNIVERSITY NHS FOUNDATION TRUST","R0A07","WYTHENSHAWE HOSPITAL","A7"]
["R0A07-A9","R0A","MANCHESTER UNIVERSITY NHS FOUNDATION TRUST","R0A07","WYTHENSHAWE HOSPITAL","A9"]
["R0A07-ACCU","R0A","MANCHESTER UNIVERSITY NHS FOUNDATION TRUST","R0A07","WYTHENSHAWE HOSPITAL","ACCU"]
["R0A07-ACUTE ICU","R0A","MANCHESTER UNIVERSITY NHS FOUNDATION TRUST","R0A07","WYTHENSHAWE HOSPITAL","ACUTE ICU"]
["R0A07-AMU","R0A","MANCHESTER UNIVERSITY NHS FOUNDATION TRUST","R0A07","WYTHENSHAWE HOSPITAL","AMU"]
["R0A07-Burns Unit","R0A","MANCHESTER UNIVERSITY NHS FOUNDATION TRUST","R0A07","WYTHENSHAWE HOSPITAL","Burns Unit"]
["R0A07-C2 - Post Natal Ward","R0A","MANCHESTER UNIVERSITY NHS FOUNDATION TRUST","R0A07","WYTHENSHAWE HOSPITAL","C2 - Post Natal Ward"]
["R0A07-C3 - Antenatal Ward","R0A","MANCHESTER UNIVERSITY NHS FOUNDATION TRUST","R0A07","WYTHENSHAWE HOSPITAL","C3 - Antenatal Ward"]
["R0A07-CTCCU","R0A","MANCHESTER UNIVERSITY NHS FOUNDATION TRUST","R0A07","WYTHENSHAWE HOSPITAL","CTCCU"]
["R0A07-DELIVERY SUITE","R0A","MANCHESTER UNIVERSITY NHS FOUNDATION TRUST","R0A07","WYTHENSHAWE HOSPITAL","DELIVERY SUITE"]
["R0A07-Doyle Ward","R0A","MANCHESTER UNIVERSITY NHS FOUNDATION TRUST","R0A07","WYTHENSHAWE HOSPITAL","Doyle Ward"]
[{"$f":"CONCATENATE(D67,\"-\",F67)","v":"R0A07-F1 - Plastics Day Care"},"R0A","MANCHESTER UNIVERSITY NHS FOUNDATION TRUST","R0A07","WYTHENSHAWE HOSPITAL","F1 - Plastics Day Care"]
["R0A07-F11/PITU","R0A","MANCHESTER UNIVERSITY NHS FOUNDATION TRUST","R0A07","WYTHENSHAWE HOSPITAL","F11/PITU"]
["R0A07-F12","R0A","MANCHESTER UNIVERSITY NHS FOUNDATION TRUST","R0A07","WYTHENSHAWE HOSPITAL","F12"]
["R0A07-F14","R0A","MANCHESTER UNIVERSITY NHS FOUNDATION TRUST","R0A07","WYTHENSHAWE HOSPITAL","F14"]
["R0A07-F15","R0A","MANCHESTER UNIVERSITY NHS FOUNDATION TRUST","R0A07","WYTHENSHAWE HOSPITAL","F15"]
["R0A07-F16","R0A","MANCHESTER UNIVERSITY NHS FOUNDATION TRUST","R0A07","WYTHENSHAWE HOSPITAL","F16"]
["R0A07-F2 LUNG","R0A","MANCHESTER UNIVERSITY NHS FOUNDATION TRUST","R0A07","WYTHENSHAWE HOSPITAL","F2 LUNG"]
["R0A07-F2/F5","R0A","MANCHESTER UNIVERSITY NHS FOUNDATION TRUST","R0A07","WYTHENSHAWE HOSPITAL","F2/F5"]
["R0A07-F3","R0A","MANCHESTER UNIVERSITY NHS FOUNDATION TRUST","R0A07","WYTHENSHAWE HOSPITAL","F3"]
["R0A07-F4","R0A","MANCHESTER UNIVERSITY NHS FOUNDATION TRUST","R0A07","WYTHENSHAWE HOSPITAL","F4"]
["R0A07-F6","R0A","MANCHESTER UNIVERSITY NHS FOUNDATION TRUST","R0A07","WYTHENSHAWE HOSPITAL","F6"]
["R0A07-F7","R0A","MANCHESTER UNIVERSITY NHS FOUNDATION TRUST","R0A07","WYTHENSHAWE HOSPITAL","F7"]
["R0A07-F9","R0A","MANCHESTER UNIVERSITY NHS FOUNDATION TRUST","R0A07","WYTHENSHAWE HOSPITAL","F9"]
["R0A07-JIM QUICK TRANSPLANT","R0A","MANCHESTER UNIVERSITY NHS FOUNDATION TRUST","R0A07","WYTHENSHAWE HOSPITAL","JIM QUICK TRANSPLANT"]
["R0A07-NeonatalUnit","R0A","MANCHESTER UNIVERSITY NHS FOUNDATION TRUST","R0A07","WYTHENSHAWE HOSPITAL","NeonatalUnit"]
["R0A07-NWVU","R0A","MANCHESTER UNIVERSITY NHS FOUNDATION TRUST","R0A07","WYTHENSHAWE HOSPITAL","NWVU"]
["R0A07-OPAL House","R0A","MANCHESTER UNIVERSITY NHS FOUNDATION TRUST","R0A07","WYTHENSHAWE HOSPITAL","OPAL House"]
["R0A07-Pearce Ward","R0A","MANCHESTER UNIVERSITY NHS FOUNDATION TRUST","R0A07","WYTHENSHAWE HOSPITAL","Pearce Ward"]
["R0A07-POU","R0A","MANCHESTER UNIVERSITY NHS FOUNDATION TRUST","R0A07","WYTHENSHAWE HOSPITAL","POU"]
["R0A07-Starlight Unit (F8)","R0A","MANCHESTER UNIVERSITY NHS FOUNDATION TRUST","R0A07","WYTHENSHAWE HOSPITAL","Starlight Unit (F8)"]
["R0A07-Wilson Ward","R0A","MANCHESTER UNIVERSITY NHS FOUNDATION TRUST","R0A07","WYTHENSHAWE HOSPITAL","Wilson Ward"]
["R0A09-AMU - Trafford","R0A","MANCHESTER UNIVERSITY NHS FOUNDATION TRUST","R0A09","TRAFFORD GENERAL HOSPITAL","AMU - Trafford"]
["R0A09-ICU - High Care Unit’","R0A","MANCHESTER UNIVERSITY NHS FOUNDATION TRUST","R0A09","TRAFFORD GENERAL HOSPITAL","ICU - High Care Unit’"]
["R0A09-TINRU - INRU","R0A","MANCHESTER UNIVERSITY NHS FOUNDATION TRUST","R0A09","TRAFFORD GENERAL HOSPITAL","TINRU - INRU"]
["R0A09-TSRU - Stroke-Rehab","R0A","MANCHESTER UNIVERSITY NHS FOUNDATION TRUST","R0A09","TRAFFORD GENERAL HOSPITAL","TSRU - Stroke-Rehab"]
["R0A09-W2 - Ward 2","R0A","MANCHESTER UNIVERSITY NHS FOUNDATION TRUST","R0A09","TRAFFORD GENERAL HOSPITAL","W2 - Ward 2"]
["R0A09-W4 - Ward 4","R0A","MANCHESTER UNIVERSITY NHS FOUNDATION TRUST","R0A09","TRAFFORD GENERAL HOSPITAL","W4 - Ward 4"]
["R0A09-W6 - Ward 6","R0A","MANCHESTER UNIVERSITY NHS FOUNDATION TRUST","R0A09","TRAFFORD GENERAL HOSPITAL","W6 - Ward 6"]
["R0A09-Ward 12 Orthopeadic Unit","R0A","MANCHESTER UNIVERSITY NHS FOUNDATION TRUST","R0A09","TRAFFORD GENERAL HOSPITAL","Ward 12 Orthopeadic Unit"]
["R0B01-CPAU","R0B","SOUTH TYNESIDE AND SUNDERLAND NHS FOUNDATION TRUST","R0B01","SUNDERLAND ROYAL HOSPITAL","CPAU"]
["R0B01-DGANPN","R0B","SOUTH TYNESIDE AND SUNDERLAND NHS FOUNDATION TRUST","R0B01","SUNDERLAND ROYAL HOSPITAL","DGANPN"]
["R0B01-DGB20","R0B","SOUTH TYNESIDE AND SUNDERLAND NHS FOUNDATION TRUST","R0B01","SUNDERLAND ROYAL HOSPITAL","DGB20"]
["R0B01-DGB21","R0B","SOUTH TYNESIDE AND SUNDERLAND NHS FOUNDATION TRUST","R0B01","SUNDERLAND ROYAL HOSPITAL","DGB21"]
["R0B01-DGB26","R0B","SOUTH TYNESIDE AND SUNDERLAND NHS FOUNDATION TRUST","R0B01","SUNDERLAND ROYAL HOSPITAL","DGB26"]
["R0B01-DGB28","R0B","SOUTH TYNESIDE AND SUNDERLAND NHS FOUNDATION TRUST","R0B01","SUNDERLAND ROYAL HOSPITAL","DGB28"]
["R0B01-DGC30","R0B","SOUTH TYNESIDE AND SUNDERLAND NHS FOUNDATION TRUST","R0B01","SUNDERLAND ROYAL HOSPITAL","DGC30"]
["R0B01-DGC31","R0B","SOUTH TYNESIDE AND SUNDERLAND NHS FOUNDATION TRUST","R0B01","SUNDERLAND ROYAL HOSPITAL","DGC31"]
["R0B01-DGC33","R0B","SOUTH TYNESIDE AND SUNDERLAND NHS FOUNDATION TRUST","R0B01","SUNDERLAND ROYAL HOSPITAL","DGC33"]
["R0B01-DGC36","R0B","SOUTH TYNESIDE AND SUNDERLAND NHS FOUNDATION TRUST","R0B01","SUNDERLAND ROYAL HOSPITAL","DGC36"]
["R0B01-DGD41","R0B","SOUTH TYNESIDE AND SUNDERLAND NHS FOUNDATION TRUST","R0B01","SUNDERLAND ROYAL HOSPITAL","DGD41"]
["R0B01-DGD42","R0B","SOUTH TYNESIDE AND SUNDERLAND NHS FOUNDATION TRUST","R0B01","SUNDERLAND ROYAL HOSPITAL","DGD42"]
["R0B01-DGD43","R0B","SOUTH TYNESIDE AND SUNDERLAND NHS FOUNDATION TRUST","R0B01","SUNDERLAND ROYAL HOSPITAL","DGD43"]
["R0B01-DGD47","R0B","SOUTH TYNESIDE AND SUNDERLAND NHS FOUNDATION TRUST","R0B01","SUNDERLAND ROYAL HOSPITAL","DGD47"]
["R0B01-DGD48","R0B","SOUTH TYNESIDE AND SUNDERLAND NHS FOUNDATION TRUST","R0B01","SUNDERLAND ROYAL HOSPITAL","DGD48"]
["R0B01-DGDNNU","R0B","SOUTH TYNESIDE AND SUNDERLAND NHS FOUNDATION TRUST","R0B01","SUNDERLAND ROYAL HOSPITAL","DGDNNU"]
["R0B01-DGDS","R0B","SOUTH TYNESIDE AND SUNDERLAND NHS FOUNDATION TRUST","R0B01","SUNDERLAND ROYAL HOSPITAL","DGDS"]
["R0B01-DGE50","R0B","SOUTH TYNESIDE AND SUNDERLAND NHS FOUNDATION TRUST","R0B01","SUNDERLAND ROYAL HOSPITAL","DGE50"]
["R0B01-DGE51","R0B","SOUTH TYNESIDE AND SUNDERLAND NHS FOUNDATION TRUST","R0B01","SUNDERLAND ROYAL HOSPITAL","DGE51"]
["R0B01-DGE52","R0B","SOUTH TYNESIDE AND SUNDERLAND NHS FOUNDATION TRUST","R0B01","SUNDERLAND ROYAL HOSPITAL","DGE52"]
["R0B01-DGE53","R0B","SOUTH TYNESIDE AND SUNDERLAND NHS FOUNDATION TRUST","R0B01","SUNDERLAND ROYAL HOSPITAL","DGE53"]
["R0B01-DGE54","R0B","SOUTH TYNESIDE AND SUNDERLAND NHS FOUNDATION TRUST","R0B01","SUNDERLAND ROYAL HOSPITAL","DGE54"]
["R0B01-DGE56","R0B","SOUTH TYNESIDE AND SUNDERLAND NHS FOUNDATION TRUST","R0B01","SUNDERLAND ROYAL HOSPITAL","DGE56"]
["R0B01-DGE58","R0B","SOUTH TYNESIDE AND SUNDERLAND NHS FOUNDATION TRUST","R0B01","SUNDERLAND ROYAL HOSPITAL","DGE58"]
["R0B01-DGF61","R0B","SOUTH TYNESIDE AND SUNDERLAND NHS FOUNDATION TRUST","R0B01","SUNDERLAND ROYAL HOSPITAL","DGF61"]
["R0B01-DGF62","R0B","SOUTH TYNESIDE AND SUNDERLAND NHS FOUNDATION TRUST","R0B01","SUNDERLAND ROYAL HOSPITAL","DGF62"]
["R0B01-DGF63","R0B","SOUTH TYNESIDE AND SUNDERLAND NHS FOUNDATION TRUST","R0B01","SUNDERLAND ROYAL HOSPITAL","DGF63"]
["R0B01-DGF64","R0B","SOUTH TYNESIDE AND SUNDERLAND NHS FOUNDATION TRUST","R0B01","SUNDERLAND ROYAL HOSPITAL","DGF64"]
["R0B01-DGF65","R0B","SOUTH TYNESIDE AND SUNDERLAND NHS FOUNDATION TRUST","R0B01","SUNDERLAND ROYAL HOSPITAL","DGF65"]
["R0B01-DGICCU","R0B","SOUTH TYNESIDE AND SUNDERLAND NHS FOUNDATION TRUST","R0B01","SUNDERLAND ROYAL HOSPITAL","DGICCU"]
["R0B01-IAU","R0B","SOUTH TYNESIDE AND SUNDERLAND NHS FOUNDATION TRUST","R0B01","SUNDERLAND ROYAL HOSPITAL","IAU"]
["R0B0Q-DELIVERY SUITE","R0B","SOUTH TYNESIDE AND SUNDERLAND NHS FOUNDATION TRUST","R0B0Q","SOUTH TYNESIDE DISTRICT HOSPITAL","DELIVERY SUITE"]
["R0B0Q-EAU - EMERGENCY ADMISSION UNIT","R0B","SOUTH TYNESIDE AND SUNDERLAND NHS FOUNDATION TRUST","R0B0Q","SOUTH TYNESIDE DISTRICT HOSPITAL","EAU - EMERGENCY ADMISSION UNIT"]
["R0B0Q-ITU / HDU","R0B","SOUTH TYNESIDE AND SUNDERLAND NHS FOUNDATION TRUST","R0B0Q","SOUTH TYNESIDE DISTRICT HOSPITAL","ITU / HDU"]
["R0B0Q-PRIMROSE WARD","R0B","SOUTH TYNESIDE AND SUNDERLAND NHS FOUNDATION TRUST","R0B0Q","SOUTH TYNESIDE DISTRICT HOSPITAL","PRIMROSE WARD"]
[{"$f":"CONCATENATE(D131,\"-\",F131)","v":"R0B0Q-SPECIAL CARE BABY UNIT"},"R0B","SOUTH TYNESIDE AND SUNDERLAND NHS FOUNDATION TRUST","R0B0Q","SOUTH TYNESIDE DISTRICT HOSPITAL","SPECIAL CARE BABY UNIT"]
["R0B0Q-STDH Surgical Centre (IP)","R0B","SOUTH TYNESIDE AND SUNDERLAND NHS FOUNDATION TRUST","R0B0Q","SOUTH TYNESIDE DISTRICT HOSPITAL","STDH Surgical Centre (IP)"]
["R0B0Q-WARD 10","R0B","SOUTH TYNESIDE AND SUNDERLAND NHS FOUNDATION TRUST","R0B0Q","SOUTH TYNESIDE DISTRICT HOSPITAL","WARD 10"]
["R0B0Q-WARD 19","R0B","SOUTH TYNESIDE AND SUNDERLAND NHS FOUNDATION TRUST","R0B0Q","SOUTH TYNESIDE DISTRICT HOSPITAL","WARD 19"]
["R0B0Q-WARD 2","R0B","SOUTH TYNESIDE AND SUNDERLAND NHS FOUNDATION TRUST","R0B0Q","SOUTH TYNESIDE DISTRICT HOSPITAL","WARD 2"]
["R0B0Q-WARD 22","R0B","SOUTH TYNESIDE AND SUNDERLAND NHS FOUNDATION TRUST","R0B0Q","SOUTH TYNESIDE DISTRICT HOSPITAL","WARD 22"]
["R0B0Q-WARD 3","R0B","SOUTH TYNESIDE AND SUNDERLAND NHS FOUNDATION TRUST","R0B0Q","SOUTH TYNESIDE DISTRICT HOSPITAL","WARD 3"]
["R0B0Q-WARD 5","R0B","SOUTH TYNESIDE AND SUNDERLAND NHS FOUNDATION TRUST","R0B0Q","SOUTH TYNESIDE DISTRICT HOSPITAL","WARD 5"]
["R0B0Q-WARD 6 / CCU (CORONARY CARE UNIT)","R0B","SOUTH TYNESIDE AND SUNDERLAND NHS FOUNDATION TRUST","R0B0Q","SOUTH TYNESIDE DISTRICT HOSPITAL","WARD 6 / CCU (CORONARY CARE UNIT)"]
["R0B0Q-WARD 9","R0B","SOUTH TYNESIDE AND SUNDERLAND NHS FOUNDATION TRUST","R0B0Q","SOUTH TYNESIDE DISTRICT HOSPITAL","WARD 9"]
["R0B0U-ST BENEDICTS","R0B","SOUTH TYNESIDE AND SUNDERLAND NHS FOUNDATION TRUST","R0B0U","ST BENEDICT'S HOSPICE","ST BENEDICTS"]
["R0B0X-Haygarth","R0B","SOUTH TYNESIDE AND SUNDERLAND NHS FOUNDATION TRUST","R0B0X","SUNDERLAND EYE INFIRMARY","Haygarth"]
["R0B1J-ELMVILLE","R0B","SOUTH TYNESIDE AND SUNDERLAND NHS FOUNDATION TRUST","R0B1J","MONKTON HALL HOSPITAL","ELMVILLE"]
["R1A07-ATHELON WARD","R1A","WORCESTERSHIRE HEALTH AND CARE NHS TRUST","R1A07","NEWTOWN HOSPITAL","ATHELON WARD"]
["R1A07-HADLEY UNIT (PICU)","R1A","WORCESTERSHIRE HEALTH AND CARE NHS TRUST","R1A07","NEWTOWN HOSPITAL","HADLEY UNIT (PICU)"]
["R1A07-HOLT WARD","R1A","WORCESTERSHIRE HEALTH AND CARE NHS TRUST","R1A07","NEWTOWN HOSPITAL","HOLT WARD"]
["R1A22-KEITH WINTER CLOSE","R1A","WORCESTERSHIRE HEALTH AND CARE NHS TRUST","R1A22","KEITH WINTER CLOSE MENTAL HEALTH UNIT","KEITH WINTER CLOSE"]
["R1A49-HILL CREST WARD","R1A","WORCESTERSHIRE HEALTH AND CARE NHS TRUST","R1A49","HILL CREST MENTAL HEALTH UNIT","HILL CREST WARD"]
["R1A58-LUDLOW ROAD","R1A","WORCESTERSHIRE HEALTH AND CARE NHS TRUST","R1A58","LUDLOW ROAD","LUDLOW ROAD"]
["R1AAV-CROMWELL HOUSE","R1A","WORCESTERSHIRE HEALTH AND CARE NHS TRUST","R1AAV","CROMWELL HOUSE","CROMWELL HOUSE"]
["R1ACC-MEADOW WARD (NEW HAVEN)","R1A","WORCESTERSHIRE HEALTH AND CARE NHS TRUST","R1ACC","NEW HAVEN (MENTAL HEALTH UNIT)","MEADOW WARD (NEW HAVEN)"]
["R1ACC-WOODLAND WARD (NEW HAVEN)","R1A","WORCESTERSHIRE HEALTH AND CARE NHS TRUST","R1ACC","NEW HAVEN (MENTAL HEALTH UNIT)","WOODLAND WARD (NEW HAVEN)"]
["R1ACD-CHURCHVIEW HOUSE","R1A","WORCESTERSHIRE HEALTH AND CARE NHS TRUST","R1ACD","CHURCHVIEW HOUSE","CHURCHVIEW HOUSE"]
["R1ACY-OSBORNE COURT","R1A","WORCESTERSHIRE HEALTH AND CARE NHS TRUST","R1ACY","OSBORNE COURT","OSBORNE COURT"]
["R1AHM-APPLE ORCHARD WARD","R1A","WORCESTERSHIRE HEALTH AND CARE NHS TRUST","R1AHM","TIMBERDINE HOME RESIDENTIAL CARE","APPLE ORCHARD WARD"]
["R1AHM-CHERRY ORCHARD WARD","R1A","WORCESTERSHIRE HEALTH AND CARE NHS TRUST","R1AHM","TIMBERDINE HOME RESIDENTIAL CARE","CHERRY ORCHARD WARD"]
["R1ARE-ABBOTT WARD","R1A","WORCESTERSHIRE HEALTH AND CARE NHS TRUST","R1ARE","COMM HOSP WARDS (EVESHAM)","ABBOTT WARD"]
["R1ARE-IZOD WARD","R1A","WORCESTERSHIRE HEALTH AND CARE NHS TRUST","R1ARE","COMM HOSP WARDS (EVESHAM)","IZOD WARD"]
["R1ARE-WA ORTHOPAEDIC REHABILITATION UNIT","R1A","WORCESTERSHIRE HEALTH AND CARE NHS TRUST","R1ARE","COMM HOSP WARDS (EVESHAM)","WA ORTHOPAEDIC REHABILITATION UNIT"]
["R1ARE-WILLOWS STROKE WARD","R1A","WORCESTERSHIRE HEALTH AND CARE NHS TRUST","R1ARE","COMM HOSP WARDS (EVESHAM)","WILLOWS STROKE WARD"]
["R1ARG-MALVERN COMMUNITY HOSPITAL","R1A","WORCESTERSHIRE HEALTH AND CARE NHS TRUST","R1ARG","COMM HOSP WARDS (MALVERN)","MALVERN COMMUNITY HOSPITAL"]
["R1ARJ-PERSHORE COMMUNITY HOSPITAL","R1A","WORCESTERSHIRE HEALTH AND CARE NHS TRUST","R1ARJ","COMM HOSP WARDS (PERSHORE)","PERSHORE COMMUNITY HOSPITAL"]
["R1ARK-COTTAGE WARD","R1A","WORCESTERSHIRE HEALTH AND CARE NHS TRUST","R1ARK","COMMUNITY HOSP WARDS (POWCH)","COTTAGE WARD"]
["R1ARK-LICKEY WARD","R1A","WORCESTERSHIRE HEALTH AND CARE NHS TRUST","R1ARK","COMMUNITY HOSP WARDS (POWCH)","LICKEY WARD"]
["R1ARK-PRIMROSE UNIT","R1A","WORCESTERSHIRE HEALTH AND CARE NHS TRUST","R1ARK","COMMUNITY HOSP WARDS (POWCH)","PRIMROSE UNIT"]
["R1ARK-WYRE FOREST WARD","R1A","WORCESTERSHIRE HEALTH AND CARE NHS TRUST","R1ARK","COMMUNITY HOSP WARDS (POWCH)","WYRE FOREST WARD"]
["R1ARL-TENBURY COMMUNITY HOSPITAL","R1A","WORCESTERSHIRE HEALTH AND CARE NHS TRUST","R1ARL","COMM HOSP WARDS (TENBURY)","TENBURY COMMUNITY HOSPITAL"]
["R1C03-ADS Snowdon Ward","R1C","SOLENT NHS TRUST","R1C03","WESTERN COMMUNITY HOSPITAL","ADS Snowdon Ward"]
["R1C03-ADS The Kite Unit","R1C","SOLENT NHS TRUST","R1C03","WESTERN COMMUNITY HOSPITAL","ADS The Kite Unit"]
["R1C34-ADS Fanshawe Ward","R1C","SOLENT NHS TRUST","R1C34","THE ROYAL SOUTH HANTS HOSPITAL","ADS Fanshawe Ward"]
["R1C34-ADS Lower Brambles Ward","R1C","SOLENT NHS TRUST","R1C34","THE ROYAL SOUTH HANTS HOSPITAL","ADS Lower Brambles Ward"]
["R1CD4-ADP Spinnaker Ward","R1C","SOLENT NHS TRUST","R1CD4","ST MARY'S HEALTH CAMPUS","ADP Spinnaker Ward"]
["R1CF2-MHS Brooker","R1C","SOLENT NHS TRUST","R1CF2","ST JAMES' HOSPITAL","MHS Brooker"]
["R1CF2-MHS Oakdene","R1C","SOLENT NHS TRUST","R1CF2","ST JAMES' HOSPITAL","MHS Oakdene"]
["R1CF2-MHS The Orchards Acute - Hawthorn","R1C","SOLENT NHS TRUST","R1CF2","ST JAMES' HOSPITAL","MHS The Orchards Acute - Hawthorn"]
["R1CF2-MHS The Orchards PICU - Maples","R1C","SOLENT NHS TRUST","R1CF2","ST JAMES' HOSPITAL","MHS The Orchards PICU - Maples"]
["R1CF5-ADP Jubilee House Continuing Care","R1C","SOLENT NHS TRUST","R1CF5","JUBILEE HOUSE","ADP Jubilee House Continuing Care"]
["R1D21-Dinham","R1D","SHROPSHIRE COMMUNITY HEALTH NHS TRUST","R1D21","LUDLOW HOSPITAL","Dinham"]
["R1D22-Agnes Campbell","R1D","SHROPSHIRE COMMUNITY HEALTH NHS TRUST","R1D22","BRIDGNORTH HOSPITAL","Agnes Campbell"]
["R1D25-Stonehouse Ward","R1D","SHROPSHIRE COMMUNITY HEALTH NHS TRUST","R1D25","BISHOPS CASTLE HOSPITAL","Stonehouse Ward"]
["R1D34-Whitchurch Rehab Ward","R1D","SHROPSHIRE COMMUNITY HEALTH NHS TRUST","R1D34","WHITCHURCH HOSPITAL","Whitchurch Rehab Ward"]
["R1F01-Afton Ward","R1F","ISLE OF WIGHT NHS TRUST","R1F01","ST MARY'S HOSPITAL","Afton Ward"]
["R1F01-Alverstone Ward","R1F","ISLE OF WIGHT NHS TRUST","R1F01","ST MARY'S HOSPITAL","Alverstone Ward"]
["R1F01-Appley Ward","R1F","ISLE OF WIGHT NHS TRUST","R1F01","ST MARY'S HOSPITAL","Appley Ward"]
["R1F01-Colwell Ward","R1F","ISLE OF WIGHT NHS TRUST","R1F01","ST MARY'S HOSPITAL","Colwell Ward"]
["R1F01-Coronary Care","R1F","ISLE OF WIGHT NHS TRUST","R1F01","ST MARY'S HOSPITAL","Coronary Care"]
["R1F01-Intensive Care Unit","R1F","ISLE OF WIGHT NHS TRUST","R1F01","ST MARY'S HOSPITAL","Intensive Care Unit"]
["R1F01-Luccombe Ward","R1F","ISLE OF WIGHT NHS TRUST","R1F01","ST MARY'S HOSPITAL","Luccombe Ward"]
["R1F01-MAAU","R1F","ISLE OF WIGHT NHS TRUST","R1F01","ST MARY'S HOSPITAL","MAAU"]
["R1F01-Maternity Services","R1F","ISLE OF WIGHT NHS TRUST","R1F01","ST MARY'S HOSPITAL","Maternity Services"]
["R1F01-Mottistone Ward","R1F","ISLE OF WIGHT NHS TRUST","R1F01","ST MARY'S HOSPITAL","Mottistone Ward"]
["R1F01-Osborne Ward","R1F","ISLE OF WIGHT NHS TRUST","R1F01","ST MARY'S HOSPITAL","Osborne Ward"]
["R1F01-Paediatric Ward","R1F","ISLE OF WIGHT NHS TRUST","R1F01","ST MARY'S HOSPITAL","Paediatric Ward"]
["R1F01-Seagrove Ward","R1F","ISLE OF WIGHT NHS TRUST","R1F01","ST MARY'S HOSPITAL","Seagrove Ward"]
[{"$f":"CONCATENATE(D195,\"-\",F195)","v":"R1F01-Shackleton Ward"},"R1F","ISLE OF WIGHT NHS TRUST","R1F01","ST MARY'S HOSPITAL","Shackleton Ward"]
["R1F01-Special Care Unit","R1F","ISLE OF WIGHT NHS TRUST","R1F01","ST MARY'S HOSPITAL","Special Care Unit"]
["R1F01-St Helens Ward","R1F","ISLE OF WIGHT NHS TRUST","R1F01","ST MARY'S HOSPITAL","St Helens Ward"]
["R1F01-The Stroke Unit","R1F","ISLE OF WIGHT NHS TRUST","R1F01","ST MARY'S HOSPITAL","The Stroke Unit"]
["R1F01-Whippingham Ward","R1F","ISLE OF WIGHT NHS TRUST","R1F01","ST MARY'S HOSPITAL","Whippingham Ward"]
["R1F01-Woodlands","R1F","ISLE OF WIGHT NHS TRUST","R1F01","ST MARY'S HOSPITAL","Woodlands"]
["R1H12-10E RLH","R1H","BARTS HEALTH NHS TRUST","R1H12","The Royal London Hospital","10E RLH"]
["R1H12-10F RLH","R1H","BARTS HEALTH NHS TRUST","R1H12","The Royal London Hospital","10F RLH"]
["R1H12-11C RLH","R1H","BARTS HEALTH NHS TRUST","R1H12","The Royal London Hospital","11C RLH"]
["R1H12-11E & 11F AAU","R1H","BARTS HEALTH NHS TRUST","R1H12","The Royal London Hospital","11E & 11F AAU"]
["R1H12-12C RLH","R1H","BARTS HEALTH NHS TRUST","R1H12","The Royal London Hospital","12C RLH"]
["R1H12-12D RLH","R1H","BARTS HEALTH NHS TRUST","R1H12","The Royal London Hospital","12D RLH"]
["R1H12-12E RLH","R1H","BARTS HEALTH NHS TRUST","R1H12","The Royal London Hospital","12E RLH"]
["R1H12-12F RLH","R1H","BARTS HEALTH NHS TRUST","R1H12","The Royal London Hospital","12F RLH"]
["R1H12-13C RLH","R1H","BARTS HEALTH NHS TRUST","R1H12","The Royal London Hospital","13C RLH"]
["R1H12-13D RLH","R1H","BARTS HEALTH NHS TRUST","R1H12","The Royal London Hospital","13D RLH"]
["R1H12-13E RLH","R1H","BARTS HEALTH NHS TRUST","R1H12","The Royal London Hospital","13E RLH"]
["R1H12-13F RLH","R1H","BARTS HEALTH NHS TRUST","R1H12","The Royal London Hospital","13F RLH"]
["R1H12-14E RLH","R1H","BARTS HEALTH NHS TRUST","R1H12","The Royal London Hospital","14E RLH"]
["R1H12-14F RLH","R1H","BARTS HEALTH NHS TRUST","R1H12","The Royal London Hospital","14F RLH"]
["R1H12-3D RLH","R1H","BARTS HEALTH NHS TRUST","R1H12","The Royal London Hospital","3D RLH"]
["R1H12-3E RLH","R1H","BARTS HEALTH NHS TRUST","R1H12","The Royal London Hospital","3E RLH"]
["R1H12-3F RLH","R1H","BARTS HEALTH NHS TRUST","R1H12","The Royal London Hospital","3F RLH"]
["R1H12-4E RLH","R1H","BARTS HEALTH NHS TRUST","R1H12","The Royal London Hospital","4E RLH"]
["R1H12-6C RLH","R1H","BARTS HEALTH NHS TRUST","R1H12","The Royal London Hospital","6C RLH"]
["R1H12-6E & 6F RLH","R1H","BARTS HEALTH NHS TRUST","R1H12","The Royal London Hospital","6E & 6F RLH"]
["R1H12-7C RLH","R1H","BARTS HEALTH NHS TRUST","R1H12","The Royal London Hospital","7C RLH"]
["R1H12-7D RLH","R1H","BARTS HEALTH NHS TRUST","R1H12","The Royal London Hospital","7D RLH"]
["R1H12-7E NORTH RLH","R1H","BARTS HEALTH NHS TRUST","R1H12","The Royal London Hospital","7E NORTH RLH"]
["R1H12-7E RLH","R1H","BARTS HEALTH NHS TRUST","R1H12","The Royal London Hospital","7E RLH"]
["R1H12-7F RLH","R1H","BARTS HEALTH NHS TRUST","R1H12","The Royal London Hospital","7F RLH"]
["R1H12-8C RLH","R1H","BARTS HEALTH NHS TRUST","R1H12","The Royal London Hospital","8C RLH"]
["R1H12-8D RLH","R1H","BARTS HEALTH NHS TRUST","R1H12","The Royal London Hospital","8D RLH"]
["R1H12-8F RLH","R1H","BARTS HEALTH NHS TRUST","R1H12","The Royal London Hospital","8F RLH"]
["R1H12-9E HDU RLH","R1H","BARTS HEALTH NHS TRUST","R1H12","The Royal London Hospital","9E HDU RLH"]
["R1H12-9E RLH","R1H","BARTS HEALTH NHS TRUST","R1H12","The Royal London Hospital","9E RLH"]
["R1H12-9F RLH","R1H","BARTS HEALTH NHS TRUST","R1H12","The Royal London Hospital","9F RLH"]
["R1HKH-AAU WXH","R1H","BARTS HEALTH NHS TRUST","R1HKH","Whipps Cross University Hospital","AAU WXH"]
["R1HKH-ACACIA","R1H","BARTS HEALTH NHS TRUST","R1HKH","Whipps Cross University Hospital","ACACIA"]
["R1HKH-ACORN","R1H","BARTS HEALTH NHS TRUST","R1HKH","Whipps Cross University Hospital","ACORN"]
["R1HKH-BIRCH","R1H","BARTS HEALTH NHS TRUST","R1HKH","Whipps Cross University Hospital","BIRCH"]
["R1HKH-BLACKTHORN","R1H","BARTS HEALTH NHS TRUST","R1HKH","Whipps Cross University Hospital","BLACKTHORN"]
["R1HKH-Bracken","R1H","BARTS HEALTH NHS TRUST","R1HKH","Whipps Cross University Hospital","Bracken"]
["R1HKH-CEDAR","R1H","BARTS HEALTH NHS TRUST","R1HKH","Whipps Cross University Hospital","CEDAR"]
["R1HKH-CHESTNUT","R1H","BARTS HEALTH NHS TRUST","R1HKH","Whipps Cross University Hospital","CHESTNUT"]
["R1HKH-CONIFER","R1H","BARTS HEALTH NHS TRUST","R1HKH","Whipps Cross University Hospital","CONIFER"]
["R1HKH-CURIE","R1H","BARTS HEALTH NHS TRUST","R1HKH","Whipps Cross University Hospital","CURIE"]
["R1HKH-DELIVERY SUITE WXH","R1H","BARTS HEALTH NHS TRUST","R1HKH","Whipps Cross University Hospital","DELIVERY SUITE WXH"]
["R1HKH-ELIZABETH","R1H","BARTS HEALTH NHS TRUST","R1HKH","Whipps Cross University Hospital","ELIZABETH"]
["R1HKH-FARADAY","R1H","BARTS HEALTH NHS TRUST","R1HKH","Whipps Cross University Hospital","FARADAY"]
["R1HKH-Frail Elderly WXH","R1H","BARTS HEALTH NHS TRUST","R1HKH","Whipps Cross University Hospital","Frail Elderly WXH"]
["R1HKH-ICU WXH","R1H","BARTS HEALTH NHS TRUST","R1HKH","Whipps Cross University Hospital","ICU WXH"]
["R1HKH-MARGARET","R1H","BARTS HEALTH NHS TRUST","R1HKH","Whipps Cross University Hospital","MARGARET"]
["R1HKH-Mary","R1H","BARTS HEALTH NHS TRUST","R1HKH","Whipps Cross University Hospital","Mary"]
["R1HKH-MIDWIFERY WXH","R1H","BARTS HEALTH NHS TRUST","R1HKH","Whipps Cross University Hospital","MIDWIFERY WXH"]
["R1HKH-MULBERRY","R1H","BARTS HEALTH NHS TRUST","R1HKH","Whipps Cross University Hospital","MULBERRY"]
["R1HKH-NEONATAL WXH","R1H","BARTS HEALTH NHS TRUST","R1HKH","Whipps Cross University Hospital","NEONATAL WXH"]
["R1HKH-NIGHTINGALE","R1H","BARTS HEALTH NHS TRUST","R1HKH","Whipps Cross University Hospital","NIGHTINGALE"]
["R1HKH-PEACE","R1H","BARTS HEALTH NHS TRUST","R1HKH","Whipps Cross University Hospital","PEACE"]
["R1HKH-POPLAR","R1H","BARTS HEALTH NHS TRUST","R1HKH","Whipps Cross University Hospital","POPLAR"]
["R1HKH-PRIMROSE","R1H","BARTS HEALTH NHS TRUST","R1HKH","Whipps Cross University Hospital","PRIMROSE"]
["R1HKH-ROWAN","R1H","BARTS HEALTH NHS TRUST","R1HKH","Whipps Cross University Hospital","ROWAN"]
["R1HKH-SAGE","R1H","BARTS HEALTH NHS TRUST","R1HKH","Whipps Cross University Hospital","SAGE"]
["R1HKH-SYCAMORE","R1H","BARTS HEALTH NHS TRUST","R1HKH","Whipps Cross University Hospital","SYCAMORE"]
[{"$f":"CONCATENATE(D259,\"-\",F259)","v":"R1HKH-SYRINGA"},"R1H","BARTS HEALTH NHS TRUST","R1HKH","Whipps Cross University Hospital","SYRINGA"]
["R1HKH-VICTORY","R1H","BARTS HEALTH NHS TRUST","R1HKH","Whipps Cross University Hospital","VICTORY"]
["R1HM0-1C","R1H","BARTS HEALTH NHS TRUST","R1HM0","St Bartholomew's Hospital","1C"]
["R1HM0-1D","R1H","BARTS HEALTH NHS TRUST","R1HM0","St Bartholomew's Hospital","1D"]
["R1HM0-1E","R1H","BARTS HEALTH NHS TRUST","R1HM0","St Bartholomew's Hospital","1E"]
["R1HM0-3A SBH","R1H","BARTS HEALTH NHS TRUST","R1HM0","St Bartholomew's Hospital","3A SBH"]
["R1HM0-3D  SBH","R1H","BARTS HEALTH NHS TRUST","R1HM0","St Bartholomew's Hospital","3D  SBH"]
["R1HM0-4A SBH","R1H","BARTS HEALTH NHS TRUST","R1HM0","St Bartholomew's Hospital","4A SBH"]
["R1HM0-4B SBH","R1H","BARTS HEALTH NHS TRUST","R1HM0","St Bartholomew's Hospital","4B SBH"]
["R1HM0-4C SBH","R1H","BARTS HEALTH NHS TRUST","R1HM0","St Bartholomew's Hospital","4C SBH"]
["R1HM0-4D &  4E SBH","R1H","BARTS HEALTH NHS TRUST","R1HM0","St Bartholomew's Hospital","4D &  4E SBH"]
["R1HM0-5A SBH","R1H","BARTS HEALTH NHS TRUST","R1HM0","St Bartholomew's Hospital","5A SBH"]
["R1HM0-5B SBH","R1H","BARTS HEALTH NHS TRUST","R1HM0","St Bartholomew's Hospital","5B SBH"]
["R1HM0-5C SBH","R1H","BARTS HEALTH NHS TRUST","R1HM0","St Bartholomew's Hospital","5C SBH"]
["R1HM0-5D SBH","R1H","BARTS HEALTH NHS TRUST","R1HM0","St Bartholomew's Hospital","5D SBH"]
["R1HM0-6A SBH","R1H","BARTS HEALTH NHS TRUST","R1HM0","St Bartholomew's Hospital","6A SBH"]
["R1HM0-6D SBH","R1H","BARTS HEALTH NHS TRUST","R1HM0","St Bartholomew's Hospital","6D SBH"]
["R1HNH-BECKTON","R1H","BARTS HEALTH NHS TRUST","R1HNH","Newham General Hospital","BECKTON"]
["R1HNH-CCU NUH","R1H","BARTS HEALTH NHS TRUST","R1HNH","Newham General Hospital","CCU NUH"]
["R1HNH-DELIVERY SUITE NUH","R1H","BARTS HEALTH NHS TRUST","R1HNH","Newham General Hospital","DELIVERY SUITE NUH"]
["R1HNH-EAST HAM","R1H","BARTS HEALTH NHS TRUST","R1HNH","Newham General Hospital","EAST HAM"]
["R1HNH-HEATHER","R1H","BARTS HEALTH NHS TRUST","R1HNH","Newham General Hospital","HEATHER"]
["R1HNH-ICU NUH","R1H","BARTS HEALTH NHS TRUST","R1HNH","Newham General Hospital","ICU NUH"]
["R1HNH-LARCH","R1H","BARTS HEALTH NHS TRUST","R1HNH","Newham General Hospital","LARCH"]
["R1HNH-MAPLE","R1H","BARTS HEALTH NHS TRUST","R1HNH","Newham General Hospital","MAPLE"]
["R1HNH-MAU NUH","R1H","BARTS HEALTH NHS TRUST","R1HNH","Newham General Hospital","MAU NUH"]
["R1HNH-NEONATAL NUH","R1H","BARTS HEALTH NHS TRUST","R1HNH","Newham General Hospital","NEONATAL NUH"]
["R1HNH-NUH MIDWIFERY","R1H","BARTS HEALTH NHS TRUST","R1HNH","Newham General Hospital","NUH MIDWIFERY"]
["R1HNH-PLASHET","R1H","BARTS HEALTH NHS TRUST","R1HNH","Newham General Hospital","PLASHET"]
["R1HNH-RAINBOW","R1H","BARTS HEALTH NHS TRUST","R1HNH","Newham General Hospital","RAINBOW"]
["R1HNH-SILVERTOWN","R1H","BARTS HEALTH NHS TRUST","R1HNH","Newham General Hospital","SILVERTOWN"]
["R1HNH-STRATFORD","R1H","BARTS HEALTH NHS TRUST","R1HNH","Newham General Hospital","STRATFORD"]
["R1HNH-THISTLE","R1H","BARTS HEALTH NHS TRUST","R1HNH","Newham General Hospital","THISTLE"]
["R1HNH-WEST HAM","R1H","BARTS HEALTH NHS TRUST","R1HNH","Newham General Hospital","WEST HAM"]
["R1K01-Byrd-SAU","R1K","LONDON NORTH WEST UNIVERSITY HEALTHCARE NHS TRUST","R1K01","NORTHWICK PARK HOSPITAL","Byrd-SAU"]
["R1K01-Carroll","R1K","LONDON NORTH WEST UNIVERSITY HEALTHCARE NHS TRUST","R1K01","NORTHWICK PARK HOSPITAL","Carroll"]
["R1K01-CCU","R1K","LONDON NORTH WEST UNIVERSITY HEALTHCARE NHS TRUST","R1K01","NORTHWICK PARK HOSPITAL","CCU"]
["R1K01-Clarke","R1K","LONDON NORTH WEST UNIVERSITY HEALTHCARE NHS TRUST","R1K01","NORTHWICK PARK HOSPITAL","Clarke"]
["R1K01-Crick Assessment Unit","R1K","LONDON NORTH WEST UNIVERSITY HEALTHCARE NHS TRUST","R1K01","NORTHWICK PARK HOSPITAL","Crick Assessment Unit"]
["R1K01-Darwin","R1K","LONDON NORTH WEST UNIVERSITY HEALTHCARE NHS TRUST","R1K01","NORTHWICK PARK HOSPITAL","Darwin"]
["R1K01-Defoe","R1K","LONDON NORTH WEST UNIVERSITY HEALTHCARE NHS TRUST","R1K01","NORTHWICK PARK HOSPITAL","Defoe"]
["R1K01-Delivery Suite","R1K","LONDON NORTH WEST UNIVERSITY HEALTHCARE NHS TRUST","R1K01","NORTHWICK PARK HOSPITAL","Delivery Suite"]
["R1K01-Dickens","R1K","LONDON NORTH WEST UNIVERSITY HEALTHCARE NHS TRUST","R1K01","NORTHWICK PARK HOSPITAL","Dickens"]
["R1K01-Drake","R1K","LONDON NORTH WEST UNIVERSITY HEALTHCARE NHS TRUST","R1K01","NORTHWICK PARK HOSPITAL","Drake"]
["R1K01-Dryden Enhanced","R1K","LONDON NORTH WEST UNIVERSITY HEALTHCARE NHS TRUST","R1K01","NORTHWICK PARK HOSPITAL","Dryden Enhanced"]
["R1K01-Elgar","R1K","LONDON NORTH WEST UNIVERSITY HEALTHCARE NHS TRUST","R1K01","NORTHWICK PARK HOSPITAL","Elgar"]
["R1K01-Eliot","R1K","LONDON NORTH WEST UNIVERSITY HEALTHCARE NHS TRUST","R1K01","NORTHWICK PARK HOSPITAL","Eliot"]
["R1K01-Evelyn","R1K","LONDON NORTH WEST UNIVERSITY HEALTHCARE NHS TRUST","R1K01","NORTHWICK PARK HOSPITAL","Evelyn"]
["R1K01-Fielding","R1K","LONDON NORTH WEST UNIVERSITY HEALTHCARE NHS TRUST","R1K01","NORTHWICK PARK HOSPITAL","Fielding"]
["R1K01-Fletcher (Gastro)","R1K","LONDON NORTH WEST UNIVERSITY HEALTHCARE NHS TRUST","R1K01","NORTHWICK PARK HOSPITAL","Fletcher (Gastro)"]
["R1K01-Florence Obstetric Unit","R1K","LONDON NORTH WEST UNIVERSITY HEALTHCARE NHS TRUST","R1K01","NORTHWICK PARK HOSPITAL","Florence Obstetric Unit"]
["R1K01-Gaskell","R1K","LONDON NORTH WEST UNIVERSITY HEALTHCARE NHS TRUST","R1K01","NORTHWICK PARK HOSPITAL","Gaskell"]
["R1K01-Gray","R1K","LONDON NORTH WEST UNIVERSITY HEALTHCARE NHS TRUST","R1K01","NORTHWICK PARK HOSPITAL","Gray"]
["R1K01-Haldane","R1K","LONDON NORTH WEST UNIVERSITY HEALTHCARE NHS TRUST","R1K01","NORTHWICK PARK HOSPITAL","Haldane"]
["R1K01-Hardy","R1K","LONDON NORTH WEST UNIVERSITY HEALTHCARE NHS TRUST","R1K01","NORTHWICK PARK HOSPITAL","Hardy"]
["R1K01-Herrick","R1K","LONDON NORTH WEST UNIVERSITY HEALTHCARE NHS TRUST","R1K01","NORTHWICK PARK HOSPITAL","Herrick"]
["R1K01-ICU Level 3","R1K","LONDON NORTH WEST UNIVERSITY HEALTHCARE NHS TRUST","R1K01","NORTHWICK PARK HOSPITAL","ICU Level 3"]
["R1K01-ICU Level 5","R1K","LONDON NORTH WEST UNIVERSITY HEALTHCARE NHS TRUST","R1K01","NORTHWICK PARK HOSPITAL","ICU Level 5"]
["R1K01-Jacks Place","R1K","LONDON NORTH WEST UNIVERSITY HEALTHCARE NHS TRUST","R1K01","NORTHWICK PARK HOSPITAL","Jacks Place"]
["R1K01-James","R1K","LONDON NORTH WEST UNIVERSITY HEALTHCARE NHS TRUST","R1K01","NORTHWICK PARK HOSPITAL","James"]
["R1K01-Jenner","R1K","LONDON NORTH WEST UNIVERSITY HEALTHCARE NHS TRUST","R1K01","NORTHWICK PARK HOSPITAL","Jenner"]
["R1K01-Medical HDU","R1K","LONDON NORTH WEST UNIVERSITY HEALTHCARE NHS TRUST","R1K01","NORTHWICK PARK HOSPITAL","Medical HDU"]
["R1K01-Midwifery LED Unit","R1K","LONDON NORTH WEST UNIVERSITY HEALTHCARE NHS TRUST","R1K01","NORTHWICK PARK HOSPITAL","Midwifery LED Unit"]
["R1K01-RHRU","R1K","LONDON NORTH WEST UNIVERSITY HEALTHCARE NHS TRUST","R1K01","NORTHWICK PARK HOSPITAL","RHRU"]
[{"$f":"CONCATENATE(D323,\"-\",F323)","v":"R1K01-Sainsbury"},"R1K","LONDON NORTH WEST UNIVERSITY HEALTHCARE NHS TRUST","R1K01","NORTHWICK PARK HOSPITAL","Sainsbury"]
["R1K01-TAU NPH","R1K","LONDON NORTH WEST UNIVERSITY HEALTHCARE NHS TRUST","R1K01","NORTHWICK PARK HOSPITAL","TAU NPH"]
["R1K02-Abbey Suite","R1K","LONDON NORTH WEST UNIVERSITY HEALTHCARE NHS TRUST","R1K02","CENTRAL MIDDLESEX HOSPITAL","Abbey Suite"]
["R1K02-Gladstone 1","R1K","LONDON NORTH WEST UNIVERSITY HEALTHCARE NHS TRUST","R1K02","CENTRAL MIDDLESEX HOSPITAL","Gladstone 1"]
["R1K02-Gladstone 2","R1K","LONDON NORTH WEST UNIVERSITY HEALTHCARE NHS TRUST","R1K02","CENTRAL MIDDLESEX HOSPITAL","Gladstone 2"]
["R1K02-Gladstone 3","R1K","LONDON NORTH WEST UNIVERSITY HEALTHCARE NHS TRUST","R1K02","CENTRAL MIDDLESEX HOSPITAL","Gladstone 3"]
["R1K02-Gladstone 4","R1K","LONDON NORTH WEST UNIVERSITY HEALTHCARE NHS TRUST","R1K02","CENTRAL MIDDLESEX HOSPITAL","Gladstone 4"]
["R1K03-Dowland","R1K","LONDON NORTH WEST UNIVERSITY HEALTHCARE NHS TRUST","R1K03","ST MARKS HOSPITAL","Dowland"]
["R1K03-Frederick Salmon - North","R1K","LONDON NORTH WEST UNIVERSITY HEALTHCARE NHS TRUST","R1K03","ST MARKS HOSPITAL","Frederick Salmon - North"]
["R1K03-Frederick Salmon - South","R1K","LONDON NORTH WEST UNIVERSITY HEALTHCARE NHS TRUST","R1K03","ST MARKS HOSPITAL","Frederick Salmon - South"]
["R1K03-Jonson (IRU)","R1K","LONDON NORTH WEST UNIVERSITY HEALTHCARE NHS TRUST","R1K03","ST MARKS HOSPITAL","Jonson (IRU)"]
["R1K04-4 South","R1K","LONDON NORTH WEST UNIVERSITY HEALTHCARE NHS TRUST","R1K04","EALING HOSPITAL","4 South"]
["R1K04-5 North","R1K","LONDON NORTH WEST UNIVERSITY HEALTHCARE NHS TRUST","R1K04","EALING HOSPITAL","5 North"]
["R1K04-5 South","R1K","LONDON NORTH WEST UNIVERSITY HEALTHCARE NHS TRUST","R1K04","EALING HOSPITAL","5 South"]
["R1K04-6 North","R1K","LONDON NORTH WEST UNIVERSITY HEALTHCARE NHS TRUST","R1K04","EALING HOSPITAL","6 North"]
["R1K04-6 South","R1K","LONDON NORTH WEST UNIVERSITY HEALTHCARE NHS TRUST","R1K04","EALING HOSPITAL","6 South"]
["R1K04-7 North","R1K","LONDON NORTH WEST UNIVERSITY HEALTHCARE NHS TRUST","R1K04","EALING HOSPITAL","7 North"]
["R1K04-7 South","R1K","LONDON NORTH WEST UNIVERSITY HEALTHCARE NHS TRUST","R1K04","EALING HOSPITAL","7 South"]
["R1K04-8 South","R1K","LONDON NORTH WEST UNIVERSITY HEALTHCARE NHS TRUST","R1K04","EALING HOSPITAL","8 South"]
["R1K04-AMU","R1K","LONDON NORTH WEST UNIVERSITY HEALTHCARE NHS TRUST","R1K04","EALING HOSPITAL","AMU"]
["R1K04-Fifoot Ward","R1K","LONDON NORTH WEST UNIVERSITY HEALTHCARE NHS TRUST","R1K04","EALING HOSPITAL","Fifoot Ward"]
["R1K04-Furness Ward","R1K","LONDON NORTH WEST UNIVERSITY HEALTHCARE NHS TRUST","R1K04","EALING HOSPITAL","Furness Ward"]
["R1K04-ICU Ealing","R1K","LONDON NORTH WEST UNIVERSITY HEALTHCARE NHS TRUST","R1K04","EALING HOSPITAL","ICU Ealing"]
["R1K04-Meadow House","R1K","LONDON NORTH WEST UNIVERSITY HEALTHCARE NHS TRUST","R1K04","EALING HOSPITAL","Meadow House"]
["R1K04-Neonatal","R1K","LONDON NORTH WEST UNIVERSITY HEALTHCARE NHS TRUST","R1K04","EALING HOSPITAL","Neonatal"]
["R1K04-Robertson Ward","R1K","LONDON NORTH WEST UNIVERSITY HEALTHCARE NHS TRUST","R1K04","EALING HOSPITAL","Robertson Ward"]
["R1K04-TAU (3 North)","R1K","LONDON NORTH WEST UNIVERSITY HEALTHCARE NHS TRUST","R1K04","EALING HOSPITAL","TAU (3 North)"]
["R1L10-Beech - Rochford","R1L","ESSEX PARTNERSHIP UNIVERSITY NHS FOUNDATION TRUST","R1L10","ROCHFORD COMMUNITY HOSPITAL","Beech - Rochford"]
["R1L10-CedarWillow","R1L","ESSEX PARTNERSHIP UNIVERSITY NHS FOUNDATION TRUST","R1L10","ROCHFORD COMMUNITY HOSPITAL","CedarWillow"]
["R1L10-Clifton Lodge","R1L","ESSEX PARTNERSHIP UNIVERSITY NHS FOUNDATION TRUST","R1L10","ROCHFORD COMMUNITY HOSPITAL","Clifton Lodge"]
["R1L10-Kelvedon","R1L","ESSEX PARTNERSHIP UNIVERSITY NHS FOUNDATION TRUST","R1L10","ROCHFORD COMMUNITY HOSPITAL","Kelvedon"]
["R1L10-Poplar Ward - Rochford","R1L","ESSEX PARTNERSHIP UNIVERSITY NHS FOUNDATION TRUST","R1L10","ROCHFORD COMMUNITY HOSPITAL","Poplar Ward - Rochford"]
["R1L10-Rawreth Court","R1L","ESSEX PARTNERSHIP UNIVERSITY NHS FOUNDATION TRUST","R1L10","ROCHFORD COMMUNITY HOSPITAL","Rawreth Court"]
["R1L14-Ruby","R1L","ESSEX PARTNERSHIP UNIVERSITY NHS FOUNDATION TRUST","R1L14","THE CRYSTAL CENTRE","Ruby"]
["R1L14-Topaz","R1L","ESSEX PARTNERSHIP UNIVERSITY NHS FOUNDATION TRUST","R1L14","THE CRYSTAL CENTRE","Topaz"]
["R1L22-Larkwood","R1L","ESSEX PARTNERSHIP UNIVERSITY NHS FOUNDATION TRUST","R1L22","NEW ST AUBYN CENTRE","Larkwood"]
["R1L22-Longview","R1L","ESSEX PARTNERSHIP UNIVERSITY NHS FOUNDATION TRUST","R1L22","NEW ST AUBYN CENTRE","Longview"]
["R1L31-Robin Pinto Unit","R1L","ESSEX PARTNERSHIP UNIVERSITY NHS FOUNDATION TRUST","R1L31","ROBIN PINTO UNIT","Robin Pinto Unit"]
["R1L40-Assessment Unit - Basildon","R1L","ESSEX PARTNERSHIP UNIVERSITY NHS FOUNDATION TRUST","R1L40","MENTAL HEALTH UNIT (BASILDON)","Assessment Unit - Basildon"]
["R1L40-Gloucester","R1L","ESSEX PARTNERSHIP UNIVERSITY NHS FOUNDATION TRUST","R1L40","MENTAL HEALTH UNIT (BASILDON)","Gloucester"]
["R1L40-Grangewater","R1L","ESSEX PARTNERSHIP UNIVERSITY NHS FOUNDATION TRUST","R1L40","MENTAL HEALTH UNIT (BASILDON)","Grangewater"]
["R1L40-Hadleigh Unit","R1L","ESSEX PARTNERSHIP UNIVERSITY NHS FOUNDATION TRUST","R1L40","MENTAL HEALTH UNIT (BASILDON)","Hadleigh Unit"]
["R1L40-Thorpe","R1L","ESSEX PARTNERSHIP UNIVERSITY NHS FOUNDATION TRUST","R1L40","MENTAL HEALTH UNIT (BASILDON)","Thorpe"]
["R1L50-Meadowview","R1L","ESSEX PARTNERSHIP UNIVERSITY NHS FOUNDATION TRUST","R1L50","THURROCK COMMUNITY HOSPITAL","Meadowview"]
["R1L65-Mountnessing Ct","R1L","ESSEX PARTNERSHIP UNIVERSITY NHS FOUNDATION TRUST","R1L65","MOUNTNESSING COURT","Mountnessing Ct"]
["R1L90-Cumberlege Centre","R1L","ESSEX PARTNERSHIP UNIVERSITY NHS FOUNDATION TRUST","R1L90","CUMBERLEDGE CENTRE","Cumberlege Centre"]
["R1LA9-Heath Close","R1L","ESSEX PARTNERSHIP UNIVERSITY NHS FOUNDATION TRUST","R1LA9","HEATH CLOSE","Heath Close"]
["R1LAH-Christopher   PICU","R1L","ESSEX PARTNERSHIP UNIVERSITY NHS FOUNDATION TRUST","R1LAH","CHELMSFORD - THE LINDEN CENTRE","Christopher   PICU"]
["R1LAH-Edward House","R1L","ESSEX PARTNERSHIP UNIVERSITY NHS FOUNDATION TRUST","R1LAH","CHELMSFORD - THE LINDEN CENTRE","Edward House"]
["R1LAH-Finchingfield","R1L","ESSEX PARTNERSHIP UNIVERSITY NHS FOUNDATION TRUST","R1LAH","CHELMSFORD - THE LINDEN CENTRE","Finchingfield"]
["R1LAH-Galleywood","R1L","ESSEX PARTNERSHIP UNIVERSITY NHS FOUNDATION TRUST","R1LAH","CHELMSFORD - THE LINDEN CENTRE","Galleywood"]
["R1LAH-Rainbow Mother & Baby","R1L","ESSEX PARTNERSHIP UNIVERSITY NHS FOUNDATION TRUST","R1LAH","CHELMSFORD - THE LINDEN CENTRE","Rainbow Mother & Baby"]
["R1LAT-439 Ipswich Road","R1L","ESSEX PARTNERSHIP UNIVERSITY NHS FOUNDATION TRUST","R1LAT","COLCHESTER - THE BRAMBLES","439 Ipswich Road"]
["R1LD6-Bernard","R1L","ESSEX PARTNERSHIP UNIVERSITY NHS FOUNDATION TRUST","R1LD6","COLCHESTER - KING'S WOOD CENTRE","Bernard"]
["R1LD6-Henneage","R1L","ESSEX PARTNERSHIP UNIVERSITY NHS FOUNDATION TRUST","R1LD6","COLCHESTER - KING'S WOOD CENTRE","Henneage"]
["R1LE1-Ardleigh","R1L","ESSEX PARTNERSHIP UNIVERSITY NHS FOUNDATION TRUST","R1LE1","COLCHESTER - THE LAKES","Ardleigh"]
["R1LE1-Gosfield","R1L","ESSEX PARTNERSHIP UNIVERSITY NHS FOUNDATION TRUST","R1LE1","COLCHESTER - THE LAKES","Gosfield"]
["R1LE2-Peter Bruff","R1L","ESSEX PARTNERSHIP UNIVERSITY NHS FOUNDATION TRUST","R1LE2","CLACTON - MENTAL HEALTH SERVICES - CLACTON HOSPITAL","Peter Bruff"]
["R1LE2-Tower","R1L","ESSEX PARTNERSHIP UNIVERSITY NHS FOUNDATION TRUST","R1LE2","CLACTON - MENTAL HEALTH SERVICES - CLACTON HOSPITAL","Tower"]
["R1LK9-Alpine","R1L","ESSEX PARTNERSHIP UNIVERSITY NHS FOUNDATION TRUST","R1LK9","BROCKFIELD HOUSE","Alpine"]
["R1LK9-Aurora","R1L","ESSEX PARTNERSHIP UNIVERSITY NHS FOUNDATION TRUST","R1LK9","BROCKFIELD HOUSE","Aurora"]
["R1LK9-Causeway","R1L","ESSEX PARTNERSHIP UNIVERSITY NHS FOUNDATION TRUST","R1LK9","BROCKFIELD HOUSE","Causeway"]
["R1LK9-Dune","R1L","ESSEX PARTNERSHIP UNIVERSITY NHS FOUNDATION TRUST","R1LK9","BROCKFIELD HOUSE","Dune"]
["R1LK9-Forest","R1L","ESSEX PARTNERSHIP UNIVERSITY NHS FOUNDATION TRUST","R1LK9","BROCKFIELD HOUSE","Forest"]
[{"$f":"CONCATENATE(D387,\"-\",F387)","v":"R1LK9-Fuji"},"R1L","ESSEX PARTNERSHIP UNIVERSITY NHS FOUNDATION TRUST","R1LK9","BROCKFIELD HOUSE","Fuji"]
["R1LK9-Lagoon","R1L","ESSEX PARTNERSHIP UNIVERSITY NHS FOUNDATION TRUST","R1LK9","BROCKFIELD HOUSE","Lagoon"]
["R1LL8-Woodlea Clinic","R1L","ESSEX PARTNERSHIP UNIVERSITY NHS FOUNDATION TRUST","R1LL8","WOODLEA CLINIC (LEARNING DISABILITY SERVICE)","Woodlea Clinic"]
["R1LPA-Chelmer","R1L","ESSEX PARTNERSHIP UNIVERSITY NHS FOUNDATION TRUST","R1LPA","HARLOW - DERWENT CENTRE","Chelmer"]
["R1LPA-Stort","R1L","ESSEX PARTNERSHIP UNIVERSITY NHS FOUNDATION TRUST","R1LPA","HARLOW - DERWENT CENTRE","Stort"]
["R1LT1-Beech - St Margarets","R1L","ESSEX PARTNERSHIP UNIVERSITY NHS FOUNDATION TRUST","R1LT1","ST MARGARET'S HOSPITAL","Beech - St Margarets"]
["R1LT1-Kitwood","R1L","ESSEX PARTNERSHIP UNIVERSITY NHS FOUNDATION TRUST","R1LT1","ST MARGARET'S HOSPITAL","Kitwood"]
["R1LT1-Plane Ward","R1L","ESSEX PARTNERSHIP UNIVERSITY NHS FOUNDATION TRUST","R1LT1","ST MARGARET'S HOSPITAL","Plane Ward"]
["R1LT1-Poplar Ward - St Margarets","R1L","ESSEX PARTNERSHIP UNIVERSITY NHS FOUNDATION TRUST","R1LT1","ST MARGARET'S HOSPITAL","Poplar Ward - St Margarets"]
["R1LT1-Roding","R1L","ESSEX PARTNERSHIP UNIVERSITY NHS FOUNDATION TRUST","R1LT1","ST MARGARET'S HOSPITAL","Roding"]
["R1LTH-Avocet Ward","R1L","ESSEX PARTNERSHIP UNIVERSITY NHS FOUNDATION TRUST","R1LTH","SAFFRON WALDEN COMMUNITY HOSPITAL","Avocet Ward"]
["RA201-Albury","RA2","ROYAL SURREY COUNTY HOSPITAL NHS FOUNDATION TRUST","RA201","ROYAL SURREY COUNTY HOSPITAL","Albury"]
["RA201-Bramshott","RA2","ROYAL SURREY COUNTY HOSPITAL NHS FOUNDATION TRUST","RA201","ROYAL SURREY COUNTY HOSPITAL","Bramshott"]
["RA201-CCU","RA2","ROYAL SURREY COUNTY HOSPITAL NHS FOUNDATION TRUST","RA201","ROYAL SURREY COUNTY HOSPITAL","CCU"]
["RA201-Clandon","RA2","ROYAL SURREY COUNTY HOSPITAL NHS FOUNDATION TRUST","RA201","ROYAL SURREY COUNTY HOSPITAL","Clandon"]
["RA201-Compton","RA2","ROYAL SURREY COUNTY HOSPITAL NHS FOUNDATION TRUST","RA201","ROYAL SURREY COUNTY HOSPITAL","Compton"]
["RA201-Eashing","RA2","ROYAL SURREY COUNTY HOSPITAL NHS FOUNDATION TRUST","RA201","ROYAL SURREY COUNTY HOSPITAL","Eashing"]
["RA201-EAU","RA2","ROYAL SURREY COUNTY HOSPITAL NHS FOUNDATION TRUST","RA201","ROYAL SURREY COUNTY HOSPITAL","EAU"]
["RA201-Elstead","RA2","ROYAL SURREY COUNTY HOSPITAL NHS FOUNDATION TRUST","RA201","ROYAL SURREY COUNTY HOSPITAL","Elstead"]
["RA201-Ewhurst","RA2","ROYAL SURREY COUNTY HOSPITAL NHS FOUNDATION TRUST","RA201","ROYAL SURREY COUNTY HOSPITAL","Ewhurst"]
["RA201-Frensham","RA2","ROYAL SURREY COUNTY HOSPITAL NHS FOUNDATION TRUST","RA201","ROYAL SURREY COUNTY HOSPITAL","Frensham"]
["RA201-Hascombe","RA2","ROYAL SURREY COUNTY HOSPITAL NHS FOUNDATION TRUST","RA201","ROYAL SURREY COUNTY HOSPITAL","Hascombe"]
["RA201-Haslemere Wards","RA2","ROYAL SURREY COUNTY HOSPITAL NHS FOUNDATION TRUST","RA201","ROYAL SURREY COUNTY HOSPITAL","Haslemere Wards"]
["RA201-Hindhead","RA2","ROYAL SURREY COUNTY HOSPITAL NHS FOUNDATION TRUST","RA201","ROYAL SURREY COUNTY HOSPITAL","Hindhead"]
["RA201-ICU","RA2","ROYAL SURREY COUNTY HOSPITAL NHS FOUNDATION TRUST","RA201","ROYAL SURREY COUNTY HOSPITAL","ICU"]
["RA201-Maternity","RA2","ROYAL SURREY COUNTY HOSPITAL NHS FOUNDATION TRUST","RA201","ROYAL SURREY COUNTY HOSPITAL","Maternity"]
["RA201-Merrow","RA2","ROYAL SURREY COUNTY HOSPITAL NHS FOUNDATION TRUST","RA201","ROYAL SURREY COUNTY HOSPITAL","Merrow"]
["RA201-Milford Wards","RA2","ROYAL SURREY COUNTY HOSPITAL NHS FOUNDATION TRUST","RA201","ROYAL SURREY COUNTY HOSPITAL","Milford Wards"]
["RA201-Millbridge","RA2","ROYAL SURREY COUNTY HOSPITAL NHS FOUNDATION TRUST","RA201","ROYAL SURREY COUNTY HOSPITAL","Millbridge"]
["RA201-Onslow","RA2","ROYAL SURREY COUNTY HOSPITAL NHS FOUNDATION TRUST","RA201","ROYAL SURREY COUNTY HOSPITAL","Onslow"]
["RA201-SCBU","RA2","ROYAL SURREY COUNTY HOSPITAL NHS FOUNDATION TRUST","RA201","ROYAL SURREY COUNTY HOSPITAL","SCBU"]
["RA201-SSSU","RA2","ROYAL SURREY COUNTY HOSPITAL NHS FOUNDATION TRUST","RA201","ROYAL SURREY COUNTY HOSPITAL","SSSU"]
["RA201-Wisley","RA2","ROYAL SURREY COUNTY HOSPITAL NHS FOUNDATION TRUST","RA201","ROYAL SURREY COUNTY HOSPITAL","Wisley"]
["RA301-Berrow Ward","RA3","WESTON AREA HEALTH NHS TRUST","RA301","WESTON GENERAL HOSPITAL","Berrow Ward"]
["RA301-Cheddar Ward","RA3","WESTON AREA HEALTH NHS TRUST","RA301","WESTON GENERAL HOSPITAL","Cheddar Ward"]
["RA301-Draycott Ward","RA3","WESTON AREA HEALTH NHS TRUST","RA301","WESTON GENERAL HOSPITAL","Draycott Ward"]
["RA301-Harptree Ward","RA3","WESTON AREA HEALTH NHS TRUST","RA301","WESTON GENERAL HOSPITAL","Harptree Ward"]
["RA301-Hutton Ward","RA3","WESTON AREA HEALTH NHS TRUST","RA301","WESTON GENERAL HOSPITAL","Hutton Ward"]
["RA301-Intensive Treatment Unit","RA3","WESTON AREA HEALTH NHS TRUST","RA301","WESTON GENERAL HOSPITAL","Intensive Treatment Unit"]
["RA301-Kewstoke Ward","RA3","WESTON AREA HEALTH NHS TRUST","RA301","WESTON GENERAL HOSPITAL","Kewstoke Ward"]
["RA301-Medical Assessment Unit","RA3","WESTON AREA HEALTH NHS TRUST","RA301","WESTON GENERAL HOSPITAL","Medical Assessment Unit"]
["RA301-Sandford Ward","RA3","WESTON AREA HEALTH NHS TRUST","RA301","WESTON GENERAL HOSPITAL","Sandford Ward"]
["RA301-Steepholm Ward","RA3","WESTON AREA HEALTH NHS TRUST","RA301","WESTON GENERAL HOSPITAL","Steepholm Ward"]
["RA301-Stroke Unit","RA3","WESTON AREA HEALTH NHS TRUST","RA301","WESTON GENERAL HOSPITAL","Stroke Unit"]
["RA301-Waterside Unit","RA3","WESTON AREA HEALTH NHS TRUST","RA301","WESTON GENERAL HOSPITAL","Waterside Unit"]
["RA430-6A (Elective)","RA4","YEOVIL DISTRICT HOSPITAL NHS FOUNDATION TRUST","RA430","YEOVIL DISTRICT HOSPITAL","6A (Elective)"]
["RA430-6B","RA4","YEOVIL DISTRICT HOSPITAL NHS FOUNDATION TRUST","RA430","YEOVIL DISTRICT HOSPITAL","6B"]
["RA430-7A","RA4","YEOVIL DISTRICT HOSPITAL NHS FOUNDATION TRUST","RA430","YEOVIL DISTRICT HOSPITAL","7A"]
["RA430-7B (MFFD)","RA4","YEOVIL DISTRICT HOSPITAL NHS FOUNDATION TRUST","RA430","YEOVIL DISTRICT HOSPITAL","7B (MFFD)"]
["RA430-8A","RA4","YEOVIL DISTRICT HOSPITAL NHS FOUNDATION TRUST","RA430","YEOVIL DISTRICT HOSPITAL","8A"]
["RA430-8B","RA4","YEOVIL DISTRICT HOSPITAL NHS FOUNDATION TRUST","RA430","YEOVIL DISTRICT HOSPITAL","8B"]
["RA430-9A","RA4","YEOVIL DISTRICT HOSPITAL NHS FOUNDATION TRUST","RA430","YEOVIL DISTRICT HOSPITAL","9A"]
["RA430-9B","RA4","YEOVIL DISTRICT HOSPITAL NHS FOUNDATION TRUST","RA430","YEOVIL DISTRICT HOSPITAL","9B"]
["RA430-ACCU","RA4","YEOVIL DISTRICT HOSPITAL NHS FOUNDATION TRUST","RA430","YEOVIL DISTRICT HOSPITAL","ACCU"]
["RA430-EAU","RA4","YEOVIL DISTRICT HOSPITAL NHS FOUNDATION TRUST","RA430","YEOVIL DISTRICT HOSPITAL","EAU"]
["RA430-ICU","RA4","YEOVIL DISTRICT HOSPITAL NHS FOUNDATION TRUST","RA430","YEOVIL DISTRICT HOSPITAL","ICU"]
["RA430-KW","RA4","YEOVIL DISTRICT HOSPITAL NHS FOUNDATION TRUST","RA430","YEOVIL DISTRICT HOSPITAL","KW"]
["RA430-Maternity","RA4","YEOVIL DISTRICT HOSPITAL NHS FOUNDATION TRUST","RA430","YEOVIL DISTRICT HOSPITAL","Maternity"]
["RA430-SCBU","RA4","YEOVIL DISTRICT HOSPITAL NHS FOUNDATION TRUST","RA430","YEOVIL DISTRICT HOSPITAL","SCBU"]
["RA430-Ward 10","RA4","YEOVIL DISTRICT HOSPITAL NHS FOUNDATION TRUST","RA430","YEOVIL DISTRICT HOSPITAL","Ward 10"]
["RA701-A300","RA7","UNIVERSITY HOSPITALS BRISTOL NHS FOUNDATION TRUST","RA701","Bristol Royal Infirmary","A300"]
["RA701-A400","RA7","UNIVERSITY HOSPITALS BRISTOL NHS FOUNDATION TRUST","RA701","Bristol Royal Infirmary","A400"]
["RA701-A515","RA7","UNIVERSITY HOSPITALS BRISTOL NHS FOUNDATION TRUST","RA701","Bristol Royal Infirmary","A515"]
["RA701-A518","RA7","UNIVERSITY HOSPITALS BRISTOL NHS FOUNDATION TRUST","RA701","Bristol Royal Infirmary","A518"]
[{"$f":"CONCATENATE(D451,\"-\",F451)","v":"RA701-A522"},"RA7","UNIVERSITY HOSPITALS BRISTOL NHS FOUNDATION TRUST","RA701","Bristol Royal Infirmary","A522"]
["RA701-A524","RA7","UNIVERSITY HOSPITALS BRISTOL NHS FOUNDATION TRUST","RA701","Bristol Royal Infirmary","A524"]
["RA701-A525","RA7","UNIVERSITY HOSPITALS BRISTOL NHS FOUNDATION TRUST","RA701","Bristol Royal Infirmary","A525"]
["RA701-A528","RA7","UNIVERSITY HOSPITALS BRISTOL NHS FOUNDATION TRUST","RA701","Bristol Royal Infirmary","A528"]
["RA701-A600","RA7","UNIVERSITY HOSPITALS BRISTOL NHS FOUNDATION TRUST","RA701","Bristol Royal Infirmary","A600"]
["RA701-A602","RA7","UNIVERSITY HOSPITALS BRISTOL NHS FOUNDATION TRUST","RA701","Bristol Royal Infirmary","A602"]
["RA701-A604","RA7","UNIVERSITY HOSPITALS BRISTOL NHS FOUNDATION TRUST","RA701","Bristol Royal Infirmary","A604"]
["RA701-A605","RA7","UNIVERSITY HOSPITALS BRISTOL NHS FOUNDATION TRUST","RA701","Bristol Royal Infirmary","A605"]
["RA701-A609","RA7","UNIVERSITY HOSPITALS BRISTOL NHS FOUNDATION TRUST","RA701","Bristol Royal Infirmary","A609"]
["RA701-A700","RA7","UNIVERSITY HOSPITALS BRISTOL NHS FOUNDATION TRUST","RA701","Bristol Royal Infirmary","A700"]
["RA701-A800","RA7","UNIVERSITY HOSPITALS BRISTOL NHS FOUNDATION TRUST","RA701","Bristol Royal Infirmary","A800"]
["RA701-A900","RA7","UNIVERSITY HOSPITALS BRISTOL NHS FOUNDATION TRUST","RA701","Bristol Royal Infirmary","A900"]
["RA701-C603","RA7","UNIVERSITY HOSPITALS BRISTOL NHS FOUNDATION TRUST","RA701","Bristol Royal Infirmary","C603"]
["RA701-C604","RA7","UNIVERSITY HOSPITALS BRISTOL NHS FOUNDATION TRUST","RA701","Bristol Royal Infirmary","C604"]
["RA701-C705","RA7","UNIVERSITY HOSPITALS BRISTOL NHS FOUNDATION TRUST","RA701","Bristol Royal Infirmary","C705"]
["RA701-C708","RA7","UNIVERSITY HOSPITALS BRISTOL NHS FOUNDATION TRUST","RA701","Bristol Royal Infirmary","C708"]
["RA701-C805","RA7","UNIVERSITY HOSPITALS BRISTOL NHS FOUNDATION TRUST","RA701","Bristol Royal Infirmary","C805"]
["RA701-C808","RA7","UNIVERSITY HOSPITALS BRISTOL NHS FOUNDATION TRUST","RA701","Bristol Royal Infirmary","C808"]
["RA707-73","RA7","UNIVERSITY HOSPITALS BRISTOL NHS FOUNDATION TRUST","RA707","St Michael's Hospital","73"]
["RA707-75","RA7","UNIVERSITY HOSPITALS BRISTOL NHS FOUNDATION TRUST","RA707","St Michael's Hospital","75"]
["RA707-76","RA7","UNIVERSITY HOSPITALS BRISTOL NHS FOUNDATION TRUST","RA707","St Michael's Hospital","76"]
["RA707-77","RA7","UNIVERSITY HOSPITALS BRISTOL NHS FOUNDATION TRUST","RA707","St Michael's Hospital","77"]
["RA707-78","RA7","UNIVERSITY HOSPITALS BRISTOL NHS FOUNDATION TRUST","RA707","St Michael's Hospital","78"]
["RA707-MLU","RA7","UNIVERSITY HOSPITALS BRISTOL NHS FOUNDATION TRUST","RA707","St Michael's Hospital","MLU"]
["RA708-H304A","RA7","UNIVERSITY HOSPITALS BRISTOL NHS FOUNDATION TRUST","RA708","Bristol Eye Hospital","H304A"]
["RA710-D603","RA7","UNIVERSITY HOSPITALS BRISTOL NHS FOUNDATION TRUST","RA710","Bristol Haematology and Oncology Centre","D603"]
["RA710-D703","RA7","UNIVERSITY HOSPITALS BRISTOL NHS FOUNDATION TRUST","RA710","Bristol Haematology and Oncology Centre","D703"]
["RA723-100","RA7","UNIVERSITY HOSPITALS BRISTOL NHS FOUNDATION TRUST","RA723","Bristol Royal Hospital For Children","100"]
["RA723-200","RA7","UNIVERSITY HOSPITALS BRISTOL NHS FOUNDATION TRUST","RA723","Bristol Royal Hospital For Children","200"]
["RA723-E400","RA7","UNIVERSITY HOSPITALS BRISTOL NHS FOUNDATION TRUST","RA723","Bristol Royal Hospital For Children","E400"]
["RA723-E406","RA7","UNIVERSITY HOSPITALS BRISTOL NHS FOUNDATION TRUST","RA723","Bristol Royal Hospital For Children","E406"]
["RA723-E500/1","RA7","UNIVERSITY HOSPITALS BRISTOL NHS FOUNDATION TRUST","RA723","Bristol Royal Hospital For Children","E500/1"]
["RA723-E510","RA7","UNIVERSITY HOSPITALS BRISTOL NHS FOUNDATION TRUST","RA723","Bristol Royal Hospital For Children","E510"]
["RA723-E512","RA7","UNIVERSITY HOSPITALS BRISTOL NHS FOUNDATION TRUST","RA723","Bristol Royal Hospital For Children","E512"]
["RA723-E600","RA7","UNIVERSITY HOSPITALS BRISTOL NHS FOUNDATION TRUST","RA723","Bristol Royal Hospital For Children","E600"]
["RA723-E602","RA7","UNIVERSITY HOSPITALS BRISTOL NHS FOUNDATION TRUST","RA723","Bristol Royal Hospital For Children","E602"]
["RA723-E700","RA7","UNIVERSITY HOSPITALS BRISTOL NHS FOUNDATION TRUST","RA723","Bristol Royal Hospital For Children","E700"]
["RA723-E702","RA7","UNIVERSITY HOSPITALS BRISTOL NHS FOUNDATION TRUST","RA723","Bristol Royal Hospital For Children","E702"]
["RA901-Ainslie","RA9","TORBAY AND SOUTH DEVON NHS FOUNDATION TRUST","RA901","TORBAY HOSPITAL","Ainslie"]
["RA901-Allerton","RA9","TORBAY AND SOUTH DEVON NHS FOUNDATION TRUST","RA901","TORBAY HOSPITAL","Allerton"]
["RA901-Cheetham Hill","RA9","TORBAY AND SOUTH DEVON NHS FOUNDATION TRUST","RA901","TORBAY HOSPITAL","Cheetham Hill"]
["RA901-Coronary Care","RA9","TORBAY AND SOUTH DEVON NHS FOUNDATION TRUST","RA901","TORBAY HOSPITAL","Coronary Care"]
["RA901-Cromie","RA9","TORBAY AND SOUTH DEVON NHS FOUNDATION TRUST","RA901","TORBAY HOSPITAL","Cromie"]
["RA901-Dunlop","RA9","TORBAY AND SOUTH DEVON NHS FOUNDATION TRUST","RA901","TORBAY HOSPITAL","Dunlop"]
["RA901-EAU3","RA9","TORBAY AND SOUTH DEVON NHS FOUNDATION TRUST","RA901","TORBAY HOSPITAL","EAU3"]
["RA901-EAU4","RA9","TORBAY AND SOUTH DEVON NHS FOUNDATION TRUST","RA901","TORBAY HOSPITAL","EAU4"]
["RA901-Ella Rowcroft","RA9","TORBAY AND SOUTH DEVON NHS FOUNDATION TRUST","RA901","TORBAY HOSPITAL","Ella Rowcroft"]
["RA901-Forrest","RA9","TORBAY AND SOUTH DEVON NHS FOUNDATION TRUST","RA901","TORBAY HOSPITAL","Forrest"]
["RA901-George Earle","RA9","TORBAY AND SOUTH DEVON NHS FOUNDATION TRUST","RA901","TORBAY HOSPITAL","George Earle"]
["RA901-ICU","RA9","TORBAY AND SOUTH DEVON NHS FOUNDATION TRUST","RA901","TORBAY HOSPITAL","ICU"]
["RA901-John Macpherson","RA9","TORBAY AND SOUTH DEVON NHS FOUNDATION TRUST","RA901","TORBAY HOSPITAL","John Macpherson"]
["RA901-Louisa Cary","RA9","TORBAY AND SOUTH DEVON NHS FOUNDATION TRUST","RA901","TORBAY HOSPITAL","Louisa Cary"]
["RA901-Midgley","RA9","TORBAY AND SOUTH DEVON NHS FOUNDATION TRUST","RA901","TORBAY HOSPITAL","Midgley"]
["RA901-SCBU","RA9","TORBAY AND SOUTH DEVON NHS FOUNDATION TRUST","RA901","TORBAY HOSPITAL","SCBU"]
["RA901-Simpson","RA9","TORBAY AND SOUTH DEVON NHS FOUNDATION TRUST","RA901","TORBAY HOSPITAL","Simpson"]
["RA901-Turner","RA9","TORBAY AND SOUTH DEVON NHS FOUNDATION TRUST","RA901","TORBAY HOSPITAL","Turner"]
["RA954-Brixham","RA9","TORBAY AND SOUTH DEVON NHS FOUNDATION TRUST","RA954","BRIXHAM HOSPITAL","Brixham"]
["RA956-Dawlish","RA9","TORBAY AND SOUTH DEVON NHS FOUNDATION TRUST","RA956","DAWLISH HOSPITAL","Dawlish"]
["RA957-Newton Abbot - Teign Ward","RA9","TORBAY AND SOUTH DEVON NHS FOUNDATION TRUST","RA957","NEWTON ABBOT HOSPITAL","Newton Abbot - Teign Ward"]
["RA957-Newton Abbot - Templar Ward","RA9","TORBAY AND SOUTH DEVON NHS FOUNDATION TRUST","RA957","NEWTON ABBOT HOSPITAL","Newton Abbot - Templar Ward"]
["RA979-Totnes","RA9","TORBAY AND SOUTH DEVON NHS FOUNDATION TRUST","RA979","TOTNES HOSPITAL","Totnes"]
["RAE01-Birth Centre","RAE","BRADFORD TEACHING HOSPITALS NHS FOUNDATION TRUST","RAE01","BRADFORD ROYAL INFIRMARY","Birth Centre"]
["RAE01-ICU","RAE","BRADFORD TEACHING HOSPITALS NHS FOUNDATION TRUST","RAE01","BRADFORD ROYAL INFIRMARY","ICU"]
["RAE01-Labour Ward","RAE","BRADFORD TEACHING HOSPITALS NHS FOUNDATION TRUST","RAE01","BRADFORD ROYAL INFIRMARY","Labour Ward"]
[{"$f":"CONCATENATE(D515,\"-\",F515)","v":"RAE01-M3"},"RAE","BRADFORD TEACHING HOSPITALS NHS FOUNDATION TRUST","RAE01","BRADFORD ROYAL INFIRMARY","M3"]
["RAE01-M4","RAE","BRADFORD TEACHING HOSPITALS NHS FOUNDATION TRUST","RAE01","BRADFORD ROYAL INFIRMARY","M4"]
["RAE01-Neonatal","RAE","BRADFORD TEACHING HOSPITALS NHS FOUNDATION TRUST","RAE01","BRADFORD ROYAL INFIRMARY","Neonatal"]
["RAE01-Paediatrics","RAE","BRADFORD TEACHING HOSPITALS NHS FOUNDATION TRUST","RAE01","BRADFORD ROYAL INFIRMARY","Paediatrics"]
["RAE01-Ward 01 - AMU","RAE","BRADFORD TEACHING HOSPITALS NHS FOUNDATION TRUST","RAE01","BRADFORD ROYAL INFIRMARY","Ward 01 - AMU"]
["RAE01-Ward 04 - AMU","RAE","BRADFORD TEACHING HOSPITALS NHS FOUNDATION TRUST","RAE01","BRADFORD ROYAL INFIRMARY","Ward 04 - AMU"]
["RAE01-Ward 11","RAE","BRADFORD TEACHING HOSPITALS NHS FOUNDATION TRUST","RAE01","BRADFORD ROYAL INFIRMARY","Ward 11"]
["RAE01-Ward 12","RAE","BRADFORD TEACHING HOSPITALS NHS FOUNDATION TRUST","RAE01","BRADFORD ROYAL INFIRMARY","Ward 12"]
["RAE01-Ward 14","RAE","BRADFORD TEACHING HOSPITALS NHS FOUNDATION TRUST","RAE01","BRADFORD ROYAL INFIRMARY","Ward 14"]
["RAE01-Ward 15 Renal","RAE","BRADFORD TEACHING HOSPITALS NHS FOUNDATION TRUST","RAE01","BRADFORD ROYAL INFIRMARY","Ward 15 Renal"]
["RAE01-Ward 18","RAE","BRADFORD TEACHING HOSPITALS NHS FOUNDATION TRUST","RAE01","BRADFORD ROYAL INFIRMARY","Ward 18"]
["RAE01-Ward 20","RAE","BRADFORD TEACHING HOSPITALS NHS FOUNDATION TRUST","RAE01","BRADFORD ROYAL INFIRMARY","Ward 20"]
["RAE01-Ward 21","RAE","BRADFORD TEACHING HOSPITALS NHS FOUNDATION TRUST","RAE01","BRADFORD ROYAL INFIRMARY","Ward 21"]
["RAE01-Ward 22 & CCU","RAE","BRADFORD TEACHING HOSPITALS NHS FOUNDATION TRUST","RAE01","BRADFORD ROYAL INFIRMARY","Ward 22 & CCU"]
["RAE01-Ward 23","RAE","BRADFORD TEACHING HOSPITALS NHS FOUNDATION TRUST","RAE01","BRADFORD ROYAL INFIRMARY","Ward 23"]
["RAE01-Ward 24 Oncology","RAE","BRADFORD TEACHING HOSPITALS NHS FOUNDATION TRUST","RAE01","BRADFORD ROYAL INFIRMARY","Ward 24 Oncology"]
["RAE01-Ward 25","RAE","BRADFORD TEACHING HOSPITALS NHS FOUNDATION TRUST","RAE01","BRADFORD ROYAL INFIRMARY","Ward 25"]
["RAE01-Ward 26","RAE","BRADFORD TEACHING HOSPITALS NHS FOUNDATION TRUST","RAE01","BRADFORD ROYAL INFIRMARY","Ward 26"]
["RAE01-Ward 27","RAE","BRADFORD TEACHING HOSPITALS NHS FOUNDATION TRUST","RAE01","BRADFORD ROYAL INFIRMARY","Ward 27"]
["RAE01-Ward 28","RAE","BRADFORD TEACHING HOSPITALS NHS FOUNDATION TRUST","RAE01","BRADFORD ROYAL INFIRMARY","Ward 28"]
["RAE01-Ward 29","RAE","BRADFORD TEACHING HOSPITALS NHS FOUNDATION TRUST","RAE01","BRADFORD ROYAL INFIRMARY","Ward 29"]
["RAE01-Ward 3","RAE","BRADFORD TEACHING HOSPITALS NHS FOUNDATION TRUST","RAE01","BRADFORD ROYAL INFIRMARY","Ward 3"]
["RAE01-Ward 31","RAE","BRADFORD TEACHING HOSPITALS NHS FOUNDATION TRUST","RAE01","BRADFORD ROYAL INFIRMARY","Ward 31"]
["RAE01-Ward 33","RAE","BRADFORD TEACHING HOSPITALS NHS FOUNDATION TRUST","RAE01","BRADFORD ROYAL INFIRMARY","Ward 33"]
["RAE01-Ward 6","RAE","BRADFORD TEACHING HOSPITALS NHS FOUNDATION TRUST","RAE01","BRADFORD ROYAL INFIRMARY","Ward 6"]
["RAE01-Ward 7 Infectious Diseases","RAE","BRADFORD TEACHING HOSPITALS NHS FOUNDATION TRUST","RAE01","BRADFORD ROYAL INFIRMARY","Ward 7 Infectious Diseases"]
["RAE01-Ward 8","RAE","BRADFORD TEACHING HOSPITALS NHS FOUNDATION TRUST","RAE01","BRADFORD ROYAL INFIRMARY","Ward 8"]
["RAE01-Ward 9 Short Stay","RAE","BRADFORD TEACHING HOSPITALS NHS FOUNDATION TRUST","RAE01","BRADFORD ROYAL INFIRMARY","Ward 9 Short Stay"]
["RAE05-F5","RAE","BRADFORD TEACHING HOSPITALS NHS FOUNDATION TRUST","RAE05","ST LUKES HOSPITAL","F5"]
["RAE05-F6","RAE","BRADFORD TEACHING HOSPITALS NHS FOUNDATION TRUST","RAE05","ST LUKES HOSPITAL","F6"]
["RAE05-WBG","RAE","BRADFORD TEACHING HOSPITALS NHS FOUNDATION TRUST","RAE05","ST LUKES HOSPITAL","WBG"]
["RAE05-WWP","RAE","BRADFORD TEACHING HOSPITALS NHS FOUNDATION TRUST","RAE05","ST LUKES HOSPITAL","WWP"]
["RAJ01-Acute Medical Unit","RAJ","SOUTHEND UNIVERSITY HOSPITAL NHS FOUNDATION TRUST","RAJ01","SOUTHEND HOSPITAL","Acute Medical Unit"]
["RAJ01-Balmoral","RAJ","SOUTHEND UNIVERSITY HOSPITAL NHS FOUNDATION TRUST","RAJ01","SOUTHEND HOSPITAL","Balmoral"]
["RAJ01-Blenheim","RAJ","SOUTHEND UNIVERSITY HOSPITAL NHS FOUNDATION TRUST","RAJ01","SOUTHEND HOSPITAL","Blenheim"]
["RAJ01-CCU Hopkins","RAJ","SOUTHEND UNIVERSITY HOSPITAL NHS FOUNDATION TRUST","RAJ01","SOUTHEND HOSPITAL","CCU Hopkins"]
["RAJ01-Chalkwell (SAU)","RAJ","SOUTHEND UNIVERSITY HOSPITAL NHS FOUNDATION TRUST","RAJ01","SOUTHEND HOSPITAL","Chalkwell (SAU)"]
["RAJ01-Critical Care","RAJ","SOUTHEND UNIVERSITY HOSPITAL NHS FOUNDATION TRUST","RAJ01","SOUTHEND HOSPITAL","Critical Care"]
["RAJ01-Eastwood","RAJ","SOUTHEND UNIVERSITY HOSPITAL NHS FOUNDATION TRUST","RAJ01","SOUTHEND HOSPITAL","Eastwood"]
["RAJ01-Eleanor Hobbs","RAJ","SOUTHEND UNIVERSITY HOSPITAL NHS FOUNDATION TRUST","RAJ01","SOUTHEND HOSPITAL","Eleanor Hobbs"]
["RAJ01-Elizabeth Loury","RAJ","SOUTHEND UNIVERSITY HOSPITAL NHS FOUNDATION TRUST","RAJ01","SOUTHEND HOSPITAL","Elizabeth Loury"]
["RAJ01-Estuary Haematology and Oncology Unit","RAJ","SOUTHEND UNIVERSITY HOSPITAL NHS FOUNDATION TRUST","RAJ01","SOUTHEND HOSPITAL","Estuary Haematology and Oncology Unit"]
["RAJ01-Hockley","RAJ","SOUTHEND UNIVERSITY HOSPITAL NHS FOUNDATION TRUST","RAJ01","SOUTHEND HOSPITAL","Hockley"]
["RAJ01-Margaret Broom 1","RAJ","SOUTHEND UNIVERSITY HOSPITAL NHS FOUNDATION TRUST","RAJ01","SOUTHEND HOSPITAL","Margaret Broom 1"]
["RAJ01-Margaret Broom 2","RAJ","SOUTHEND UNIVERSITY HOSPITAL NHS FOUNDATION TRUST","RAJ01","SOUTHEND HOSPITAL","Margaret Broom 2"]
["RAJ01-MSK Unit","RAJ","SOUTHEND UNIVERSITY HOSPITAL NHS FOUNDATION TRUST","RAJ01","SOUTHEND HOSPITAL","MSK Unit"]
["RAJ01-Neonatal Unit","RAJ","SOUTHEND UNIVERSITY HOSPITAL NHS FOUNDATION TRUST","RAJ01","SOUTHEND HOSPITAL","Neonatal Unit"]
["RAJ01-Neptune","RAJ","SOUTHEND UNIVERSITY HOSPITAL NHS FOUNDATION TRUST","RAJ01","SOUTHEND HOSPITAL","Neptune"]
["RAJ01-Princess Anne DME","RAJ","SOUTHEND UNIVERSITY HOSPITAL NHS FOUNDATION TRUST","RAJ01","SOUTHEND HOSPITAL","Princess Anne DME"]
["RAJ01-Respiratory Unit","RAJ","SOUTHEND UNIVERSITY HOSPITAL NHS FOUNDATION TRUST","RAJ01","SOUTHEND HOSPITAL","Respiratory Unit"]
["RAJ01-Southbourne","RAJ","SOUTHEND UNIVERSITY HOSPITAL NHS FOUNDATION TRUST","RAJ01","SOUTHEND HOSPITAL","Southbourne"]
["RAJ01-Stambridge","RAJ","SOUTHEND UNIVERSITY HOSPITAL NHS FOUNDATION TRUST","RAJ01","SOUTHEND HOSPITAL","Stambridge"]
["RAJ01-Stroke Unit (Paglesham & Benfleet)","RAJ","SOUTHEND UNIVERSITY HOSPITAL NHS FOUNDATION TRUST","RAJ01","SOUTHEND HOSPITAL","Stroke Unit (Paglesham & Benfleet)"]
["RAJ01-Windsor","RAJ","SOUTHEND UNIVERSITY HOSPITAL NHS FOUNDATION TRUST","RAJ01","SOUTHEND HOSPITAL","Windsor"]
["RAL01-10 East","RAL","ROYAL FREE LONDON NHS FOUNDATION TRUST","RAL01","ROYAL FREE HOSPITAL","10 East"]
["RAL01-10 North - HSEP","RAL","ROYAL FREE LONDON NHS FOUNDATION TRUST","RAL01","ROYAL FREE HOSPITAL","10 North - HSEP"]
["RAL01-10 South","RAL","ROYAL FREE LONDON NHS FOUNDATION TRUST","RAL01","ROYAL FREE HOSPITAL","10 South"]
["RAL01-10 West","RAL","ROYAL FREE LONDON NHS FOUNDATION TRUST","RAL01","ROYAL FREE HOSPITAL","10 West"]
["RAL01-11 East","RAL","ROYAL FREE LONDON NHS FOUNDATION TRUST","RAL01","ROYAL FREE HOSPITAL","11 East"]
["RAL01-11 West","RAL","ROYAL FREE LONDON NHS FOUNDATION TRUST","RAL01","ROYAL FREE HOSPITAL","11 West"]
["RAL01-5 East B","RAL","ROYAL FREE LONDON NHS FOUNDATION TRUST","RAL01","ROYAL FREE HOSPITAL","5 East B"]
["RAL01-5 North A","RAL","ROYAL FREE LONDON NHS FOUNDATION TRUST","RAL01","ROYAL FREE HOSPITAL","5 North A"]
["RAL01-5 South","RAL","ROYAL FREE LONDON NHS FOUNDATION TRUST","RAL01","ROYAL FREE HOSPITAL","5 South"]
["RAL01-6 North","RAL","ROYAL FREE LONDON NHS FOUNDATION TRUST","RAL01","ROYAL FREE HOSPITAL","6 North"]
[{"$f":"CONCATENATE(D579,\"-\",F579)","v":"RAL01-6 South"},"RAL","ROYAL FREE LONDON NHS FOUNDATION TRUST","RAL01","ROYAL FREE HOSPITAL","6 South"]
["RAL01-6 West","RAL","ROYAL FREE LONDON NHS FOUNDATION TRUST","RAL01","ROYAL FREE HOSPITAL","6 West"]
["RAL01-7 East A","RAL","ROYAL FREE LONDON NHS FOUNDATION TRUST","RAL01","ROYAL FREE HOSPITAL","7 East A"]
["RAL01-7 North","RAL","ROYAL FREE LONDON NHS FOUNDATION TRUST","RAL01","ROYAL FREE HOSPITAL","7 North"]
["RAL01-7 West","RAL","ROYAL FREE LONDON NHS FOUNDATION TRUST","RAL01","ROYAL FREE HOSPITAL","7 West"]
["RAL01-8 East","RAL","ROYAL FREE LONDON NHS FOUNDATION TRUST","RAL01","ROYAL FREE HOSPITAL","8 East"]
["RAL01-8 North","RAL","ROYAL FREE LONDON NHS FOUNDATION TRUST","RAL01","ROYAL FREE HOSPITAL","8 North"]
["RAL01-8 West","RAL","ROYAL FREE LONDON NHS FOUNDATION TRUST","RAL01","ROYAL FREE HOSPITAL","8 West"]
["RAL01-9 North","RAL","ROYAL FREE LONDON NHS FOUNDATION TRUST","RAL01","ROYAL FREE HOSPITAL","9 North"]
["RAL01-9 West","RAL","ROYAL FREE LONDON NHS FOUNDATION TRUST","RAL01","ROYAL FREE HOSPITAL","9 West"]
["RAL01-ICU 4","RAL","ROYAL FREE LONDON NHS FOUNDATION TRUST","RAL01","ROYAL FREE HOSPITAL","ICU 4"]
["RAL01-RF AAU","RAL","ROYAL FREE LONDON NHS FOUNDATION TRUST","RAL01","ROYAL FREE HOSPITAL","RF AAU"]
["RAL26-Barnet CCU","RAL","ROYAL FREE LONDON NHS FOUNDATION TRUST","RAL26","BARNET HOSPITAL","Barnet CCU"]
["RAL26-Barnet Intensive Therapy Unit (ITU)","RAL","ROYAL FREE LONDON NHS FOUNDATION TRUST","RAL26","BARNET HOSPITAL","Barnet Intensive Therapy Unit (ITU)"]
["RAL26-Barnet Neonatal Care Unit","RAL","ROYAL FREE LONDON NHS FOUNDATION TRUST","RAL26","BARNET HOSPITAL","Barnet Neonatal Care Unit"]
["RAL26-Beech Ward","RAL","ROYAL FREE LONDON NHS FOUNDATION TRUST","RAL26","BARNET HOSPITAL","Beech Ward"]
["RAL26-Cedar Ward","RAL","ROYAL FREE LONDON NHS FOUNDATION TRUST","RAL26","BARNET HOSPITAL","Cedar Ward"]
["RAL26-Damson Ward","RAL","ROYAL FREE LONDON NHS FOUNDATION TRUST","RAL26","BARNET HOSPITAL","Damson Ward"]
["RAL26-Galaxy Ward","RAL","ROYAL FREE LONDON NHS FOUNDATION TRUST","RAL26","BARNET HOSPITAL","Galaxy Ward"]
["RAL26-Juniper Ward","RAL","ROYAL FREE LONDON NHS FOUNDATION TRUST","RAL26","BARNET HOSPITAL","Juniper Ward"]
["RAL26-Larch Ward","RAL","ROYAL FREE LONDON NHS FOUNDATION TRUST","RAL26","BARNET HOSPITAL","Larch Ward"]
["RAL26-MSSU","RAL","ROYAL FREE LONDON NHS FOUNDATION TRUST","RAL26","BARNET HOSPITAL","MSSU"]
["RAL26-Mulberry Ward","RAL","ROYAL FREE LONDON NHS FOUNDATION TRUST","RAL26","BARNET HOSPITAL","Mulberry Ward"]
["RAL26-Olive Ward","RAL","ROYAL FREE LONDON NHS FOUNDATION TRUST","RAL26","BARNET HOSPITAL","Olive Ward"]
["RAL26-Palm Ward","RAL","ROYAL FREE LONDON NHS FOUNDATION TRUST","RAL26","BARNET HOSPITAL","Palm Ward"]
["RAL26-Rowan Ward","RAL","ROYAL FREE LONDON NHS FOUNDATION TRUST","RAL26","BARNET HOSPITAL","Rowan Ward"]
["RAL26-Spruce Ward","RAL","ROYAL FREE LONDON NHS FOUNDATION TRUST","RAL26","BARNET HOSPITAL","Spruce Ward"]
["RAL26-Victoria Ward","RAL","ROYAL FREE LONDON NHS FOUNDATION TRUST","RAL26","BARNET HOSPITAL","Victoria Ward"]
["RAL26-Walnut Ward","RAL","ROYAL FREE LONDON NHS FOUNDATION TRUST","RAL26","BARNET HOSPITAL","Walnut Ward"]
["RAL26-Willow Ward","RAL","ROYAL FREE LONDON NHS FOUNDATION TRUST","RAL26","BARNET HOSPITAL","Willow Ward"]
["RALC7-Surgical Ward","RAL","ROYAL FREE LONDON NHS FOUNDATION TRUST","RALC7","CHASE FARM HOSPITAL","Surgical Ward"]
["RALRA-Neuro Rehab","RAL","ROYAL FREE LONDON NHS FOUNDATION TRUST","RALRA","EDGWARE COMMUNITY HOSPITAL","Neuro Rehab"]
["RAN01-Alan Bray Unit","RAN","ROYAL NATIONAL ORTHOPAEDIC HOSPITAL NHS TRUST","RAN01","THE ROYAL NATIONAL ORTHOPAEDIC HOSPITAL (STANMORE)","Alan Bray Unit"]
["RAN01-Children & Teenage Unit","RAN","ROYAL NATIONAL ORTHOPAEDIC HOSPITAL NHS TRUST","RAN01","THE ROYAL NATIONAL ORTHOPAEDIC HOSPITAL (STANMORE)","Children & Teenage Unit"]
["RAN01-Duke of Gloucester","RAN","ROYAL NATIONAL ORTHOPAEDIC HOSPITAL NHS TRUST","RAN01","THE ROYAL NATIONAL ORTHOPAEDIC HOSPITAL (STANMORE)","Duke of Gloucester"]
["RAN01-Jubilee Rehab Ward","RAN","ROYAL NATIONAL ORTHOPAEDIC HOSPITAL NHS TRUST","RAN01","THE ROYAL NATIONAL ORTHOPAEDIC HOSPITAL (STANMORE)","Jubilee Rehab Ward"]
["RAN01-London Irish Ward","RAN","ROYAL NATIONAL ORTHOPAEDIC HOSPITAL NHS TRUST","RAN01","THE ROYAL NATIONAL ORTHOPAEDIC HOSPITAL (STANMORE)","London Irish Ward"]
["RAN01-Short Stay Unit","RAN","ROYAL NATIONAL ORTHOPAEDIC HOSPITAL NHS TRUST","RAN01","THE ROYAL NATIONAL ORTHOPAEDIC HOSPITAL (STANMORE)","Short Stay Unit"]
["RAN01-Spinal Injuries Ward","RAN","ROYAL NATIONAL ORTHOPAEDIC HOSPITAL NHS TRUST","RAN01","THE ROYAL NATIONAL ORTHOPAEDIC HOSPITAL (STANMORE)","Spinal Injuries Ward"]
["RAPNM-Acute Assessment Unit","RAP","NORTH MIDDLESEX UNIVERSITY HOSPITAL NHS TRUST","RAPNM","NORTH MIDDLESEX HOSPITAL","Acute Assessment Unit"]
["RAPNM-Acute Medical Unit","RAP","NORTH MIDDLESEX UNIVERSITY HOSPITAL NHS TRUST","RAPNM","NORTH MIDDLESEX HOSPITAL","Acute Medical Unit"]
["RAPNM-Acute Stroke Unit","RAP","NORTH MIDDLESEX UNIVERSITY HOSPITAL NHS TRUST","RAPNM","NORTH MIDDLESEX HOSPITAL","Acute Stroke Unit"]
["RAPNM-Charles Coward","RAP","NORTH MIDDLESEX UNIVERSITY HOSPITAL NHS TRUST","RAPNM","NORTH MIDDLESEX HOSPITAL","Charles Coward"]
["RAPNM-Critical Care Unit","RAP","NORTH MIDDLESEX UNIVERSITY HOSPITAL NHS TRUST","RAPNM","NORTH MIDDLESEX HOSPITAL","Critical Care Unit"]
["RAPNM-Labour Ward","RAP","NORTH MIDDLESEX UNIVERSITY HOSPITAL NHS TRUST","RAPNM","NORTH MIDDLESEX HOSPITAL","Labour Ward"]
["RAPNM-Maternity ward","RAP","NORTH MIDDLESEX UNIVERSITY HOSPITAL NHS TRUST","RAPNM","NORTH MIDDLESEX HOSPITAL","Maternity ward"]
["RAPNM-Michael Bates","RAP","NORTH MIDDLESEX UNIVERSITY HOSPITAL NHS TRUST","RAPNM","NORTH MIDDLESEX HOSPITAL","Michael Bates"]
["RAPNM-Podium Ward 1","RAP","NORTH MIDDLESEX UNIVERSITY HOSPITAL NHS TRUST","RAPNM","NORTH MIDDLESEX HOSPITAL","Podium Ward 1"]
["RAPNM-Pymmes0","RAP","NORTH MIDDLESEX UNIVERSITY HOSPITAL NHS TRUST","RAPNM","NORTH MIDDLESEX HOSPITAL","Pymmes0"]
["RAPNM-Rainbow","RAP","NORTH MIDDLESEX UNIVERSITY HOSPITAL NHS TRUST","RAPNM","NORTH MIDDLESEX HOSPITAL","Rainbow"]
["RAPNM-S3 Orthopaedics","RAP","NORTH MIDDLESEX UNIVERSITY HOSPITAL NHS TRUST","RAPNM","NORTH MIDDLESEX HOSPITAL","S3 Orthopaedics"]
["RAPNM-Starlight","RAP","NORTH MIDDLESEX UNIVERSITY HOSPITAL NHS TRUST","RAPNM","NORTH MIDDLESEX HOSPITAL","Starlight"]
["RAPNM-Sunrise","RAP","NORTH MIDDLESEX UNIVERSITY HOSPITAL NHS TRUST","RAPNM","NORTH MIDDLESEX HOSPITAL","Sunrise"]
["RAPNM-Surgical Ward 2","RAP","NORTH MIDDLESEX UNIVERSITY HOSPITAL NHS TRUST","RAPNM","NORTH MIDDLESEX HOSPITAL","Surgical Ward 2"]
["RAPNM-T3S","RAP","NORTH MIDDLESEX UNIVERSITY HOSPITAL NHS TRUST","RAPNM","NORTH MIDDLESEX HOSPITAL","T3S"]
["RAPNM-T4 Winter Pressure","RAP","NORTH MIDDLESEX UNIVERSITY HOSPITAL NHS TRUST","RAPNM","NORTH MIDDLESEX HOSPITAL","T4 Winter Pressure"]
["RAPNM-T5 Medical Ward","RAP","NORTH MIDDLESEX UNIVERSITY HOSPITAL NHS TRUST","RAPNM","NORTH MIDDLESEX HOSPITAL","T5 Medical Ward"]
["RAPNM-T6 Medical Ward","RAP","NORTH MIDDLESEX UNIVERSITY HOSPITAL NHS TRUST","RAPNM","NORTH MIDDLESEX HOSPITAL","T6 Medical Ward"]
["RAPNM-T7 Medical Ward","RAP","NORTH MIDDLESEX UNIVERSITY HOSPITAL NHS TRUST","RAPNM","NORTH MIDDLESEX HOSPITAL","T7 Medical Ward"]
["RAPNM-T8 Medical Ward","RAP","NORTH MIDDLESEX UNIVERSITY HOSPITAL NHS TRUST","RAPNM","NORTH MIDDLESEX HOSPITAL","T8 Medical Ward"]
["RAS01-ALDERBOURNE","RAS","THE HILLINGDON HOSPITALS NHS FOUNDATION TRUST","RAS01","HILLINGDON HOSPITAL","ALDERBOURNE"]
["RAS01-ALEXANDRA WARD","RAS","THE HILLINGDON HOSPITALS NHS FOUNDATION TRUST","RAS01","HILLINGDON HOSPITAL","ALEXANDRA WARD"]
["RAS01-AMU","RAS","THE HILLINGDON HOSPITALS NHS FOUNDATION TRUST","RAS01","HILLINGDON HOSPITAL","AMU"]
["RAS01-BEACONSFIELD EAST","RAS","THE HILLINGDON HOSPITALS NHS FOUNDATION TRUST","RAS01","HILLINGDON HOSPITAL","BEACONSFIELD EAST"]
[{"$f":"CONCATENATE(D643,\"-\",F643)","v":"RAS01-BEVAN WARD"},"RAS","THE HILLINGDON HOSPITALS NHS FOUNDATION TRUST","RAS01","HILLINGDON HOSPITAL","BEVAN WARD"]
["RAS01-CHURCHILL WARD","RAS","THE HILLINGDON HOSPITALS NHS FOUNDATION TRUST","RAS01","HILLINGDON HOSPITAL","CHURCHILL WARD"]
["RAS01-CORONARY CARE UNIT","RAS","THE HILLINGDON HOSPITALS NHS FOUNDATION TRUST","RAS01","HILLINGDON HOSPITAL","CORONARY CARE UNIT"]
["RAS01-DRAYTON","RAS","THE HILLINGDON HOSPITALS NHS FOUNDATION TRUST","RAS01","HILLINGDON HOSPITAL","DRAYTON"]
["RAS01-FLEMING WARD","RAS","THE HILLINGDON HOSPITALS NHS FOUNDATION TRUST","RAS01","HILLINGDON HOSPITAL","FLEMING WARD"]
["RAS01-GRANGE-ADMISSIONS","RAS","THE HILLINGDON HOSPITALS NHS FOUNDATION TRUST","RAS01","HILLINGDON HOSPITAL","GRANGE-ADMISSIONS"]
["RAS01-HAYES","RAS","THE HILLINGDON HOSPITALS NHS FOUNDATION TRUST","RAS01","HILLINGDON HOSPITAL","HAYES"]
["RAS01-ITU/HDU","RAS","THE HILLINGDON HOSPITALS NHS FOUNDATION TRUST","RAS01","HILLINGDON HOSPITAL","ITU/HDU"]
["RAS01-JERSEY","RAS","THE HILLINGDON HOSPITALS NHS FOUNDATION TRUST","RAS01","HILLINGDON HOSPITAL","JERSEY"]
["RAS01-KATHERINE MATERNITY LED UNIT","RAS","THE HILLINGDON HOSPITALS NHS FOUNDATION TRUST","RAS01","HILLINGDON HOSPITAL","KATHERINE MATERNITY LED UNIT"]
["RAS01-KATHERINE WARD","RAS","THE HILLINGDON HOSPITALS NHS FOUNDATION TRUST","RAS01","HILLINGDON HOSPITAL","KATHERINE WARD"]
["RAS01-KENNEDY","RAS","THE HILLINGDON HOSPITALS NHS FOUNDATION TRUST","RAS01","HILLINGDON HOSPITAL","KENNEDY"]
["RAS01-LABOUR WARD","RAS","THE HILLINGDON HOSPITALS NHS FOUNDATION TRUST","RAS01","HILLINGDON HOSPITAL","LABOUR WARD"]
["RAS01-LISTER WARD","RAS","THE HILLINGDON HOSPITALS NHS FOUNDATION TRUST","RAS01","HILLINGDON HOSPITAL","LISTER WARD"]
["RAS01-NEONATAL INTENSIVE CARE","RAS","THE HILLINGDON HOSPITALS NHS FOUNDATION TRUST","RAS01","HILLINGDON HOSPITAL","NEONATAL INTENSIVE CARE"]
["RAS01-PAGETT WARD","RAS","THE HILLINGDON HOSPITALS NHS FOUNDATION TRUST","RAS01","HILLINGDON HOSPITAL","PAGETT WARD"]
["RAS01-PETER PAN","RAS","THE HILLINGDON HOSPITALS NHS FOUNDATION TRUST","RAS01","HILLINGDON HOSPITAL","PETER PAN"]
["RAS01-THE STROKE UNIT","RAS","THE HILLINGDON HOSPITALS NHS FOUNDATION TRUST","RAS01","HILLINGDON HOSPITAL","THE STROKE UNIT"]
["RAS02-DANIELS WARD","RAS","THE HILLINGDON HOSPITALS NHS FOUNDATION TRUST","RAS02","MOUNT VERNON HOSPITAL SITE","DANIELS WARD"]
["RAS02-TRINITY WARD","RAS","THE HILLINGDON HOSPITALS NHS FOUNDATION TRUST","RAS02","MOUNT VERNON HOSPITAL SITE","TRINITY WARD"]
["RAT42-Ainslie Rehabilitation Unit - Ground Floor","RAT","NORTH EAST LONDON NHS FOUNDATION TRUST","RAT42","THE AINSLIE REHAB UNIT","Ainslie Rehabilitation Unit - Ground Floor"]
["RAT42-Ainslie Rehabilitation Unit - Top Floor","RAT","NORTH EAST LONDON NHS FOUNDATION TRUST","RAT42","THE AINSLIE REHAB UNIT","Ainslie Rehabilitation Unit - Top Floor"]
["RATAF-Mayfield Ward","RAT","NORTH EAST LONDON NHS FOUNDATION TRUST","RATAF","MAYFIELD CENTRE","Mayfield Ward"]
["RATAP-Marigold","RAT","NORTH EAST LONDON NHS FOUNDATION TRUST","RATAP","BARKING HOSPITAL","Marigold"]
["RATDG-Foxglove Ward","RAT","NORTH EAST LONDON NHS FOUNDATION TRUST","RATDG","KING GEORGES HOSPITAL","Foxglove Ward"]
["RATDG-Japonica","RAT","NORTH EAST LONDON NHS FOUNDATION TRUST","RATDG","KING GEORGES HOSPITAL","Japonica"]
["RATGM-Cook Ward","RAT","NORTH EAST LONDON NHS FOUNDATION TRUST","RATGM","GOODMAYES HOSPITAL","Cook Ward"]
["RATGM-Kahlo Ward","RAT","NORTH EAST LONDON NHS FOUNDATION TRUST","RATGM","GOODMAYES HOSPITAL","Kahlo Ward"]
["RATGM-Knight\n(formally Hepworth)","RAT","NORTH EAST LONDON NHS FOUNDATION TRUST","RATGM","GOODMAYES HOSPITAL","Knight\n(formally Hepworth)"]
["RATGM-Monet","RAT","NORTH EAST LONDON NHS FOUNDATION TRUST","RATGM","GOODMAYES HOSPITAL","Monet"]
["RATGM-Moore Ward","RAT","NORTH EAST LONDON NHS FOUNDATION TRUST","RATGM","GOODMAYES HOSPITAL","Moore Ward"]
["RATGM-Morris Ward","RAT","NORTH EAST LONDON NHS FOUNDATION TRUST","RATGM","GOODMAYES HOSPITAL","Morris Ward"]
["RATGM-Ogura Ward","RAT","NORTH EAST LONDON NHS FOUNDATION TRUST","RATGM","GOODMAYES HOSPITAL","Ogura Ward"]
["RATGM-Picasso Ward","RAT","NORTH EAST LONDON NHS FOUNDATION TRUST","RATGM","GOODMAYES HOSPITAL","Picasso Ward"]
["RATGM-Stage Ward","RAT","NORTH EAST LONDON NHS FOUNDATION TRUST","RATGM","GOODMAYES HOSPITAL","Stage Ward"]
["RATGM-Titian Ward","RAT","NORTH EAST LONDON NHS FOUNDATION TRUST","RATGM","GOODMAYES HOSPITAL","Titian Ward"]
["RATGM-Turner Ward","RAT","NORTH EAST LONDON NHS FOUNDATION TRUST","RATGM","GOODMAYES HOSPITAL","Turner Ward"]
["RATGM-Woodbury Unit 1","RAT","NORTH EAST LONDON NHS FOUNDATION TRUST","RATGM","GOODMAYES HOSPITAL","Woodbury Unit 1"]
["RATRM-Thorndon Ward","RAT","NORTH EAST LONDON NHS FOUNDATION TRUST","RATRM","BRENTWOOD COMMUNITY HOSPITAL","Thorndon Ward"]
["RATRY-Brookside","RAT","NORTH EAST LONDON NHS FOUNDATION TRUST","RATRY","BROOKSIDE","Brookside"]
["RAX01-AAU","RAX","KINGSTON HOSPITAL NHS FOUNDATION TRUST","RAX01","KINGSTON HOSPITAL","AAU"]
["RAX01-Alex","RAX","KINGSTON HOSPITAL NHS FOUNDATION TRUST","RAX01","KINGSTON HOSPITAL","Alex"]
["RAX01-Astor","RAX","KINGSTON HOSPITAL NHS FOUNDATION TRUST","RAX01","KINGSTON HOSPITAL","Astor"]
["RAX01-Blyth","RAX","KINGSTON HOSPITAL NHS FOUNDATION TRUST","RAX01","KINGSTON HOSPITAL","Blyth"]
["RAX01-Bronte","RAX","KINGSTON HOSPITAL NHS FOUNDATION TRUST","RAX01","KINGSTON HOSPITAL","Bronte"]
["RAX01-Cambridge","RAX","KINGSTON HOSPITAL NHS FOUNDATION TRUST","RAX01","KINGSTON HOSPITAL","Cambridge"]
["RAX01-Canbury","RAX","KINGSTON HOSPITAL NHS FOUNDATION TRUST","RAX01","KINGSTON HOSPITAL","Canbury"]
["RAX01-Derwent","RAX","KINGSTON HOSPITAL NHS FOUNDATION TRUST","RAX01","KINGSTON HOSPITAL","Derwent"]
["RAX01-Hamble","RAX","KINGSTON HOSPITAL NHS FOUNDATION TRUST","RAX01","KINGSTON HOSPITAL","Hamble"]
["RAX01-Hardy","RAX","KINGSTON HOSPITAL NHS FOUNDATION TRUST","RAX01","KINGSTON HOSPITAL","Hardy"]
["RAX01-Intensive Care Unit","RAX","KINGSTON HOSPITAL NHS FOUNDATION TRUST","RAX01","KINGSTON HOSPITAL","Intensive Care Unit"]
["RAX01-Isabella","RAX","KINGSTON HOSPITAL NHS FOUNDATION TRUST","RAX01","KINGSTON HOSPITAL","Isabella"]
["RAX01-Keats","RAX","KINGSTON HOSPITAL NHS FOUNDATION TRUST","RAX01","KINGSTON HOSPITAL","Keats"]
["RAX01-Kennet","RAX","KINGSTON HOSPITAL NHS FOUNDATION TRUST","RAX01","KINGSTON HOSPITAL","Kennet"]
["RAX01-Maternity","RAX","KINGSTON HOSPITAL NHS FOUNDATION TRUST","RAX01","KINGSTON HOSPITAL","Maternity"]
["RAX01-Neonatal Unit","RAX","KINGSTON HOSPITAL NHS FOUNDATION TRUST","RAX01","KINGSTON HOSPITAL","Neonatal Unit"]
["RAX01-Sunshine","RAX","KINGSTON HOSPITAL NHS FOUNDATION TRUST","RAX01","KINGSTON HOSPITAL","Sunshine"]
["RBA11-AMU","RBA","TAUNTON AND SOMERSET NHS FOUNDATION TRUST","RBA11","MUSGROVE PARK HOSPITAL","AMU"]
["RBA11-Barrington Ward","RBA","TAUNTON AND SOMERSET NHS FOUNDATION TRUST","RBA11","MUSGROVE PARK HOSPITAL","Barrington Ward"]
["RBA11-Beacon Ward","RBA","TAUNTON AND SOMERSET NHS FOUNDATION TRUST","RBA11","MUSGROVE PARK HOSPITAL","Beacon Ward"]
["RBA11-Blake","RBA","TAUNTON AND SOMERSET NHS FOUNDATION TRUST","RBA11","MUSGROVE PARK HOSPITAL","Blake"]
["RBA11-CCU","RBA","TAUNTON AND SOMERSET NHS FOUNDATION TRUST","RBA11","MUSGROVE PARK HOSPITAL","CCU"]
["RBA11-Childrens Unit","RBA","TAUNTON AND SOMERSET NHS FOUNDATION TRUST","RBA11","MUSGROVE PARK HOSPITAL","Childrens Unit"]
["RBA11-Coleridge","RBA","TAUNTON AND SOMERSET NHS FOUNDATION TRUST","RBA11","MUSGROVE PARK HOSPITAL","Coleridge"]
[{"$f":"CONCATENATE(D707,\"-\",F707)","v":"RBA11-Conservators"},"RBA","TAUNTON AND SOMERSET NHS FOUNDATION TRUST","RBA11","MUSGROVE PARK HOSPITAL","Conservators"]
["RBA11-Dunkery","RBA","TAUNTON AND SOMERSET NHS FOUNDATION TRUST","RBA11","MUSGROVE PARK HOSPITAL","Dunkery"]
["RBA11-Eliot Ward","RBA","TAUNTON AND SOMERSET NHS FOUNDATION TRUST","RBA11","MUSGROVE PARK HOSPITAL","Eliot Ward"]
["RBA11-Exmoor","RBA","TAUNTON AND SOMERSET NHS FOUNDATION TRUST","RBA11","MUSGROVE PARK HOSPITAL","Exmoor"]
["RBA11-Fielding Ward","RBA","TAUNTON AND SOMERSET NHS FOUNDATION TRUST","RBA11","MUSGROVE PARK HOSPITAL","Fielding Ward"]
["RBA11-Gould Ward","RBA","TAUNTON AND SOMERSET NHS FOUNDATION TRUST","RBA11","MUSGROVE PARK HOSPITAL","Gould Ward"]
["RBA11-Hestercombe","RBA","TAUNTON AND SOMERSET NHS FOUNDATION TRUST","RBA11","MUSGROVE PARK HOSPITAL","Hestercombe"]
["RBA11-ITU","RBA","TAUNTON AND SOMERSET NHS FOUNDATION TRUST","RBA11","MUSGROVE PARK HOSPITAL","ITU"]
["RBA11-Lydeard","RBA","TAUNTON AND SOMERSET NHS FOUNDATION TRUST","RBA11","MUSGROVE PARK HOSPITAL","Lydeard"]
["RBA11-Maternity Wards","RBA","TAUNTON AND SOMERSET NHS FOUNDATION TRUST","RBA11","MUSGROVE PARK HOSPITAL","Maternity Wards"]
["RBA11-Mendip","RBA","TAUNTON AND SOMERSET NHS FOUNDATION TRUST","RBA11","MUSGROVE PARK HOSPITAL","Mendip"]
["RBA11-Montacute Ward","RBA","TAUNTON AND SOMERSET NHS FOUNDATION TRUST","RBA11","MUSGROVE PARK HOSPITAL","Montacute Ward"]
["RBA11-Portman","RBA","TAUNTON AND SOMERSET NHS FOUNDATION TRUST","RBA11","MUSGROVE PARK HOSPITAL","Portman"]
["RBA11-SAU Ward 2","RBA","TAUNTON AND SOMERSET NHS FOUNDATION TRUST","RBA11","MUSGROVE PARK HOSPITAL","SAU Ward 2"]
["RBA11-SCBU","RBA","TAUNTON AND SOMERSET NHS FOUNDATION TRUST","RBA11","MUSGROVE PARK HOSPITAL","SCBU"]
["RBA11-Sheppard Gastro","RBA","TAUNTON AND SOMERSET NHS FOUNDATION TRUST","RBA11","MUSGROVE PARK HOSPITAL","Sheppard Gastro"]
["RBA11-Triscombe","RBA","TAUNTON AND SOMERSET NHS FOUNDATION TRUST","RBA11","MUSGROVE PARK HOSPITAL","Triscombe"]
["RBA11-Ward 9","RBA","TAUNTON AND SOMERSET NHS FOUNDATION TRUST","RBA11","MUSGROVE PARK HOSPITAL","Ward 9"]
["RBA11-Wordsworth","RBA","TAUNTON AND SOMERSET NHS FOUNDATION TRUST","RBA11","MUSGROVE PARK HOSPITAL","Wordsworth"]
["RBD01-Abbotsbury Short Stay Surgical Unit","RBD","DORSET COUNTY HOSPITAL NHS FOUNDATION TRUST","RBD01","DORSET COUNTY HOSPITAL","Abbotsbury Short Stay Surgical Unit"]
["RBD01-Barnes","RBD","DORSET COUNTY HOSPITAL NHS FOUNDATION TRUST","RBD01","DORSET COUNTY HOSPITAL","Barnes"]
["RBD01-Critical Care Unit","RBD","DORSET COUNTY HOSPITAL NHS FOUNDATION TRUST","RBD01","DORSET COUNTY HOSPITAL","Critical Care Unit"]
["RBD01-Day Lewis","RBD","DORSET COUNTY HOSPITAL NHS FOUNDATION TRUST","RBD01","DORSET COUNTY HOSPITAL","Day Lewis"]
["RBD01-Fortuneswell","RBD","DORSET COUNTY HOSPITAL NHS FOUNDATION TRUST","RBD01","DORSET COUNTY HOSPITAL","Fortuneswell"]
["RBD01-Ilchester Intergrated Assessment Unit","RBD","DORSET COUNTY HOSPITAL NHS FOUNDATION TRUST","RBD01","DORSET COUNTY HOSPITAL","Ilchester Intergrated Assessment Unit"]
["RBD01-Kingfisher","RBD","DORSET COUNTY HOSPITAL NHS FOUNDATION TRUST","RBD01","DORSET COUNTY HOSPITAL","Kingfisher"]
["RBD01-Lulworth","RBD","DORSET COUNTY HOSPITAL NHS FOUNDATION TRUST","RBD01","DORSET COUNTY HOSPITAL","Lulworth"]
["RBD01-Maternity","RBD","DORSET COUNTY HOSPITAL NHS FOUNDATION TRUST","RBD01","DORSET COUNTY HOSPITAL","Maternity"]
["RBD01-Maud Alex","RBD","DORSET COUNTY HOSPITAL NHS FOUNDATION TRUST","RBD01","DORSET COUNTY HOSPITAL","Maud Alex"]
["RBD01-Moreton","RBD","DORSET COUNTY HOSPITAL NHS FOUNDATION TRUST","RBD01","DORSET COUNTY HOSPITAL","Moreton"]
["RBD01-Prince of Wales","RBD","DORSET COUNTY HOSPITAL NHS FOUNDATION TRUST","RBD01","DORSET COUNTY HOSPITAL","Prince of Wales"]
["RBD01-Purbeck","RBD","DORSET COUNTY HOSPITAL NHS FOUNDATION TRUST","RBD01","DORSET COUNTY HOSPITAL","Purbeck"]
["RBD01-Ridgeway","RBD","DORSET COUNTY HOSPITAL NHS FOUNDATION TRUST","RBD01","DORSET COUNTY HOSPITAL","Ridgeway"]
["RBD01-Special Care Baby Unit","RBD","DORSET COUNTY HOSPITAL NHS FOUNDATION TRUST","RBD01","DORSET COUNTY HOSPITAL","Special Care Baby Unit"]
["RBD01-The Stroke Unit","RBD","DORSET COUNTY HOSPITAL NHS FOUNDATION TRUST","RBD01","DORSET COUNTY HOSPITAL","The Stroke Unit"]
["RBK02-Acute Medical Unit","RBK","WALSALL HEALTHCARE NHS TRUST","RBK02","MANOR HOSPITAL","Acute Medical Unit"]
["RBK02-Acute Surgical Unit","RBK","WALSALL HEALTHCARE NHS TRUST","RBK02","MANOR HOSPITAL","Acute Surgical Unit"]
["RBK02-Intensive Care Unit","RBK","WALSALL HEALTHCARE NHS TRUST","RBK02","MANOR HOSPITAL","Intensive Care Unit"]
["RBK02-Paediatric Assessment Unit","RBK","WALSALL HEALTHCARE NHS TRUST","RBK02","MANOR HOSPITAL","Paediatric Assessment Unit"]
["RBK02-Surgical Assessment Unit","RBK","WALSALL HEALTHCARE NHS TRUST","RBK02","MANOR HOSPITAL","Surgical Assessment Unit"]
["RBK02-Ward 01","RBK","WALSALL HEALTHCARE NHS TRUST","RBK02","MANOR HOSPITAL","Ward 01"]
["RBK02-Ward 02","RBK","WALSALL HEALTHCARE NHS TRUST","RBK02","MANOR HOSPITAL","Ward 02"]
["RBK02-Ward 03","RBK","WALSALL HEALTHCARE NHS TRUST","RBK02","MANOR HOSPITAL","Ward 03"]
["RBK02-Ward 04","RBK","WALSALL HEALTHCARE NHS TRUST","RBK02","MANOR HOSPITAL","Ward 04"]
["RBK02-Ward 07","RBK","WALSALL HEALTHCARE NHS TRUST","RBK02","MANOR HOSPITAL","Ward 07"]
["RBK02-Ward 09","RBK","WALSALL HEALTHCARE NHS TRUST","RBK02","MANOR HOSPITAL","Ward 09"]
["RBK02-Ward 14","RBK","WALSALL HEALTHCARE NHS TRUST","RBK02","MANOR HOSPITAL","Ward 14"]
["RBK02-Ward 15","RBK","WALSALL HEALTHCARE NHS TRUST","RBK02","MANOR HOSPITAL","Ward 15"]
["RBK02-Ward 16","RBK","WALSALL HEALTHCARE NHS TRUST","RBK02","MANOR HOSPITAL","Ward 16"]
["RBK02-Ward 17","RBK","WALSALL HEALTHCARE NHS TRUST","RBK02","MANOR HOSPITAL","Ward 17"]
["RBK02-Ward 20A","RBK","WALSALL HEALTHCARE NHS TRUST","RBK02","MANOR HOSPITAL","Ward 20A"]
["RBK02-Ward 20B/20C","RBK","WALSALL HEALTHCARE NHS TRUST","RBK02","MANOR HOSPITAL","Ward 20B/20C"]
["RBK02-Ward 21","RBK","WALSALL HEALTHCARE NHS TRUST","RBK02","MANOR HOSPITAL","Ward 21"]
["RBK02-Ward 23","RBK","WALSALL HEALTHCARE NHS TRUST","RBK02","MANOR HOSPITAL","Ward 23"]
["RBK02-Ward 28","RBK","WALSALL HEALTHCARE NHS TRUST","RBK02","MANOR HOSPITAL","Ward 28"]
["RBK02-Ward 29","RBK","WALSALL HEALTHCARE NHS TRUST","RBK02","MANOR HOSPITAL","Ward 29"]
["RBK02-Wards 24/25","RBK","WALSALL HEALTHCARE NHS TRUST","RBK02","MANOR HOSPITAL","Wards 24/25"]
["RBL14-10","RBL","WIRRAL UNIVERSITY TEACHING HOSPITAL NHS FOUNDATION TRUST","RBL14","ARROWE PARK HOSPITAL","10"]
["RBL14-11","RBL","WIRRAL UNIVERSITY TEACHING HOSPITAL NHS FOUNDATION TRUST","RBL14","ARROWE PARK HOSPITAL","11"]
["RBL14-12","RBL","WIRRAL UNIVERSITY TEACHING HOSPITAL NHS FOUNDATION TRUST","RBL14","ARROWE PARK HOSPITAL","12"]
["RBL14-17","RBL","WIRRAL UNIVERSITY TEACHING HOSPITAL NHS FOUNDATION TRUST","RBL14","ARROWE PARK HOSPITAL","17"]
["RBL14-18","RBL","WIRRAL UNIVERSITY TEACHING HOSPITAL NHS FOUNDATION TRUST","RBL14","ARROWE PARK HOSPITAL","18"]
["RBL14-20","RBL","WIRRAL UNIVERSITY TEACHING HOSPITAL NHS FOUNDATION TRUST","RBL14","ARROWE PARK HOSPITAL","20"]
["RBL14-21","RBL","WIRRAL UNIVERSITY TEACHING HOSPITAL NHS FOUNDATION TRUST","RBL14","ARROWE PARK HOSPITAL","21"]
[{"$f":"CONCATENATE(D771,\"-\",F771)","v":"RBL14-22"},"RBL","WIRRAL UNIVERSITY TEACHING HOSPITAL NHS FOUNDATION TRUST","RBL14","ARROWE PARK HOSPITAL","22"]
["RBL14-23","RBL","WIRRAL UNIVERSITY TEACHING HOSPITAL NHS FOUNDATION TRUST","RBL14","ARROWE PARK HOSPITAL","23"]
["RBL14-24","RBL","WIRRAL UNIVERSITY TEACHING HOSPITAL NHS FOUNDATION TRUST","RBL14","ARROWE PARK HOSPITAL",24]
["RBL14-25","RBL","WIRRAL UNIVERSITY TEACHING HOSPITAL NHS FOUNDATION TRUST","RBL14","ARROWE PARK HOSPITAL","25"]
["RBL14-26","RBL","WIRRAL UNIVERSITY TEACHING HOSPITAL NHS FOUNDATION TRUST","RBL14","ARROWE PARK HOSPITAL","26"]
["RBL14-27","RBL","WIRRAL UNIVERSITY TEACHING HOSPITAL NHS FOUNDATION TRUST","RBL14","ARROWE PARK HOSPITAL","27"]
["RBL14-30","RBL","WIRRAL UNIVERSITY TEACHING HOSPITAL NHS FOUNDATION TRUST","RBL14","ARROWE PARK HOSPITAL","30"]
["RBL14-32","RBL","WIRRAL UNIVERSITY TEACHING HOSPITAL NHS FOUNDATION TRUST","RBL14","ARROWE PARK HOSPITAL","32"]
["RBL14-33","RBL","WIRRAL UNIVERSITY TEACHING HOSPITAL NHS FOUNDATION TRUST","RBL14","ARROWE PARK HOSPITAL","33"]
["RBL14-36","RBL","WIRRAL UNIVERSITY TEACHING HOSPITAL NHS FOUNDATION TRUST","RBL14","ARROWE PARK HOSPITAL","36"]
["RBL14-37","RBL","WIRRAL UNIVERSITY TEACHING HOSPITAL NHS FOUNDATION TRUST","RBL14","ARROWE PARK HOSPITAL","37"]
["RBL14-38","RBL","WIRRAL UNIVERSITY TEACHING HOSPITAL NHS FOUNDATION TRUST","RBL14","ARROWE PARK HOSPITAL","38"]
["RBL14-53","RBL","WIRRAL UNIVERSITY TEACHING HOSPITAL NHS FOUNDATION TRUST","RBL14","ARROWE PARK HOSPITAL","53"]
["RBL14-54","RBL","WIRRAL UNIVERSITY TEACHING HOSPITAL NHS FOUNDATION TRUST","RBL14","ARROWE PARK HOSPITAL","54"]
["RBL14-24 IPC","RBL","WIRRAL UNIVERSITY TEACHING HOSPITAL NHS FOUNDATION TRUST","RBL14","ARROWE PARK HOSPITAL","24 IPC"]
["RBL14-AMU","RBL","WIRRAL UNIVERSITY TEACHING HOSPITAL NHS FOUNDATION TRUST","RBL14","ARROWE PARK HOSPITAL","AMU"]
["RBL14-CCU","RBL","WIRRAL UNIVERSITY TEACHING HOSPITAL NHS FOUNDATION TRUST","RBL14","ARROWE PARK HOSPITAL","CCU"]
["RBL14-Childrens","RBL","WIRRAL UNIVERSITY TEACHING HOSPITAL NHS FOUNDATION TRUST","RBL14","ARROWE PARK HOSPITAL","Childrens"]
["RBL14-Colorectal Unit","RBL","WIRRAL UNIVERSITY TEACHING HOSPITAL NHS FOUNDATION TRUST","RBL14","ARROWE PARK HOSPITAL","Colorectal Unit"]
["RBL14-Delivery suite","RBL","WIRRAL UNIVERSITY TEACHING HOSPITAL NHS FOUNDATION TRUST","RBL14","ARROWE PARK HOSPITAL","Delivery suite"]
["RBL14-EDRU","RBL","WIRRAL UNIVERSITY TEACHING HOSPITAL NHS FOUNDATION TRUST","RBL14","ARROWE PARK HOSPITAL","EDRU"]
["RBL14-ESAU","RBL","WIRRAL UNIVERSITY TEACHING HOSPITAL NHS FOUNDATION TRUST","RBL14","ARROWE PARK HOSPITAL","ESAU"]
["RBL14-HDU","RBL","WIRRAL UNIVERSITY TEACHING HOSPITAL NHS FOUNDATION TRUST","RBL14","ARROWE PARK HOSPITAL","HDU"]
["RBL14-ITU","RBL","WIRRAL UNIVERSITY TEACHING HOSPITAL NHS FOUNDATION TRUST","RBL14","ARROWE PARK HOSPITAL","ITU"]
["RBL14-MSSW","RBL","WIRRAL UNIVERSITY TEACHING HOSPITAL NHS FOUNDATION TRUST","RBL14","ARROWE PARK HOSPITAL","MSSW"]
["RBL14-Neonatal","RBL","WIRRAL UNIVERSITY TEACHING HOSPITAL NHS FOUNDATION TRUST","RBL14","ARROWE PARK HOSPITAL","Neonatal"]
["RBL14-OPAU","RBL","WIRRAL UNIVERSITY TEACHING HOSPITAL NHS FOUNDATION TRUST","RBL14","ARROWE PARK HOSPITAL","OPAU"]
["RBL14-SEU","RBL","WIRRAL UNIVERSITY TEACHING HOSPITAL NHS FOUNDATION TRUST","RBL14","ARROWE PARK HOSPITAL","SEU"]
["RBL14-WAFFU","RBL","WIRRAL UNIVERSITY TEACHING HOSPITAL NHS FOUNDATION TRUST","RBL14","ARROWE PARK HOSPITAL","WAFFU"]
["RBL20-CRC","RBL","WIRRAL UNIVERSITY TEACHING HOSPITAL NHS FOUNDATION TRUST","RBL20","CLATTERBRIDGE HOSPITAL","CRC"]
["RBL20-Dermataology","RBL","WIRRAL UNIVERSITY TEACHING HOSPITAL NHS FOUNDATION TRUST","RBL20","CLATTERBRIDGE HOSPITAL","Dermataology"]
["RBL20-M1 rehab M1 MO","RBL","WIRRAL UNIVERSITY TEACHING HOSPITAL NHS FOUNDATION TRUST","RBL20","CLATTERBRIDGE HOSPITAL","M1 rehab M1 MO"]
["RBL20-M2 Ortho","RBL","WIRRAL UNIVERSITY TEACHING HOSPITAL NHS FOUNDATION TRUST","RBL20","CLATTERBRIDGE HOSPITAL","M2 Ortho"]
["RBL20-M2 Surg","RBL","WIRRAL UNIVERSITY TEACHING HOSPITAL NHS FOUNDATION TRUST","RBL20","CLATTERBRIDGE HOSPITAL","M2 Surg"]
["RBN01-1A","RBN","ST HELENS AND KNOWSLEY TEACHING HOSPITALS NHS TRUST","RBN01","WHISTON HOSPITAL","1A"]
["RBN01-1B","RBN","ST HELENS AND KNOWSLEY TEACHING HOSPITALS NHS TRUST","RBN01","WHISTON HOSPITAL","1B"]
["RBN01-1C","RBN","ST HELENS AND KNOWSLEY TEACHING HOSPITALS NHS TRUST","RBN01","WHISTON HOSPITAL","1C"]
["RBN01-1D","RBN","ST HELENS AND KNOWSLEY TEACHING HOSPITALS NHS TRUST","RBN01","WHISTON HOSPITAL","1D"]
["RBN01-1E","RBN","ST HELENS AND KNOWSLEY TEACHING HOSPITALS NHS TRUST","RBN01","WHISTON HOSPITAL","1E"]
["RBN01-2A","RBN","ST HELENS AND KNOWSLEY TEACHING HOSPITALS NHS TRUST","RBN01","WHISTON HOSPITAL","2A"]
["RBN01-2B","RBN","ST HELENS AND KNOWSLEY TEACHING HOSPITALS NHS TRUST","RBN01","WHISTON HOSPITAL","2B"]
["RBN01-2C","RBN","ST HELENS AND KNOWSLEY TEACHING HOSPITALS NHS TRUST","RBN01","WHISTON HOSPITAL","2C"]
["RBN01-2D","RBN","ST HELENS AND KNOWSLEY TEACHING HOSPITALS NHS TRUST","RBN01","WHISTON HOSPITAL","2D"]
["RBN01-2E","RBN","ST HELENS AND KNOWSLEY TEACHING HOSPITALS NHS TRUST","RBN01","WHISTON HOSPITAL","2E"]
["RBN01-3A","RBN","ST HELENS AND KNOWSLEY TEACHING HOSPITALS NHS TRUST","RBN01","WHISTON HOSPITAL","3A"]
["RBN01-3Alpha","RBN","ST HELENS AND KNOWSLEY TEACHING HOSPITALS NHS TRUST","RBN01","WHISTON HOSPITAL","3Alpha"]
["RBN01-3B","RBN","ST HELENS AND KNOWSLEY TEACHING HOSPITALS NHS TRUST","RBN01","WHISTON HOSPITAL","3B"]
["RBN01-3C","RBN","ST HELENS AND KNOWSLEY TEACHING HOSPITALS NHS TRUST","RBN01","WHISTON HOSPITAL","3C"]
["RBN01-3D","RBN","ST HELENS AND KNOWSLEY TEACHING HOSPITALS NHS TRUST","RBN01","WHISTON HOSPITAL","3D"]
["RBN01-3E Gynae","RBN","ST HELENS AND KNOWSLEY TEACHING HOSPITALS NHS TRUST","RBN01","WHISTON HOSPITAL","3E Gynae"]
["RBN01-3E Ortho","RBN","ST HELENS AND KNOWSLEY TEACHING HOSPITALS NHS TRUST","RBN01","WHISTON HOSPITAL","3E Ortho"]
["RBN01-3F","RBN","ST HELENS AND KNOWSLEY TEACHING HOSPITALS NHS TRUST","RBN01","WHISTON HOSPITAL","3F"]
["RBN01-4A","RBN","ST HELENS AND KNOWSLEY TEACHING HOSPITALS NHS TRUST","RBN01","WHISTON HOSPITAL","4A"]
["RBN01-4B","RBN","ST HELENS AND KNOWSLEY TEACHING HOSPITALS NHS TRUST","RBN01","WHISTON HOSPITAL","4B"]
["RBN01-4C","RBN","ST HELENS AND KNOWSLEY TEACHING HOSPITALS NHS TRUST","RBN01","WHISTON HOSPITAL","4C"]
["RBN01-4D","RBN","ST HELENS AND KNOWSLEY TEACHING HOSPITALS NHS TRUST","RBN01","WHISTON HOSPITAL","4D"]
["RBN01-4E","RBN","ST HELENS AND KNOWSLEY TEACHING HOSPITALS NHS TRUST","RBN01","WHISTON HOSPITAL","4E"]
["RBN01-4F","RBN","ST HELENS AND KNOWSLEY TEACHING HOSPITALS NHS TRUST","RBN01","WHISTON HOSPITAL","4F"]
["RBN01-5A","RBN","ST HELENS AND KNOWSLEY TEACHING HOSPITALS NHS TRUST","RBN01","WHISTON HOSPITAL","5A"]
["RBN01-5B","RBN","ST HELENS AND KNOWSLEY TEACHING HOSPITALS NHS TRUST","RBN01","WHISTON HOSPITAL","5B"]
["RBN01-5C","RBN","ST HELENS AND KNOWSLEY TEACHING HOSPITALS NHS TRUST","RBN01","WHISTON HOSPITAL","5C"]
["RBN01-5D","RBN","ST HELENS AND KNOWSLEY TEACHING HOSPITALS NHS TRUST","RBN01","WHISTON HOSPITAL","5D"]
["RBN01-Delivery Suite","RBN","ST HELENS AND KNOWSLEY TEACHING HOSPITALS NHS TRUST","RBN01","WHISTON HOSPITAL","Delivery Suite"]
["RBN01-SCBU","RBN","ST HELENS AND KNOWSLEY TEACHING HOSPITALS NHS TRUST","RBN01","WHISTON HOSPITAL","SCBU"]
[{"$f":"CONCATENATE(D835,\"-\",F835)","v":"RBN02-Duffy Ward"},"RBN","ST HELENS AND KNOWSLEY TEACHING HOSPITALS NHS TRUST","RBN02","ST HELENS HOSPITAL","Duffy Ward"]
["RBN02-Seddon","RBN","ST HELENS AND KNOWSLEY TEACHING HOSPITALS NHS TRUST","RBN02","ST HELENS HOSPITAL","Seddon"]
["RBN03-Newton Ward","RBN","ST HELENS AND KNOWSLEY TEACHING HOSPITALS NHS TRUST","RBN03","NEWTON COMMUNITY HOSPITAL","Newton Ward"]
["RBQHQ-BIRCH","RBQ","LIVERPOOL HEART AND CHEST HOSPITAL NHS FOUNDATION TRUST","RBQHQ","LIVERPOOL HEART AND CHEST HOSPITAL NHS TRUST HQ","BIRCH"]
["RBQHQ-CCU","RBQ","LIVERPOOL HEART AND CHEST HOSPITAL NHS FOUNDATION TRUST","RBQHQ","LIVERPOOL HEART AND CHEST HOSPITAL NHS TRUST HQ","CCU"]
["RBQHQ-CEDAR","RBQ","LIVERPOOL HEART AND CHEST HOSPITAL NHS FOUNDATION TRUST","RBQHQ","LIVERPOOL HEART AND CHEST HOSPITAL NHS TRUST HQ","CEDAR"]
["RBQHQ-CHERRY","RBQ","LIVERPOOL HEART AND CHEST HOSPITAL NHS FOUNDATION TRUST","RBQHQ","LIVERPOOL HEART AND CHEST HOSPITAL NHS TRUST HQ","CHERRY"]
["RBQHQ-CRITICAL CARE","RBQ","LIVERPOOL HEART AND CHEST HOSPITAL NHS FOUNDATION TRUST","RBQHQ","LIVERPOOL HEART AND CHEST HOSPITAL NHS TRUST HQ","CRITICAL CARE"]
["RBQHQ-ELM","RBQ","LIVERPOOL HEART AND CHEST HOSPITAL NHS FOUNDATION TRUST","RBQHQ","LIVERPOOL HEART AND CHEST HOSPITAL NHS TRUST HQ","ELM"]
["RBQHQ-HDU","RBQ","LIVERPOOL HEART AND CHEST HOSPITAL NHS FOUNDATION TRUST","RBQHQ","LIVERPOOL HEART AND CHEST HOSPITAL NHS TRUST HQ","HDU"]
["RBQHQ-MAPLE","RBQ","LIVERPOOL HEART AND CHEST HOSPITAL NHS FOUNDATION TRUST","RBQHQ","LIVERPOOL HEART AND CHEST HOSPITAL NHS TRUST HQ","MAPLE"]
["RBQHQ-OAK","RBQ","LIVERPOOL HEART AND CHEST HOSPITAL NHS FOUNDATION TRUST","RBQHQ","LIVERPOOL HEART AND CHEST HOSPITAL NHS TRUST HQ","OAK"]
["RBS25-1B - Burns","RBS","ALDER HEY CHILDREN'S NHS FOUNDATION TRUST","RBS25","ALDER HEY CHILDREN'S NHS","1B - Burns"]
["RBS25-1B - HDU","RBS","ALDER HEY CHILDREN'S NHS FOUNDATION TRUST","RBS25","ALDER HEY CHILDREN'S NHS","1B - HDU"]
["RBS25-1B - ICU","RBS","ALDER HEY CHILDREN'S NHS FOUNDATION TRUST","RBS25","ALDER HEY CHILDREN'S NHS","1B - ICU"]
["RBS25-1C - Cardiac","RBS","ALDER HEY CHILDREN'S NHS FOUNDATION TRUST","RBS25","ALDER HEY CHILDREN'S NHS","1C - Cardiac"]
["RBS25-1C - Neonatology","RBS","ALDER HEY CHILDREN'S NHS FOUNDATION TRUST","RBS25","ALDER HEY CHILDREN'S NHS","1C - Neonatology"]
["RBS25-3A","RBS","ALDER HEY CHILDREN'S NHS FOUNDATION TRUST","RBS25","ALDER HEY CHILDREN'S NHS","3A"]
["RBS25-3B","RBS","ALDER HEY CHILDREN'S NHS FOUNDATION TRUST","RBS25","ALDER HEY CHILDREN'S NHS","3B"]
["RBS25-3C","RBS","ALDER HEY CHILDREN'S NHS FOUNDATION TRUST","RBS25","ALDER HEY CHILDREN'S NHS","3C"]
["RBS25-4A","RBS","ALDER HEY CHILDREN'S NHS FOUNDATION TRUST","RBS25","ALDER HEY CHILDREN'S NHS","4A"]
["RBS25-4B","RBS","ALDER HEY CHILDREN'S NHS FOUNDATION TRUST","RBS25","ALDER HEY CHILDREN'S NHS","4B"]
["RBS25-4C","RBS","ALDER HEY CHILDREN'S NHS FOUNDATION TRUST","RBS25","ALDER HEY CHILDREN'S NHS","4C"]
["RBS25-DJU","RBS","ALDER HEY CHILDREN'S NHS FOUNDATION TRUST","RBS25","ALDER HEY CHILDREN'S NHS","DJU"]
["RBT20-Acute Medical Unit","RBT","MID CHESHIRE HOSPITALS NHS FOUNDATION TRUST","RBT20","LEIGHTON HOSPITAL","Acute Medical Unit"]
["RBT20-Child & Adolescent Unit","RBT","MID CHESHIRE HOSPITALS NHS FOUNDATION TRUST","RBT20","LEIGHTON HOSPITAL","Child & Adolescent Unit"]
["RBT20-Critical Care","RBT","MID CHESHIRE HOSPITALS NHS FOUNDATION TRUST","RBT20","LEIGHTON HOSPITAL","Critical Care"]
["RBT20-Elmhurst","RBT","MID CHESHIRE HOSPITALS NHS FOUNDATION TRUST","RBT20","LEIGHTON HOSPITAL","Elmhurst"]
["RBT20-Midwifery Led Unit","RBT","MID CHESHIRE HOSPITALS NHS FOUNDATION TRUST","RBT20","LEIGHTON HOSPITAL","Midwifery Led Unit"]
["RBT20-NICU","RBT","MID CHESHIRE HOSPITALS NHS FOUNDATION TRUST","RBT20","LEIGHTON HOSPITAL","NICU"]
["RBT20-Ward 1 Coronary Care","RBT","MID CHESHIRE HOSPITALS NHS FOUNDATION TRUST","RBT20","LEIGHTON HOSPITAL","Ward 1 Coronary Care"]
["RBT20-Ward 10 Ortho Trauma","RBT","MID CHESHIRE HOSPITALS NHS FOUNDATION TRUST","RBT20","LEIGHTON HOSPITAL","Ward 10 Ortho Trauma"]
["RBT20-Ward 11 SAU","RBT","MID CHESHIRE HOSPITALS NHS FOUNDATION TRUST","RBT20","LEIGHTON HOSPITAL","Ward 11 SAU"]
["RBT20-Ward 13 Vascular & Colorectal","RBT","MID CHESHIRE HOSPITALS NHS FOUNDATION TRUST","RBT20","LEIGHTON HOSPITAL","Ward 13 Vascular & Colorectal"]
["RBT20-Ward 14 Gastroenterology","RBT","MID CHESHIRE HOSPITALS NHS FOUNDATION TRUST","RBT20","LEIGHTON HOSPITAL","Ward 14 Gastroenterology"]
["RBT20-Ward 15 Female Ward","RBT","MID CHESHIRE HOSPITALS NHS FOUNDATION TRUST","RBT20","LEIGHTON HOSPITAL","Ward 15 Female Ward"]
["RBT20-Ward 18 Surgical Speciality","RBT","MID CHESHIRE HOSPITALS NHS FOUNDATION TRUST","RBT20","LEIGHTON HOSPITAL","Ward 18 Surgical Speciality"]
["RBT20-Ward 19 Winter Ward","RBT","MID CHESHIRE HOSPITALS NHS FOUNDATION TRUST","RBT20","LEIGHTON HOSPITAL","Ward 19 Winter Ward"]
["RBT20-Ward 2 Short Stay","RBT","MID CHESHIRE HOSPITALS NHS FOUNDATION TRUST","RBT20","LEIGHTON HOSPITAL","Ward 2 Short Stay"]
["RBT20-Ward 21b Rehabilitation","RBT","MID CHESHIRE HOSPITALS NHS FOUNDATION TRUST","RBT20","LEIGHTON HOSPITAL","Ward 21b Rehabilitation"]
["RBT20-Ward 22 Neonatal","RBT","MID CHESHIRE HOSPITALS NHS FOUNDATION TRUST","RBT20","LEIGHTON HOSPITAL","Ward 22 Neonatal"]
["RBT20-Ward 23","RBT","MID CHESHIRE HOSPITALS NHS FOUNDATION TRUST","RBT20","LEIGHTON HOSPITAL","Ward 23"]
["RBT20-Ward 26 Labour","RBT","MID CHESHIRE HOSPITALS NHS FOUNDATION TRUST","RBT20","LEIGHTON HOSPITAL","Ward 26 Labour"]
["RBT20-Ward 26 MLU","RBT","MID CHESHIRE HOSPITALS NHS FOUNDATION TRUST","RBT20","LEIGHTON HOSPITAL","Ward 26 MLU"]
["RBT20-Ward 4 Elderly","RBT","MID CHESHIRE HOSPITALS NHS FOUNDATION TRUST","RBT20","LEIGHTON HOSPITAL","Ward 4 Elderly"]
["RBT20-Ward 5 Respiratory","RBT","MID CHESHIRE HOSPITALS NHS FOUNDATION TRUST","RBT20","LEIGHTON HOSPITAL","Ward 5 Respiratory"]
["RBT20-Ward 6 Rehab","RBT","MID CHESHIRE HOSPITALS NHS FOUNDATION TRUST","RBT20","LEIGHTON HOSPITAL","Ward 6 Rehab"]
["RBT20-Ward 7 Gastroenterology","RBT","MID CHESHIRE HOSPITALS NHS FOUNDATION TRUST","RBT20","LEIGHTON HOSPITAL","Ward 7 Gastroenterology"]
["RBT20-Ward 9 Ortho Elective","RBT","MID CHESHIRE HOSPITALS NHS FOUNDATION TRUST","RBT20","LEIGHTON HOSPITAL","Ward 9 Ortho Elective"]
["RBV01-Oncolocy Critical Care Unit","RBV","THE CHRISTIE NHS FOUNDATION TRUST","RBV01","THE CHRISTIE","Oncolocy Critical Care Unit"]
["RBV01-Oncology Assessment Unit","RBV","THE CHRISTIE NHS FOUNDATION TRUST","RBV01","THE CHRISTIE","Oncology Assessment Unit"]
["RBV01-Palatine Ward","RBV","THE CHRISTIE NHS FOUNDATION TRUST","RBV01","THE CHRISTIE","Palatine Ward"]
["RBV01-Ward 10","RBV","THE CHRISTIE NHS FOUNDATION TRUST","RBV01","THE CHRISTIE","Ward 10"]
["RBV01-Ward 11","RBV","THE CHRISTIE NHS FOUNDATION TRUST","RBV01","THE CHRISTIE","Ward 11"]
["RBV01-Ward 12","RBV","THE CHRISTIE NHS FOUNDATION TRUST","RBV01","THE CHRISTIE","Ward 12"]
["RBV01-Ward 4","RBV","THE CHRISTIE NHS FOUNDATION TRUST","RBV01","THE CHRISTIE","Ward 4"]
["RBZ12-Alexandra Ward","RBZ","NORTHERN DEVON HEALTHCARE NHS TRUST","RBZ12","NORTH DEVON DISTRICT HOSPITAL","Alexandra Ward"]
["RBZ12-Capener Ward","RBZ","NORTHERN DEVON HEALTHCARE NHS TRUST","RBZ12","NORTH DEVON DISTRICT HOSPITAL","Capener Ward"]
["RBZ12-Caroline Thorpe Ward","RBZ","NORTHERN DEVON HEALTHCARE NHS TRUST","RBZ12","NORTH DEVON DISTRICT HOSPITAL","Caroline Thorpe Ward"]
["RBZ12-Fortescue Ward","RBZ","NORTHERN DEVON HEALTHCARE NHS TRUST","RBZ12","NORTH DEVON DISTRICT HOSPITAL","Fortescue Ward"]
["RBZ12-Glossop Ward","RBZ","NORTHERN DEVON HEALTHCARE NHS TRUST","RBZ12","NORTH DEVON DISTRICT HOSPITAL","Glossop Ward"]
["RBZ12-ICU","RBZ","NORTHERN DEVON HEALTHCARE NHS TRUST","RBZ12","NORTH DEVON DISTRICT HOSPITAL","ICU"]
["RBZ12-King George V","RBZ","NORTHERN DEVON HEALTHCARE NHS TRUST","RBZ12","NORTH DEVON DISTRICT HOSPITAL","King George V"]
["RBZ12-Lundy Ward","RBZ","NORTHERN DEVON HEALTHCARE NHS TRUST","RBZ12","NORTH DEVON DISTRICT HOSPITAL","Lundy Ward"]
[{"$f":"CONCATENATE(D899,\"-\",F899)","v":"RBZ12-Maternity Services"},"RBZ","NORTHERN DEVON HEALTHCARE NHS TRUST","RBZ12","NORTH DEVON DISTRICT HOSPITAL","Maternity Services"]
["RBZ12-MAU","RBZ","NORTHERN DEVON HEALTHCARE NHS TRUST","RBZ12","NORTH DEVON DISTRICT HOSPITAL","MAU"]
["RBZ12-SCBU","RBZ","NORTHERN DEVON HEALTHCARE NHS TRUST","RBZ12","NORTH DEVON DISTRICT HOSPITAL","SCBU"]
["RBZ12-Staples Stroke Unit","RBZ","NORTHERN DEVON HEALTHCARE NHS TRUST","RBZ12","NORTH DEVON DISTRICT HOSPITAL","Staples Stroke Unit"]
["RBZ12-Tarka Ward","RBZ","NORTHERN DEVON HEALTHCARE NHS TRUST","RBZ12","NORTH DEVON DISTRICT HOSPITAL","Tarka Ward"]
["RBZ12-Victoria Ward","RBZ","NORTHERN DEVON HEALTHCARE NHS TRUST","RBZ12","NORTH DEVON DISTRICT HOSPITAL","Victoria Ward"]
["RBZ99-South Molton Ward","RBZ","NORTHERN DEVON HEALTHCARE NHS TRUST","RBZ99","SOUTH MOLTON HOSPITAL","South Molton Ward"]
["RC110-Arnold Whitchurch","RC1","BEDFORD HOSPITAL NHS TRUST","RC110","BEDFORD HOSPITAL SOUTH WING","Arnold Whitchurch"]
["RC110-Coronary Care Unit","RC1","BEDFORD HOSPITAL NHS TRUST","RC110","BEDFORD HOSPITAL SOUTH WING","Coronary Care Unit"]
["RC110-Critical Care Complex","RC1","BEDFORD HOSPITAL NHS TRUST","RC110","BEDFORD HOSPITAL SOUTH WING","Critical Care Complex"]
["RC110-Elizabeth","RC1","BEDFORD HOSPITAL NHS TRUST","RC110","BEDFORD HOSPITAL SOUTH WING","Elizabeth"]
["RC110-Godber","RC1","BEDFORD HOSPITAL NHS TRUST","RC110","BEDFORD HOSPITAL SOUTH WING","Godber"]
["RC110-Harpur","RC1","BEDFORD HOSPITAL NHS TRUST","RC110","BEDFORD HOSPITAL SOUTH WING","Harpur"]
["RC110-Howard Surgical","RC1","BEDFORD HOSPITAL NHS TRUST","RC110","BEDFORD HOSPITAL SOUTH WING","Howard Surgical"]
["RC110-Meadow bank","RC1","BEDFORD HOSPITAL NHS TRUST","RC110","BEDFORD HOSPITAL SOUTH WING","Meadow bank"]
["RC110-Orchard Gynae","RC1","BEDFORD HOSPITAL NHS TRUST","RC110","BEDFORD HOSPITAL SOUTH WING","Orchard Gynae"]
["RC110-Orchard Maternity/Delivery","RC1","BEDFORD HOSPITAL NHS TRUST","RC110","BEDFORD HOSPITAL SOUTH WING","Orchard Maternity/Delivery"]
["RC110-Pilgrim","RC1","BEDFORD HOSPITAL NHS TRUST","RC110","BEDFORD HOSPITAL SOUTH WING","Pilgrim"]
["RC110-Reginald Hart","RC1","BEDFORD HOSPITAL NHS TRUST","RC110","BEDFORD HOSPITAL SOUTH WING","Reginald Hart"]
["RC110-Richard Wells","RC1","BEDFORD HOSPITAL NHS TRUST","RC110","BEDFORD HOSPITAL SOUTH WING","Richard Wells"]
["RC110-Riverbank","RC1","BEDFORD HOSPITAL NHS TRUST","RC110","BEDFORD HOSPITAL SOUTH WING","Riverbank"]
["RC110-Russell","RC1","BEDFORD HOSPITAL NHS TRUST","RC110","BEDFORD HOSPITAL SOUTH WING","Russell"]
["RC110-Shand","RC1","BEDFORD HOSPITAL NHS TRUST","RC110","BEDFORD HOSPITAL SOUTH WING","Shand"]
["RC110-Shuttleworth Medical","RC1","BEDFORD HOSPITAL NHS TRUST","RC110","BEDFORD HOSPITAL SOUTH WING","Shuttleworth Medical"]
["RC110-Whitbread Medical","RC1","BEDFORD HOSPITAL NHS TRUST","RC110","BEDFORD HOSPITAL SOUTH WING","Whitbread Medical"]
["RC971-CCU (Ward 6)","RC9","LUTON AND DUNSTABLE UNIVERSITY HOSPITAL NHS FOUNDATION TRUST","RC971","LUTON AND DUNSTABLE HOSPITAL","CCU (Ward 6)"]
["RC971-Cobham Clinic","RC9","LUTON AND DUNSTABLE UNIVERSITY HOSPITAL NHS FOUNDATION TRUST","RC971","LUTON AND DUNSTABLE HOSPITAL","Cobham Clinic"]
["RC971-EAU (Ward 1)","RC9","LUTON AND DUNSTABLE UNIVERSITY HOSPITAL NHS FOUNDATION TRUST","RC971","LUTON AND DUNSTABLE HOSPITAL","EAU (Ward 1)"]
["RC971-EAU 2 (Ward 4)","RC9","LUTON AND DUNSTABLE UNIVERSITY HOSPITAL NHS FOUNDATION TRUST","RC971","LUTON AND DUNSTABLE HOSPITAL","EAU 2 (Ward 4)"]
["RC971-Female MSS (Ward 3)","RC9","LUTON AND DUNSTABLE UNIVERSITY HOSPITAL NHS FOUNDATION TRUST","RC971","LUTON AND DUNSTABLE HOSPITAL","Female MSS (Ward 3)"]
["RC971-Haem Onc Unit","RC9","LUTON AND DUNSTABLE UNIVERSITY HOSPITAL NHS FOUNDATION TRUST","RC971","LUTON AND DUNSTABLE HOSPITAL","Haem Onc Unit"]
["RC971-HDU","RC9","LUTON AND DUNSTABLE UNIVERSITY HOSPITAL NHS FOUNDATION TRUST","RC971","LUTON AND DUNSTABLE HOSPITAL","HDU"]
["RC971-ITU","RC9","LUTON AND DUNSTABLE UNIVERSITY HOSPITAL NHS FOUNDATION TRUST","RC971","LUTON AND DUNSTABLE HOSPITAL","ITU"]
["RC971-Respiratory Ward (Ward 10)","RC9","LUTON AND DUNSTABLE UNIVERSITY HOSPITAL NHS FOUNDATION TRUST","RC971","LUTON AND DUNSTABLE HOSPITAL","Respiratory Ward (Ward 10)"]
["RC971-SCBU/ NICU","RC9","LUTON AND DUNSTABLE UNIVERSITY HOSPITAL NHS FOUNDATION TRUST","RC971","LUTON AND DUNSTABLE HOSPITAL","SCBU/ NICU"]
["RC971-Ward 11","RC9","LUTON AND DUNSTABLE UNIVERSITY HOSPITAL NHS FOUNDATION TRUST","RC971","LUTON AND DUNSTABLE HOSPITAL","Ward 11"]
["RC971-Ward 12","RC9","LUTON AND DUNSTABLE UNIVERSITY HOSPITAL NHS FOUNDATION TRUST","RC971","LUTON AND DUNSTABLE HOSPITAL","Ward 12"]
["RC971-Ward 14","RC9","LUTON AND DUNSTABLE UNIVERSITY HOSPITAL NHS FOUNDATION TRUST","RC971","LUTON AND DUNSTABLE HOSPITAL","Ward 14"]
["RC971-Ward 15","RC9","LUTON AND DUNSTABLE UNIVERSITY HOSPITAL NHS FOUNDATION TRUST","RC971","LUTON AND DUNSTABLE HOSPITAL","Ward 15"]
["RC971-Ward 16","RC9","LUTON AND DUNSTABLE UNIVERSITY HOSPITAL NHS FOUNDATION TRUST","RC971","LUTON AND DUNSTABLE HOSPITAL","Ward 16"]
["RC971-Ward 17","RC9","LUTON AND DUNSTABLE UNIVERSITY HOSPITAL NHS FOUNDATION TRUST","RC971","LUTON AND DUNSTABLE HOSPITAL","Ward 17"]
["RC971-Ward 18","RC9","LUTON AND DUNSTABLE UNIVERSITY HOSPITAL NHS FOUNDATION TRUST","RC971","LUTON AND DUNSTABLE HOSPITAL","Ward 18"]
["RC971-Ward 19a","RC9","LUTON AND DUNSTABLE UNIVERSITY HOSPITAL NHS FOUNDATION TRUST","RC971","LUTON AND DUNSTABLE HOSPITAL","Ward 19a"]
["RC971-Ward 19b Rehab","RC9","LUTON AND DUNSTABLE UNIVERSITY HOSPITAL NHS FOUNDATION TRUST","RC971","LUTON AND DUNSTABLE HOSPITAL","Ward 19b Rehab"]
["RC971-Ward 20","RC9","LUTON AND DUNSTABLE UNIVERSITY HOSPITAL NHS FOUNDATION TRUST","RC971","LUTON AND DUNSTABLE HOSPITAL","Ward 20"]
["RC971-Ward 21","RC9","LUTON AND DUNSTABLE UNIVERSITY HOSPITAL NHS FOUNDATION TRUST","RC971","LUTON AND DUNSTABLE HOSPITAL","Ward 21"]
["RC971-Ward 22","RC9","LUTON AND DUNSTABLE UNIVERSITY HOSPITAL NHS FOUNDATION TRUST","RC971","LUTON AND DUNSTABLE HOSPITAL","Ward 22"]
["RC971-Ward 23","RC9","LUTON AND DUNSTABLE UNIVERSITY HOSPITAL NHS FOUNDATION TRUST","RC971","LUTON AND DUNSTABLE HOSPITAL","Ward 23"]
["RC971-Ward 24","RC9","LUTON AND DUNSTABLE UNIVERSITY HOSPITAL NHS FOUNDATION TRUST","RC971","LUTON AND DUNSTABLE HOSPITAL","Ward 24"]
["RC971-Ward 25","RC9","LUTON AND DUNSTABLE UNIVERSITY HOSPITAL NHS FOUNDATION TRUST","RC971","LUTON AND DUNSTABLE HOSPITAL","Ward 25"]
["RC971-Ward 32 (Mat 1st Floor)","RC9","LUTON AND DUNSTABLE UNIVERSITY HOSPITAL NHS FOUNDATION TRUST","RC971","LUTON AND DUNSTABLE HOSPITAL","Ward 32 (Mat 1st Floor)"]
["RC971-Ward 33 (Mat 2nd Floor)","RC9","LUTON AND DUNSTABLE UNIVERSITY HOSPITAL NHS FOUNDATION TRUST","RC971","LUTON AND DUNSTABLE HOSPITAL","Ward 33 (Mat 2nd Floor)"]
["RC971-Ward 34 (Gynae 3rd Floor)","RC9","LUTON AND DUNSTABLE UNIVERSITY HOSPITAL NHS FOUNDATION TRUST","RC971","LUTON AND DUNSTABLE HOSPITAL","Ward 34 (Gynae 3rd Floor)"]
["RCB05-St Monicas","RCB","YORK TEACHING HOSPITAL NHS FOUNDATION TRUST","RCB05","ST MONICAS HOSPITAL","St Monicas"]
["RCB07-Inpatient Unit","RCB","YORK TEACHING HOSPITAL NHS FOUNDATION TRUST","RCB07","SELBY AND DISTRICT WAR MEMORIAL HOSPITAL","Inpatient Unit"]
["RCB55-11","RCB","YORK TEACHING HOSPITAL NHS FOUNDATION TRUST","RCB55","YORK HOSPITAL","11"]
["RCB55-14","RCB","YORK TEACHING HOSPITAL NHS FOUNDATION TRUST","RCB55","YORK HOSPITAL","14"]
["RCB55-16","RCB","YORK TEACHING HOSPITAL NHS FOUNDATION TRUST","RCB55","YORK HOSPITAL","16"]
["RCB55-17","RCB","YORK TEACHING HOSPITAL NHS FOUNDATION TRUST","RCB55","YORK HOSPITAL","17"]
["RCB55-23","RCB","YORK TEACHING HOSPITAL NHS FOUNDATION TRUST","RCB55","YORK HOSPITAL","23"]
["RCB55-25","RCB","YORK TEACHING HOSPITAL NHS FOUNDATION TRUST","RCB55","YORK HOSPITAL","25"]
["RCB55-26","RCB","YORK TEACHING HOSPITAL NHS FOUNDATION TRUST","RCB55","YORK HOSPITAL","26"]
["RCB55-28","RCB","YORK TEACHING HOSPITAL NHS FOUNDATION TRUST","RCB55","YORK HOSPITAL","28"]
["RCB55-29","RCB","YORK TEACHING HOSPITAL NHS FOUNDATION TRUST","RCB55","YORK HOSPITAL","29"]
[{"$f":"CONCATENATE(D963,\"-\",F963)","v":"RCB55-31"},"RCB","YORK TEACHING HOSPITAL NHS FOUNDATION TRUST","RCB55","YORK HOSPITAL","31"]
["RCB55-32","RCB","YORK TEACHING HOSPITAL NHS FOUNDATION TRUST","RCB55","YORK HOSPITAL","32"]
["RCB55-33","RCB","YORK TEACHING HOSPITAL NHS FOUNDATION TRUST","RCB55","YORK HOSPITAL","33"]
["RCB55-34","RCB","YORK TEACHING HOSPITAL NHS FOUNDATION TRUST","RCB55","YORK HOSPITAL","34"]
["RCB55-35","RCB","YORK TEACHING HOSPITAL NHS FOUNDATION TRUST","RCB55","YORK HOSPITAL","35"]
["RCB55-37","RCB","YORK TEACHING HOSPITAL NHS FOUNDATION TRUST","RCB55","YORK HOSPITAL","37"]
["RCB55-39","RCB","YORK TEACHING HOSPITAL NHS FOUNDATION TRUST","RCB55","YORK HOSPITAL","39"]
["RCB55-36 - Acute Stroke Unit","RCB","YORK TEACHING HOSPITAL NHS FOUNDATION TRUST","RCB55","YORK HOSPITAL","36 - Acute Stroke Unit"]
["RCB55-Acute Medical Unit","RCB","YORK TEACHING HOSPITAL NHS FOUNDATION TRUST","RCB55","YORK HOSPITAL","Acute Medical Unit"]
["RCB55-Coronary Care Unit","RCB","YORK TEACHING HOSPITAL NHS FOUNDATION TRUST","RCB55","YORK HOSPITAL","Coronary Care Unit"]
["RCB55-Extended Stay Area","RCB","YORK TEACHING HOSPITAL NHS FOUNDATION TRUST","RCB55","YORK HOSPITAL","Extended Stay Area"]
["RCB55-Frailty Unit","RCB","YORK TEACHING HOSPITAL NHS FOUNDATION TRUST","RCB55","YORK HOSPITAL","Frailty Unit"]
["RCB55-G1","RCB","YORK TEACHING HOSPITAL NHS FOUNDATION TRUST","RCB55","YORK HOSPITAL","G1"]
["RCB55-G2","RCB","YORK TEACHING HOSPITAL NHS FOUNDATION TRUST","RCB55","YORK HOSPITAL","G2"]
["RCB55-G3","RCB","YORK TEACHING HOSPITAL NHS FOUNDATION TRUST","RCB55","YORK HOSPITAL","G3"]
["RCB55-Intensive Care Unit","RCB","YORK TEACHING HOSPITAL NHS FOUNDATION TRUST","RCB55","YORK HOSPITAL","Intensive Care Unit"]
["RCBCA-Ann Wright","RCB","YORK TEACHING HOSPITAL NHS FOUNDATION TRUST","RCBCA","SCARBOROUGH GENERAL HOSPITAL","Ann Wright"]
["RCBCA-Ash","RCB","YORK TEACHING HOSPITAL NHS FOUNDATION TRUST","RCBCA","SCARBOROUGH GENERAL HOSPITAL","Ash"]
["RCBCA-Beech","RCB","YORK TEACHING HOSPITAL NHS FOUNDATION TRUST","RCBCA","SCARBOROUGH GENERAL HOSPITAL","Beech"]
["RCBCA-Cherry","RCB","YORK TEACHING HOSPITAL NHS FOUNDATION TRUST","RCBCA","SCARBOROUGH GENERAL HOSPITAL","Cherry"]
["RCBCA-Chestnut","RCB","YORK TEACHING HOSPITAL NHS FOUNDATION TRUST","RCBCA","SCARBOROUGH GENERAL HOSPITAL","Chestnut"]
["RCBCA-Coronary Care Unit","RCB","YORK TEACHING HOSPITAL NHS FOUNDATION TRUST","RCBCA","SCARBOROUGH GENERAL HOSPITAL","Coronary Care Unit"]
["RCBCA-Duke of Kent","RCB","YORK TEACHING HOSPITAL NHS FOUNDATION TRUST","RCBCA","SCARBOROUGH GENERAL HOSPITAL","Duke of Kent"]
["RCBCA-Graham","RCB","YORK TEACHING HOSPITAL NHS FOUNDATION TRUST","RCBCA","SCARBOROUGH GENERAL HOSPITAL","Graham"]
["RCBCA-Hawthorn","RCB","YORK TEACHING HOSPITAL NHS FOUNDATION TRUST","RCBCA","SCARBOROUGH GENERAL HOSPITAL","Hawthorn"]
["RCBCA-Holly","RCB","YORK TEACHING HOSPITAL NHS FOUNDATION TRUST","RCBCA","SCARBOROUGH GENERAL HOSPITAL","Holly"]
["RCBCA-Intensive Therapy Unit","RCB","YORK TEACHING HOSPITAL NHS FOUNDATION TRUST","RCBCA","SCARBOROUGH GENERAL HOSPITAL","Intensive Therapy Unit"]
["RCBCA-Lilac","RCB","YORK TEACHING HOSPITAL NHS FOUNDATION TRUST","RCBCA","SCARBOROUGH GENERAL HOSPITAL","Lilac"]
["RCBCA-Maple","RCB","YORK TEACHING HOSPITAL NHS FOUNDATION TRUST","RCBCA","SCARBOROUGH GENERAL HOSPITAL","Maple"]
["RCBCA-Oak","RCB","YORK TEACHING HOSPITAL NHS FOUNDATION TRUST","RCBCA","SCARBOROUGH GENERAL HOSPITAL","Oak"]
["RCBCA-Stroke","RCB","YORK TEACHING HOSPITAL NHS FOUNDATION TRUST","RCBCA","SCARBOROUGH GENERAL HOSPITAL","Stroke"]
["RCBNH-Johnson","RCB","YORK TEACHING HOSPITAL NHS FOUNDATION TRUST","RCBNH","BRIDLINGTON AND DISTRICT HOSPITAL","Johnson"]
["RCBNH-Kent","RCB","YORK TEACHING HOSPITAL NHS FOUNDATION TRUST","RCBNH","BRIDLINGTON AND DISTRICT HOSPITAL","Kent"]
["RCBNH-Lloyd","RCB","YORK TEACHING HOSPITAL NHS FOUNDATION TRUST","RCBNH","BRIDLINGTON AND DISTRICT HOSPITAL","Lloyd"]
["RCBP9-Whitecross Court","RCB","YORK TEACHING HOSPITAL NHS FOUNDATION TRUST","RCBP9","WHITE CROSS REHABILITATION HOSPITAL","Whitecross Court"]
["RCBTV-St Helens","RCB","YORK TEACHING HOSPITAL NHS FOUNDATION TRUST","RCBTV","ST HELENS REHABILITATION HOSPITAL","St Helens"]
["RCD01-Byland","RCD","HARROGATE AND DISTRICT NHS FOUNDATION TRUST","RCD01","HARROGATE DISTRICT HOSPITAL","Byland"]
["RCD01-Farndale","RCD","HARROGATE AND DISTRICT NHS FOUNDATION TRUST","RCD01","HARROGATE DISTRICT HOSPITAL","Farndale"]
["RCD01-Granby","RCD","HARROGATE AND DISTRICT NHS FOUNDATION TRUST","RCD01","HARROGATE DISTRICT HOSPITAL","Granby"]
["RCD01-Harlow","RCD","HARROGATE AND DISTRICT NHS FOUNDATION TRUST","RCD01","HARROGATE DISTRICT HOSPITAL","Harlow"]
["RCD01-ITU/HDU","RCD","HARROGATE AND DISTRICT NHS FOUNDATION TRUST","RCD01","HARROGATE DISTRICT HOSPITAL","ITU/HDU"]
["RCD01-Jervaulx","RCD","HARROGATE AND DISTRICT NHS FOUNDATION TRUST","RCD01","HARROGATE DISTRICT HOSPITAL","Jervaulx"]
["RCD01-Littondale","RCD","HARROGATE AND DISTRICT NHS FOUNDATION TRUST","RCD01","HARROGATE DISTRICT HOSPITAL","Littondale"]
["RCD01-Maternity Total","RCD","HARROGATE AND DISTRICT NHS FOUNDATION TRUST","RCD01","HARROGATE DISTRICT HOSPITAL","Maternity Total"]
["RCD01-Medical Assessment Unit","RCD","HARROGATE AND DISTRICT NHS FOUNDATION TRUST","RCD01","HARROGATE DISTRICT HOSPITAL","Medical Assessment Unit"]
["RCD01-Medical Short Stay","RCD","HARROGATE AND DISTRICT NHS FOUNDATION TRUST","RCD01","HARROGATE DISTRICT HOSPITAL","Medical Short Stay"]
["RCD01-Nidderdale","RCD","HARROGATE AND DISTRICT NHS FOUNDATION TRUST","RCD01","HARROGATE DISTRICT HOSPITAL","Nidderdale"]
["RCD01-Oakdale","RCD","HARROGATE AND DISTRICT NHS FOUNDATION TRUST","RCD01","HARROGATE DISTRICT HOSPITAL","Oakdale"]
["RCD01-Special Care Baby Unit","RCD","HARROGATE AND DISTRICT NHS FOUNDATION TRUST","RCD01","HARROGATE DISTRICT HOSPITAL","Special Care Baby Unit"]
["RCD01-Wensleydale","RCD","HARROGATE AND DISTRICT NHS FOUNDATION TRUST","RCD01","HARROGATE DISTRICT HOSPITAL","Wensleydale"]
["RCD01-Woodlands","RCD","HARROGATE AND DISTRICT NHS FOUNDATION TRUST","RCD01","HARROGATE DISTRICT HOSPITAL","Woodlands"]
["RCD02-Trinity","RCD","HARROGATE AND DISTRICT NHS FOUNDATION TRUST","RCD02","RIPON AND DISTRICT COMMUNITY HOSPITAL","Trinity"]
["RCD08-Lascelles","RCD","HARROGATE AND DISTRICT NHS FOUNDATION TRUST","RCD08","LASCELLES YOUNGER DISABLED UNIT","Lascelles"]
["RCF22-Acute Assessment Unit","RCF","AIREDALE NHS FOUNDATION TRUST","RCF22","AIREDALE GENERAL HOSPITAL","Acute Assessment Unit"]
["RCF22-Labour Suite","RCF","AIREDALE NHS FOUNDATION TRUST","RCF22","AIREDALE GENERAL HOSPITAL","Labour Suite"]
["RCF22-Neonatal Unit","RCF","AIREDALE NHS FOUNDATION TRUST","RCF22","AIREDALE GENERAL HOSPITAL","Neonatal Unit"]
["RCF22-Ward 01","RCF","AIREDALE NHS FOUNDATION TRUST","RCF22","AIREDALE GENERAL HOSPITAL","Ward 01"]
["RCF22-Ward 02","RCF","AIREDALE NHS FOUNDATION TRUST","RCF22","AIREDALE GENERAL HOSPITAL","Ward 02"]
["RCF22-Ward 04","RCF","AIREDALE NHS FOUNDATION TRUST","RCF22","AIREDALE GENERAL HOSPITAL","Ward 04"]
["RCF22-Ward 05","RCF","AIREDALE NHS FOUNDATION TRUST","RCF22","AIREDALE GENERAL HOSPITAL","Ward 05"]
["RCF22-Ward 06","RCF","AIREDALE NHS FOUNDATION TRUST","RCF22","AIREDALE GENERAL HOSPITAL","Ward 06"]
["RCF22-Ward 07","RCF","AIREDALE NHS FOUNDATION TRUST","RCF22","AIREDALE GENERAL HOSPITAL","Ward 07"]
["RCF22-Ward 09","RCF","AIREDALE NHS FOUNDATION TRUST","RCF22","AIREDALE GENERAL HOSPITAL","Ward 09"]
["RCF22-Ward 10","RCF","AIREDALE NHS FOUNDATION TRUST","RCF22","AIREDALE GENERAL HOSPITAL","Ward 10"]
[{"$f":"CONCATENATE(D1027,\"-\",F1027)","v":"RCF22-Ward 13"},"RCF","AIREDALE NHS FOUNDATION TRUST","RCF22","AIREDALE GENERAL HOSPITAL","Ward 13"]
["RCF22-Ward 14","RCF","AIREDALE NHS FOUNDATION TRUST","RCF22","AIREDALE GENERAL HOSPITAL","Ward 14"]
["RCF22-Ward 15","RCF","AIREDALE NHS FOUNDATION TRUST","RCF22","AIREDALE GENERAL HOSPITAL","Ward 15"]
["RCF22-Ward 16","RCF","AIREDALE NHS FOUNDATION TRUST","RCF22","AIREDALE GENERAL HOSPITAL","Ward 16"]
["RCF22-Ward 17","RCF","AIREDALE NHS FOUNDATION TRUST","RCF22","AIREDALE GENERAL HOSPITAL","Ward 17"]
["RCF22-Ward 18","RCF","AIREDALE NHS FOUNDATION TRUST","RCF22","AIREDALE GENERAL HOSPITAL","Ward 18"]
["RCF22-Ward 19","RCF","AIREDALE NHS FOUNDATION TRUST","RCF22","AIREDALE GENERAL HOSPITAL","Ward 19"]
["RCF22-Ward 21","RCF","AIREDALE NHS FOUNDATION TRUST","RCF22","AIREDALE GENERAL HOSPITAL","Ward 21"]
["RCF30-Harden Ward","RCF","AIREDALE NHS FOUNDATION TRUST","RCF30","CASTLEBERG HOSPITAL","Harden Ward"]
["RCUEF-Emerald","RCU","SHEFFIELD CHILDREN'S NHS FOUNDATION TRUST","RCUEF","SHEFFIELD CHILDREN'S HOSPITAL","Emerald"]
["RCUEF-NSU","RCU","SHEFFIELD CHILDREN'S NHS FOUNDATION TRUST","RCUEF","SHEFFIELD CHILDREN'S HOSPITAL","NSU"]
["RCUEF-PCCU","RCU","SHEFFIELD CHILDREN'S NHS FOUNDATION TRUST","RCUEF","SHEFFIELD CHILDREN'S HOSPITAL","PCCU"]
["RCUEF-Ruby","RCU","SHEFFIELD CHILDREN'S NHS FOUNDATION TRUST","RCUEF","SHEFFIELD CHILDREN'S HOSPITAL","Ruby"]
["RCUEF-Ryegate House","RCU","SHEFFIELD CHILDREN'S NHS FOUNDATION TRUST","RCUEF","SHEFFIELD CHILDREN'S HOSPITAL","Ryegate House"]
["RCUEF-Sapphire","RCU","SHEFFIELD CHILDREN'S NHS FOUNDATION TRUST","RCUEF","SHEFFIELD CHILDREN'S HOSPITAL","Sapphire"]
["RCUEF-Ward 1","RCU","SHEFFIELD CHILDREN'S NHS FOUNDATION TRUST","RCUEF","SHEFFIELD CHILDREN'S HOSPITAL","Ward 1"]
["RCUEF-Ward 2","RCU","SHEFFIELD CHILDREN'S NHS FOUNDATION TRUST","RCUEF","SHEFFIELD CHILDREN'S HOSPITAL","Ward 2"]
["RCUEF-Ward 3","RCU","SHEFFIELD CHILDREN'S NHS FOUNDATION TRUST","RCUEF","SHEFFIELD CHILDREN'S HOSPITAL","Ward 3"]
["RCUEF-Ward 4","RCU","SHEFFIELD CHILDREN'S NHS FOUNDATION TRUST","RCUEF","SHEFFIELD CHILDREN'S HOSPITAL","Ward 4"]
["RCUEF-Ward 5","RCU","SHEFFIELD CHILDREN'S NHS FOUNDATION TRUST","RCUEF","SHEFFIELD CHILDREN'S HOSPITAL","Ward 5"]
["RCUEF-Ward 6","RCU","SHEFFIELD CHILDREN'S NHS FOUNDATION TRUST","RCUEF","SHEFFIELD CHILDREN'S HOSPITAL","Ward 6"]
["RCX70-Acute Medical Unit","RCX","THE QUEEN ELIZABETH HOSPITAL, KING'S LYNN, NHS FOUNDATION TRUST","RCX70","THE QUEEN ELIZABETH HOSPITAL","Acute Medical Unit"]
["RCX70-Assessment Zone","RCX","THE QUEEN ELIZABETH HOSPITAL, KING'S LYNN, NHS FOUNDATION TRUST","RCX70","THE QUEEN ELIZABETH HOSPITAL","Assessment Zone"]
["RCX70-Castleacre","RCX","THE QUEEN ELIZABETH HOSPITAL, KING'S LYNN, NHS FOUNDATION TRUST","RCX70","THE QUEEN ELIZABETH HOSPITAL","Castleacre"]
["RCX70-Central Delivery suite","RCX","THE QUEEN ELIZABETH HOSPITAL, KING'S LYNN, NHS FOUNDATION TRUST","RCX70","THE QUEEN ELIZABETH HOSPITAL","Central Delivery suite"]
["RCX70-Critical Care","RCX","THE QUEEN ELIZABETH HOSPITAL, KING'S LYNN, NHS FOUNDATION TRUST","RCX70","THE QUEEN ELIZABETH HOSPITAL","Critical Care"]
["RCX70-Denver","RCX","THE QUEEN ELIZABETH HOSPITAL, KING'S LYNN, NHS FOUNDATION TRUST","RCX70","THE QUEEN ELIZABETH HOSPITAL","Denver"]
["RCX70-ED Obs Ward","RCX","THE QUEEN ELIZABETH HOSPITAL, KING'S LYNN, NHS FOUNDATION TRUST","RCX70","THE QUEEN ELIZABETH HOSPITAL","ED Obs Ward"]
["RCX70-Elm","RCX","THE QUEEN ELIZABETH HOSPITAL, KING'S LYNN, NHS FOUNDATION TRUST","RCX70","THE QUEEN ELIZABETH HOSPITAL","Elm"]
["RCX70-Gayton","RCX","THE QUEEN ELIZABETH HOSPITAL, KING'S LYNN, NHS FOUNDATION TRUST","RCX70","THE QUEEN ELIZABETH HOSPITAL","Gayton"]
["RCX70-Marham","RCX","THE QUEEN ELIZABETH HOSPITAL, KING'S LYNN, NHS FOUNDATION TRUST","RCX70","THE QUEEN ELIZABETH HOSPITAL","Marham"]
["RCX70-Necton","RCX","THE QUEEN ELIZABETH HOSPITAL, KING'S LYNN, NHS FOUNDATION TRUST","RCX70","THE QUEEN ELIZABETH HOSPITAL","Necton"]
["RCX70-NICU","RCX","THE QUEEN ELIZABETH HOSPITAL, KING'S LYNN, NHS FOUNDATION TRUST","RCX70","THE QUEEN ELIZABETH HOSPITAL","NICU"]
["RCX70-Oxborough","RCX","THE QUEEN ELIZABETH HOSPITAL, KING'S LYNN, NHS FOUNDATION TRUST","RCX70","THE QUEEN ELIZABETH HOSPITAL","Oxborough"]
["RCX70-Rudham","RCX","THE QUEEN ELIZABETH HOSPITAL, KING'S LYNN, NHS FOUNDATION TRUST","RCX70","THE QUEEN ELIZABETH HOSPITAL","Rudham"]
["RCX70-Shouldham","RCX","THE QUEEN ELIZABETH HOSPITAL, KING'S LYNN, NHS FOUNDATION TRUST","RCX70","THE QUEEN ELIZABETH HOSPITAL","Shouldham"]
["RCX70-Stanhoe","RCX","THE QUEEN ELIZABETH HOSPITAL, KING'S LYNN, NHS FOUNDATION TRUST","RCX70","THE QUEEN ELIZABETH HOSPITAL","Stanhoe"]
["RCX70-Surgical Assessment Unit","RCX","THE QUEEN ELIZABETH HOSPITAL, KING'S LYNN, NHS FOUNDATION TRUST","RCX70","THE QUEEN ELIZABETH HOSPITAL","Surgical Assessment Unit"]
["RCX70-Tilney","RCX","THE QUEEN ELIZABETH HOSPITAL, KING'S LYNN, NHS FOUNDATION TRUST","RCX70","THE QUEEN ELIZABETH HOSPITAL","Tilney"]
["RCX70-West Newton","RCX","THE QUEEN ELIZABETH HOSPITAL, KING'S LYNN, NHS FOUNDATION TRUST","RCX70","THE QUEEN ELIZABETH HOSPITAL","West Newton"]
["RCX70-West Raynham","RCX","THE QUEEN ELIZABETH HOSPITAL, KING'S LYNN, NHS FOUNDATION TRUST","RCX70","THE QUEEN ELIZABETH HOSPITAL","West Raynham"]
["RCX70-Windsor","RCX","THE QUEEN ELIZABETH HOSPITAL, KING'S LYNN, NHS FOUNDATION TRUST","RCX70","THE QUEEN ELIZABETH HOSPITAL","Windsor"]
["RD102-Chippenham  Birthing Centre","RD1","ROYAL UNITED HOSPITALS BATH NHS FOUNDATION TRUST","RD102","CHIPPENHAM HOSPITAL","Chippenham  Birthing Centre"]
["RD108-Trowbridge birthing centre","RD1","ROYAL UNITED HOSPITALS BATH NHS FOUNDATION TRUST","RD108","TROWBRIDGE HOSPITAL","Trowbridge birthing centre"]
["RD115-Violet Prince ward","RD1","ROYAL UNITED HOSPITALS BATH NHS FOUNDATION TRUST","RD115","ROYAL NATIONAL HOSPITAL FOR RHEUMATIC DISEASES","Violet Prince ward"]
["RD121-Frome Birthing centre","RD1","ROYAL UNITED HOSPITALS BATH NHS FOUNDATION TRUST","RD121","FROME VICTORIA HOSPITAL","Frome Birthing centre"]
["RD129-Paulton Birthing centre","RD1","ROYAL UNITED HOSPITALS BATH NHS FOUNDATION TRUST","RD129","PAULTON HOSPITAL","Paulton Birthing centre"]
["RD130-ACE","RD1","ROYAL UNITED HOSPITALS BATH NHS FOUNDATION TRUST","RD130","ROYAL UNITED HOSPITAL","ACE"]
["RD130-Acute Stroke Unit","RD1","ROYAL UNITED HOSPITALS BATH NHS FOUNDATION TRUST","RD130","ROYAL UNITED HOSPITAL","Acute Stroke Unit"]
["RD130-Cardiac Ward","RD1","ROYAL UNITED HOSPITALS BATH NHS FOUNDATION TRUST","RD130","ROYAL UNITED HOSPITAL","Cardiac Ward"]
["RD130-Charlotte Ward","RD1","ROYAL UNITED HOSPITALS BATH NHS FOUNDATION TRUST","RD130","ROYAL UNITED HOSPITAL","Charlotte Ward"]
["RD130-Cheselden Ward","RD1","ROYAL UNITED HOSPITALS BATH NHS FOUNDATION TRUST","RD130","ROYAL UNITED HOSPITAL","Cheselden Ward"]
["RD130-Childrens Ward","RD1","ROYAL UNITED HOSPITALS BATH NHS FOUNDATION TRUST","RD130","ROYAL UNITED HOSPITAL","Childrens Ward"]
["RD130-Combe Ward","RD1","ROYAL UNITED HOSPITALS BATH NHS FOUNDATION TRUST","RD130","ROYAL UNITED HOSPITAL","Combe Ward"]
["RD130-Coronary Care Unit","RD1","ROYAL UNITED HOSPITALS BATH NHS FOUNDATION TRUST","RD130","ROYAL UNITED HOSPITAL","Coronary Care Unit"]
["RD130-Forrester Brown Ward A","RD1","ROYAL UNITED HOSPITALS BATH NHS FOUNDATION TRUST","RD130","ROYAL UNITED HOSPITAL","Forrester Brown Ward A"]
["RD130-Haygarth Ward","RD1","ROYAL UNITED HOSPITALS BATH NHS FOUNDATION TRUST","RD130","ROYAL UNITED HOSPITAL","Haygarth Ward"]
["RD130-Helena Ward","RD1","ROYAL UNITED HOSPITALS BATH NHS FOUNDATION TRUST","RD130","ROYAL UNITED HOSPITAL","Helena Ward"]
["RD130-Intensive Therapy Unit","RD1","ROYAL UNITED HOSPITALS BATH NHS FOUNDATION TRUST","RD130","ROYAL UNITED HOSPITAL","Intensive Therapy Unit"]
["RD130-Mary Ward and Central delivery suite","RD1","ROYAL UNITED HOSPITALS BATH NHS FOUNDATION TRUST","RD130","ROYAL UNITED HOSPITAL","Mary Ward and Central delivery suite"]
["RD130-Medical Assessment Unit","RD1","ROYAL UNITED HOSPITALS BATH NHS FOUNDATION TRUST","RD130","ROYAL UNITED HOSPITAL","Medical Assessment Unit"]
["RD130-Medical Short Stay","RD1","ROYAL UNITED HOSPITALS BATH NHS FOUNDATION TRUST","RD130","ROYAL UNITED HOSPITAL","Medical Short Stay"]
["RD130-Midford Ward","RD1","ROYAL UNITED HOSPITALS BATH NHS FOUNDATION TRUST","RD130","ROYAL UNITED HOSPITAL","Midford Ward"]
["RD130-Neonatal Intensive Care Unit","RD1","ROYAL UNITED HOSPITALS BATH NHS FOUNDATION TRUST","RD130","ROYAL UNITED HOSPITAL","Neonatal Intensive Care Unit"]
[{"$f":"CONCATENATE(D1091,\"-\",F1091)","v":"RD130-Parry Ward"},"RD1","ROYAL UNITED HOSPITALS BATH NHS FOUNDATION TRUST","RD130","ROYAL UNITED HOSPITAL","Parry Ward"]
["RD130-Phillip Yeoman Ward","RD1","ROYAL UNITED HOSPITALS BATH NHS FOUNDATION TRUST","RD130","ROYAL UNITED HOSPITAL","Phillip Yeoman Ward"]
["RD130-Pierce","RD1","ROYAL UNITED HOSPITALS BATH NHS FOUNDATION TRUST","RD130","ROYAL UNITED HOSPITAL","Pierce"]
["RD130-Pulteney Ward","RD1","ROYAL UNITED HOSPITALS BATH NHS FOUNDATION TRUST","RD130","ROYAL UNITED HOSPITAL","Pulteney Ward"]
["RD130-Respiratory Ward","RD1","ROYAL UNITED HOSPITALS BATH NHS FOUNDATION TRUST","RD130","ROYAL UNITED HOSPITAL","Respiratory Ward"]
["RD130-Robin Smith Ward","RD1","ROYAL UNITED HOSPITALS BATH NHS FOUNDATION TRUST","RD130","ROYAL UNITED HOSPITAL","Robin Smith Ward"]
["RD130-Surgical Admissions Unit","RD1","ROYAL UNITED HOSPITALS BATH NHS FOUNDATION TRUST","RD130","ROYAL UNITED HOSPITAL","Surgical Admissions Unit"]
["RD130-Surgical Short Stay Unit","RD1","ROYAL UNITED HOSPITALS BATH NHS FOUNDATION TRUST","RD130","ROYAL UNITED HOSPITAL","Surgical Short Stay Unit"]
["RD130-Waterhouse Ward","RD1","ROYAL UNITED HOSPITALS BATH NHS FOUNDATION TRUST","RD130","ROYAL UNITED HOSPITAL","Waterhouse Ward"]
["RD130-William Budd Ward","RD1","ROYAL UNITED HOSPITALS BATH NHS FOUNDATION TRUST","RD130","ROYAL UNITED HOSPITAL","William Budd Ward"]
["RD304-A4 Arne","RD3","POOLE HOSPITAL NHS FOUNDATION TRUST","RD304","POOLE GENERAL HOSPITAL NHS TRUST HQ","A4 Arne"]
["RD304-A5 Avonbourne","RD3","POOLE HOSPITAL NHS FOUNDATION TRUST","RD304","POOLE GENERAL HOSPITAL NHS TRUST HQ","A5 Avonbourne"]
["RD304-ACU","RD3","POOLE HOSPITAL NHS FOUNDATION TRUST","RD304","POOLE GENERAL HOSPITAL NHS TRUST HQ","ACU"]
["RD304-AMU","RD3","POOLE HOSPITAL NHS FOUNDATION TRUST","RD304","POOLE GENERAL HOSPITAL NHS TRUST HQ","AMU"]
["RD304-B2","RD3","POOLE HOSPITAL NHS FOUNDATION TRUST","RD304","POOLE GENERAL HOSPITAL NHS TRUST HQ","B2"]
["RD304-B3 Trauma","RD3","POOLE HOSPITAL NHS FOUNDATION TRUST","RD304","POOLE GENERAL HOSPITAL NHS TRUST HQ","B3 Trauma"]
["RD304-B4 Surgery","RD3","POOLE HOSPITAL NHS FOUNDATION TRUST","RD304","POOLE GENERAL HOSPITAL NHS TRUST HQ","B4 Surgery"]
["RD304-C3","RD3","POOLE HOSPITAL NHS FOUNDATION TRUST","RD304","POOLE GENERAL HOSPITAL NHS TRUST HQ","C3"]
["RD304-C4 Medicine","RD3","POOLE HOSPITAL NHS FOUNDATION TRUST","RD304","POOLE GENERAL HOSPITAL NHS TRUST HQ","C4 Medicine"]
["RD304-Child Health","RD3","POOLE HOSPITAL NHS FOUNDATION TRUST","RD304","POOLE GENERAL HOSPITAL NHS TRUST HQ","Child Health"]
["RD304-Critical Care","RD3","POOLE HOSPITAL NHS FOUNDATION TRUST","RD304","POOLE GENERAL HOSPITAL NHS TRUST HQ","Critical Care"]
["RD304-Durlston","RD3","POOLE HOSPITAL NHS FOUNDATION TRUST","RD304","POOLE GENERAL HOSPITAL NHS TRUST HQ","Durlston"]
["RD304-E3","RD3","POOLE HOSPITAL NHS FOUNDATION TRUST","RD304","POOLE GENERAL HOSPITAL NHS TRUST HQ","E3"]
["RD304-Forest Holme","RD3","POOLE HOSPITAL NHS FOUNDATION TRUST","RD304","POOLE GENERAL HOSPITAL NHS TRUST HQ","Forest Holme"]
["RD304-Kimmeridge","RD3","POOLE HOSPITAL NHS FOUNDATION TRUST","RD304","POOLE GENERAL HOSPITAL NHS TRUST HQ","Kimmeridge"]
["RD304-Lulworth","RD3","POOLE HOSPITAL NHS FOUNDATION TRUST","RD304","POOLE GENERAL HOSPITAL NHS TRUST HQ","Lulworth"]
["RD304-Lytchett","RD3","POOLE HOSPITAL NHS FOUNDATION TRUST","RD304","POOLE GENERAL HOSPITAL NHS TRUST HQ","Lytchett"]
["RD304-Maternity","RD3","POOLE HOSPITAL NHS FOUNDATION TRUST","RD304","POOLE GENERAL HOSPITAL NHS TRUST HQ","Maternity"]
["RD304-Maternity Labour Ward","RD3","POOLE HOSPITAL NHS FOUNDATION TRUST","RD304","POOLE GENERAL HOSPITAL NHS TRUST HQ","Maternity Labour Ward"]
["RD304-NICU","RD3","POOLE HOSPITAL NHS FOUNDATION TRUST","RD304","POOLE GENERAL HOSPITAL NHS TRUST HQ","NICU"]
["RD304-Portland","RD3","POOLE HOSPITAL NHS FOUNDATION TRUST","RD304","POOLE GENERAL HOSPITAL NHS TRUST HQ","Portland"]
["RD304-RACE","RD3","POOLE HOSPITAL NHS FOUNDATION TRUST","RD304","POOLE GENERAL HOSPITAL NHS TRUST HQ","RACE"]
["RD304-Sandbanks","RD3","POOLE HOSPITAL NHS FOUNDATION TRUST","RD304","POOLE GENERAL HOSPITAL NHS TRUST HQ","Sandbanks"]
["RD304-Stroke Care Unit","RD3","POOLE HOSPITAL NHS FOUNDATION TRUST","RD304","POOLE GENERAL HOSPITAL NHS TRUST HQ","Stroke Care Unit"]
["RD304-Surgical Assessment Unit","RD3","POOLE HOSPITAL NHS FOUNDATION TRUST","RD304","POOLE GENERAL HOSPITAL NHS TRUST HQ","Surgical Assessment Unit"]
["RD816-A & E","RD8","MILTON KEYNES UNIVERSITY HOSPITAL NHS FOUNDATION TRUST","RD816","MILTON KEYNES HOSPITAL","A & E"]
["RD816-AMU","RD8","MILTON KEYNES UNIVERSITY HOSPITAL NHS FOUNDATION TRUST","RD816","MILTON KEYNES HOSPITAL","AMU"]
["RD816-DOCC","RD8","MILTON KEYNES UNIVERSITY HOSPITAL NHS FOUNDATION TRUST","RD816","MILTON KEYNES HOSPITAL","DOCC"]
["RD816-MAU 2","RD8","MILTON KEYNES UNIVERSITY HOSPITAL NHS FOUNDATION TRUST","RD816","MILTON KEYNES HOSPITAL","MAU 2"]
["RD816-NNU","RD8","MILTON KEYNES UNIVERSITY HOSPITAL NHS FOUNDATION TRUST","RD816","MILTON KEYNES HOSPITAL","NNU"]
["RD816-Phoenix Unit","RD8","MILTON KEYNES UNIVERSITY HOSPITAL NHS FOUNDATION TRUST","RD816","MILTON KEYNES HOSPITAL","Phoenix Unit"]
["RD816-Ward 10","RD8","MILTON KEYNES UNIVERSITY HOSPITAL NHS FOUNDATION TRUST","RD816","MILTON KEYNES HOSPITAL","Ward 10"]
["RD816-Ward 15","RD8","MILTON KEYNES UNIVERSITY HOSPITAL NHS FOUNDATION TRUST","RD816","MILTON KEYNES HOSPITAL","Ward 15"]
["RD816-Ward 16","RD8","MILTON KEYNES UNIVERSITY HOSPITAL NHS FOUNDATION TRUST","RD816","MILTON KEYNES HOSPITAL","Ward 16"]
["RD816-Ward 17","RD8","MILTON KEYNES UNIVERSITY HOSPITAL NHS FOUNDATION TRUST","RD816","MILTON KEYNES HOSPITAL","Ward 17"]
["RD816-Ward 18","RD8","MILTON KEYNES UNIVERSITY HOSPITAL NHS FOUNDATION TRUST","RD816","MILTON KEYNES HOSPITAL","Ward 18"]
["RD816-Ward 19","RD8","MILTON KEYNES UNIVERSITY HOSPITAL NHS FOUNDATION TRUST","RD816","MILTON KEYNES HOSPITAL","Ward 19"]
["RD816-Ward 20","RD8","MILTON KEYNES UNIVERSITY HOSPITAL NHS FOUNDATION TRUST","RD816","MILTON KEYNES HOSPITAL","Ward 20"]
["RD816-Ward 21","RD8","MILTON KEYNES UNIVERSITY HOSPITAL NHS FOUNDATION TRUST","RD816","MILTON KEYNES HOSPITAL","Ward 21"]
["RD816-Ward 22","RD8","MILTON KEYNES UNIVERSITY HOSPITAL NHS FOUNDATION TRUST","RD816","MILTON KEYNES HOSPITAL","Ward 22"]
["RD816-Ward 23","RD8","MILTON KEYNES UNIVERSITY HOSPITAL NHS FOUNDATION TRUST","RD816","MILTON KEYNES HOSPITAL","Ward 23"]
["RD816-Ward 24","RD8","MILTON KEYNES UNIVERSITY HOSPITAL NHS FOUNDATION TRUST","RD816","MILTON KEYNES HOSPITAL","Ward 24"]
["RD816-Ward 3","RD8","MILTON KEYNES UNIVERSITY HOSPITAL NHS FOUNDATION TRUST","RD816","MILTON KEYNES HOSPITAL","Ward 3"]
["RD816-Ward 5","RD8","MILTON KEYNES UNIVERSITY HOSPITAL NHS FOUNDATION TRUST","RD816","MILTON KEYNES HOSPITAL","Ward 5"]
["RD816-Ward 7","RD8","MILTON KEYNES UNIVERSITY HOSPITAL NHS FOUNDATION TRUST","RD816","MILTON KEYNES HOSPITAL","Ward 7"]
["RD816-Ward 8","RD8","MILTON KEYNES UNIVERSITY HOSPITAL NHS FOUNDATION TRUST","RD816","MILTON KEYNES HOSPITAL","Ward 8"]
["RD816-Ward 9","RD8","MILTON KEYNES UNIVERSITY HOSPITAL NHS FOUNDATION TRUST","RD816","MILTON KEYNES HOSPITAL","Ward 9"]
["RDDH0-AMU East","RDD","BASILDON AND THURROCK UNIVERSITY HOSPITALS NHS FOUNDATION TRUST","RDDH0","BASILDON UNIVERSITY HOSPITAL","AMU East"]
["RDDH0-AMU west","RDD","BASILDON AND THURROCK UNIVERSITY HOSPITALS NHS FOUNDATION TRUST","RDDH0","BASILDON UNIVERSITY HOSPITAL","AMU west"]
["RDDH0-Bulphan","RDD","BASILDON AND THURROCK UNIVERSITY HOSPITALS NHS FOUNDATION TRUST","RDDH0","BASILDON UNIVERSITY HOSPITAL","Bulphan"]
["RDDH0-Burstead","RDD","BASILDON AND THURROCK UNIVERSITY HOSPITALS NHS FOUNDATION TRUST","RDDH0","BASILDON UNIVERSITY HOSPITAL","Burstead"]
["RDDH0-CEDAR","RDD","BASILDON AND THURROCK UNIVERSITY HOSPITALS NHS FOUNDATION TRUST","RDDH0","BASILDON UNIVERSITY HOSPITAL","CEDAR"]
["RDDH0-Chelmer","RDD","BASILDON AND THURROCK UNIVERSITY HOSPITALS NHS FOUNDATION TRUST","RDDH0","BASILDON UNIVERSITY HOSPITAL","Chelmer"]
["RDDH0-Colne","RDD","BASILDON AND THURROCK UNIVERSITY HOSPITALS NHS FOUNDATION TRUST","RDDH0","BASILDON UNIVERSITY HOSPITAL","Colne"]
[{"$f":"CONCATENATE(D1155,\"-\",F1155)","v":"RDDH0-DELIVERY SUITE"},"RDD","BASILDON AND THURROCK UNIVERSITY HOSPITALS NHS FOUNDATION TRUST","RDDH0","BASILDON UNIVERSITY HOSPITAL","DELIVERY SUITE"]
["RDDH0-Edith Cavell","RDD","BASILDON AND THURROCK UNIVERSITY HOSPITALS NHS FOUNDATION TRUST","RDDH0","BASILDON UNIVERSITY HOSPITAL","Edith Cavell"]
["RDDH0-Elizabeth Fry","RDD","BASILDON AND THURROCK UNIVERSITY HOSPITALS NHS FOUNDATION TRUST","RDDH0","BASILDON UNIVERSITY HOSPITAL","Elizabeth Fry"]
["RDDH0-Elsdon","RDD","BASILDON AND THURROCK UNIVERSITY HOSPITALS NHS FOUNDATION TRUST","RDDH0","BASILDON UNIVERSITY HOSPITAL","Elsdon"]
["RDDH0-Florence Nightingale","RDD","BASILDON AND THURROCK UNIVERSITY HOSPITALS NHS FOUNDATION TRUST","RDDH0","BASILDON UNIVERSITY HOSPITAL","Florence Nightingale"]
["RDDH0-Horndon","RDD","BASILDON AND THURROCK UNIVERSITY HOSPITALS NHS FOUNDATION TRUST","RDDH0","BASILDON UNIVERSITY HOSPITAL","Horndon"]
["RDDH0-ITU","RDD","BASILDON AND THURROCK UNIVERSITY HOSPITALS NHS FOUNDATION TRUST","RDDH0","BASILDON UNIVERSITY HOSPITAL","ITU"]
["RDDH0-James McKenzie","RDD","BASILDON AND THURROCK UNIVERSITY HOSPITALS NHS FOUNDATION TRUST","RDDH0","BASILDON UNIVERSITY HOSPITAL","James McKenzie"]
["RDDH0-Kingswood","RDD","BASILDON AND THURROCK UNIVERSITY HOSPITALS NHS FOUNDATION TRUST","RDDH0","BASILDON UNIVERSITY HOSPITAL","Kingswood"]
["RDDH0-Linford","RDD","BASILDON AND THURROCK UNIVERSITY HOSPITALS NHS FOUNDATION TRUST","RDDH0","BASILDON UNIVERSITY HOSPITAL","Linford"]
["RDDH0-Lionel Cosin","RDD","BASILDON AND THURROCK UNIVERSITY HOSPITALS NHS FOUNDATION TRUST","RDDH0","BASILDON UNIVERSITY HOSPITAL","Lionel Cosin"]
["RDDH0-Lister","RDD","BASILDON AND THURROCK UNIVERSITY HOSPITALS NHS FOUNDATION TRUST","RDDH0","BASILDON UNIVERSITY HOSPITAL","Lister"]
["RDDH0-Marjorie Warren","RDD","BASILDON AND THURROCK UNIVERSITY HOSPITALS NHS FOUNDATION TRUST","RDDH0","BASILDON UNIVERSITY HOSPITAL","Marjorie Warren"]
["RDDH0-NICU","RDD","BASILDON AND THURROCK UNIVERSITY HOSPITALS NHS FOUNDATION TRUST","RDDH0","BASILDON UNIVERSITY HOSPITAL","NICU"]
["RDDH0-Orsett","RDD","BASILDON AND THURROCK UNIVERSITY HOSPITALS NHS FOUNDATION TRUST","RDDH0","BASILDON UNIVERSITY HOSPITAL","Orsett"]
["RDDH0-Osler","RDD","BASILDON AND THURROCK UNIVERSITY HOSPITALS NHS FOUNDATION TRUST","RDDH0","BASILDON UNIVERSITY HOSPITAL","Osler"]
["RDDH0-Pasteur","RDD","BASILDON AND THURROCK UNIVERSITY HOSPITALS NHS FOUNDATION TRUST","RDDH0","BASILDON UNIVERSITY HOSPITAL","Pasteur"]
["RDDH0-Puffin/wagtail","RDD","BASILDON AND THURROCK UNIVERSITY HOSPITALS NHS FOUNDATION TRUST","RDDH0","BASILDON UNIVERSITY HOSPITAL","Puffin/wagtail"]
["RDDH0-Roding","RDD","BASILDON AND THURROCK UNIVERSITY HOSPITALS NHS FOUNDATION TRUST","RDDH0","BASILDON UNIVERSITY HOSPITAL","Roding"]
["RDDH0-SRU","RDD","BASILDON AND THURROCK UNIVERSITY HOSPITALS NHS FOUNDATION TRUST","RDDH0","BASILDON UNIVERSITY HOSPITAL","SRU"]
["RDDH0-William Harvey","RDD","BASILDON AND THURROCK UNIVERSITY HOSPITALS NHS FOUNDATION TRUST","RDDH0","BASILDON UNIVERSITY HOSPITAL","William Harvey"]
["RDDH0-WILLOW","RDD","BASILDON AND THURROCK UNIVERSITY HOSPITALS NHS FOUNDATION TRUST","RDDH0","BASILDON UNIVERSITY HOSPITAL","WILLOW"]
["RDE03-178 C&D Somersham IHT","RDE","EAST SUFFOLK AND NORTH ESSEX NHS FOUNDATION TRUST","RDE03","IPSWICH HOSPITAL NHS TRUST","178 C&D Somersham IHT"]
["RDE03-178 INT Grundisburgh IHT","RDE","EAST SUFFOLK AND NORTH ESSEX NHS FOUNDATION TRUST","RDE03","IPSWICH HOSPITAL NHS TRUST","178 INT Grundisburgh IHT"]
["RDE03-178 INT Haughley IHT","RDE","EAST SUFFOLK AND NORTH ESSEX NHS FOUNDATION TRUST","RDE03","IPSWICH HOSPITAL NHS TRUST","178 INT Haughley IHT"]
["RDE03-178 MED Bramford Ward IHT","RDE","EAST SUFFOLK AND NORTH ESSEX NHS FOUNDATION TRUST","RDE03","IPSWICH HOSPITAL NHS TRUST","178 MED Bramford Ward IHT"]
["RDE03-178 MED Brantham IHT","RDE","EAST SUFFOLK AND NORTH ESSEX NHS FOUNDATION TRUST","RDE03","IPSWICH HOSPITAL NHS TRUST","178 MED Brantham IHT"]
["RDE03-178 MED Capel IHT","RDE","EAST SUFFOLK AND NORTH ESSEX NHS FOUNDATION TRUST","RDE03","IPSWICH HOSPITAL NHS TRUST","178 MED Capel IHT"]
["RDE03-178 MED Claydon IHT","RDE","EAST SUFFOLK AND NORTH ESSEX NHS FOUNDATION TRUST","RDE03","IPSWICH HOSPITAL NHS TRUST","178 MED Claydon IHT"]
["RDE03-178 MED Debenham IHT","RDE","EAST SUFFOLK AND NORTH ESSEX NHS FOUNDATION TRUST","RDE03","IPSWICH HOSPITAL NHS TRUST","178 MED Debenham IHT"]
["RDE03-178 MED Kesgrave Ward IHT","RDE","EAST SUFFOLK AND NORTH ESSEX NHS FOUNDATION TRUST","RDE03","IPSWICH HOSPITAL NHS TRUST","178 MED Kesgrave Ward IHT"]
["RDE03-178 MED Kirton IHT","RDE","EAST SUFFOLK AND NORTH ESSEX NHS FOUNDATION TRUST","RDE03","IPSWICH HOSPITAL NHS TRUST","178 MED Kirton IHT"]
["RDE03-178 MED Shotley IHT","RDE","EAST SUFFOLK AND NORTH ESSEX NHS FOUNDATION TRUST","RDE03","IPSWICH HOSPITAL NHS TRUST","178 MED Shotley IHT"]
["RDE03-178 MED Sproughton Ward IHT","RDE","EAST SUFFOLK AND NORTH ESSEX NHS FOUNDATION TRUST","RDE03","IPSWICH HOSPITAL NHS TRUST","178 MED Sproughton Ward IHT"]
["RDE03-178 MED Washbrook IHT","RDE","EAST SUFFOLK AND NORTH ESSEX NHS FOUNDATION TRUST","RDE03","IPSWICH HOSPITAL NHS TRUST","178 MED Washbrook IHT"]
["RDE03-178 MED Waveney Ward IHT","RDE","EAST SUFFOLK AND NORTH ESSEX NHS FOUNDATION TRUST","RDE03","IPSWICH HOSPITAL NHS TRUST","178 MED Waveney Ward IHT"]
["RDE03-178 MED Woodbridge IHT","RDE","EAST SUFFOLK AND NORTH ESSEX NHS FOUNDATION TRUST","RDE03","IPSWICH HOSPITAL NHS TRUST","178 MED Woodbridge IHT"]
["RDE03-178 MSKSS Martlesham IHT","RDE","EAST SUFFOLK AND NORTH ESSEX NHS FOUNDATION TRUST","RDE03","IPSWICH HOSPITAL NHS TRUST","178 MSKSS Martlesham IHT"]
["RDE03-178 SURG Critical Care Unit IHT","RDE","EAST SUFFOLK AND NORTH ESSEX NHS FOUNDATION TRUST","RDE03","IPSWICH HOSPITAL NHS TRUST","178 SURG Critical Care Unit IHT"]
["RDE03-178 SURG Lavenham IHT","RDE","EAST SUFFOLK AND NORTH ESSEX NHS FOUNDATION TRUST","RDE03","IPSWICH HOSPITAL NHS TRUST","178 SURG Lavenham IHT"]
["RDE03-178 SURG Needham IHT","RDE","EAST SUFFOLK AND NORTH ESSEX NHS FOUNDATION TRUST","RDE03","IPSWICH HOSPITAL NHS TRUST","178 SURG Needham IHT"]
["RDE03-178 SURG Saxmundham IHT","RDE","EAST SUFFOLK AND NORTH ESSEX NHS FOUNDATION TRUST","RDE03","IPSWICH HOSPITAL NHS TRUST","178 SURG Saxmundham IHT"]
["RDE03-178 SURG Stowupland IHT","RDE","EAST SUFFOLK AND NORTH ESSEX NHS FOUNDATION TRUST","RDE03","IPSWICH HOSPITAL NHS TRUST","178 SURG Stowupland IHT"]
["RDE03-178 SURG Stradbroke IHT","RDE","EAST SUFFOLK AND NORTH ESSEX NHS FOUNDATION TRUST","RDE03","IPSWICH HOSPITAL NHS TRUST","178 SURG Stradbroke IHT"]
["RDE03-178 W&C Bergholt Ward IHT","RDE","EAST SUFFOLK AND NORTH ESSEX NHS FOUNDATION TRUST","RDE03","IPSWICH HOSPITAL NHS TRUST","178 W&C Bergholt Ward IHT"]
["RDE03-178 W&C Brook IHT","RDE","EAST SUFFOLK AND NORTH ESSEX NHS FOUNDATION TRUST","RDE03","IPSWICH HOSPITAL NHS TRUST","178 W&C Brook IHT"]
["RDE03-178 W&C Deben IHT","RDE","EAST SUFFOLK AND NORTH ESSEX NHS FOUNDATION TRUST","RDE03","IPSWICH HOSPITAL NHS TRUST","178 W&C Deben IHT"]
["RDE03-178 W&C Neonatal Unit IHT","RDE","EAST SUFFOLK AND NORTH ESSEX NHS FOUNDATION TRUST","RDE03","IPSWICH HOSPITAL NHS TRUST","178 W&C Neonatal Unit IHT"]
["RDE03-178 W&C Orwell IHT","RDE","EAST SUFFOLK AND NORTH ESSEX NHS FOUNDATION TRUST","RDE03","IPSWICH HOSPITAL NHS TRUST","178 W&C Orwell IHT"]
["RDE03-178 W&C Stour IHT","RDE","EAST SUFFOLK AND NORTH ESSEX NHS FOUNDATION TRUST","RDE03","IPSWICH HOSPITAL NHS TRUST","178 W&C Stour IHT"]
["RDE05-178 INT Felixstowe Community Hospital IHT","RDE","EAST SUFFOLK AND NORTH ESSEX NHS FOUNDATION TRUST","RDE05","FELIXSTOWE HOSPITAL","178 INT Felixstowe Community Hospital IHT"]
["RDE78-178 INT Bluebird Lodge Community Hospital IHT","RDE","EAST SUFFOLK AND NORTH ESSEX NHS FOUNDATION TRUST","RDE78","BLUEBIRD LODGE","178 INT Bluebird Lodge Community Hospital IHT"]
["RDE83-178 INT Aldeburgh Community Hospital IHT","RDE","EAST SUFFOLK AND NORTH ESSEX NHS FOUNDATION TRUST","RDE83","ALDEBURGH HOSPITAL","178 INT Aldeburgh Community Hospital IHT"]
["RDEE4-432 C&D West Bergholt Ward COH","RDE","EAST SUFFOLK AND NORTH ESSEX NHS FOUNDATION TRUST","RDEE4","COLCHESTER GENERAL HOSPITAL","432 C&D West Bergholt Ward COH"]
["RDEE4-432 INT Birch Ward COH","RDE","EAST SUFFOLK AND NORTH ESSEX NHS FOUNDATION TRUST","RDEE4","COLCHESTER GENERAL HOSPITAL","432 INT Birch Ward COH"]
["RDEE4-432 INT D Arcy Ward COH","RDE","EAST SUFFOLK AND NORTH ESSEX NHS FOUNDATION TRUST","RDEE4","COLCHESTER GENERAL HOSPITAL","432 INT D Arcy Ward COH"]
["RDEE4-432 INT Peldon Ward COH","RDE","EAST SUFFOLK AND NORTH ESSEX NHS FOUNDATION TRUST","RDEE4","COLCHESTER GENERAL HOSPITAL","432 INT Peldon Ward COH"]
["RDEE4-432 INT Tiptree Ward COH","RDE","EAST SUFFOLK AND NORTH ESSEX NHS FOUNDATION TRUST","RDEE4","COLCHESTER GENERAL HOSPITAL","432 INT Tiptree Ward COH"]
["RDEE4-432 MED Acute cardiac Unit COH","RDE","EAST SUFFOLK AND NORTH ESSEX NHS FOUNDATION TRUST","RDEE4","COLCHESTER GENERAL HOSPITAL","432 MED Acute cardiac Unit COH"]
["RDEE4-432 MED Easthorpe Ward COH","RDE","EAST SUFFOLK AND NORTH ESSEX NHS FOUNDATION TRUST","RDEE4","COLCHESTER GENERAL HOSPITAL","432 MED Easthorpe Ward COH"]
["RDEE4-432 MED Emergency Assessment Unit COH","RDE","EAST SUFFOLK AND NORTH ESSEX NHS FOUNDATION TRUST","RDEE4","COLCHESTER GENERAL HOSPITAL","432 MED Emergency Assessment Unit COH"]
["RDEE4-432 MED Layer Marney Ward COH","RDE","EAST SUFFOLK AND NORTH ESSEX NHS FOUNDATION TRUST","RDEE4","COLCHESTER GENERAL HOSPITAL","432 MED Layer Marney Ward COH"]
["RDEE4-432 MED Nayland Contingency Ward COH","RDE","EAST SUFFOLK AND NORTH ESSEX NHS FOUNDATION TRUST","RDEE4","COLCHESTER GENERAL HOSPITAL","432 MED Nayland Contingency Ward COH"]
["RDEE4-432 MED Stroke Unit COH","RDE","EAST SUFFOLK AND NORTH ESSEX NHS FOUNDATION TRUST","RDEE4","COLCHESTER GENERAL HOSPITAL","432 MED Stroke Unit COH"]
[{"$f":"CONCATENATE(D1219,\"-\",F1219)","v":"RDEE4-432 MSKSS Aldham Ward COH"},"RDE","EAST SUFFOLK AND NORTH ESSEX NHS FOUNDATION TRUST","RDEE4","COLCHESTER GENERAL HOSPITAL","432 MSKSS Aldham Ward COH"]
["RDEE4-432 MSKSS Copford Ward COH","RDE","EAST SUFFOLK AND NORTH ESSEX NHS FOUNDATION TRUST","RDEE4","COLCHESTER GENERAL HOSPITAL","432 MSKSS Copford Ward COH"]
["RDEE4-432 MSKSS Fordham Ward COH","RDE","EAST SUFFOLK AND NORTH ESSEX NHS FOUNDATION TRUST","RDEE4","COLCHESTER GENERAL HOSPITAL","432 MSKSS Fordham Ward COH"]
["RDEE4-432 MSKSS Great Tey Ward COH","RDE","EAST SUFFOLK AND NORTH ESSEX NHS FOUNDATION TRUST","RDEE4","COLCHESTER GENERAL HOSPITAL","432 MSKSS Great Tey Ward COH"]
["RDEE4-432 SURG Brightlingsea Ward COH","RDE","EAST SUFFOLK AND NORTH ESSEX NHS FOUNDATION TRUST","RDEE4","COLCHESTER GENERAL HOSPITAL","432 SURG Brightlingsea Ward COH"]
["RDEE4-432 SURG Critical Care COH","RDE","EAST SUFFOLK AND NORTH ESSEX NHS FOUNDATION TRUST","RDEE4","COLCHESTER GENERAL HOSPITAL","432 SURG Critical Care COH"]
["RDEE4-432 SURG Langham Ward COH","RDE","EAST SUFFOLK AND NORTH ESSEX NHS FOUNDATION TRUST","RDEE4","COLCHESTER GENERAL HOSPITAL","432 SURG Langham Ward COH"]
["RDEE4-432 SURG Mersea Ward COH","RDE","EAST SUFFOLK AND NORTH ESSEX NHS FOUNDATION TRUST","RDEE4","COLCHESTER GENERAL HOSPITAL","432 SURG Mersea Ward COH"]
["RDEE4-432 SURG Surgical Assessment Unit COH","RDE","EAST SUFFOLK AND NORTH ESSEX NHS FOUNDATION TRUST","RDEE4","COLCHESTER GENERAL HOSPITAL","432 SURG Surgical Assessment Unit COH"]
["RDEE4-432 SURG Wivenhoe Ward COH","RDE","EAST SUFFOLK AND NORTH ESSEX NHS FOUNDATION TRUST","RDEE4","COLCHESTER GENERAL HOSPITAL","432 SURG Wivenhoe Ward COH"]
["RDEE4-432 W&C Childrens Ward COH","RDE","EAST SUFFOLK AND NORTH ESSEX NHS FOUNDATION TRUST","RDEE4","COLCHESTER GENERAL HOSPITAL","432 W&C Childrens Ward COH"]
["RDEE4-432 W&C In Patient Maternity COH","RDE","EAST SUFFOLK AND NORTH ESSEX NHS FOUNDATION TRUST","RDEE4","COLCHESTER GENERAL HOSPITAL","432 W&C In Patient Maternity COH"]
["RDEE4-432 W&C Neonatal Unit COH","RDE","EAST SUFFOLK AND NORTH ESSEX NHS FOUNDATION TRUST","RDEE4","COLCHESTER GENERAL HOSPITAL","432 W&C Neonatal Unit COH"]
["RDEE4-432 W&C Stanway Ward COH","RDE","EAST SUFFOLK AND NORTH ESSEX NHS FOUNDATION TRUST","RDEE4","COLCHESTER GENERAL HOSPITAL","432 W&C Stanway Ward COH"]
["RDEP1-Ward","RDE","EAST SUFFOLK AND NORTH ESSEX NHS FOUNDATION TRUST","RDEP1","CAPIO OAKS HOSPITAL","Ward"]
["RDR1H-Salvington Lodge","RDR","SUSSEX COMMUNITY NHS FOUNDATION TRUST","RDR1H","SALVINGTON LODGE","Salvington Lodge"]
["RDR1L-Zachary Merton Ward","RDR","SUSSEX COMMUNITY NHS FOUNDATION TRUST","RDR1L","ZACHARY MERTON HOSPITAL","Zachary Merton Ward"]
["RDR1R-Arundel Dist Hosp","RDR","SUSSEX COMMUNITY NHS FOUNDATION TRUST","RDR1R","ARUNDEL AND DISTRICT HOSPITAL","Arundel Dist Hosp"]
["RDR2V-Don Baines Ward","RDR","SUSSEX COMMUNITY NHS FOUNDATION TRUST","RDR2V","BOGNOR REGIS WAR MEMORIAL HOSPITAL","Don Baines Ward"]
["RDR2V-Leslie Smith Ward","RDR","SUSSEX COMMUNITY NHS FOUNDATION TRUST","RDR2V","BOGNOR REGIS WAR MEMORIAL HOSPITAL","Leslie Smith Ward"]
["RDR3E-Caravelle Ward","RDR","SUSSEX COMMUNITY NHS FOUNDATION TRUST","RDR3E","CRAWLEY HOSPITAL","Caravelle Ward"]
["RDR3E-Piper Ward","RDR","SUSSEX COMMUNITY NHS FOUNDATION TRUST","RDR3E","CRAWLEY HOSPITAL","Piper Ward"]
["RDR3E-Viking Ward","RDR","SUSSEX COMMUNITY NHS FOUNDATION TRUST","RDR3E","CRAWLEY HOSPITAL","Viking Ward"]
["RDR4C-Kleinwort Ward","RDR","SUSSEX COMMUNITY NHS FOUNDATION TRUST","RDR4C","THE KLEINWORT CENTRE","Kleinwort Ward"]
["RDRCR-Crowborough Hospital","RDR","SUSSEX COMMUNITY NHS FOUNDATION TRUST","RDRCR","CROWBOROUGH WAR MEMORIAL HOSPITAL","Crowborough Hospital"]
["RDRHA-Uckfield Hospital","RDR","SUSSEX COMMUNITY NHS FOUNDATION TRUST","RDRHA","UCKFIELDS HOSPITAL","Uckfield Hospital"]
["RDRHR-Horizon Unit","RDR","SUSSEX COMMUNITY NHS FOUNDATION TRUST","RDRHR","HORIZON UNIT","Horizon Unit"]
["RDRLC-Lewes Vic Hospital","RDR","SUSSEX COMMUNITY NHS FOUNDATION TRUST","RDRLC","LEWES INTERMEDIATE CARE","Lewes Vic Hospital"]
["RDU01-Bourne","RDU","FRIMLEY HEALTH NHS FOUNDATION TRUST","RDU01","FRIMLEY PARK HOSPITAL","Bourne"]
["RDU01-CCU","RDU","FRIMLEY HEALTH NHS FOUNDATION TRUST","RDU01","FRIMLEY PARK HOSPITAL","CCU"]
["RDU01-CFU","RDU","FRIMLEY HEALTH NHS FOUNDATION TRUST","RDU01","FRIMLEY PARK HOSPITAL","CFU"]
["RDU01-CLTH","RDU","FRIMLEY HEALTH NHS FOUNDATION TRUST","RDU01","FRIMLEY PARK HOSPITAL","CLTH"]
["RDU01-F1","RDU","FRIMLEY HEALTH NHS FOUNDATION TRUST","RDU01","FRIMLEY PARK HOSPITAL","F1"]
["RDU01-F10","RDU","FRIMLEY HEALTH NHS FOUNDATION TRUST","RDU01","FRIMLEY PARK HOSPITAL","F10"]
["RDU01-F14","RDU","FRIMLEY HEALTH NHS FOUNDATION TRUST","RDU01","FRIMLEY PARK HOSPITAL","F14"]
["RDU01-F15","RDU","FRIMLEY HEALTH NHS FOUNDATION TRUST","RDU01","FRIMLEY PARK HOSPITAL","F15"]
["RDU01-F2-Vascular","RDU","FRIMLEY HEALTH NHS FOUNDATION TRUST","RDU01","FRIMLEY PARK HOSPITAL","F2-Vascular"]
["RDU01-F3","RDU","FRIMLEY HEALTH NHS FOUNDATION TRUST","RDU01","FRIMLEY PARK HOSPITAL","F3"]
["RDU01-F4","RDU","FRIMLEY HEALTH NHS FOUNDATION TRUST","RDU01","FRIMLEY PARK HOSPITAL","F4"]
["RDU01-F5","RDU","FRIMLEY HEALTH NHS FOUNDATION TRUST","RDU01","FRIMLEY PARK HOSPITAL","F5"]
["RDU01-F6","RDU","FRIMLEY HEALTH NHS FOUNDATION TRUST","RDU01","FRIMLEY PARK HOSPITAL","F6"]
["RDU01-F7","RDU","FRIMLEY HEALTH NHS FOUNDATION TRUST","RDU01","FRIMLEY PARK HOSPITAL","F7"]
["RDU01-F8","RDU","FRIMLEY HEALTH NHS FOUNDATION TRUST","RDU01","FRIMLEY PARK HOSPITAL","F8"]
["RDU01-F9","RDU","FRIMLEY HEALTH NHS FOUNDATION TRUST","RDU01","FRIMLEY PARK HOSPITAL","F9"]
["RDU01-G1","RDU","FRIMLEY HEALTH NHS FOUNDATION TRUST","RDU01","FRIMLEY PARK HOSPITAL","G1"]
["RDU01-G2A","RDU","FRIMLEY HEALTH NHS FOUNDATION TRUST","RDU01","FRIMLEY PARK HOSPITAL","G2A"]
["RDU01-G2B","RDU","FRIMLEY HEALTH NHS FOUNDATION TRUST","RDU01","FRIMLEY PARK HOSPITAL","G2B"]
["RDU01-G3","RDU","FRIMLEY HEALTH NHS FOUNDATION TRUST","RDU01","FRIMLEY PARK HOSPITAL","G3"]
["RDU01-G5CAVELL","RDU","FRIMLEY HEALTH NHS FOUNDATION TRUST","RDU01","FRIMLEY PARK HOSPITAL","G5CAVELL"]
["RDU01-G5PAGET","RDU","FRIMLEY HEALTH NHS FOUNDATION TRUST","RDU01","FRIMLEY PARK HOSPITAL","G5PAGET"]
["RDU01-G6","RDU","FRIMLEY HEALTH NHS FOUNDATION TRUST","RDU01","FRIMLEY PARK HOSPITAL","G6"]
["RDU01-G9","RDU","FRIMLEY HEALTH NHS FOUNDATION TRUST","RDU01","FRIMLEY PARK HOSPITAL","G9"]
["RDU01-ICU","RDU","FRIMLEY HEALTH NHS FOUNDATION TRUST","RDU01","FRIMLEY PARK HOSPITAL","ICU"]
["RDU01-MADU","RDU","FRIMLEY HEALTH NHS FOUNDATION TRUST","RDU01","FRIMLEY PARK HOSPITAL","MADU"]
["RDU01-Maternity","RDU","FRIMLEY HEALTH NHS FOUNDATION TRUST","RDU01","FRIMLEY PARK HOSPITAL","Maternity"]
["RDU01-MAU-AMU","RDU","FRIMLEY HEALTH NHS FOUNDATION TRUST","RDU01","FRIMLEY PARK HOSPITAL","MAU-AMU"]
["RDU01-NNU","RDU","FRIMLEY HEALTH NHS FOUNDATION TRUST","RDU01","FRIMLEY PARK HOSPITAL","NNU"]
["RDU01-Parkside","RDU","FRIMLEY HEALTH NHS FOUNDATION TRUST","RDU01","FRIMLEY PARK HOSPITAL","Parkside"]
["RDU01-Renal","RDU","FRIMLEY HEALTH NHS FOUNDATION TRUST","RDU01","FRIMLEY PARK HOSPITAL","Renal"]
["RDU01-SADU","RDU","FRIMLEY HEALTH NHS FOUNDATION TRUST","RDU01","FRIMLEY PARK HOSPITAL","SADU"]
["RDU01-SAU","RDU","FRIMLEY HEALTH NHS FOUNDATION TRUST","RDU01","FRIMLEY PARK HOSPITAL","SAU"]
["RDU01-SSS","RDU","FRIMLEY HEALTH NHS FOUNDATION TRUST","RDU01","FRIMLEY PARK HOSPITAL","SSS"]
["RDU50-Acute Assessment Unit (WP)","RDU","FRIMLEY HEALTH NHS FOUNDATION TRUST","RDU50","WEXHAM PARK HOSPITAL","Acute Assessment Unit (WP)"]
["RDU50-Coronary Care Unit (WP)","RDU","FRIMLEY HEALTH NHS FOUNDATION TRUST","RDU50","WEXHAM PARK HOSPITAL","Coronary Care Unit (WP)"]
[{"$f":"CONCATENATE(D1283,\"-\",F1283)","v":"RDU50-Intensive Treatment Unit (WP)"},"RDU","FRIMLEY HEALTH NHS FOUNDATION TRUST","RDU50","WEXHAM PARK HOSPITAL","Intensive Treatment Unit (WP)"]
["RDU50-Maternity Unit (WP)","RDU","FRIMLEY HEALTH NHS FOUNDATION TRUST","RDU50","WEXHAM PARK HOSPITAL","Maternity Unit (WP)"]
["RDU50-Medical Short Stay (WP)","RDU","FRIMLEY HEALTH NHS FOUNDATION TRUST","RDU50","WEXHAM PARK HOSPITAL","Medical Short Stay (WP)"]
["RDU50-Medicine Elderly Care (WP)","RDU","FRIMLEY HEALTH NHS FOUNDATION TRUST","RDU50","WEXHAM PARK HOSPITAL","Medicine Elderly Care (WP)"]
["RDU50-Neonatal Unit (WP)","RDU","FRIMLEY HEALTH NHS FOUNDATION TRUST","RDU50","WEXHAM PARK HOSPITAL","Neonatal Unit (WP)"]
["RDU50-Parkside (WP)","RDU","FRIMLEY HEALTH NHS FOUNDATION TRUST","RDU50","WEXHAM PARK HOSPITAL","Parkside (WP)"]
["RDU50-Surgical Short Stay Unit (WP)","RDU","FRIMLEY HEALTH NHS FOUNDATION TRUST","RDU50","WEXHAM PARK HOSPITAL","Surgical Short Stay Unit (WP)"]
["RDU50-Ward 01 Orthopaedic (WP)","RDU","FRIMLEY HEALTH NHS FOUNDATION TRUST","RDU50","Wexham Park Hospital","Ward 01 Orthopaedic (WP)"]
["RDU50-Ward 02 General Medicine (WP)","RDU","FRIMLEY HEALTH NHS FOUNDATION TRUST","RDU50","WEXHAM PARK HOSPITAL","Ward 02 General Medicine (WP)"]
["RDU50-Ward 03 Geriatric Medicine (WP)","RDU","FRIMLEY HEALTH NHS FOUNDATION TRUST","RDU50","WEXHAM PARK HOSPITAL","Ward 03 Geriatric Medicine (WP)"]
["RDU50-Ward 04 Cardiology plus Diuretic Lounge (WP)","RDU","FRIMLEY HEALTH NHS FOUNDATION TRUST","RDU50","WEXHAM PARK HOSPITAL","Ward 04 Cardiology plus Diuretic Lounge (WP)"]
["RDU50-Ward 05 General Medicine (WP)","RDU","FRIMLEY HEALTH NHS FOUNDATION TRUST","RDU50","WEXHAM PARK HOSPITAL","Ward 05 General Medicine (WP)"]
["RDU50-Ward 06 General Medicine (WP)","RDU","FRIMLEY HEALTH NHS FOUNDATION TRUST","RDU50","WEXHAM PARK HOSPITAL","Ward 06 General Medicine (WP)"]
["RDU50-Ward 09 General Medicine (WP)","RDU","FRIMLEY HEALTH NHS FOUNDATION TRUST","RDU50","WEXHAM PARK HOSPITAL","Ward 09 General Medicine (WP)"]
["RDU50-Ward 09 Medical Acute Dependency Unit (WP)","RDU","FRIMLEY HEALTH NHS FOUNDATION TRUST","RDU50","WEXHAM PARK HOSPITAL","Ward 09 Medical Acute Dependency Unit (WP)"]
["RDU50-Ward 10 Surgical (WP)","RDU","FRIMLEY HEALTH NHS FOUNDATION TRUST","RDU50","WEXHAM PARK HOSPITAL","Ward 10 Surgical (WP)"]
["RDU50-Ward 11 Surgical (WP)","RDU","FRIMLEY HEALTH NHS FOUNDATION TRUST","RDU50","WEXHAM PARK HOSPITAL","Ward 11 Surgical (WP)"]
["RDU50-Ward 15 Eden (WP)","RDU","FRIMLEY HEALTH NHS FOUNDATION TRUST","RDU50","WEXHAM PARK HOSPITAL","Ward 15 Eden (WP)"]
["RDU50-Ward 16 SRU (WP)","RDU","FRIMLEY HEALTH NHS FOUNDATION TRUST","RDU50","WEXHAM PARK HOSPITAL","Ward 16 SRU (WP)"]
["RDU50-Ward 20 Gynaecology (WP)","RDU","FRIMLEY HEALTH NHS FOUNDATION TRUST","RDU50","WEXHAM PARK HOSPITAL","Ward 20 Gynaecology (WP)"]
["RDU50-Ward 24 Paediatric (WP)","RDU","FRIMLEY HEALTH NHS FOUNDATION TRUST","RDU50","WEXHAM PARK HOSPITAL","Ward 24 Paediatric (WP)"]
["RDU52-Ward 04 Orthopaedic (Hwd)","RDU","FRIMLEY HEALTH NHS FOUNDATION TRUST","RDU52","Heatherwood Hospital","Ward 04 Orthopaedic (Hwd)"]
["RDY10-AAU Seaview","RDY","DORSET HEALTHCARE UNIVERSITY NHS FOUNDATION TRUST","RDY10","ST ANN'S HOSPITAL","AAU Seaview"]
["RDY10-Alumhurst Ward","RDY","DORSET HEALTHCARE UNIVERSITY NHS FOUNDATION TRUST","RDY10","ST ANN'S HOSPITAL","Alumhurst Ward"]
["RDY10-Chine Ward","RDY","DORSET HEALTHCARE UNIVERSITY NHS FOUNDATION TRUST","RDY10","ST ANN'S HOSPITAL","Chine Ward"]
["RDY10-Harbour Ward","RDY","DORSET HEALTHCARE UNIVERSITY NHS FOUNDATION TRUST","RDY10","ST ANN'S HOSPITAL","Harbour Ward"]
["RDY10-Haven Ward","RDY","DORSET HEALTHCARE UNIVERSITY NHS FOUNDATION TRUST","RDY10","ST ANN'S HOSPITAL","Haven Ward"]
["RDY10-Twynham Ward","RDY","DORSET HEALTHCARE UNIVERSITY NHS FOUNDATION TRUST","RDY10","ST ANN'S HOSPITAL","Twynham Ward"]
["RDY22-Guernsey Ward","RDY","DORSET HEALTHCARE UNIVERSITY NHS FOUNDATION TRUST","RDY22","ALDERNEY HOSPITAL","Guernsey Ward"]
["RDY22-Herm Ward","RDY","DORSET HEALTHCARE UNIVERSITY NHS FOUNDATION TRUST","RDY22","ALDERNEY HOSPITAL","Herm Ward"]
["RDY22-Jersey Ward","RDY","DORSET HEALTHCARE UNIVERSITY NHS FOUNDATION TRUST","RDY22","ALDERNEY HOSPITAL","Jersey Ward"]
["RDY22-St Brelades Ward","RDY","DORSET HEALTHCARE UNIVERSITY NHS FOUNDATION TRUST","RDY22","ALDERNEY HOSPITAL","St Brelades Ward"]
["RDY32-Kimmeridge Court","RDY","DORSET HEALTHCARE UNIVERSITY NHS FOUNDATION TRUST","RDY32","KIMMERIDGE COURT","Kimmeridge Court"]
["RDYEG-Linden Unit","RDY","DORSET HEALTHCARE UNIVERSITY NHS FOUNDATION TRUST","RDYEG","WESTHAVEN HOSPITAL","Linden Unit"]
["RDYEJ-Langdon Ward","RDY","DORSET HEALTHCARE UNIVERSITY NHS FOUNDATION TRUST","RDYEJ","BRIDPORT COMMUNITY HOSPITAL","Langdon Ward"]
["RDYEJ-Radipole Ward","RDY","DORSET HEALTHCARE UNIVERSITY NHS FOUNDATION TRUST","RDYEJ","BRIDPORT COMMUNITY HOSPITAL","Radipole Ward"]
["RDYER-Tarrant Ward","RDY","DORSET HEALTHCARE UNIVERSITY NHS FOUNDATION TRUST","RDYER","BLANDFORD COMMUNITY HOSPITAL","Tarrant Ward"]
["RDYEW-Melstock House","RDY","DORSET HEALTHCARE UNIVERSITY NHS FOUNDATION TRUST","RDYEW","FORSTON CLINIC","Melstock House"]
["RDYEW-Waterston AAU","RDY","DORSET HEALTHCARE UNIVERSITY NHS FOUNDATION TRUST","RDYEW","FORSTON CLINIC","Waterston AAU"]
["RDYEY-Ashmore/Shaston Ward","RDY","DORSET HEALTHCARE UNIVERSITY NHS FOUNDATION TRUST","RDYEY","WESTMINSTER MEMORIAL HOSPITAL","Ashmore/Shaston Ward"]
["RDYFC-Willows Unit","RDY","DORSET HEALTHCARE UNIVERSITY NHS FOUNDATION TRUST","RDYFC","YEATMAN HOSPITAL","Willows Unit"]
["RDYFE-Hanham Ward","RDY","DORSET HEALTHCARE UNIVERSITY NHS FOUNDATION TRUST","RDYFE","VICTORIA HOSPITAL W'BORNE","Hanham Ward"]
["RDYFF-Stanley Purser Ward","RDY","DORSET HEALTHCARE UNIVERSITY NHS FOUNDATION TRUST","RDYFF","SWANAGE COMMUNTIY HOSPITAL","Stanley Purser Ward"]
["RDYFT-Glendinning  Unit","RDY","DORSET HEALTHCARE UNIVERSITY NHS FOUNDATION TRUST","RDYFT","MAIDEN CASTLE HOUSE","Glendinning  Unit"]
["RDYFX-Florence House","RDY","DORSET HEALTHCARE UNIVERSITY NHS FOUNDATION TRUST","RDYFX","NIGHTINGALE HOUSE","Florence House"]
["RDYFX-Nightingale Court","RDY","DORSET HEALTHCARE UNIVERSITY NHS FOUNDATION TRUST","RDYFX","NIGHTINGALE HOUSE","Nightingale Court"]
["RDYFX-Nightingale House","RDY","DORSET HEALTHCARE UNIVERSITY NHS FOUNDATION TRUST","RDYFX","NIGHTINGALE HOUSE","Nightingale House"]
["RDYMR-Pebble Lodge","RDY","DORSET HEALTHCARE UNIVERSITY NHS FOUNDATION TRUST","RDYMR","PEBBLE LODGE","Pebble Lodge"]
["RDZ01-RBMAC","RDZ","THE ROYAL BOURNEMOUTH AND CHRISTCHURCH HOSPITALS NHS FOUNDATION TRUST","RDZ01","MACMILLAN UNIT","RBMAC"]
["RDZ20-RB01","RDZ","THE ROYAL BOURNEMOUTH AND CHRISTCHURCH HOSPITALS NHS FOUNDATION TRUST","RDZ20","ROYAL BOURNEMOUTH GENERAL HOSPITAL","RB01"]
["RDZ20-RB02","RDZ","THE ROYAL BOURNEMOUTH AND CHRISTCHURCH HOSPITALS NHS FOUNDATION TRUST","RDZ20","ROYAL BOURNEMOUTH GENERAL HOSPITAL","RB02"]
["RDZ20-RB03","RDZ","THE ROYAL BOURNEMOUTH AND CHRISTCHURCH HOSPITALS NHS FOUNDATION TRUST","RDZ20","ROYAL BOURNEMOUTH GENERAL HOSPITAL","RB03"]
["RDZ20-RB04","RDZ","THE ROYAL BOURNEMOUTH AND CHRISTCHURCH HOSPITALS NHS FOUNDATION TRUST","RDZ20","ROYAL BOURNEMOUTH GENERAL HOSPITAL","RB04"]
["RDZ20-RB05","RDZ","THE ROYAL BOURNEMOUTH AND CHRISTCHURCH HOSPITALS NHS FOUNDATION TRUST","RDZ20","ROYAL BOURNEMOUTH GENERAL HOSPITAL","RB05"]
["RDZ20-RB07","RDZ","THE ROYAL BOURNEMOUTH AND CHRISTCHURCH HOSPITALS NHS FOUNDATION TRUST","RDZ20","ROYAL BOURNEMOUTH GENERAL HOSPITAL","RB07"]
["RDZ20-RB09","RDZ","THE ROYAL BOURNEMOUTH AND CHRISTCHURCH HOSPITALS NHS FOUNDATION TRUST","RDZ20","ROYAL BOURNEMOUTH GENERAL HOSPITAL","RB09"]
["RDZ20-RB11","RDZ","THE ROYAL BOURNEMOUTH AND CHRISTCHURCH HOSPITALS NHS FOUNDATION TRUST","RDZ20","ROYAL BOURNEMOUTH GENERAL HOSPITAL","RB11"]
["RDZ20-RB12SS","RDZ","THE ROYAL BOURNEMOUTH AND CHRISTCHURCH HOSPITALS NHS FOUNDATION TRUST","RDZ20","ROYAL BOURNEMOUTH GENERAL HOSPITAL","RB12SS"]
["RDZ20-RB14","RDZ","THE ROYAL BOURNEMOUTH AND CHRISTCHURCH HOSPITALS NHS FOUNDATION TRUST","RDZ20","ROYAL BOURNEMOUTH GENERAL HOSPITAL","RB14"]
["RDZ20-RB15","RDZ","THE ROYAL BOURNEMOUTH AND CHRISTCHURCH HOSPITALS NHS FOUNDATION TRUST","RDZ20","ROYAL BOURNEMOUTH GENERAL HOSPITAL","RB15"]
["RDZ20-RB16","RDZ","THE ROYAL BOURNEMOUTH AND CHRISTCHURCH HOSPITALS NHS FOUNDATION TRUST","RDZ20","ROYAL BOURNEMOUTH GENERAL HOSPITAL","RB16"]
["RDZ20-RB17","RDZ","THE ROYAL BOURNEMOUTH AND CHRISTCHURCH HOSPITALS NHS FOUNDATION TRUST","RDZ20","ROYAL BOURNEMOUTH GENERAL HOSPITAL","RB17"]
["RDZ20-RB18","RDZ","THE ROYAL BOURNEMOUTH AND CHRISTCHURCH HOSPITALS NHS FOUNDATION TRUST","RDZ20","ROYAL BOURNEMOUTH GENERAL HOSPITAL","RB18"]
["RDZ20-RB22","RDZ","THE ROYAL BOURNEMOUTH AND CHRISTCHURCH HOSPITALS NHS FOUNDATION TRUST","RDZ20","ROYAL BOURNEMOUTH GENERAL HOSPITAL","RB22"]
[{"$f":"CONCATENATE(D1347,\"-\",F1347)","v":"RDZ20-RB23"},"RDZ","THE ROYAL BOURNEMOUTH AND CHRISTCHURCH HOSPITALS NHS FOUNDATION TRUST","RDZ20","ROYAL BOURNEMOUTH GENERAL HOSPITAL","RB23"]
["RDZ20-RB24","RDZ","THE ROYAL BOURNEMOUTH AND CHRISTCHURCH HOSPITALS NHS FOUNDATION TRUST","RDZ20","ROYAL BOURNEMOUTH GENERAL HOSPITAL","RB24"]
["RDZ20-RB25","RDZ","THE ROYAL BOURNEMOUTH AND CHRISTCHURCH HOSPITALS NHS FOUNDATION TRUST","RDZ20","ROYAL BOURNEMOUTH GENERAL HOSPITAL","RB25"]
["RDZ20-RB26","RDZ","THE ROYAL BOURNEMOUTH AND CHRISTCHURCH HOSPITALS NHS FOUNDATION TRUST","RDZ20","ROYAL BOURNEMOUTH GENERAL HOSPITAL","RB26"]
["RDZ20-RBAAU","RDZ","THE ROYAL BOURNEMOUTH AND CHRISTCHURCH HOSPITALS NHS FOUNDATION TRUST","RDZ20","ROYAL BOURNEMOUTH GENERAL HOSPITAL","RBAAU"]
["RDZ20-RBCCU","RDZ","THE ROYAL BOURNEMOUTH AND CHRISTCHURCH HOSPITALS NHS FOUNDATION TRUST","RDZ20","ROYAL BOURNEMOUTH GENERAL HOSPITAL","RBCCU"]
["RDZ20-RBDER","RDZ","THE ROYAL BOURNEMOUTH AND CHRISTCHURCH HOSPITALS NHS FOUNDATION TRUST","RDZ20","ROYAL BOURNEMOUTH GENERAL HOSPITAL","RBDER"]
["RDZ20-RBITU","RDZ","THE ROYAL BOURNEMOUTH AND CHRISTCHURCH HOSPITALS NHS FOUNDATION TRUST","RDZ20","ROYAL BOURNEMOUTH GENERAL HOSPITAL","RBITU"]
["RDZ20-RBMAT","RDZ","THE ROYAL BOURNEMOUTH AND CHRISTCHURCH HOSPITALS NHS FOUNDATION TRUST","RDZ20","ROYAL BOURNEMOUTH GENERAL HOSPITAL","RBMAT"]
["RDZ20-RBO","RDZ","THE ROYAL BOURNEMOUTH AND CHRISTCHURCH HOSPITALS NHS FOUNDATION TRUST","RDZ20","ROYAL BOURNEMOUTH GENERAL HOSPITAL","RBO"]
["RDZ20-RBSSDC","RDZ","THE ROYAL BOURNEMOUTH AND CHRISTCHURCH HOSPITALS NHS FOUNDATION TRUST","RDZ20","ROYAL BOURNEMOUTH GENERAL HOSPITAL","RBSSDC"]
["RDZ20-RBSU","RDZ","THE ROYAL BOURNEMOUTH AND CHRISTCHURCH HOSPITALS NHS FOUNDATION TRUST","RDZ20","ROYAL BOURNEMOUTH GENERAL HOSPITAL","RBSU"]
["REF01-WCH - Medical Unit 1","REF","ROYAL CORNWALL HOSPITALS NHS TRUST","REF01","WEST CORNWALL HOSPITAL (PENZANCE)","WCH - Medical Unit 1"]
["REF01-WCH - Medical Unit 2","REF","ROYAL CORNWALL HOSPITALS NHS TRUST","REF01","WEST CORNWALL HOSPITAL (PENZANCE)","WCH - Medical Unit 2"]
["REF02-Marie Therese House Rehabilitation","REF","ROYAL CORNWALL HOSPITALS NHS TRUST","REF02","ST MICHAEL'S HOSPITAL","Marie Therese House Rehabilitation"]
["REF02-St Josephs Ward & St Michaels","REF","ROYAL CORNWALL HOSPITALS NHS TRUST","REF02","ST MICHAEL'S HOSPITAL","St Josephs Ward & St Michaels"]
["REF12-Acute Maternity Staff","REF","ROYAL CORNWALL HOSPITALS NHS TRUST","REF12","ROYAL CORNWALL HOSPITAL (TRELISKE)","Acute Maternity Staff"]
["REF12-Acute Medical Unit","REF","ROYAL CORNWALL HOSPITALS NHS TRUST","REF12","ROYAL CORNWALL HOSPITAL (TRELISKE)","Acute Medical Unit"]
["REF12-Acute Paeds Staffing","REF","ROYAL CORNWALL HOSPITALS NHS TRUST","REF12","ROYAL CORNWALL HOSPITAL (TRELISKE)","Acute Paeds Staffing"]
["REF12-Cardiac Investigations Unit","REF","ROYAL CORNWALL HOSPITALS NHS TRUST","REF12","ROYAL CORNWALL HOSPITAL (TRELISKE)","Cardiac Investigations Unit"]
["REF12-Coronary Care Unit","REF","ROYAL CORNWALL HOSPITALS NHS TRUST","REF12","ROYAL CORNWALL HOSPITAL (TRELISKE)","Coronary Care Unit"]
["REF12-Critical Care Unit","REF","ROYAL CORNWALL HOSPITALS NHS TRUST","REF12","ROYAL CORNWALL HOSPITAL (TRELISKE)","Critical Care Unit"]
["REF12-Eden Ward","REF","ROYAL CORNWALL HOSPITALS NHS TRUST","REF12","ROYAL CORNWALL HOSPITAL (TRELISKE)","Eden Ward"]
["REF12-Gastroenterology & Liver Unit","REF","ROYAL CORNWALL HOSPITALS NHS TRUST","REF12","ROYAL CORNWALL HOSPITAL (TRELISKE)","Gastroenterology & Liver Unit"]
["REF12-Grenville Ward","REF","ROYAL CORNWALL HOSPITALS NHS TRUST","REF12","ROYAL CORNWALL HOSPITAL (TRELISKE)","Grenville Ward"]
["REF12-Kerensa Ward","REF","ROYAL CORNWALL HOSPITALS NHS TRUST","REF12","ROYAL CORNWALL HOSPITAL (TRELISKE)","Kerensa Ward"]
["REF12-Kynance Independence Unit","REF","ROYAL CORNWALL HOSPITALS NHS TRUST","REF12","ROYAL CORNWALL HOSPITAL (TRELISKE)","Kynance Independence Unit"]
["REF12-Lowen Ward","REF","ROYAL CORNWALL HOSPITALS NHS TRUST","REF12","ROYAL CORNWALL HOSPITAL (TRELISKE)","Lowen Ward"]
["REF12-Neonatal Unit","REF","ROYAL CORNWALL HOSPITALS NHS TRUST","REF12","ROYAL CORNWALL HOSPITAL (TRELISKE)","Neonatal Unit"]
["REF12-Pendennis Ward","REF","ROYAL CORNWALL HOSPITALS NHS TRUST","REF12","ROYAL CORNWALL HOSPITAL (TRELISKE)","Pendennis Ward"]
["REF12-Phoenix Stroke Ward","REF","ROYAL CORNWALL HOSPITALS NHS TRUST","REF12","ROYAL CORNWALL HOSPITAL (TRELISKE)","Phoenix Stroke Ward"]
["REF12-Roskear Ward","REF","ROYAL CORNWALL HOSPITALS NHS TRUST","REF12","ROYAL CORNWALL HOSPITAL (TRELISKE)","Roskear Ward"]
["REF12-St Mawes Unit","REF","ROYAL CORNWALL HOSPITALS NHS TRUST","REF12","ROYAL CORNWALL HOSPITAL (TRELISKE)","St Mawes Unit"]
["REF12-Tintagel Ward","REF","ROYAL CORNWALL HOSPITALS NHS TRUST","REF12","ROYAL CORNWALL HOSPITAL (TRELISKE)","Tintagel Ward"]
["REF12-Trauma Unit","REF","ROYAL CORNWALL HOSPITALS NHS TRUST","REF12","ROYAL CORNWALL HOSPITAL (TRELISKE)","Trauma Unit"]
["REF12-Wellington Ward","REF","ROYAL CORNWALL HOSPITALS NHS TRUST","REF12","ROYAL CORNWALL HOSPITAL (TRELISKE)","Wellington Ward"]
["REF12-Wheal Coates Ward","REF","ROYAL CORNWALL HOSPITALS NHS TRUST","REF12","ROYAL CORNWALL HOSPITAL (TRELISKE)","Wheal Coates Ward"]
["REF12-Wheal Prosper Ward","REF","ROYAL CORNWALL HOSPITALS NHS TRUST","REF12","ROYAL CORNWALL HOSPITAL (TRELISKE)","Wheal Prosper Ward"]
["REM21-A2H","REM","LIVERPOOL UNIVERSITY HOSPITALS NHS FOUNDATION TRUST","REM21","UNIVERSITY HOSPITAL AINTREE","A2H"]
["REM21-ACCU","REM","LIVERPOOL UNIVERSITY HOSPITALS NHS FOUNDATION TRUST","REM21","UNIVERSITY HOSPITAL AINTREE","ACCU"]
["REM21-AMU","REM","LIVERPOOL UNIVERSITY HOSPITALS NHS FOUNDATION TRUST","REM21","UNIVERSITY HOSPITAL AINTREE","AMU"]
["REM21-Critical care","REM","LIVERPOOL UNIVERSITY HOSPITALS NHS FOUNDATION TRUST","REM21","UNIVERSITY HOSPITAL AINTREE","Critical care"]
["REM21-FAU","REM","LIVERPOOL UNIVERSITY HOSPITALS NHS FOUNDATION TRUST","REM21","UNIVERSITY HOSPITAL AINTREE","FAU"]
["REM21-MTW","REM","LIVERPOOL UNIVERSITY HOSPITALS NHS FOUNDATION TRUST","REM21","UNIVERSITY HOSPITAL AINTREE","MTW"]
["REM21-Sefton Suite","REM","LIVERPOOL UNIVERSITY HOSPITALS NHS FOUNDATION TRUST","REM21","UNIVERSITY HOSPITAL AINTREE","Sefton Suite"]
["REM21-Ward 01","REM","LIVERPOOL UNIVERSITY HOSPITALS NHS FOUNDATION TRUST","REM21","UNIVERSITY HOSPITAL AINTREE","Ward 01"]
["REM21-Ward 10","REM","LIVERPOOL UNIVERSITY HOSPITALS NHS FOUNDATION TRUST","REM21","UNIVERSITY HOSPITAL AINTREE","Ward 10"]
["REM21-Ward 11","REM","LIVERPOOL UNIVERSITY HOSPITALS NHS FOUNDATION TRUST","REM21","UNIVERSITY HOSPITAL AINTREE","Ward 11"]
["REM21-Ward 15","REM","LIVERPOOL UNIVERSITY HOSPITALS NHS FOUNDATION TRUST","REM21","UNIVERSITY HOSPITAL AINTREE","Ward 15"]
["REM21-Ward 16","REM","LIVERPOOL UNIVERSITY HOSPITALS NHS FOUNDATION TRUST","REM21","UNIVERSITY HOSPITAL AINTREE","Ward 16"]
["REM21-Ward 17","REM","LIVERPOOL UNIVERSITY HOSPITALS NHS FOUNDATION TRUST","REM21","UNIVERSITY HOSPITAL AINTREE","Ward 17"]
["REM21-Ward 20","REM","LIVERPOOL UNIVERSITY HOSPITALS NHS FOUNDATION TRUST","REM21","UNIVERSITY HOSPITAL AINTREE","Ward 20"]
["REM21-Ward 21","REM","LIVERPOOL UNIVERSITY HOSPITALS NHS FOUNDATION TRUST","REM21","UNIVERSITY HOSPITAL AINTREE","Ward 21"]
["REM21-Ward 22","REM","LIVERPOOL UNIVERSITY HOSPITALS NHS FOUNDATION TRUST","REM21","UNIVERSITY HOSPITAL AINTREE","Ward 22"]
["REM21-Ward 23","REM","LIVERPOOL UNIVERSITY HOSPITALS NHS FOUNDATION TRUST","REM21","UNIVERSITY HOSPITAL AINTREE","Ward 23"]
["REM21-Ward 24","REM","LIVERPOOL UNIVERSITY HOSPITALS NHS FOUNDATION TRUST","REM21","UNIVERSITY HOSPITAL AINTREE","Ward 24"]
["REM21-Ward 25","REM","LIVERPOOL UNIVERSITY HOSPITALS NHS FOUNDATION TRUST","REM21","UNIVERSITY HOSPITAL AINTREE","Ward 25"]
["REM21-Ward 28","REM","LIVERPOOL UNIVERSITY HOSPITALS NHS FOUNDATION TRUST","REM21","UNIVERSITY HOSPITAL AINTREE","Ward 28"]
["REM21-Ward 29/SAU","REM","LIVERPOOL UNIVERSITY HOSPITALS NHS FOUNDATION TRUST","REM21","UNIVERSITY HOSPITAL AINTREE","Ward 29/SAU"]
["REM21-Ward 3","REM","LIVERPOOL UNIVERSITY HOSPITALS NHS FOUNDATION TRUST","REM21","UNIVERSITY HOSPITAL AINTREE","Ward 3"]
["REM21-Ward 30","REM","LIVERPOOL UNIVERSITY HOSPITALS NHS FOUNDATION TRUST","REM21","UNIVERSITY HOSPITAL AINTREE","Ward 30"]
["REM21-Ward 32","REM","LIVERPOOL UNIVERSITY HOSPITALS NHS FOUNDATION TRUST","REM21","UNIVERSITY HOSPITAL AINTREE","Ward 32"]
["REM21-Ward 33","REM","LIVERPOOL UNIVERSITY HOSPITALS NHS FOUNDATION TRUST","REM21","UNIVERSITY HOSPITAL AINTREE","Ward 33"]
["REM21-Ward 34","REM","LIVERPOOL UNIVERSITY HOSPITALS NHS FOUNDATION TRUST","REM21","UNIVERSITY HOSPITAL AINTREE","Ward 34"]
[{"$f":"CONCATENATE(D1411,\"-\",F1411)","v":"REM21-Ward 4"},"REM","LIVERPOOL UNIVERSITY HOSPITALS NHS FOUNDATION TRUST","REM21","UNIVERSITY HOSPITAL AINTREE","Ward 4"]
["REM21-Ward 6","REM","LIVERPOOL UNIVERSITY HOSPITALS NHS FOUNDATION TRUST","REM21","UNIVERSITY HOSPITAL AINTREE","Ward 6"]
["REM21-Ward 8","REM","LIVERPOOL UNIVERSITY HOSPITALS NHS FOUNDATION TRUST","REM21","UNIVERSITY HOSPITAL AINTREE","Ward 8"]
["REMAH-SRU","REM","LIVERPOOL UNIVERSITY HOSPITALS NHS FOUNDATION TRUST","REMAH","BROADGREEN HOSPITAL","SRU"]
["REMAH-Ward 1","REM","LIVERPOOL UNIVERSITY HOSPITALS NHS FOUNDATION TRUST","REMAH","BROADGREEN HOSPITAL","Ward 1"]
["REMAH-Ward 11","REM","LIVERPOOL UNIVERSITY HOSPITALS NHS FOUNDATION TRUST","REMAH","BROADGREEN HOSPITAL","Ward 11"]
["REMAH-Ward 2","REM","LIVERPOOL UNIVERSITY HOSPITALS NHS FOUNDATION TRUST","REMAH","BROADGREEN HOSPITAL","Ward 2"]
["REMAH-Ward 3","REM","LIVERPOOL UNIVERSITY HOSPITALS NHS FOUNDATION TRUST","REMAH","BROADGREEN HOSPITAL","Ward 3"]
["REMAH-Ward 4","REM","LIVERPOOL UNIVERSITY HOSPITALS NHS FOUNDATION TRUST","REMAH","BROADGREEN HOSPITAL","Ward 4"]
["REMAH-Ward 5","REM","LIVERPOOL UNIVERSITY HOSPITALS NHS FOUNDATION TRUST","REMAH","BROADGREEN HOSPITAL","Ward 5"]
["REMAH-Ward 9","REM","LIVERPOOL UNIVERSITY HOSPITALS NHS FOUNDATION TRUST","REMAH","BROADGREEN HOSPITAL","Ward 9"]
["REMRQ-2A","REM","LIVERPOOL UNIVERSITY HOSPITALS NHS FOUNDATION TRUST","REMRQ","ROYAL LIVERPOOL UNIVERSITY HOSPITAL","2A"]
["REMRQ-2B","REM","LIVERPOOL UNIVERSITY HOSPITALS NHS FOUNDATION TRUST","REMRQ","ROYAL LIVERPOOL UNIVERSITY HOSPITAL","2B"]
["REMRQ-2Y / SU","REM","LIVERPOOL UNIVERSITY HOSPITALS NHS FOUNDATION TRUST","REMRQ","ROYAL LIVERPOOL UNIVERSITY HOSPITAL","2Y / SU"]
["REMRQ-3A","REM","LIVERPOOL UNIVERSITY HOSPITALS NHS FOUNDATION TRUST","REMRQ","ROYAL LIVERPOOL UNIVERSITY HOSPITAL","3A"]
["REMRQ-3X","REM","LIVERPOOL UNIVERSITY HOSPITALS NHS FOUNDATION TRUST","REMRQ","ROYAL LIVERPOOL UNIVERSITY HOSPITAL","3X"]
["REMRQ-3Y","REM","LIVERPOOL UNIVERSITY HOSPITALS NHS FOUNDATION TRUST","REMRQ","ROYAL LIVERPOOL UNIVERSITY HOSPITAL","3Y"]
["REMRQ-4A","REM","LIVERPOOL UNIVERSITY HOSPITALS NHS FOUNDATION TRUST","REMRQ","ROYAL LIVERPOOL UNIVERSITY HOSPITAL","4A"]
["REMRQ-4B","REM","LIVERPOOL UNIVERSITY HOSPITALS NHS FOUNDATION TRUST","REMRQ","ROYAL LIVERPOOL UNIVERSITY HOSPITAL","4B"]
["REMRQ-5A","REM","LIVERPOOL UNIVERSITY HOSPITALS NHS FOUNDATION TRUST","REMRQ","ROYAL LIVERPOOL UNIVERSITY HOSPITAL","5A"]
["REMRQ-5B","REM","LIVERPOOL UNIVERSITY HOSPITALS NHS FOUNDATION TRUST","REMRQ","ROYAL LIVERPOOL UNIVERSITY HOSPITAL","5B"]
["REMRQ-5X","REM","LIVERPOOL UNIVERSITY HOSPITALS NHS FOUNDATION TRUST","REMRQ","ROYAL LIVERPOOL UNIVERSITY HOSPITAL","5X"]
["REMRQ-5Y","REM","LIVERPOOL UNIVERSITY HOSPITALS NHS FOUNDATION TRUST","REMRQ","ROYAL LIVERPOOL UNIVERSITY HOSPITAL","5Y"]
["REMRQ-6A","REM","LIVERPOOL UNIVERSITY HOSPITALS NHS FOUNDATION TRUST","REMRQ","ROYAL LIVERPOOL UNIVERSITY HOSPITAL","6A"]
["REMRQ-6X","REM","LIVERPOOL UNIVERSITY HOSPITALS NHS FOUNDATION TRUST","REMRQ","ROYAL LIVERPOOL UNIVERSITY HOSPITAL","6X"]
["REMRQ-6Y","REM","LIVERPOOL UNIVERSITY HOSPITALS NHS FOUNDATION TRUST","REMRQ","ROYAL LIVERPOOL UNIVERSITY HOSPITAL","6Y"]
["REMRQ-7A","REM","LIVERPOOL UNIVERSITY HOSPITALS NHS FOUNDATION TRUST","REMRQ","ROYAL LIVERPOOL UNIVERSITY HOSPITAL","7A"]
["REMRQ-7B","REM","LIVERPOOL UNIVERSITY HOSPITALS NHS FOUNDATION TRUST","REMRQ","ROYAL LIVERPOOL UNIVERSITY HOSPITAL","7B"]
["REMRQ-8A","REM","LIVERPOOL UNIVERSITY HOSPITALS NHS FOUNDATION TRUST","REMRQ","ROYAL LIVERPOOL UNIVERSITY HOSPITAL","8A"]
["REMRQ-8HDU","REM","LIVERPOOL UNIVERSITY HOSPITALS NHS FOUNDATION TRUST","REMRQ","ROYAL LIVERPOOL UNIVERSITY HOSPITAL","8HDU"]
["REMRQ-8X","REM","LIVERPOOL UNIVERSITY HOSPITALS NHS FOUNDATION TRUST","REMRQ","ROYAL LIVERPOOL UNIVERSITY HOSPITAL","8X"]
["REMRQ-8Y","REM","LIVERPOOL UNIVERSITY HOSPITALS NHS FOUNDATION TRUST","REMRQ","ROYAL LIVERPOOL UNIVERSITY HOSPITAL","8Y"]
["REMRQ-9A","REM","LIVERPOOL UNIVERSITY HOSPITALS NHS FOUNDATION TRUST","REMRQ","ROYAL LIVERPOOL UNIVERSITY HOSPITAL","9A"]
["REMRQ-9HDU","REM","LIVERPOOL UNIVERSITY HOSPITALS NHS FOUNDATION TRUST","REMRQ","ROYAL LIVERPOOL UNIVERSITY HOSPITAL","9HDU"]
["REMRQ-9X","REM","LIVERPOOL UNIVERSITY HOSPITALS NHS FOUNDATION TRUST","REMRQ","ROYAL LIVERPOOL UNIVERSITY HOSPITAL","9X"]
["REMRQ-9Y","REM","LIVERPOOL UNIVERSITY HOSPITALS NHS FOUNDATION TRUST","REMRQ","ROYAL LIVERPOOL UNIVERSITY HOSPITAL","9Y"]
["REMRQ-ACU","REM","LIVERPOOL UNIVERSITY HOSPITALS NHS FOUNDATION TRUST","REMRQ","ROYAL LIVERPOOL UNIVERSITY HOSPITAL","ACU"]
["REMRQ-AIFU","REM","LIVERPOOL UNIVERSITY HOSPITALS NHS FOUNDATION TRUST","REMRQ","ROYAL LIVERPOOL UNIVERSITY HOSPITAL","AIFU"]
["REMRQ-AMU","REM","LIVERPOOL UNIVERSITY HOSPITALS NHS FOUNDATION TRUST","REMRQ","ROYAL LIVERPOOL UNIVERSITY HOSPITAL","AMU"]
["REMRQ-APCU","REM","LIVERPOOL UNIVERSITY HOSPITALS NHS FOUNDATION TRUST","REMRQ","ROYAL LIVERPOOL UNIVERSITY HOSPITAL","APCU"]
["REMRQ-ESAU","REM","LIVERPOOL UNIVERSITY HOSPITALS NHS FOUNDATION TRUST","REMRQ","ROYAL LIVERPOOL UNIVERSITY HOSPITAL","ESAU"]
["REMRQ-ITU","REM","LIVERPOOL UNIVERSITY HOSPITALS NHS FOUNDATION TRUST","REMRQ","ROYAL LIVERPOOL UNIVERSITY HOSPITAL","ITU"]
["REMRQ-POCU","REM","LIVERPOOL UNIVERSITY HOSPITALS NHS FOUNDATION TRUST","REMRQ","ROYAL LIVERPOOL UNIVERSITY HOSPITAL","POCU"]
["REN20-Conway","REN","THE CLATTERBRIDGE CANCER CENTRE NHS FOUNDATION TRUST","REN20","THE CLATTERBRIDGE CANCER CENTRE","Conway"]
["REN20-Mersey","REN","THE CLATTERBRIDGE CANCER CENTRE NHS FOUNDATION TRUST","REN20","THE CLATTERBRIDGE CANCER CENTRE","Mersey"]
["REN20-Sulby","REN","THE CLATTERBRIDGE CANCER CENTRE NHS FOUNDATION TRUST","REN20","THE CLATTERBRIDGE CANCER CENTRE","Sulby"]
["REN22-10Z and 7X","REN","THE CLATTERBRIDGE CANCER CENTRE NHS FOUNDATION TRUST","REN22","HAEMATO-ONCOLOGY","10Z and 7X"]
["REN22-7Y","REN","THE CLATTERBRIDGE CANCER CENTRE NHS FOUNDATION TRUST","REN22","HAEMATO-ONCOLOGY","7Y"]
["REP01-Gynae Ward","REP","LIVERPOOL WOMEN'S NHS FOUNDATION TRUST","REP01","LIVERPOOL WOMENS HOSPITAL","Gynae Ward"]
["REP01-Induction&Delivery Suites","REP","LIVERPOOL WOMEN'S NHS FOUNDATION TRUST","REP01","LIVERPOOL WOMENS HOSPITAL","Induction&Delivery Suites"]
["REP01-Jeffcoate","REP","LIVERPOOL WOMEN'S NHS FOUNDATION TRUST","REP01","LIVERPOOL WOMENS HOSPITAL","Jeffcoate"]
["REP01-Maternity Base","REP","LIVERPOOL WOMEN'S NHS FOUNDATION TRUST","REP01","LIVERPOOL WOMENS HOSPITAL","Maternity Base"]
["REP01-MLU","REP","LIVERPOOL WOMEN'S NHS FOUNDATION TRUST","REP01","LIVERPOOL WOMENS HOSPITAL","MLU"]
["REP01-Neonatal Care","REP","LIVERPOOL WOMEN'S NHS FOUNDATION TRUST","REP01","LIVERPOOL WOMENS HOSPITAL","Neonatal Care"]
["RET20-Cairns","RET","THE WALTON CENTRE NHS FOUNDATION TRUST","RET20","THE WALTON CENTRE FOR NEUROLOGY AND NEUROSURGERY NHS TRUST","Cairns"]
["RET20-Caton","RET","THE WALTON CENTRE NHS FOUNDATION TRUST","RET20","THE WALTON CENTRE FOR NEUROLOGY AND NEUROSURGERY NHS TRUST","Caton"]
["RET20-Chavasse","RET","THE WALTON CENTRE NHS FOUNDATION TRUST","RET20","THE WALTON CENTRE FOR NEUROLOGY AND NEUROSURGERY NHS TRUST","Chavasse"]
["RET20-CRU","RET","THE WALTON CENTRE NHS FOUNDATION TRUST","RET20","THE WALTON CENTRE FOR NEUROLOGY AND NEUROSURGERY NHS TRUST","CRU"]
["RET20-Dott","RET","THE WALTON CENTRE NHS FOUNDATION TRUST","RET20","THE WALTON CENTRE FOR NEUROLOGY AND NEUROSURGERY NHS TRUST","Dott"]
["RET20-Horsley ITU","RET","THE WALTON CENTRE NHS FOUNDATION TRUST","RET20","THE WALTON CENTRE FOR NEUROLOGY AND NEUROSURGERY NHS TRUST","Horsley ITU"]
["RET20-Lipton","RET","THE WALTON CENTRE NHS FOUNDATION TRUST","RET20","THE WALTON CENTRE FOR NEUROLOGY AND NEUROSURGERY NHS TRUST","Lipton"]
["RET20-Sherrington","RET","THE WALTON CENTRE NHS FOUNDATION TRUST","RET20","THE WALTON CENTRE FOR NEUROLOGY AND NEUROSURGERY NHS TRUST","Sherrington"]
["RF4DG-Ash","RF4","BARKING, HAVERING AND REDBRIDGE UNIVERSITY HOSPITALS NHS TRUST","RF4DG","KING GEORGE HOSPITAL","Ash"]
["RF4DG-Beech","RF4","BARKING, HAVERING AND REDBRIDGE UNIVERSITY HOSPITALS NHS TRUST","RF4DG","KING GEORGE HOSPITAL","Beech"]
[{"$f":"CONCATENATE(D1475,\"-\",F1475)","v":"RF4DG-CAU KGH"},"RF4","BARKING, HAVERING AND REDBRIDGE UNIVERSITY HOSPITALS NHS TRUST","RF4DG","KING GEORGE HOSPITAL","CAU KGH"]
["RF4DG-Clover","RF4","BARKING, HAVERING AND REDBRIDGE UNIVERSITY HOSPITALS NHS TRUST","RF4DG","KING GEORGE HOSPITAL","Clover"]
["RF4DG-Dahlia","RF4","BARKING, HAVERING AND REDBRIDGE UNIVERSITY HOSPITALS NHS TRUST","RF4DG","KING GEORGE HOSPITAL","Dahlia"]
["RF4DG-Erica","RF4","BARKING, HAVERING AND REDBRIDGE UNIVERSITY HOSPITALS NHS TRUST","RF4DG","KING GEORGE HOSPITAL","Erica"]
["RF4DG-Fern","RF4","BARKING, HAVERING AND REDBRIDGE UNIVERSITY HOSPITALS NHS TRUST","RF4DG","KING GEORGE HOSPITAL","Fern"]
["RF4DG-Gardenia","RF4","BARKING, HAVERING AND REDBRIDGE UNIVERSITY HOSPITALS NHS TRUST","RF4DG","KING GEORGE HOSPITAL","Gardenia"]
["RF4DG-Gentian","RF4","BARKING, HAVERING AND REDBRIDGE UNIVERSITY HOSPITALS NHS TRUST","RF4DG","KING GEORGE HOSPITAL","Gentian"]
["RF4DG-Heather","RF4","BARKING, HAVERING AND REDBRIDGE UNIVERSITY HOSPITALS NHS TRUST","RF4DG","KING GEORGE HOSPITAL","Heather"]
["RF4DG-Holly","RF4","BARKING, HAVERING AND REDBRIDGE UNIVERSITY HOSPITALS NHS TRUST","RF4DG","KING GEORGE HOSPITAL","Holly"]
["RF4DG-Iris","RF4","BARKING, HAVERING AND REDBRIDGE UNIVERSITY HOSPITALS NHS TRUST","RF4DG","KING GEORGE HOSPITAL","Iris"]
["RF4DG-KGH ITU","RF4","BARKING, HAVERING AND REDBRIDGE UNIVERSITY HOSPITALS NHS TRUST","RF4DG","KING GEORGE HOSPITAL","KGH ITU"]
["RF4QH-Amber A","RF4","BARKING, HAVERING AND REDBRIDGE UNIVERSITY HOSPITALS NHS TRUST","RF4QH","QUEEN'S HOSPITAL","Amber A"]
["RF4QH-Amber B","RF4","BARKING, HAVERING AND REDBRIDGE UNIVERSITY HOSPITALS NHS TRUST","RF4QH","QUEEN'S HOSPITAL","Amber B"]
["RF4QH-Antenatal","RF4","BARKING, HAVERING AND REDBRIDGE UNIVERSITY HOSPITALS NHS TRUST","RF4QH","QUEEN'S HOSPITAL","Antenatal"]
["RF4QH-Bluebell A","RF4","BARKING, HAVERING AND REDBRIDGE UNIVERSITY HOSPITALS NHS TRUST","RF4QH","QUEEN'S HOSPITAL","Bluebell A"]
["RF4QH-Bluebell B","RF4","BARKING, HAVERING AND REDBRIDGE UNIVERSITY HOSPITALS NHS TRUST","RF4QH","QUEEN'S HOSPITAL","Bluebell B"]
["RF4QH-CCU","RF4","BARKING, HAVERING AND REDBRIDGE UNIVERSITY HOSPITALS NHS TRUST","RF4QH","QUEEN'S HOSPITAL","CCU"]
["RF4QH-Clementine A","RF4","BARKING, HAVERING AND REDBRIDGE UNIVERSITY HOSPITALS NHS TRUST","RF4QH","QUEEN'S HOSPITAL","Clementine A"]
["RF4QH-Clementine B","RF4","BARKING, HAVERING AND REDBRIDGE UNIVERSITY HOSPITALS NHS TRUST","RF4QH","QUEEN'S HOSPITAL","Clementine B"]
["RF4QH-Coral","RF4","BARKING, HAVERING AND REDBRIDGE UNIVERSITY HOSPITALS NHS TRUST","RF4QH","QUEEN'S HOSPITAL","Coral"]
["RF4QH-Cornflower B","RF4","BARKING, HAVERING AND REDBRIDGE UNIVERSITY HOSPITALS NHS TRUST","RF4QH","QUEEN'S HOSPITAL","Cornflower B"]
["RF4QH-ERU","RF4","BARKING, HAVERING AND REDBRIDGE UNIVERSITY HOSPITALS NHS TRUST","RF4QH","QUEEN'S HOSPITAL","ERU"]
["RF4QH-Harvest A","RF4","BARKING, HAVERING AND REDBRIDGE UNIVERSITY HOSPITALS NHS TRUST","RF4QH","QUEEN'S HOSPITAL","Harvest A"]
["RF4QH-Harvest B","RF4","BARKING, HAVERING AND REDBRIDGE UNIVERSITY HOSPITALS NHS TRUST","RF4QH","QUEEN'S HOSPITAL","Harvest B"]
["RF4QH-HASU","RF4","BARKING, HAVERING AND REDBRIDGE UNIVERSITY HOSPITALS NHS TRUST","RF4QH","QUEEN'S HOSPITAL","HASU"]
["RF4QH-Mandarin A","RF4","BARKING, HAVERING AND REDBRIDGE UNIVERSITY HOSPITALS NHS TRUST","RF4QH","QUEEN'S HOSPITAL","Mandarin A"]
["RF4QH-Mandarin B","RF4","BARKING, HAVERING AND REDBRIDGE UNIVERSITY HOSPITALS NHS TRUST","RF4QH","QUEEN'S HOSPITAL","Mandarin B"]
["RF4QH-MRU","RF4","BARKING, HAVERING AND REDBRIDGE UNIVERSITY HOSPITALS NHS TRUST","RF4QH","QUEEN'S HOSPITAL","MRU"]
["RF4QH-Ocean A","RF4","BARKING, HAVERING AND REDBRIDGE UNIVERSITY HOSPITALS NHS TRUST","RF4QH","QUEEN'S HOSPITAL","Ocean A"]
["RF4QH-Ocean B","RF4","BARKING, HAVERING AND REDBRIDGE UNIVERSITY HOSPITALS NHS TRUST","RF4QH","QUEEN'S HOSPITAL","Ocean B"]
["RF4QH-Postnatal","RF4","BARKING, HAVERING AND REDBRIDGE UNIVERSITY HOSPITALS NHS TRUST","RF4QH","QUEEN'S HOSPITAL","Postnatal"]
["RF4QH-Queens ITU","RF4","BARKING, HAVERING AND REDBRIDGE UNIVERSITY HOSPITALS NHS TRUST","RF4QH","QUEEN'S HOSPITAL","Queens ITU"]
["RF4QH-Queens Neuro ITU","RF4","BARKING, HAVERING AND REDBRIDGE UNIVERSITY HOSPITALS NHS TRUST","RF4QH","QUEEN'S HOSPITAL","Queens Neuro ITU"]
["RF4QH-Sahara A","RF4","BARKING, HAVERING AND REDBRIDGE UNIVERSITY HOSPITALS NHS TRUST","RF4QH","QUEEN'S HOSPITAL","Sahara A"]
["RF4QH-Sahara B","RF4","BARKING, HAVERING AND REDBRIDGE UNIVERSITY HOSPITALS NHS TRUST","RF4QH","QUEEN'S HOSPITAL","Sahara B"]
["RF4QH-SAU","RF4","BARKING, HAVERING AND REDBRIDGE UNIVERSITY HOSPITALS NHS TRUST","RF4QH","QUEEN'S HOSPITAL","SAU"]
["RF4QH-SCBU","RF4","BARKING, HAVERING AND REDBRIDGE UNIVERSITY HOSPITALS NHS TRUST","RF4QH","QUEEN'S HOSPITAL","SCBU"]
["RF4QH-Sunrise A","RF4","BARKING, HAVERING AND REDBRIDGE UNIVERSITY HOSPITALS NHS TRUST","RF4QH","QUEEN'S HOSPITAL","Sunrise A"]
["RF4QH-Sunrise B","RF4","BARKING, HAVERING AND REDBRIDGE UNIVERSITY HOSPITALS NHS TRUST","RF4QH","QUEEN'S HOSPITAL","Sunrise B"]
["RF4QH-Tropical Lagoon","RF4","BARKING, HAVERING AND REDBRIDGE UNIVERSITY HOSPITALS NHS TRUST","RF4QH","QUEEN'S HOSPITAL","Tropical Lagoon"]
["RFFAA-AMU","RFF","BARNSLEY HOSPITAL NHS FOUNDATION TRUST","RFFAA","BARNSLEY HOSPITAL NHS FOUNDATION TRUST HQ","AMU"]
["RFFAA-AN/PN","RFF","BARNSLEY HOSPITAL NHS FOUNDATION TRUST","RFFAA","BARNSLEY HOSPITAL NHS FOUNDATION TRUST HQ","AN/PN"]
["RFFAA-Birthing Centre","RFF","BARNSLEY HOSPITAL NHS FOUNDATION TRUST","RFFAA","BARNSLEY HOSPITAL NHS FOUNDATION TRUST HQ","Birthing Centre"]
["RFFAA-CCU","RFF","BARNSLEY HOSPITAL NHS FOUNDATION TRUST","RFFAA","BARNSLEY HOSPITAL NHS FOUNDATION TRUST HQ","CCU"]
["RFFAA-Gynae Inpatient Ward","RFF","BARNSLEY HOSPITAL NHS FOUNDATION TRUST","RFFAA","BARNSLEY HOSPITAL NHS FOUNDATION TRUST HQ","Gynae Inpatient Ward"]
["RFFAA-ITU","RFF","BARNSLEY HOSPITAL NHS FOUNDATION TRUST","RFFAA","BARNSLEY HOSPITAL NHS FOUNDATION TRUST HQ","ITU"]
["RFFAA-SHDU","RFF","BARNSLEY HOSPITAL NHS FOUNDATION TRUST","RFFAA","BARNSLEY HOSPITAL NHS FOUNDATION TRUST HQ","SHDU"]
["RFFAA-Ward 15 NNU","RFF","BARNSLEY HOSPITAL NHS FOUNDATION TRUST","RFFAA","BARNSLEY HOSPITAL NHS FOUNDATION TRUST HQ","Ward 15 NNU"]
["RFFAA-Ward 17","RFF","BARNSLEY HOSPITAL NHS FOUNDATION TRUST","RFFAA","BARNSLEY HOSPITAL NHS FOUNDATION TRUST HQ","Ward 17"]
["RFFAA-Ward 18","RFF","BARNSLEY HOSPITAL NHS FOUNDATION TRUST","RFFAA","BARNSLEY HOSPITAL NHS FOUNDATION TRUST HQ","Ward 18"]
["RFFAA-Ward 19 Elderly","RFF","BARNSLEY HOSPITAL NHS FOUNDATION TRUST","RFFAA","BARNSLEY HOSPITAL NHS FOUNDATION TRUST HQ","Ward 19 Elderly"]
["RFFAA-Ward 20 ASU","RFF","BARNSLEY HOSPITAL NHS FOUNDATION TRUST","RFFAA","BARNSLEY HOSPITAL NHS FOUNDATION TRUST HQ","Ward 20 ASU"]
["RFFAA-Ward 21","RFF","BARNSLEY HOSPITAL NHS FOUNDATION TRUST","RFFAA","BARNSLEY HOSPITAL NHS FOUNDATION TRUST HQ","Ward 21"]
["RFFAA-Ward 22 Diabetes/Endo","RFF","BARNSLEY HOSPITAL NHS FOUNDATION TRUST","RFFAA","BARNSLEY HOSPITAL NHS FOUNDATION TRUST HQ","Ward 22 Diabetes/Endo"]
["RFFAA-Ward 23 Frailty Unit","RFF","BARNSLEY HOSPITAL NHS FOUNDATION TRUST","RFFAA","BARNSLEY HOSPITAL NHS FOUNDATION TRUST HQ","Ward 23 Frailty Unit"]
["RFFAA-Ward 24","RFF","BARNSLEY HOSPITAL NHS FOUNDATION TRUST","RFFAA","BARNSLEY HOSPITAL NHS FOUNDATION TRUST HQ","Ward 24"]
["RFFAA-Ward 29 SSU","RFF","BARNSLEY HOSPITAL NHS FOUNDATION TRUST","RFFAA","BARNSLEY HOSPITAL NHS FOUNDATION TRUST HQ","Ward 29 SSU"]
["RFFAA-Ward 30 General Medical Ward","RFF","BARNSLEY HOSPITAL NHS FOUNDATION TRUST","RFFAA","BARNSLEY HOSPITAL NHS FOUNDATION TRUST HQ","Ward 30 General Medical Ward"]
["RFFAA-Ward 31 SA","RFF","BARNSLEY HOSPITAL NHS FOUNDATION TRUST","RFFAA","BARNSLEY HOSPITAL NHS FOUNDATION TRUST HQ","Ward 31 SA"]
["RFFAA-Ward 32","RFF","BARNSLEY HOSPITAL NHS FOUNDATION TRUST","RFFAA","BARNSLEY HOSPITAL NHS FOUNDATION TRUST HQ","Ward 32"]
["RFFAA-Ward 33","RFF","BARNSLEY HOSPITAL NHS FOUNDATION TRUST","RFFAA","BARNSLEY HOSPITAL NHS FOUNDATION TRUST HQ","Ward 33"]
["RFFAA-Ward 34","RFF","BARNSLEY HOSPITAL NHS FOUNDATION TRUST","RFFAA","BARNSLEY HOSPITAL NHS FOUNDATION TRUST HQ","Ward 34"]
["RFFAA-Ward 37","RFF","BARNSLEY HOSPITAL NHS FOUNDATION TRUST","RFFAA","BARNSLEY HOSPITAL NHS FOUNDATION TRUST HQ","Ward 37"]
["RFRPA-A1","RFR","THE ROTHERHAM NHS FOUNDATION TRUST","RFRPA","ROTHERHAM DISTRICT GENERAL HOSPITAL","A1"]
[{"$f":"CONCATENATE(D1539,\"-\",F1539)","v":"RFRPA-A2"},"RFR","THE ROTHERHAM NHS FOUNDATION TRUST","RFRPA","ROTHERHAM DISTRICT GENERAL HOSPITAL","A2"]
["RFRPA-A3","RFR","THE ROTHERHAM NHS FOUNDATION TRUST","RFRPA","ROTHERHAM DISTRICT GENERAL HOSPITAL","A3"]
["RFRPA-A5","RFR","THE ROTHERHAM NHS FOUNDATION TRUST","RFRPA","ROTHERHAM DISTRICT GENERAL HOSPITAL","A5"]
["RFRPA-A7","RFR","THE ROTHERHAM NHS FOUNDATION TRUST","RFRPA","ROTHERHAM DISTRICT GENERAL HOSPITAL","A7"]
["RFRPA-AMU","RFR","THE ROTHERHAM NHS FOUNDATION TRUST","RFRPA","ROTHERHAM DISTRICT GENERAL HOSPITAL","AMU"]
["RFRPA-ASU","RFR","THE ROTHERHAM NHS FOUNDATION TRUST","RFRPA","ROTHERHAM DISTRICT GENERAL HOSPITAL","ASU"]
["RFRPA-B11","RFR","THE ROTHERHAM NHS FOUNDATION TRUST","RFRPA","ROTHERHAM DISTRICT GENERAL HOSPITAL","B11"]
["RFRPA-B5","RFR","THE ROTHERHAM NHS FOUNDATION TRUST","RFRPA","ROTHERHAM DISTRICT GENERAL HOSPITAL","B5"]
["RFRPA-CCU","RFR","THE ROTHERHAM NHS FOUNDATION TRUST","RFRPA","ROTHERHAM DISTRICT GENERAL HOSPITAL","CCU"]
["RFRPA-Childrens Ward","RFR","THE ROTHERHAM NHS FOUNDATION TRUST","RFRPA","ROTHERHAM DISTRICT GENERAL HOSPITAL","Childrens Ward"]
["RFRPA-Community Unit","RFR","THE ROTHERHAM NHS FOUNDATION TRUST","RFRPA","ROTHERHAM DISTRICT GENERAL HOSPITAL","Community Unit"]
["RFRPA-Critical Care","RFR","THE ROTHERHAM NHS FOUNDATION TRUST","RFRPA","ROTHERHAM DISTRICT GENERAL HOSPITAL","Critical Care"]
["RFRPA-Fitzwilliam","RFR","THE ROTHERHAM NHS FOUNDATION TRUST","RFRPA","ROTHERHAM DISTRICT GENERAL HOSPITAL","Fitzwilliam"]
["RFRPA-Keppel","RFR","THE ROTHERHAM NHS FOUNDATION TRUST","RFRPA","ROTHERHAM DISTRICT GENERAL HOSPITAL","Keppel"]
["RFRPA-Labour Ward","RFR","THE ROTHERHAM NHS FOUNDATION TRUST","RFRPA","ROTHERHAM DISTRICT GENERAL HOSPITAL","Labour Ward"]
["RFRPA-Neuro Rehab","RFR","THE ROTHERHAM NHS FOUNDATION TRUST","RFRPA","ROTHERHAM DISTRICT GENERAL HOSPITAL","Neuro Rehab"]
["RFRPA-SCBU","RFR","THE ROTHERHAM NHS FOUNDATION TRUST","RFRPA","ROTHERHAM DISTRICT GENERAL HOSPITAL","SCBU"]
["RFRPA-Sitwell","RFR","THE ROTHERHAM NHS FOUNDATION TRUST","RFRPA","ROTHERHAM DISTRICT GENERAL HOSPITAL","Sitwell"]
["RFRPA-Stroke Unit","RFR","THE ROTHERHAM NHS FOUNDATION TRUST","RFRPA","ROTHERHAM DISTRICT GENERAL HOSPITAL","Stroke Unit"]
["RFRPA-Wharncliffe","RFR","THE ROTHERHAM NHS FOUNDATION TRUST","RFRPA","ROTHERHAM DISTRICT GENERAL HOSPITAL","Wharncliffe"]
["RFSDA-ASHOVER","RFS","CHESTERFIELD ROYAL HOSPITAL NHS FOUNDATION TRUST","RFSDA","CHESTERFIELD ROYAL HOSPITAL","ASHOVER"]
["RFSDA-BARNES","RFS","CHESTERFIELD ROYAL HOSPITAL NHS FOUNDATION TRUST","RFSDA","CHESTERFIELD ROYAL HOSPITAL","BARNES"]
["RFSDA-CBC","RFS","CHESTERFIELD ROYAL HOSPITAL NHS FOUNDATION TRUST","RFSDA","CHESTERFIELD ROYAL HOSPITAL","CBC"]
["RFSDA-DEVONSHIRE","RFS","CHESTERFIELD ROYAL HOSPITAL NHS FOUNDATION TRUST","RFSDA","CHESTERFIELD ROYAL HOSPITAL","DEVONSHIRE"]
["RFSDA-DURRANT","RFS","CHESTERFIELD ROYAL HOSPITAL NHS FOUNDATION TRUST","RFSDA","CHESTERFIELD ROYAL HOSPITAL","DURRANT"]
["RFSDA-EASTWOOD","RFS","CHESTERFIELD ROYAL HOSPITAL NHS FOUNDATION TRUST","RFSDA","CHESTERFIELD ROYAL HOSPITAL","EASTWOOD"]
["RFSDA-ELMTON","RFS","CHESTERFIELD ROYAL HOSPITAL NHS FOUNDATION TRUST","RFSDA","CHESTERFIELD ROYAL HOSPITAL","ELMTON"]
["RFSDA-EMU","RFS","CHESTERFIELD ROYAL HOSPITAL NHS FOUNDATION TRUST","RFSDA","CHESTERFIELD ROYAL HOSPITAL","EMU"]
["RFSDA-HASLAND","RFS","CHESTERFIELD ROYAL HOSPITAL NHS FOUNDATION TRUST","RFSDA","CHESTERFIELD ROYAL HOSPITAL","HASLAND"]
["RFSDA-HDU","RFS","CHESTERFIELD ROYAL HOSPITAL NHS FOUNDATION TRUST","RFSDA","CHESTERFIELD ROYAL HOSPITAL","HDU"]
["RFSDA-ITU","RFS","CHESTERFIELD ROYAL HOSPITAL NHS FOUNDATION TRUST","RFSDA","CHESTERFIELD ROYAL HOSPITAL","ITU"]
["RFSDA-MANVERS","RFS","CHESTERFIELD ROYAL HOSPITAL NHS FOUNDATION TRUST","RFSDA","CHESTERFIELD ROYAL HOSPITAL","MANVERS"]
["RFSDA-MARKHAM","RFS","CHESTERFIELD ROYAL HOSPITAL NHS FOUNDATION TRUST","RFSDA","CHESTERFIELD ROYAL HOSPITAL","MARKHAM"]
["RFSDA-MURPHY","RFS","CHESTERFIELD ROYAL HOSPITAL NHS FOUNDATION TRUST","RFSDA","CHESTERFIELD ROYAL HOSPITAL","MURPHY"]
["RFSDA-NIGHTINGALE","RFS","CHESTERFIELD ROYAL HOSPITAL NHS FOUNDATION TRUST","RFSDA","CHESTERFIELD ROYAL HOSPITAL","NIGHTINGALE"]
["RFSDA-NNU","RFS","CHESTERFIELD ROYAL HOSPITAL NHS FOUNDATION TRUST","RFSDA","CHESTERFIELD ROYAL HOSPITAL","NNU"]
["RFSDA-PEARSON","RFS","CHESTERFIELD ROYAL HOSPITAL NHS FOUNDATION TRUST","RFSDA","CHESTERFIELD ROYAL HOSPITAL","PEARSON"]
["RFSDA-RIDGEWAY","RFS","CHESTERFIELD ROYAL HOSPITAL NHS FOUNDATION TRUST","RFSDA","CHESTERFIELD ROYAL HOSPITAL","RIDGEWAY"]
["RFSDA-ROBINSON","RFS","CHESTERFIELD ROYAL HOSPITAL NHS FOUNDATION TRUST","RFSDA","CHESTERFIELD ROYAL HOSPITAL","ROBINSON"]
["RFSDA-TRINITY","RFS","CHESTERFIELD ROYAL HOSPITAL NHS FOUNDATION TRUST","RFSDA","CHESTERFIELD ROYAL HOSPITAL","TRINITY"]
["RGD03-NICPM LGI","RGD","LEEDS AND YORK PARTNERSHIP NHS FOUNDATION TRUST","RGD03","LEEDS GENERAL INFIRMARY","NICPM LGI"]
["RGD05-MOTHER AND BABY THE MOUNT","RGD","LEEDS AND YORK PARTNERSHIP NHS FOUNDATION TRUST","RGD05","THE MOUNT","MOTHER AND BABY THE MOUNT"]
["RGD05-THE MOUNT WARD 1 NEW (MALE)","RGD","LEEDS AND YORK PARTNERSHIP NHS FOUNDATION TRUST","RGD05","THE MOUNT","THE MOUNT WARD 1 NEW (MALE)"]
["RGD05-THE MOUNT WARD 2 NEW (FEMALE)","RGD","LEEDS AND YORK PARTNERSHIP NHS FOUNDATION TRUST","RGD05","THE MOUNT","THE MOUNT WARD 2 NEW (FEMALE)"]
["RGD05-THE MOUNT WARD 3A","RGD","LEEDS AND YORK PARTNERSHIP NHS FOUNDATION TRUST","RGD05","THE MOUNT","THE MOUNT WARD 3A"]
["RGD05-THE MOUNT WARD 4A","RGD","LEEDS AND YORK PARTNERSHIP NHS FOUNDATION TRUST","RGD05","THE MOUNT","THE MOUNT WARD 4A"]
["RGD10-ASKET CROFT","RGD","LEEDS AND YORK PARTNERSHIP NHS FOUNDATION TRUST","RGD10","ASKET CROFT","ASKET CROFT"]
["RGD17-2 WOODLAND SQUARE","RGD","LEEDS AND YORK PARTNERSHIP NHS FOUNDATION TRUST","RGD17","ST MARY'S HOSPITAL","2 WOODLAND SQUARE"]
["RGD17-3 WOODLAND SQUARE","RGD","LEEDS AND YORK PARTNERSHIP NHS FOUNDATION TRUST","RGD17","ST MARY'S HOSPITAL","3 WOODLAND SQUARE"]
["RGDAB-NEWSAM WARD 1 PICU","RGD","LEEDS AND YORK PARTNERSHIP NHS FOUNDATION TRUST","RGDAB","NEWSAM CENTRE","NEWSAM WARD 1 PICU"]
["RGDAB-NEWSAM WARD 2 FORENSIC","RGD","LEEDS AND YORK PARTNERSHIP NHS FOUNDATION TRUST","RGDAB","NEWSAM CENTRE","NEWSAM WARD 2 FORENSIC"]
["RGDAB-NEWSAM WARD 2 WOMENS SERVICES","RGD","LEEDS AND YORK PARTNERSHIP NHS FOUNDATION TRUST","RGDAB","NEWSAM CENTRE","NEWSAM WARD 2 WOMENS SERVICES"]
["RGDAB-NEWSAM WARD 3","RGD","LEEDS AND YORK PARTNERSHIP NHS FOUNDATION TRUST","RGDAB","NEWSAM CENTRE","NEWSAM WARD 3"]
["RGDAB-NEWSAM WARD 4","RGD","LEEDS AND YORK PARTNERSHIP NHS FOUNDATION TRUST","RGDAB","NEWSAM CENTRE","NEWSAM WARD 4"]
["RGDAB-NEWSAM WARD 5","RGD","LEEDS AND YORK PARTNERSHIP NHS FOUNDATION TRUST","RGDAB","NEWSAM CENTRE","NEWSAM WARD 5"]
["RGDAB-NEWSAM WARD 6 EDU","RGD","LEEDS AND YORK PARTNERSHIP NHS FOUNDATION TRUST","RGDAB","NEWSAM CENTRE","NEWSAM WARD 6 EDU"]
["RGDAP-ASKET HOUSE","RGD","LEEDS AND YORK PARTNERSHIP NHS FOUNDATION TRUST","RGDAP","ASKET HOUSE","ASKET HOUSE"]
["RGDBL-BECKLIN WARD 1","RGD","LEEDS AND YORK PARTNERSHIP NHS FOUNDATION TRUST","RGDBL","BECKLIN CENTRE","BECKLIN WARD 1"]
["RGDBL-BECKLIN WARD 2 CR","RGD","LEEDS AND YORK PARTNERSHIP NHS FOUNDATION TRUST","RGDBL","BECKLIN CENTRE","BECKLIN WARD 2 CR"]
["RGDBL-BECKLIN WARD 3","RGD","LEEDS AND YORK PARTNERSHIP NHS FOUNDATION TRUST","RGDBL","BECKLIN CENTRE","BECKLIN WARD 3"]
["RGDBL-BECKLIN WARD 4","RGD","LEEDS AND YORK PARTNERSHIP NHS FOUNDATION TRUST","RGDBL","BECKLIN CENTRE","BECKLIN WARD 4"]
["RGDBL-BECKLIN WARD 5","RGD","LEEDS AND YORK PARTNERSHIP NHS FOUNDATION TRUST","RGDBL","BECKLIN CENTRE","BECKLIN WARD 5"]
["RGDPL-PARKSIDE LODGE","RGD","LEEDS AND YORK PARTNERSHIP NHS FOUNDATION TRUST","RGDPL","PARKSIDE LODGE","PARKSIDE LODGE"]
["RGDT5-YORK - BLUEBELL","RGD","LEEDS AND YORK PARTNERSHIP NHS FOUNDATION TRUST","RGDT5","CLIFTON HOUSE","YORK - BLUEBELL"]
[{"$f":"CONCATENATE(D1603,\"-\",F1603)","v":"RGDT5-YORK - RIVERFIELDS"},"RGD","LEEDS AND YORK PARTNERSHIP NHS FOUNDATION TRUST","RGDT5","CLIFTON HOUSE","YORK - RIVERFIELDS"]
["RGDT5-YORK - WESTERDALE","RGD","LEEDS AND YORK PARTNERSHIP NHS FOUNDATION TRUST","RGDT5","CLIFTON HOUSE","YORK - WESTERDALE"]
["RGDVE-YORK - MILL LODGE","RGD","LEEDS AND YORK PARTNERSHIP NHS FOUNDATION TRUST","RGDVE","MILL LODGE COMMUNITY UNIT","YORK - MILL LODGE"]
["RGM21-3 NORTH","RGM","ROYAL PAPWORTH HOSPITAL NHS FOUNDATION TRUST","RGM21","ROYAL PAPWORTH HOSPITAL","3 NORTH"]
["RGM21-3 SOUTH","RGM","ROYAL PAPWORTH HOSPITAL NHS FOUNDATION TRUST","RGM21","ROYAL PAPWORTH HOSPITAL","3 SOUTH"]
["RGM21-4 N&S","RGM","ROYAL PAPWORTH HOSPITAL NHS FOUNDATION TRUST","RGM21","ROYAL PAPWORTH HOSPITAL","4 N&S"]
["RGM21-5 NORTH","RGM","ROYAL PAPWORTH HOSPITAL NHS FOUNDATION TRUST","RGM21","ROYAL PAPWORTH HOSPITAL","5 NORTH"]
["RGM21-5 SOUTH","RGM","ROYAL PAPWORTH HOSPITAL NHS FOUNDATION TRUST","RGM21","ROYAL PAPWORTH HOSPITAL","5 SOUTH"]
["RGM21-CCA","RGM","ROYAL PAPWORTH HOSPITAL NHS FOUNDATION TRUST","RGM21","ROYAL PAPWORTH HOSPITAL","CCA"]
["RGM21-DAY WARD","RGM","ROYAL PAPWORTH HOSPITAL NHS FOUNDATION TRUST","RGM21","ROYAL PAPWORTH HOSPITAL","DAY WARD"]
["RGN49-John Van Geest Unit","RGN","NORTH WEST ANGLIA NHS FOUNDATION TRUST","RGN49","STAMFORD AND RUTLAND HOSPITAL","John Van Geest Unit"]
["RGN80-Amazon ward","RGN","NORTH WEST ANGLIA NHS FOUNDATION TRUST","RGN80","PETERBOROUGH CITY HOSPITAL","Amazon ward"]
["RGN80-Cardiac Ward","RGN","NORTH WEST ANGLIA NHS FOUNDATION TRUST","RGN80","PETERBOROUGH CITY HOSPITAL","Cardiac Ward"]
["RGN80-Coronary Care Unit","RGN","NORTH WEST ANGLIA NHS FOUNDATION TRUST","RGN80","PETERBOROUGH CITY HOSPITAL","Coronary Care Unit"]
["RGN80-Critical Care Unit","RGN","NORTH WEST ANGLIA NHS FOUNDATION TRUST","RGN80","PETERBOROUGH CITY HOSPITAL","Critical Care Unit"]
["RGN80-Delivery Suite","RGN","NORTH WEST ANGLIA NHS FOUNDATION TRUST","RGN80","PETERBOROUGH CITY HOSPITAL","Delivery Suite"]
["RGN80-Frail Elderly Unit","RGN","NORTH WEST ANGLIA NHS FOUNDATION TRUST","RGN80","PETERBOROUGH CITY HOSPITAL","Frail Elderly Unit"]
["RGN80-Haematology/Oncology Ward","RGN","NORTH WEST ANGLIA NHS FOUNDATION TRUST","RGN80","PETERBOROUGH CITY HOSPITAL","Haematology/Oncology Ward"]
["RGN80-Maternity Inpatients","RGN","NORTH WEST ANGLIA NHS FOUNDATION TRUST","RGN80","PETERBOROUGH CITY HOSPITAL","Maternity Inpatients"]
["RGN80-Medical Assessment Unit","RGN","NORTH WEST ANGLIA NHS FOUNDATION TRUST","RGN80","PETERBOROUGH CITY HOSPITAL","Medical Assessment Unit"]
["RGN80-MLBU","RGN","NORTH WEST ANGLIA NHS FOUNDATION TRUST","RGN80","PETERBOROUGH CITY HOSPITAL","MLBU"]
["RGN80-NICU","RGN","NORTH WEST ANGLIA NHS FOUNDATION TRUST","RGN80","PETERBOROUGH CITY HOSPITAL","NICU"]
["RGN80-Transitional Care","RGN","NORTH WEST ANGLIA NHS FOUNDATION TRUST","RGN80","PETERBOROUGH CITY HOSPITAL","Transitional Care"]
["RGN80-Ward A10","RGN","NORTH WEST ANGLIA NHS FOUNDATION TRUST","RGN80","PETERBOROUGH CITY HOSPITAL","Ward A10"]
["RGN80-Ward A15","RGN","NORTH WEST ANGLIA NHS FOUNDATION TRUST","RGN80","PETERBOROUGH CITY HOSPITAL","Ward A15"]
["RGN80-Ward A2","RGN","NORTH WEST ANGLIA NHS FOUNDATION TRUST","RGN80","PETERBOROUGH CITY HOSPITAL","Ward A2"]
["RGN80-Ward A3","RGN","NORTH WEST ANGLIA NHS FOUNDATION TRUST","RGN80","PETERBOROUGH CITY HOSPITAL","Ward A3"]
["RGN80-Ward A4","RGN","NORTH WEST ANGLIA NHS FOUNDATION TRUST","RGN80","PETERBOROUGH CITY HOSPITAL","Ward A4"]
["RGN80-Ward A8","RGN","NORTH WEST ANGLIA NHS FOUNDATION TRUST","RGN80","PETERBOROUGH CITY HOSPITAL","Ward A8"]
["RGN80-Ward A9","RGN","NORTH WEST ANGLIA NHS FOUNDATION TRUST","RGN80","PETERBOROUGH CITY HOSPITAL","Ward A9"]
["RGN80-Ward B1","RGN","NORTH WEST ANGLIA NHS FOUNDATION TRUST","RGN80","PETERBOROUGH CITY HOSPITAL","Ward B1"]
["RGN80-Ward B11","RGN","NORTH WEST ANGLIA NHS FOUNDATION TRUST","RGN80","PETERBOROUGH CITY HOSPITAL","Ward B11"]
["RGN80-Ward B12","RGN","NORTH WEST ANGLIA NHS FOUNDATION TRUST","RGN80","PETERBOROUGH CITY HOSPITAL","Ward B12"]
["RGN80-Ward B14","RGN","NORTH WEST ANGLIA NHS FOUNDATION TRUST","RGN80","PETERBOROUGH CITY HOSPITAL","Ward B14"]
["RGN80-Ward B5","RGN","NORTH WEST ANGLIA NHS FOUNDATION TRUST","RGN80","PETERBOROUGH CITY HOSPITAL","Ward B5"]
["RGN80-Ward B6","RGN","NORTH WEST ANGLIA NHS FOUNDATION TRUST","RGN80","PETERBOROUGH CITY HOSPITAL","Ward B6"]
["RGN80-Ward B7","RGN","NORTH WEST ANGLIA NHS FOUNDATION TRUST","RGN80","PETERBOROUGH CITY HOSPITAL","Ward B7"]
["RGN80-Womens Health Ward","RGN","NORTH WEST ANGLIA NHS FOUNDATION TRUST","RGN80","PETERBOROUGH CITY HOSPITAL","Womens Health Ward"]
["RGN90-Acute Assessment Unit (AAU)","RGN","NORTH WEST ANGLIA NHS FOUNDATION TRUST","RGN90","HINCHINGBROOKE HOSPITAL","Acute Assessment Unit (AAU)"]
["RGN90-Apple Tree Ward","RGN","NORTH WEST ANGLIA NHS FOUNDATION TRUST","RGN90","HINCHINGBROOKE HOSPITAL","Apple Tree Ward"]
["RGN90-Bay Tree Ward","RGN","NORTH WEST ANGLIA NHS FOUNDATION TRUST","RGN90","HINCHINGBROOKE HOSPITAL","Bay Tree Ward"]
["RGN90-Birch Ward","RGN","NORTH WEST ANGLIA NHS FOUNDATION TRUST","RGN90","HINCHINGBROOKE HOSPITAL","Birch Ward"]
["RGN90-Cherry Tree Ward","RGN","NORTH WEST ANGLIA NHS FOUNDATION TRUST","RGN90","HINCHINGBROOKE HOSPITAL","Cherry Tree Ward"]
["RGN90-Critical Care Centre","RGN","NORTH WEST ANGLIA NHS FOUNDATION TRUST","RGN90","HINCHINGBROOKE HOSPITAL","Critical Care Centre"]
["RGN90-Delivery Unit","RGN","NORTH WEST ANGLIA NHS FOUNDATION TRUST","RGN90","HINCHINGBROOKE HOSPITAL","Delivery Unit"]
["RGN90-Lilac Ward","RGN","NORTH WEST ANGLIA NHS FOUNDATION TRUST","RGN90","HINCHINGBROOKE HOSPITAL","Lilac Ward"]
["RGN90-Medical Short Stay Unit","RGN","NORTH WEST ANGLIA NHS FOUNDATION TRUST","RGN90","HINCHINGBROOKE HOSPITAL","Medical Short Stay Unit"]
["RGN90-Mulberry Ward","RGN","NORTH WEST ANGLIA NHS FOUNDATION TRUST","RGN90","HINCHINGBROOKE HOSPITAL","Mulberry Ward"]
["RGN90-Plum Tree Ward","RGN","NORTH WEST ANGLIA NHS FOUNDATION TRUST","RGN90","HINCHINGBROOKE HOSPITAL","Plum Tree Ward"]
["RGN90-Walnut Ward","RGN","NORTH WEST ANGLIA NHS FOUNDATION TRUST","RGN90","HINCHINGBROOKE HOSPITAL","Walnut Ward"]
["RGN95-Daisy Ward","RGN","NORTH WEST ANGLIA NHS FOUNDATION TRUST","RGN95","THE HUNTINGDON NHS TREATMENT CENTRE","Daisy Ward"]
["RGP75-JPH ACU","RGP","JAMES PAGET UNIVERSITY HOSPITALS NHS FOUNDATION TRUST","RGP75","JAMES PAGET UNIVERSITY HOSPITAL","JPH ACU"]
["RGP75-JPH Central Delivery Suite","RGP","JAMES PAGET UNIVERSITY HOSPITALS NHS FOUNDATION TRUST","RGP75","JAMES PAGET UNIVERSITY HOSPITAL","JPH Central Delivery Suite"]
["RGP75-JPH Charnwood Suite","RGP","JAMES PAGET UNIVERSITY HOSPITALS NHS FOUNDATION TRUST","RGP75","JAMES PAGET UNIVERSITY HOSPITAL","JPH Charnwood Suite"]
["RGP75-JPH EADU","RGP","JAMES PAGET UNIVERSITY HOSPITALS NHS FOUNDATION TRUST","RGP75","JAMES PAGET UNIVERSITY HOSPITAL","JPH EADU"]
["RGP75-JPH ICU","RGP","JAMES PAGET UNIVERSITY HOSPITALS NHS FOUNDATION TRUST","RGP75","JAMES PAGET UNIVERSITY HOSPITAL","JPH ICU"]
["RGP75-JPH Neonatal Unit","RGP","JAMES PAGET UNIVERSITY HOSPITALS NHS FOUNDATION TRUST","RGP75","JAMES PAGET UNIVERSITY HOSPITAL","JPH Neonatal Unit"]
["RGP75-JPH Short Stay (Ward16)","RGP","JAMES PAGET UNIVERSITY HOSPITALS NHS FOUNDATION TRUST","RGP75","JAMES PAGET UNIVERSITY HOSPITAL","JPH Short Stay (Ward16)"]
["RGP75-JPH Ward 1 Stroke Unit","RGP","JAMES PAGET UNIVERSITY HOSPITALS NHS FOUNDATION TRUST","RGP75","JAMES PAGET UNIVERSITY HOSPITAL","JPH Ward 1 Stroke Unit"]
["RGP75-JPH Ward 10","RGP","JAMES PAGET UNIVERSITY HOSPITALS NHS FOUNDATION TRUST","RGP75","JAMES PAGET UNIVERSITY HOSPITAL","JPH Ward 10"]
["RGP75-JPH Ward 11","RGP","JAMES PAGET UNIVERSITY HOSPITALS NHS FOUNDATION TRUST","RGP75","JAMES PAGET UNIVERSITY HOSPITAL","JPH Ward 11"]
["RGP75-JPH Ward 12","RGP","JAMES PAGET UNIVERSITY HOSPITALS NHS FOUNDATION TRUST","RGP75","JAMES PAGET UNIVERSITY HOSPITAL","JPH Ward 12"]
["RGP75-JPH Ward 15","RGP","JAMES PAGET UNIVERSITY HOSPITALS NHS FOUNDATION TRUST","RGP75","JAMES PAGET UNIVERSITY HOSPITAL","JPH Ward 15"]
["RGP75-JPH Ward 17","RGP","JAMES PAGET UNIVERSITY HOSPITALS NHS FOUNDATION TRUST","RGP75","JAMES PAGET UNIVERSITY HOSPITAL","JPH Ward 17"]
[{"$f":"CONCATENATE(D1667,\"-\",F1667)","v":"RGP75-JPH Ward 18"},"RGP","JAMES PAGET UNIVERSITY HOSPITALS NHS FOUNDATION TRUST","RGP75","JAMES PAGET UNIVERSITY HOSPITAL","JPH Ward 18"]
["RGP75-JPH Ward 2","RGP","JAMES PAGET UNIVERSITY HOSPITALS NHS FOUNDATION TRUST","RGP75","JAMES PAGET UNIVERSITY HOSPITAL","JPH Ward 2"]
["RGP75-JPH Ward 22","RGP","JAMES PAGET UNIVERSITY HOSPITALS NHS FOUNDATION TRUST","RGP75","JAMES PAGET UNIVERSITY HOSPITAL","JPH Ward 22"]
["RGP75-JPH Ward 3","RGP","JAMES PAGET UNIVERSITY HOSPITALS NHS FOUNDATION TRUST","RGP75","JAMES PAGET UNIVERSITY HOSPITAL","JPH Ward 3"]
["RGP75-JPH Ward 4","RGP","JAMES PAGET UNIVERSITY HOSPITALS NHS FOUNDATION TRUST","RGP75","JAMES PAGET UNIVERSITY HOSPITAL","JPH Ward 4"]
["RGP75-JPH Ward 5","RGP","JAMES PAGET UNIVERSITY HOSPITALS NHS FOUNDATION TRUST","RGP75","JAMES PAGET UNIVERSITY HOSPITAL","JPH Ward 5"]
["RGP75-JPH Ward 6","RGP","JAMES PAGET UNIVERSITY HOSPITALS NHS FOUNDATION TRUST","RGP75","JAMES PAGET UNIVERSITY HOSPITAL","JPH Ward 6"]
["RGP75-JPH Ward 7","RGP","JAMES PAGET UNIVERSITY HOSPITALS NHS FOUNDATION TRUST","RGP75","JAMES PAGET UNIVERSITY HOSPITAL","JPH Ward 7"]
["RGR50-A&E","RGR","WEST SUFFOLK NHS FOUNDATION TRUST","RGR50","WEST SUFFOLK HOSPITAL","A&E"]
["RGR50-Acute Assessment Unit","RGR","WEST SUFFOLK NHS FOUNDATION TRUST","RGR50","WEST SUFFOLK HOSPITAL","Acute Assessment Unit"]
["RGR50-Cardiac Centre","RGR","WEST SUFFOLK NHS FOUNDATION TRUST","RGR50","WEST SUFFOLK HOSPITAL","Cardiac Centre"]
["RGR50-Critical Care","RGR","WEST SUFFOLK NHS FOUNDATION TRUST","RGR50","WEST SUFFOLK HOSPITAL","Critical Care"]
["RGR50-F1","RGR","WEST SUFFOLK NHS FOUNDATION TRUST","RGR50","WEST SUFFOLK HOSPITAL","F1"]
["RGR50-F10","RGR","WEST SUFFOLK NHS FOUNDATION TRUST","RGR50","WEST SUFFOLK HOSPITAL","F10"]
["RGR50-F11","RGR","WEST SUFFOLK NHS FOUNDATION TRUST","RGR50","WEST SUFFOLK HOSPITAL","F11"]
["RGR50-F12","RGR","WEST SUFFOLK NHS FOUNDATION TRUST","RGR50","WEST SUFFOLK HOSPITAL","F12"]
["RGR50-F3","RGR","WEST SUFFOLK NHS FOUNDATION TRUST","RGR50","WEST SUFFOLK HOSPITAL","F3"]
["RGR50-F4","RGR","WEST SUFFOLK NHS FOUNDATION TRUST","RGR50","WEST SUFFOLK HOSPITAL","F4"]
["RGR50-F5","RGR","WEST SUFFOLK NHS FOUNDATION TRUST","RGR50","WEST SUFFOLK HOSPITAL","F5"]
["RGR50-F6","RGR","WEST SUFFOLK NHS FOUNDATION TRUST","RGR50","WEST SUFFOLK HOSPITAL","F6"]
["RGR50-F7","RGR","WEST SUFFOLK NHS FOUNDATION TRUST","RGR50","WEST SUFFOLK HOSPITAL","F7"]
["RGR50-F8","RGR","WEST SUFFOLK NHS FOUNDATION TRUST","RGR50","WEST SUFFOLK HOSPITAL","F8"]
["RGR50-F9","RGR","WEST SUFFOLK NHS FOUNDATION TRUST","RGR50","WEST SUFFOLK HOSPITAL","F9"]
["RGR50-G1","RGR","WEST SUFFOLK NHS FOUNDATION TRUST","RGR50","WEST SUFFOLK HOSPITAL","G1"]
["RGR50-G3","RGR","WEST SUFFOLK NHS FOUNDATION TRUST","RGR50","WEST SUFFOLK HOSPITAL","G3"]
["RGR50-G4","RGR","WEST SUFFOLK NHS FOUNDATION TRUST","RGR50","WEST SUFFOLK HOSPITAL","G4"]
["RGR50-G5","RGR","WEST SUFFOLK NHS FOUNDATION TRUST","RGR50","WEST SUFFOLK HOSPITAL","G5"]
["RGR50-G8","RGR","WEST SUFFOLK NHS FOUNDATION TRUST","RGR50","WEST SUFFOLK HOSPITAL","G8"]
["RGR50-Glastonbury Court","RGR","WEST SUFFOLK NHS FOUNDATION TRUST","RGR50","WEST SUFFOLK HOSPITAL","Glastonbury Court"]
["RGR50-Neonatal Unit","RGR","WEST SUFFOLK NHS FOUNDATION TRUST","RGR50","WEST SUFFOLK HOSPITAL","Neonatal Unit"]
["RGR50-Recovery Unit","RGR","WEST SUFFOLK NHS FOUNDATION TRUST","RGR50","WEST SUFFOLK HOSPITAL","Recovery Unit"]
["RGR50-Rosemary Ward","RGR","WEST SUFFOLK NHS FOUNDATION TRUST","RGR50","WEST SUFFOLK HOSPITAL","Rosemary Ward"]
["RGT01-A3","RGT","CAMBRIDGE UNIVERSITY HOSPITALS NHS FOUNDATION TRUST","RGT01","ADDENBROOKE'S HOSPITAL","A3"]
["RGT01-A3 contingency","RGT","CAMBRIDGE UNIVERSITY HOSPITALS NHS FOUNDATION TRUST","RGT01","ADDENBROOKE'S HOSPITAL","A3 contingency"]
["RGT01-A4","RGT","CAMBRIDGE UNIVERSITY HOSPITALS NHS FOUNDATION TRUST","RGT01","ADDENBROOKE'S HOSPITAL","A4"]
["RGT01-A5","RGT","CAMBRIDGE UNIVERSITY HOSPITALS NHS FOUNDATION TRUST","RGT01","ADDENBROOKE'S HOSPITAL","A5"]
["RGT01-C10","RGT","CAMBRIDGE UNIVERSITY HOSPITALS NHS FOUNDATION TRUST","RGT01","ADDENBROOKE'S HOSPITAL","C10"]
["RGT01-C2","RGT","CAMBRIDGE UNIVERSITY HOSPITALS NHS FOUNDATION TRUST","RGT01","ADDENBROOKE'S HOSPITAL","C2"]
["RGT01-C3","RGT","CAMBRIDGE UNIVERSITY HOSPITALS NHS FOUNDATION TRUST","RGT01","ADDENBROOKE'S HOSPITAL","C3"]
["RGT01-C4","RGT","CAMBRIDGE UNIVERSITY HOSPITALS NHS FOUNDATION TRUST","RGT01","ADDENBROOKE'S HOSPITAL","C4"]
["RGT01-C5","RGT","CAMBRIDGE UNIVERSITY HOSPITALS NHS FOUNDATION TRUST","RGT01","ADDENBROOKE'S HOSPITAL","C5"]
["RGT01-C6","RGT","CAMBRIDGE UNIVERSITY HOSPITALS NHS FOUNDATION TRUST","RGT01","ADDENBROOKE'S HOSPITAL","C6"]
["RGT01-C7","RGT","CAMBRIDGE UNIVERSITY HOSPITALS NHS FOUNDATION TRUST","RGT01","ADDENBROOKE'S HOSPITAL","C7"]
["RGT01-C8","RGT","CAMBRIDGE UNIVERSITY HOSPITALS NHS FOUNDATION TRUST","RGT01","ADDENBROOKE'S HOSPITAL","C8"]
["RGT01-C9","RGT","CAMBRIDGE UNIVERSITY HOSPITALS NHS FOUNDATION TRUST","RGT01","ADDENBROOKE'S HOSPITAL","C9"]
["RGT01-CDU","RGT","CAMBRIDGE UNIVERSITY HOSPITALS NHS FOUNDATION TRUST","RGT01","ADDENBROOKE'S HOSPITAL","CDU"]
["RGT01-Charles Wolfson","RGT","CAMBRIDGE UNIVERSITY HOSPITALS NHS FOUNDATION TRUST","RGT01","ADDENBROOKE'S HOSPITAL","Charles Wolfson"]
["RGT01-D10","RGT","CAMBRIDGE UNIVERSITY HOSPITALS NHS FOUNDATION TRUST","RGT01","ADDENBROOKE'S HOSPITAL","D10"]
["RGT01-D2","RGT","CAMBRIDGE UNIVERSITY HOSPITALS NHS FOUNDATION TRUST","RGT01","ADDENBROOKE'S HOSPITAL","D2"]
["RGT01-D5","RGT","CAMBRIDGE UNIVERSITY HOSPITALS NHS FOUNDATION TRUST","RGT01","ADDENBROOKE'S HOSPITAL","D5"]
["RGT01-D6 HAEM","RGT","CAMBRIDGE UNIVERSITY HOSPITALS NHS FOUNDATION TRUST","RGT01","ADDENBROOKE'S HOSPITAL","D6 HAEM"]
["RGT01-D6 Neuro","RGT","CAMBRIDGE UNIVERSITY HOSPITALS NHS FOUNDATION TRUST","RGT01","ADDENBROOKE'S HOSPITAL","D6 Neuro"]
["RGT01-D7","RGT","CAMBRIDGE UNIVERSITY HOSPITALS NHS FOUNDATION TRUST","RGT01","ADDENBROOKE'S HOSPITAL","D7"]
["RGT01-D8","RGT","CAMBRIDGE UNIVERSITY HOSPITALS NHS FOUNDATION TRUST","RGT01","ADDENBROOKE'S HOSPITAL","D8"]
["RGT01-D9","RGT","CAMBRIDGE UNIVERSITY HOSPITALS NHS FOUNDATION TRUST","RGT01","ADDENBROOKE'S HOSPITAL","D9"]
["RGT01-EAU 4","RGT","CAMBRIDGE UNIVERSITY HOSPITALS NHS FOUNDATION TRUST","RGT01","ADDENBROOKE'S HOSPITAL","EAU 4"]
["RGT01-F3 paediatric overnight contingency","RGT","CAMBRIDGE UNIVERSITY HOSPITALS NHS FOUNDATION TRUST","RGT01","ADDENBROOKE'S HOSPITAL","F3 paediatric overnight contingency"]
["RGT01-F4","RGT","CAMBRIDGE UNIVERSITY HOSPITALS NHS FOUNDATION TRUST","RGT01","ADDENBROOKE'S HOSPITAL","F4"]
["RGT01-F5","RGT","CAMBRIDGE UNIVERSITY HOSPITALS NHS FOUNDATION TRUST","RGT01","ADDENBROOKE'S HOSPITAL","F5"]
["RGT01-F6","RGT","CAMBRIDGE UNIVERSITY HOSPITALS NHS FOUNDATION TRUST","RGT01","ADDENBROOKE'S HOSPITAL","F6"]
[{"$f":"CONCATENATE(D1727,\"-\",F1727)","v":"RGT01-G3"},"RGT","CAMBRIDGE UNIVERSITY HOSPITALS NHS FOUNDATION TRUST","RGT01","ADDENBROOKE'S HOSPITAL","G3"]
["RGT01-G4","RGT","CAMBRIDGE UNIVERSITY HOSPITALS NHS FOUNDATION TRUST","RGT01","ADDENBROOKE'S HOSPITAL","G4"]
["RGT01-G5","RGT","CAMBRIDGE UNIVERSITY HOSPITALS NHS FOUNDATION TRUST","RGT01","ADDENBROOKE'S HOSPITAL","G5"]
["RGT01-G6","RGT","CAMBRIDGE UNIVERSITY HOSPITALS NHS FOUNDATION TRUST","RGT01","ADDENBROOKE'S HOSPITAL","G6"]
["RGT01-IDA","RGT","CAMBRIDGE UNIVERSITY HOSPITALS NHS FOUNDATION TRUST","RGT01","ADDENBROOKE'S HOSPITAL","IDA"]
["RGT01-J2","RGT","CAMBRIDGE UNIVERSITY HOSPITALS NHS FOUNDATION TRUST","RGT01","ADDENBROOKE'S HOSPITAL","J2"]
["RGT01-JOHN FARMAN ICU","RGT","CAMBRIDGE UNIVERSITY HOSPITALS NHS FOUNDATION TRUST","RGT01","ADDENBROOKE'S HOSPITAL","JOHN FARMAN ICU"]
["RGT01-K3","RGT","CAMBRIDGE UNIVERSITY HOSPITALS NHS FOUNDATION TRUST","RGT01","ADDENBROOKE'S HOSPITAL","K3"]
["RGT01-K3 CCU","RGT","CAMBRIDGE UNIVERSITY HOSPITALS NHS FOUNDATION TRUST","RGT01","ADDENBROOKE'S HOSPITAL","K3 CCU"]
["RGT01-L2 overnight stay","RGT","CAMBRIDGE UNIVERSITY HOSPITALS NHS FOUNDATION TRUST","RGT01","ADDENBROOKE'S HOSPITAL","L2 overnight stay"]
["RGT01-L4","RGT","CAMBRIDGE UNIVERSITY HOSPITALS NHS FOUNDATION TRUST","RGT01","ADDENBROOKE'S HOSPITAL","L4"]
["RGT01-L5","RGT","CAMBRIDGE UNIVERSITY HOSPITALS NHS FOUNDATION TRUST","RGT01","ADDENBROOKE'S HOSPITAL","L5"]
["RGT01-LEWIN","RGT","CAMBRIDGE UNIVERSITY HOSPITALS NHS FOUNDATION TRUST","RGT01","ADDENBROOKE'S HOSPITAL","LEWIN"]
["RGT01-M4","RGT","CAMBRIDGE UNIVERSITY HOSPITALS NHS FOUNDATION TRUST","RGT01","ADDENBROOKE'S HOSPITAL","M4"]
["RGT01-M5","RGT","CAMBRIDGE UNIVERSITY HOSPITALS NHS FOUNDATION TRUST","RGT01","ADDENBROOKE'S HOSPITAL","M5"]
["RGT01-MSEU","RGT","CAMBRIDGE UNIVERSITY HOSPITALS NHS FOUNDATION TRUST","RGT01","ADDENBROOKE'S HOSPITAL","MSEU"]
["RGT01-N2","RGT","CAMBRIDGE UNIVERSITY HOSPITALS NHS FOUNDATION TRUST","RGT01","ADDENBROOKE'S HOSPITAL","N2"]
["RGT01-N3","RGT","CAMBRIDGE UNIVERSITY HOSPITALS NHS FOUNDATION TRUST","RGT01","ADDENBROOKE'S HOSPITAL","N3"]
["RGT01-NCCU","RGT","CAMBRIDGE UNIVERSITY HOSPITALS NHS FOUNDATION TRUST","RGT01","ADDENBROOKE'S HOSPITAL","NCCU"]
["RGT01-OIR","RGT","CAMBRIDGE UNIVERSITY HOSPITALS NHS FOUNDATION TRUST","RGT01","ADDENBROOKE'S HOSPITAL","OIR"]
["RGT01-PICU","RGT","CAMBRIDGE UNIVERSITY HOSPITALS NHS FOUNDATION TRUST","RGT01","ADDENBROOKE'S HOSPITAL","PICU"]
["RGT01-R2","RGT","CAMBRIDGE UNIVERSITY HOSPITALS NHS FOUNDATION TRUST","RGT01","ADDENBROOKE'S HOSPITAL","R2"]
["RGT32-Daphne","RGT","CAMBRIDGE UNIVERSITY HOSPITALS NHS FOUNDATION TRUST","RGT32","ROSIE HOSPITAL","Daphne"]
["RGT32-Delivery Unit","RGT","CAMBRIDGE UNIVERSITY HOSPITALS NHS FOUNDATION TRUST","RGT32","ROSIE HOSPITAL","Delivery Unit"]
["RGT32-Lady Mary","RGT","CAMBRIDGE UNIVERSITY HOSPITALS NHS FOUNDATION TRUST","RGT32","ROSIE HOSPITAL","Lady Mary"]
["RGT32-Neonatal ICU","RGT","CAMBRIDGE UNIVERSITY HOSPITALS NHS FOUNDATION TRUST","RGT32","ROSIE HOSPITAL","Neonatal ICU"]
["RGT32-Rosie Birth Centre","RGT","CAMBRIDGE UNIVERSITY HOSPITALS NHS FOUNDATION TRUST","RGT32","ROSIE HOSPITAL","Rosie Birth Centre"]
["RGT32-Sara Ward","RGT","CAMBRIDGE UNIVERSITY HOSPITALS NHS FOUNDATION TRUST","RGT32","ROSIE HOSPITAL","Sara Ward"]
["RH536-Rydon 1","RH5","SOMERSET PARTNERSHIP NHS FOUNDATION TRUST","RH536","RYDON","Rydon 1"]
["RH536-Rydon 2","RH5","SOMERSET PARTNERSHIP NHS FOUNDATION TRUST","RH536","RYDON","Rydon 2"]
["RH563-Pyrland 1","RH5","SOMERSET PARTNERSHIP NHS FOUNDATION TRUST","RH563","PYRLAND","Pyrland 1"]
["RH563-Pyrland 2","RH5","SOMERSET PARTNERSHIP NHS FOUNDATION TRUST","RH563","PYRLAND","Pyrland 2"]
["RH572-Rowan","RH5","SOMERSET PARTNERSHIP NHS FOUNDATION TRUST","RH572","ROWAN","Rowan"]
["RH576-Holford","RH5","SOMERSET PARTNERSHIP NHS FOUNDATION TRUST","RH576","HOLFORD","Holford"]
["RH5D1-Willow","RH5","SOMERSET PARTNERSHIP NHS FOUNDATION TRUST","RH5D1","BROADWAY REHABILITATION SERVICE (WILLOW WARD)","Willow"]
["RH5D8-Wessex","RH5","SOMERSET PARTNERSHIP NHS FOUNDATION TRUST","RH5D8","WESSEX HOUSE","Wessex"]
["RH5E1-Ash","RH5","SOMERSET PARTNERSHIP NHS FOUNDATION TRUST","RH5E1","BROADWAY REHABILITATION SERVICE (ASH WARD)","Ash"]
["RH5F4-Burnham","RH5","SOMERSET PARTNERSHIP NHS FOUNDATION TRUST","RH5F4","BURNHAM ON SEA WAR MEMORIAL HOSPITAL","Burnham"]
["RH5F5-Exmoor (Ward 2)","RH5","SOMERSET PARTNERSHIP NHS FOUNDATION TRUST","RH5F5","MINEHEAD COMMUNITY HOSPITAL","Exmoor (Ward 2)"]
["RH5F6-Meadow","RH5","SOMERSET PARTNERSHIP NHS FOUNDATION TRUST","RH5F6","WILLITON HOSPITAL","Meadow"]
["RH5F7-Shepton","RH5","SOMERSET PARTNERSHIP NHS FOUNDATION TRUST","RH5F7","SHEPTON MALLET COMMUNITY HOSPITAL","Shepton"]
["RH5F8-Combined wards","RH5","SOMERSET PARTNERSHIP NHS FOUNDATION TRUST","RH5F8","WEST MENDIP COMMUNITY HOSPITAL","Combined wards"]
["RH5F9-Crewkerne","RH5","SOMERSET PARTNERSHIP NHS FOUNDATION TRUST","RH5F9","CREWKERNE HOSPITAL","Crewkerne"]
["RH5G1-Mary Robertson","RH5","SOMERSET PARTNERSHIP NHS FOUNDATION TRUST","RH5G1","SOUTH PETHERTON HOSPITAL","Mary Robertson"]
["RH5G2-Hadspen","RH5","SOMERSET PARTNERSHIP NHS FOUNDATION TRUST","RH5G2","WINCANTON COMMUNITY HOSPITAL","Hadspen"]
["RH5G5-Marshfield","RH5","SOMERSET PARTNERSHIP NHS FOUNDATION TRUST","RH5G5","FROME COMMUNITY HOSPITAL","Marshfield"]
["RH5H5-St Andrews","RH5","SOMERSET PARTNERSHIP NHS FOUNDATION TRUST","RH5H5","ST ANDREWS","St Andrews"]
["RH5K6-Waverley","RH5","SOMERSET PARTNERSHIP NHS FOUNDATION TRUST","RH5K6","BRIDGWATER COMMUNITY HOSPITAL","Waverley"]
["RH801-Abbey","RH8","ROYAL DEVON AND EXETER NHS FOUNDATION TRUST","RH801","ROYAL DEVON AND EXETER HOSPITAL (WONFORD)","Abbey"]
["RH801-AMU Nursing","RH8","ROYAL DEVON AND EXETER NHS FOUNDATION TRUST","RH801","ROYAL DEVON AND EXETER HOSPITAL (WONFORD)","AMU Nursing"]
["RH801-Ashburn","RH8","ROYAL DEVON AND EXETER NHS FOUNDATION TRUST","RH801","ROYAL DEVON AND EXETER HOSPITAL (WONFORD)","Ashburn"]
["RH801-Avon","RH8","ROYAL DEVON AND EXETER NHS FOUNDATION TRUST","RH801","ROYAL DEVON AND EXETER HOSPITAL (WONFORD)","Avon"]
["RH801-Bolham","RH8","ROYAL DEVON AND EXETER NHS FOUNDATION TRUST","RH801","ROYAL DEVON AND EXETER HOSPITAL (WONFORD)","Bolham"]
["RH801-Bovey","RH8","ROYAL DEVON AND EXETER NHS FOUNDATION TRUST","RH801","ROYAL DEVON AND EXETER HOSPITAL (WONFORD)","Bovey"]
["RH801-Bramble","RH8","ROYAL DEVON AND EXETER NHS FOUNDATION TRUST","RH801","ROYAL DEVON AND EXETER HOSPITAL (WONFORD)","Bramble"]
["RH801-Capener","RH8","ROYAL DEVON AND EXETER NHS FOUNDATION TRUST","RH801","ROYAL DEVON AND EXETER HOSPITAL (WONFORD)","Capener"]
["RH801-CCU","RH8","ROYAL DEVON AND EXETER NHS FOUNDATION TRUST","RH801","ROYAL DEVON AND EXETER HOSPITAL (WONFORD)","CCU"]
["RH801-Clyst","RH8","ROYAL DEVON AND EXETER NHS FOUNDATION TRUST","RH801","ROYAL DEVON AND EXETER HOSPITAL (WONFORD)","Clyst"]
["RH801-Creedy","RH8","ROYAL DEVON AND EXETER NHS FOUNDATION TRUST","RH801","ROYAL DEVON AND EXETER HOSPITAL (WONFORD)","Creedy"]
[{"$f":"CONCATENATE(D1786,\"-\",F1786)","v":"RH801-Culm East"},"RH8","ROYAL DEVON AND EXETER NHS FOUNDATION TRUST","RH801","ROYAL DEVON AND EXETER HOSPITAL (WONFORD)","Culm East"]
["RH801-Culm West","RH8","ROYAL DEVON AND EXETER NHS FOUNDATION TRUST","RH801","ROYAL DEVON AND EXETER HOSPITAL (WONFORD)","Culm West"]
["RH801-Dart","RH8","ROYAL DEVON AND EXETER NHS FOUNDATION TRUST","RH801","ROYAL DEVON AND EXETER HOSPITAL (WONFORD)","Dart"]
["RH801-Durbin","RH8","ROYAL DEVON AND EXETER NHS FOUNDATION TRUST","RH801","ROYAL DEVON AND EXETER HOSPITAL (WONFORD)","Durbin"]
["RH801-Dyball","RH8","ROYAL DEVON AND EXETER NHS FOUNDATION TRUST","RH801","ROYAL DEVON AND EXETER HOSPITAL (WONFORD)","Dyball"]
["RH801-Exe","RH8","ROYAL DEVON AND EXETER NHS FOUNDATION TRUST","RH801","ROYAL DEVON AND EXETER HOSPITAL (WONFORD)","Exe"]
["RH801-ITU Teign Ward","RH8","ROYAL DEVON AND EXETER NHS FOUNDATION TRUST","RH801","ROYAL DEVON AND EXETER HOSPITAL (WONFORD)","ITU Teign Ward"]
["RH801-Kenn","RH8","ROYAL DEVON AND EXETER NHS FOUNDATION TRUST","RH801","ROYAL DEVON AND EXETER HOSPITAL (WONFORD)","Kenn"]
["RH801-Lowman","RH8","ROYAL DEVON AND EXETER NHS FOUNDATION TRUST","RH801","ROYAL DEVON AND EXETER HOSPITAL (WONFORD)","Lowman"]
["RH801-Lyme","RH8","ROYAL DEVON AND EXETER NHS FOUNDATION TRUST","RH801","ROYAL DEVON AND EXETER HOSPITAL (WONFORD)","Lyme"]
["RH801-Mardon","RH8","ROYAL DEVON AND EXETER NHS FOUNDATION TRUST","RH801","ROYAL DEVON AND EXETER HOSPITAL (WONFORD)","Mardon"]
["RH801-Maternity","RH8","ROYAL DEVON AND EXETER NHS FOUNDATION TRUST","RH801","ROYAL DEVON AND EXETER HOSPITAL (WONFORD)","Maternity"]
["RH801-Mere","RH8","ROYAL DEVON AND EXETER NHS FOUNDATION TRUST","RH801","ROYAL DEVON AND EXETER HOSPITAL (WONFORD)","Mere"]
["RH801-NNU","RH8","ROYAL DEVON AND EXETER NHS FOUNDATION TRUST","RH801","ROYAL DEVON AND EXETER HOSPITAL (WONFORD)","NNU"]
["RH801-Okement","RH8","ROYAL DEVON AND EXETER NHS FOUNDATION TRUST","RH801","ROYAL DEVON AND EXETER HOSPITAL (WONFORD)","Okement"]
["RH801-Otter","RH8","ROYAL DEVON AND EXETER NHS FOUNDATION TRUST","RH801","ROYAL DEVON AND EXETER HOSPITAL (WONFORD)","Otter"]
["RH801-Robin Ling (Tavy)","RH8","ROYAL DEVON AND EXETER NHS FOUNDATION TRUST","RH801","ROYAL DEVON AND EXETER HOSPITAL (WONFORD)","Robin Ling (Tavy)"]
["RH801-Taw","RH8","ROYAL DEVON AND EXETER NHS FOUNDATION TRUST","RH801","ROYAL DEVON AND EXETER HOSPITAL (WONFORD)","Taw"]
["RH801-Torridge","RH8","ROYAL DEVON AND EXETER NHS FOUNDATION TRUST","RH801","ROYAL DEVON AND EXETER HOSPITAL (WONFORD)","Torridge"]
["RH801-Wynard Escalation","RH8","ROYAL DEVON AND EXETER NHS FOUNDATION TRUST","RH801","ROYAL DEVON AND EXETER HOSPITAL (WONFORD)","Wynard Escalation"]
["RH801-Wynard Ward","RH8","ROYAL DEVON AND EXETER NHS FOUNDATION TRUST","RH801","ROYAL DEVON AND EXETER HOSPITAL (WONFORD)","Wynard Ward"]
["RH801-Yarty","RH8","ROYAL DEVON AND EXETER NHS FOUNDATION TRUST","RH801","ROYAL DEVON AND EXETER HOSPITAL (WONFORD)","Yarty"]
["RH801-Yealm","RH8","ROYAL DEVON AND EXETER NHS FOUNDATION TRUST","RH801","ROYAL DEVON AND EXETER HOSPITAL (WONFORD)","Yealm"]
["RH801-Yeo","RH8","ROYAL DEVON AND EXETER NHS FOUNDATION TRUST","RH801","ROYAL DEVON AND EXETER HOSPITAL (WONFORD)","Yeo"]
["RH853-Tiverton Inpatients","RH8","ROYAL DEVON AND EXETER NHS FOUNDATION TRUST","RH853","TIVERTON AND DISTRICT HOSPITAL","Tiverton Inpatients"]
["RH858-Exmouth - Doris Heard","RH8","ROYAL DEVON AND EXETER NHS FOUNDATION TRUST","RH858","EXMOUTH HOSPITAL","Exmouth - Doris Heard"]
["RH859-Sidmouth Hospital","RH8","ROYAL DEVON AND EXETER NHS FOUNDATION TRUST","RH859","VICTORIA HOSPITAL (SIDMOUTH)","Sidmouth Hospital"]
["RHA04-Adwick Ward","RHA","NOTTINGHAMSHIRE HEALTHCARE NHS FOUNDATION TRUST","RHA04","RAMPTON HOSPITAL","Adwick Ward"]
["RHA04-Aintree Ward","RHA","NOTTINGHAMSHIRE HEALTHCARE NHS FOUNDATION TRUST","RHA04","RAMPTON HOSPITAL","Aintree Ward"]
["RHA04-Alford Ward","RHA","NOTTINGHAMSHIRE HEALTHCARE NHS FOUNDATION TRUST","RHA04","RAMPTON HOSPITAL","Alford Ward"]
["RHA04-Blake","RHA","NOTTINGHAMSHIRE HEALTHCARE NHS FOUNDATION TRUST","RHA04","RAMPTON HOSPITAL","Blake"]
["RHA04-Bonnard Ward","RHA","NOTTINGHAMSHIRE HEALTHCARE NHS FOUNDATION TRUST","RHA04","RAMPTON HOSPITAL","Bonnard Ward"]
["RHA04-Brecon Ward","RHA","NOTTINGHAMSHIRE HEALTHCARE NHS FOUNDATION TRUST","RHA04","RAMPTON HOSPITAL","Brecon Ward"]
["RHA04-Burne Ward","RHA","NOTTINGHAMSHIRE HEALTHCARE NHS FOUNDATION TRUST","RHA04","RAMPTON HOSPITAL","Burne Ward"]
["RHA04-Cambridge Ward (was Juniper)","RHA","NOTTINGHAMSHIRE HEALTHCARE NHS FOUNDATION TRUST","RHA04","RAMPTON HOSPITAL","Cambridge Ward (was Juniper)"]
["RHA04-Canterbury Ward (was Firs)","RHA","NOTTINGHAMSHIRE HEALTHCARE NHS FOUNDATION TRUST","RHA04","RAMPTON HOSPITAL","Canterbury Ward (was Firs)"]
["RHA04-Cheltenham Ward (was Newmarket)","RHA","NOTTINGHAMSHIRE HEALTHCARE NHS FOUNDATION TRUST","RHA04","RAMPTON HOSPITAL","Cheltenham Ward (was Newmarket)"]
["RHA04-Cheviot Ward","RHA","NOTTINGHAMSHIRE HEALTHCARE NHS FOUNDATION TRUST","RHA04","RAMPTON HOSPITAL","Cheviot Ward"]
["RHA04-Coral Ward (was Emerald ICU)","RHA","NOTTINGHAMSHIRE HEALTHCARE NHS FOUNDATION TRUST","RHA04","RAMPTON HOSPITAL","Coral Ward (was Emerald ICU)"]
["RHA04-Cotswold Ward","RHA","NOTTINGHAMSHIRE HEALTHCARE NHS FOUNDATION TRUST","RHA04","RAMPTON HOSPITAL","Cotswold Ward"]
["RHA04-Eden Ward (was Erskine)","RHA","NOTTINGHAMSHIRE HEALTHCARE NHS FOUNDATION TRUST","RHA04","RAMPTON HOSPITAL","Eden Ward (was Erskine)"]
["RHA04-Emerald Ward","RHA","NOTTINGHAMSHIRE HEALTHCARE NHS FOUNDATION TRUST","RHA04","RAMPTON HOSPITAL","Emerald Ward"]
["RHA04-Erskine Ward (was Anston)","RHA","NOTTINGHAMSHIRE HEALTHCARE NHS FOUNDATION TRUST","RHA04","RAMPTON HOSPITAL","Erskine Ward (was Anston)"]
["RHA04-Grampian Ward","RHA","NOTTINGHAMSHIRE HEALTHCARE NHS FOUNDATION TRUST","RHA04","RAMPTON HOSPITAL","Grampian Ward"]
["RHA04-Hambleton Ward","RHA","NOTTINGHAMSHIRE HEALTHCARE NHS FOUNDATION TRUST","RHA04","RAMPTON HOSPITAL","Hambleton Ward"]
["RHA04-Jade Ward","RHA","NOTTINGHAMSHIRE HEALTHCARE NHS FOUNDATION TRUST","RHA04","RAMPTON HOSPITAL","Jade Ward"]
["RHA04-Kempton Ward","RHA","NOTTINGHAMSHIRE HEALTHCARE NHS FOUNDATION TRUST","RHA04","RAMPTON HOSPITAL","Kempton Ward"]
["RHA04-Malvern Ward","RHA","NOTTINGHAMSHIRE HEALTHCARE NHS FOUNDATION TRUST","RHA04","RAMPTON HOSPITAL","Malvern Ward"]
["RHA04-Newmarket Ward (was Cheltenham)","RHA","NOTTINGHAMSHIRE HEALTHCARE NHS FOUNDATION TRUST","RHA04","RAMPTON HOSPITAL","Newmarket Ward (was Cheltenham)"]
["RHA04-Quantock Ward","RHA","NOTTINGHAMSHIRE HEALTHCARE NHS FOUNDATION TRUST","RHA04","RAMPTON HOSPITAL","Quantock Ward"]
["RHA04-Ruby Ward","RHA","NOTTINGHAMSHIRE HEALTHCARE NHS FOUNDATION TRUST","RHA04","RAMPTON HOSPITAL","Ruby Ward"]
["RHA04-Topaz Ward","RHA","NOTTINGHAMSHIRE HEALTHCARE NHS FOUNDATION TRUST","RHA04","RAMPTON HOSPITAL","Topaz Ward"]
["RHAA0-BASSETLAW HOSPICE","RHA","NOTTINGHAMSHIRE HEALTHCARE NHS FOUNDATION TRUST","RHAA0","BASSETLAW HOSPICE","BASSETLAW HOSPICE"]
["RHAAA-B1","RHA","NOTTINGHAMSHIRE HEALTHCARE NHS FOUNDATION TRUST","RHAAA","BASSETLAW HOSPITAL","B1"]
["RHAAA-B2","RHA","NOTTINGHAMSHIRE HEALTHCARE NHS FOUNDATION TRUST","RHAAA","BASSETLAW HOSPITAL","B2"]
["RHAAR-Cannock","RHA","NOTTINGHAMSHIRE HEALTHCARE NHS FOUNDATION TRUST","RHAAR","ARNOLD LODGE REGIONAL SECURE UNIT","Cannock"]
["RHAAR-Coniston","RHA","NOTTINGHAMSHIRE HEALTHCARE NHS FOUNDATION TRUST","RHAAR","ARNOLD LODGE REGIONAL SECURE UNIT","Coniston"]
["RHAAR-Foxton (was Helvellyn)","RHA","NOTTINGHAMSHIRE HEALTHCARE NHS FOUNDATION TRUST","RHAAR","ARNOLD LODGE REGIONAL SECURE UNIT","Foxton (was Helvellyn)"]
["RHAAR-Ridgeway","RHA","NOTTINGHAMSHIRE HEALTHCARE NHS FOUNDATION TRUST","RHAAR","ARNOLD LODGE REGIONAL SECURE UNIT","Ridgeway"]
["RHAAR-Rutland","RHA","NOTTINGHAMSHIRE HEALTHCARE NHS FOUNDATION TRUST","RHAAR","ARNOLD LODGE REGIONAL SECURE UNIT","Rutland"]
["RHAAR-Tamar","RHA","NOTTINGHAMSHIRE HEALTHCARE NHS FOUNDATION TRUST","RHAAR","ARNOLD LODGE REGIONAL SECURE UNIT","Tamar"]
["RHAAR-Thornton (was Snowdon)","RHA","NOTTINGHAMSHIRE HEALTHCARE NHS FOUNDATION TRUST","RHAAR","ARNOLD LODGE REGIONAL SECURE UNIT","Thornton (was Snowdon)"]
["RHABL-Alexander House","RHA","NOTTINGHAMSHIRE HEALTHCARE NHS FOUNDATION TRUST","RHABL","MANSFIELD COMMUNITY HOSPITAL","Alexander House"]
["RHABL-Bracken House","RHA","NOTTINGHAMSHIRE HEALTHCARE NHS FOUNDATION TRUST","RHABL","MANSFIELD COMMUNITY HOSPITAL","Bracken House"]
[{"$f":"CONCATENATE(D1850,\"-\",F1850)","v":"RHABL-Chatsworth Ward"},"RHA","NOTTINGHAMSHIRE HEALTHCARE NHS FOUNDATION TRUST","RHABL","MANSFIELD COMMUNITY HOSPITAL","Chatsworth Ward"]
["RHABW-Amber","RHA","NOTTINGHAMSHIRE HEALTHCARE NHS FOUNDATION TRUST","RHABW","MILLBROOK MENTAL HEALTH UNIT","Amber"]
["RHABW-Kingsley","RHA","NOTTINGHAMSHIRE HEALTHCARE NHS FOUNDATION TRUST","RHABW","MILLBROOK MENTAL HEALTH UNIT","Kingsley"]
["RHABW-Lucy Wade","RHA","NOTTINGHAMSHIRE HEALTHCARE NHS FOUNDATION TRUST","RHABW","MILLBROOK MENTAL HEALTH UNIT","Lucy Wade"]
["RHABW-Orchid","RHA","NOTTINGHAMSHIRE HEALTHCARE NHS FOUNDATION TRUST","RHABW","MILLBROOK MENTAL HEALTH UNIT","Orchid"]
["RHAFL-Green Haven","RHA","NOTTINGHAMSHIRE HEALTHCARE NHS FOUNDATION TRUST","RHAFL","HOPEWOOD","Green Haven"]
["RHAFL-Hercules PICU","RHA","NOTTINGHAMSHIRE HEALTHCARE NHS FOUNDATION TRUST","RHAFL","HOPEWOOD","Hercules PICU"]
["RHAFL-Pegasus","RHA","NOTTINGHAMSHIRE HEALTHCARE NHS FOUNDATION TRUST","RHAFL","HOPEWOOD","Pegasus"]
["RHAFL-Phoenix","RHA","NOTTINGHAMSHIRE HEALTHCARE NHS FOUNDATION TRUST","RHAFL","HOPEWOOD","Phoenix"]
["RHAG4-JOHN EASTWOOD HOSPICE","RHA","NOTTINGHAMSHIRE HEALTHCARE NHS FOUNDATION TRUST","RHAG4","JOHN EASTWOOD HOSPICE","JOHN EASTWOOD HOSPICE"]
["RHALB-CHILDRENS DEVELOPMENT CENTRE","RHA","NOTTINGHAMSHIRE HEALTHCARE NHS FOUNDATION TRUST","RHALB","NOTTINGHAM CITY HOSPITAL","CHILDRENS DEVELOPMENT CENTRE"]
["RHAN6-106&145 Thorneywood Mount","RHA","NOTTINGHAMSHIRE HEALTHCARE NHS FOUNDATION TRUST","RHAN6","THORNEYWOOD MOUNT","106&145 Thorneywood Mount"]
["RHANA-Lister","RHA","NOTTINGHAMSHIRE HEALTHCARE NHS FOUNDATION TRUST","RHANA","THE WELLS ROAD CENTRE","Lister"]
["RHANA-Porchester","RHA","NOTTINGHAMSHIRE HEALTHCARE NHS FOUNDATION TRUST","RHANA","THE WELLS ROAD CENTRE","Porchester"]
["RHANA-Prospect House","RHA","NOTTINGHAMSHIRE HEALTHCARE NHS FOUNDATION TRUST","RHANA","THE WELLS ROAD CENTRE","Prospect House"]
["RHANA-Seacole","RHA","NOTTINGHAMSHIRE HEALTHCARE NHS FOUNDATION TRUST","RHANA","THE WELLS ROAD CENTRE","Seacole"]
["RHANA-Thurland","RHA","NOTTINGHAMSHIRE HEALTHCARE NHS FOUNDATION TRUST","RHANA","THE WELLS ROAD CENTRE","Thurland"]
["RHANA-Trent","RHA","NOTTINGHAMSHIRE HEALTHCARE NHS FOUNDATION TRUST","RHANA","THE WELLS ROAD CENTRE","Trent"]
["RHANM-Cherry","RHA","NOTTINGHAMSHIRE HEALTHCARE NHS FOUNDATION TRUST","RHANM","HIGHBURY HOSPITAL","Cherry"]
["RHANM-Orion Unit","RHA","NOTTINGHAMSHIRE HEALTHCARE NHS FOUNDATION TRUST","RHANM","HIGHBURY HOSPITAL","Orion Unit"]
["RHANM-Redwood 1","RHA","NOTTINGHAMSHIRE HEALTHCARE NHS FOUNDATION TRUST","RHANM","HIGHBURY HOSPITAL","Redwood 1"]
["RHANM-Redwood 2","RHA","NOTTINGHAMSHIRE HEALTHCARE NHS FOUNDATION TRUST","RHANM","HIGHBURY HOSPITAL","Redwood 2"]
["RHANM-Rowan 1","RHA","NOTTINGHAMSHIRE HEALTHCARE NHS FOUNDATION TRUST","RHANM","HIGHBURY HOSPITAL","Rowan 1"]
["RHANM-Rowan 2","RHA","NOTTINGHAMSHIRE HEALTHCARE NHS FOUNDATION TRUST","RHANM","HIGHBURY HOSPITAL","Rowan 2"]
["RHANM-Silver Birch","RHA","NOTTINGHAMSHIRE HEALTHCARE NHS FOUNDATION TRUST","RHANM","HIGHBURY HOSPITAL","Silver Birch"]
["RHANM-Willows","RHA","NOTTINGHAMSHIRE HEALTHCARE NHS FOUNDATION TRUST","RHANM","HIGHBURY HOSPITAL","Willows"]
["RHANN-CASTLE","RHA","NOTTINGHAMSHIRE HEALTHCARE NHS FOUNDATION TRUST","RHANN","LINGS BAR HOSPITAL","CASTLE"]
["RHANN-FOREST","RHA","NOTTINGHAMSHIRE HEALTHCARE NHS FOUNDATION TRUST","RHANN","LINGS BAR HOSPITAL","FOREST"]
["RHANN-JOHN PROCTOR","RHA","NOTTINGHAMSHIRE HEALTHCARE NHS FOUNDATION TRUST","RHANN","LINGS BAR HOSPITAL","JOHN PROCTOR"]
["RHARX-Lodges","RHA","NOTTINGHAMSHIRE HEALTHCARE NHS FOUNDATION TRUST","RHARX","THE LODGES (WATHWOOD HOSPITAL)","Lodges"]
["RHARY-Assessment","RHA","NOTTINGHAMSHIRE HEALTHCARE NHS FOUNDATION TRUST","RHARY","WATHWOOD HOSPITAL","Assessment"]
["RHARY-Concare","RHA","NOTTINGHAMSHIRE HEALTHCARE NHS FOUNDATION TRUST","RHARY","WATHWOOD HOSPITAL","Concare"]
["RHARY-Rehab","RHA","NOTTINGHAMSHIRE HEALTHCARE NHS FOUNDATION TRUST","RHARY","WATHWOOD HOSPITAL","Rehab"]
["RHM01-188 CAN C4 Solent Ward Clinical Oncology","RHM","UNIVERSITY HOSPITAL SOUTHAMPTON NHS FOUNDATION TRUST","RHM01","SOUTHAMPTON GENERAL HOSPITAL","188 CAN C4 Solent Ward Clinical Oncology"]
["RHM01-188 CAN C6 Leukaemia/BMT Unit","RHM","UNIVERSITY HOSPITAL SOUTHAMPTON NHS FOUNDATION TRUST","RHM01","SOUTHAMPTON GENERAL HOSPITAL","188 CAN C6 Leukaemia/BMT Unit"]
["RHM01-188 CAN C6 TYA Unit","RHM","UNIVERSITY HOSPITAL SOUTHAMPTON NHS FOUNDATION TRUST","RHM01","SOUTHAMPTON GENERAL HOSPITAL","188 CAN C6 TYA Unit"]
["RHM01-188 CAN D2 Haematology","RHM","UNIVERSITY HOSPITAL SOUTHAMPTON NHS FOUNDATION TRUST","RHM01","SOUTHAMPTON GENERAL HOSPITAL","188 CAN D2 Haematology"]
["RHM01-188 CAN D3 Ward","RHM","UNIVERSITY HOSPITAL SOUTHAMPTON NHS FOUNDATION TRUST","RHM01","SOUTHAMPTON GENERAL HOSPITAL","188 CAN D3 Ward"]
["RHM01-188 CAR CHDU","RHM","UNIVERSITY HOSPITAL SOUTHAMPTON NHS FOUNDATION TRUST","RHM01","SOUTHAMPTON GENERAL HOSPITAL","188 CAR CHDU"]
["RHM01-188 CAR Coronary Care Unit","RHM","UNIVERSITY HOSPITAL SOUTHAMPTON NHS FOUNDATION TRUST","RHM01","SOUTHAMPTON GENERAL HOSPITAL","188 CAR Coronary Care Unit"]
["RHM01-188 CAR Ward D4 Vascular","RHM","UNIVERSITY HOSPITAL SOUTHAMPTON NHS FOUNDATION TRUST","RHM01","SOUTHAMPTON GENERAL HOSPITAL","188 CAR Ward D4 Vascular"]
["RHM01-188 CAR Ward E2 YACU","RHM","UNIVERSITY HOSPITAL SOUTHAMPTON NHS FOUNDATION TRUST","RHM01","SOUTHAMPTON GENERAL HOSPITAL","188 CAR Ward E2 YACU"]
["RHM01-188 CAR Ward E3 Blue","RHM","UNIVERSITY HOSPITAL SOUTHAMPTON NHS FOUNDATION TRUST","RHM01","SOUTHAMPTON GENERAL HOSPITAL","188 CAR Ward E3 Blue"]
["RHM01-188 CAR Ward E3 Green","RHM","UNIVERSITY HOSPITAL SOUTHAMPTON NHS FOUNDATION TRUST","RHM01","SOUTHAMPTON GENERAL HOSPITAL","188 CAR Ward E3 Green"]
["RHM01-188 CAR Ward E4 Thoracics","RHM","UNIVERSITY HOSPITAL SOUTHAMPTON NHS FOUNDATION TRUST","RHM01","SOUTHAMPTON GENERAL HOSPITAL","188 CAR Ward E4 Thoracics"]
["RHM01-188 CC - Surgical HDU","RHM","UNIVERSITY HOSPITAL SOUTHAMPTON NHS FOUNDATION TRUST","RHM01","SOUTHAMPTON GENERAL HOSPITAL","188 CC - Surgical HDU"]
["RHM01-188 CC Cardiac Intensive Care","RHM","UNIVERSITY HOSPITAL SOUTHAMPTON NHS FOUNDATION TRUST","RHM01","SOUTHAMPTON GENERAL HOSPITAL","188 CC Cardiac Intensive Care"]
["RHM01-188 CC GICU A Side","RHM","UNIVERSITY HOSPITAL SOUTHAMPTON NHS FOUNDATION TRUST","RHM01","SOUTHAMPTON GENERAL HOSPITAL","188 CC GICU A Side"]
["RHM01-188 CC GICU B Side","RHM","UNIVERSITY HOSPITAL SOUTHAMPTON NHS FOUNDATION TRUST","RHM01","SOUTHAMPTON GENERAL HOSPITAL","188 CC GICU B Side"]
["RHM01-188 CC Neuro Intensive Care Unit","RHM","UNIVERSITY HOSPITAL SOUTHAMPTON NHS FOUNDATION TRUST","RHM01","SOUTHAMPTON GENERAL HOSPITAL","188 CC Neuro Intensive Care Unit"]
["RHM01-188 CHI High Dependency Unit","RHM","UNIVERSITY HOSPITAL SOUTHAMPTON NHS FOUNDATION TRUST","RHM01","SOUTHAMPTON GENERAL HOSPITAL","188 CHI High Dependency Unit"]
["RHM01-188 CHI Paed Medical Unit","RHM","UNIVERSITY HOSPITAL SOUTHAMPTON NHS FOUNDATION TRUST","RHM01","SOUTHAMPTON GENERAL HOSPITAL","188 CHI Paed Medical Unit"]
["RHM01-188 CHI Paediatric Assessment Unit","RHM","UNIVERSITY HOSPITAL SOUTHAMPTON NHS FOUNDATION TRUST","RHM01","SOUTHAMPTON GENERAL HOSPITAL","188 CHI Paediatric Assessment Unit"]
["RHM01-188 CHI Paediatric Intensive Care","RHM","UNIVERSITY HOSPITAL SOUTHAMPTON NHS FOUNDATION TRUST","RHM01","SOUTHAMPTON GENERAL HOSPITAL","188 CHI Paediatric Intensive Care"]
["RHM01-188 CHI Piam Brown Unit","RHM","UNIVERSITY HOSPITAL SOUTHAMPTON NHS FOUNDATION TRUST","RHM01","SOUTHAMPTON GENERAL HOSPITAL","188 CHI Piam Brown Unit"]
["RHM01-188 CHI Ward E1 Paed Cardiac","RHM","UNIVERSITY HOSPITAL SOUTHAMPTON NHS FOUNDATION TRUST","RHM01","SOUTHAMPTON GENERAL HOSPITAL","188 CHI Ward E1 Paed Cardiac"]
["RHM01-188 CHI Ward G2 Neuro","RHM","UNIVERSITY HOSPITAL SOUTHAMPTON NHS FOUNDATION TRUST","RHM01","SOUTHAMPTON GENERAL HOSPITAL","188 CHI Ward G2 Neuro"]
["RHM01-188 CHI Ward G3","RHM","UNIVERSITY HOSPITAL SOUTHAMPTON NHS FOUNDATION TRUST","RHM01","SOUTHAMPTON GENERAL HOSPITAL","188 CHI Ward G3"]
["RHM01-188 CHI Ward G4 Surgery","RHM","UNIVERSITY HOSPITAL SOUTHAMPTON NHS FOUNDATION TRUST","RHM01","SOUTHAMPTON GENERAL HOSPITAL","188 CHI Ward G4 Surgery"]
["RHM01-188 ECM Acute Medical Unit","RHM","UNIVERSITY HOSPITAL SOUTHAMPTON NHS FOUNDATION TRUST","RHM01","SOUTHAMPTON GENERAL HOSPITAL","188 ECM Acute Medical Unit"]
["RHM01-188 MED D10 Isolation Unit","RHM","UNIVERSITY HOSPITAL SOUTHAMPTON NHS FOUNDATION TRUST","RHM01","SOUTHAMPTON GENERAL HOSPITAL","188 MED D10 Isolation Unit"]
["RHM01-188 MED D5 Ward","RHM","UNIVERSITY HOSPITAL SOUTHAMPTON NHS FOUNDATION TRUST","RHM01","SOUTHAMPTON GENERAL HOSPITAL","188 MED D5 Ward"]
["RHM01-188 MED D6 Ward","RHM","UNIVERSITY HOSPITAL SOUTHAMPTON NHS FOUNDATION TRUST","RHM01","SOUTHAMPTON GENERAL HOSPITAL","188 MED D6 Ward"]
["RHM01-188 MED D7 Ward","RHM","UNIVERSITY HOSPITAL SOUTHAMPTON NHS FOUNDATION TRUST","RHM01","SOUTHAMPTON GENERAL HOSPITAL","188 MED D7 Ward"]
[{"$f":"CONCATENATE(D1914,\"-\",F1914)","v":"RHM01-188 MED D8 Ward"},"RHM","UNIVERSITY HOSPITAL SOUTHAMPTON NHS FOUNDATION TRUST","RHM01","SOUTHAMPTON GENERAL HOSPITAL","188 MED D8 Ward"]
["RHM01-188 MED D9 Ward","RHM","UNIVERSITY HOSPITAL SOUTHAMPTON NHS FOUNDATION TRUST","RHM01","SOUTHAMPTON GENERAL HOSPITAL","188 MED D9 Ward"]
["RHM01-188 MED E7 Ward","RHM","UNIVERSITY HOSPITAL SOUTHAMPTON NHS FOUNDATION TRUST","RHM01","SOUTHAMPTON GENERAL HOSPITAL","188 MED E7 Ward"]
["RHM01-188 MED F7 Ward","RHM","UNIVERSITY HOSPITAL SOUTHAMPTON NHS FOUNDATION TRUST","RHM01","SOUTHAMPTON GENERAL HOSPITAL","188 MED F7 Ward"]
["RHM01-188 MED G5 Ward","RHM","UNIVERSITY HOSPITAL SOUTHAMPTON NHS FOUNDATION TRUST","RHM01","SOUTHAMPTON GENERAL HOSPITAL","188 MED G5 Ward"]
["RHM01-188 MED G6 Ward","RHM","UNIVERSITY HOSPITAL SOUTHAMPTON NHS FOUNDATION TRUST","RHM01","SOUTHAMPTON GENERAL HOSPITAL","188 MED G6 Ward"]
["RHM01-188 MED G7 Ward","RHM","UNIVERSITY HOSPITAL SOUTHAMPTON NHS FOUNDATION TRUST","RHM01","SOUTHAMPTON GENERAL HOSPITAL","188 MED G7 Ward"]
["RHM01-188 MED G8 Ward","RHM","UNIVERSITY HOSPITAL SOUTHAMPTON NHS FOUNDATION TRUST","RHM01","SOUTHAMPTON GENERAL HOSPITAL","188 MED G8 Ward"]
["RHM01-188 MED G9 Ward","RHM","UNIVERSITY HOSPITAL SOUTHAMPTON NHS FOUNDATION TRUST","RHM01","SOUTHAMPTON GENERAL HOSPITAL","188 MED G9 Ward"]
["RHM01-188 MED Respiratory HDU","RHM","UNIVERSITY HOSPITAL SOUTHAMPTON NHS FOUNDATION TRUST","RHM01","SOUTHAMPTON GENERAL HOSPITAL","188 MED Respiratory HDU"]
["RHM01-188 NEU Acute Stroke Unit","RHM","UNIVERSITY HOSPITAL SOUTHAMPTON NHS FOUNDATION TRUST","RHM01","SOUTHAMPTON GENERAL HOSPITAL","188 NEU Acute Stroke Unit"]
["RHM01-188 NEU hasu","RHM","UNIVERSITY HOSPITAL SOUTHAMPTON NHS FOUNDATION TRUST","RHM01","SOUTHAMPTON GENERAL HOSPITAL","188 NEU hasu"]
["RHM01-188 NEU Regional Transfer Unit","RHM","UNIVERSITY HOSPITAL SOUTHAMPTON NHS FOUNDATION TRUST","RHM01","SOUTHAMPTON GENERAL HOSPITAL","188 NEU Regional Transfer Unit"]
["RHM01-188 NEU Ward D Neuro","RHM","UNIVERSITY HOSPITAL SOUTHAMPTON NHS FOUNDATION TRUST","RHM01","SOUTHAMPTON GENERAL HOSPITAL","188 NEU Ward D Neuro"]
["RHM01-188 NEU Ward E Neuro","RHM","UNIVERSITY HOSPITAL SOUTHAMPTON NHS FOUNDATION TRUST","RHM01","SOUTHAMPTON GENERAL HOSPITAL","188 NEU Ward E Neuro"]
["RHM01-188 SME C5 Isolation Ward","RHM","UNIVERSITY HOSPITAL SOUTHAMPTON NHS FOUNDATION TRUST","RHM01","SOUTHAMPTON GENERAL HOSPITAL","188 SME C5 Isolation Ward"]
["RHM01-188 SPI Ward F4 Spinal","RHM","UNIVERSITY HOSPITAL SOUTHAMPTON NHS FOUNDATION TRUST","RHM01","SOUTHAMPTON GENERAL HOSPITAL","188 SPI Ward F4 Spinal"]
["RHM01-188 SUR Acute Surgical Admissions","RHM","UNIVERSITY HOSPITAL SOUTHAMPTON NHS FOUNDATION TRUST","RHM01","SOUTHAMPTON GENERAL HOSPITAL","188 SUR Acute Surgical Admissions"]
["RHM01-188 SUR E5 Lower GI","RHM","UNIVERSITY HOSPITAL SOUTHAMPTON NHS FOUNDATION TRUST","RHM01","SOUTHAMPTON GENERAL HOSPITAL","188 SUR E5 Lower GI"]
["RHM01-188 SUR E5 Upper GI","RHM","UNIVERSITY HOSPITAL SOUTHAMPTON NHS FOUNDATION TRUST","RHM01","SOUTHAMPTON GENERAL HOSPITAL","188 SUR E5 Upper GI"]
["RHM01-188 SUR E8 HPB/Urology","RHM","UNIVERSITY HOSPITAL SOUTHAMPTON NHS FOUNDATION TRUST","RHM01","SOUTHAMPTON GENERAL HOSPITAL","188 SUR E8 HPB/Urology"]
["RHM01-188 SUR F11 IF","RHM","UNIVERSITY HOSPITAL SOUTHAMPTON NHS FOUNDATION TRUST","RHM01","SOUTHAMPTON GENERAL HOSPITAL","188 SUR F11 IF"]
["RHM01-188 SUR Ward F5","RHM","UNIVERSITY HOSPITAL SOUTHAMPTON NHS FOUNDATION TRUST","RHM01","SOUTHAMPTON GENERAL HOSPITAL","188 SUR Ward F5"]
["RHM01-188 T&O PAH Brooke Ward","RHM","UNIVERSITY HOSPITAL SOUTHAMPTON NHS FOUNDATION TRUST","RHM01","SOUTHAMPTON GENERAL HOSPITAL","188 T&O PAH Brooke Ward"]
["RHM01-188 T&O Trauma Admissions Unit","RHM","UNIVERSITY HOSPITAL SOUTHAMPTON NHS FOUNDATION TRUST","RHM01","SOUTHAMPTON GENERAL HOSPITAL","188 T&O Trauma Admissions Unit"]
["RHM01-188 T&O Ward F1 Elective","RHM","UNIVERSITY HOSPITAL SOUTHAMPTON NHS FOUNDATION TRUST","RHM01","SOUTHAMPTON GENERAL HOSPITAL","188 T&O Ward F1 Elective"]
["RHM01-188 T&O Ward F2 Trauma","RHM","UNIVERSITY HOSPITAL SOUTHAMPTON NHS FOUNDATION TRUST","RHM01","SOUTHAMPTON GENERAL HOSPITAL","188 T&O Ward F2 Trauma"]
["RHM01-188 T&O Ward F3 Trauma","RHM","UNIVERSITY HOSPITAL SOUTHAMPTON NHS FOUNDATION TRUST","RHM01","SOUTHAMPTON GENERAL HOSPITAL","188 T&O Ward F3 Trauma"]
["RHM01-188 T&O Ward F4","RHM","UNIVERSITY HOSPITAL SOUTHAMPTON NHS FOUNDATION TRUST","RHM01","SOUTHAMPTON GENERAL HOSPITAL","188 T&O Ward F4"]
["RHM12-188 W&N Bramshaw Womens Unit","RHM","UNIVERSITY HOSPITAL SOUTHAMPTON NHS FOUNDATION TRUST","RHM12","PRINCESS ANNE HOSPITAL","188 W&N Bramshaw Womens Unit"]
["RHM12-188 W&N Neonatal Unit","RHM","UNIVERSITY HOSPITAL SOUTHAMPTON NHS FOUNDATION TRUST","RHM12","PRINCESS ANNE HOSPITAL","188 W&N Neonatal Unit"]
["RHM12-188 W&N PAH Maternity Service","RHM","UNIVERSITY HOSPITAL SOUTHAMPTON NHS FOUNDATION TRUST","RHM12","PRINCESS ANNE HOSPITAL","188 W&N PAH Maternity Service"]
["RHQHH-Critical Care (RHH)","RHQ","SHEFFIELD TEACHING HOSPITALS NHS FOUNDATION TRUST","RHQHH","ROYAL HALLAMSHIRE HOSPITAL","Critical Care (RHH)"]
["RHQHH-G2 (H2)","RHQ","SHEFFIELD TEACHING HOSPITALS NHS FOUNDATION TRUST","RHQHH","ROYAL HALLAMSHIRE HOSPITAL","G2 (H2)"]
["RHQHH-Labour Ward","RHQ","SHEFFIELD TEACHING HOSPITALS NHS FOUNDATION TRUST","RHQHH","ROYAL HALLAMSHIRE HOSPITAL","Labour Ward"]
["RHQHH-Neonatal Intensive Care","RHQ","SHEFFIELD TEACHING HOSPITALS NHS FOUNDATION TRUST","RHQHH","ROYAL HALLAMSHIRE HOSPITAL","Neonatal Intensive Care"]
["RHQHH-Neuro Critical Care - K Floor","RHQ","SHEFFIELD TEACHING HOSPITALS NHS FOUNDATION TRUST","RHQHH","ROYAL HALLAMSHIRE HOSPITAL","Neuro Critical Care - K Floor"]
["RHQHH-Norfolk Ward","RHQ","SHEFFIELD TEACHING HOSPITALS NHS FOUNDATION TRUST","RHQHH","ROYAL HALLAMSHIRE HOSPITAL","Norfolk Ward"]
["RHQHH-Pulmonary Vascular Disease - M2","RHQ","SHEFFIELD TEACHING HOSPITALS NHS FOUNDATION TRUST","RHQHH","ROYAL HALLAMSHIRE HOSPITAL","Pulmonary Vascular Disease - M2"]
["RHQHH-Q1 RHH (Brearley 5 NGH)","RHQ","SHEFFIELD TEACHING HOSPITALS NHS FOUNDATION TRUST","RHQHH","ROYAL HALLAMSHIRE HOSPITAL","Q1 RHH (Brearley 5 NGH)"]
["RHQHH-Rivelin Ward","RHQ","SHEFFIELD TEACHING HOSPITALS NHS FOUNDATION TRUST","RHQHH","ROYAL HALLAMSHIRE HOSPITAL","Rivelin Ward"]
["RHQHH-Ward F1 (H2)","RHQ","SHEFFIELD TEACHING HOSPITALS NHS FOUNDATION TRUST","RHQHH","ROYAL HALLAMSHIRE HOSPITAL","Ward F1 (H2)"]
["RHQHH-Ward F2","RHQ","SHEFFIELD TEACHING HOSPITALS NHS FOUNDATION TRUST","RHQHH","ROYAL HALLAMSHIRE HOSPITAL","Ward F2"]
["RHQHH-Ward G1 Inpatients","RHQ","SHEFFIELD TEACHING HOSPITALS NHS FOUNDATION TRUST","RHQHH","ROYAL HALLAMSHIRE HOSPITAL","Ward G1 Inpatients"]
["RHQHH-Ward H2","RHQ","SHEFFIELD TEACHING HOSPITALS NHS FOUNDATION TRUST","RHQHH","ROYAL HALLAMSHIRE HOSPITAL","Ward H2"]
["RHQHH-Ward I1","RHQ","SHEFFIELD TEACHING HOSPITALS NHS FOUNDATION TRUST","RHQHH","ROYAL HALLAMSHIRE HOSPITAL","Ward I1"]
["RHQHH-Ward L1","RHQ","SHEFFIELD TEACHING HOSPITALS NHS FOUNDATION TRUST","RHQHH","ROYAL HALLAMSHIRE HOSPITAL","Ward L1"]
["RHQHH-Ward N2","RHQ","SHEFFIELD TEACHING HOSPITALS NHS FOUNDATION TRUST","RHQHH","ROYAL HALLAMSHIRE HOSPITAL","Ward N2"]
["RHQHH-Ward O1","RHQ","SHEFFIELD TEACHING HOSPITALS NHS FOUNDATION TRUST","RHQHH","ROYAL HALLAMSHIRE HOSPITAL","Ward O1"]
["RHQHH-Ward P2 (F1)","RHQ","SHEFFIELD TEACHING HOSPITALS NHS FOUNDATION TRUST","RHQHH","ROYAL HALLAMSHIRE HOSPITAL","Ward P2 (F1)"]
["RHQHH-Ward P3/4","RHQ","SHEFFIELD TEACHING HOSPITALS NHS FOUNDATION TRUST","RHQHH","ROYAL HALLAMSHIRE HOSPITAL","Ward P3/4"]
["RHQHH-Ward Q2","RHQ","SHEFFIELD TEACHING HOSPITALS NHS FOUNDATION TRUST","RHQHH","ROYAL HALLAMSHIRE HOSPITAL","Ward Q2"]
["RHQHH-Wards E1/E2","RHQ","SHEFFIELD TEACHING HOSPITALS NHS FOUNDATION TRUST","RHQHH","ROYAL HALLAMSHIRE HOSPITAL","Wards E1/E2"]
["RHQHH-Whirlow Ward","RHQ","SHEFFIELD TEACHING HOSPITALS NHS FOUNDATION TRUST","RHQHH","ROYAL HALLAMSHIRE HOSPITAL","Whirlow Ward"]
["RHQNG-Acute Medical Unit","RHQ","SHEFFIELD TEACHING HOSPITALS NHS FOUNDATION TRUST","RHQNG","NORTHERN GENERAL HOSPITAL","Acute Medical Unit"]
["RHQNG-Brearley 1","RHQ","SHEFFIELD TEACHING HOSPITALS NHS FOUNDATION TRUST","RHQNG","NORTHERN GENERAL HOSPITAL","Brearley 1"]
["RHQNG-Brearley 2","RHQ","SHEFFIELD TEACHING HOSPITALS NHS FOUNDATION TRUST","RHQNG","NORTHERN GENERAL HOSPITAL","Brearley 2"]
["RHQNG-Brearley 3","RHQ","SHEFFIELD TEACHING HOSPITALS NHS FOUNDATION TRUST","RHQNG","NORTHERN GENERAL HOSPITAL","Brearley 3"]
["RHQNG-Brearley 4","RHQ","SHEFFIELD TEACHING HOSPITALS NHS FOUNDATION TRUST","RHQNG","NORTHERN GENERAL HOSPITAL","Brearley 4"]
["RHQNG-Brearley 5 (Huntsman 4)","RHQ","SHEFFIELD TEACHING HOSPITALS NHS FOUNDATION TRUST","RHQNG","NORTHERN GENERAL HOSPITAL","Brearley 5 (Huntsman 4)"]
["RHQNG-Brearley 6","RHQ","SHEFFIELD TEACHING HOSPITALS NHS FOUNDATION TRUST","RHQNG","NORTHERN GENERAL HOSPITAL","Brearley 6"]
["RHQNG-Brearley 7","RHQ","SHEFFIELD TEACHING HOSPITALS NHS FOUNDATION TRUST","RHQNG","NORTHERN GENERAL HOSPITAL","Brearley 7"]
["RHQNG-Burns Unit","RHQ","SHEFFIELD TEACHING HOSPITALS NHS FOUNDATION TRUST","RHQNG","NORTHERN GENERAL HOSPITAL","Burns Unit"]
["RHQNG-Cardiac Intensive Care unit","RHQ","SHEFFIELD TEACHING HOSPITALS NHS FOUNDATION TRUST","RHQNG","NORTHERN GENERAL HOSPITAL","Cardiac Intensive Care unit"]
[{"$f":"CONCATENATE(D1978,\"-\",F1978)","v":"RHQNG-CCU"},"RHQ","SHEFFIELD TEACHING HOSPITALS NHS FOUNDATION TRUST","RHQNG","NORTHERN GENERAL HOSPITAL","CCU"]
["RHQNG-Chesterman 1","RHQ","SHEFFIELD TEACHING HOSPITALS NHS FOUNDATION TRUST","RHQNG","NORTHERN GENERAL HOSPITAL","Chesterman 1"]
["RHQNG-Chesterman 3","RHQ","SHEFFIELD TEACHING HOSPITALS NHS FOUNDATION TRUST","RHQNG","NORTHERN GENERAL HOSPITAL","Chesterman 3"]
["RHQNG-Chesterman 4","RHQ","SHEFFIELD TEACHING HOSPITALS NHS FOUNDATION TRUST","RHQNG","NORTHERN GENERAL HOSPITAL","Chesterman 4"]
["RHQNG-Cystic Fibrosis","RHQ","SHEFFIELD TEACHING HOSPITALS NHS FOUNDATION TRUST","RHQNG","NORTHERN GENERAL HOSPITAL","Cystic Fibrosis"]
["RHQNG-Firth 1 (Robert Hadfield 6)","RHQ","SHEFFIELD TEACHING HOSPITALS NHS FOUNDATION TRUST","RHQNG","NORTHERN GENERAL HOSPITAL","Firth 1 (Robert Hadfield 6)"]
["RHQNG-Firth 2","RHQ","SHEFFIELD TEACHING HOSPITALS NHS FOUNDATION TRUST","RHQNG","NORTHERN GENERAL HOSPITAL","Firth 2"]
["RHQNG-Firth 3","RHQ","SHEFFIELD TEACHING HOSPITALS NHS FOUNDATION TRUST","RHQNG","NORTHERN GENERAL HOSPITAL","Firth 3"]
["RHQNG-Firth 4","RHQ","SHEFFIELD TEACHING HOSPITALS NHS FOUNDATION TRUST","RHQNG","NORTHERN GENERAL HOSPITAL","Firth 4"]
["RHQNG-Firth 7","RHQ","SHEFFIELD TEACHING HOSPITALS NHS FOUNDATION TRUST","RHQNG","NORTHERN GENERAL HOSPITAL","Firth 7"]
["RHQNG-Firth 8","RHQ","SHEFFIELD TEACHING HOSPITALS NHS FOUNDATION TRUST","RHQNG","NORTHERN GENERAL HOSPITAL","Firth 8"]
["RHQNG-Firth 9","RHQ","SHEFFIELD TEACHING HOSPITALS NHS FOUNDATION TRUST","RHQNG","NORTHERN GENERAL HOSPITAL","Firth 9"]
["RHQNG-Frailty Unit - Huntsman 1","RHQ","SHEFFIELD TEACHING HOSPITALS NHS FOUNDATION TRUST","RHQNG","NORTHERN GENERAL HOSPITAL","Frailty Unit - Huntsman 1"]
["RHQNG-General Intensive Care Unit","RHQ","SHEFFIELD TEACHING HOSPITALS NHS FOUNDATION TRUST","RHQNG","NORTHERN GENERAL HOSPITAL","General Intensive Care Unit"]
["RHQNG-High Dependency Unit","RHQ","SHEFFIELD TEACHING HOSPITALS NHS FOUNDATION TRUST","RHQNG","NORTHERN GENERAL HOSPITAL","High Dependency Unit"]
["RHQNG-Huntsman 2 (RH 2)","RHQ","SHEFFIELD TEACHING HOSPITALS NHS FOUNDATION TRUST","RHQNG","NORTHERN GENERAL HOSPITAL","Huntsman 2 (RH 2)"]
["RHQNG-Huntsman 4 (RH 1 / 3)","RHQ","SHEFFIELD TEACHING HOSPITALS NHS FOUNDATION TRUST","RHQNG","NORTHERN GENERAL HOSPITAL","Huntsman 4 (RH 1 / 3)"]
["RHQNG-Huntsman 5 (RH 4)","RHQ","SHEFFIELD TEACHING HOSPITALS NHS FOUNDATION TRUST","RHQNG","NORTHERN GENERAL HOSPITAL","Huntsman 5 (RH 4)"]
["RHQNG-Huntsman 6","RHQ","SHEFFIELD TEACHING HOSPITALS NHS FOUNDATION TRUST","RHQNG","NORTHERN GENERAL HOSPITAL","Huntsman 6"]
["RHQNG-Huntsman 7","RHQ","SHEFFIELD TEACHING HOSPITALS NHS FOUNDATION TRUST","RHQNG","NORTHERN GENERAL HOSPITAL","Huntsman 7"]
["RHQNG-Macmillan Palliative Care Unit","RHQ","SHEFFIELD TEACHING HOSPITALS NHS FOUNDATION TRUST","RHQNG","NORTHERN GENERAL HOSPITAL","Macmillan Palliative Care Unit"]
["RHQNG-Osborn 1","RHQ","SHEFFIELD TEACHING HOSPITALS NHS FOUNDATION TRUST","RHQNG","NORTHERN GENERAL HOSPITAL","Osborn 1"]
["RHQNG-Osborn 2","RHQ","SHEFFIELD TEACHING HOSPITALS NHS FOUNDATION TRUST","RHQNG","NORTHERN GENERAL HOSPITAL","Osborn 2"]
["RHQNG-Osborn 3","RHQ","SHEFFIELD TEACHING HOSPITALS NHS FOUNDATION TRUST","RHQNG","NORTHERN GENERAL HOSPITAL","Osborn 3"]
["RHQNG-Osborn 4","RHQ","SHEFFIELD TEACHING HOSPITALS NHS FOUNDATION TRUST","RHQNG","NORTHERN GENERAL HOSPITAL","Osborn 4"]
["RHQNG-Progressive Care Unit - Cardiac","RHQ","SHEFFIELD TEACHING HOSPITALS NHS FOUNDATION TRUST","RHQNG","NORTHERN GENERAL HOSPITAL","Progressive Care Unit - Cardiac"]
["RHQNG-Renal Unit E Floor","RHQ","SHEFFIELD TEACHING HOSPITALS NHS FOUNDATION TRUST","RHQNG","NORTHERN GENERAL HOSPITAL","Renal Unit E Floor"]
["RHQNG-Renal Unit F Floor","RHQ","SHEFFIELD TEACHING HOSPITALS NHS FOUNDATION TRUST","RHQNG","NORTHERN GENERAL HOSPITAL","Renal Unit F Floor"]
["RHQNG-SAC","RHQ","SHEFFIELD TEACHING HOSPITALS NHS FOUNDATION TRUST","RHQNG","NORTHERN GENERAL HOSPITAL","SAC"]
["RHQNG-TAU (Huntsman 3)","RHQ","SHEFFIELD TEACHING HOSPITALS NHS FOUNDATION TRUST","RHQNG","NORTHERN GENERAL HOSPITAL","TAU (Huntsman 3)"]
["RHQNG-Vickers 4","RHQ","SHEFFIELD TEACHING HOSPITALS NHS FOUNDATION TRUST","RHQNG","NORTHERN GENERAL HOSPITAL","Vickers 4"]
["RHQNP-Beech Hill - Stroke Pathway & Rehabilitation Centre (SPARC)","RHQ","SHEFFIELD TEACHING HOSPITALS NHS FOUNDATION TRUST","RHQNP","BEECH HILL INTERMEDIATE CARE UNIT","Beech Hill - Stroke Pathway & Rehabilitation Centre (SPARC)"]
["RHQWP-Ward 2","RHQ","SHEFFIELD TEACHING HOSPITALS NHS FOUNDATION TRUST","RHQWP","WESTON PARK HOSPITAL","Ward 2"]
["RHQWP-Ward 3 +Teenage Cancer Unit","RHQ","SHEFFIELD TEACHING HOSPITALS NHS FOUNDATION TRUST","RHQWP","WESTON PARK HOSPITAL","Ward 3 +Teenage Cancer Unit"]
["RHU03-A5,6","RHU","PORTSMOUTH HOSPITALS NHS TRUST","RHU03","QUEEN ALEXANDRA HOSPITAL","A5,6"]
["RHU03-C5","RHU","PORTSMOUTH HOSPITALS NHS TRUST","RHU03","QUEEN ALEXANDRA HOSPITAL","C5"]
["RHU03-C6","RHU","PORTSMOUTH HOSPITALS NHS TRUST","RHU03","QUEEN ALEXANDRA HOSPITAL","C6"]
["RHU03-C7","RHU","PORTSMOUTH HOSPITALS NHS TRUST","RHU03","QUEEN ALEXANDRA HOSPITAL","C7"]
["RHU03-CAU","RHU","PORTSMOUTH HOSPITALS NHS TRUST","RHU03","QUEEN ALEXANDRA HOSPITAL","CAU"]
["RHU03-D1","RHU","PORTSMOUTH HOSPITALS NHS TRUST","RHU03","QUEEN ALEXANDRA HOSPITAL","D1"]
["RHU03-D2","RHU","PORTSMOUTH HOSPITALS NHS TRUST","RHU03","QUEEN ALEXANDRA HOSPITAL","D2"]
["RHU03-D3","RHU","PORTSMOUTH HOSPITALS NHS TRUST","RHU03","QUEEN ALEXANDRA HOSPITAL","D3"]
["RHU03-D4","RHU","PORTSMOUTH HOSPITALS NHS TRUST","RHU03","QUEEN ALEXANDRA HOSPITAL","D4"]
["RHU03-D5","RHU","PORTSMOUTH HOSPITALS NHS TRUST","RHU03","QUEEN ALEXANDRA HOSPITAL","D5"]
["RHU03-D6","RHU","PORTSMOUTH HOSPITALS NHS TRUST","RHU03","QUEEN ALEXANDRA HOSPITAL","D6"]
["RHU03-D7","RHU","PORTSMOUTH HOSPITALS NHS TRUST","RHU03","QUEEN ALEXANDRA HOSPITAL","D7"]
["RHU03-D8","RHU","PORTSMOUTH HOSPITALS NHS TRUST","RHU03","QUEEN ALEXANDRA HOSPITAL","D8"]
["RHU03-E1","RHU","PORTSMOUTH HOSPITALS NHS TRUST","RHU03","QUEEN ALEXANDRA HOSPITAL","E1"]
["RHU03-E2","RHU","PORTSMOUTH HOSPITALS NHS TRUST","RHU03","QUEEN ALEXANDRA HOSPITAL","E2"]
["RHU03-E3","RHU","PORTSMOUTH HOSPITALS NHS TRUST","RHU03","QUEEN ALEXANDRA HOSPITAL","E3"]
["RHU03-E5 (ITU)","RHU","PORTSMOUTH HOSPITALS NHS TRUST","RHU03","QUEEN ALEXANDRA HOSPITAL","E5 (ITU)"]
["RHU03-E6","RHU","PORTSMOUTH HOSPITALS NHS TRUST","RHU03","QUEEN ALEXANDRA HOSPITAL","E6"]
["RHU03-E7","RHU","PORTSMOUTH HOSPITALS NHS TRUST","RHU03","QUEEN ALEXANDRA HOSPITAL","E7"]
["RHU03-E8","RHU","PORTSMOUTH HOSPITALS NHS TRUST","RHU03","QUEEN ALEXANDRA HOSPITAL","E8"]
["RHU03-F1","RHU","PORTSMOUTH HOSPITALS NHS TRUST","RHU03","QUEEN ALEXANDRA HOSPITAL","F1"]
["RHU03-F2","RHU","PORTSMOUTH HOSPITALS NHS TRUST","RHU03","QUEEN ALEXANDRA HOSPITAL","F2"]
["RHU03-F3","RHU","PORTSMOUTH HOSPITALS NHS TRUST","RHU03","QUEEN ALEXANDRA HOSPITAL","F3"]
["RHU03-F4","RHU","PORTSMOUTH HOSPITALS NHS TRUST","RHU03","QUEEN ALEXANDRA HOSPITAL","F4"]
["RHU03-F5,6,7","RHU","PORTSMOUTH HOSPITALS NHS TRUST","RHU03","QUEEN ALEXANDRA HOSPITAL","F5,6,7"]
["RHU03-G1","RHU","PORTSMOUTH HOSPITALS NHS TRUST","RHU03","QUEEN ALEXANDRA HOSPITAL","G1"]
["RHU03-G2","RHU","PORTSMOUTH HOSPITALS NHS TRUST","RHU03","QUEEN ALEXANDRA HOSPITAL","G2"]
["RHU03-G3","RHU","PORTSMOUTH HOSPITALS NHS TRUST","RHU03","QUEEN ALEXANDRA HOSPITAL","G3"]
["RHU03-G4","RHU","PORTSMOUTH HOSPITALS NHS TRUST","RHU03","QUEEN ALEXANDRA HOSPITAL","G4"]
["RHU03-G5 (Private ward)","RHU","PORTSMOUTH HOSPITALS NHS TRUST","RHU03","QUEEN ALEXANDRA HOSPITAL","G5 (Private ward)"]
[{"$f":"CONCATENATE(D2042,\"-\",F2042)","v":"RHU03-G6"},"RHU","PORTSMOUTH HOSPITALS NHS TRUST","RHU03","QUEEN ALEXANDRA HOSPITAL","G6"]
["RHU03-G7","RHU","PORTSMOUTH HOSPITALS NHS TRUST","RHU03","QUEEN ALEXANDRA HOSPITAL","G7"]
["RHU03-G9","RHU","PORTSMOUTH HOSPITALS NHS TRUST","RHU03","QUEEN ALEXANDRA HOSPITAL","G9"]
["RHU03-Maternity Services","RHU","PORTSMOUTH HOSPITALS NHS TRUST","RHU03","QUEEN ALEXANDRA HOSPITAL","Maternity Services"]
["RHU03-MAU","RHU","PORTSMOUTH HOSPITALS NHS TRUST","RHU03","QUEEN ALEXANDRA HOSPITAL","MAU"]
["RHU03-NICU","RHU","PORTSMOUTH HOSPITALS NHS TRUST","RHU03","QUEEN ALEXANDRA HOSPITAL","NICU"]
["RHU03-Shipwreck","RHU","PORTSMOUTH HOSPITALS NHS TRUST","RHU03","QUEEN ALEXANDRA HOSPITAL","Shipwreck"]
["RHU03-Starfish","RHU","PORTSMOUTH HOSPITALS NHS TRUST","RHU03","QUEEN ALEXANDRA HOSPITAL","Starfish"]
["RHU03-Surgical High Care","RHU","PORTSMOUTH HOSPITALS NHS TRUST","RHU03","QUEEN ALEXANDRA HOSPITAL","Surgical High Care"]
["RHW01-Acute Stroke Unit","RHW","ROYAL BERKSHIRE NHS FOUNDATION TRUST","RHW01","ROYAL BERKSHIRE HOSPITAL","Acute Stroke Unit"]
["RHW01-Adelaide","RHW","ROYAL BERKSHIRE NHS FOUNDATION TRUST","RHW01","ROYAL BERKSHIRE HOSPITAL","Adelaide"]
["RHW01-Burghfield","RHW","ROYAL BERKSHIRE NHS FOUNDATION TRUST","RHW01","ROYAL BERKSHIRE HOSPITAL","Burghfield"]
["RHW01-Buscot","RHW","ROYAL BERKSHIRE NHS FOUNDATION TRUST","RHW01","ROYAL BERKSHIRE HOSPITAL","Buscot"]
["RHW01-Cardiac Care Unit","RHW","ROYAL BERKSHIRE NHS FOUNDATION TRUST","RHW01","ROYAL BERKSHIRE HOSPITAL","Cardiac Care Unit"]
["RHW01-Castle","RHW","ROYAL BERKSHIRE NHS FOUNDATION TRUST","RHW01","ROYAL BERKSHIRE HOSPITAL","Castle"]
["RHW01-Caversham","RHW","ROYAL BERKSHIRE NHS FOUNDATION TRUST","RHW01","ROYAL BERKSHIRE HOSPITAL","Caversham"]
["RHW01-Critical Care","RHW","ROYAL BERKSHIRE NHS FOUNDATION TRUST","RHW01","ROYAL BERKSHIRE HOSPITAL","Critical Care"]
["RHW01-Delivery Suite","RHW","ROYAL BERKSHIRE NHS FOUNDATION TRUST","RHW01","ROYAL BERKSHIRE HOSPITAL","Delivery Suite"]
["RHW01-Dorrell","RHW","ROYAL BERKSHIRE NHS FOUNDATION TRUST","RHW01","ROYAL BERKSHIRE HOSPITAL","Dorrell"]
["RHW01-Emmer Green","RHW","ROYAL BERKSHIRE NHS FOUNDATION TRUST","RHW01","ROYAL BERKSHIRE HOSPITAL","Emmer Green"]
["RHW01-General Surgical Unit","RHW","ROYAL BERKSHIRE NHS FOUNDATION TRUST","RHW01","ROYAL BERKSHIRE HOSPITAL","General Surgical Unit"]
["RHW01-Hopkins","RHW","ROYAL BERKSHIRE NHS FOUNDATION TRUST","RHW01","ROYAL BERKSHIRE HOSPITAL","Hopkins"]
["RHW01-Hurley","RHW","ROYAL BERKSHIRE NHS FOUNDATION TRUST","RHW01","ROYAL BERKSHIRE HOSPITAL","Hurley"]
["RHW01-Iffley","RHW","ROYAL BERKSHIRE NHS FOUNDATION TRUST","RHW01","ROYAL BERKSHIRE HOSPITAL","Iffley"]
["RHW01-Kennet","RHW","ROYAL BERKSHIRE NHS FOUNDATION TRUST","RHW01","ROYAL BERKSHIRE HOSPITAL","Kennet"]
["RHW01-Loddon","RHW","ROYAL BERKSHIRE NHS FOUNDATION TRUST","RHW01","ROYAL BERKSHIRE HOSPITAL","Loddon"]
["RHW01-Marsh","RHW","ROYAL BERKSHIRE NHS FOUNDATION TRUST","RHW01","ROYAL BERKSHIRE HOSPITAL","Marsh"]
["RHW01-Mortimer","RHW","ROYAL BERKSHIRE NHS FOUNDATION TRUST","RHW01","ROYAL BERKSHIRE HOSPITAL","Mortimer"]
["RHW01-Paediatric","RHW","ROYAL BERKSHIRE NHS FOUNDATION TRUST","RHW01","ROYAL BERKSHIRE HOSPITAL","Paediatric"]
["RHW01-Redlands","RHW","ROYAL BERKSHIRE NHS FOUNDATION TRUST","RHW01","ROYAL BERKSHIRE HOSPITAL","Redlands"]
["RHW01-Sidmouth","RHW","ROYAL BERKSHIRE NHS FOUNDATION TRUST","RHW01","ROYAL BERKSHIRE HOSPITAL","Sidmouth"]
["RHW01-Sonning","RHW","ROYAL BERKSHIRE NHS FOUNDATION TRUST","RHW01","ROYAL BERKSHIRE HOSPITAL","Sonning"]
["RHW01-Trauma Unit","RHW","ROYAL BERKSHIRE NHS FOUNDATION TRUST","RHW01","ROYAL BERKSHIRE HOSPITAL","Trauma Unit"]
["RHW01-Victoria","RHW","ROYAL BERKSHIRE NHS FOUNDATION TRUST","RHW01","ROYAL BERKSHIRE HOSPITAL","Victoria"]
["RHW01-Whitley","RHW","ROYAL BERKSHIRE NHS FOUNDATION TRUST","RHW01","ROYAL BERKSHIRE HOSPITAL","Whitley"]
["RHW01-Woodley","RHW","ROYAL BERKSHIRE NHS FOUNDATION TRUST","RHW01","ROYAL BERKSHIRE HOSPITAL","Woodley"]
["RJ100-Amputee Rehabilitation Unit","RJ1","GUY'S AND ST THOMAS' NHS FOUNDATION TRUST","RJ100","GUY'S AND ST THOMAS' NHS TRUST","Amputee Rehabilitation Unit"]
["RJ100-Minnie Kidd House","RJ1","GUY'S AND ST THOMAS' NHS FOUNDATION TRUST","RJ100","GUY'S AND ST THOMAS' NHS TRUST","Minnie Kidd House"]
["RJ100-Pulross Inpatient Services","RJ1","GUY'S AND ST THOMAS' NHS FOUNDATION TRUST","RJ100","GUY'S AND ST THOMAS' NHS TRUST","Pulross Inpatient Services"]
["RJ121-Aston Key","RJ1","GUY'S AND ST THOMAS' NHS FOUNDATION TRUST","RJ121","GUY'S HOSPITAL","Aston Key"]
["RJ121-Blundell Ward","RJ1","GUY'S AND ST THOMAS' NHS FOUNDATION TRUST","RJ121","GUY'S HOSPITAL","Blundell Ward"]
["RJ121-Dorcas","RJ1","GUY'S AND ST THOMAS' NHS FOUNDATION TRUST","RJ121","GUY'S HOSPITAL","Dorcas"]
["RJ121-Esther","RJ1","GUY'S AND ST THOMAS' NHS FOUNDATION TRUST","RJ121","GUY'S HOSPITAL","Esther"]
["RJ121-Florence","RJ1","GUY'S AND ST THOMAS' NHS FOUNDATION TRUST","RJ121","GUY'S HOSPITAL","Florence"]
["RJ121-Hedley Atkins","RJ1","GUY'S AND ST THOMAS' NHS FOUNDATION TRUST","RJ121","GUY'S HOSPITAL","Hedley Atkins"]
["RJ121-Intensive Care Guy's","RJ1","GUY'S AND ST THOMAS' NHS FOUNDATION TRUST","RJ121","GUY'S HOSPITAL","Intensive Care Guy's"]
["RJ121-Patience","RJ1","GUY'S AND ST THOMAS' NHS FOUNDATION TRUST","RJ121","GUY'S HOSPITAL","Patience"]
["RJ121-Queen","RJ1","GUY'S AND ST THOMAS' NHS FOUNDATION TRUST","RJ121","GUY'S HOSPITAL","Queen"]
["RJ121-Richard Bright","RJ1","GUY'S AND ST THOMAS' NHS FOUNDATION TRUST","RJ121","GUY'S HOSPITAL","Richard Bright"]
["RJ121-Samaritan","RJ1","GUY'S AND ST THOMAS' NHS FOUNDATION TRUST","RJ121","GUY'S HOSPITAL","Samaritan"]
["RJ121-Sarah","RJ1","GUY'S AND ST THOMAS' NHS FOUNDATION TRUST","RJ121","GUY'S HOSPITAL","Sarah"]
["RJ122-Acute Admissions","RJ1","GUY'S AND ST THOMAS' NHS FOUNDATION TRUST","RJ122","ST THOMAS' HOSPITAL","Acute Admissions"]
["RJ122-Alan Apley","RJ1","GUY'S AND ST THOMAS' NHS FOUNDATION TRUST","RJ122","ST THOMAS' HOSPITAL","Alan Apley"]
["RJ122-Albert","RJ1","GUY'S AND ST THOMAS' NHS FOUNDATION TRUST","RJ122","ST THOMAS' HOSPITAL","Albert"]
["RJ122-Alexandra","RJ1","GUY'S AND ST THOMAS' NHS FOUNDATION TRUST","RJ122","ST THOMAS' HOSPITAL","Alexandra"]
["RJ122-Anne","RJ1","GUY'S AND ST THOMAS' NHS FOUNDATION TRUST","RJ122","ST THOMAS' HOSPITAL","Anne"]
["RJ122-Ante Natal Ward","RJ1","GUY'S AND ST THOMAS' NHS FOUNDATION TRUST","RJ122","ST THOMAS' HOSPITAL","Ante Natal Ward"]
["RJ122-Beach","RJ1","GUY'S AND ST THOMAS' NHS FOUNDATION TRUST","RJ122","ST THOMAS' HOSPITAL","Beach"]
["RJ122-Becket","RJ1","GUY'S AND ST THOMAS' NHS FOUNDATION TRUST","RJ122","ST THOMAS' HOSPITAL","Becket"]
["RJ122-Birth Centre","RJ1","GUY'S AND ST THOMAS' NHS FOUNDATION TRUST","RJ122","ST THOMAS' HOSPITAL","Birth Centre"]
["RJ122-Cardiac Care Unit","RJ1","GUY'S AND ST THOMAS' NHS FOUNDATION TRUST","RJ122","ST THOMAS' HOSPITAL","Cardiac Care Unit"]
["RJ122-Doulton","RJ1","GUY'S AND ST THOMAS' NHS FOUNDATION TRUST","RJ122","ST THOMAS' HOSPITAL","Doulton"]
["RJ122-George Perkins","RJ1","GUY'S AND ST THOMAS' NHS FOUNDATION TRUST","RJ122","ST THOMAS' HOSPITAL","George Perkins"]
["RJ122-GI Unit (Gastrointestinal)","RJ1","GUY'S AND ST THOMAS' NHS FOUNDATION TRUST","RJ122","ST THOMAS' HOSPITAL","GI Unit (Gastrointestinal)"]
[{"$f":"CONCATENATE(D2106,\"-\",F2106)","v":"RJ122-Gynaecology Ward"},"RJ1","GUY'S AND ST THOMAS' NHS FOUNDATION TRUST","RJ122","ST THOMAS' HOSPITAL","Gynaecology Ward"]
["RJ122-Henry","RJ1","GUY'S AND ST THOMAS' NHS FOUNDATION TRUST","RJ122","ST THOMAS' HOSPITAL","Henry"]
["RJ122-Hillyers","RJ1","GUY'S AND ST THOMAS' NHS FOUNDATION TRUST","RJ122","ST THOMAS' HOSPITAL","Hillyers"]
["RJ122-Howard","RJ1","GUY'S AND ST THOMAS' NHS FOUNDATION TRUST","RJ122","ST THOMAS' HOSPITAL","Howard"]
["RJ122-Intensive Care St Thomas'","RJ1","GUY'S AND ST THOMAS' NHS FOUNDATION TRUST","RJ122","ST THOMAS' HOSPITAL","Intensive Care St Thomas'"]
["RJ122-Lane Fox Unit","RJ1","GUY'S AND ST THOMAS' NHS FOUNDATION TRUST","RJ122","ST THOMAS' HOSPITAL","Lane Fox Unit"]
["RJ122-Luke","RJ1","GUY'S AND ST THOMAS' NHS FOUNDATION TRUST","RJ122","ST THOMAS' HOSPITAL","Luke"]
["RJ122-Mark","RJ1","GUY'S AND ST THOMAS' NHS FOUNDATION TRUST","RJ122","ST THOMAS' HOSPITAL","Mark"]
["RJ122-Mountain","RJ1","GUY'S AND ST THOMAS' NHS FOUNDATION TRUST","RJ122","ST THOMAS' HOSPITAL","Mountain"]
["RJ122-Neonatal Intensive Care Unit & SCBU","RJ1","GUY'S AND ST THOMAS' NHS FOUNDATION TRUST","RJ122","ST THOMAS' HOSPITAL","Neonatal Intensive Care Unit & SCBU"]
["RJ122-Nightingale","RJ1","GUY'S AND ST THOMAS' NHS FOUNDATION TRUST","RJ122","ST THOMAS' HOSPITAL","Nightingale"]
["RJ122-Overnight Intensive Recovery","RJ1","GUY'S AND ST THOMAS' NHS FOUNDATION TRUST","RJ122","ST THOMAS' HOSPITAL","Overnight Intensive Recovery"]
["RJ122-Paediatric Intensive Care","RJ1","GUY'S AND ST THOMAS' NHS FOUNDATION TRUST","RJ122","ST THOMAS' HOSPITAL","Paediatric Intensive Care"]
["RJ122-Postnatal","RJ1","GUY'S AND ST THOMAS' NHS FOUNDATION TRUST","RJ122","ST THOMAS' HOSPITAL","Postnatal"]
["RJ122-Sarah Swift","RJ1","GUY'S AND ST THOMAS' NHS FOUNDATION TRUST","RJ122","ST THOMAS' HOSPITAL","Sarah Swift"]
["RJ122-Savannah","RJ1","GUY'S AND ST THOMAS' NHS FOUNDATION TRUST","RJ122","ST THOMAS' HOSPITAL","Savannah"]
["RJ122-Snow Leopard","RJ1","GUY'S AND ST THOMAS' NHS FOUNDATION TRUST","RJ122","ST THOMAS' HOSPITAL","Snow Leopard"]
["RJ122-Somerset","RJ1","GUY'S AND ST THOMAS' NHS FOUNDATION TRUST","RJ122","ST THOMAS' HOSPITAL","Somerset"]
["RJ122-Stephen","RJ1","GUY'S AND ST THOMAS' NHS FOUNDATION TRUST","RJ122","ST THOMAS' HOSPITAL","Stephen"]
["RJ122-Victoria","RJ1","GUY'S AND ST THOMAS' NHS FOUNDATION TRUST","RJ122","ST THOMAS' HOSPITAL","Victoria"]
["RJ122-Westminster Maternity Suite","RJ1","GUY'S AND ST THOMAS' NHS FOUNDATION TRUST","RJ122","ST THOMAS' HOSPITAL","Westminster Maternity Suite"]
["RJ122-William Gull","RJ1","GUY'S AND ST THOMAS' NHS FOUNDATION TRUST","RJ122","ST THOMAS' HOSPITAL","William Gull"]
["RJ224-Alder Ward","RJ2","LEWISHAM AND GREENWICH NHS TRUST","RJ224","UNIVERSITY HOSPITAL LEWISHAM","Alder Ward"]
["RJ224-Anderson Delivery Suite","RJ2","LEWISHAM AND GREENWICH NHS TRUST","RJ224","UNIVERSITY HOSPITAL LEWISHAM","Anderson Delivery Suite"]
["RJ224-Ash Ward","RJ2","LEWISHAM AND GREENWICH NHS TRUST","RJ224","UNIVERSITY HOSPITAL LEWISHAM","Ash Ward"]
["RJ224-Aspen Ward","RJ2","LEWISHAM AND GREENWICH NHS TRUST","RJ224","UNIVERSITY HOSPITAL LEWISHAM","Aspen Ward"]
["RJ224-Beech Ward","RJ2","LEWISHAM AND GREENWICH NHS TRUST","RJ224","UNIVERSITY HOSPITAL LEWISHAM","Beech Ward"]
["RJ224-Birth Centre","RJ2","LEWISHAM AND GREENWICH NHS TRUST","RJ224","UNIVERSITY HOSPITAL LEWISHAM","Birth Centre"]
["RJ224-Cedar Ward","RJ2","LEWISHAM AND GREENWICH NHS TRUST","RJ224","UNIVERSITY HOSPITAL LEWISHAM","Cedar Ward"]
["RJ224-Cherry Ward","RJ2","LEWISHAM AND GREENWICH NHS TRUST","RJ224","UNIVERSITY HOSPITAL LEWISHAM","Cherry Ward"]
["RJ224-Chestnut Ward","RJ2","LEWISHAM AND GREENWICH NHS TRUST","RJ224","UNIVERSITY HOSPITAL LEWISHAM","Chestnut Ward"]
["RJ224-Childrens Inpatient Ward","RJ2","LEWISHAM AND GREENWICH NHS TRUST","RJ224","UNIVERSITY HOSPITAL LEWISHAM","Childrens Inpatient Ward"]
["RJ224-Critical Care Unit","RJ2","LEWISHAM AND GREENWICH NHS TRUST","RJ224","UNIVERSITY HOSPITAL LEWISHAM","Critical Care Unit"]
["RJ224-Elm Ward","RJ2","LEWISHAM AND GREENWICH NHS TRUST","RJ224","UNIVERSITY HOSPITAL LEWISHAM","Elm Ward"]
["RJ224-Hawthorn Ward","RJ2","LEWISHAM AND GREENWICH NHS TRUST","RJ224","UNIVERSITY HOSPITAL LEWISHAM","Hawthorn Ward"]
["RJ224-Juniper Ward","RJ2","LEWISHAM AND GREENWICH NHS TRUST","RJ224","UNIVERSITY HOSPITAL LEWISHAM","Juniper Ward"]
["RJ224-Larch Ward","RJ2","LEWISHAM AND GREENWICH NHS TRUST","RJ224","UNIVERSITY HOSPITAL LEWISHAM","Larch Ward"]
["RJ224-Laurel Ward","RJ2","LEWISHAM AND GREENWICH NHS TRUST","RJ224","UNIVERSITY HOSPITAL LEWISHAM","Laurel Ward"]
["RJ224-Linden Ward","RJ2","LEWISHAM AND GREENWICH NHS TRUST","RJ224","UNIVERSITY HOSPITAL LEWISHAM","Linden Ward"]
["RJ224-Maple Ward","RJ2","LEWISHAM AND GREENWICH NHS TRUST","RJ224","UNIVERSITY HOSPITAL LEWISHAM","Maple Ward"]
["RJ224-Maternity Ward (LH)","RJ2","LEWISHAM AND GREENWICH NHS TRUST","RJ224","UNIVERSITY HOSPITAL LEWISHAM","Maternity Ward (LH)"]
["RJ224-Mulberry Ward","RJ2","LEWISHAM AND GREENWICH NHS TRUST","RJ224","UNIVERSITY HOSPITAL LEWISHAM","Mulberry Ward"]
["RJ224-NICU","RJ2","LEWISHAM AND GREENWICH NHS TRUST","RJ224","UNIVERSITY HOSPITAL LEWISHAM","NICU"]
["RJ224-Oak Ward","RJ2","LEWISHAM AND GREENWICH NHS TRUST","RJ224","UNIVERSITY HOSPITAL LEWISHAM","Oak Ward"]
["RJ231-AMU Ward 1","RJ2","LEWISHAM AND GREENWICH NHS TRUST","RJ231","QUEEN ELIZABETH HOSPITAL","AMU Ward 1"]
["RJ231-AMU Ward 2","RJ2","LEWISHAM AND GREENWICH NHS TRUST","RJ231","QUEEN ELIZABETH HOSPITAL","AMU Ward 2"]
["RJ231-Critical Care","RJ2","LEWISHAM AND GREENWICH NHS TRUST","RJ231","QUEEN ELIZABETH HOSPITAL","Critical Care"]
["RJ231-Greenwich Birth Centre","RJ2","LEWISHAM AND GREENWICH NHS TRUST","RJ231","QUEEN ELIZABETH HOSPITAL","Greenwich Birth Centre"]
["RJ231-Macmillan Brook Ward 21","RJ2","LEWISHAM AND GREENWICH NHS TRUST","RJ231","QUEEN ELIZABETH HOSPITAL","Macmillan Brook Ward 21"]
["RJ231-New Ward 14","RJ2","LEWISHAM AND GREENWICH NHS TRUST","RJ231","QUEEN ELIZABETH HOSPITAL","New Ward 14"]
["RJ231-New Ward 3","RJ2","LEWISHAM AND GREENWICH NHS TRUST","RJ231","QUEEN ELIZABETH HOSPITAL","New Ward 3"]
["RJ231-SCBU","RJ2","LEWISHAM AND GREENWICH NHS TRUST","RJ231","QUEEN ELIZABETH HOSPITAL","SCBU"]
["RJ231-Tiger Safari Ward","RJ2","LEWISHAM AND GREENWICH NHS TRUST","RJ231","QUEEN ELIZABETH HOSPITAL","Tiger Safari Ward"]
["RJ231-Ward 15","RJ2","LEWISHAM AND GREENWICH NHS TRUST","RJ231","QUEEN ELIZABETH HOSPITAL","Ward 15"]
["RJ231-Ward 16","RJ2","LEWISHAM AND GREENWICH NHS TRUST","RJ231","QUEEN ELIZABETH HOSPITAL","Ward 16"]
["RJ231-Ward 17","RJ2","LEWISHAM AND GREENWICH NHS TRUST","RJ231","QUEEN ELIZABETH HOSPITAL","Ward 17"]
["RJ231-Ward 19","RJ2","LEWISHAM AND GREENWICH NHS TRUST","RJ231","QUEEN ELIZABETH HOSPITAL","Ward 19"]
["RJ231-Ward 20","RJ2","LEWISHAM AND GREENWICH NHS TRUST","RJ231","QUEEN ELIZABETH HOSPITAL","Ward 20"]
["RJ231-Ward 22","RJ2","LEWISHAM AND GREENWICH NHS TRUST","RJ231","QUEEN ELIZABETH HOSPITAL","Ward 22"]
["RJ231-Ward 23","RJ2","LEWISHAM AND GREENWICH NHS TRUST","RJ231","QUEEN ELIZABETH HOSPITAL","Ward 23"]
["RJ231-Ward 4","RJ2","LEWISHAM AND GREENWICH NHS TRUST","RJ231","QUEEN ELIZABETH HOSPITAL","Ward 4"]
["RJ231-Ward 7 and Delivery Suite","RJ2","LEWISHAM AND GREENWICH NHS TRUST","RJ231","QUEEN ELIZABETH HOSPITAL","Ward 7 and Delivery Suite"]
["RJ611-Acute Medical Unit","RJ6","CROYDON HEALTH SERVICES NHS TRUST","RJ611","CROYDON UNIVERSITY HOSPITAL","Acute Medical Unit"]
["RJ611-Birthing Centre","RJ6","CROYDON HEALTH SERVICES NHS TRUST","RJ611","CROYDON UNIVERSITY HOSPITAL","Birthing Centre"]
[{"$f":"CONCATENATE(D2170,\"-\",F2170)","v":"RJ611-Coronary Care Unit"},"RJ6","CROYDON HEALTH SERVICES NHS TRUST","RJ611","CROYDON UNIVERSITY HOSPITAL","Coronary Care Unit"]
["RJ611-Duppas","RJ6","CROYDON HEALTH SERVICES NHS TRUST","RJ611","CROYDON UNIVERSITY HOSPITAL","Duppas"]
["RJ611-Fairfield 1","RJ6","CROYDON HEALTH SERVICES NHS TRUST","RJ611","CROYDON UNIVERSITY HOSPITAL","Fairfield 1"]
["RJ611-Fairfield 2","RJ6","CROYDON HEALTH SERVICES NHS TRUST","RJ611","CROYDON UNIVERSITY HOSPITAL","Fairfield 2"]
["RJ611-Heathfield 1","RJ6","CROYDON HEALTH SERVICES NHS TRUST","RJ611","CROYDON UNIVERSITY HOSPITAL","Heathfield 1"]
["RJ611-Heathfield 2","RJ6","CROYDON HEALTH SERVICES NHS TRUST","RJ611","CROYDON UNIVERSITY HOSPITAL","Heathfield 2"]
["RJ611-Hope","RJ6","CROYDON HEALTH SERVICES NHS TRUST","RJ611","CROYDON UNIVERSITY HOSPITAL","Hope"]
["RJ611-ITU/HDU","RJ6","CROYDON HEALTH SERVICES NHS TRUST","RJ611","CROYDON UNIVERSITY HOSPITAL","ITU/HDU"]
["RJ611-Labour Ward","RJ6","CROYDON HEALTH SERVICES NHS TRUST","RJ611","CROYDON UNIVERSITY HOSPITAL","Labour Ward"]
["RJ611-Mary","RJ6","CROYDON HEALTH SERVICES NHS TRUST","RJ611","CROYDON UNIVERSITY HOSPITAL","Mary"]
["RJ611-Purley 1","RJ6","CROYDON HEALTH SERVICES NHS TRUST","RJ611","CROYDON UNIVERSITY HOSPITAL","Purley 1"]
["RJ611-Purley 2","RJ6","CROYDON HEALTH SERVICES NHS TRUST","RJ611","CROYDON UNIVERSITY HOSPITAL","Purley 2"]
["RJ611-Queens 1","RJ6","CROYDON HEALTH SERVICES NHS TRUST","RJ611","CROYDON UNIVERSITY HOSPITAL","Queens 1"]
["RJ611-Queens 2","RJ6","CROYDON HEALTH SERVICES NHS TRUST","RJ611","CROYDON UNIVERSITY HOSPITAL","Queens 2"]
["RJ611-Queens 3","RJ6","CROYDON HEALTH SERVICES NHS TRUST","RJ611","CROYDON UNIVERSITY HOSPITAL","Queens 3"]
["RJ611-Reedham","RJ6","CROYDON HEALTH SERVICES NHS TRUST","RJ611","CROYDON UNIVERSITY HOSPITAL","Reedham"]
["RJ611-Rupert Bear","RJ6","CROYDON HEALTH SERVICES NHS TRUST","RJ611","CROYDON UNIVERSITY HOSPITAL","Rupert Bear"]
["RJ611-Special Care Baby Unit","RJ6","CROYDON HEALTH SERVICES NHS TRUST","RJ611","CROYDON UNIVERSITY HOSPITAL","Special Care Baby Unit"]
["RJ611-Wandle 1","RJ6","CROYDON HEALTH SERVICES NHS TRUST","RJ611","CROYDON UNIVERSITY HOSPITAL","Wandle 1"]
["RJ611-Wandle 2","RJ6","CROYDON HEALTH SERVICES NHS TRUST","RJ611","CROYDON UNIVERSITY HOSPITAL","Wandle 2"]
["RJ611-Wandle 3","RJ6","CROYDON HEALTH SERVICES NHS TRUST","RJ611","CROYDON UNIVERSITY HOSPITAL","Wandle 3"]
["RJ701-A & E Department","RJ7","ST GEORGE'S UNIVERSITY HOSPITALS NHS FOUNDATION TRUST","RJ701","ST GEORGE'S HOSPITAL (TOOTING)","A & E Department"]
["RJ701-Allingham Ward","RJ7","ST GEORGE'S UNIVERSITY HOSPITALS NHS FOUNDATION TRUST","RJ701","ST GEORGE'S HOSPITAL (TOOTING)","Allingham Ward"]
["RJ701-Amyand Ward","RJ7","ST GEORGE'S UNIVERSITY HOSPITALS NHS FOUNDATION TRUST","RJ701","ST GEORGE'S HOSPITAL (TOOTING)","Amyand Ward"]
["RJ701-Belgrave Ward AMW","RJ7","ST GEORGE'S UNIVERSITY HOSPITALS NHS FOUNDATION TRUST","RJ701","ST GEORGE'S HOSPITAL (TOOTING)","Belgrave Ward AMW"]
["RJ701-Benjamin Weir Ward AMW","RJ7","ST GEORGE'S UNIVERSITY HOSPITALS NHS FOUNDATION TRUST","RJ701","ST GEORGE'S HOSPITAL (TOOTING)","Benjamin Weir Ward AMW"]
["RJ701-Brodie Ward","RJ7","ST GEORGE'S UNIVERSITY HOSPITALS NHS FOUNDATION TRUST","RJ701","ST GEORGE'S HOSPITAL (TOOTING)","Brodie Ward"]
["RJ701-Cardiothoracic Intensive Care Unit","RJ7","ST GEORGE'S UNIVERSITY HOSPITALS NHS FOUNDATION TRUST","RJ701","ST GEORGE'S HOSPITAL (TOOTING)","Cardiothoracic Intensive Care Unit"]
["RJ701-Carmen Suite","RJ7","ST GEORGE'S UNIVERSITY HOSPITALS NHS FOUNDATION TRUST","RJ701","ST GEORGE'S HOSPITAL (TOOTING)","Carmen Suite"]
["RJ701-Caroline Ward","RJ7","ST GEORGE'S UNIVERSITY HOSPITALS NHS FOUNDATION TRUST","RJ701","ST GEORGE'S HOSPITAL (TOOTING)","Caroline Ward"]
["RJ701-Cavell Surg Ward","RJ7","ST GEORGE'S UNIVERSITY HOSPITALS NHS FOUNDATION TRUST","RJ701","ST GEORGE'S HOSPITAL (TOOTING)","Cavell Surg Ward"]
["RJ701-Champneys Ward","RJ7","ST GEORGE'S UNIVERSITY HOSPITALS NHS FOUNDATION TRUST","RJ701","ST GEORGE'S HOSPITAL (TOOTING)","Champneys Ward"]
["RJ701-Cheselden Ward","RJ7","ST GEORGE'S UNIVERSITY HOSPITALS NHS FOUNDATION TRUST","RJ701","ST GEORGE'S HOSPITAL (TOOTING)","Cheselden Ward"]
["RJ701-Coronary Care Unit","RJ7","ST GEORGE'S UNIVERSITY HOSPITALS NHS FOUNDATION TRUST","RJ701","ST GEORGE'S HOSPITAL (TOOTING)","Coronary Care Unit"]
["RJ701-Dalby Ward","RJ7","ST GEORGE'S UNIVERSITY HOSPITALS NHS FOUNDATION TRUST","RJ701","ST GEORGE'S HOSPITAL (TOOTING)","Dalby Ward"]
["RJ701-Delivery Suite","RJ7","ST GEORGE'S UNIVERSITY HOSPITALS NHS FOUNDATION TRUST","RJ701","ST GEORGE'S HOSPITAL (TOOTING)","Delivery Suite"]
["RJ701-Florence Nightingale Ward","RJ7","ST GEORGE'S UNIVERSITY HOSPITALS NHS FOUNDATION TRUST","RJ701","ST GEORGE'S HOSPITAL (TOOTING)","Florence Nightingale Ward"]
["RJ701-Fred Hewitt Ward","RJ7","ST GEORGE'S UNIVERSITY HOSPITALS NHS FOUNDATION TRUST","RJ701","ST GEORGE'S HOSPITAL (TOOTING)","Fred Hewitt Ward"]
["RJ701-General Intensive Care Unit","RJ7","ST GEORGE'S UNIVERSITY HOSPITALS NHS FOUNDATION TRUST","RJ701","ST GEORGE'S HOSPITAL (TOOTING)","General Intensive Care Unit"]
["RJ701-Gordon Smith Ward","RJ7","ST GEORGE'S UNIVERSITY HOSPITALS NHS FOUNDATION TRUST","RJ701","ST GEORGE'S HOSPITAL (TOOTING)","Gordon Smith Ward"]
["RJ701-Gray Ward","RJ7","ST GEORGE'S UNIVERSITY HOSPITALS NHS FOUNDATION TRUST","RJ701","ST GEORGE'S HOSPITAL (TOOTING)","Gray Ward"]
["RJ701-Gunning Ward","RJ7","ST GEORGE'S UNIVERSITY HOSPITALS NHS FOUNDATION TRUST","RJ701","ST GEORGE'S HOSPITAL (TOOTING)","Gunning Ward"]
["RJ701-Gwillim Ward","RJ7","ST GEORGE'S UNIVERSITY HOSPITALS NHS FOUNDATION TRUST","RJ701","ST GEORGE'S HOSPITAL (TOOTING)","Gwillim Ward"]
["RJ701-Heberden","RJ7","ST GEORGE'S UNIVERSITY HOSPITALS NHS FOUNDATION TRUST","RJ701","ST GEORGE'S HOSPITAL (TOOTING)","Heberden"]
["RJ701-Holdsworth Ward","RJ7","ST GEORGE'S UNIVERSITY HOSPITALS NHS FOUNDATION TRUST","RJ701","ST GEORGE'S HOSPITAL (TOOTING)","Holdsworth Ward"]
["RJ701-James Hope Ward","RJ7","ST GEORGE'S UNIVERSITY HOSPITALS NHS FOUNDATION TRUST","RJ701","ST GEORGE'S HOSPITAL (TOOTING)","James Hope Ward"]
["RJ701-Keate Ward","RJ7","ST GEORGE'S UNIVERSITY HOSPITALS NHS FOUNDATION TRUST","RJ701","ST GEORGE'S HOSPITAL (TOOTING)","Keate Ward"]
["RJ701-Kent Ward","RJ7","ST GEORGE'S UNIVERSITY HOSPITALS NHS FOUNDATION TRUST","RJ701","ST GEORGE'S HOSPITAL (TOOTING)","Kent Ward"]
["RJ701-Marnham Ward","RJ7","ST GEORGE'S UNIVERSITY HOSPITALS NHS FOUNDATION TRUST","RJ701","ST GEORGE'S HOSPITAL (TOOTING)","Marnham Ward"]
["RJ701-McEntee Ward","RJ7","ST GEORGE'S UNIVERSITY HOSPITALS NHS FOUNDATION TRUST","RJ701","ST GEORGE'S HOSPITAL (TOOTING)","McEntee Ward"]
["RJ701-Mckissock Ward","RJ7","ST GEORGE'S UNIVERSITY HOSPITALS NHS FOUNDATION TRUST","RJ701","ST GEORGE'S HOSPITAL (TOOTING)","Mckissock Ward"]
["RJ701-Neo Natal Unit","RJ7","ST GEORGE'S UNIVERSITY HOSPITALS NHS FOUNDATION TRUST","RJ701","ST GEORGE'S HOSPITAL (TOOTING)","Neo Natal Unit"]
["RJ701-Neuro Intensive Care Unit","RJ7","ST GEORGE'S UNIVERSITY HOSPITALS NHS FOUNDATION TRUST","RJ701","ST GEORGE'S HOSPITAL (TOOTING)","Neuro Intensive Care Unit"]
["RJ701-Nicholls Ward","RJ7","ST GEORGE'S UNIVERSITY HOSPITALS NHS FOUNDATION TRUST","RJ701","ST GEORGE'S HOSPITAL (TOOTING)","Nicholls Ward"]
["RJ701-Nye Bevan Unit","RJ7","ST GEORGE'S UNIVERSITY HOSPITALS NHS FOUNDATION TRUST","RJ701","ST GEORGE'S HOSPITAL (TOOTING)","Nye Bevan Unit"]
["RJ701-Paediatric Intensive Care Unit","RJ7","ST GEORGE'S UNIVERSITY HOSPITALS NHS FOUNDATION TRUST","RJ701","ST GEORGE'S HOSPITAL (TOOTING)","Paediatric Intensive Care Unit"]
["RJ701-Pinckney Ward","RJ7","ST GEORGE'S UNIVERSITY HOSPITALS NHS FOUNDATION TRUST","RJ701","ST GEORGE'S HOSPITAL (TOOTING)","Pinckney Ward"]
["RJ701-Richmond Ward","RJ7","ST GEORGE'S UNIVERSITY HOSPITALS NHS FOUNDATION TRUST","RJ701","ST GEORGE'S HOSPITAL (TOOTING)","Richmond Ward"]
["RJ701-Rodney Smith Med Ward","RJ7","ST GEORGE'S UNIVERSITY HOSPITALS NHS FOUNDATION TRUST","RJ701","ST GEORGE'S HOSPITAL (TOOTING)","Rodney Smith Med Ward"]
["RJ701-Ruth Myles Ward","RJ7","ST GEORGE'S UNIVERSITY HOSPITALS NHS FOUNDATION TRUST","RJ701","ST GEORGE'S HOSPITAL (TOOTING)","Ruth Myles Ward"]
["RJ701-Special Care Baby Unit","RJ7","ST GEORGE'S UNIVERSITY HOSPITALS NHS FOUNDATION TRUST","RJ701","ST GEORGE'S HOSPITAL (TOOTING)","Special Care Baby Unit"]
["RJ701-Trevor Howell Ward","RJ7","ST GEORGE'S UNIVERSITY HOSPITALS NHS FOUNDATION TRUST","RJ701","ST GEORGE'S HOSPITAL (TOOTING)","Trevor Howell Ward"]
["RJ701-Vernon Ward","RJ7","ST GEORGE'S UNIVERSITY HOSPITALS NHS FOUNDATION TRUST","RJ701","ST GEORGE'S HOSPITAL (TOOTING)","Vernon Ward"]
["RJ701-William Drummond HASU","RJ7","ST GEORGE'S UNIVERSITY HOSPITALS NHS FOUNDATION TRUST","RJ701","ST GEORGE'S HOSPITAL (TOOTING)","William Drummond HASU"]
[{"$f":"CONCATENATE(D2234,\"-\",F2234)","v":"RJ701-Wolfson Centre"},"RJ7","ST GEORGE'S UNIVERSITY HOSPITALS NHS FOUNDATION TRUST","RJ701","ST GEORGE'S HOSPITAL (TOOTING)","Wolfson Centre"]
["RJ731-Gwynne Holford Ward","RJ7","ST GEORGE'S UNIVERSITY HOSPITALS NHS FOUNDATION TRUST","RJ731","QUEEN MARYS HOSPITAL (ROEHAMPTON)","Gwynne Holford Ward"]
["RJ731-Mary Seacole Ward","RJ7","ST GEORGE'S UNIVERSITY HOSPITALS NHS FOUNDATION TRUST","RJ731","QUEEN MARYS HOSPITAL (ROEHAMPTON)","Mary Seacole Ward"]
["RJ801-Harold White","RJ8","CORNWALL PARTNERSHIP NHS FOUNDATION TRUST","RJ801","ST AUSTELL COMMUNITY HOSPITAL","Harold White"]
["RJ801-Heligan","RJ8","CORNWALL PARTNERSHIP NHS FOUNDATION TRUST","RJ801","ST AUSTELL COMMUNITY HOSPITAL","Heligan"]
["RJ805-Lismore","RJ8","CORNWALL PARTNERSHIP NHS FOUNDATION TRUST","RJ805","HELSTON HOSPITAL","Lismore"]
["RJ807-Newquay Inpatients","RJ8","CORNWALL PARTNERSHIP NHS FOUNDATION TRUST","RJ807","NEWQUAY HOSPITAL","Newquay Inpatients"]
["RJ809-St. Marys Inpatients","RJ8","CORNWALL PARTNERSHIP NHS FOUNDATION TRUST","RJ809","ST MARY'S HOSPITAL","St. Marys Inpatients"]
["RJ817-Lamorna","RJ8","CORNWALL PARTNERSHIP NHS FOUNDATION TRUST","RJ817","CAMBORNE REDRUTH COMMUNITY HOSPITAL","Lamorna"]
["RJ817-Lanyon","RJ8","CORNWALL PARTNERSHIP NHS FOUNDATION TRUST","RJ817","CAMBORNE REDRUTH COMMUNITY HOSPITAL","Lanyon"]
["RJ842-Boscawen","RJ8","CORNWALL PARTNERSHIP NHS FOUNDATION TRUST","RJ842","FALMOUTH HOSPITAL","Boscawen"]
["RJ84J-Garner","RJ8","CORNWALL PARTNERSHIP NHS FOUNDATION TRUST","RJ84J","GARNER INPATIENTS","Garner"]
["RJ85A-Bowman","RJ8","CORNWALL PARTNERSHIP NHS FOUNDATION TRUST","RJ85A","INPATIENTS BODMIN","Bowman"]
["RJ85A-Fettle","RJ8","CORNWALL PARTNERSHIP NHS FOUNDATION TRUST","RJ85A","INPATIENTS BODMIN","Fettle"]
["RJ85A-Fletcher","RJ8","CORNWALL PARTNERSHIP NHS FOUNDATION TRUST","RJ85A","INPATIENTS BODMIN","Fletcher"]
["RJ85A-Harvest","RJ8","CORNWALL PARTNERSHIP NHS FOUNDATION TRUST","RJ85A","INPATIENTS BODMIN","Harvest"]
["RJ85B-Carbis","RJ8","CORNWALL PARTNERSHIP NHS FOUNDATION TRUST","RJ85B","INPATIENTS LONGREACH","Carbis"]
["RJ85B-Cove","RJ8","CORNWALL PARTNERSHIP NHS FOUNDATION TRUST","RJ85B","INPATIENTS LONGREACH","Cove"]
["RJ85B-Perran","RJ8","CORNWALL PARTNERSHIP NHS FOUNDATION TRUST","RJ85B","INPATIENTS LONGREACH","Perran"]
["RJ866-Anchor","RJ8","CORNWALL PARTNERSHIP NHS FOUNDATION TRUST","RJ866","BODMIN HOSPITAL","Anchor"]
["RJ866-Harbour","RJ8","CORNWALL PARTNERSHIP NHS FOUNDATION TRUST","RJ866","BODMIN HOSPITAL","Harbour"]
["RJ867-Stratton Inpatients","RJ8","CORNWALL PARTNERSHIP NHS FOUNDATION TRUST","RJ867","STRATTON HOSPITAL","Stratton Inpatients"]
["RJ870-Launceston Inpatients","RJ8","CORNWALL PARTNERSHIP NHS FOUNDATION TRUST","RJ870","LAUNCESTON HOSPITAL","Launceston Inpatients"]
["RJ8A3-Oak","RJ8","CORNWALL PARTNERSHIP NHS FOUNDATION TRUST","RJ8A3","LISKEARD COMMUNITY HOSPITAL","Oak"]
["RJ8A3-Willow","RJ8","CORNWALL PARTNERSHIP NHS FOUNDATION TRUST","RJ8A3","LISKEARD COMMUNITY HOSPITAL","Willow"]
["RJC02-Avon Ward","RJC","SOUTH WARWICKSHIRE NHS FOUNDATION TRUST","RJC02","Warwick Hospital","Avon Ward"]
["RJC02-Beaumont ward","RJC","SOUTH WARWICKSHIRE NHS FOUNDATION TRUST","RJC02","Warwick Hospital","Beaumont ward"]
["RJC02-Cardiology Unit","RJC","SOUTH WARWICKSHIRE NHS FOUNDATION TRUST","RJC02","Warwick Hospital","Cardiology Unit"]
["RJC02-Castle ward","RJC","SOUTH WARWICKSHIRE NHS FOUNDATION TRUST","RJC02","Warwick Hospital","Castle ward"]
["RJC02-Charlecote ward","RJC","SOUTH WARWICKSHIRE NHS FOUNDATION TRUST","RJC02","Warwick Hospital","Charlecote ward"]
["RJC02-Fairfax/Oken ward","RJC","SOUTH WARWICKSHIRE NHS FOUNDATION TRUST","RJC02","Warwick Hospital","Fairfax/Oken ward"]
["RJC02-Farries ward","RJC","SOUTH WARWICKSHIRE NHS FOUNDATION TRUST","RJC02","Warwick Hospital","Farries ward"]
["RJC02-Frailty Unit","RJC","SOUTH WARWICKSHIRE NHS FOUNDATION TRUST","RJC02","Warwick Hospital","Frailty Unit"]
["RJC02-Greville Ward","RJC","SOUTH WARWICKSHIRE NHS FOUNDATION TRUST","RJC02","Warwick Hospital","Greville Ward"]
["RJC02-ITU","RJC","SOUTH WARWICKSHIRE NHS FOUNDATION TRUST","RJC02","Warwick Hospital","ITU"]
["RJC02-MacGregor Ward","RJC","SOUTH WARWICKSHIRE NHS FOUNDATION TRUST","RJC02","Warwick Hospital","MacGregor Ward"]
["RJC02-Mary ward","RJC","SOUTH WARWICKSHIRE NHS FOUNDATION TRUST","RJC02","Warwick Hospital","Mary ward"]
["RJC02-Maternity Unit","RJC","SOUTH WARWICKSHIRE NHS FOUNDATION TRUST","RJC02","Warwick Hospital","Maternity Unit"]
["RJC02-SCBU","RJC","SOUTH WARWICKSHIRE NHS FOUNDATION TRUST","RJC02","Warwick Hospital","SCBU"]
["RJC02-Surgical Unit","RJC","SOUTH WARWICKSHIRE NHS FOUNDATION TRUST","RJC02","Warwick Hospital","Surgical Unit"]
["RJC02-Thomas Ward","RJC","SOUTH WARWICKSHIRE NHS FOUNDATION TRUST","RJC02","Warwick Hospital","Thomas Ward"]
["RJC02-Victoria ward","RJC","SOUTH WARWICKSHIRE NHS FOUNDATION TRUST","RJC02","Warwick Hospital","Victoria ward"]
["RJC02-Willoughby Ward","RJC","SOUTH WARWICKSHIRE NHS FOUNDATION TRUST","RJC02","Warwick Hospital","Willoughby Ward"]
["RJC03-Nicol Unit","RJC","SOUTH WARWICKSHIRE NHS FOUNDATION TRUST","RJC03","Stratford Hospital","Nicol Unit"]
["RJC04-Ellen Badger","RJC","SOUTH WARWICKSHIRE NHS FOUNDATION TRUST","RJC04","ELLEN BADGER HOSPITAL","Ellen Badger"]
["RJC46-Campion ward","RJC","SOUTH WARWICKSHIRE NHS FOUNDATION TRUST","RJC46","ROYAL LEAMINGTON SPA REHABILITATION HOSPITAL","Campion ward"]
["RJC46-Chadwick ward","RJC","SOUTH WARWICKSHIRE NHS FOUNDATION TRUST","RJC46","ROYAL LEAMINGTON SPA REHABILITATION HOSPITAL","Chadwick ward"]
["RJC46-Feldon ward","RJC","SOUTH WARWICKSHIRE NHS FOUNDATION TRUST","RJC46","ROYAL LEAMINGTON SPA REHABILITATION HOSPITAL","Feldon ward"]
["RJE01-AMU Stoke","RJE","UNIVERSITY HOSPITALS OF NORTH MIDLANDS NHS TRUST","RJE01","ROYAL STOKE UNIVERSITY HOSPITAL","AMU Stoke"]
["RJE01-Cardiac Critical Care Unit","RJE","UNIVERSITY HOSPITALS OF NORTH MIDLANDS NHS TRUST","RJE01","ROYAL STOKE UNIVERSITY HOSPITAL","Cardiac Critical Care Unit"]
["RJE01-Critical Care Unit","RJE","UNIVERSITY HOSPITALS OF NORTH MIDLANDS NHS TRUST","RJE01","ROYAL STOKE UNIVERSITY HOSPITAL","Critical Care Unit"]
["RJE01-FEAU","RJE","UNIVERSITY HOSPITALS OF NORTH MIDLANDS NHS TRUST","RJE01","ROYAL STOKE UNIVERSITY HOSPITAL","FEAU"]
["RJE01-NICU","RJE","UNIVERSITY HOSPITALS OF NORTH MIDLANDS NHS TRUST","RJE01","ROYAL STOKE UNIVERSITY HOSPITAL","NICU"]
["RJE01-SSCU","RJE","UNIVERSITY HOSPITALS OF NORTH MIDLANDS NHS TRUST","RJE01","ROYAL STOKE UNIVERSITY HOSPITAL","SSCU"]
["RJE01-Ward 100 SAU","RJE","UNIVERSITY HOSPITALS OF NORTH MIDLANDS NHS TRUST","RJE01","ROYAL STOKE UNIVERSITY HOSPITAL","Ward 100 SAU"]
["RJE01-Ward 102","RJE","UNIVERSITY HOSPITALS OF NORTH MIDLANDS NHS TRUST","RJE01","ROYAL STOKE UNIVERSITY HOSPITAL","Ward 102"]
["RJE01-Ward 103","RJE","UNIVERSITY HOSPITALS OF NORTH MIDLANDS NHS TRUST","RJE01","ROYAL STOKE UNIVERSITY HOSPITAL","Ward 103"]
["RJE01-Ward 106/107","RJE","UNIVERSITY HOSPITALS OF NORTH MIDLANDS NHS TRUST","RJE01","ROYAL STOKE UNIVERSITY HOSPITAL","Ward 106/107"]
["RJE01-Ward 108","RJE","UNIVERSITY HOSPITALS OF NORTH MIDLANDS NHS TRUST","RJE01","ROYAL STOKE UNIVERSITY HOSPITAL","Ward 108"]
["RJE01-Ward 109","RJE","UNIVERSITY HOSPITALS OF NORTH MIDLANDS NHS TRUST","RJE01","ROYAL STOKE UNIVERSITY HOSPITAL","Ward 109"]
["RJE01-Ward 110","RJE","UNIVERSITY HOSPITALS OF NORTH MIDLANDS NHS TRUST","RJE01","ROYAL STOKE UNIVERSITY HOSPITAL","Ward 110"]
["RJE01-Ward 111","RJE","UNIVERSITY HOSPITALS OF NORTH MIDLANDS NHS TRUST","RJE01","ROYAL STOKE UNIVERSITY HOSPITAL","Ward 111"]
["RJE01-Ward 112 EOU","RJE","UNIVERSITY HOSPITALS OF NORTH MIDLANDS NHS TRUST","RJE01","ROYAL STOKE UNIVERSITY HOSPITAL","Ward 112 EOU"]
["RJE01-Ward 113","RJE","UNIVERSITY HOSPITALS OF NORTH MIDLANDS NHS TRUST","RJE01","ROYAL STOKE UNIVERSITY HOSPITAL","Ward 113"]
[{"$f":"CONCATENATE(D2298,\"-\",F2298)","v":"RJE01-Ward 117"},"RJE","UNIVERSITY HOSPITALS OF NORTH MIDLANDS NHS TRUST","RJE01","ROYAL STOKE UNIVERSITY HOSPITAL","Ward 117"]
["RJE01-Ward 123 SSU","RJE","UNIVERSITY HOSPITALS OF NORTH MIDLANDS NHS TRUST","RJE01","ROYAL STOKE UNIVERSITY HOSPITAL","Ward 123 SSU"]
["RJE01-Ward 124","RJE","UNIVERSITY HOSPITALS OF NORTH MIDLANDS NHS TRUST","RJE01","ROYAL STOKE UNIVERSITY HOSPITAL","Ward 124"]
["RJE01-Ward 126","RJE","UNIVERSITY HOSPITALS OF NORTH MIDLANDS NHS TRUST","RJE01","ROYAL STOKE UNIVERSITY HOSPITAL","Ward 126"]
["RJE01-Ward 127","RJE","UNIVERSITY HOSPITALS OF NORTH MIDLANDS NHS TRUST","RJE01","ROYAL STOKE UNIVERSITY HOSPITAL","Ward 127"]
["RJE01-Ward 201","RJE","UNIVERSITY HOSPITALS OF NORTH MIDLANDS NHS TRUST","RJE01","ROYAL STOKE UNIVERSITY HOSPITAL","Ward 201"]
["RJE01-Ward 205","RJE","UNIVERSITY HOSPITALS OF NORTH MIDLANDS NHS TRUST","RJE01","ROYAL STOKE UNIVERSITY HOSPITAL","Ward 205"]
["RJE01-Ward 206","RJE","UNIVERSITY HOSPITALS OF NORTH MIDLANDS NHS TRUST","RJE01","ROYAL STOKE UNIVERSITY HOSPITAL","Ward 206"]
["RJE01-Ward 215","RJE","UNIVERSITY HOSPITALS OF NORTH MIDLANDS NHS TRUST","RJE01","ROYAL STOKE UNIVERSITY HOSPITAL","Ward 215"]
["RJE01-Ward 216","RJE","UNIVERSITY HOSPITALS OF NORTH MIDLANDS NHS TRUST","RJE01","ROYAL STOKE UNIVERSITY HOSPITAL","Ward 216"]
["RJE01-Ward 217","RJE","UNIVERSITY HOSPITALS OF NORTH MIDLANDS NHS TRUST","RJE01","ROYAL STOKE UNIVERSITY HOSPITAL","Ward 217"]
["RJE01-Ward 218 (Neuro)","RJE","UNIVERSITY HOSPITALS OF NORTH MIDLANDS NHS TRUST","RJE01","ROYAL STOKE UNIVERSITY HOSPITAL","Ward 218 (Neuro)"]
["RJE01-Ward 220","RJE","UNIVERSITY HOSPITALS OF NORTH MIDLANDS NHS TRUST","RJE01","ROYAL STOKE UNIVERSITY HOSPITAL","Ward 220"]
["RJE01-Ward 221","RJE","UNIVERSITY HOSPITALS OF NORTH MIDLANDS NHS TRUST","RJE01","ROYAL STOKE UNIVERSITY HOSPITAL","Ward 221"]
["RJE01-Ward 222","RJE","UNIVERSITY HOSPITALS OF NORTH MIDLANDS NHS TRUST","RJE01","ROYAL STOKE UNIVERSITY HOSPITAL","Ward 222"]
["RJE01-Ward 223","RJE","UNIVERSITY HOSPITALS OF NORTH MIDLANDS NHS TRUST","RJE01","ROYAL STOKE UNIVERSITY HOSPITAL","Ward 223"]
["RJE01-Ward 225","RJE","UNIVERSITY HOSPITALS OF NORTH MIDLANDS NHS TRUST","RJE01","ROYAL STOKE UNIVERSITY HOSPITAL","Ward 225"]
["RJE01-Ward 226","RJE","UNIVERSITY HOSPITALS OF NORTH MIDLANDS NHS TRUST","RJE01","ROYAL STOKE UNIVERSITY HOSPITAL","Ward 226"]
["RJE01-Ward 227 ARTU","RJE","UNIVERSITY HOSPITALS OF NORTH MIDLANDS NHS TRUST","RJE01","ROYAL STOKE UNIVERSITY HOSPITAL","Ward 227 ARTU"]
["RJE01-Ward 228","RJE","UNIVERSITY HOSPITALS OF NORTH MIDLANDS NHS TRUST","RJE01","ROYAL STOKE UNIVERSITY HOSPITAL","Ward 228"]
["RJE01-Ward 230","RJE","UNIVERSITY HOSPITALS OF NORTH MIDLANDS NHS TRUST","RJE01","ROYAL STOKE UNIVERSITY HOSPITAL","Ward 230"]
["RJE01-Ward 231 (ASU)","RJE","UNIVERSITY HOSPITALS OF NORTH MIDLANDS NHS TRUST","RJE01","ROYAL STOKE UNIVERSITY HOSPITAL","Ward 231 (ASU)"]
["RJE01-Ward 232","RJE","UNIVERSITY HOSPITALS OF NORTH MIDLANDS NHS TRUST","RJE01","ROYAL STOKE UNIVERSITY HOSPITAL","Ward 232"]
["RJE01-Ward 233","RJE","UNIVERSITY HOSPITALS OF NORTH MIDLANDS NHS TRUST","RJE01","ROYAL STOKE UNIVERSITY HOSPITAL","Ward 233"]
["RJE01-Ward 75 (Diabetes & Endocrinology)","RJE","UNIVERSITY HOSPITALS OF NORTH MIDLANDS NHS TRUST","RJE01","ROYAL STOKE UNIVERSITY HOSPITAL","Ward 75 (Diabetes & Endocrinology)"]
["RJE01-Ward 76a","RJE","UNIVERSITY HOSPITALS OF NORTH MIDLANDS NHS TRUST","RJE01","ROYAL STOKE UNIVERSITY HOSPITAL","Ward 76a"]
["RJE01-Ward 76b","RJE","UNIVERSITY HOSPITALS OF NORTH MIDLANDS NHS TRUST","RJE01","ROYAL STOKE UNIVERSITY HOSPITAL","Ward 76b"]
["RJE01-Ward 80","RJE","UNIVERSITY HOSPITALS OF NORTH MIDLANDS NHS TRUST","RJE01","ROYAL STOKE UNIVERSITY HOSPITAL","Ward 80"]
["RJE01-Ward 81","RJE","UNIVERSITY HOSPITALS OF NORTH MIDLANDS NHS TRUST","RJE01","ROYAL STOKE UNIVERSITY HOSPITAL","Ward 81"]
["RJE09-AMU County","RJE","UNIVERSITY HOSPITALS OF NORTH MIDLANDS NHS TRUST","RJE09","COUNTY HOSPITAL","AMU County"]
["RJE09-EOU","RJE","UNIVERSITY HOSPITALS OF NORTH MIDLANDS NHS TRUST","RJE09","COUNTY HOSPITAL","EOU"]
["RJE09-Midwife Led Service","RJE","UNIVERSITY HOSPITALS OF NORTH MIDLANDS NHS TRUST","RJE09","COUNTY HOSPITAL","Midwife Led Service"]
["RJE09-Ward 12","RJE","UNIVERSITY HOSPITALS OF NORTH MIDLANDS NHS TRUST","RJE09","COUNTY HOSPITAL","Ward 12"]
["RJE09-Ward 14","RJE","UNIVERSITY HOSPITALS OF NORTH MIDLANDS NHS TRUST","RJE09","COUNTY HOSPITAL","Ward 14"]
["RJE09-Ward 15","RJE","UNIVERSITY HOSPITALS OF NORTH MIDLANDS NHS TRUST","RJE09","COUNTY HOSPITAL","Ward 15"]
["RJE09-Ward 7","RJE","UNIVERSITY HOSPITALS OF NORTH MIDLANDS NHS TRUST","RJE09","COUNTY HOSPITAL","Ward 7"]
["RJE09-Ward 8","RJE","UNIVERSITY HOSPITALS OF NORTH MIDLANDS NHS TRUST","RJE09","COUNTY HOSPITAL","Ward 8"]
["RJL30-Acute Medical Unit","RJL","NORTHERN LINCOLNSHIRE AND GOOLE NHS FOUNDATION TRUST","RJL30","DIANA, PRINCESS OF WALES HOSPITAL","Acute Medical Unit"]
["RJL30-Amethyst","RJL","NORTHERN LINCOLNSHIRE AND GOOLE NHS FOUNDATION TRUST","RJL30","DIANA, PRINCESS OF WALES HOSPITAL","Amethyst"]
["RJL30-B2","RJL","NORTHERN LINCOLNSHIRE AND GOOLE NHS FOUNDATION TRUST","RJL30","DIANA, PRINCESS OF WALES HOSPITAL","B2"]
["RJL30-Blueberry/Holly DPoW","RJL","NORTHERN LINCOLNSHIRE AND GOOLE NHS FOUNDATION TRUST","RJL30","DIANA, PRINCESS OF WALES HOSPITAL","Blueberry/Holly DPoW"]
["RJL30-HDU DPoW","RJL","NORTHERN LINCOLNSHIRE AND GOOLE NHS FOUNDATION TRUST","RJL30","DIANA, PRINCESS OF WALES HOSPITAL","HDU DPoW"]
["RJL30-ITU DPoW","RJL","NORTHERN LINCOLNSHIRE AND GOOLE NHS FOUNDATION TRUST","RJL30","DIANA, PRINCESS OF WALES HOSPITAL","ITU DPoW"]
["RJL30-Jasmine & Honeysuckle","RJL","NORTHERN LINCOLNSHIRE AND GOOLE NHS FOUNDATION TRUST","RJL30","DIANA, PRINCESS OF WALES HOSPITAL","Jasmine & Honeysuckle"]
["RJL30-LAUREL WARD DPoW","RJL","NORTHERN LINCOLNSHIRE AND GOOLE NHS FOUNDATION TRUST","RJL30","DIANA, PRINCESS OF WALES HOSPITAL","LAUREL WARD DPoW"]
["RJL30-NICU DPoW","RJL","NORTHERN LINCOLNSHIRE AND GOOLE NHS FOUNDATION TRUST","RJL30","DIANA, PRINCESS OF WALES HOSPITAL","NICU DPoW"]
["RJL30-Rainforest DPoW","RJL","NORTHERN LINCOLNSHIRE AND GOOLE NHS FOUNDATION TRUST","RJL30","DIANA, PRINCESS OF WALES HOSPITAL","Rainforest DPoW"]
["RJL30-STROKE UNIT DPoW","RJL","NORTHERN LINCOLNSHIRE AND GOOLE NHS FOUNDATION TRUST","RJL30","DIANA, PRINCESS OF WALES HOSPITAL","STROKE UNIT DPoW"]
["RJL30-WARD B3 DPoW","RJL","NORTHERN LINCOLNSHIRE AND GOOLE NHS FOUNDATION TRUST","RJL30","DIANA, PRINCESS OF WALES HOSPITAL","WARD B3 DPoW"]
["RJL30-WARD B4 DPoW","RJL","NORTHERN LINCOLNSHIRE AND GOOLE NHS FOUNDATION TRUST","RJL30","DIANA, PRINCESS OF WALES HOSPITAL","WARD B4 DPoW"]
["RJL30-WARD B6 DPoW","RJL","NORTHERN LINCOLNSHIRE AND GOOLE NHS FOUNDATION TRUST","RJL30","DIANA, PRINCESS OF WALES HOSPITAL","WARD B6 DPoW"]
["RJL30-WARD B7 DPoW","RJL","NORTHERN LINCOLNSHIRE AND GOOLE NHS FOUNDATION TRUST","RJL30","DIANA, PRINCESS OF WALES HOSPITAL","WARD B7 DPoW"]
["RJL30-Ward C1 Glover","RJL","NORTHERN LINCOLNSHIRE AND GOOLE NHS FOUNDATION TRUST","RJL30","DIANA, PRINCESS OF WALES HOSPITAL","Ward C1 Glover"]
["RJL30-WARD C2","RJL","NORTHERN LINCOLNSHIRE AND GOOLE NHS FOUNDATION TRUST","RJL30","DIANA, PRINCESS OF WALES HOSPITAL","WARD C2"]
["RJL30-WARD C5 DPoW","RJL","NORTHERN LINCOLNSHIRE AND GOOLE NHS FOUNDATION TRUST","RJL30","DIANA, PRINCESS OF WALES HOSPITAL","WARD C5 DPoW"]
["RJL30-WARD C6 DPoW","RJL","NORTHERN LINCOLNSHIRE AND GOOLE NHS FOUNDATION TRUST","RJL30","DIANA, PRINCESS OF WALES HOSPITAL","WARD C6 DPoW"]
["RJL31-NRC Nursing Team GDH","RJL","NORTHERN LINCOLNSHIRE AND GOOLE NHS FOUNDATION TRUST","RJL31","GOOLE AND DISTRICT HOSPITAL (ACUTE)","NRC Nursing Team GDH"]
["RJL31-WARD 3 GDH","RJL","NORTHERN LINCOLNSHIRE AND GOOLE NHS FOUNDATION TRUST","RJL31","GOOLE AND DISTRICT HOSPITAL (ACUTE)","WARD 3 GDH"]
["RJL31-WARD 6/7 GDH","RJL","NORTHERN LINCOLNSHIRE AND GOOLE NHS FOUNDATION TRUST","RJL31","GOOLE AND DISTRICT HOSPITAL (ACUTE)","WARD 6/7 GDH"]
["RJL32-CCU SGH","RJL","NORTHERN LINCOLNSHIRE AND GOOLE NHS FOUNDATION TRUST","RJL32","SCUNTHORPE GENERAL HOSPITAL","CCU SGH"]
["RJL32-Clinical Decisions Unit","RJL","NORTHERN LINCOLNSHIRE AND GOOLE NHS FOUNDATION TRUST","RJL32","SCUNTHORPE GENERAL HOSPITAL","Clinical Decisions Unit"]
["RJL32-Disney SGH","RJL","NORTHERN LINCOLNSHIRE AND GOOLE NHS FOUNDATION TRUST","RJL32","SCUNTHORPE GENERAL HOSPITAL","Disney SGH"]
["RJL32-ICU SGH","RJL","NORTHERN LINCOLNSHIRE AND GOOLE NHS FOUNDATION TRUST","RJL32","SCUNTHORPE GENERAL HOSPITAL","ICU SGH"]
["RJL32-NICU  SGH","RJL","NORTHERN LINCOLNSHIRE AND GOOLE NHS FOUNDATION TRUST","RJL32","SCUNTHORPE GENERAL HOSPITAL","NICU  SGH"]
[{"$f":"CONCATENATE(D2362,\"-\",F2362)","v":"RJL32-Stroke Unit SGH"},"RJL","NORTHERN LINCOLNSHIRE AND GOOLE NHS FOUNDATION TRUST","RJL32","SCUNTHORPE GENERAL HOSPITAL","Stroke Unit SGH"]
["RJL32-WARD 16 SGH","RJL","NORTHERN LINCOLNSHIRE AND GOOLE NHS FOUNDATION TRUST","RJL32","SCUNTHORPE GENERAL HOSPITAL","WARD 16 SGH"]
["RJL32-WARD 17 SGH","RJL","NORTHERN LINCOLNSHIRE AND GOOLE NHS FOUNDATION TRUST","RJL32","SCUNTHORPE GENERAL HOSPITAL","WARD 17 SGH"]
["RJL32-WARD 18 SGH","RJL","NORTHERN LINCOLNSHIRE AND GOOLE NHS FOUNDATION TRUST","RJL32","SCUNTHORPE GENERAL HOSPITAL","WARD 18 SGH"]
["RJL32-Ward 19/Gynaecology Outpatients SGH","RJL","NORTHERN LINCOLNSHIRE AND GOOLE NHS FOUNDATION TRUST","RJL32","SCUNTHORPE GENERAL HOSPITAL","Ward 19/Gynaecology Outpatients SGH"]
["RJL32-WARD 22 SGH","RJL","NORTHERN LINCOLNSHIRE AND GOOLE NHS FOUNDATION TRUST","RJL32","SCUNTHORPE GENERAL HOSPITAL","WARD 22 SGH"]
["RJL32-WARD 23 SGH","RJL","NORTHERN LINCOLNSHIRE AND GOOLE NHS FOUNDATION TRUST","RJL32","SCUNTHORPE GENERAL HOSPITAL","WARD 23 SGH"]
["RJL32-WARD 24 SGH","RJL","NORTHERN LINCOLNSHIRE AND GOOLE NHS FOUNDATION TRUST","RJL32","SCUNTHORPE GENERAL HOSPITAL","WARD 24 SGH"]
["RJL32-WARD 25 SGH","RJL","NORTHERN LINCOLNSHIRE AND GOOLE NHS FOUNDATION TRUST","RJL32","SCUNTHORPE GENERAL HOSPITAL","WARD 25 SGH"]
["RJL32-Ward 26 SGH","RJL","NORTHERN LINCOLNSHIRE AND GOOLE NHS FOUNDATION TRUST","RJL32","SCUNTHORPE GENERAL HOSPITAL","Ward 26 SGH"]
["RJL32-Ward 27 SGH","RJL","NORTHERN LINCOLNSHIRE AND GOOLE NHS FOUNDATION TRUST","RJL32","SCUNTHORPE GENERAL HOSPITAL","Ward 27 SGH"]
["RJL32-WARD 28 SGH","RJL","NORTHERN LINCOLNSHIRE AND GOOLE NHS FOUNDATION TRUST","RJL32","SCUNTHORPE GENERAL HOSPITAL","WARD 28 SGH"]
["RJN63-Aston","RJN","EAST CHESHIRE NHS TRUST","RJN63","CONGLETON WAR MEMORIAL HOSPITAL","Aston"]
["RJN71-CCU","RJN","EAST CHESHIRE NHS TRUST","RJN71","MACCLESFIELD DISTRICT GENERAL HOSPITAL","CCU"]
["RJN71-Childrens","RJN","EAST CHESHIRE NHS TRUST","RJN71","MACCLESFIELD DISTRICT GENERAL HOSPITAL","Childrens"]
["RJN71-Intensive Care Unit","RJN","EAST CHESHIRE NHS TRUST","RJN71","MACCLESFIELD DISTRICT GENERAL HOSPITAL","Intensive Care Unit"]
["RJN71-Neo Natal Unit","RJN","EAST CHESHIRE NHS TRUST","RJN71","MACCLESFIELD DISTRICT GENERAL HOSPITAL","Neo Natal Unit"]
["RJN71-Post Natal and Labour Ward","RJN","EAST CHESHIRE NHS TRUST","RJN71","MACCLESFIELD DISTRICT GENERAL HOSPITAL","Post Natal and Labour Ward"]
["RJN71-Ward 1","RJN","EAST CHESHIRE NHS TRUST","RJN71","MACCLESFIELD DISTRICT GENERAL HOSPITAL","Ward 1"]
["RJN71-Ward 10","RJN","EAST CHESHIRE NHS TRUST","RJN71","MACCLESFIELD DISTRICT GENERAL HOSPITAL","Ward 10"]
["RJN71-Ward 11","RJN","EAST CHESHIRE NHS TRUST","RJN71","MACCLESFIELD DISTRICT GENERAL HOSPITAL","Ward 11"]
["RJN71-Ward 2","RJN","EAST CHESHIRE NHS TRUST","RJN71","MACCLESFIELD DISTRICT GENERAL HOSPITAL","Ward 2"]
["RJN71-Ward 3","RJN","EAST CHESHIRE NHS TRUST","RJN71","MACCLESFIELD DISTRICT GENERAL HOSPITAL","Ward 3"]
["RJN71-Ward 4","RJN","EAST CHESHIRE NHS TRUST","RJN71","MACCLESFIELD DISTRICT GENERAL HOSPITAL","Ward 4"]
["RJN71-Ward 5","RJN","EAST CHESHIRE NHS TRUST","RJN71","MACCLESFIELD DISTRICT GENERAL HOSPITAL","Ward 5"]
["RJN71-Ward 7","RJN","EAST CHESHIRE NHS TRUST","RJN71","MACCLESFIELD DISTRICT GENERAL HOSPITAL","Ward 7"]
["RJN71-Ward 8(MAU)","RJN","EAST CHESHIRE NHS TRUST","RJN71","MACCLESFIELD DISTRICT GENERAL HOSPITAL","Ward 8(MAU)"]
["RJN71-Ward 9 (Egerton)","RJN","EAST CHESHIRE NHS TRUST","RJN71","MACCLESFIELD DISTRICT GENERAL HOSPITAL","Ward 9 (Egerton)"]
["RJR05-Acute Medical Unit (Ward 47)","RJR","COUNTESS OF CHESTER HOSPITAL NHS FOUNDATION TRUST","RJR05","COUNTESS OF CHESTER HOSPITAL","Acute Medical Unit (Ward 47)"]
["RJR05-Critical Care","RJR","COUNTESS OF CHESTER HOSPITAL NHS FOUNDATION TRUST","RJR05","COUNTESS OF CHESTER HOSPITAL","Critical Care"]
["RJR05-Maternity Suite","RJR","COUNTESS OF CHESTER HOSPITAL NHS FOUNDATION TRUST","RJR05","COUNTESS OF CHESTER HOSPITAL","Maternity Suite"]
["RJR05-NNU","RJR","COUNTESS OF CHESTER HOSPITAL NHS FOUNDATION TRUST","RJR05","COUNTESS OF CHESTER HOSPITAL","NNU"]
["RJR05-Renal Unit (Care)","RJR","COUNTESS OF CHESTER HOSPITAL NHS FOUNDATION TRUST","RJR05","COUNTESS OF CHESTER HOSPITAL","Renal Unit (Care)"]
["RJR05-Ward 29 & 30 Childrens Unit","RJR","COUNTESS OF CHESTER HOSPITAL NHS FOUNDATION TRUST","RJR05","COUNTESS OF CHESTER HOSPITAL","Ward 29 & 30 Childrens Unit"]
["RJR05-Ward 33 Trinity Ward","RJR","COUNTESS OF CHESTER HOSPITAL NHS FOUNDATION TRUST","RJR05","COUNTESS OF CHESTER HOSPITAL","Ward 33 Trinity Ward"]
["RJR05-Ward 34 Priory Ward","RJR","COUNTESS OF CHESTER HOSPITAL NHS FOUNDATION TRUST","RJR05","COUNTESS OF CHESTER HOSPITAL","Ward 34 Priory Ward"]
["RJR05-Ward 41","RJR","COUNTESS OF CHESTER HOSPITAL NHS FOUNDATION TRUST","RJR05","COUNTESS OF CHESTER HOSPITAL","Ward 41"]
["RJR05-Ward 42 Cathedral Ward","RJR","COUNTESS OF CHESTER HOSPITAL NHS FOUNDATION TRUST","RJR05","COUNTESS OF CHESTER HOSPITAL","Ward 42 Cathedral Ward"]
["RJR05-Ward 43 Meadows Ward","RJR","COUNTESS OF CHESTER HOSPITAL NHS FOUNDATION TRUST","RJR05","COUNTESS OF CHESTER HOSPITAL","Ward 43 Meadows Ward"]
["RJR05-Ward 44 Bridge Ward","RJR","COUNTESS OF CHESTER HOSPITAL NHS FOUNDATION TRUST","RJR05","COUNTESS OF CHESTER HOSPITAL","Ward 44 Bridge Ward"]
["RJR05-Ward 45 Palace Ward","RJR","COUNTESS OF CHESTER HOSPITAL NHS FOUNDATION TRUST","RJR05","COUNTESS OF CHESTER HOSPITAL","Ward 45 Palace Ward"]
["RJR05-Ward 48 Northgate Ward","RJR","COUNTESS OF CHESTER HOSPITAL NHS FOUNDATION TRUST","RJR05","COUNTESS OF CHESTER HOSPITAL","Ward 48 Northgate Ward"]
["RJR05-Ward 49 Foregate Ward","RJR","COUNTESS OF CHESTER HOSPITAL NHS FOUNDATION TRUST","RJR05","COUNTESS OF CHESTER HOSPITAL","Ward 49 Foregate Ward"]
["RJR05-Ward 50","RJR","COUNTESS OF CHESTER HOSPITAL NHS FOUNDATION TRUST","RJR05","COUNTESS OF CHESTER HOSPITAL","Ward 50"]
["RJR05-Ward 51","RJR","COUNTESS OF CHESTER HOSPITAL NHS FOUNDATION TRUST","RJR05","COUNTESS OF CHESTER HOSPITAL","Ward 51"]
["RJR05-Ward 52","RJR","COUNTESS OF CHESTER HOSPITAL NHS FOUNDATION TRUST","RJR05","COUNTESS OF CHESTER HOSPITAL","Ward 52"]
["RJR05-Ward 53","RJR","COUNTESS OF CHESTER HOSPITAL NHS FOUNDATION TRUST","RJR05","COUNTESS OF CHESTER HOSPITAL","Ward 53"]
["RJR05-Ward 54","RJR","COUNTESS OF CHESTER HOSPITAL NHS FOUNDATION TRUST","RJR05","COUNTESS OF CHESTER HOSPITAL","Ward 54"]
["RJR05-Ward 60 Haematology Oncology Suite","RJR","COUNTESS OF CHESTER HOSPITAL NHS FOUNDATION TRUST","RJR05","COUNTESS OF CHESTER HOSPITAL","Ward 60 Haematology Oncology Suite"]
["RJR60-Bluebell Unit","RJR","COUNTESS OF CHESTER HOSPITAL NHS FOUNDATION TRUST","RJR60","ELLESMERE PORT HOSPITAL","Bluebell Unit"]
["RJR60-Poppy Unit","RJR","COUNTESS OF CHESTER HOSPITAL NHS FOUNDATION TRUST","RJR60","ELLESMERE PORT HOSPITAL","Poppy Unit"]
["RJZ01-Annie Zunz Ward","RJZ","KING'S COLLEGE HOSPITAL NHS FOUNDATION TRUST","RJZ01","KING'S COLLEGE HOSPITAL (DENMARK HILL)","Annie Zunz Ward"]
["RJZ01-Brunel Short Stay Surgical Unit","RJZ","KING'S COLLEGE HOSPITAL NHS FOUNDATION TRUST","RJZ01","KING'S COLLEGE HOSPITAL (DENMARK HILL)","Brunel Short Stay Surgical Unit"]
["RJZ01-Byron Ward","RJZ","KING'S COLLEGE HOSPITAL NHS FOUNDATION TRUST","RJZ01","KING'S COLLEGE HOSPITAL (DENMARK HILL)","Byron Ward"]
["RJZ01-Charles Polkey","RJZ","KING'S COLLEGE HOSPITAL NHS FOUNDATION TRUST","RJZ01","KING'S COLLEGE HOSPITAL (DENMARK HILL)","Charles Polkey"]
["RJZ01-Christine Brown Critical Care Unit","RJZ","KING'S COLLEGE HOSPITAL NHS FOUNDATION TRUST","RJZ01","KING'S COLLEGE HOSPITAL (DENMARK HILL)","Christine Brown Critical Care Unit"]
["RJZ01-Coptcoat Ward","RJZ","KING'S COLLEGE HOSPITAL NHS FOUNDATION TRUST","RJZ01","KING'S COLLEGE HOSPITAL (DENMARK HILL)","Coptcoat Ward"]
["RJZ01-Cotton Ward","RJZ","KING'S COLLEGE HOSPITAL NHS FOUNDATION TRUST","RJZ01","KING'S COLLEGE HOSPITAL (DENMARK HILL)","Cotton Ward"]
["RJZ01-David Marsden Ward","RJZ","KING'S COLLEGE HOSPITAL NHS FOUNDATION TRUST","RJZ01","KING'S COLLEGE HOSPITAL (DENMARK HILL)","David Marsden Ward"]
["RJZ01-Davidson Ward","RJZ","KING'S COLLEGE HOSPITAL NHS FOUNDATION TRUST","RJZ01","KING'S COLLEGE HOSPITAL (DENMARK HILL)","Davidson Ward"]
["RJZ01-Dawson Ward","RJZ","KING'S COLLEGE HOSPITAL NHS FOUNDATION TRUST","RJZ01","KING'S COLLEGE HOSPITAL (DENMARK HILL)","Dawson Ward"]
["RJZ01-Derek Mitchell Unit","RJZ","KING'S COLLEGE HOSPITAL NHS FOUNDATION TRUST","RJZ01","KING'S COLLEGE HOSPITAL (DENMARK HILL)","Derek Mitchell Unit"]
["RJZ01-DH-Coronary Care Unit (Sam Oram)","RJZ","KING'S COLLEGE HOSPITAL NHS FOUNDATION TRUST","RJZ01","KING'S COLLEGE HOSPITAL (DENMARK HILL)","DH-Coronary Care Unit (Sam Oram)"]
["RJZ01-DH-Frailty Assessment Unit","RJZ","KING'S COLLEGE HOSPITAL NHS FOUNDATION TRUST","RJZ01","KING'S COLLEGE HOSPITAL (DENMARK HILL)","DH-Frailty Assessment Unit"]
[{"$f":"CONCATENATE(D2426,\"-\",F2426)","v":"RJZ01-DH-The Childrens Surgical Ward"},"RJZ","KING'S COLLEGE HOSPITAL NHS FOUNDATION TRUST","RJZ01","KING'S COLLEGE HOSPITAL (DENMARK HILL)","DH-The Childrens Surgical Ward"]
["RJZ01-Donne Ward","RJZ","KING'S COLLEGE HOSPITAL NHS FOUNDATION TRUST","RJZ01","KING'S COLLEGE HOSPITAL (DENMARK HILL)","Donne Ward"]
["RJZ01-Elective Orthopaedic Unit","RJZ","KING'S COLLEGE HOSPITAL NHS FOUNDATION TRUST","RJZ01","KING'S COLLEGE HOSPITAL (DENMARK HILL)","Elective Orthopaedic Unit"]
["RJZ01-ELF & LIBRA Ward","RJZ","KING'S COLLEGE HOSPITAL NHS FOUNDATION TRUST","RJZ01","KING'S COLLEGE HOSPITAL (DENMARK HILL)","ELF & LIBRA Ward"]
["RJZ01-Fisk & Cheere Ward","RJZ","KING'S COLLEGE HOSPITAL NHS FOUNDATION TRUST","RJZ01","KING'S COLLEGE HOSPITAL (DENMARK HILL)","Fisk & Cheere Ward"]
["RJZ01-Frank Stansil Critical Care","RJZ","KING'S COLLEGE HOSPITAL NHS FOUNDATION TRUST","RJZ01","KING'S COLLEGE HOSPITAL (DENMARK HILL)","Frank Stansil Critical Care"]
["RJZ01-Guthrie Ward","RJZ","KING'S COLLEGE HOSPITAL NHS FOUNDATION TRUST","RJZ01","KING'S COLLEGE HOSPITAL (DENMARK HILL)","Guthrie Ward"]
["RJZ01-Howard Ward","RJZ","KING'S COLLEGE HOSPITAL NHS FOUNDATION TRUST","RJZ01","KING'S COLLEGE HOSPITAL (DENMARK HILL)","Howard Ward"]
["RJZ01-Jack Steinberg Critical Care","RJZ","KING'S COLLEGE HOSPITAL NHS FOUNDATION TRUST","RJZ01","KING'S COLLEGE HOSPITAL (DENMARK HILL)","Jack Steinberg Critical Care"]
["RJZ01-Katherine Monk Ward","RJZ","KING'S COLLEGE HOSPITAL NHS FOUNDATION TRUST","RJZ01","KING'S COLLEGE HOSPITAL (DENMARK HILL)","Katherine Monk Ward"]
["RJZ01-Kinnier Wilson HDU","RJZ","KING'S COLLEGE HOSPITAL NHS FOUNDATION TRUST","RJZ01","KING'S COLLEGE HOSPITAL (DENMARK HILL)","Kinnier Wilson HDU"]
["RJZ01-Kinnier Wilson Ward","RJZ","KING'S COLLEGE HOSPITAL NHS FOUNDATION TRUST","RJZ01","KING'S COLLEGE HOSPITAL (DENMARK HILL)","Kinnier Wilson Ward"]
["RJZ01-Lister Ward","RJZ","KING'S COLLEGE HOSPITAL NHS FOUNDATION TRUST","RJZ01","KING'S COLLEGE HOSPITAL (DENMARK HILL)","Lister Ward"]
["RJZ01-Liver Intensive Care","RJZ","KING'S COLLEGE HOSPITAL NHS FOUNDATION TRUST","RJZ01","KING'S COLLEGE HOSPITAL (DENMARK HILL)","Liver Intensive Care"]
["RJZ01-Lonsdale Ward","RJZ","KING'S COLLEGE HOSPITAL NHS FOUNDATION TRUST","RJZ01","KING'S COLLEGE HOSPITAL (DENMARK HILL)","Lonsdale Ward"]
["RJZ01-Marjorie Warren Ward","RJZ","KING'S COLLEGE HOSPITAL NHS FOUNDATION TRUST","RJZ01","KING'S COLLEGE HOSPITAL (DENMARK HILL)","Marjorie Warren Ward"]
["RJZ01-Mary Ray Ward","RJZ","KING'S COLLEGE HOSPITAL NHS FOUNDATION TRUST","RJZ01","KING'S COLLEGE HOSPITAL (DENMARK HILL)","Mary Ray Ward"]
["RJZ01-Matthew Whiting Ward","RJZ","KING'S COLLEGE HOSPITAL NHS FOUNDATION TRUST","RJZ01","KING'S COLLEGE HOSPITAL (DENMARK HILL)","Matthew Whiting Ward"]
["RJZ01-Murray Falconer Ward","RJZ","KING'S COLLEGE HOSPITAL NHS FOUNDATION TRUST","RJZ01","KING'S COLLEGE HOSPITAL (DENMARK HILL)","Murray Falconer Ward"]
["RJZ01-Neonatal Intensive Care Unit","RJZ","KING'S COLLEGE HOSPITAL NHS FOUNDATION TRUST","RJZ01","KING'S COLLEGE HOSPITAL (DENMARK HILL)","Neonatal Intensive Care Unit"]
["RJZ01-Oliver Ward","RJZ","KING'S COLLEGE HOSPITAL NHS FOUNDATION TRUST","RJZ01","KING'S COLLEGE HOSPITAL (DENMARK HILL)","Oliver Ward"]
["RJZ01-Paediatric Short Stay Unit","RJZ","KING'S COLLEGE HOSPITAL NHS FOUNDATION TRUST","RJZ01","KING'S COLLEGE HOSPITAL (DENMARK HILL)","Paediatric Short Stay Unit"]
["RJZ01-Postnatal William Gilliat Ward","RJZ","KING'S COLLEGE HOSPITAL NHS FOUNDATION TRUST","RJZ01","KING'S COLLEGE HOSPITAL (DENMARK HILL)","Postnatal William Gilliat Ward"]
["RJZ01-R D Lawrence Ward","RJZ","KING'S COLLEGE HOSPITAL NHS FOUNDATION TRUST","RJZ01","KING'S COLLEGE HOSPITAL (DENMARK HILL)","R D Lawrence Ward"]
["RJZ01-Rays Of Sunshine Ward","RJZ","KING'S COLLEGE HOSPITAL NHS FOUNDATION TRUST","RJZ01","KING'S COLLEGE HOSPITAL (DENMARK HILL)","Rays Of Sunshine Ward"]
["RJZ01-Recovery Ward","RJZ","KING'S COLLEGE HOSPITAL NHS FOUNDATION TRUST","RJZ01","KING'S COLLEGE HOSPITAL (DENMARK HILL)","Recovery Ward"]
["RJZ01-Sam Oram Ward","RJZ","KING'S COLLEGE HOSPITAL NHS FOUNDATION TRUST","RJZ01","KING'S COLLEGE HOSPITAL (DENMARK HILL)","Sam Oram Ward"]
["RJZ01-The Friends Stroke Unit","RJZ","KING'S COLLEGE HOSPITAL NHS FOUNDATION TRUST","RJZ01","KING'S COLLEGE HOSPITAL (DENMARK HILL)","The Friends Stroke Unit"]
["RJZ01-Thomas Cook HDU","RJZ","KING'S COLLEGE HOSPITAL NHS FOUNDATION TRUST","RJZ01","KING'S COLLEGE HOSPITAL (DENMARK HILL)","Thomas Cook HDU"]
["RJZ01-Todd Ward","RJZ","KING'S COLLEGE HOSPITAL NHS FOUNDATION TRUST","RJZ01","KING'S COLLEGE HOSPITAL (DENMARK HILL)","Todd Ward"]
["RJZ01-Toni & Guy Ward","RJZ","KING'S COLLEGE HOSPITAL NHS FOUNDATION TRUST","RJZ01","KING'S COLLEGE HOSPITAL (DENMARK HILL)","Toni & Guy Ward"]
["RJZ01-Trundle Ward","RJZ","KING'S COLLEGE HOSPITAL NHS FOUNDATION TRUST","RJZ01","KING'S COLLEGE HOSPITAL (DENMARK HILL)","Trundle Ward"]
["RJZ01-V&A HDU","RJZ","KING'S COLLEGE HOSPITAL NHS FOUNDATION TRUST","RJZ01","KING'S COLLEGE HOSPITAL (DENMARK HILL)","V&A HDU"]
["RJZ01-Victoria & Albert Ward","RJZ","KING'S COLLEGE HOSPITAL NHS FOUNDATION TRUST","RJZ01","KING'S COLLEGE HOSPITAL (DENMARK HILL)","Victoria & Albert Ward"]
["RJZ01-Waddington Ward","RJZ","KING'S COLLEGE HOSPITAL NHS FOUNDATION TRUST","RJZ01","KING'S COLLEGE HOSPITAL (DENMARK HILL)","Waddington Ward"]
["RJZ01-Womens Surgical Unit","RJZ","KING'S COLLEGE HOSPITAL NHS FOUNDATION TRUST","RJZ01","KING'S COLLEGE HOSPITAL (DENMARK HILL)","Womens Surgical Unit"]
["RJZ30-Chartwell Ward","RJZ","KING'S COLLEGE HOSPITAL NHS FOUNDATION TRUST","RJZ30","PRINCESS ROYAL UNIVERSITY HOSPITAL","Chartwell Ward"]
["RJZ30-Childrens Ward","RJZ","KING'S COLLEGE HOSPITAL NHS FOUNDATION TRUST","RJZ30","PRINCESS ROYAL UNIVERSITY HOSPITAL","Childrens Ward"]
["RJZ30-Darwin 1 (S1)","RJZ","KING'S COLLEGE HOSPITAL NHS FOUNDATION TRUST","RJZ30","PRINCESS ROYAL UNIVERSITY HOSPITAL","Darwin 1 (S1)"]
["RJZ30-Darwin 2 (S2)","RJZ","KING'S COLLEGE HOSPITAL NHS FOUNDATION TRUST","RJZ30","PRINCESS ROYAL UNIVERSITY HOSPITAL","Darwin 2 (S2)"]
["RJZ30-Emergency Assessment Unit","RJZ","KING'S COLLEGE HOSPITAL NHS FOUNDATION TRUST","RJZ30","PRINCESS ROYAL UNIVERSITY HOSPITAL","Emergency Assessment Unit"]
["RJZ30-Farnborough Ward","RJZ","KING'S COLLEGE HOSPITAL NHS FOUNDATION TRUST","RJZ30","PRINCESS ROYAL UNIVERSITY HOSPITAL","Farnborough Ward"]
["RJZ30-Hyper Acute Stroke Unit (HASU)","RJZ","KING'S COLLEGE HOSPITAL NHS FOUNDATION TRUST","RJZ30","PRINCESS ROYAL UNIVERSITY HOSPITAL","Hyper Acute Stroke Unit (HASU)"]
["RJZ30-Intensive Care & High Dependency Unit","RJZ","KING'S COLLEGE HOSPITAL NHS FOUNDATION TRUST","RJZ30","PRINCESS ROYAL UNIVERSITY HOSPITAL","Intensive Care & High Dependency Unit"]
["RJZ30-Maternity Unit","RJZ","KING'S COLLEGE HOSPITAL NHS FOUNDATION TRUST","RJZ30","PRINCESS ROYAL UNIVERSITY HOSPITAL","Maternity Unit"]
["RJZ30-Medical Ward 1","RJZ","KING'S COLLEGE HOSPITAL NHS FOUNDATION TRUST","RJZ30","PRINCESS ROYAL UNIVERSITY HOSPITAL","Medical Ward 1"]
["RJZ30-Medical Ward 2","RJZ","KING'S COLLEGE HOSPITAL NHS FOUNDATION TRUST","RJZ30","PRINCESS ROYAL UNIVERSITY HOSPITAL","Medical Ward 2"]
["RJZ30-Medical Ward 3","RJZ","KING'S COLLEGE HOSPITAL NHS FOUNDATION TRUST","RJZ30","PRINCESS ROYAL UNIVERSITY HOSPITAL","Medical Ward 3"]
["RJZ30-Medical Ward 4","RJZ","KING'S COLLEGE HOSPITAL NHS FOUNDATION TRUST","RJZ30","PRINCESS ROYAL UNIVERSITY HOSPITAL","Medical Ward 4"]
["RJZ30-Medical Ward 6","RJZ","KING'S COLLEGE HOSPITAL NHS FOUNDATION TRUST","RJZ30","PRINCESS ROYAL UNIVERSITY HOSPITAL","Medical Ward 6"]
["RJZ30-Medical Ward 7","RJZ","KING'S COLLEGE HOSPITAL NHS FOUNDATION TRUST","RJZ30","PRINCESS ROYAL UNIVERSITY HOSPITAL","Medical Ward 7"]
["RJZ30-Medical Ward 8","RJZ","KING'S COLLEGE HOSPITAL NHS FOUNDATION TRUST","RJZ30","PRINCESS ROYAL UNIVERSITY HOSPITAL","Medical Ward 8"]
["RJZ30-Medical Ward 9","RJZ","KING'S COLLEGE HOSPITAL NHS FOUNDATION TRUST","RJZ30","PRINCESS ROYAL UNIVERSITY HOSPITAL","Medical Ward 9"]
["RJZ30-PRUH-Coronary Care Unit","RJZ","KING'S COLLEGE HOSPITAL NHS FOUNDATION TRUST","RJZ30","PRINCESS ROYAL UNIVERSITY HOSPITAL","PRUH-Coronary Care Unit"]
["RJZ30-Special Care Baby Unit","RJZ","KING'S COLLEGE HOSPITAL NHS FOUNDATION TRUST","RJZ30","PRINCESS ROYAL UNIVERSITY HOSPITAL","Special Care Baby Unit"]
["RJZ30-Stroke Unit","RJZ","KING'S COLLEGE HOSPITAL NHS FOUNDATION TRUST","RJZ30","PRINCESS ROYAL UNIVERSITY HOSPITAL","Stroke Unit"]
["RJZ30-Surgical Ward 3","RJZ","KING'S COLLEGE HOSPITAL NHS FOUNDATION TRUST","RJZ30","PRINCESS ROYAL UNIVERSITY HOSPITAL","Surgical Ward 3"]
["RJZ30-Surgical Ward 4","RJZ","KING'S COLLEGE HOSPITAL NHS FOUNDATION TRUST","RJZ30","PRINCESS ROYAL UNIVERSITY HOSPITAL","Surgical Ward 4"]
["RJZ30-Surgical Ward 5","RJZ","KING'S COLLEGE HOSPITAL NHS FOUNDATION TRUST","RJZ30","PRINCESS ROYAL UNIVERSITY HOSPITAL","Surgical Ward 5"]
["RJZ30-Surgical Ward 6","RJZ","KING'S COLLEGE HOSPITAL NHS FOUNDATION TRUST","RJZ30","PRINCESS ROYAL UNIVERSITY HOSPITAL","Surgical Ward 6"]
["RJZ30-Surgical Ward 7","RJZ","KING'S COLLEGE HOSPITAL NHS FOUNDATION TRUST","RJZ30","PRINCESS ROYAL UNIVERSITY HOSPITAL","Surgical Ward 7"]
["RJZ30-Surgical Ward 8","RJZ","KING'S COLLEGE HOSPITAL NHS FOUNDATION TRUST","RJZ30","PRINCESS ROYAL UNIVERSITY HOSPITAL","Surgical Ward 8"]
["RJZ70-Boddington (ORP)","RJZ","KING'S COLLEGE HOSPITAL NHS FOUNDATION TRUST","RJZ70","ORPINGTON HOSPITAL","Boddington (ORP)"]
["RJZ70-Churchill (ORP)","RJZ","KING'S COLLEGE HOSPITAL NHS FOUNDATION TRUST","RJZ70","ORPINGTON HOSPITAL","Churchill (ORP)"]
[{"$f":"CONCATENATE(D2490,\"-\",F2490)","v":"RJZ70-Elizabeth (ORP)"},"RJZ","KING'S COLLEGE HOSPITAL NHS FOUNDATION TRUST","RJZ70","ORPINGTON HOSPITAL","Elizabeth (ORP)"]
["RJZ70-Frank Cooksey Ward (ORP)","RJZ","KING'S COLLEGE HOSPITAL NHS FOUNDATION TRUST","RJZ70","ORPINGTON HOSPITAL","Frank Cooksey Ward (ORP)"]
["RJZ70-Ontario 2b (ORP)","RJZ","KING'S COLLEGE HOSPITAL NHS FOUNDATION TRUST","RJZ70","ORPINGTON HOSPITAL","Ontario 2b (ORP)"]
["RK5BC-CCU","RK5","SHERWOOD FOREST HOSPITALS NHS FOUNDATION TRUST","RK5BC","KING'S MILL HOSPITAL","CCU"]
["RK5BC-EAU\n(Emergency Assessment Department)","RK5","SHERWOOD FOREST HOSPITALS NHS FOUNDATION TRUST","RK5BC","KING'S MILL HOSPITAL","EAU\n(Emergency Assessment Department)"]
["RK5BC-Maternity Inpatients","RK5","SHERWOOD FOREST HOSPITALS NHS FOUNDATION TRUST","RK5BC","KING'S MILL HOSPITAL","Maternity Inpatients"]
["RK5BC-NICU","RK5","SHERWOOD FOREST HOSPITALS NHS FOUNDATION TRUST","RK5BC","KING'S MILL HOSPITAL","NICU"]
["RK5BC-Overnight Day Case","RK5","SHERWOOD FOREST HOSPITALS NHS FOUNDATION TRUST","RK5BC","KING'S MILL HOSPITAL","Overnight Day Case"]
["RK5BC-SAU/Ward 11","RK5","SHERWOOD FOREST HOSPITALS NHS FOUNDATION TRUST","RK5BC","KING'S MILL HOSPITAL","SAU/Ward 11"]
["RK5BC-Stroke Unit","RK5","SHERWOOD FOREST HOSPITALS NHS FOUNDATION TRUST","RK5BC","KING'S MILL HOSPITAL","Stroke Unit"]
["RK5BC-Ward 12","RK5","SHERWOOD FOREST HOSPITALS NHS FOUNDATION TRUST","RK5BC","KING'S MILL HOSPITAL","Ward 12"]
["RK5BC-Ward 14","RK5","SHERWOOD FOREST HOSPITALS NHS FOUNDATION TRUST","RK5BC","KING'S MILL HOSPITAL","Ward 14"]
["RK5BC-Ward 21 - Orthopaedics","RK5","SHERWOOD FOREST HOSPITALS NHS FOUNDATION TRUST","RK5BC","KING'S MILL HOSPITAL","Ward 21 - Orthopaedics"]
["RK5BC-Ward 22","RK5","SHERWOOD FOREST HOSPITALS NHS FOUNDATION TRUST","RK5BC","KING'S MILL HOSPITAL","Ward 22"]
["RK5BC-Ward 23","RK5","SHERWOOD FOREST HOSPITALS NHS FOUNDATION TRUST","RK5BC","KING'S MILL HOSPITAL","Ward 23"]
["RK5BC-Ward 24","RK5","SHERWOOD FOREST HOSPITALS NHS FOUNDATION TRUST","RK5BC","KING'S MILL HOSPITAL","Ward 24"]
["RK5BC-Ward 25","RK5","SHERWOOD FOREST HOSPITALS NHS FOUNDATION TRUST","RK5BC","KING'S MILL HOSPITAL","Ward 25"]
["RK5BC-Ward 31","RK5","SHERWOOD FOREST HOSPITALS NHS FOUNDATION TRUST","RK5BC","KING'S MILL HOSPITAL","Ward 31"]
["RK5BC-Ward 32","RK5","SHERWOOD FOREST HOSPITALS NHS FOUNDATION TRUST","RK5BC","KING'S MILL HOSPITAL","Ward 32"]
["RK5BC-Ward 34","RK5","SHERWOOD FOREST HOSPITALS NHS FOUNDATION TRUST","RK5BC","KING'S MILL HOSPITAL","Ward 34"]
["RK5BC-Ward 36","RK5","SHERWOOD FOREST HOSPITALS NHS FOUNDATION TRUST","RK5BC","KING'S MILL HOSPITAL","Ward 36"]
["RK5BC-Ward 41","RK5","SHERWOOD FOREST HOSPITALS NHS FOUNDATION TRUST","RK5BC","KING'S MILL HOSPITAL","Ward 41"]
["RK5BC-Ward 42","RK5","SHERWOOD FOREST HOSPITALS NHS FOUNDATION TRUST","RK5BC","KING'S MILL HOSPITAL","Ward 42"]
["RK5BC-Ward 43","RK5","SHERWOOD FOREST HOSPITALS NHS FOUNDATION TRUST","RK5BC","KING'S MILL HOSPITAL","Ward 43"]
["RK5BC-Ward 44","RK5","SHERWOOD FOREST HOSPITALS NHS FOUNDATION TRUST","RK5BC","KING'S MILL HOSPITAL","Ward 44"]
["RK5BC-Ward 51","RK5","SHERWOOD FOREST HOSPITALS NHS FOUNDATION TRUST","RK5BC","KING'S MILL HOSPITAL","Ward 51"]
["RK5BC-Ward 52","RK5","SHERWOOD FOREST HOSPITALS NHS FOUNDATION TRUST","RK5BC","KING'S MILL HOSPITAL","Ward 52"]
["RK5BL-Lindhurst Ward","RK5","SHERWOOD FOREST HOSPITALS NHS FOUNDATION TRUST","RK5BL","MANSFIELD COMMUNITY HOSPITAL","Lindhurst Ward"]
["RK5BL-Oakham Ward","RK5","SHERWOOD FOREST HOSPITALS NHS FOUNDATION TRUST","RK5BL","MANSFIELD COMMUNITY HOSPITAL","Oakham Ward"]
["RK5HP-Fernwood","RK5","SHERWOOD FOREST HOSPITALS NHS FOUNDATION TRUST","RK5HP","NEWARK HOSPITAL","Fernwood"]
["RK5HP-Sconce Ward","RK5","SHERWOOD FOREST HOSPITALS NHS FOUNDATION TRUST","RK5HP","NEWARK HOSPITAL","Sconce Ward"]
["RK950-AMU Tavy","RK9","UNIVERSITY HOSPITALS PLYMOUTH NHS TRUST","RK950","DERRIFORD HOSPITAL","AMU Tavy"]
["RK950-AMU Thrushel","RK9","UNIVERSITY HOSPITALS PLYMOUTH NHS TRUST","RK950","DERRIFORD HOSPITAL","AMU Thrushel"]
["RK950-Bickleigh Ward","RK9","UNIVERSITY HOSPITALS PLYMOUTH NHS TRUST","RK950","DERRIFORD HOSPITAL","Bickleigh Ward"]
["RK950-Bracken Stem Cell Unit","RK9","UNIVERSITY HOSPITALS PLYMOUTH NHS TRUST","RK950","DERRIFORD HOSPITAL","Bracken Stem Cell Unit"]
["RK950-Braunton Ward","RK9","UNIVERSITY HOSPITALS PLYMOUTH NHS TRUST","RK950","DERRIFORD HOSPITAL","Braunton Ward"]
["RK950-Brent Ward","RK9","UNIVERSITY HOSPITALS PLYMOUTH NHS TRUST","RK950","DERRIFORD HOSPITAL","Brent Ward"]
["RK950-Burrator Ward","RK9","UNIVERSITY HOSPITALS PLYMOUTH NHS TRUST","RK950","DERRIFORD HOSPITAL","Burrator Ward"]
["RK950-Clearbrook Ward","RK9","UNIVERSITY HOSPITALS PLYMOUTH NHS TRUST","RK950","DERRIFORD HOSPITAL","Clearbrook Ward"]
["RK950-Crownhill Ward","RK9","UNIVERSITY HOSPITALS PLYMOUTH NHS TRUST","RK950","DERRIFORD HOSPITAL","Crownhill Ward"]
["RK950-Hartor Ward","RK9","UNIVERSITY HOSPITALS PLYMOUTH NHS TRUST","RK950","DERRIFORD HOSPITAL","Hartor Ward"]
["RK950-Hembury HCE Ward","RK9","UNIVERSITY HOSPITALS PLYMOUTH NHS TRUST","RK950","DERRIFORD HOSPITAL","Hembury HCE Ward"]
["RK950-Hexworthy Ward","RK9","UNIVERSITY HOSPITALS PLYMOUTH NHS TRUST","RK950","DERRIFORD HOSPITAL","Hexworthy Ward"]
["RK950-Honeyford Ward","RK9","UNIVERSITY HOSPITALS PLYMOUTH NHS TRUST","RK950","DERRIFORD HOSPITAL","Honeyford Ward"]
["RK950-Inpatient Midwifery","RK9","UNIVERSITY HOSPITALS PLYMOUTH NHS TRUST","RK950","DERRIFORD HOSPITAL","Inpatient Midwifery"]
["RK950-Lynher Ward","RK9","UNIVERSITY HOSPITALS PLYMOUTH NHS TRUST","RK950","DERRIFORD HOSPITAL","Lynher Ward"]
["RK950-Marlborough (Hound) Ward","RK9","UNIVERSITY HOSPITALS PLYMOUTH NHS TRUST","RK950","DERRIFORD HOSPITAL","Marlborough (Hound) Ward"]
["RK950-Mayflower Ward","RK9","UNIVERSITY HOSPITALS PLYMOUTH NHS TRUST","RK950","DERRIFORD HOSPITAL","Mayflower Ward"]
["RK950-Meavy Ward","RK9","UNIVERSITY HOSPITALS PLYMOUTH NHS TRUST","RK950","DERRIFORD HOSPITAL","Meavy Ward"]
["RK950-Meldon Diabetes Ward","RK9","UNIVERSITY HOSPITALS PLYMOUTH NHS TRUST","RK950","DERRIFORD HOSPITAL","Meldon Diabetes Ward"]
["RK950-Merivale ASU","RK9","UNIVERSITY HOSPITALS PLYMOUTH NHS TRUST","RK950","DERRIFORD HOSPITAL","Merivale ASU"]
["RK950-Monkswell Ward","RK9","UNIVERSITY HOSPITALS PLYMOUTH NHS TRUST","RK950","DERRIFORD HOSPITAL","Monkswell Ward"]
["RK950-Moorgate Ward","RK9","UNIVERSITY HOSPITALS PLYMOUTH NHS TRUST","RK950","DERRIFORD HOSPITAL","Moorgate Ward"]
["RK950-NICU 17 Cot","RK9","UNIVERSITY HOSPITALS PLYMOUTH NHS TRUST","RK950","DERRIFORD HOSPITAL","NICU 17 Cot"]
["RK950-Norfolk Ward","RK9","UNIVERSITY HOSPITALS PLYMOUTH NHS TRUST","RK950","DERRIFORD HOSPITAL","Norfolk Ward"]
["RK950-Paed HDU","RK9","UNIVERSITY HOSPITALS PLYMOUTH NHS TRUST","RK950","DERRIFORD HOSPITAL","Paed HDU"]
["RK950-Pencarrow Ward","RK9","UNIVERSITY HOSPITALS PLYMOUTH NHS TRUST","RK950","DERRIFORD HOSPITAL","Pencarrow Ward"]
["RK950-Penrose Ward","RK9","UNIVERSITY HOSPITALS PLYMOUTH NHS TRUST","RK950","DERRIFORD HOSPITAL","Penrose Ward"]
["RK950-Sharp Ward","RK9","UNIVERSITY HOSPITALS PLYMOUTH NHS TRUST","RK950","DERRIFORD HOSPITAL","Sharp Ward"]
["RK950-Shaugh Ward","RK9","UNIVERSITY HOSPITALS PLYMOUTH NHS TRUST","RK950","DERRIFORD HOSPITAL","Shaugh Ward"]
["RK950-Shipley Ward","RK9","UNIVERSITY HOSPITALS PLYMOUTH NHS TRUST","RK950","DERRIFORD HOSPITAL","Shipley Ward"]
["RK950-Stannon Ward","RK9","UNIVERSITY HOSPITALS PLYMOUTH NHS TRUST","RK950","DERRIFORD HOSPITAL","Stannon Ward"]
["RK950-Stonehouse Ward","RK9","UNIVERSITY HOSPITALS PLYMOUTH NHS TRUST","RK950","DERRIFORD HOSPITAL","Stonehouse Ward"]
["RK950-Surgical Assessment Unit","RK9","UNIVERSITY HOSPITALS PLYMOUTH NHS TRUST","RK950","DERRIFORD HOSPITAL","Surgical Assessment Unit"]
[{"$f":"CONCATENATE(D2554,\"-\",F2554)","v":"RK950-Tamar Ward"},"RK9","UNIVERSITY HOSPITALS PLYMOUTH NHS TRUST","RK950","DERRIFORD HOSPITAL","Tamar Ward"]
["RK950-Torcross CCU","RK9","UNIVERSITY HOSPITALS PLYMOUTH NHS TRUST","RK950","DERRIFORD HOSPITAL","Torcross CCU"]
["RK950-Torrington HDU","RK9","UNIVERSITY HOSPITALS PLYMOUTH NHS TRUST","RK950","DERRIFORD HOSPITAL","Torrington HDU"]
["RK950-Torrington ITU","RK9","UNIVERSITY HOSPITALS PLYMOUTH NHS TRUST","RK950","DERRIFORD HOSPITAL","Torrington ITU"]
["RK950-Whitehorse Ward","RK9","UNIVERSITY HOSPITALS PLYMOUTH NHS TRUST","RK950","DERRIFORD HOSPITAL","Whitehorse Ward"]
["RK950-Wildgoose Ward","RK9","UNIVERSITY HOSPITALS PLYMOUTH NHS TRUST","RK950","DERRIFORD HOSPITAL","Wildgoose Ward"]
["RK950-Wolf Ward","RK9","UNIVERSITY HOSPITALS PLYMOUTH NHS TRUST","RK950","DERRIFORD HOSPITAL","Wolf Ward"]
["RK950-Woodcock Ward","RK9","UNIVERSITY HOSPITALS PLYMOUTH NHS TRUST","RK950","DERRIFORD HOSPITAL","Woodcock Ward"]
["RKB01-AMU 1 (Ward 12)","RKB","UNIVERSITY HOSPITALS COVENTRY AND WARWICKSHIRE NHS TRUST","RKB01","UNIVERSITY HOSPITAL (COVENTRY)","AMU 1 (Ward 12)"]
["RKB01-AMU 2 (Ward 2)","RKB","UNIVERSITY HOSPITALS COVENTRY AND WARWICKSHIRE NHS TRUST","RKB01","UNIVERSITY HOSPITAL (COVENTRY)","AMU 2 (Ward 2)"]
["RKB01-AMU 3 (Ward 3)","RKB","UNIVERSITY HOSPITALS COVENTRY AND WARWICKSHIRE NHS TRUST","RKB01","UNIVERSITY HOSPITAL (COVENTRY)","AMU 3 (Ward 3)"]
["RKB01-Cardiothoracic ITU","RKB","UNIVERSITY HOSPITALS COVENTRY AND WARWICKSHIRE NHS TRUST","RKB01","UNIVERSITY HOSPITAL (COVENTRY)","Cardiothoracic ITU"]
["RKB01-Coronary Care Unit","RKB","UNIVERSITY HOSPITALS COVENTRY AND WARWICKSHIRE NHS TRUST","RKB01","UNIVERSITY HOSPITAL (COVENTRY)","Coronary Care Unit"]
["RKB01-Critical Care Unit","RKB","UNIVERSITY HOSPITALS COVENTRY AND WARWICKSHIRE NHS TRUST","RKB01","UNIVERSITY HOSPITAL (COVENTRY)","Critical Care Unit"]
["RKB01-Labour Ward","RKB","UNIVERSITY HOSPITALS COVENTRY AND WARWICKSHIRE NHS TRUST","RKB01","UNIVERSITY HOSPITAL (COVENTRY)","Labour Ward"]
["RKB01-NeoNatal Unit","RKB","UNIVERSITY HOSPITALS COVENTRY AND WARWICKSHIRE NHS TRUST","RKB01","UNIVERSITY HOSPITAL (COVENTRY)","NeoNatal Unit"]
["RKB01-Paediatric HDU","RKB","UNIVERSITY HOSPITALS COVENTRY AND WARWICKSHIRE NHS TRUST","RKB01","UNIVERSITY HOSPITAL (COVENTRY)","Paediatric HDU"]
["RKB01-Trauma Ward","RKB","UNIVERSITY HOSPITALS COVENTRY AND WARWICKSHIRE NHS TRUST","RKB01","UNIVERSITY HOSPITAL (COVENTRY)","Trauma Ward"]
["RKB01-Ward 1","RKB","UNIVERSITY HOSPITALS COVENTRY AND WARWICKSHIRE NHS TRUST","RKB01","UNIVERSITY HOSPITAL (COVENTRY)","Ward 1"]
["RKB01-Ward 10","RKB","UNIVERSITY HOSPITALS COVENTRY AND WARWICKSHIRE NHS TRUST","RKB01","UNIVERSITY HOSPITAL (COVENTRY)","Ward 10"]
["RKB01-Ward 11","RKB","UNIVERSITY HOSPITALS COVENTRY AND WARWICKSHIRE NHS TRUST","RKB01","UNIVERSITY HOSPITAL (COVENTRY)","Ward 11"]
["RKB01-Ward 12 - Obs","RKB","UNIVERSITY HOSPITALS COVENTRY AND WARWICKSHIRE NHS TRUST","RKB01","UNIVERSITY HOSPITAL (COVENTRY)","Ward 12 - Obs"]
["RKB01-Ward 14","RKB","UNIVERSITY HOSPITALS COVENTRY AND WARWICKSHIRE NHS TRUST","RKB01","UNIVERSITY HOSPITAL (COVENTRY)","Ward 14"]
["RKB01-Ward 15","RKB","UNIVERSITY HOSPITALS COVENTRY AND WARWICKSHIRE NHS TRUST","RKB01","UNIVERSITY HOSPITAL (COVENTRY)","Ward 15"]
["RKB01-Ward 16","RKB","UNIVERSITY HOSPITALS COVENTRY AND WARWICKSHIRE NHS TRUST","RKB01","UNIVERSITY HOSPITAL (COVENTRY)","Ward 16"]
["RKB01-Ward 20","RKB","UNIVERSITY HOSPITALS COVENTRY AND WARWICKSHIRE NHS TRUST","RKB01","UNIVERSITY HOSPITAL (COVENTRY)","Ward 20"]
["RKB01-Ward 21 Gastro","RKB","UNIVERSITY HOSPITALS COVENTRY AND WARWICKSHIRE NHS TRUST","RKB01","UNIVERSITY HOSPITAL (COVENTRY)","Ward 21 Gastro"]
["RKB01-Ward 21a Med","RKB","UNIVERSITY HOSPITALS COVENTRY AND WARWICKSHIRE NHS TRUST","RKB01","UNIVERSITY HOSPITAL (COVENTRY)","Ward 21a Med"]
["RKB01-Ward 22 ECU","RKB","UNIVERSITY HOSPITALS COVENTRY AND WARWICKSHIRE NHS TRUST","RKB01","UNIVERSITY HOSPITAL (COVENTRY)","Ward 22 ECU"]
["RKB01-Ward 22 SAU","RKB","UNIVERSITY HOSPITALS COVENTRY AND WARWICKSHIRE NHS TRUST","RKB01","UNIVERSITY HOSPITAL (COVENTRY)","Ward 22 SAU"]
["RKB01-Ward 22a Vas","RKB","UNIVERSITY HOSPITALS COVENTRY AND WARWICKSHIRE NHS TRUST","RKB01","UNIVERSITY HOSPITAL (COVENTRY)","Ward 22a Vas"]
["RKB01-Ward 23","RKB","UNIVERSITY HOSPITALS COVENTRY AND WARWICKSHIRE NHS TRUST","RKB01","UNIVERSITY HOSPITAL (COVENTRY)","Ward 23"]
["RKB01-Ward 24","RKB","UNIVERSITY HOSPITALS COVENTRY AND WARWICKSHIRE NHS TRUST","RKB01","UNIVERSITY HOSPITAL (COVENTRY)","Ward 24"]
["RKB01-Ward 25","RKB","UNIVERSITY HOSPITALS COVENTRY AND WARWICKSHIRE NHS TRUST","RKB01","UNIVERSITY HOSPITAL (COVENTRY)","Ward 25"]
["RKB01-Ward 30","RKB","UNIVERSITY HOSPITALS COVENTRY AND WARWICKSHIRE NHS TRUST","RKB01","UNIVERSITY HOSPITAL (COVENTRY)","Ward 30"]
["RKB01-Ward 31","RKB","UNIVERSITY HOSPITALS COVENTRY AND WARWICKSHIRE NHS TRUST","RKB01","UNIVERSITY HOSPITAL (COVENTRY)","Ward 31"]
["RKB01-Ward 32","RKB","UNIVERSITY HOSPITALS COVENTRY AND WARWICKSHIRE NHS TRUST","RKB01","UNIVERSITY HOSPITAL (COVENTRY)","Ward 32"]
["RKB01-Ward 33","RKB","UNIVERSITY HOSPITALS COVENTRY AND WARWICKSHIRE NHS TRUST","RKB01","UNIVERSITY HOSPITAL (COVENTRY)","Ward 33"]
["RKB01-Ward 33 Short Stay","RKB","UNIVERSITY HOSPITALS COVENTRY AND WARWICKSHIRE NHS TRUST","RKB01","UNIVERSITY HOSPITAL (COVENTRY)","Ward 33 Short Stay"]
["RKB01-Ward 33 Surgery","RKB","UNIVERSITY HOSPITALS COVENTRY AND WARWICKSHIRE NHS TRUST","RKB01","UNIVERSITY HOSPITAL (COVENTRY)","Ward 33 Surgery"]
["RKB01-Ward 34","RKB","UNIVERSITY HOSPITALS COVENTRY AND WARWICKSHIRE NHS TRUST","RKB01","UNIVERSITY HOSPITAL (COVENTRY)","Ward 34"]
["RKB01-Ward 35","RKB","UNIVERSITY HOSPITALS COVENTRY AND WARWICKSHIRE NHS TRUST","RKB01","UNIVERSITY HOSPITAL (COVENTRY)","Ward 35"]
["RKB01-Ward 40","RKB","UNIVERSITY HOSPITALS COVENTRY AND WARWICKSHIRE NHS TRUST","RKB01","UNIVERSITY HOSPITAL (COVENTRY)","Ward 40"]
["RKB01-Ward 41","RKB","UNIVERSITY HOSPITALS COVENTRY AND WARWICKSHIRE NHS TRUST","RKB01","UNIVERSITY HOSPITAL (COVENTRY)","Ward 41"]
["RKB01-Ward 42","RKB","UNIVERSITY HOSPITALS COVENTRY AND WARWICKSHIRE NHS TRUST","RKB01","UNIVERSITY HOSPITAL (COVENTRY)","Ward 42"]
["RKB01-Ward 43","RKB","UNIVERSITY HOSPITALS COVENTRY AND WARWICKSHIRE NHS TRUST","RKB01","UNIVERSITY HOSPITAL (COVENTRY)","Ward 43"]
["RKB01-Ward 50 Renal","RKB","UNIVERSITY HOSPITALS COVENTRY AND WARWICKSHIRE NHS TRUST","RKB01","UNIVERSITY HOSPITAL (COVENTRY)","Ward 50 Renal"]
["RKB01-Ward 52","RKB","UNIVERSITY HOSPITALS COVENTRY AND WARWICKSHIRE NHS TRUST","RKB01","UNIVERSITY HOSPITAL (COVENTRY)","Ward 52"]
["RKB01-Ward 53","RKB","UNIVERSITY HOSPITALS COVENTRY AND WARWICKSHIRE NHS TRUST","RKB01","UNIVERSITY HOSPITAL (COVENTRY)","Ward 53"]
["RKB03-Rugby Cedar Ward","RKB","UNIVERSITY HOSPITALS COVENTRY AND WARWICKSHIRE NHS TRUST","RKB03","HOSPITAL OF ST CROSS","Rugby Cedar Ward"]
["RKB03-Rugby Hoskyn Ward","RKB","UNIVERSITY HOSPITALS COVENTRY AND WARWICKSHIRE NHS TRUST","RKB03","HOSPITAL OF ST CROSS","Rugby Hoskyn Ward"]
["RKB03-Rugby Mulberry Ward","RKB","UNIVERSITY HOSPITALS COVENTRY AND WARWICKSHIRE NHS TRUST","RKB03","HOSPITAL OF ST CROSS","Rugby Mulberry Ward"]
["RKB03-Rugby Oak Ward","RKB","UNIVERSITY HOSPITALS COVENTRY AND WARWICKSHIRE NHS TRUST","RKB03","HOSPITAL OF ST CROSS","Rugby Oak Ward"]
["RKEQ4-Bridges rehab","RKE","WHITTINGTON HEALTH NHS TRUST","RKEQ4","THE WHITTINGTON HOSPITAL","Bridges rehab"]
["RKEQ4-Cavell","RKE","WHITTINGTON HEALTH NHS TRUST","RKEQ4","THE WHITTINGTON HOSPITAL","Cavell"]
["RKEQ4-Cloudesley","RKE","WHITTINGTON HEALTH NHS TRUST","RKEQ4","THE WHITTINGTON HOSPITAL","Cloudesley"]
["RKEQ4-Coyle","RKE","WHITTINGTON HEALTH NHS TRUST","RKEQ4","THE WHITTINGTON HOSPITAL","Coyle"]
["RKEQ4-IFOR","RKE","WHITTINGTON HEALTH NHS TRUST","RKEQ4","THE WHITTINGTON HOSPITAL","IFOR"]
["RKEQ4-ITU","RKE","WHITTINGTON HEALTH NHS TRUST","RKEQ4","THE WHITTINGTON HOSPITAL","ITU"]
["RKEQ4-Maternity","RKE","WHITTINGTON HEALTH NHS TRUST","RKEQ4","THE WHITTINGTON HOSPITAL","Maternity"]
["RKEQ4-Mercers","RKE","WHITTINGTON HEALTH NHS TRUST","RKEQ4","THE WHITTINGTON HOSPITAL","Mercers"]
["RKEQ4-Meyrick","RKE","WHITTINGTON HEALTH NHS TRUST","RKEQ4","THE WHITTINGTON HOSPITAL","Meyrick"]
["RKEQ4-Montuschi","RKE","WHITTINGTON HEALTH NHS TRUST","RKEQ4","THE WHITTINGTON HOSPITAL","Montuschi"]
["RKEQ4-MSN","RKE","WHITTINGTON HEALTH NHS TRUST","RKEQ4","THE WHITTINGTON HOSPITAL","MSN"]
[{"$f":"CONCATENATE(D2618,\"-\",F2618)","v":"RKEQ4-MSS"},"RKE","WHITTINGTON HEALTH NHS TRUST","RKEQ4","THE WHITTINGTON HOSPITAL","MSS"]
["RKEQ4-NICU","RKE","WHITTINGTON HEALTH NHS TRUST","RKEQ4","THE WHITTINGTON HOSPITAL","NICU"]
["RKEQ4-Nightingale","RKE","WHITTINGTON HEALTH NHS TRUST","RKEQ4","THE WHITTINGTON HOSPITAL","Nightingale"]
["RKEQ4-Thorogood","RKE","WHITTINGTON HEALTH NHS TRUST","RKEQ4","THE WHITTINGTON HOSPITAL","Thorogood"]
["RKEQ4-Victoria","RKE","WHITTINGTON HEALTH NHS TRUST","RKEQ4","THE WHITTINGTON HOSPITAL","Victoria"]
["RKL14-HOU FINCH WARD","RKL","WEST LONDON NHS TRUST","RKL14","LAKESIDE UNIT","HOU FINCH WARD"]
["RKL14-HOU GROSVENOR","RKL","WEST LONDON NHS TRUST","RKL14","LAKESIDE UNIT","HOU GROSVENOR"]
["RKL14-HOU KESTREL","RKL","WEST LONDON NHS TRUST","RKL14","LAKESIDE UNIT","HOU KESTREL"]
["RKL14-HOU KINGFISHER","RKL","WEST LONDON NHS TRUST","RKL14","LAKESIDE UNIT","HOU KINGFISHER"]
["RKL14-LSU GLYN","RKL","WEST LONDON NHS TRUST","RKL14","LAKESIDE UNIT","LSU GLYN"]
["RKL18-JASMIN","RKL","WEST LONDON NHS TRUST","RKL18","CLAYPONDS REHABILITATION HOSPITAL","JASMIN"]
["RKL18-MAGNOLIA","RKL","WEST LONDON NHS TRUST","RKL18","CLAYPONDS REHABILITATION HOSPITAL","MAGNOLIA"]
["RKL18-ROSEMARY","RKL","WEST LONDON NHS TRUST","RKL18","CLAYPONDS REHABILITATION HOSPITAL","ROSEMARY"]
["RKL19-MSU BERRY","RKL","WEST LONDON NHS TRUST","RKL19","THAMES LODGE","MSU BERRY"]
["RKL19-MSU BRENT","RKL","WEST LONDON NHS TRUST","RKL19","THAMES LODGE","MSU BRENT"]
["RKL19-MSU FALCON","RKL","WEST LONDON NHS TRUST","RKL19","THAMES LODGE","MSU FALCON"]
["RKL19-MSU LEA","RKL","WEST LONDON NHS TRUST","RKL19","THAMES LODGE","MSU LEA"]
["RKL19-MSU WINDRUSH","RKL","WEST LONDON NHS TRUST","RKL19","THAMES LODGE","MSU WINDRUSH"]
["RKL20-LSU PEARL","RKL","WEST LONDON NHS TRUST","RKL20","THE ORCHARD ","LSU PEARL"]
["RKL20-MSU AURORA","RKL","WEST LONDON NHS TRUST","RKL20","THE ORCHARD ","MSU AURORA"]
["RKL20-MSU DAMSON WARD","RKL","WEST LONDON NHS TRUST","RKL20","THE ORCHARD ","MSU DAMSON WARD"]
["RKL20-MSU GARNET","RKL","WEST LONDON NHS TRUST","RKL20","THE ORCHARD ","MSU GARNET"]
["RKL20-WEMSS MELROSE WARD","RKL","WEST LONDON NHS TRUST","RKL20","THE ORCHARD ","WEMSS MELROSE WARD"]
["RKL20-WEMSS PARKLAND","RKL","WEST LONDON NHS TRUST","RKL20","THE ORCHARD ","WEMSS PARKLAND"]
["RKL21-BUTLER HOUSE","RKL","WEST LONDON NHS TRUST","RKL21","BUTLER HOUSE","BUTLER HOUSE"]
["RKL22-LSU BARRON 1","RKL","WEST LONDON NHS TRUST","RKL22","LOCAL SECURE UNIT","LSU BARRON 1"]
["RKL22-LSU DERBY 1","RKL","WEST LONDON NHS TRUST","RKL22","LOCAL SECURE UNIT","LSU DERBY 1"]
["RKL22-LSU SOLARIS","RKL","WEST LONDON NHS TRUST","RKL22","LOCAL SECURE UNIT","LSU SOLARIS"]
["RKL22-LSU TENNYSON","RKL","WEST LONDON NHS TRUST","RKL22","LOCAL SECURE UNIT","LSU TENNYSON"]
["RKL48-CASSEL ESPD UNIT","RKL","WEST LONDON NHS TRUST","RKL48","CASSEL HOSPITAL","CASSEL ESPD UNIT"]
["RKL51-WLB ASCOT WARD","RKL","WEST LONDON NHS TRUST","RKL51","BROADMOOR HOSPITAL","WLB ASCOT WARD"]
["RKL51-WLB CANTERBURY","RKL","WEST LONDON NHS TRUST","RKL51","BROADMOOR HOSPITAL","WLB CANTERBURY"]
["RKL51-WLB CHEPSTOW","RKL","WEST LONDON NHS TRUST","RKL51","BROADMOOR HOSPITAL","WLB CHEPSTOW"]
["RKL51-WLB CRANFIELD WARD","RKL","WEST LONDON NHS TRUST","RKL51","BROADMOOR HOSPITAL","WLB CRANFIELD WARD"]
["RKL51-WLB DOVER","RKL","WEST LONDON NHS TRUST","RKL51","BROADMOOR HOSPITAL","WLB DOVER"]
["RKL51-WLB EPSOM","RKL","WEST LONDON NHS TRUST","RKL51","BROADMOOR HOSPITAL","WLB EPSOM"]
["RKL51-WLB FOLKESTONE","RKL","WEST LONDON NHS TRUST","RKL51","BROADMOOR HOSPITAL","WLB FOLKESTONE"]
["RKL51-WLB HARROGATE","RKL","WEST LONDON NHS TRUST","RKL51","BROADMOOR HOSPITAL","WLB HARROGATE"]
["RKL51-WLB LEEDS","RKL","WEST LONDON NHS TRUST","RKL51","BROADMOOR HOSPITAL","WLB LEEDS"]
["RKL51-WLB NEWMARKET","RKL","WEST LONDON NHS TRUST","RKL51","BROADMOOR HOSPITAL","WLB NEWMARKET"]
["RKL51-WLB PD KEMPTON","RKL","WEST LONDON NHS TRUST","RKL51","BROADMOOR HOSPITAL","WLB PD KEMPTON"]
["RKL51-WLB SANDHURST","RKL","WEST LONDON NHS TRUST","RKL51","BROADMOOR HOSPITAL","WLB SANDHURST"]
["RKL51-WLB SANDOWN","RKL","WEST LONDON NHS TRUST","RKL51","BROADMOOR HOSPITAL","WLB SANDOWN"]
["RKL51-WLB SHEFFIELD","RKL","WEST LONDON NHS TRUST","RKL51","BROADMOOR HOSPITAL","WLB SHEFFIELD"]
["RKL51-WLB WOBURN WARD","RKL","WEST LONDON NHS TRUST","RKL51","BROADMOOR HOSPITAL","WLB WOBURN WARD"]
["RKL62-LIMES NURSING HOME","RKL","WEST LONDON NHS TRUST","RKL62","THE LIMES","LIMES NURSING HOME"]
["RKL67-EALING HOPE FEMALE ASSESSMENT WARD","RKL","WEST LONDON NHS TRUST","RKL67","ST BERNARD'S WING","EALING HOPE FEMALE ASSESSMENT WARD"]
["RKL67-EALING HORIZON MALE ASSESSMENT WARD","RKL","WEST LONDON NHS TRUST","RKL67","ST BERNARD'S WING","EALING HORIZON MALE ASSESSMENT WARD"]
["RKL67-LSU MOTT","RKL","WEST LONDON NHS TRUST","RKL67","ST BERNARD'S WING","LSU MOTT"]
["RKL67-OPS JUBILEE WARD","RKL","WEST LONDON NHS TRUST","RKL67","ST BERNARD'S WING","OPS JUBILEE WARD"]
["RKL72-MSU BOURNE","RKL","WEST LONDON NHS TRUST","RKL72","MEDWAY LODGE","MSU BOURNE"]
["RKL72-MSU THE WELLS UNIT","RKL","WEST LONDON NHS TRUST","RKL72","MEDWAY LODGE","MSU THE WELLS UNIT"]
["RKL72-MSU WATERDOWN","RKL","WEST LONDON NHS TRUST","RKL72","MEDWAY LODGE","MSU WATERDOWN"]
["RKL79-H&F AVONMORE RECOVERY","RKL","WEST LONDON NHS TRUST","RKL79","HAMMERSMITH & FULHAM MENTAL HEALTH UNIT","H&F AVONMORE RECOVERY"]
["RKL79-H&F LILLIE ASSESSMENT","RKL","WEST LONDON NHS TRUST","RKL79","HAMMERSMITH & FULHAM MENTAL HEALTH UNIT","H&F LILLIE ASSESSMENT"]
["RKL79-H&F MERIDIAN OPS A","RKL","WEST LONDON NHS TRUST","RKL79","HAMMERSMITH & FULHAM MENTAL HEALTH UNIT","H&F MERIDIAN OPS A"]
["RKL79-H&F RAVENSCOURT A1","RKL","WEST LONDON NHS TRUST","RKL79","HAMMERSMITH & FULHAM MENTAL HEALTH UNIT","H&F RAVENSCOURT A1"]
["RKL79-HF ASKEW PICU WARD","RKL","WEST LONDON NHS TRUST","RKL79","HAMMERSMITH & FULHAM MENTAL HEALTH UNIT","HF ASKEW PICU WARD"]
["RL131-Alice","RL1","THE ROBERT JONES AND AGNES HUNT ORTHOPAEDIC HOSPITAL NHS FOUNDATION TRUST","RL131","ROBERT JONES AND AGNES HUNT ORTHOPAEDIC HOSPITAL","Alice"]
["RL131-Clwyd","RL1","THE ROBERT JONES AND AGNES HUNT ORTHOPAEDIC HOSPITAL NHS FOUNDATION TRUST","RL131","ROBERT JONES AND AGNES HUNT ORTHOPAEDIC HOSPITAL","Clwyd"]
["RL131-Gladstone","RL1","THE ROBERT JONES AND AGNES HUNT ORTHOPAEDIC HOSPITAL NHS FOUNDATION TRUST","RL131","ROBERT JONES AND AGNES HUNT ORTHOPAEDIC HOSPITAL","Gladstone"]
["RL131-HDU","RL1","THE ROBERT JONES AND AGNES HUNT ORTHOPAEDIC HOSPITAL NHS FOUNDATION TRUST","RL131","ROBERT JONES AND AGNES HUNT ORTHOPAEDIC HOSPITAL","HDU"]
["RL131-Kenyon","RL1","THE ROBERT JONES AND AGNES HUNT ORTHOPAEDIC HOSPITAL NHS FOUNDATION TRUST","RL131","ROBERT JONES AND AGNES HUNT ORTHOPAEDIC HOSPITAL","Kenyon"]
["RL131-Ludlow","RL1","THE ROBERT JONES AND AGNES HUNT ORTHOPAEDIC HOSPITAL NHS FOUNDATION TRUST","RL131","ROBERT JONES AND AGNES HUNT ORTHOPAEDIC HOSPITAL","Ludlow"]
[{"$f":"CONCATENATE(D2682,\"-\",F2682)","v":"RL131-Oswald"},"RL1","THE ROBERT JONES AND AGNES HUNT ORTHOPAEDIC HOSPITAL NHS FOUNDATION TRUST","RL131","ROBERT JONES AND AGNES HUNT ORTHOPAEDIC HOSPITAL","Oswald"]
["RL131-Powys","RL1","THE ROBERT JONES AND AGNES HUNT ORTHOPAEDIC HOSPITAL NHS FOUNDATION TRUST","RL131","ROBERT JONES AND AGNES HUNT ORTHOPAEDIC HOSPITAL","Powys"]
["RL131-Sheldon","RL1","THE ROBERT JONES AND AGNES HUNT ORTHOPAEDIC HOSPITAL NHS FOUNDATION TRUST","RL131","ROBERT JONES AND AGNES HUNT ORTHOPAEDIC HOSPITAL","Sheldon"]
["RL131-Wrekin","RL1","THE ROBERT JONES AND AGNES HUNT ORTHOPAEDIC HOSPITAL NHS FOUNDATION TRUST","RL131","ROBERT JONES AND AGNES HUNT ORTHOPAEDIC HOSPITAL","Wrekin"]
["RL403-A12","RL4","THE ROYAL WOLVERHAMPTON NHS TRUST","RL403","NEW CROSS HOSPITAL","A12"]
["RL403-A14","RL4","THE ROYAL WOLVERHAMPTON NHS TRUST","RL403","NEW CROSS HOSPITAL","A14"]
["RL403-A21","RL4","THE ROYAL WOLVERHAMPTON NHS TRUST","RL403","NEW CROSS HOSPITAL","A21"]
["RL403-A23","RL4","THE ROYAL WOLVERHAMPTON NHS TRUST","RL403","NEW CROSS HOSPITAL","A23"]
["RL403-A5","RL4","THE ROYAL WOLVERHAMPTON NHS TRUST","RL403","NEW CROSS HOSPITAL","A5"]
["RL403-A6","RL4","THE ROYAL WOLVERHAMPTON NHS TRUST","RL403","NEW CROSS HOSPITAL","A6"]
["RL403-A7","RL4","THE ROYAL WOLVERHAMPTON NHS TRUST","RL403","NEW CROSS HOSPITAL","A7"]
["RL403-A8","RL4","THE ROYAL WOLVERHAMPTON NHS TRUST","RL403","NEW CROSS HOSPITAL","A8"]
["RL403-A9","RL4","THE ROYAL WOLVERHAMPTON NHS TRUST","RL403","NEW CROSS HOSPITAL","A9"]
["RL403-AMU","RL4","THE ROYAL WOLVERHAMPTON NHS TRUST","RL403","NEW CROSS HOSPITAL","AMU"]
["RL403-ASU","RL4","THE ROYAL WOLVERHAMPTON NHS TRUST","RL403","NEW CROSS HOSPITAL","ASU"]
["RL403-B14","RL4","THE ROYAL WOLVERHAMPTON NHS TRUST","RL403","NEW CROSS HOSPITAL","B14"]
["RL403-B8","RL4","THE ROYAL WOLVERHAMPTON NHS TRUST","RL403","NEW CROSS HOSPITAL","B8"]
["RL403-Beynon short stay","RL4","THE ROYAL WOLVERHAMPTON NHS TRUST","RL403","NEW CROSS HOSPITAL","Beynon short stay"]
["RL403-C15","RL4","THE ROYAL WOLVERHAMPTON NHS TRUST","RL403","NEW CROSS HOSPITAL","C15"]
["RL403-C16","RL4","THE ROYAL WOLVERHAMPTON NHS TRUST","RL403","NEW CROSS HOSPITAL","C16"]
["RL403-C17","RL4","THE ROYAL WOLVERHAMPTON NHS TRUST","RL403","NEW CROSS HOSPITAL","C17"]
["RL403-C18","RL4","THE ROYAL WOLVERHAMPTON NHS TRUST","RL403","NEW CROSS HOSPITAL","C18"]
["RL403-C19","RL4","THE ROYAL WOLVERHAMPTON NHS TRUST","RL403","NEW CROSS HOSPITAL","C19"]
["RL403-C22","RL4","THE ROYAL WOLVERHAMPTON NHS TRUST","RL403","NEW CROSS HOSPITAL","C22"]
["RL403-C24","RL4","THE ROYAL WOLVERHAMPTON NHS TRUST","RL403","NEW CROSS HOSPITAL","C24"]
["RL403-C25","RL4","THE ROYAL WOLVERHAMPTON NHS TRUST","RL403","NEW CROSS HOSPITAL","C25"]
["RL403-C41","RL4","THE ROYAL WOLVERHAMPTON NHS TRUST","RL403","NEW CROSS HOSPITAL","C41"]
["RL403-CHU","RL4","THE ROYAL WOLVERHAMPTON NHS TRUST","RL403","NEW CROSS HOSPITAL","CHU"]
["RL403-D7","RL4","THE ROYAL WOLVERHAMPTON NHS TRUST","RL403","NEW CROSS HOSPITAL","D7"]
["RL403-Deanesly","RL4","THE ROYAL WOLVERHAMPTON NHS TRUST","RL403","NEW CROSS HOSPITAL","Deanesly"]
["RL403-ICCU","RL4","THE ROYAL WOLVERHAMPTON NHS TRUST","RL403","NEW CROSS HOSPITAL","ICCU"]
["RL403-Maternity ward","RL4","THE ROYAL WOLVERHAMPTON NHS TRUST","RL403","NEW CROSS HOSPITAL","Maternity ward"]
["RL403-Neonatal unit","RL4","THE ROYAL WOLVERHAMPTON NHS TRUST","RL403","NEW CROSS HOSPITAL","Neonatal unit"]
["RL403-NRU","RL4","THE ROYAL WOLVERHAMPTON NHS TRUST","RL403","NEW CROSS HOSPITAL","NRU"]
["RL4CD-Ward 1","RL4","THE ROYAL WOLVERHAMPTON NHS TRUST","RL4CD","WEST PARK HOSPITAL","Ward 1"]
["RL4CD-Ward 2","RL4","THE ROYAL WOLVERHAMPTON NHS TRUST","RL4CD","WEST PARK HOSPITAL","Ward 2"]
["RL4TC-Fairoak","RL4","THE ROYAL WOLVERHAMPTON NHS TRUST","RL4TC","CANNOCK CHASE HOSPITAL","Fairoak"]
["RL4TC-Hilton Main","RL4","THE ROYAL WOLVERHAMPTON NHS TRUST","RL4TC","CANNOCK CHASE HOSPITAL","Hilton Main"]
["RLQ01-Acute Medical Unit","RLQ","WYE VALLEY NHS TRUST","RLQ01","HEREFORD COUNTY HOSPITAL","Acute Medical Unit"]
["RLQ01-Arrow Ward","RLQ","WYE VALLEY NHS TRUST","RLQ01","HEREFORD COUNTY HOSPITAL","Arrow Ward"]
["RLQ01-Bromyard Community Hospital","RLQ","WYE VALLEY NHS TRUST","RLQ01","HEREFORD COUNTY HOSPITAL","Bromyard Community Hospital"]
["RLQ01-Cardiac Care Unit","RLQ","WYE VALLEY NHS TRUST","RLQ01","HEREFORD COUNTY HOSPITAL","Cardiac Care Unit"]
["RLQ01-Childrens Ward","RLQ","WYE VALLEY NHS TRUST","RLQ01","HEREFORD COUNTY HOSPITAL","Childrens Ward"]
["RLQ01-Frome Ward","RLQ","WYE VALLEY NHS TRUST","RLQ01","HEREFORD COUNTY HOSPITAL","Frome Ward"]
["RLQ01-Gilwern Assessment Unit","RLQ","WYE VALLEY NHS TRUST","RLQ01","HEREFORD COUNTY HOSPITAL","Gilwern Assessment Unit"]
["RLQ01-Intensive Care Unit","RLQ","WYE VALLEY NHS TRUST","RLQ01","HEREFORD COUNTY HOSPITAL","Intensive Care Unit"]
["RLQ01-Leadon Ward","RLQ","WYE VALLEY NHS TRUST","RLQ01","HEREFORD COUNTY HOSPITAL","Leadon Ward"]
["RLQ01-Leominster Community Hospital","RLQ","WYE VALLEY NHS TRUST","RLQ01","HEREFORD COUNTY HOSPITAL","Leominster Community Hospital"]
["RLQ01-Lugg Ward","RLQ","WYE VALLEY NHS TRUST","RLQ01","HEREFORD COUNTY HOSPITAL","Lugg Ward"]
["RLQ01-Maternity Ward","RLQ","WYE VALLEY NHS TRUST","RLQ01","HEREFORD COUNTY HOSPITAL","Maternity Ward"]
["RLQ01-Monnow Ward","RLQ","WYE VALLEY NHS TRUST","RLQ01","HEREFORD COUNTY HOSPITAL","Monnow Ward"]
["RLQ01-Redbrook Ward","RLQ","WYE VALLEY NHS TRUST","RLQ01","HEREFORD COUNTY HOSPITAL","Redbrook Ward"]
["RLQ01-Ross Community Hospital","RLQ","WYE VALLEY NHS TRUST","RLQ01","HEREFORD COUNTY HOSPITAL","Ross Community Hospital"]
["RLQ01-Special Baby Care Unit","RLQ","WYE VALLEY NHS TRUST","RLQ01","HEREFORD COUNTY HOSPITAL","Special Baby Care Unit"]
["RLQ01-Teme Ward","RLQ","WYE VALLEY NHS TRUST","RLQ01","HEREFORD COUNTY HOSPITAL","Teme Ward"]
["RLQ01-Womens Health","RLQ","WYE VALLEY NHS TRUST","RLQ01","HEREFORD COUNTY HOSPITAL","Womens Health"]
["RLQ01-Wye Ward","RLQ","WYE VALLEY NHS TRUST","RLQ01","HEREFORD COUNTY HOSPITAL","Wye Ward"]
["RLT01-Adam Bede","RLT","GEORGE ELIOT HOSPITAL NHS TRUST","RLT01","GEORGE ELIOT HOSPITAL - ACUTE SERVICES","Adam Bede"]
["RLT01-Alexandra","RLT","GEORGE ELIOT HOSPITAL NHS TRUST","RLT01","GEORGE ELIOT HOSPITAL - ACUTE SERVICES","Alexandra"]
["RLT01-AMU","RLT","GEORGE ELIOT HOSPITAL NHS TRUST","RLT01","GEORGE ELIOT HOSPITAL - ACUTE SERVICES","AMU"]
["RLT01-Bob Jakin","RLT","GEORGE ELIOT HOSPITAL NHS TRUST","RLT01","GEORGE ELIOT HOSPITAL - ACUTE SERVICES","Bob Jakin"]
["RLT01-CCU","RLT","GEORGE ELIOT HOSPITAL NHS TRUST","RLT01","GEORGE ELIOT HOSPITAL - ACUTE SERVICES","CCU"]
["RLT01-Delivery Suite","RLT","GEORGE ELIOT HOSPITAL NHS TRUST","RLT01","GEORGE ELIOT HOSPITAL - ACUTE SERVICES","Delivery Suite"]
["RLT01-Drayton Ward","RLT","GEORGE ELIOT HOSPITAL NHS TRUST","RLT01","GEORGE ELIOT HOSPITAL - ACUTE SERVICES","Drayton Ward"]
[{"$f":"CONCATENATE(D2746,\"-\",F2746)","v":"RLT01-Elizabeth"},"RLT","GEORGE ELIOT HOSPITAL NHS TRUST","RLT01","GEORGE ELIOT HOSPITAL - ACUTE SERVICES","Elizabeth"]
["RLT01-Felix","RLT","GEORGE ELIOT HOSPITAL NHS TRUST","RLT01","GEORGE ELIOT HOSPITAL - ACUTE SERVICES","Felix"]
["RLT01-ITU","RLT","GEORGE ELIOT HOSPITAL NHS TRUST","RLT01","GEORGE ELIOT HOSPITAL - ACUTE SERVICES","ITU"]
["RLT01-Mary Garth","RLT","GEORGE ELIOT HOSPITAL NHS TRUST","RLT01","GEORGE ELIOT HOSPITAL - ACUTE SERVICES","Mary Garth"]
["RLT01-Melly","RLT","GEORGE ELIOT HOSPITAL NHS TRUST","RLT01","GEORGE ELIOT HOSPITAL - ACUTE SERVICES","Melly"]
["RLT01-Nason","RLT","GEORGE ELIOT HOSPITAL NHS TRUST","RLT01","GEORGE ELIOT HOSPITAL - ACUTE SERVICES","Nason"]
["RLT01-Romola","RLT","GEORGE ELIOT HOSPITAL NHS TRUST","RLT01","GEORGE ELIOT HOSPITAL - ACUTE SERVICES","Romola"]
["RLT01-Victoria","RLT","GEORGE ELIOT HOSPITAL NHS TRUST","RLT01","GEORGE ELIOT HOSPITAL - ACUTE SERVICES","Victoria"]
["RLY39-Florence House","RLY","NORTH STAFFORDSHIRE COMBINED HEALTHCARE NHS TRUST","RLY39","FLORENCE HOUSE","Florence House"]
["RLY86-Darwin Centre","RLY","NORTH STAFFORDSHIRE COMBINED HEALTHCARE NHS TRUST","RLY86","DARWIN CENTRE","Darwin Centre"]
["RLY87-Summers View","RLY","NORTH STAFFORDSHIRE COMBINED HEALTHCARE NHS TRUST","RLY87","SUMMERS VIEW","Summers View"]
["RLY88-A&T","RLY","NORTH STAFFORDSHIRE COMBINED HEALTHCARE NHS TRUST","RLY88","HARPLANDS HOSPITAL","A&T"]
["RLY88-Edward Myers","RLY","NORTH STAFFORDSHIRE COMBINED HEALTHCARE NHS TRUST","RLY88","HARPLANDS HOSPITAL","Edward Myers"]
["RLY88-PICU","RLY","NORTH STAFFORDSHIRE COMBINED HEALTHCARE NHS TRUST","RLY88","HARPLANDS HOSPITAL","PICU"]
["RLY88-Ward 1","RLY","NORTH STAFFORDSHIRE COMBINED HEALTHCARE NHS TRUST","RLY88","HARPLANDS HOSPITAL","Ward 1"]
["RLY88-Ward 2","RLY","NORTH STAFFORDSHIRE COMBINED HEALTHCARE NHS TRUST","RLY88","HARPLANDS HOSPITAL","Ward 2"]
["RLY88-Ward 3","RLY","NORTH STAFFORDSHIRE COMBINED HEALTHCARE NHS TRUST","RLY88","HARPLANDS HOSPITAL","Ward 3"]
["RLY88-Ward 4","RLY","NORTH STAFFORDSHIRE COMBINED HEALTHCARE NHS TRUST","RLY88","HARPLANDS HOSPITAL","Ward 4"]
["RLY88-Ward 5","RLY","NORTH STAFFORDSHIRE COMBINED HEALTHCARE NHS TRUST","RLY88","HARPLANDS HOSPITAL","Ward 5"]
["RLY88-Ward 6","RLY","NORTH STAFFORDSHIRE COMBINED HEALTHCARE NHS TRUST","RLY88","HARPLANDS HOSPITAL","Ward 6"]
["RLY88-Ward 7","RLY","NORTH STAFFORDSHIRE COMBINED HEALTHCARE NHS TRUST","RLY88","HARPLANDS HOSPITAL","Ward 7"]
["RM102-AMU H","RM1","NORFOLK AND NORWICH UNIVERSITY HOSPITALS NHS FOUNDATION TRUST","RM102","NORFOLK AND NORWICH UNIVERSITY HOSPITAL","AMU H"]
["RM102-AMU K","RM1","NORFOLK AND NORWICH UNIVERSITY HOSPITALS NHS FOUNDATION TRUST","RM102","NORFOLK AND NORWICH UNIVERSITY HOSPITAL","AMU K"]
["RM102-Blakeney Ward","RM1","NORFOLK AND NORWICH UNIVERSITY HOSPITALS NHS FOUNDATION TRUST","RM102","NORFOLK AND NORWICH UNIVERSITY HOSPITAL","Blakeney Ward"]
["RM102-Brundall Ward","RM1","NORFOLK AND NORWICH UNIVERSITY HOSPITALS NHS FOUNDATION TRUST","RM102","NORFOLK AND NORWICH UNIVERSITY HOSPITAL","Brundall Ward"]
["RM102-Buxton Ward","RM1","NORFOLK AND NORWICH UNIVERSITY HOSPITALS NHS FOUNDATION TRUST","RM102","NORFOLK AND NORWICH UNIVERSITY HOSPITAL","Buxton Ward"]
["RM102-CCU","RM1","NORFOLK AND NORWICH UNIVERSITY HOSPITALS NHS FOUNDATION TRUST","RM102","NORFOLK AND NORWICH UNIVERSITY HOSPITAL","CCU"]
["RM102-Cley Gynaecology","RM1","NORFOLK AND NORWICH UNIVERSITY HOSPITALS NHS FOUNDATION TRUST","RM102","NORFOLK AND NORWICH UNIVERSITY HOSPITAL","Cley Gynaecology"]
["RM102-Cley Obstetrics","RM1","NORFOLK AND NORWICH UNIVERSITY HOSPITALS NHS FOUNDATION TRUST","RM102","NORFOLK AND NORWICH UNIVERSITY HOSPITAL","Cley Obstetrics"]
["RM102-Coltishall Ward","RM1","NORFOLK AND NORWICH UNIVERSITY HOSPITALS NHS FOUNDATION TRUST","RM102","NORFOLK AND NORWICH UNIVERSITY HOSPITAL","Coltishall Ward"]
["RM102-Cringleford Ward","RM1","NORFOLK AND NORWICH UNIVERSITY HOSPITALS NHS FOUNDATION TRUST","RM102","NORFOLK AND NORWICH UNIVERSITY HOSPITAL","Cringleford Ward"]
["RM102-Critical Care Complex","RM1","NORFOLK AND NORWICH UNIVERSITY HOSPITALS NHS FOUNDATION TRUST","RM102","NORFOLK AND NORWICH UNIVERSITY HOSPITAL","Critical Care Complex"]
["RM102-Delivery Suite","RM1","NORFOLK AND NORWICH UNIVERSITY HOSPITALS NHS FOUNDATION TRUST","RM102","NORFOLK AND NORWICH UNIVERSITY HOSPITAL","Delivery Suite"]
["RM102-Denton Ward","RM1","NORFOLK AND NORWICH UNIVERSITY HOSPITALS NHS FOUNDATION TRUST","RM102","NORFOLK AND NORWICH UNIVERSITY HOSPITAL","Denton Ward"]
["RM102-Dilham Ward","RM1","NORFOLK AND NORWICH UNIVERSITY HOSPITALS NHS FOUNDATION TRUST","RM102","NORFOLK AND NORWICH UNIVERSITY HOSPITAL","Dilham Ward"]
["RM102-Docking Ward","RM1","NORFOLK AND NORWICH UNIVERSITY HOSPITALS NHS FOUNDATION TRUST","RM102","NORFOLK AND NORWICH UNIVERSITY HOSPITAL","Docking Ward"]
["RM102-Dunston Ward","RM1","NORFOLK AND NORWICH UNIVERSITY HOSPITALS NHS FOUNDATION TRUST","RM102","NORFOLK AND NORWICH UNIVERSITY HOSPITAL","Dunston Ward"]
["RM102-Earsham Ward","RM1","NORFOLK AND NORWICH UNIVERSITY HOSPITALS NHS FOUNDATION TRUST","RM102","NORFOLK AND NORWICH UNIVERSITY HOSPITAL","Earsham Ward"]
["RM102-Easton Ward","RM1","NORFOLK AND NORWICH UNIVERSITY HOSPITALS NHS FOUNDATION TRUST","RM102","NORFOLK AND NORWICH UNIVERSITY HOSPITAL","Easton Ward"]
["RM102-Edgefield Ward","RM1","NORFOLK AND NORWICH UNIVERSITY HOSPITALS NHS FOUNDATION TRUST","RM102","NORFOLK AND NORWICH UNIVERSITY HOSPITAL","Edgefield Ward"]
["RM102-Elsing Ward","RM1","NORFOLK AND NORWICH UNIVERSITY HOSPITALS NHS FOUNDATION TRUST","RM102","NORFOLK AND NORWICH UNIVERSITY HOSPITAL","Elsing Ward"]
["RM102-Gateley Ward","RM1","NORFOLK AND NORWICH UNIVERSITY HOSPITALS NHS FOUNDATION TRUST","RM102","NORFOLK AND NORWICH UNIVERSITY HOSPITAL","Gateley Ward"]
["RM102-Guist Ward","RM1","NORFOLK AND NORWICH UNIVERSITY HOSPITALS NHS FOUNDATION TRUST","RM102","NORFOLK AND NORWICH UNIVERSITY HOSPITAL","Guist Ward"]
["RM102-Gunthorpe Ward","RM1","NORFOLK AND NORWICH UNIVERSITY HOSPITALS NHS FOUNDATION TRUST","RM102","NORFOLK AND NORWICH UNIVERSITY HOSPITAL","Gunthorpe Ward"]
["RM102-Hethel Ward","RM1","NORFOLK AND NORWICH UNIVERSITY HOSPITALS NHS FOUNDATION TRUST","RM102","NORFOLK AND NORWICH UNIVERSITY HOSPITAL","Hethel Ward"]
["RM102-Heydon Ward","RM1","NORFOLK AND NORWICH UNIVERSITY HOSPITALS NHS FOUNDATION TRUST","RM102","NORFOLK AND NORWICH UNIVERSITY HOSPITAL","Heydon Ward"]
["RM102-Kilverstone","RM1","NORFOLK AND NORWICH UNIVERSITY HOSPITALS NHS FOUNDATION TRUST","RM102","NORFOLK AND NORWICH UNIVERSITY HOSPITAL","Kilverstone"]
["RM102-Kimberley Ward","RM1","NORFOLK AND NORWICH UNIVERSITY HOSPITALS NHS FOUNDATION TRUST","RM102","NORFOLK AND NORWICH UNIVERSITY HOSPITAL","Kimberley Ward"]
["RM102-Langley Ward","RM1","NORFOLK AND NORWICH UNIVERSITY HOSPITALS NHS FOUNDATION TRUST","RM102","NORFOLK AND NORWICH UNIVERSITY HOSPITAL","Langley Ward"]
["RM102-Loddon Ward","RM1","NORFOLK AND NORWICH UNIVERSITY HOSPITALS NHS FOUNDATION TRUST","RM102","NORFOLK AND NORWICH UNIVERSITY HOSPITAL","Loddon Ward"]
["RM102-Mattishall Ward","RM1","NORFOLK AND NORWICH UNIVERSITY HOSPITALS NHS FOUNDATION TRUST","RM102","NORFOLK AND NORWICH UNIVERSITY HOSPITAL","Mattishall Ward"]
["RM102-MLBU","RM1","NORFOLK AND NORWICH UNIVERSITY HOSPITALS NHS FOUNDATION TRUST","RM102","NORFOLK AND NORWICH UNIVERSITY HOSPITAL","MLBU"]
["RM102-Mulbarton Ward","RM1","NORFOLK AND NORWICH UNIVERSITY HOSPITALS NHS FOUNDATION TRUST","RM102","NORFOLK AND NORWICH UNIVERSITY HOSPITAL","Mulbarton Ward"]
["RM102-NICU","RM1","NORFOLK AND NORWICH UNIVERSITY HOSPITALS NHS FOUNDATION TRUST","RM102","NORFOLK AND NORWICH UNIVERSITY HOSPITAL","NICU"]
["RM301-ANU","RM3","SALFORD ROYAL NHS FOUNDATION TRUST","RM301","SALFORD ROYAL","ANU"]
["RM301-ASU","RM3","SALFORD ROYAL NHS FOUNDATION TRUST","RM301","SALFORD ROYAL","ASU"]
["RM301-B5","RM3","SALFORD ROYAL NHS FOUNDATION TRUST","RM301","SALFORD ROYAL","B5"]
["RM301-B6","RM3","SALFORD ROYAL NHS FOUNDATION TRUST","RM301","SALFORD ROYAL","B6"]
["RM301-B7","RM3","SALFORD ROYAL NHS FOUNDATION TRUST","RM301","SALFORD ROYAL","B7"]
["RM301-B8","RM3","SALFORD ROYAL NHS FOUNDATION TRUST","RM301","SALFORD ROYAL","B8"]
["RM301-C2","RM3","SALFORD ROYAL NHS FOUNDATION TRUST","RM301","SALFORD ROYAL","C2"]
["RM301-CCU","RM3","SALFORD ROYAL NHS FOUNDATION TRUST","RM301","SALFORD ROYAL","CCU"]
["RM301-EAU","RM3","SALFORD ROYAL NHS FOUNDATION TRUST","RM301","SALFORD ROYAL","EAU"]
["RM301-HAEM","RM3","SALFORD ROYAL NHS FOUNDATION TRUST","RM301","SALFORD ROYAL","HAEM"]
[{"$f":"CONCATENATE(D2810,\"-\",F2810)","v":"RM301-HASU"},"RM3","SALFORD ROYAL NHS FOUNDATION TRUST","RM301","SALFORD ROYAL","HASU"]
["RM301-HB1","RM3","SALFORD ROYAL NHS FOUNDATION TRUST","RM301","SALFORD ROYAL","HB1"]
["RM301-HB2","RM3","SALFORD ROYAL NHS FOUNDATION TRUST","RM301","SALFORD ROYAL","HB2"]
["RM301-HCU","RM3","SALFORD ROYAL NHS FOUNDATION TRUST","RM301","SALFORD ROYAL","HCU"]
["RM301-HH1M","RM3","SALFORD ROYAL NHS FOUNDATION TRUST","RM301","SALFORD ROYAL","HH1M"]
["RM301-HH2","RM3","SALFORD ROYAL NHS FOUNDATION TRUST","RM301","SALFORD ROYAL","HH2"]
["RM301-HH3","RM3","SALFORD ROYAL NHS FOUNDATION TRUST","RM301","SALFORD ROYAL","HH3"]
["RM301-HH4","RM3","SALFORD ROYAL NHS FOUNDATION TRUST","RM301","SALFORD ROYAL","HH4"]
["RM301-HH5","RM3","SALFORD ROYAL NHS FOUNDATION TRUST","RM301","SALFORD ROYAL","HH5"]
["RM301-HH6","RM3","SALFORD ROYAL NHS FOUNDATION TRUST","RM301","SALFORD ROYAL","HH6"]
["RM301-HH7","RM3","SALFORD ROYAL NHS FOUNDATION TRUST","RM301","SALFORD ROYAL","HH7"]
["RM301-HH8","RM3","SALFORD ROYAL NHS FOUNDATION TRUST","RM301","SALFORD ROYAL","HH8"]
["RM301-L1","RM3","SALFORD ROYAL NHS FOUNDATION TRUST","RM301","SALFORD ROYAL","L1"]
["RM301-L2","RM3","SALFORD ROYAL NHS FOUNDATION TRUST","RM301","SALFORD ROYAL","L2"]
["RM301-L3","RM3","SALFORD ROYAL NHS FOUNDATION TRUST","RM301","SALFORD ROYAL","L3"]
["RM301-L4","RM3","SALFORD ROYAL NHS FOUNDATION TRUST","RM301","SALFORD ROYAL","L4"]
["RM301-L5","RM3","SALFORD ROYAL NHS FOUNDATION TRUST","RM301","SALFORD ROYAL","L5"]
["RM301-L6","RM3","SALFORD ROYAL NHS FOUNDATION TRUST","RM301","SALFORD ROYAL","L6"]
["RM301-M2","RM3","SALFORD ROYAL NHS FOUNDATION TRUST","RM301","SALFORD ROYAL","M2"]
["RM301-M2SS","RM3","SALFORD ROYAL NHS FOUNDATION TRUST","RM301","SALFORD ROYAL","M2SS"]
["RM301-M3","RM3","SALFORD ROYAL NHS FOUNDATION TRUST","RM301","SALFORD ROYAL","M3"]
["RM301-MAPL","RM3","SALFORD ROYAL NHS FOUNDATION TRUST","RM301","SALFORD ROYAL","MAPL"]
["RM301-NSSU","RM3","SALFORD ROYAL NHS FOUNDATION TRUST","RM301","SALFORD ROYAL","NSSU"]
["RM301-SRU","RM3","SALFORD ROYAL NHS FOUNDATION TRUST","RM301","SALFORD ROYAL","SRU"]
["RM301-STU","RM3","SALFORD ROYAL NHS FOUNDATION TRUST","RM301","SALFORD ROYAL","STU"]
["RMC01-Acute Frailty Unit - B1","RMC","BOLTON NHS FOUNDATION TRUST","RMC01","ROYAL BOLTON HOSPITAL","Acute Frailty Unit - B1"]
["RMC01-Birth Suite","RMC","BOLTON NHS FOUNDATION TRUST","RMC01","ROYAL BOLTON HOSPITAL","Birth Suite"]
["RMC01-Central Delivery Suite","RMC","BOLTON NHS FOUNDATION TRUST","RMC01","ROYAL BOLTON HOSPITAL","Central Delivery Suite"]
["RMC01-Coronary Care Unit","RMC","BOLTON NHS FOUNDATION TRUST","RMC01","ROYAL BOLTON HOSPITAL","Coronary Care Unit"]
["RMC01-High Dependancy Unit","RMC","BOLTON NHS FOUNDATION TRUST","RMC01","ROYAL BOLTON HOSPITAL","High Dependancy Unit"]
["RMC01-Intensive Care Unit","RMC","BOLTON NHS FOUNDATION TRUST","RMC01","ROYAL BOLTON HOSPITAL","Intensive Care Unit"]
["RMC01-Neonatal Unit","RMC","BOLTON NHS FOUNDATION TRUST","RMC01","ROYAL BOLTON HOSPITAL","Neonatal Unit"]
["RMC01-Ward A4","RMC","BOLTON NHS FOUNDATION TRUST","RMC01","ROYAL BOLTON HOSPITAL","Ward A4"]
["RMC01-Ward B3 - Bluebell Unit","RMC","BOLTON NHS FOUNDATION TRUST","RMC01","ROYAL BOLTON HOSPITAL","Ward B3 - Bluebell Unit"]
["RMC01-Ward C1","RMC","BOLTON NHS FOUNDATION TRUST","RMC01","ROYAL BOLTON HOSPITAL","Ward C1"]
["RMC01-Ward C2","RMC","BOLTON NHS FOUNDATION TRUST","RMC01","ROYAL BOLTON HOSPITAL","Ward C2"]
["RMC01-Ward C3","RMC","BOLTON NHS FOUNDATION TRUST","RMC01","ROYAL BOLTON HOSPITAL","Ward C3"]
["RMC01-Ward C4","RMC","BOLTON NHS FOUNDATION TRUST","RMC01","ROYAL BOLTON HOSPITAL","Ward C4"]
["RMC01-Ward D3","RMC","BOLTON NHS FOUNDATION TRUST","RMC01","ROYAL BOLTON HOSPITAL","Ward D3"]
["RMC01-Ward D4","RMC","BOLTON NHS FOUNDATION TRUST","RMC01","ROYAL BOLTON HOSPITAL","Ward D4"]
["RMC01-Ward E3","RMC","BOLTON NHS FOUNDATION TRUST","RMC01","ROYAL BOLTON HOSPITAL","Ward E3"]
["RMC01-Ward E4","RMC","BOLTON NHS FOUNDATION TRUST","RMC01","ROYAL BOLTON HOSPITAL","Ward E4"]
["RMC01-Ward E5","RMC","BOLTON NHS FOUNDATION TRUST","RMC01","ROYAL BOLTON HOSPITAL","Ward E5"]
["RMC01-Ward F4","RMC","BOLTON NHS FOUNDATION TRUST","RMC01","ROYAL BOLTON HOSPITAL","Ward F4"]
["RMC01-Ward G3","RMC","BOLTON NHS FOUNDATION TRUST","RMC01","ROYAL BOLTON HOSPITAL","Ward G3"]
["RMC01-Ward G4","RMC","BOLTON NHS FOUNDATION TRUST","RMC01","ROYAL BOLTON HOSPITAL","Ward G4"]
["RMC01-Ward G5","RMC","BOLTON NHS FOUNDATION TRUST","RMC01","ROYAL BOLTON HOSPITAL","Ward G5"]
["RMC01-Ward H3","RMC","BOLTON NHS FOUNDATION TRUST","RMC01","ROYAL BOLTON HOSPITAL","Ward H3"]
["RMC01-Ward M1","RMC","BOLTON NHS FOUNDATION TRUST","RMC01","ROYAL BOLTON HOSPITAL","Ward M1"]
["RMC01-Ward M2 - Obstetrics","RMC","BOLTON NHS FOUNDATION TRUST","RMC01","ROYAL BOLTON HOSPITAL","Ward M2 - Obstetrics"]
["RMC01-Ward M4/M5 Post Natal","RMC","BOLTON NHS FOUNDATION TRUST","RMC01","ROYAL BOLTON HOSPITAL","Ward M4/M5 Post Natal"]
["RMP01-Acute Cardiology Unit","RMP","TAMESIDE AND GLOSSOP INTEGRATED CARE NHS FOUNDATION TRUST","RMP01","TAMESIDE GENERAL HOSPITAL","Acute Cardiology Unit"]
["RMP01-Acute Medical Unit","RMP","TAMESIDE AND GLOSSOP INTEGRATED CARE NHS FOUNDATION TRUST","RMP01","TAMESIDE GENERAL HOSPITAL","Acute Medical Unit"]
["RMP01-Childrens Unit","RMP","TAMESIDE AND GLOSSOP INTEGRATED CARE NHS FOUNDATION TRUST","RMP01","TAMESIDE GENERAL HOSPITAL","Childrens Unit"]
["RMP01-Critical Care Unit","RMP","TAMESIDE AND GLOSSOP INTEGRATED CARE NHS FOUNDATION TRUST","RMP01","TAMESIDE GENERAL HOSPITAL","Critical Care Unit"]
["RMP01-Emergency Orthopaedic Unit","RMP","TAMESIDE AND GLOSSOP INTEGRATED CARE NHS FOUNDATION TRUST","RMP01","TAMESIDE GENERAL HOSPITAL","Emergency Orthopaedic Unit"]
["RMP01-Heart Care Unit","RMP","TAMESIDE AND GLOSSOP INTEGRATED CARE NHS FOUNDATION TRUST","RMP01","TAMESIDE GENERAL HOSPITAL","Heart Care Unit"]
["RMP01-Integrated Surgical Gynaecology Unit","RMP","TAMESIDE AND GLOSSOP INTEGRATED CARE NHS FOUNDATION TRUST","RMP01","TAMESIDE GENERAL HOSPITAL","Integrated Surgical Gynaecology Unit"]
["RMP01-Neonatal Intensive Care Unit","RMP","TAMESIDE AND GLOSSOP INTEGRATED CARE NHS FOUNDATION TRUST","RMP01","TAMESIDE GENERAL HOSPITAL","Neonatal Intensive Care Unit"]
["RMP01-Planned Orthopaedic Unit","RMP","TAMESIDE AND GLOSSOP INTEGRATED CARE NHS FOUNDATION TRUST","RMP01","TAMESIDE GENERAL HOSPITAL","Planned Orthopaedic Unit"]
["RMP01-Stamford Unit 1st Floor","RMP","TAMESIDE AND GLOSSOP INTEGRATED CARE NHS FOUNDATION TRUST","RMP01","TAMESIDE GENERAL HOSPITAL","Stamford Unit 1st Floor"]
["RMP01-Stamford Unit 2nd Floor","RMP","TAMESIDE AND GLOSSOP INTEGRATED CARE NHS FOUNDATION TRUST","RMP01","TAMESIDE GENERAL HOSPITAL","Stamford Unit 2nd Floor"]
["RMP01-Stamford Unit Ground Floor","RMP","TAMESIDE AND GLOSSOP INTEGRATED CARE NHS FOUNDATION TRUST","RMP01","TAMESIDE GENERAL HOSPITAL","Stamford Unit Ground Floor"]
["RMP01-Ward 27 Maternity","RMP","TAMESIDE AND GLOSSOP INTEGRATED CARE NHS FOUNDATION TRUST","RMP01","TAMESIDE GENERAL HOSPITAL","Ward 27 Maternity"]
[{"$f":"CONCATENATE(D2874,\"-\",F2874)","v":"RMP01-Ward 31 Adult Medicine"},"RMP","TAMESIDE AND GLOSSOP INTEGRATED CARE NHS FOUNDATION TRUST","RMP01","TAMESIDE GENERAL HOSPITAL","Ward 31 Adult Medicine"]
["RMP01-Ward 40 Adult Medicine","RMP","TAMESIDE AND GLOSSOP INTEGRATED CARE NHS FOUNDATION TRUST","RMP01","TAMESIDE GENERAL HOSPITAL","Ward 40 Adult Medicine"]
["RMP01-Ward 41 Adult Medicine","RMP","TAMESIDE AND GLOSSOP INTEGRATED CARE NHS FOUNDATION TRUST","RMP01","TAMESIDE GENERAL HOSPITAL","Ward 41 Adult Medicine"]
["RMP01-Ward 42 Adult Medicine","RMP","TAMESIDE AND GLOSSOP INTEGRATED CARE NHS FOUNDATION TRUST","RMP01","TAMESIDE GENERAL HOSPITAL","Ward 42 Adult Medicine"]
["RMP01-Ward 44 Adult Medicine","RMP","TAMESIDE AND GLOSSOP INTEGRATED CARE NHS FOUNDATION TRUST","RMP01","TAMESIDE GENERAL HOSPITAL","Ward 44 Adult Medicine"]
["RMP01-Ward 45 Adult Medicine and Stroke Support","RMP","TAMESIDE AND GLOSSOP INTEGRATED CARE NHS FOUNDATION TRUST","RMP01","TAMESIDE GENERAL HOSPITAL","Ward 45 Adult Medicine and Stroke Support"]
["RMP01-Ward 46 Adult Medicine","RMP","TAMESIDE AND GLOSSOP INTEGRATED CARE NHS FOUNDATION TRUST","RMP01","TAMESIDE GENERAL HOSPITAL","Ward 46 Adult Medicine"]
["RMY01-Glaven Ward","RMY","NORFOLK AND SUFFOLK NHS FOUNDATION TRUST","RMY01","HELLESDON HOSPITAL","Glaven Ward"]
["RMY01-Kingfisher Mother and Baby Unit","RMY","NORFOLK AND SUFFOLK NHS FOUNDATION TRUST","RMY01","HELLESDON HOSPITAL","Kingfisher Mother and Baby Unit"]
["RMY01-Rollesby Ward","RMY","NORFOLK AND SUFFOLK NHS FOUNDATION TRUST","RMY01","HELLESDON HOSPITAL","Rollesby Ward"]
["RMY01-Thurne Ward","RMY","NORFOLK AND SUFFOLK NHS FOUNDATION TRUST","RMY01","HELLESDON HOSPITAL","Thurne Ward"]
["RMY01-Waveney Ward","RMY","NORFOLK AND SUFFOLK NHS FOUNDATION TRUST","RMY01","HELLESDON HOSPITAL","Waveney Ward"]
["RMY01-Whitlingham Ward","RMY","NORFOLK AND SUFFOLK NHS FOUNDATION TRUST","RMY01","HELLESDON HOSPITAL","Whitlingham Ward"]
["RMY02-Beach Ward","RMY","NORFOLK AND SUFFOLK NHS FOUNDATION TRUST","RMY02","JULIAN HOSPITAL","Beach Ward"]
["RMY02-Reed Ward","RMY","NORFOLK AND SUFFOLK NHS FOUNDATION TRUST","RMY02","JULIAN HOSPITAL","Reed Ward"]
["RMY02-Rose Ward","RMY","NORFOLK AND SUFFOLK NHS FOUNDATION TRUST","RMY02","JULIAN HOSPITAL","Rose Ward"]
["RMY02-Sandringham Ward","RMY","NORFOLK AND SUFFOLK NHS FOUNDATION TRUST","RMY02","JULIAN HOSPITAL","Sandringham Ward"]
["RMY03-Great Yarmouth Acute Services","RMY","NORFOLK AND SUFFOLK NHS FOUNDATION TRUST","RMY03","NORTHGATE HOSPITAL","Great Yarmouth Acute Services"]
["RMY04-Blakeney Ward","RMY","NORFOLK AND SUFFOLK NHS FOUNDATION TRUST","RMY04","NORTHSIDE HOUSE","Blakeney Ward"]
["RMY04-Catton Ward","RMY","NORFOLK AND SUFFOLK NHS FOUNDATION TRUST","RMY04","NORTHSIDE HOUSE","Catton Ward"]
["RMY04-Drayton Ward","RMY","NORFOLK AND SUFFOLK NHS FOUNDATION TRUST","RMY04","NORTHSIDE HOUSE","Drayton Ward"]
["RMY13-Dragonfly Unit","RMY","NORFOLK AND SUFFOLK NHS FOUNDATION TRUST","RMY13","CARLTON COURT","Dragonfly Unit"]
["RMY13-Laurel Ward","RMY","NORFOLK AND SUFFOLK NHS FOUNDATION TRUST","RMY13","CARLTON COURT","Laurel Ward"]
["RMYMV-Foxhall House","RMY","NORFOLK AND SUFFOLK NHS FOUNDATION TRUST","RMYMV","ST CLEMENTS HOSPITAL","Foxhall House"]
["RMYMW-Walker Close","RMY","NORFOLK AND SUFFOLK NHS FOUNDATION TRUST","RMYMW","IP3 8LY","Walker Close"]
["RMYNG-Avocet Ward","RMY","NORFOLK AND SUFFOLK NHS FOUNDATION TRUST","RMYNG","WOODLANDS, IPSWICH HOSPITAL","Avocet Ward"]
["RMYNG-Lark Ward","RMY","NORFOLK AND SUFFOLK NHS FOUNDATION TRUST","RMYNG","WOODLANDS, IPSWICH HOSPITAL","Lark Ward"]
["RMYNG-Poppy Ward","RMY","NORFOLK AND SUFFOLK NHS FOUNDATION TRUST","RMYNG","WOODLANDS, IPSWICH HOSPITAL","Poppy Ward"]
["RMYNG-Willow Ward","RMY","NORFOLK AND SUFFOLK NHS FOUNDATION TRUST","RMYNG","WOODLANDS, IPSWICH HOSPITAL","Willow Ward"]
["RMYNR-Abbeygate Ward","RMY","NORFOLK AND SUFFOLK NHS FOUNDATION TRUST","RMYNR","WEDGEWOOD HOUSE, WEST SUFFOLK HOSPITAL","Abbeygate Ward"]
["RMYNR-Northgate Ward","RMY","NORFOLK AND SUFFOLK NHS FOUNDATION TRUST","RMYNR","WEDGEWOOD HOUSE, WEST SUFFOLK HOSPITAL","Northgate Ward"]
["RMYNR-Southgate Ward","RMY","NORFOLK AND SUFFOLK NHS FOUNDATION TRUST","RMYNR","WEDGEWOOD HOUSE, WEST SUFFOLK HOSPITAL","Southgate Ward"]
["RMYPX-Suffolk Rehabilitation and Recovery Service","RMY","NORFOLK AND SUFFOLK NHS FOUNDATION TRUST","RMYPX","CHILTON HOUSES","Suffolk Rehabilitation and Recovery Service"]
["RMYWA-Samphire Ward","RMY","NORFOLK AND SUFFOLK NHS FOUNDATION TRUST","RMYWA","QUEEN ELIZABETH HOSPITAL","Samphire Ward"]
["RN325-ACU","RN3","GREAT WESTERN HOSPITALS NHS FOUNDATION TRUST","RN325","THE GREAT WESTERN HOSPITAL","ACU"]
["RN325-Aldbourne","RN3","GREAT WESTERN HOSPITALS NHS FOUNDATION TRUST","RN325","THE GREAT WESTERN HOSPITAL","Aldbourne"]
["RN325-Ampney","RN3","GREAT WESTERN HOSPITALS NHS FOUNDATION TRUST","RN325","THE GREAT WESTERN HOSPITAL","Ampney"]
["RN325-Beech & EPU","RN3","GREAT WESTERN HOSPITALS NHS FOUNDATION TRUST","RN325","THE GREAT WESTERN HOSPITAL","Beech & EPU"]
["RN325-Childrens","RN3","GREAT WESTERN HOSPITALS NHS FOUNDATION TRUST","RN325","THE GREAT WESTERN HOSPITAL","Childrens"]
["RN325-Dove","RN3","GREAT WESTERN HOSPITALS NHS FOUNDATION TRUST","RN325","THE GREAT WESTERN HOSPITAL","Dove"]
["RN325-Falcon","RN3","GREAT WESTERN HOSPITALS NHS FOUNDATION TRUST","RN325","THE GREAT WESTERN HOSPITAL","Falcon"]
["RN325-Forest Ward SWICC","RN3","GREAT WESTERN HOSPITALS NHS FOUNDATION TRUST","RN325","THE GREAT WESTERN HOSPITAL","Forest Ward SWICC"]
["RN325-Hazel & Delivery","RN3","GREAT WESTERN HOSPITALS NHS FOUNDATION TRUST","RN325","THE GREAT WESTERN HOSPITAL","Hazel & Delivery"]
["RN325-ITU","RN3","GREAT WESTERN HOSPITALS NHS FOUNDATION TRUST","RN325","THE GREAT WESTERN HOSPITAL","ITU"]
["RN325-Jupiter","RN3","GREAT WESTERN HOSPITALS NHS FOUNDATION TRUST","RN325","THE GREAT WESTERN HOSPITAL","Jupiter"]
["RN325-Kingfisher & LAMU","RN3","GREAT WESTERN HOSPITALS NHS FOUNDATION TRUST","RN325","THE GREAT WESTERN HOSPITAL","Kingfisher & LAMU"]
["RN325-Meldon","RN3","GREAT WESTERN HOSPITALS NHS FOUNDATION TRUST","RN325","THE GREAT WESTERN HOSPITAL","Meldon"]
["RN325-Mercury","RN3","GREAT WESTERN HOSPITALS NHS FOUNDATION TRUST","RN325","THE GREAT WESTERN HOSPITAL","Mercury"]
["RN325-Neptune","RN3","GREAT WESTERN HOSPITALS NHS FOUNDATION TRUST","RN325","THE GREAT WESTERN HOSPITAL","Neptune"]
["RN325-Orchard Ward SWICC","RN3","GREAT WESTERN HOSPITALS NHS FOUNDATION TRUST","RN325","THE GREAT WESTERN HOSPITAL","Orchard Ward SWICC"]
["RN325-Saturn","RN3","GREAT WESTERN HOSPITALS NHS FOUNDATION TRUST","RN325","THE GREAT WESTERN HOSPITAL","Saturn"]
["RN325-SAU","RN3","GREAT WESTERN HOSPITALS NHS FOUNDATION TRUST","RN325","THE GREAT WESTERN HOSPITAL","SAU"]
["RN325-SCBU","RN3","GREAT WESTERN HOSPITALS NHS FOUNDATION TRUST","RN325","THE GREAT WESTERN HOSPITAL","SCBU"]
["RN325-Shalbourne","RN3","GREAT WESTERN HOSPITALS NHS FOUNDATION TRUST","RN325","THE GREAT WESTERN HOSPITAL","Shalbourne"]
["RN325-Teal","RN3","GREAT WESTERN HOSPITALS NHS FOUNDATION TRUST","RN325","THE GREAT WESTERN HOSPITAL","Teal"]
["RN325-Trauma Unit","RN3","GREAT WESTERN HOSPITALS NHS FOUNDATION TRUST","RN325","THE GREAT WESTERN HOSPITAL","Trauma Unit"]
["RN325-WHBC","RN3","GREAT WESTERN HOSPITALS NHS FOUNDATION TRUST","RN325","THE GREAT WESTERN HOSPITAL","WHBC"]
["RN325-Woodpecker","RN3","GREAT WESTERN HOSPITALS NHS FOUNDATION TRUST","RN325","THE GREAT WESTERN HOSPITAL","Woodpecker"]
["RN506-Acute Assessment Unit BNH","RN5","HAMPSHIRE HOSPITALS NHS FOUNDATION TRUST","RN506","BASINGSTOKE AND NORTH HAMPSHIRE HOSPITAL","Acute Assessment Unit BNH"]
["RN506-C2","RN5","HAMPSHIRE HOSPITALS NHS FOUNDATION TRUST","RN506","BASINGSTOKE AND NORTH HAMPSHIRE HOSPITAL","C2"]
["RN506-C3","RN5","HAMPSHIRE HOSPITALS NHS FOUNDATION TRUST","RN506","BASINGSTOKE AND NORTH HAMPSHIRE HOSPITAL","C3"]
["RN506-C4","RN5","HAMPSHIRE HOSPITALS NHS FOUNDATION TRUST","RN506","BASINGSTOKE AND NORTH HAMPSHIRE HOSPITAL","C4"]
["RN506-Coronary Care Unit (CCU)","RN5","HAMPSHIRE HOSPITALS NHS FOUNDATION TRUST","RN506","BASINGSTOKE AND NORTH HAMPSHIRE HOSPITAL","Coronary Care Unit (CCU)"]
["RN506-Critical Care BNH","RN5","HAMPSHIRE HOSPITALS NHS FOUNDATION TRUST","RN506","BASINGSTOKE AND NORTH HAMPSHIRE HOSPITAL","Critical Care BNH"]
[{"$f":"CONCATENATE(D2938,\"-\",F2938)","v":"RN506-D1"},"RN5","HAMPSHIRE HOSPITALS NHS FOUNDATION TRUST","RN506","BASINGSTOKE AND NORTH HAMPSHIRE HOSPITAL","D1"]
["RN506-D3","RN5","HAMPSHIRE HOSPITALS NHS FOUNDATION TRUST","RN506","BASINGSTOKE AND NORTH HAMPSHIRE HOSPITAL","D3"]
["RN506-D4","RN5","HAMPSHIRE HOSPITALS NHS FOUNDATION TRUST","RN506","BASINGSTOKE AND NORTH HAMPSHIRE HOSPITAL","D4"]
["RN506-Diagnosis and Treatment Centre Ward","RN5","HAMPSHIRE HOSPITALS NHS FOUNDATION TRUST","RN506","BASINGSTOKE AND NORTH HAMPSHIRE HOSPITAL","Diagnosis and Treatment Centre Ward"]
["RN506-E1","RN5","HAMPSHIRE HOSPITALS NHS FOUNDATION TRUST","RN506","BASINGSTOKE AND NORTH HAMPSHIRE HOSPITAL","E1"]
["RN506-E2","RN5","HAMPSHIRE HOSPITALS NHS FOUNDATION TRUST","RN506","BASINGSTOKE AND NORTH HAMPSHIRE HOSPITAL","E2"]
["RN506-E3","RN5","HAMPSHIRE HOSPITALS NHS FOUNDATION TRUST","RN506","BASINGSTOKE AND NORTH HAMPSHIRE HOSPITAL","E3"]
["RN506-E4","RN5","HAMPSHIRE HOSPITALS NHS FOUNDATION TRUST","RN506","BASINGSTOKE AND NORTH HAMPSHIRE HOSPITAL","E4"]
["RN506-F1","RN5","HAMPSHIRE HOSPITALS NHS FOUNDATION TRUST","RN506","BASINGSTOKE AND NORTH HAMPSHIRE HOSPITAL","F1"]
["RN506-F2","RN5","HAMPSHIRE HOSPITALS NHS FOUNDATION TRUST","RN506","BASINGSTOKE AND NORTH HAMPSHIRE HOSPITAL","F2"]
["RN506-F3","RN5","HAMPSHIRE HOSPITALS NHS FOUNDATION TRUST","RN506","BASINGSTOKE AND NORTH HAMPSHIRE HOSPITAL","F3"]
["RN506-G2","RN5","HAMPSHIRE HOSPITALS NHS FOUNDATION TRUST","RN506","BASINGSTOKE AND NORTH HAMPSHIRE HOSPITAL","G2"]
["RN506-Gynaecology","RN5","HAMPSHIRE HOSPITALS NHS FOUNDATION TRUST","RN506","BASINGSTOKE AND NORTH HAMPSHIRE HOSPITAL","Gynaecology"]
["RN506-Isolation Ward","RN5","HAMPSHIRE HOSPITALS NHS FOUNDATION TRUST","RN506","BASINGSTOKE AND NORTH HAMPSHIRE HOSPITAL","Isolation Ward"]
["RN506-Maternity BNH","RN5","HAMPSHIRE HOSPITALS NHS FOUNDATION TRUST","RN506","BASINGSTOKE AND NORTH HAMPSHIRE HOSPITAL","Maternity BNH"]
["RN506-Neo Natal Unit BNH","RN5","HAMPSHIRE HOSPITALS NHS FOUNDATION TRUST","RN506","BASINGSTOKE AND NORTH HAMPSHIRE HOSPITAL","Neo Natal Unit BNH"]
["RN506-Overton Ward","RN5","HAMPSHIRE HOSPITALS NHS FOUNDATION TRUST","RN506","BASINGSTOKE AND NORTH HAMPSHIRE HOSPITAL","Overton Ward"]
["RN506-Wessex","RN5","HAMPSHIRE HOSPITALS NHS FOUNDATION TRUST","RN506","BASINGSTOKE AND NORTH HAMPSHIRE HOSPITAL","Wessex"]
["RN541-Acute Frailty Unit","RN5","HAMPSHIRE HOSPITALS NHS FOUNDATION TRUST","RN541","ROYAL HAMPSHIRE COUNTY HOSPITAL","Acute Frailty Unit"]
["RN541-ATL","RN5","HAMPSHIRE HOSPITALS NHS FOUNDATION TRUST","RN541","ROYAL HAMPSHIRE COUNTY HOSPITAL","ATL"]
["RN541-Bartlett","RN5","HAMPSHIRE HOSPITALS NHS FOUNDATION TRUST","RN541","ROYAL HAMPSHIRE COUNTY HOSPITAL","Bartlett"]
["RN541-Clarke","RN5","HAMPSHIRE HOSPITALS NHS FOUNDATION TRUST","RN541","ROYAL HAMPSHIRE COUNTY HOSPITAL","Clarke"]
["RN541-Clifton","RN5","HAMPSHIRE HOSPITALS NHS FOUNDATION TRUST","RN541","ROYAL HAMPSHIRE COUNTY HOSPITAL","Clifton"]
["RN541-Critical Care RHCH","RN5","HAMPSHIRE HOSPITALS NHS FOUNDATION TRUST","RN541","ROYAL HAMPSHIRE COUNTY HOSPITAL","Critical Care RHCH"]
["RN541-Freshfield","RN5","HAMPSHIRE HOSPITALS NHS FOUNDATION TRUST","RN541","ROYAL HAMPSHIRE COUNTY HOSPITAL","Freshfield"]
["RN541-Kemp Welch","RN5","HAMPSHIRE HOSPITALS NHS FOUNDATION TRUST","RN541","ROYAL HAMPSHIRE COUNTY HOSPITAL","Kemp Welch"]
["RN541-Maternity RHCH","RN5","HAMPSHIRE HOSPITALS NHS FOUNDATION TRUST","RN541","ROYAL HAMPSHIRE COUNTY HOSPITAL","Maternity RHCH"]
["RN541-McGill","RN5","HAMPSHIRE HOSPITALS NHS FOUNDATION TRUST","RN541","ROYAL HAMPSHIRE COUNTY HOSPITAL","McGill"]
["RN541-Neo Natal Unit RHCH","RN5","HAMPSHIRE HOSPITALS NHS FOUNDATION TRUST","RN541","ROYAL HAMPSHIRE COUNTY HOSPITAL","Neo Natal Unit RHCH"]
["RN541-Northbrook","RN5","HAMPSHIRE HOSPITALS NHS FOUNDATION TRUST","RN541","ROYAL HAMPSHIRE COUNTY HOSPITAL","Northbrook"]
["RN541-Shawford","RN5","HAMPSHIRE HOSPITALS NHS FOUNDATION TRUST","RN541","ROYAL HAMPSHIRE COUNTY HOSPITAL","Shawford"]
["RN541-St Cross","RN5","HAMPSHIRE HOSPITALS NHS FOUNDATION TRUST","RN541","ROYAL HAMPSHIRE COUNTY HOSPITAL","St Cross"]
["RN541-Treatment Centre","RN5","HAMPSHIRE HOSPITALS NHS FOUNDATION TRUST","RN541","ROYAL HAMPSHIRE COUNTY HOSPITAL","Treatment Centre"]
["RN541-Twyford","RN5","HAMPSHIRE HOSPITALS NHS FOUNDATION TRUST","RN541","ROYAL HAMPSHIRE COUNTY HOSPITAL","Twyford"]
["RN541-Victoria","RN5","HAMPSHIRE HOSPITALS NHS FOUNDATION TRUST","RN541","ROYAL HAMPSHIRE COUNTY HOSPITAL","Victoria"]
["RN541-Wainwright","RN5","HAMPSHIRE HOSPITALS NHS FOUNDATION TRUST","RN541","ROYAL HAMPSHIRE COUNTY HOSPITAL","Wainwright"]
["RN541-Wykeham","RN5","HAMPSHIRE HOSPITALS NHS FOUNDATION TRUST","RN541","ROYAL HAMPSHIRE COUNTY HOSPITAL","Wykeham"]
["RN542-Countess of Brecknock","RN5","HAMPSHIRE HOSPITALS NHS FOUNDATION TRUST","RN542","ANDOVER WAR MEMORIAL HOSPITAL","Countess of Brecknock"]
["RN542-Kingfisher","RN5","HAMPSHIRE HOSPITALS NHS FOUNDATION TRUST","RN542","ANDOVER WAR MEMORIAL HOSPITAL","Kingfisher"]
["RN707-Beech","RN7","DARTFORD AND GRAVESHAM NHS TRUST","RN707","DARENT VALLEY HOSPITAL","Beech"]
["RN707-Cherry","RN7","DARTFORD AND GRAVESHAM NHS TRUST","RN707","DARENT VALLEY HOSPITAL","Cherry"]
["RN707-Chestnut","RN7","DARTFORD AND GRAVESHAM NHS TRUST","RN707","DARENT VALLEY HOSPITAL","Chestnut"]
["RN707-Ebony","RN7","DARTFORD AND GRAVESHAM NHS TRUST","RN707","DARENT VALLEY HOSPITAL","Ebony"]
["RN707-Elm Court","RN7","DARTFORD AND GRAVESHAM NHS TRUST","RN707","DARENT VALLEY HOSPITAL","Elm Court"]
["RN707-ITU","RN7","DARTFORD AND GRAVESHAM NHS TRUST","RN707","DARENT VALLEY HOSPITAL","ITU"]
["RN707-Juniper","RN7","DARTFORD AND GRAVESHAM NHS TRUST","RN707","DARENT VALLEY HOSPITAL","Juniper"]
["RN707-Laurel","RN7","DARTFORD AND GRAVESHAM NHS TRUST","RN707","DARENT VALLEY HOSPITAL","Laurel"]
["RN707-Linden","RN7","DARTFORD AND GRAVESHAM NHS TRUST","RN707","DARENT VALLEY HOSPITAL","Linden"]
["RN707-Maple","RN7","DARTFORD AND GRAVESHAM NHS TRUST","RN707","DARENT VALLEY HOSPITAL","Maple"]
["RN707-Maternity Staffing","RN7","DARTFORD AND GRAVESHAM NHS TRUST","RN707","DARENT VALLEY HOSPITAL","Maternity Staffing"]
["RN707-Mulberry","RN7","DARTFORD AND GRAVESHAM NHS TRUST","RN707","DARENT VALLEY HOSPITAL","Mulberry"]
["RN707-Palm","RN7","DARTFORD AND GRAVESHAM NHS TRUST","RN707","DARENT VALLEY HOSPITAL","Palm"]
["RN707-QMH Inpatients","RN7","DARTFORD AND GRAVESHAM NHS TRUST","RN707","DARENT VALLEY HOSPITAL","QMH Inpatients"]
["RN707-Redwood","RN7","DARTFORD AND GRAVESHAM NHS TRUST","RN707","DARENT VALLEY HOSPITAL","Redwood"]
["RN707-Rosewood","RN7","DARTFORD AND GRAVESHAM NHS TRUST","RN707","DARENT VALLEY HOSPITAL","Rosewood"]
["RN707-Rowan","RN7","DARTFORD AND GRAVESHAM NHS TRUST","RN707","DARENT VALLEY HOSPITAL","Rowan"]
["RN707-Spruce","RN7","DARTFORD AND GRAVESHAM NHS TRUST","RN707","DARENT VALLEY HOSPITAL","Spruce"]
["RN707-Walnut","RN7","DARTFORD AND GRAVESHAM NHS TRUST","RN707","DARENT VALLEY HOSPITAL","Walnut"]
["RN707-Willow","RN7","DARTFORD AND GRAVESHAM NHS TRUST","RN707","DARENT VALLEY HOSPITAL","Willow"]
["RNA01-B1","RNA","THE DUDLEY GROUP NHS FOUNDATION TRUST","RNA01","RUSSELLS HALL HOSPITAL","B1"]
["RNA01-B2(H)","RNA","THE DUDLEY GROUP NHS FOUNDATION TRUST","RNA01","RUSSELLS HALL HOSPITAL","B2(H)"]
["RNA01-B2(T)","RNA","THE DUDLEY GROUP NHS FOUNDATION TRUST","RNA01","RUSSELLS HALL HOSPITAL","B2(T)"]
["RNA01-B3","RNA","THE DUDLEY GROUP NHS FOUNDATION TRUST","RNA01","RUSSELLS HALL HOSPITAL","B3"]
["RNA01-B4","RNA","THE DUDLEY GROUP NHS FOUNDATION TRUST","RNA01","RUSSELLS HALL HOSPITAL","B4"]
[{"$f":"CONCATENATE(D3002,\"-\",F3002)","v":"RNA01-B5"},"RNA","THE DUDLEY GROUP NHS FOUNDATION TRUST","RNA01","RUSSELLS HALL HOSPITAL","B5"]
["RNA01-C1","RNA","THE DUDLEY GROUP NHS FOUNDATION TRUST","RNA01","RUSSELLS HALL HOSPITAL","C1"]
["RNA01-C2","RNA","THE DUDLEY GROUP NHS FOUNDATION TRUST","RNA01","RUSSELLS HALL HOSPITAL","C2"]
["RNA01-C3","RNA","THE DUDLEY GROUP NHS FOUNDATION TRUST","RNA01","RUSSELLS HALL HOSPITAL","C3"]
["RNA01-C4","RNA","THE DUDLEY GROUP NHS FOUNDATION TRUST","RNA01","RUSSELLS HALL HOSPITAL","C4"]
["RNA01-C5","RNA","THE DUDLEY GROUP NHS FOUNDATION TRUST","RNA01","RUSSELLS HALL HOSPITAL","C5"]
["RNA01-C6","RNA","THE DUDLEY GROUP NHS FOUNDATION TRUST","RNA01","RUSSELLS HALL HOSPITAL","C6"]
["RNA01-C7","RNA","THE DUDLEY GROUP NHS FOUNDATION TRUST","RNA01","RUSSELLS HALL HOSPITAL","C7"]
["RNA01-C8","RNA","THE DUDLEY GROUP NHS FOUNDATION TRUST","RNA01","RUSSELLS HALL HOSPITAL","C8"]
["RNA01-CCU_PCCU","RNA","THE DUDLEY GROUP NHS FOUNDATION TRUST","RNA01","RUSSELLS HALL HOSPITAL","CCU_PCCU"]
["RNA01-Critical Care","RNA","THE DUDLEY GROUP NHS FOUNDATION TRUST","RNA01","RUSSELLS HALL HOSPITAL","Critical Care"]
["RNA01-EAU AMU 1","RNA","THE DUDLEY GROUP NHS FOUNDATION TRUST","RNA01","RUSSELLS HALL HOSPITAL","EAU AMU 1"]
["RNA01-Maternity","RNA","THE DUDLEY GROUP NHS FOUNDATION TRUST","RNA01","RUSSELLS HALL HOSPITAL","Maternity"]
["RNA01-MHDU","RNA","THE DUDLEY GROUP NHS FOUNDATION TRUST","RNA01","RUSSELLS HALL HOSPITAL","MHDU"]
["RNA01-NNU","RNA","THE DUDLEY GROUP NHS FOUNDATION TRUST","RNA01","RUSSELLS HALL HOSPITAL","NNU"]
["RNN42-Workington","RNN","NORTH CUMBRIA INTEGRATED CARE NHS FOUNDATION TRUST","RNN42","WORKINGTON COMMUNITY HOSPITAL","Workington"]
["RNN62-Acute Medical Unit","RNN","NORTH CUMBRIA INTEGRATED CARE NHS FOUNDATION TRUST","RNN62","CUMBERLAND INFIRMARY","Acute Medical Unit"]
["RNN62-BEECH A","RNN","NORTH CUMBRIA INTEGRATED CARE NHS FOUNDATION TRUST","RNN62","CUMBERLAND INFIRMARY","BEECH A"]
["RNN62-BEECH B","RNN","NORTH CUMBRIA INTEGRATED CARE NHS FOUNDATION TRUST","RNN62","CUMBERLAND INFIRMARY","BEECH B"]
["RNN62-BEECH C","RNN","NORTH CUMBRIA INTEGRATED CARE NHS FOUNDATION TRUST","RNN62","CUMBERLAND INFIRMARY","BEECH C"]
["RNN62-BEECH D","RNN","NORTH CUMBRIA INTEGRATED CARE NHS FOUNDATION TRUST","RNN62","CUMBERLAND INFIRMARY","BEECH D"]
["RNN62-CHILDREN'S WARD CIC","RNN","NORTH CUMBRIA INTEGRATED CARE NHS FOUNDATION TRUST","RNN62","CUMBERLAND INFIRMARY","CHILDREN'S WARD CIC"]
["RNN62-ELM A","RNN","NORTH CUMBRIA INTEGRATED CARE NHS FOUNDATION TRUST","RNN62","CUMBERLAND INFIRMARY","ELM A"]
["RNN62-ELM B","RNN","NORTH CUMBRIA INTEGRATED CARE NHS FOUNDATION TRUST","RNN62","CUMBERLAND INFIRMARY","ELM B"]
["RNN62-ELM C","RNN","NORTH CUMBRIA INTEGRATED CARE NHS FOUNDATION TRUST","RNN62","CUMBERLAND INFIRMARY","ELM C"]
["RNN62-ESAU","RNN","NORTH CUMBRIA INTEGRATED CARE NHS FOUNDATION TRUST","RNN62","CUMBERLAND INFIRMARY","ESAU"]
["RNN62-HAZEL WARD","RNN","NORTH CUMBRIA INTEGRATED CARE NHS FOUNDATION TRUST","RNN62","CUMBERLAND INFIRMARY","HAZEL WARD"]
["RNN62-ICU CIC","RNN","NORTH CUMBRIA INTEGRATED CARE NHS FOUNDATION TRUST","RNN62","CUMBERLAND INFIRMARY","ICU CIC"]
["RNN62-MAPLE A","RNN","NORTH CUMBRIA INTEGRATED CARE NHS FOUNDATION TRUST","RNN62","CUMBERLAND INFIRMARY","MAPLE A"]
["RNN62-MAPLE B/D","RNN","NORTH CUMBRIA INTEGRATED CARE NHS FOUNDATION TRUST","RNN62","CUMBERLAND INFIRMARY","MAPLE B/D"]
["RNN62-MAPLE C","RNN","NORTH CUMBRIA INTEGRATED CARE NHS FOUNDATION TRUST","RNN62","CUMBERLAND INFIRMARY","MAPLE C"]
["RNN62-MATERNITY CIC","RNN","NORTH CUMBRIA INTEGRATED CARE NHS FOUNDATION TRUST","RNN62","CUMBERLAND INFIRMARY","MATERNITY CIC"]
["RNN62-SCBU CIC","RNN","NORTH CUMBRIA INTEGRATED CARE NHS FOUNDATION TRUST","RNN62","CUMBERLAND INFIRMARY","SCBU CIC"]
["RNN62-THE HEART CENTRE","RNN","NORTH CUMBRIA INTEGRATED CARE NHS FOUNDATION TRUST","RNN62","CUMBERLAND INFIRMARY","THE HEART CENTRE"]
["RNN62-WILLOW A","RNN","NORTH CUMBRIA INTEGRATED CARE NHS FOUNDATION TRUST","RNN62","CUMBERLAND INFIRMARY","WILLOW A"]
["RNN62-WILLOW B","RNN","NORTH CUMBRIA INTEGRATED CARE NHS FOUNDATION TRUST","RNN62","CUMBERLAND INFIRMARY","WILLOW B"]
["RNN62-WILLOW C","RNN","NORTH CUMBRIA INTEGRATED CARE NHS FOUNDATION TRUST","RNN62","CUMBERLAND INFIRMARY","WILLOW C"]
["RNNBF-Brampton Hospital Ward","RNN","NORTH CUMBRIA INTEGRATED CARE NHS FOUNDATION TRUST","RNNBF","BRAMPTON HOSPITAL","Brampton Hospital Ward"]
["RNNBX-CCU WCH","RNN","NORTH CUMBRIA INTEGRATED CARE NHS FOUNDATION TRUST","RNNBX","WEST CUMBERLAND HOSPITAL","CCU WCH"]
["RNNBX-CHILDREN'S WARD WCH","RNN","NORTH CUMBRIA INTEGRATED CARE NHS FOUNDATION TRUST","RNNBX","WEST CUMBERLAND HOSPITAL","CHILDREN'S WARD WCH"]
["RNNBX-Copeland Unit","RNN","NORTH CUMBRIA INTEGRATED CARE NHS FOUNDATION TRUST","RNNBX","WEST CUMBERLAND HOSPITAL","Copeland Unit"]
["RNNBX-Copeland Unit: Loweswater Suite","RNN","NORTH CUMBRIA INTEGRATED CARE NHS FOUNDATION TRUST","RNNBX","WEST CUMBERLAND HOSPITAL","Copeland Unit: Loweswater Suite"]
["RNNBX-EAU","RNN","NORTH CUMBRIA INTEGRATED CARE NHS FOUNDATION TRUST","RNNBX","WEST CUMBERLAND HOSPITAL","EAU"]
["RNNBX-ICU WCH","RNN","NORTH CUMBRIA INTEGRATED CARE NHS FOUNDATION TRUST","RNNBX","WEST CUMBERLAND HOSPITAL","ICU WCH"]
["RNNBX-MATERNITY WCH","RNN","NORTH CUMBRIA INTEGRATED CARE NHS FOUNDATION TRUST","RNNBX","WEST CUMBERLAND HOSPITAL","MATERNITY WCH"]
["RNNBX-SCBU WCH","RNN","NORTH CUMBRIA INTEGRATED CARE NHS FOUNDATION TRUST","RNNBX","WEST CUMBERLAND HOSPITAL","SCBU WCH"]
["RNNBX-WARD 1","RNN","NORTH CUMBRIA INTEGRATED CARE NHS FOUNDATION TRUST","RNNBX","WEST CUMBERLAND HOSPITAL","WARD 1"]
["RNNBX-WARD 2","RNN","NORTH CUMBRIA INTEGRATED CARE NHS FOUNDATION TRUST","RNNBX","WEST CUMBERLAND HOSPITAL","WARD 2"]
["RNNBX-WARD 3","RNN","NORTH CUMBRIA INTEGRATED CARE NHS FOUNDATION TRUST","RNNBX","WEST CUMBERLAND HOSPITAL","WARD 3"]
["RNNBX-WARD 4","RNN","NORTH CUMBRIA INTEGRATED CARE NHS FOUNDATION TRUST","RNNBX","WEST CUMBERLAND HOSPITAL","WARD 4"]
["RNNCB-Cockermouth","RNN","NORTH CUMBRIA INTEGRATED CARE NHS FOUNDATION TRUST","RNNCB","COCKERMOUTH HOSPITAL","Cockermouth"]
["RNNCJ-Keswick","RNN","NORTH CUMBRIA INTEGRATED CARE NHS FOUNDATION TRUST","RNNCJ","MARY HEWETSON COTTAGE HOSPITAL","Keswick"]
["RNNKV-Penrith Eden Unit","RNN","NORTH CUMBRIA INTEGRATED CARE NHS FOUNDATION TRUST","RNNKV","PENRITH HOSPITAL","Penrith Eden Unit"]
["RNQ51-Ashton","RNQ","KETTERING GENERAL HOSPITAL NHS FOUNDATION TRUST","RNQ51","KETTERING GENERAL HOSPITAL","Ashton"]
["RNQ51-Barnwell Trauma unit","RNQ","KETTERING GENERAL HOSPITAL NHS FOUNDATION TRUST","RNQ51","KETTERING GENERAL HOSPITAL","Barnwell Trauma unit"]
["RNQ51-Clifford","RNQ","KETTERING GENERAL HOSPITAL NHS FOUNDATION TRUST","RNQ51","KETTERING GENERAL HOSPITAL","Clifford"]
["RNQ51-Cranford","RNQ","KETTERING GENERAL HOSPITAL NHS FOUNDATION TRUST","RNQ51","KETTERING GENERAL HOSPITAL","Cranford"]
["RNQ51-Deene (Escalation)","RNQ","KETTERING GENERAL HOSPITAL NHS FOUNDATION TRUST","RNQ51","KETTERING GENERAL HOSPITAL","Deene (Escalation)"]
["RNQ51-Deene A","RNQ","KETTERING GENERAL HOSPITAL NHS FOUNDATION TRUST","RNQ51","KETTERING GENERAL HOSPITAL","Deene A"]
["RNQ51-Deene Ward","RNQ","KETTERING GENERAL HOSPITAL NHS FOUNDATION TRUST","RNQ51","KETTERING GENERAL HOSPITAL","Deene Ward"]
["RNQ51-Geddington","RNQ","KETTERING GENERAL HOSPITAL NHS FOUNDATION TRUST","RNQ51","KETTERING GENERAL HOSPITAL","Geddington"]
["RNQ51-Harrowden A","RNQ","KETTERING GENERAL HOSPITAL NHS FOUNDATION TRUST","RNQ51","KETTERING GENERAL HOSPITAL","Harrowden A"]
["RNQ51-Harrowden C","RNQ","KETTERING GENERAL HOSPITAL NHS FOUNDATION TRUST","RNQ51","KETTERING GENERAL HOSPITAL","Harrowden C"]
["RNQ51-ITU","RNQ","KETTERING GENERAL HOSPITAL NHS FOUNDATION TRUST","RNQ51","KETTERING GENERAL HOSPITAL","ITU"]
[{"$f":"CONCATENATE(D3066,\"-\",F3066)","v":"RNQ51-Lamport"},"RNQ","KETTERING GENERAL HOSPITAL NHS FOUNDATION TRUST","RNQ51","KETTERING GENERAL HOSPITAL","Lamport"]
["RNQ51-Lilford","RNQ","KETTERING GENERAL HOSPITAL NHS FOUNDATION TRUST","RNQ51","KETTERING GENERAL HOSPITAL","Lilford"]
["RNQ51-Maple","RNQ","KETTERING GENERAL HOSPITAL NHS FOUNDATION TRUST","RNQ51","KETTERING GENERAL HOSPITAL","Maple"]
["RNQ51-MAU","RNQ","KETTERING GENERAL HOSPITAL NHS FOUNDATION TRUST","RNQ51","KETTERING GENERAL HOSPITAL","MAU"]
["RNQ51-Naseby Wards","RNQ","KETTERING GENERAL HOSPITAL NHS FOUNDATION TRUST","RNQ51","KETTERING GENERAL HOSPITAL","Naseby Wards"]
["RNQ51-NICU","RNQ","KETTERING GENERAL HOSPITAL NHS FOUNDATION TRUST","RNQ51","KETTERING GENERAL HOSPITAL","NICU"]
["RNQ51-Oakley/CCU","RNQ","KETTERING GENERAL HOSPITAL NHS FOUNDATION TRUST","RNQ51","KETTERING GENERAL HOSPITAL","Oakley/CCU"]
["RNQ51-Observation Bay","RNQ","KETTERING GENERAL HOSPITAL NHS FOUNDATION TRUST","RNQ51","KETTERING GENERAL HOSPITAL","Observation Bay"]
["RNQ51-Poplar","RNQ","KETTERING GENERAL HOSPITAL NHS FOUNDATION TRUST","RNQ51","KETTERING GENERAL HOSPITAL","Poplar"]
["RNQ51-Pretty Wards","RNQ","KETTERING GENERAL HOSPITAL NHS FOUNDATION TRUST","RNQ51","KETTERING GENERAL HOSPITAL","Pretty Wards"]
["RNQ51-Rowan","RNQ","KETTERING GENERAL HOSPITAL NHS FOUNDATION TRUST","RNQ51","KETTERING GENERAL HOSPITAL","Rowan"]
["RNQ51-Skylark","RNQ","KETTERING GENERAL HOSPITAL NHS FOUNDATION TRUST","RNQ51","KETTERING GENERAL HOSPITAL","Skylark"]
["RNQ51-Twywell","RNQ","KETTERING GENERAL HOSPITAL NHS FOUNDATION TRUST","RNQ51","KETTERING GENERAL HOSPITAL","Twywell"]
["RNS01-Abington Ward (NOF)","RNS","NORTHAMPTON GENERAL HOSPITAL NHS TRUST","RNS01","NORTHAMPTON GENERAL HOSPITAL (ACUTE)","Abington Ward (NOF)"]
["RNS01-Allebone Ward (Stroke)","RNS","NORTHAMPTON GENERAL HOSPITAL NHS TRUST","RNS01","NORTHAMPTON GENERAL HOSPITAL (ACUTE)","Allebone Ward (Stroke)"]
["RNS01-Althorp (T&O)","RNS","NORTHAMPTON GENERAL HOSPITAL NHS TRUST","RNS01","NORTHAMPTON GENERAL HOSPITAL (ACUTE)","Althorp (T&O)"]
["RNS01-Barratt Birth Centre","RNS","NORTHAMPTON GENERAL HOSPITAL NHS TRUST","RNS01","NORTHAMPTON GENERAL HOSPITAL (ACUTE)","Barratt Birth Centre"]
["RNS01-Becket Ward","RNS","NORTHAMPTON GENERAL HOSPITAL NHS TRUST","RNS01","NORTHAMPTON GENERAL HOSPITAL (ACUTE)","Becket Ward"]
["RNS01-Brampton Ward","RNS","NORTHAMPTON GENERAL HOSPITAL NHS TRUST","RNS01","NORTHAMPTON GENERAL HOSPITAL (ACUTE)","Brampton Ward"]
["RNS01-Cedar Ward (TRAUMA)","RNS","NORTHAMPTON GENERAL HOSPITAL NHS TRUST","RNS01","NORTHAMPTON GENERAL HOSPITAL (ACUTE)","Cedar Ward (TRAUMA)"]
["RNS01-Collingtree Medical (40)","RNS","NORTHAMPTON GENERAL HOSPITAL NHS TRUST","RNS01","NORTHAMPTON GENERAL HOSPITAL (ACUTE)","Collingtree Medical (40)"]
["RNS01-Compton Ward","RNS","NORTHAMPTON GENERAL HOSPITAL NHS TRUST","RNS01","NORTHAMPTON GENERAL HOSPITAL (ACUTE)","Compton Ward"]
["RNS01-Disney Ward","RNS","NORTHAMPTON GENERAL HOSPITAL NHS TRUST","RNS01","NORTHAMPTON GENERAL HOSPITAL (ACUTE)","Disney Ward"]
["RNS01-Dryden Ward","RNS","NORTHAMPTON GENERAL HOSPITAL NHS TRUST","RNS01","NORTHAMPTON GENERAL HOSPITAL (ACUTE)","Dryden Ward"]
["RNS01-Eleanor Ward","RNS","NORTHAMPTON GENERAL HOSPITAL NHS TRUST","RNS01","NORTHAMPTON GENERAL HOSPITAL (ACUTE)","Eleanor Ward"]
["RNS01-Esther White (Nye Bevan)","RNS","NORTHAMPTON GENERAL HOSPITAL NHS TRUST","RNS01","NORTHAMPTON GENERAL HOSPITAL (ACUTE)","Esther White (Nye Bevan)"]
["RNS01-Finedon Ward","RNS","NORTHAMPTON GENERAL HOSPITAL NHS TRUST","RNS01","NORTHAMPTON GENERAL HOSPITAL (ACUTE)","Finedon Ward"]
["RNS01-Gosset Ward","RNS","NORTHAMPTON GENERAL HOSPITAL NHS TRUST","RNS01","NORTHAMPTON GENERAL HOSPITAL (ACUTE)","Gosset Ward"]
["RNS01-Hawthorn & SAU","RNS","NORTHAMPTON GENERAL HOSPITAL NHS TRUST","RNS01","NORTHAMPTON GENERAL HOSPITAL (ACUTE)","Hawthorn & SAU"]
["RNS01-Head & Neck Ward","RNS","NORTHAMPTON GENERAL HOSPITAL NHS TRUST","RNS01","NORTHAMPTON GENERAL HOSPITAL (ACUTE)","Head & Neck Ward"]
["RNS01-Holcot Ward","RNS","NORTHAMPTON GENERAL HOSPITAL NHS TRUST","RNS01","NORTHAMPTON GENERAL HOSPITAL (ACUTE)","Holcot Ward"]
["RNS01-ITU","RNS","NORTHAMPTON GENERAL HOSPITAL NHS TRUST","RNS01","NORTHAMPTON GENERAL HOSPITAL (ACUTE)","ITU"]
["RNS01-Knightley Ward","RNS","NORTHAMPTON GENERAL HOSPITAL NHS TRUST","RNS01","NORTHAMPTON GENERAL HOSPITAL (ACUTE)","Knightley Ward"]
["RNS01-Knightley Ward","RNS","NORTHAMPTON GENERAL HOSPITAL NHS TRUST","RNS01","NORTHAMPTON GENERAL HOSPITAL (ACUTE)","Knightley Ward"]
["RNS01-Paddington Ward","RNS","NORTHAMPTON GENERAL HOSPITAL NHS TRUST","RNS01","NORTHAMPTON GENERAL HOSPITAL (ACUTE)","Paddington Ward"]
["RNS01-Quinton Ward","RNS","NORTHAMPTON GENERAL HOSPITAL NHS TRUST","RNS01","NORTHAMPTON GENERAL HOSPITAL (ACUTE)","Quinton Ward"]
["RNS01-Robert Watson","RNS","NORTHAMPTON GENERAL HOSPITAL NHS TRUST","RNS01","NORTHAMPTON GENERAL HOSPITAL (ACUTE)","Robert Watson"]
["RNS01-Rowan (LSSD)","RNS","NORTHAMPTON GENERAL HOSPITAL NHS TRUST","RNS01","NORTHAMPTON GENERAL HOSPITAL (ACUTE)","Rowan (LSSD)"]
["RNS01-Spencer Ward","RNS","NORTHAMPTON GENERAL HOSPITAL NHS TRUST","RNS01","NORTHAMPTON GENERAL HOSPITAL (ACUTE)","Spencer Ward"]
["RNS01-Sturtridge Ward","RNS","NORTHAMPTON GENERAL HOSPITAL NHS TRUST","RNS01","NORTHAMPTON GENERAL HOSPITAL (ACUTE)","Sturtridge Ward"]
["RNS01-Talbot Butler Ward","RNS","NORTHAMPTON GENERAL HOSPITAL NHS TRUST","RNS01","NORTHAMPTON GENERAL HOSPITAL (ACUTE)","Talbot Butler Ward"]
["RNS01-Victoria Ward","RNS","NORTHAMPTON GENERAL HOSPITAL NHS TRUST","RNS01","NORTHAMPTON GENERAL HOSPITAL (ACUTE)","Victoria Ward"]
["RNS01-Walter Tull (Nye Bevan)","RNS","NORTHAMPTON GENERAL HOSPITAL NHS TRUST","RNS01","NORTHAMPTON GENERAL HOSPITAL (ACUTE)","Walter Tull (Nye Bevan)"]
["RNS01-Willow Ward (+ Level 1)","RNS","NORTHAMPTON GENERAL HOSPITAL NHS TRUST","RNS01","NORTHAMPTON GENERAL HOSPITAL (ACUTE)","Willow Ward (+ Level 1)"]
["RNU30-Ashurst Picu Ox Adult","RNU","OXFORD HEALTH NHS FOUNDATION TRUST","RNU30","LITTLEMORE MENTAL HEALTH CENTRE","Ashurst Picu Ox Adult"]
["RNU30-Evenlode Ward Ld","RNU","OXFORD HEALTH NHS FOUNDATION TRUST","RNU30","LITTLEMORE MENTAL HEALTH CENTRE","Evenlode Ward Ld"]
["RNU30-Glyme Ward - Msu","RNU","OXFORD HEALTH NHS FOUNDATION TRUST","RNU30","LITTLEMORE MENTAL HEALTH CENTRE","Glyme Ward - Msu"]
["RNU30-Kennet Ward - Msu","RNU","OXFORD HEALTH NHS FOUNDATION TRUST","RNU30","LITTLEMORE MENTAL HEALTH CENTRE","Kennet Ward - Msu"]
["RNU30-Kestral Ward Th Lsu","RNU","OXFORD HEALTH NHS FOUNDATION TRUST","RNU30","LITTLEMORE MENTAL HEALTH CENTRE","Kestral Ward Th Lsu"]
["RNU30-Kingfisher Ward Th Lsu","RNU","OXFORD HEALTH NHS FOUNDATION TRUST","RNU30","LITTLEMORE MENTAL HEALTH CENTRE","Kingfisher Ward Th Lsu"]
["RNU30-Lambourn Pre Discharge Ward","RNU","OXFORD HEALTH NHS FOUNDATION TRUST","RNU30","LITTLEMORE MENTAL HEALTH CENTRE","Lambourn Pre Discharge Ward"]
["RNU30-Phoenix Acute Ward Ox Adults","RNU","OXFORD HEALTH NHS FOUNDATION TRUST","RNU30","LITTLEMORE MENTAL HEALTH CENTRE","Phoenix Acute Ward Ox Adults"]
["RNU30-Wenric House - Lsu","RNU","OXFORD HEALTH NHS FOUNDATION TRUST","RNU30","LITTLEMORE MENTAL HEALTH CENTRE","Wenric House - Lsu"]
["RNU33-Allen Acute Ward Ox Adults","RNU","OXFORD HEALTH NHS FOUNDATION TRUST","RNU33","WARNEFORD HOSPITAL","Allen Acute Ward Ox Adults"]
["RNU33-I/P Ed Cotswold House Oxford","RNU","OXFORD HEALTH NHS FOUNDATION TRUST","RNU33","WARNEFORD HOSPITAL","I/P Ed Cotswold House Oxford"]
["RNU33-I/P T4 Camhs Highfield Oxford","RNU","OXFORD HEALTH NHS FOUNDATION TRUST","RNU33","WARNEFORD HOSPITAL","I/P T4 Camhs Highfield Oxford"]
["RNU33-V. Thomas Acute Ward Ox Adults","RNU","OXFORD HEALTH NHS FOUNDATION TRUST","RNU33","WARNEFORD HOSPITAL","V. Thomas Acute Ward Ox Adults"]
["RNU33-Wintle Acute Ward Ox Adults","RNU","OXFORD HEALTH NHS FOUNDATION TRUST","RNU33","WARNEFORD HOSPITAL","Wintle Acute Ward Ox Adults"]
["RNU75-Cherwell Ward - Fulbrook","RNU","OXFORD HEALTH NHS FOUNDATION TRUST","RNU75","THE FULBROOK CENTRE","Cherwell Ward - Fulbrook"]
["RNU75-City Hospital","RNU","OXFORD HEALTH NHS FOUNDATION TRUST","RNU75","THE FULBROOK CENTRE","City Hospital"]
["RNU75-Sandford Ward - Fulbrook","RNU","OXFORD HEALTH NHS FOUNDATION TRUST","RNU75","THE FULBROOK CENTRE","Sandford Ward - Fulbrook"]
["RNU92-Forensic - Watling Ward","RNU","OXFORD HEALTH NHS FOUNDATION TRUST","RNU92","MARLBOROUGH HOUSE","Forensic - Watling Ward"]
["RNU92-Marlborough House / Chaffron","RNU","OXFORD HEALTH NHS FOUNDATION TRUST","RNU92","MARLBOROUGH HOUSE","Marlborough House / Chaffron"]
["RNUAL-I/P T4 Camhs Marlb Hse Swindon","RNU","OXFORD HEALTH NHS FOUNDATION TRUST","RNUAL","SWINDON COMMUNITY & INPATIENT CHILD & ADOLESCENT MENTAL HEALTH","I/P T4 Camhs Marlb Hse Swindon"]
[{"$f":"CONCATENATE(D3130,\"-\",F3130)","v":"RNUAM-I/P Ed Cotswold Hse Marlboroug"},"RNU","OXFORD HEALTH NHS FOUNDATION TRUST","RNUAM","SAVERNAKE HOSPITAL","I/P Ed Cotswold Hse Marlboroug"]
["RNUCE-Bicester Hospital - Wards Gen","RNU","OXFORD HEALTH NHS FOUNDATION TRUST","RNUCE","BICESTER COMMUNITY HOSPITAL","Bicester Hospital - Wards Gen"]
["RNUCK-Didcot - Wards General","RNU","OXFORD HEALTH NHS FOUNDATION TRUST","RNUCK","DIDCOT COMMUNITY HOSPITAL","Didcot - Wards General"]
["RNUDJ-Wallingford - St Leonards","RNU","OXFORD HEALTH NHS FOUNDATION TRUST","RNUDJ","WALLINGFORD COMMUNITY HOSPITAL","Wallingford - St Leonards"]
["RNUDM-Witney - Linfoot Ward","RNU","OXFORD HEALTH NHS FOUNDATION TRUST","RNUDM","WITNEY COMMUNITY HOSPITAL","Witney - Linfoot Ward"]
["RNUDM-Witney - Wenrisc Ward","RNU","OXFORD HEALTH NHS FOUNDATION TRUST","RNUDM","WITNEY COMMUNITY HOSPITAL","Witney - Wenrisc Ward"]
["RNUDQ-Abbey Ward","RNU","OXFORD HEALTH NHS FOUNDATION TRUST","RNUDQ","ABINGDON COMMUNITY HOSPITAL","Abbey Ward"]
["RNUDQ-Oxfordshire Stroke Rehab Unit","RNU","OXFORD HEALTH NHS FOUNDATION TRUST","RNUDQ","ABINGDON COMMUNITY HOSPITAL","Oxfordshire Stroke Rehab Unit"]
["RNUGP-Amber Ward - Whiteleaf","RNU","OXFORD HEALTH NHS FOUNDATION TRUST","RNUGP","WHITELEAF CENTRE","Amber Ward - Whiteleaf"]
["RNUGP-Opal Ward","RNU","OXFORD HEALTH NHS FOUNDATION TRUST","RNUGP","WHITELEAF CENTRE","Opal Ward"]
["RNUGP-Ruby Acute Ward","RNU","OXFORD HEALTH NHS FOUNDATION TRUST","RNUGP","WHITELEAF CENTRE","Ruby Acute Ward"]
["RNUGP-Sapphire Acute Ward","RNU","OXFORD HEALTH NHS FOUNDATION TRUST","RNUGP","WHITELEAF CENTRE","Sapphire Acute Ward"]
["RNUGP-Woodlands - Lsu","RNU","OXFORD HEALTH NHS FOUNDATION TRUST","RNUGP","WHITELEAF CENTRE","Woodlands - Lsu"]
["RNZ02-Amesbury","RNZ","SALISBURY NHS FOUNDATION TRUST","RNZ02","SALISBURY DISTRICT HOSPITAL","Amesbury"]
["RNZ02-AMU","RNZ","SALISBURY NHS FOUNDATION TRUST","RNZ02","SALISBURY DISTRICT HOSPITAL","AMU"]
["RNZ02-Avon","RNZ","SALISBURY NHS FOUNDATION TRUST","RNZ02","SALISBURY DISTRICT HOSPITAL","Avon"]
["RNZ02-Breamore","RNZ","SALISBURY NHS FOUNDATION TRUST","RNZ02","SALISBURY DISTRICT HOSPITAL","Breamore"]
["RNZ02-Britford","RNZ","SALISBURY NHS FOUNDATION TRUST","RNZ02","SALISBURY DISTRICT HOSPITAL","Britford"]
["RNZ02-Chilmark","RNZ","SALISBURY NHS FOUNDATION TRUST","RNZ02","SALISBURY DISTRICT HOSPITAL","Chilmark"]
["RNZ02-Downton","RNZ","SALISBURY NHS FOUNDATION TRUST","RNZ02","SALISBURY DISTRICT HOSPITAL","Downton"]
["RNZ02-Durrington","RNZ","SALISBURY NHS FOUNDATION TRUST","RNZ02","SALISBURY DISTRICT HOSPITAL","Durrington"]
["RNZ02-Farley","RNZ","SALISBURY NHS FOUNDATION TRUST","RNZ02","SALISBURY DISTRICT HOSPITAL","Farley"]
["RNZ02-Hospice","RNZ","SALISBURY NHS FOUNDATION TRUST","RNZ02","SALISBURY DISTRICT HOSPITAL","Hospice"]
["RNZ02-Maternity","RNZ","SALISBURY NHS FOUNDATION TRUST","RNZ02","SALISBURY DISTRICT HOSPITAL","Maternity"]
["RNZ02-NICU","RNZ","SALISBURY NHS FOUNDATION TRUST","RNZ02","SALISBURY DISTRICT HOSPITAL","NICU"]
["RNZ02-Odstock","RNZ","SALISBURY NHS FOUNDATION TRUST","RNZ02","SALISBURY DISTRICT HOSPITAL","Odstock"]
["RNZ02-Pembroke","RNZ","SALISBURY NHS FOUNDATION TRUST","RNZ02","SALISBURY DISTRICT HOSPITAL","Pembroke"]
["RNZ02-Pitton","RNZ","SALISBURY NHS FOUNDATION TRUST","RNZ02","SALISBURY DISTRICT HOSPITAL","Pitton"]
["RNZ02-Radnor","RNZ","SALISBURY NHS FOUNDATION TRUST","RNZ02","SALISBURY DISTRICT HOSPITAL","Radnor"]
["RNZ02-Redlynch","RNZ","SALISBURY NHS FOUNDATION TRUST","RNZ02","SALISBURY DISTRICT HOSPITAL","Redlynch"]
["RNZ02-Sarum","RNZ","SALISBURY NHS FOUNDATION TRUST","RNZ02","SALISBURY DISTRICT HOSPITAL","Sarum"]
["RNZ02-Spire","RNZ","SALISBURY NHS FOUNDATION TRUST","RNZ02","SALISBURY DISTRICT HOSPITAL","Spire"]
["RNZ02-Tamar","RNZ","SALISBURY NHS FOUNDATION TRUST","RNZ02","SALISBURY DISTRICT HOSPITAL","Tamar"]
["RNZ02-Tisbury","RNZ","SALISBURY NHS FOUNDATION TRUST","RNZ02","SALISBURY DISTRICT HOSPITAL","Tisbury"]
["RNZ02-Whiteparish","RNZ","SALISBURY NHS FOUNDATION TRUST","RNZ02","SALISBURY DISTRICT HOSPITAL","Whiteparish"]
["RP1A1-Avocet","RP1","NORTHAMPTONSHIRE HEALTHCARE NHS FOUNDATION TRUST","RP1A1","ST MARY'S HOSPITAL","Avocet"]
["RP1A1-Cransley Hospice","RP1","NORTHAMPTONSHIRE HEALTHCARE NHS FOUNDATION TRUST","RP1A1","ST MARY'S HOSPITAL","Cransley Hospice"]
["RP1A1-Kingfisher","RP1","NORTHAMPTONSHIRE HEALTHCARE NHS FOUNDATION TRUST","RP1A1","ST MARY'S HOSPITAL","Kingfisher"]
["RP1A1-Orchard","RP1","NORTHAMPTONSHIRE HEALTHCARE NHS FOUNDATION TRUST","RP1A1","ST MARY'S HOSPITAL","Orchard"]
["RP1A1-Sandpiper","RP1","NORTHAMPTONSHIRE HEALTHCARE NHS FOUNDATION TRUST","RP1A1","ST MARY'S HOSPITAL","Sandpiper"]
["RP1A1-Shearwater","RP1","NORTHAMPTONSHIRE HEALTHCARE NHS FOUNDATION TRUST","RP1A1","ST MARY'S HOSPITAL","Shearwater"]
["RP1A1-Spinney","RP1","NORTHAMPTONSHIRE HEALTHCARE NHS FOUNDATION TRUST","RP1A1","ST MARY'S HOSPITAL","Spinney"]
["RP1A2-Cynthia Spencer Hospice","RP1","NORTHAMPTONSHIRE HEALTHCARE NHS FOUNDATION TRUST","RP1A2","MANFIELD HEALTH CAMPUS","Cynthia Spencer Hospice"]
["RP1D7-The Squirrels","RP1","NORTHAMPTONSHIRE HEALTHCARE NHS FOUNDATION TRUST","RP1D7","THE SQUIRRELS","The Squirrels"]
["RP1F2-Beechwood","RP1","NORTHAMPTONSHIRE HEALTHCARE NHS FOUNDATION TRUST","RP1F2","ISEBROOK HOSPITAL","Beechwood"]
["RP1F2-Hazelwood","RP1","NORTHAMPTONSHIRE HEALTHCARE NHS FOUNDATION TRUST","RP1F2","ISEBROOK HOSPITAL","Hazelwood"]
["RP1J6-Danetre","RP1","NORTHAMPTONSHIRE HEALTHCARE NHS FOUNDATION TRUST","RP1J6","DANETRE HOSPITAL","Danetre"]
["RP1N8-Corby","RP1","NORTHAMPTONSHIRE HEALTHCARE NHS FOUNDATION TRUST","RP1N8","CORBY COMMUNITY HOSPITAL","Corby"]
["RP1NR-John Greenwood Shipman Centre","RP1","NORTHAMPTONSHIRE HEALTHCARE NHS FOUNDATION TRUST","RP1NR","SHORT BREAKS UNIT","John Greenwood Shipman Centre"]
["RP1Q8-CRISIS House","RP1","NORTHAMPTONSHIRE HEALTHCARE NHS FOUNDATION TRUST","RP1Q8","KENT ROAD","CRISIS House"]
["RP1Q9-1 Willow Close","RP1","NORTHAMPTONSHIRE HEALTHCARE NHS FOUNDATION TRUST","RP1Q9","1 WILLOW CLOSE","1 Willow Close"]
["RP1V4-(B768) Brookview","RP1","NORTHAMPTONSHIRE HEALTHCARE NHS FOUNDATION TRUST","RP1V4","BERRYWOOD HOSPITAL","(B768) Brookview"]
["RP1V4-(B769) Riverside","RP1","NORTHAMPTONSHIRE HEALTHCARE NHS FOUNDATION TRUST","RP1V4","BERRYWOOD HOSPITAL","(B769) Riverside"]
["RP1V4-Bay","RP1","NORTHAMPTONSHIRE HEALTHCARE NHS FOUNDATION TRUST","RP1V4","BERRYWOOD HOSPITAL","Bay"]
["RP1V4-Cove","RP1","NORTHAMPTONSHIRE HEALTHCARE NHS FOUNDATION TRUST","RP1V4","BERRYWOOD HOSPITAL","Cove"]
["RP1V4-Harbour","RP1","NORTHAMPTONSHIRE HEALTHCARE NHS FOUNDATION TRUST","RP1V4","BERRYWOOD HOSPITAL","Harbour"]
["RP1V4-Marina PICU","RP1","NORTHAMPTONSHIRE HEALTHCARE NHS FOUNDATION TRUST","RP1V4","BERRYWOOD HOSPITAL","Marina PICU"]
["RP1V4-Meadowbank","RP1","NORTHAMPTONSHIRE HEALTHCARE NHS FOUNDATION TRUST","RP1V4","BERRYWOOD HOSPITAL","Meadowbank"]
["RP1V4-The Burrows","RP1","NORTHAMPTONSHIRE HEALTHCARE NHS FOUNDATION TRUST","RP1V4","BERRYWOOD HOSPITAL","The Burrows"]
["RP1V4-Wheatfield","RP1","NORTHAMPTONSHIRE HEALTHCARE NHS FOUNDATION TRUST","RP1V4","BERRYWOOD HOSPITAL","Wheatfield"]
["RP1V6-The Sett","RP1","NORTHAMPTONSHIRE HEALTHCARE NHS FOUNDATION TRUST","RP1V6","THE SETT","The Sett"]
["RP401-Bear Ward","RP4","GREAT ORMOND STREET HOSPITAL FOR CHILDREN NHS FOUNDATION TRUST","RP401","GREAT ORMOND STREET HOSPITAL CENTRAL LONDON SITE","Bear Ward"]
["RP401-Bumblebee Ward","RP4","GREAT ORMOND STREET HOSPITAL FOR CHILDREN NHS FOUNDATION TRUST","RP401","GREAT ORMOND STREET HOSPITAL CENTRAL LONDON SITE","Bumblebee Ward"]
["RP401-Butterfly Ward","RP4","GREAT ORMOND STREET HOSPITAL FOR CHILDREN NHS FOUNDATION TRUST","RP401","GREAT ORMOND STREET HOSPITAL CENTRAL LONDON SITE","Butterfly Ward"]
[{"$f":"CONCATENATE(D3194,\"-\",F3194)","v":"RP401-Chameleon Ward"},"RP4","GREAT ORMOND STREET HOSPITAL FOR CHILDREN NHS FOUNDATION TRUST","RP401","GREAT ORMOND STREET HOSPITAL CENTRAL LONDON SITE","Chameleon Ward"]
["RP401-Dolphin ward (NICU)","RP4","GREAT ORMOND STREET HOSPITAL FOR CHILDREN NHS FOUNDATION TRUST","RP401","GREAT ORMOND STREET HOSPITAL CENTRAL LONDON SITE","Dolphin ward (NICU)"]
["RP401-Eagle Ward","RP4","GREAT ORMOND STREET HOSPITAL FOR CHILDREN NHS FOUNDATION TRUST","RP401","GREAT ORMOND STREET HOSPITAL CENTRAL LONDON SITE","Eagle Ward"]
["RP401-Elephant Ward","RP4","GREAT ORMOND STREET HOSPITAL FOR CHILDREN NHS FOUNDATION TRUST","RP401","GREAT ORMOND STREET HOSPITAL CENTRAL LONDON SITE","Elephant Ward"]
["RP401-Flamingo Ward","RP4","GREAT ORMOND STREET HOSPITAL FOR CHILDREN NHS FOUNDATION TRUST","RP401","GREAT ORMOND STREET HOSPITAL CENTRAL LONDON SITE","Flamingo Ward"]
["RP401-Fox Ward","RP4","GREAT ORMOND STREET HOSPITAL FOR CHILDREN NHS FOUNDATION TRUST","RP401","GREAT ORMOND STREET HOSPITAL CENTRAL LONDON SITE","Fox Ward"]
["RP401-Giraffe Ward","RP4","GREAT ORMOND STREET HOSPITAL FOR CHILDREN NHS FOUNDATION TRUST","RP401","GREAT ORMOND STREET HOSPITAL CENTRAL LONDON SITE","Giraffe Ward"]
["RP401-Kangaroo Ward","RP4","GREAT ORMOND STREET HOSPITAL FOR CHILDREN NHS FOUNDATION TRUST","RP401","GREAT ORMOND STREET HOSPITAL CENTRAL LONDON SITE","Kangaroo Ward"]
["RP401-Kingfisher Ward","RP4","GREAT ORMOND STREET HOSPITAL FOR CHILDREN NHS FOUNDATION TRUST","RP401","GREAT ORMOND STREET HOSPITAL CENTRAL LONDON SITE","Kingfisher Ward"]
["RP401-Koala Ward","RP4","GREAT ORMOND STREET HOSPITAL FOR CHILDREN NHS FOUNDATION TRUST","RP401","GREAT ORMOND STREET HOSPITAL CENTRAL LONDON SITE","Koala Ward"]
["RP401-Leopard Ward","RP4","GREAT ORMOND STREET HOSPITAL FOR CHILDREN NHS FOUNDATION TRUST","RP401","GREAT ORMOND STREET HOSPITAL CENTRAL LONDON SITE","Leopard Ward"]
["RP401-Lion Ward","RP4","GREAT ORMOND STREET HOSPITAL FOR CHILDREN NHS FOUNDATION TRUST","RP401","GREAT ORMOND STREET HOSPITAL CENTRAL LONDON SITE","Lion Ward"]
["RP401-Mildred Creak Unit","RP4","GREAT ORMOND STREET HOSPITAL FOR CHILDREN NHS FOUNDATION TRUST","RP401","GREAT ORMOND STREET HOSPITAL CENTRAL LONDON SITE","Mildred Creak Unit"]
["RP401-Panther Urology","RP4","GREAT ORMOND STREET HOSPITAL FOR CHILDREN NHS FOUNDATION TRUST","RP401","GREAT ORMOND STREET HOSPITAL CENTRAL LONDON SITE","Panther Urology"]
["RP401-Panther Ward","RP4","GREAT ORMOND STREET HOSPITAL FOR CHILDREN NHS FOUNDATION TRUST","RP401","GREAT ORMOND STREET HOSPITAL CENTRAL LONDON SITE","Panther Ward"]
["RP401-Pelican Ward","RP4","GREAT ORMOND STREET HOSPITAL FOR CHILDREN NHS FOUNDATION TRUST","RP401","GREAT ORMOND STREET HOSPITAL CENTRAL LONDON SITE","Pelican Ward"]
["RP401-Robin Ward","RP4","GREAT ORMOND STREET HOSPITAL FOR CHILDREN NHS FOUNDATION TRUST","RP401","GREAT ORMOND STREET HOSPITAL CENTRAL LONDON SITE","Robin Ward"]
["RP401-Seahorse ward (PICU)","RP4","GREAT ORMOND STREET HOSPITAL FOR CHILDREN NHS FOUNDATION TRUST","RP401","GREAT ORMOND STREET HOSPITAL CENTRAL LONDON SITE","Seahorse ward (PICU)"]
["RP401-Sky Ward","RP4","GREAT ORMOND STREET HOSPITAL FOR CHILDREN NHS FOUNDATION TRUST","RP401","GREAT ORMOND STREET HOSPITAL CENTRAL LONDON SITE","Sky Ward"]
["RP401-Squirrel Ward (Endo/Met)","RP4","GREAT ORMOND STREET HOSPITAL FOR CHILDREN NHS FOUNDATION TRUST","RP401","GREAT ORMOND STREET HOSPITAL CENTRAL LONDON SITE","Squirrel Ward (Endo/Met)"]
["RP401-Squirrel Ward (Gastro)","RP4","GREAT ORMOND STREET HOSPITAL FOR CHILDREN NHS FOUNDATION TRUST","RP401","GREAT ORMOND STREET HOSPITAL CENTRAL LONDON SITE","Squirrel Ward (Gastro)"]
["RP5BA-ATC","RP5","DONCASTER AND BASSETLAW TEACHING HOSPITALS NHS FOUNDATION TRUST","RP5BA","BASSETLAW HOSPITAL","ATC"]
["RP5BA-DCC (Bassetlaw)","RP5","DONCASTER AND BASSETLAW TEACHING HOSPITALS NHS FOUNDATION TRUST","RP5BA","BASSETLAW HOSPITAL","DCC (Bassetlaw)"]
["RP5BA-SCBU","RP5","DONCASTER AND BASSETLAW TEACHING HOSPITALS NHS FOUNDATION TRUST","RP5BA","BASSETLAW HOSPITAL","SCBU"]
["RP5BA-Ward A2","RP5","DONCASTER AND BASSETLAW TEACHING HOSPITALS NHS FOUNDATION TRUST","RP5BA","BASSETLAW HOSPITAL","Ward A2"]
["RP5BA-Ward A2L","RP5","DONCASTER AND BASSETLAW TEACHING HOSPITALS NHS FOUNDATION TRUST","RP5BA","BASSETLAW HOSPITAL","Ward A2L"]
["RP5BA-Ward A4","RP5","DONCASTER AND BASSETLAW TEACHING HOSPITALS NHS FOUNDATION TRUST","RP5BA","BASSETLAW HOSPITAL","Ward A4"]
["RP5BA-Ward B5","RP5","DONCASTER AND BASSETLAW TEACHING HOSPITALS NHS FOUNDATION TRUST","RP5BA","BASSETLAW HOSPITAL","Ward B5"]
["RP5BA-Ward B6","RP5","DONCASTER AND BASSETLAW TEACHING HOSPITALS NHS FOUNDATION TRUST","RP5BA","BASSETLAW HOSPITAL","Ward B6"]
["RP5BA-Ward C1","RP5","DONCASTER AND BASSETLAW TEACHING HOSPITALS NHS FOUNDATION TRUST","RP5BA","BASSETLAW HOSPITAL","Ward C1"]
["RP5BA-Ward CCU / C2","RP5","DONCASTER AND BASSETLAW TEACHING HOSPITALS NHS FOUNDATION TRUST","RP5BA","BASSETLAW HOSPITAL","Ward CCU / C2"]
["RP5DR-AMU","RP5","DONCASTER AND BASSETLAW TEACHING HOSPITALS NHS FOUNDATION TRUST","RP5DR","DONCASTER ROYAL INFIRMARY","AMU"]
["RP5DR-CCU (DRI)","RP5","DONCASTER AND BASSETLAW TEACHING HOSPITALS NHS FOUNDATION TRUST","RP5DR","DONCASTER ROYAL INFIRMARY","CCU (DRI)"]
["RP5DR-CDS","RP5","DONCASTER AND BASSETLAW TEACHING HOSPITALS NHS FOUNDATION TRUST","RP5DR","DONCASTER ROYAL INFIRMARY","CDS"]
["RP5DR-CHOU / CDS","RP5","DONCASTER AND BASSETLAW TEACHING HOSPITALS NHS FOUNDATION TRUST","RP5DR","DONCASTER ROYAL INFIRMARY","CHOU / CDS"]
["RP5DR-CHW","RP5","DONCASTER AND BASSETLAW TEACHING HOSPITALS NHS FOUNDATION TRUST","RP5DR","DONCASTER ROYAL INFIRMARY","CHW"]
["RP5DR-DCC (Doncaster)","RP5","DONCASTER AND BASSETLAW TEACHING HOSPITALS NHS FOUNDATION TRUST","RP5DR","DONCASTER ROYAL INFIRMARY","DCC (Doncaster)"]
["RP5DR-Kestrel / Kingfisher Ward","RP5","DONCASTER AND BASSETLAW TEACHING HOSPITALS NHS FOUNDATION TRUST","RP5DR","DONCASTER ROYAL INFIRMARY","Kestrel / Kingfisher Ward"]
["RP5DR-Mallard Ward","RP5","DONCASTER AND BASSETLAW TEACHING HOSPITALS NHS FOUNDATION TRUST","RP5DR","DONCASTER ROYAL INFIRMARY","Mallard Ward"]
["RP5DR-Respiratory Unit","RP5","DONCASTER AND BASSETLAW TEACHING HOSPITALS NHS FOUNDATION TRUST","RP5DR","DONCASTER ROYAL INFIRMARY","Respiratory Unit"]
["RP5DR-SAW","RP5","DONCASTER AND BASSETLAW TEACHING HOSPITALS NHS FOUNDATION TRUST","RP5DR","DONCASTER ROYAL INFIRMARY","SAW"]
["RP5DR-St Leger Ward","RP5","DONCASTER AND BASSETLAW TEACHING HOSPITALS NHS FOUNDATION TRUST","RP5DR","DONCASTER ROYAL INFIRMARY","St Leger Ward"]
["RP5DR-Stirling Ward","RP5","DONCASTER AND BASSETLAW TEACHING HOSPITALS NHS FOUNDATION TRUST","RP5DR","DONCASTER ROYAL INFIRMARY","Stirling Ward"]
["RP5DR-Ward 1 / 3","RP5","DONCASTER AND BASSETLAW TEACHING HOSPITALS NHS FOUNDATION TRUST","RP5DR","DONCASTER ROYAL INFIRMARY","Ward 1 / 3"]
["RP5DR-Ward 16","RP5","DONCASTER AND BASSETLAW TEACHING HOSPITALS NHS FOUNDATION TRUST","RP5DR","DONCASTER ROYAL INFIRMARY","Ward 16"]
["RP5DR-Ward 17","RP5","DONCASTER AND BASSETLAW TEACHING HOSPITALS NHS FOUNDATION TRUST","RP5DR","DONCASTER ROYAL INFIRMARY","Ward 17"]
["RP5DR-Ward 18","RP5","DONCASTER AND BASSETLAW TEACHING HOSPITALS NHS FOUNDATION TRUST","RP5DR","DONCASTER ROYAL INFIRMARY","Ward 18"]
["RP5DR-Ward 20","RP5","DONCASTER AND BASSETLAW TEACHING HOSPITALS NHS FOUNDATION TRUST","RP5DR","DONCASTER ROYAL INFIRMARY","Ward 20"]
["RP5DR-Ward 21","RP5","DONCASTER AND BASSETLAW TEACHING HOSPITALS NHS FOUNDATION TRUST","RP5DR","DONCASTER ROYAL INFIRMARY","Ward 21"]
["RP5DR-Ward 24","RP5","DONCASTER AND BASSETLAW TEACHING HOSPITALS NHS FOUNDATION TRUST","RP5DR","DONCASTER ROYAL INFIRMARY","Ward 24"]
["RP5DR-Ward 25","RP5","DONCASTER AND BASSETLAW TEACHING HOSPITALS NHS FOUNDATION TRUST","RP5DR","DONCASTER ROYAL INFIRMARY","Ward 25"]
["RP5DR-Ward 32","RP5","DONCASTER AND BASSETLAW TEACHING HOSPITALS NHS FOUNDATION TRUST","RP5DR","DONCASTER ROYAL INFIRMARY","Ward 32"]
["RP5DR-Ward G5","RP5","DONCASTER AND BASSETLAW TEACHING HOSPITALS NHS FOUNDATION TRUST","RP5DR","DONCASTER ROYAL INFIRMARY","Ward G5"]
["RP5DR-Ward M1","RP5","DONCASTER AND BASSETLAW TEACHING HOSPITALS NHS FOUNDATION TRUST","RP5DR","DONCASTER ROYAL INFIRMARY","Ward M1"]
["RP5DR-Ward M2","RP5","DONCASTER AND BASSETLAW TEACHING HOSPITALS NHS FOUNDATION TRUST","RP5DR","DONCASTER ROYAL INFIRMARY","Ward M2"]
["RP5DR-Ward M8","RP5","DONCASTER AND BASSETLAW TEACHING HOSPITALS NHS FOUNDATION TRUST","RP5DR","DONCASTER ROYAL INFIRMARY","Ward M8"]
["RP5DR-Ward S10","RP5","DONCASTER AND BASSETLAW TEACHING HOSPITALS NHS FOUNDATION TRUST","RP5DR","DONCASTER ROYAL INFIRMARY","Ward S10"]
["RP5DR-Ward S11","RP5","DONCASTER AND BASSETLAW TEACHING HOSPITALS NHS FOUNDATION TRUST","RP5DR","DONCASTER ROYAL INFIRMARY","Ward S11"]
["RP5DR-Ward S12","RP5","DONCASTER AND BASSETLAW TEACHING HOSPITALS NHS FOUNDATION TRUST","RP5DR","DONCASTER ROYAL INFIRMARY","Ward S12"]
["RP5MM-RHB1 (Wentworth)","RP5","DONCASTER AND BASSETLAW TEACHING HOSPITALS NHS FOUNDATION TRUST","RP5MM","MONTAGU HOSPITAL","RHB1 (Wentworth)"]
["RP5MM-RHB2 (Adwick)","RP5","DONCASTER AND BASSETLAW TEACHING HOSPITALS NHS FOUNDATION TRUST","RP5MM","MONTAGU HOSPITAL","RHB2 (Adwick)"]
["RP601-Cumberlege Wing","RP6","MOORFIELDS EYE HOSPITAL NHS FOUNDATION TRUST","RP601","MOORFIELDS EYE HOSPITAL (CITY ROAD) - RP601","Cumberlege Wing"]
["RP601-Observation Unit","RP6","MOORFIELDS EYE HOSPITAL NHS FOUNDATION TRUST","RP601","MOORFIELDS EYE HOSPITAL (CITY ROAD) - RP601","Observation Unit"]
["RP604-Duke Elder Ward","RP6","MOORFIELDS EYE HOSPITAL NHS FOUNDATION TRUST","RP604","MOORFIELDS AT ST GEORGE'S HOSPITAL - RP604","Duke Elder Ward"]
[{"$f":"CONCATENATE(D3258,\"-\",F3258)","v":"RP701-Rochford"},"RP7","LINCOLNSHIRE PARTNERSHIP NHS FOUNDATION TRUST","RP701","MENTAL HEALTH UNIT FOR OLDER PEOPLE - ROCHFORD UNIT","Rochford"]
["RP706-Ashley House","RP7","LINCOLNSHIRE PARTNERSHIP NHS FOUNDATION TRUST","RP706","274 SSRH2 ASHLEY HOUSE REHAB L21540","Ashley House"]
["RP723-Hartsholme Unit","RP7","LINCOLNSHIRE PARTNERSHIP NHS FOUNDATION TRUST","RP723","CARHOLME COURT","Hartsholme Unit"]
["RP7CG-Langworth Ward","RP7","LINCOLNSHIRE PARTNERSHIP NHS FOUNDATION TRUST","RP7CG","274 SSDEAC2 BRANT / LANGWORTH","Langworth Ward"]
["RP7DC-Maple Lodge","RP7","LINCOLNSHIRE PARTNERSHIP NHS FOUNDATION TRUST","RP7DC","274 SSRH1 MAPLE LODGE REHAB L21525","Maple Lodge"]
["RP7EV-Charlesworth Ward","RP7","LINCOLNSHIRE PARTNERSHIP NHS FOUNDATION TRUST","RP7EV","ACUTE MENTAL HEALTH UNIT & DAY HOSPITAL","Charlesworth Ward"]
["RP7EV-Conolly Ward","RP7","LINCOLNSHIRE PARTNERSHIP NHS FOUNDATION TRUST","RP7EV","ACUTE MENTAL HEALTH UNIT & DAY HOSPITAL","Conolly Ward"]
["RP7FK-Francis Willis Unit","RP7","LINCOLNSHIRE PARTNERSHIP NHS FOUNDATION TRUST","RP7FK","LOW SECURE MENTAL HEALTH UNIT","Francis Willis Unit"]
["RP7FQ-The Fens","RP7","LINCOLNSHIRE PARTNERSHIP NHS FOUNDATION TRUST","RP7FQ","MENTAL HEALTH LONG TERM REHABILITATION & DAY HOSPITAL","The Fens"]
["RP7FQ-The Vales","RP7","LINCOLNSHIRE PARTNERSHIP NHS FOUNDATION TRUST","RP7FQ","MENTAL HEALTH LONG TERM REHABILITATION & DAY HOSPITAL","The Vales"]
["RP7FQ-The Wolds","RP7","LINCOLNSHIRE PARTNERSHIP NHS FOUNDATION TRUST","RP7FQ","MENTAL HEALTH LONG TERM REHABILITATION & DAY HOSPITAL","The Wolds"]
["RP7LA-Ward 12","RP7","LINCOLNSHIRE PARTNERSHIP NHS FOUNDATION TRUST","RP7LA","DEPARTMENT OF PSYCHIATRY","Ward 12"]
["RP7LP-Manthorpe","RP7","LINCOLNSHIRE PARTNERSHIP NHS FOUNDATION TRUST","RP7LP","MENTAL HEALTH UNIT - GRANTHAM","Manthorpe"]
["RP7MA-Ash Villa","RP7","LINCOLNSHIRE PARTNERSHIP NHS FOUNDATION TRUST","RP7MA","274 SC1AA C&FS ASH VILLA IN PATIENT  L21252","Ash Villa"]
["RPA02-Arethusa","RPA","MEDWAY NHS FOUNDATION TRUST","RPA02","MEDWAY MARITIME HOSPITAL - RPA02","Arethusa"]
["RPA02-Bronte WARD","RPA","MEDWAY NHS FOUNDATION TRUST","RPA02","MEDWAY MARITIME HOSPITAL - RPA02","Bronte WARD"]
["RPA02-Byron","RPA","MEDWAY NHS FOUNDATION TRUST","RPA02","MEDWAY MARITIME HOSPITAL - RPA02","Byron"]
["RPA02-CCU","RPA","MEDWAY NHS FOUNDATION TRUST","RPA02","MEDWAY MARITIME HOSPITAL - RPA02","CCU"]
["RPA02-Delivery","RPA","MEDWAY NHS FOUNDATION TRUST","RPA02","MEDWAY MARITIME HOSPITAL - RPA02","Delivery"]
["RPA02-Dickens","RPA","MEDWAY NHS FOUNDATION TRUST","RPA02","MEDWAY MARITIME HOSPITAL - RPA02","Dickens"]
["RPA02-Dolphin (Paeds)","RPA","MEDWAY NHS FOUNDATION TRUST","RPA02","MEDWAY MARITIME HOSPITAL - RPA02","Dolphin (Paeds)"]
["RPA02-Harvey","RPA","MEDWAY NHS FOUNDATION TRUST","RPA02","MEDWAY MARITIME HOSPITAL - RPA02","Harvey"]
["RPA02-Intensive Care Unit","RPA","MEDWAY NHS FOUNDATION TRUST","RPA02","MEDWAY MARITIME HOSPITAL - RPA02","Intensive Care Unit"]
["RPA02-Keats","RPA","MEDWAY NHS FOUNDATION TRUST","RPA02","MEDWAY MARITIME HOSPITAL - RPA02","Keats"]
["RPA02-Kent","RPA","MEDWAY NHS FOUNDATION TRUST","RPA02","MEDWAY MARITIME HOSPITAL - RPA02","Kent"]
["RPA02-Kingfisher SAU","RPA","MEDWAY NHS FOUNDATION TRUST","RPA02","MEDWAY MARITIME HOSPITAL - RPA02","Kingfisher SAU"]
["RPA02-Lawrence","RPA","MEDWAY NHS FOUNDATION TRUST","RPA02","MEDWAY MARITIME HOSPITAL - RPA02","Lawrence"]
["RPA02-Lister Assessment Unit","RPA","MEDWAY NHS FOUNDATION TRUST","RPA02","MEDWAY MARITIME HOSPITAL - RPA02","Lister Assessment Unit"]
["RPA02-McCulloch","RPA","MEDWAY NHS FOUNDATION TRUST","RPA02","MEDWAY MARITIME HOSPITAL - RPA02","McCulloch"]
["RPA02-Medical HDU","RPA","MEDWAY NHS FOUNDATION TRUST","RPA02","MEDWAY MARITIME HOSPITAL - RPA02","Medical HDU"]
["RPA02-Milton","RPA","MEDWAY NHS FOUNDATION TRUST","RPA02","MEDWAY MARITIME HOSPITAL - RPA02","Milton"]
["RPA02-Nelson","RPA","MEDWAY NHS FOUNDATION TRUST","RPA02","MEDWAY MARITIME HOSPITAL - RPA02","Nelson"]
["RPA02-NICU","RPA","MEDWAY NHS FOUNDATION TRUST","RPA02","MEDWAY MARITIME HOSPITAL - RPA02","NICU"]
["RPA02-Ocelot","RPA","MEDWAY NHS FOUNDATION TRUST","RPA02","MEDWAY MARITIME HOSPITAL - RPA02","Ocelot"]
["RPA02-Pearl","RPA","MEDWAY NHS FOUNDATION TRUST","RPA02","MEDWAY MARITIME HOSPITAL - RPA02","Pearl"]
["RPA02-Pembroke","RPA","MEDWAY NHS FOUNDATION TRUST","RPA02","MEDWAY MARITIME HOSPITAL - RPA02","Pembroke"]
["RPA02-Phoenix","RPA","MEDWAY NHS FOUNDATION TRUST","RPA02","MEDWAY MARITIME HOSPITAL - RPA02","Phoenix"]
["RPA02-Sapphire","RPA","MEDWAY NHS FOUNDATION TRUST","RPA02","MEDWAY MARITIME HOSPITAL - RPA02","Sapphire"]
["RPA02-SDCC","RPA","MEDWAY NHS FOUNDATION TRUST","RPA02","MEDWAY MARITIME HOSPITAL - RPA02","SDCC"]
["RPA02-Surgical HDU","RPA","MEDWAY NHS FOUNDATION TRUST","RPA02","MEDWAY MARITIME HOSPITAL - RPA02","Surgical HDU"]
["RPA02-Tennyson","RPA","MEDWAY NHS FOUNDATION TRUST","RPA02","MEDWAY MARITIME HOSPITAL - RPA02","Tennyson"]
["RPA02-The Birth Place","RPA","MEDWAY NHS FOUNDATION TRUST","RPA02","MEDWAY MARITIME HOSPITAL - RPA02","The Birth Place"]
["RPA02-Victory","RPA","MEDWAY NHS FOUNDATION TRUST","RPA02","MEDWAY MARITIME HOSPITAL - RPA02","Victory"]
["RPA02-Wakeley","RPA","MEDWAY NHS FOUNDATION TRUST","RPA02","MEDWAY MARITIME HOSPITAL - RPA02","Wakeley"]
["RPA02-Will Adams","RPA","MEDWAY NHS FOUNDATION TRUST","RPA02","MEDWAY MARITIME HOSPITAL - RPA02","Will Adams"]
["RPC04-Burns Unit","RPC","QUEEN VICTORIA HOSPITAL NHS FOUNDATION TRUST","RPC04","QUEEN VICTORIA HOSPITAL (EAST GRINSTEAD) - RPC04","Burns Unit"]
["RPC04-Critical Care Unit","RPC","QUEEN VICTORIA HOSPITAL NHS FOUNDATION TRUST","RPC04","QUEEN VICTORIA HOSPITAL (EAST GRINSTEAD) - RPC04","Critical Care Unit"]
["RPC04-Margaret Duncombe","RPC","QUEEN VICTORIA HOSPITAL NHS FOUNDATION TRUST","RPC04","QUEEN VICTORIA HOSPITAL (EAST GRINSTEAD) - RPC04","Margaret Duncombe"]
["RPC04-Ross Tilley","RPC","QUEEN VICTORIA HOSPITAL NHS FOUNDATION TRUST","RPC04","QUEEN VICTORIA HOSPITAL (EAST GRINSTEAD) - RPC04","Ross Tilley"]
["RPGAB-Birchwood","RPG","OXLEAS NHS FOUNDATION TRUST","RPGAB","BRACTON","Birchwood"]
["RPGAB-Burgess","RPG","OXLEAS NHS FOUNDATION TRUST","RPGAB","BRACTON","Burgess"]
["RPGAB-Crofton","RPG","OXLEAS NHS FOUNDATION TRUST","RPGAB","BRACTON","Crofton"]
["RPGAB-Danson","RPG","OXLEAS NHS FOUNDATION TRUST","RPGAB","BRACTON","Danson"]
["RPGAB-Heath","RPG","OXLEAS NHS FOUNDATION TRUST","RPGAB","BRACTON","Heath"]
["RPGAB-Joydens","RPG","OXLEAS NHS FOUNDATION TRUST","RPGAB","BRACTON","Joydens"]
["RPGAD-Betts","RPG","OXLEAS NHS FOUNDATION TRUST","RPGAD","GREEN PARK'S HOUSE","Betts"]
["RPGAD-Goddington","RPG","OXLEAS NHS FOUNDATION TRUST","RPGAD","GREEN PARK'S HOUSE","Goddington"]
["RPGAD-Norman","RPG","OXLEAS NHS FOUNDATION TRUST","RPGAD","GREEN PARK'S HOUSE","Norman"]
["RPGAD-Scadbury Ward","RPG","OXLEAS NHS FOUNDATION TRUST","RPGAD","GREEN PARK'S HOUSE","Scadbury Ward"]
["RPGAE-Avery","RPG","OXLEAS NHS FOUNDATION TRUST","RPGAE","OXLEAS HOUSE","Avery"]
["RPGAE-Maryon","RPG","OXLEAS NHS FOUNDATION TRUST","RPGAE","OXLEAS HOUSE","Maryon"]
["RPGAE-Shepherdleas Ward","RPG","OXLEAS NHS FOUNDATION TRUST","RPGAE","OXLEAS HOUSE","Shepherdleas Ward"]
["RPGAE-Shrewsbury","RPG","OXLEAS NHS FOUNDATION TRUST","RPGAE","OXLEAS HOUSE","Shrewsbury"]
["RPGAE-Tarn","RPG","OXLEAS NHS FOUNDATION TRUST","RPGAE","OXLEAS HOUSE","Tarn"]
[{"$f":"CONCATENATE(D3322,\"-\",F3322)","v":"RPGAG-Greenwood"},"RPG","OXLEAS NHS FOUNDATION TRUST","RPGAG","MEMORIAL HOSPITAL","Greenwood"]
["RPGAG-Hazelwood","RPG","OXLEAS NHS FOUNDATION TRUST","RPGAG","MEMORIAL HOSPITAL","Hazelwood"]
["RPGAG-Oaktree Lodge","RPG","OXLEAS NHS FOUNDATION TRUST","RPGAG","MEMORIAL HOSPITAL","Oaktree Lodge"]
["RPGAH-Holbrook","RPG","OXLEAS NHS FOUNDATION TRUST","RPGAH","WOODLANDS","Holbrook"]
["RPGAH-Lesney","RPG","OXLEAS NHS FOUNDATION TRUST","RPGAH","WOODLANDS","Lesney"]
["RPGAH-Milbrook","RPG","OXLEAS NHS FOUNDATION TRUST","RPGAH","WOODLANDS","Milbrook"]
["RPGAN-Atlas House","RPG","OXLEAS NHS FOUNDATION TRUST","RPGAN","GOLDIE LEIGH","Atlas House"]
["RPGAP-Barefoot","RPG","OXLEAS NHS FOUNDATION TRUST","RPGAP","BAREFOOT LODGE","Barefoot"]
["RPGFD-Bexley Meadowview","RPG","OXLEAS NHS FOUNDATION TRUST","RPGFD","STEP UP, STEP DOWN","Bexley Meadowview"]
["RPGGP-Bluebell House","RPG","OXLEAS NHS FOUNDATION TRUST","RPGGP","1 WENSLEY CLOSE","Bluebell House"]
["RPGHP-Eltham Community Beds","RPG","OXLEAS NHS FOUNDATION TRUST","RPGHP","ELTHAM COMMUNITY HOSPITAL","Eltham Community Beds"]
["RPGHR-Belmarsh","RPG","OXLEAS NHS FOUNDATION TRUST","RPGHR","BELMARSH","Belmarsh"]
["RPGHT-Thameside","RPG","OXLEAS NHS FOUNDATION TRUST","RPGHT","THAMESIDE","Thameside"]
["RPY01-Burdett Coutts","RPY","THE ROYAL MARSDEN NHS FOUNDATION TRUST","RPY01","THE ROYAL MARSDEN HOSPITAL (LONDON) - RPY01","Burdett Coutts"]
["RPY01-Critical Care Unit","RPY","THE ROYAL MARSDEN NHS FOUNDATION TRUST","RPY01","THE ROYAL MARSDEN HOSPITAL (LONDON) - RPY01","Critical Care Unit"]
["RPY01-Ellis Ward","RPY","THE ROYAL MARSDEN NHS FOUNDATION TRUST","RPY01","THE ROYAL MARSDEN HOSPITAL (LONDON) - RPY01","Ellis Ward"]
["RPY01-Granard House 1","RPY","THE ROYAL MARSDEN NHS FOUNDATION TRUST","RPY01","THE ROYAL MARSDEN HOSPITAL (LONDON) - RPY01","Granard House 1"]
["RPY01-Granard House 2","RPY","THE ROYAL MARSDEN NHS FOUNDATION TRUST","RPY01","THE ROYAL MARSDEN HOSPITAL (LONDON) - RPY01","Granard House 2"]
["RPY01-Granard House 3","RPY","THE ROYAL MARSDEN NHS FOUNDATION TRUST","RPY01","THE ROYAL MARSDEN HOSPITAL (LONDON) - RPY01","Granard House 3"]
["RPY01-Horder Ward","RPY","THE ROYAL MARSDEN NHS FOUNDATION TRUST","RPY01","THE ROYAL MARSDEN HOSPITAL (LONDON) - RPY01","Horder Ward"]
["RPY01-Markus Ward","RPY","THE ROYAL MARSDEN NHS FOUNDATION TRUST","RPY01","THE ROYAL MARSDEN HOSPITAL (LONDON) - RPY01","Markus Ward"]
["RPY01-Wilson Ward","RPY","THE ROYAL MARSDEN NHS FOUNDATION TRUST","RPY01","THE ROYAL MARSDEN HOSPITAL (LONDON) - RPY01","Wilson Ward"]
["RPY02-Bud Flanagan East Ward","RPY","THE ROYAL MARSDEN NHS FOUNDATION TRUST","RPY02","THE ROYAL MARSDEN HOSPITAL (SURREY) - RPY02","Bud Flanagan East Ward"]
["RPY02-Bud Flanagan West Ward","RPY","THE ROYAL MARSDEN NHS FOUNDATION TRUST","RPY02","THE ROYAL MARSDEN HOSPITAL (SURREY) - RPY02","Bud Flanagan West Ward"]
["RPY02-Kennaway Ward","RPY","THE ROYAL MARSDEN NHS FOUNDATION TRUST","RPY02","THE ROYAL MARSDEN HOSPITAL (SURREY) - RPY02","Kennaway Ward"]
["RPY02-McElwain Ward","RPY","THE ROYAL MARSDEN NHS FOUNDATION TRUST","RPY02","THE ROYAL MARSDEN HOSPITAL (SURREY) - RPY02","McElwain Ward"]
["RPY02-Oak Ward","RPY","THE ROYAL MARSDEN NHS FOUNDATION TRUST","RPY02","THE ROYAL MARSDEN HOSPITAL (SURREY) - RPY02","Oak Ward"]
["RPY02-Robert Tiffany Ward","RPY","THE ROYAL MARSDEN NHS FOUNDATION TRUST","RPY02","THE ROYAL MARSDEN HOSPITAL (SURREY) - RPY02","Robert Tiffany Ward"]
["RPY02-Smithers Ward","RPY","THE ROYAL MARSDEN NHS FOUNDATION TRUST","RPY02","THE ROYAL MARSDEN HOSPITAL (SURREY) - RPY02","Smithers Ward"]
["RPY02-Teenage and Young Adult Unit","RPY","THE ROYAL MARSDEN NHS FOUNDATION TRUST","RPY02","THE ROYAL MARSDEN HOSPITAL (SURREY) - RPY02","Teenage and Young Adult Unit"]
["RPY02-Wiltshaw Ward","RPY","THE ROYAL MARSDEN NHS FOUNDATION TRUST","RPY02","THE ROYAL MARSDEN HOSPITAL (SURREY) - RPY02","Wiltshaw Ward"]
["RQ301-Ashfield","RQ3","BIRMINGHAM WOMEN'S AND CHILDREN'S NHS FOUNDATION TRUST","RQ301","BIRMINGHAM CHILDREN'S HOSPITAL","Ashfield"]
["RQ301-Burns","RQ3","BIRMINGHAM WOMEN'S AND CHILDREN'S NHS FOUNDATION TRUST","RQ301","BIRMINGHAM CHILDREN'S HOSPITAL","Burns"]
[{"$f":"CONCATENATE(D3355,\"-\",F3355)","v":"RQ301-ED"},"RQ3","BIRMINGHAM WOMEN'S AND CHILDREN'S NHS FOUNDATION TRUST","RQ301","BIRMINGHAM CHILDREN'S HOSPITAL","ED"]
["RQ301-Heathlands","RQ3","BIRMINGHAM WOMEN'S AND CHILDREN'S NHS FOUNDATION TRUST","RQ301","BIRMINGHAM CHILDREN'S HOSPITAL","Heathlands"]
["RQ301-Irwin","RQ3","BIRMINGHAM WOMEN'S AND CHILDREN'S NHS FOUNDATION TRUST","RQ301","BIRMINGHAM CHILDREN'S HOSPITAL","Irwin"]
["RQ301-MHDU","RQ3","BIRMINGHAM WOMEN'S AND CHILDREN'S NHS FOUNDATION TRUST","RQ301","BIRMINGHAM CHILDREN'S HOSPITAL","MHDU"]
["RQ301-Neonatal Surgical","RQ3","BIRMINGHAM WOMEN'S AND CHILDREN'S NHS FOUNDATION TRUST","RQ301","BIRMINGHAM CHILDREN'S HOSPITAL","Neonatal Surgical"]
["RQ301-Ocean Ward Complex Care","RQ3","BIRMINGHAM WOMEN'S AND CHILDREN'S NHS FOUNDATION TRUST","RQ301","BIRMINGHAM CHILDREN'S HOSPITAL","Ocean Ward Complex Care"]
["RQ301-PAU","RQ3","BIRMINGHAM WOMEN'S AND CHILDREN'S NHS FOUNDATION TRUST","RQ301","BIRMINGHAM CHILDREN'S HOSPITAL","PAU"]
["RQ301-PICU","RQ3","BIRMINGHAM WOMEN'S AND CHILDREN'S NHS FOUNDATION TRUST","RQ301","BIRMINGHAM CHILDREN'S HOSPITAL","PICU"]
["RQ301-Ward 1","RQ3","BIRMINGHAM WOMEN'S AND CHILDREN'S NHS FOUNDATION TRUST","RQ301","BIRMINGHAM CHILDREN'S HOSPITAL","Ward 1"]
["RQ301-Ward 10","RQ3","BIRMINGHAM WOMEN'S AND CHILDREN'S NHS FOUNDATION TRUST","RQ301","BIRMINGHAM CHILDREN'S HOSPITAL","Ward 10"]
["RQ301-Ward 11","RQ3","BIRMINGHAM WOMEN'S AND CHILDREN'S NHS FOUNDATION TRUST","RQ301","BIRMINGHAM CHILDREN'S HOSPITAL","Ward 11"]
["RQ301-Ward 12","RQ3","BIRMINGHAM WOMEN'S AND CHILDREN'S NHS FOUNDATION TRUST","RQ301","BIRMINGHAM CHILDREN'S HOSPITAL","Ward 12"]
["RQ301-Ward 15","RQ3","BIRMINGHAM WOMEN'S AND CHILDREN'S NHS FOUNDATION TRUST","RQ301","BIRMINGHAM CHILDREN'S HOSPITAL","Ward 15"]
["RQ301-Ward 18","RQ3","BIRMINGHAM WOMEN'S AND CHILDREN'S NHS FOUNDATION TRUST","RQ301","BIRMINGHAM CHILDREN'S HOSPITAL","Ward 18"]
["RQ301-Ward 19","RQ3","BIRMINGHAM WOMEN'S AND CHILDREN'S NHS FOUNDATION TRUST","RQ301","BIRMINGHAM CHILDREN'S HOSPITAL","Ward 19"]
["RQ301-Ward 2","RQ3","BIRMINGHAM WOMEN'S AND CHILDREN'S NHS FOUNDATION TRUST","RQ301","BIRMINGHAM CHILDREN'S HOSPITAL","Ward 2"]
["RQ301-Ward 5","RQ3","BIRMINGHAM WOMEN'S AND CHILDREN'S NHS FOUNDATION TRUST","RQ301","BIRMINGHAM CHILDREN'S HOSPITAL","Ward 5"]
["RQ301-Ward 8","RQ3","BIRMINGHAM WOMEN'S AND CHILDREN'S NHS FOUNDATION TRUST","RQ301","BIRMINGHAM CHILDREN'S HOSPITAL","Ward 8"]
["RQ301-Ward 9","RQ3","BIRMINGHAM WOMEN'S AND CHILDREN'S NHS FOUNDATION TRUST","RQ301","BIRMINGHAM CHILDREN'S HOSPITAL","Ward 9"]
["RQ370-Birth Centre","RQ3","BIRMINGHAM WOMEN'S AND CHILDREN'S NHS FOUNDATION TRUST","RQ370","BIRMINGHAM WOMEN'S HOSPITAL","Birth Centre"]
["RQ370-Delivery Suite","RQ3","BIRMINGHAM WOMEN'S AND CHILDREN'S NHS FOUNDATION TRUST","RQ370","BIRMINGHAM WOMEN'S HOSPITAL","Delivery Suite"]
["RQ370-Neonatal Unit","RQ3","BIRMINGHAM WOMEN'S AND CHILDREN'S NHS FOUNDATION TRUST","RQ370","BIRMINGHAM WOMEN'S HOSPITAL","Neonatal Unit"]
["RQ370-Transitional Ward","RQ3","BIRMINGHAM WOMEN'S AND CHILDREN'S NHS FOUNDATION TRUST","RQ370","BIRMINGHAM WOMEN'S HOSPITAL","Transitional Ward"]
["RQ370-Ward 1","RQ3","BIRMINGHAM WOMEN'S AND CHILDREN'S NHS FOUNDATION TRUST","RQ370","BIRMINGHAM WOMEN'S HOSPITAL","Ward 1"]
["RQ370-Ward 3","RQ3","BIRMINGHAM WOMEN'S AND CHILDREN'S NHS FOUNDATION TRUST","RQ370","BIRMINGHAM WOMEN'S HOSPITAL","Ward 3"]
["RQ370-Ward 4","RQ3","BIRMINGHAM WOMEN'S AND CHILDREN'S NHS FOUNDATION TRUST","RQ370","BIRMINGHAM WOMEN'S HOSPITAL","Ward 4"]
["RQ370-Ward 8","RQ3","BIRMINGHAM WOMEN'S AND CHILDREN'S NHS FOUNDATION TRUST","RQ370","BIRMINGHAM WOMEN'S HOSPITAL","Ward 8"]
["RQ8L0-A4.3 Postnatal Ward","RQ8","MID ESSEX HOSPITAL SERVICES NHS TRUST","RQ8L0","BROOMFIELD HOSPITAL - RQ8L0","A4.3 Postnatal Ward"]
["RQ8L0-A4.4 Neonatal Unit","RQ8","MID ESSEX HOSPITAL SERVICES NHS TRUST","RQ8L0","BROOMFIELD HOSPITAL - RQ8L0","A4.4 Neonatal Unit"]
["RQ8L0-Acute Medical Unit","RQ8","MID ESSEX HOSPITAL SERVICES NHS TRUST","RQ8L0","BROOMFIELD HOSPITAL - RQ8L0","Acute Medical Unit"]
["RQ8L0-Baddow Ward","RQ8","MID ESSEX HOSPITAL SERVICES NHS TRUST","RQ8L0","BROOMFIELD HOSPITAL - RQ8L0","Baddow Ward"]
["RQ8L0-Bardfield Ward","RQ8","MID ESSEX HOSPITAL SERVICES NHS TRUST","RQ8L0","BROOMFIELD HOSPITAL - RQ8L0","Bardfield Ward"]
["RQ8L0-Billericay Ward","RQ8","MID ESSEX HOSPITAL SERVICES NHS TRUST","RQ8L0","BROOMFIELD HOSPITAL - RQ8L0","Billericay Ward"]
["RQ8L0-Birthing Unit","RQ8","MID ESSEX HOSPITAL SERVICES NHS TRUST","RQ8L0","BROOMFIELD HOSPITAL - RQ8L0","Birthing Unit"]
["RQ8L0-Braxted Ward","RQ8","MID ESSEX HOSPITAL SERVICES NHS TRUST","RQ8L0","BROOMFIELD HOSPITAL - RQ8L0","Braxted Ward"]
["RQ8L0-Burns Adult Ward","RQ8","MID ESSEX HOSPITAL SERVICES NHS TRUST","RQ8L0","BROOMFIELD HOSPITAL - RQ8L0","Burns Adult Ward"]
["RQ8L0-Burns Children Ward","RQ8","MID ESSEX HOSPITAL SERVICES NHS TRUST","RQ8L0","BROOMFIELD HOSPITAL - RQ8L0","Burns Children Ward"]
["RQ8L0-Burns ITU","RQ8","MID ESSEX HOSPITAL SERVICES NHS TRUST","RQ8L0","BROOMFIELD HOSPITAL - RQ8L0","Burns ITU"]
["RQ8L0-Courtauld Ward","RQ8","MID ESSEX HOSPITAL SERVICES NHS TRUST","RQ8L0","BROOMFIELD HOSPITAL - RQ8L0","Courtauld Ward"]
["RQ8L0-Delivery Suite/Labour Ward","RQ8","MID ESSEX HOSPITAL SERVICES NHS TRUST","RQ8L0","BROOMFIELD HOSPITAL - RQ8L0","Delivery Suite/Labour Ward"]
["RQ8L0-Feering Ward","RQ8","MID ESSEX HOSPITAL SERVICES NHS TRUST","RQ8L0","BROOMFIELD HOSPITAL - RQ8L0","Feering Ward"]
["RQ8L0-Frailty Unit","RQ8","MID ESSEX HOSPITAL SERVICES NHS TRUST","RQ8L0","BROOMFIELD HOSPITAL - RQ8L0","Frailty Unit"]
["RQ8L0-GICU","RQ8","MID ESSEX HOSPITAL SERVICES NHS TRUST","RQ8L0","BROOMFIELD HOSPITAL - RQ8L0","GICU"]
["RQ8L0-Gosfield (EACD)","RQ8","MID ESSEX HOSPITAL SERVICES NHS TRUST","RQ8L0","BROOMFIELD HOSPITAL - RQ8L0","Gosfield (EACD)"]
["RQ8L0-Heybridge Ward","RQ8","MID ESSEX HOSPITAL SERVICES NHS TRUST","RQ8L0","BROOMFIELD HOSPITAL - RQ8L0","Heybridge Ward"]
["RQ8L0-John Ray Ward","RQ8","MID ESSEX HOSPITAL SERVICES NHS TRUST","RQ8L0","BROOMFIELD HOSPITAL - RQ8L0","John Ray Ward"]
["RQ8L0-Lister Ward","RQ8","MID ESSEX HOSPITAL SERVICES NHS TRUST","RQ8L0","BROOMFIELD HOSPITAL - RQ8L0","Lister Ward"]
["RQ8L0-Mayflower (BADB)","RQ8","MID ESSEX HOSPITAL SERVICES NHS TRUST","RQ8L0","BROOMFIELD HOSPITAL - RQ8L0","Mayflower (BADB)"]
["RQ8L0-Neonatal Unit","RQ8","MID ESSEX HOSPITAL SERVICES NHS TRUST","RQ8L0","BROOMFIELD HOSPITAL - RQ8L0","Neonatal Unit"]
["RQ8L0-Notley Ward","RQ8","MID ESSEX HOSPITAL SERVICES NHS TRUST","RQ8L0","BROOMFIELD HOSPITAL - RQ8L0","Notley Ward"]
["RQ8L0-Phoenix Ward","RQ8","MID ESSEX HOSPITAL SERVICES NHS TRUST","RQ8L0","BROOMFIELD HOSPITAL - RQ8L0","Phoenix Ward"]
["RQ8L0-Postnatal Ward","RQ8","MID ESSEX HOSPITAL SERVICES NHS TRUST","RQ8L0","BROOMFIELD HOSPITAL - RQ8L0","Postnatal Ward"]
["RQ8L0-Rayne Ward","RQ8","MID ESSEX HOSPITAL SERVICES NHS TRUST","RQ8L0","BROOMFIELD HOSPITAL - RQ8L0","Rayne Ward"]
["RQ8L0-SEW (GBBK)","RQ8","MID ESSEX HOSPITAL SERVICES NHS TRUST","RQ8L0","BROOMFIELD HOSPITAL - RQ8L0","SEW (GBBK)"]
["RQ8L0-St Peters Maternity","RQ8","MID ESSEX HOSPITAL SERVICES NHS TRUST","RQ8L0","BROOMFIELD HOSPITAL - RQ8L0","St Peters Maternity"]
["RQ8L0-Stock Ward","RQ8","MID ESSEX HOSPITAL SERVICES NHS TRUST","RQ8L0","BROOMFIELD HOSPITAL - RQ8L0","Stock Ward"]
["RQ8L0-Stroke Unit","RQ8","MID ESSEX HOSPITAL SERVICES NHS TRUST","RQ8L0","BROOMFIELD HOSPITAL - RQ8L0","Stroke Unit"]
["RQ8L0-Terling Ward","RQ8","MID ESSEX HOSPITAL SERVICES NHS TRUST","RQ8L0","BROOMFIELD HOSPITAL - RQ8L0","Terling Ward"]
["RQ8L0-Tollesbury Ward","RQ8","MID ESSEX HOSPITAL SERVICES NHS TRUST","RQ8L0","BROOMFIELD HOSPITAL - RQ8L0","Tollesbury Ward"]
["RQ8L0-WJC Maternity","RQ8","MID ESSEX HOSPITAL SERVICES NHS TRUST","RQ8L0","BROOMFIELD HOSPITAL - RQ8L0","WJC Maternity"]
["RQ8L0-Writtle Ward (SRGD)","RQ8","MID ESSEX HOSPITAL SERVICES NHS TRUST","RQ8L0","BROOMFIELD HOSPITAL - RQ8L0","Writtle Ward (SRGD)"]
["RQM01-AAU","RQM","CHELSEA AND WESTMINSTER HOSPITAL NHS FOUNDATION TRUST","RQM01","CHELSEA AND WESTMINSTER HOSPITAL - RQM01","AAU"]
["RQM01-Annie Zunz","RQM","CHELSEA AND WESTMINSTER HOSPITAL NHS FOUNDATION TRUST","RQM01","CHELSEA AND WESTMINSTER HOSPITAL - RQM01","Annie Zunz"]
["RQM01-Apollo","RQM","CHELSEA AND WESTMINSTER HOSPITAL NHS FOUNDATION TRUST","RQM01","CHELSEA AND WESTMINSTER HOSPITAL - RQM01","Apollo"]
[{"$f":"CONCATENATE(D3419,\"-\",F3419)","v":"RQM01-Burns Unit"},"RQM","CHELSEA AND WESTMINSTER HOSPITAL NHS FOUNDATION TRUST","RQM01","CHELSEA AND WESTMINSTER HOSPITAL - RQM01","Burns Unit"]
["RQM01-Chelsea Wing","RQM","CHELSEA AND WESTMINSTER HOSPITAL NHS FOUNDATION TRUST","RQM01","CHELSEA AND WESTMINSTER HOSPITAL - RQM01","Chelsea Wing"]
["RQM01-David Erskine","RQM","CHELSEA AND WESTMINSTER HOSPITAL NHS FOUNDATION TRUST","RQM01","CHELSEA AND WESTMINSTER HOSPITAL - RQM01","David Erskine"]
["RQM01-David Evans","RQM","CHELSEA AND WESTMINSTER HOSPITAL NHS FOUNDATION TRUST","RQM01","CHELSEA AND WESTMINSTER HOSPITAL - RQM01","David Evans"]
["RQM01-Edgar Horne","RQM","CHELSEA AND WESTMINSTER HOSPITAL NHS FOUNDATION TRUST","RQM01","CHELSEA AND WESTMINSTER HOSPITAL - RQM01","Edgar Horne"]
["RQM01-ICU","RQM","CHELSEA AND WESTMINSTER HOSPITAL NHS FOUNDATION TRUST","RQM01","CHELSEA AND WESTMINSTER HOSPITAL - RQM01","ICU"]
["RQM01-Jupiter","RQM","CHELSEA AND WESTMINSTER HOSPITAL NHS FOUNDATION TRUST","RQM01","CHELSEA AND WESTMINSTER HOSPITAL - RQM01","Jupiter"]
["RQM01-Lord Wigram","RQM","CHELSEA AND WESTMINSTER HOSPITAL NHS FOUNDATION TRUST","RQM01","CHELSEA AND WESTMINSTER HOSPITAL - RQM01","Lord Wigram"]
["RQM01-Maternity","RQM","CHELSEA AND WESTMINSTER HOSPITAL NHS FOUNDATION TRUST","RQM01","CHELSEA AND WESTMINSTER HOSPITAL - RQM01","Maternity"]
["RQM01-Mercury","RQM","CHELSEA AND WESTMINSTER HOSPITAL NHS FOUNDATION TRUST","RQM01","CHELSEA AND WESTMINSTER HOSPITAL - RQM01","Mercury"]
["RQM01-Nell Gwynne","RQM","CHELSEA AND WESTMINSTER HOSPITAL NHS FOUNDATION TRUST","RQM01","CHELSEA AND WESTMINSTER HOSPITAL - RQM01","Nell Gwynne"]
["RQM01-Neptune","RQM","CHELSEA AND WESTMINSTER HOSPITAL NHS FOUNDATION TRUST","RQM01","CHELSEA AND WESTMINSTER HOSPITAL - RQM01","Neptune"]
["RQM01-NICU","RQM","CHELSEA AND WESTMINSTER HOSPITAL NHS FOUNDATION TRUST","RQM01","CHELSEA AND WESTMINSTER HOSPITAL - RQM01","NICU"]
["RQM01-Nightingale","RQM","CHELSEA AND WESTMINSTER HOSPITAL NHS FOUNDATION TRUST","RQM01","CHELSEA AND WESTMINSTER HOSPITAL - RQM01","Nightingale"]
["RQM01-Rainsford Molem","RQM","CHELSEA AND WESTMINSTER HOSPITAL NHS FOUNDATION TRUST","RQM01","CHELSEA AND WESTMINSTER HOSPITAL - RQM01","Rainsford Molem"]
["RQM01-Ron Johnson","RQM","CHELSEA AND WESTMINSTER HOSPITAL NHS FOUNDATION TRUST","RQM01","CHELSEA AND WESTMINSTER HOSPITAL - RQM01","Ron Johnson"]
["RQM01-St Mary Abbots","RQM","CHELSEA AND WESTMINSTER HOSPITAL NHS FOUNDATION TRUST","RQM01","CHELSEA AND WESTMINSTER HOSPITAL - RQM01","St Mary Abbots"]
["RQM91-CCU","RQM","CHELSEA AND WESTMINSTER HOSPITAL NHS FOUNDATION TRUST","RQM91","WEST MIDDLESEX UNIVERSITY HOSPITAL","CCU"]
["RQM91-Crane","RQM","CHELSEA AND WESTMINSTER HOSPITAL NHS FOUNDATION TRUST","RQM91","WEST MIDDLESEX UNIVERSITY HOSPITAL","Crane"]
["RQM91-ITU","RQM","CHELSEA AND WESTMINSTER HOSPITAL NHS FOUNDATION TRUST","RQM91","WEST MIDDLESEX UNIVERSITY HOSPITAL","ITU"]
["RQM91-Kew","RQM","CHELSEA AND WESTMINSTER HOSPITAL NHS FOUNDATION TRUST","RQM91","WEST MIDDLESEX UNIVERSITY HOSPITAL","Kew"]
["RQM91-Lampton","RQM","CHELSEA AND WESTMINSTER HOSPITAL NHS FOUNDATION TRUST","RQM91","WEST MIDDLESEX UNIVERSITY HOSPITAL","Lampton"]
["RQM91-Marble Hill 1","RQM","CHELSEA AND WESTMINSTER HOSPITAL NHS FOUNDATION TRUST","RQM91","WEST MIDDLESEX UNIVERSITY HOSPITAL","Marble Hill 1"]
["RQM91-Marble Hill 2","RQM","CHELSEA AND WESTMINSTER HOSPITAL NHS FOUNDATION TRUST","RQM91","WEST MIDDLESEX UNIVERSITY HOSPITAL","Marble Hill 2"]
["RQM91-Maternity","RQM","CHELSEA AND WESTMINSTER HOSPITAL NHS FOUNDATION TRUST","RQM91","WEST MIDDLESEX UNIVERSITY HOSPITAL","Maternity"]
["RQM91-MAU","RQM","CHELSEA AND WESTMINSTER HOSPITAL NHS FOUNDATION TRUST","RQM91","WEST MIDDLESEX UNIVERSITY HOSPITAL","MAU"]
["RQM91-Osterley 1","RQM","CHELSEA AND WESTMINSTER HOSPITAL NHS FOUNDATION TRUST","RQM91","WEST MIDDLESEX UNIVERSITY HOSPITAL","Osterley 1"]
["RQM91-Osterley 2","RQM","CHELSEA AND WESTMINSTER HOSPITAL NHS FOUNDATION TRUST","RQM91","WEST MIDDLESEX UNIVERSITY HOSPITAL","Osterley 2"]
["RQM91-Richmond","RQM","CHELSEA AND WESTMINSTER HOSPITAL NHS FOUNDATION TRUST","RQM91","WEST MIDDLESEX UNIVERSITY HOSPITAL","Richmond"]
["RQM91-Special Care Baby Unit","RQM","CHELSEA AND WESTMINSTER HOSPITAL NHS FOUNDATION TRUST","RQM91","WEST MIDDLESEX UNIVERSITY HOSPITAL","Special Care Baby Unit"]
["RQM91-Starlight","RQM","CHELSEA AND WESTMINSTER HOSPITAL NHS FOUNDATION TRUST","RQM91","WEST MIDDLESEX UNIVERSITY HOSPITAL","Starlight"]
["RQM91-Syon 1","RQM","CHELSEA AND WESTMINSTER HOSPITAL NHS FOUNDATION TRUST","RQM91","WEST MIDDLESEX UNIVERSITY HOSPITAL","Syon 1"]
["RQM91-Syon 2","RQM","CHELSEA AND WESTMINSTER HOSPITAL NHS FOUNDATION TRUST","RQM91","WEST MIDDLESEX UNIVERSITY HOSPITAL","Syon 2"]
["RQWG0-Birthing Unit","RQW","THE PRINCESS ALEXANDRA HOSPITAL NHS TRUST","RQWG0","PRINCESS ALEXANDRA HOSPITAL - RQWG0","Birthing Unit"]
["RQWG0-Chamberlen Ward","RQW","THE PRINCESS ALEXANDRA HOSPITAL NHS TRUST","RQWG0","PRINCESS ALEXANDRA HOSPITAL - RQWG0","Chamberlen Ward"]
["RQWG0-Charnley Ward","RQW","THE PRINCESS ALEXANDRA HOSPITAL NHS TRUST","RQWG0","PRINCESS ALEXANDRA HOSPITAL - RQWG0","Charnley Ward"]
["RQWG0-Dolphin Ward","RQW","THE PRINCESS ALEXANDRA HOSPITAL NHS TRUST","RQWG0","PRINCESS ALEXANDRA HOSPITAL - RQWG0","Dolphin Ward"]
["RQWG0-Gibberd Ward","RQW","THE PRINCESS ALEXANDRA HOSPITAL NHS TRUST","RQWG0","PRINCESS ALEXANDRA HOSPITAL - RQWG0","Gibberd Ward"]
["RQWG0-Harold Ward","RQW","THE PRINCESS ALEXANDRA HOSPITAL NHS TRUST","RQWG0","PRINCESS ALEXANDRA HOSPITAL - RQWG0","Harold Ward"]
["RQWG0-Harvey Ward","RQW","THE PRINCESS ALEXANDRA HOSPITAL NHS TRUST","RQWG0","PRINCESS ALEXANDRA HOSPITAL - RQWG0","Harvey Ward"]
["RQWG0-Henry Moore Ward","RQW","THE PRINCESS ALEXANDRA HOSPITAL NHS TRUST","RQWG0","PRINCESS ALEXANDRA HOSPITAL - RQWG0","Henry Moore Ward"]
["RQWG0-ITU & HDU","RQW","THE PRINCESS ALEXANDRA HOSPITAL NHS TRUST","RQWG0","PRINCESS ALEXANDRA HOSPITAL - RQWG0","ITU & HDU"]
["RQWG0-John Snow","RQW","THE PRINCESS ALEXANDRA HOSPITAL NHS TRUST","RQWG0","PRINCESS ALEXANDRA HOSPITAL - RQWG0","John Snow"]
["RQWG0-Kingsmoor Cardiac Care Unit","RQW","THE PRINCESS ALEXANDRA HOSPITAL NHS TRUST","RQWG0","PRINCESS ALEXANDRA HOSPITAL - RQWG0","Kingsmoor Cardiac Care Unit"]
["RQWG0-Labour Ward","RQW","THE PRINCESS ALEXANDRA HOSPITAL NHS TRUST","RQWG0","PRINCESS ALEXANDRA HOSPITAL - RQWG0","Labour Ward"]
["RQWG0-Lister Ward","RQW","THE PRINCESS ALEXANDRA HOSPITAL NHS TRUST","RQWG0","PRINCESS ALEXANDRA HOSPITAL - RQWG0","Lister Ward"]
["RQWG0-Locke Ward","RQW","THE PRINCESS ALEXANDRA HOSPITAL NHS TRUST","RQWG0","PRINCESS ALEXANDRA HOSPITAL - RQWG0","Locke Ward"]
["RQWG0-Medical Assessment Unit Fleming","RQW","THE PRINCESS ALEXANDRA HOSPITAL NHS TRUST","RQWG0","PRINCESS ALEXANDRA HOSPITAL - RQWG0","Medical Assessment Unit Fleming"]
["RQWG0-Medical Short-Stay Unit Saunders","RQW","THE PRINCESS ALEXANDRA HOSPITAL NHS TRUST","RQWG0","PRINCESS ALEXANDRA HOSPITAL - RQWG0","Medical Short-Stay Unit Saunders"]
["RQWG0-Neo-Natal Unit","RQW","THE PRINCESS ALEXANDRA HOSPITAL NHS TRUST","RQWG0","PRINCESS ALEXANDRA HOSPITAL - RQWG0","Neo-Natal Unit"]
["RQWG0-Penn Ward","RQW","THE PRINCESS ALEXANDRA HOSPITAL NHS TRUST","RQWG0","PRINCESS ALEXANDRA HOSPITAL - RQWG0","Penn Ward"]
["RQWG0-Ray Admissions Unit","RQW","THE PRINCESS ALEXANDRA HOSPITAL NHS TRUST","RQWG0","PRINCESS ALEXANDRA HOSPITAL - RQWG0","Ray Admissions Unit"]
["RQWG0-Samson Ward","RQW","THE PRINCESS ALEXANDRA HOSPITAL NHS TRUST","RQWG0","PRINCESS ALEXANDRA HOSPITAL - RQWG0","Samson Ward"]
["RQWG0-Tye Green Ward","RQW","THE PRINCESS ALEXANDRA HOSPITAL NHS TRUST","RQWG0","PRINCESS ALEXANDRA HOSPITAL - RQWG0","Tye Green Ward"]
["RQWG0-Winter Ward","RQW","THE PRINCESS ALEXANDRA HOSPITAL NHS TRUST","RQWG0","PRINCESS ALEXANDRA HOSPITAL - RQWG0","Winter Ward"]
["RQXM1-ACU","RQX","HOMERTON UNIVERSITY HOSPITAL NHS FOUNDATION TRUST","RQXM1","HOMERTON UNIVERSITY HOSPITAL - RQXM1","ACU"]
["RQXM1-Cardiology","RQX","HOMERTON UNIVERSITY HOSPITAL NHS FOUNDATION TRUST","RQXM1","HOMERTON UNIVERSITY HOSPITAL - RQXM1","Cardiology"]
["RQXM1-ECU","RQX","HOMERTON UNIVERSITY HOSPITAL NHS FOUNDATION TRUST","RQXM1","HOMERTON UNIVERSITY HOSPITAL - RQXM1","ECU"]
["RQXM1-EdithCavell","RQX","HOMERTON UNIVERSITY HOSPITAL NHS FOUNDATION TRUST","RQXM1","HOMERTON UNIVERSITY HOSPITAL - RQXM1","EdithCavell"]
["RQXM1-Graham","RQX","HOMERTON UNIVERSITY HOSPITAL NHS FOUNDATION TRUST","RQXM1","HOMERTON UNIVERSITY HOSPITAL - RQXM1","Graham"]
["RQXM1-ITU","RQX","HOMERTON UNIVERSITY HOSPITAL NHS FOUNDATION TRUST","RQXM1","HOMERTON UNIVERSITY HOSPITAL - RQXM1","ITU"]
["RQXM1-Lamb","RQX","HOMERTON UNIVERSITY HOSPITAL NHS FOUNDATION TRUST","RQXM1","HOMERTON UNIVERSITY HOSPITAL - RQXM1","Lamb"]
["RQXM1-Lloyd","RQX","HOMERTON UNIVERSITY HOSPITAL NHS FOUNDATION TRUST","RQXM1","HOMERTON UNIVERSITY HOSPITAL - RQXM1","Lloyd"]
["RQXM1-MSNH","RQX","HOMERTON UNIVERSITY HOSPITAL NHS FOUNDATION TRUST","RQXM1","HOMERTON UNIVERSITY HOSPITAL - RQXM1","MSNH"]
[{"$f":"CONCATENATE(D3483,\"-\",F3483)","v":"RQXM1-NICU"},"RQX","HOMERTON UNIVERSITY HOSPITAL NHS FOUNDATION TRUST","RQXM1","HOMERTON UNIVERSITY HOSPITAL - RQXM1","NICU"]
["RQXM1-Ortho2012","RQX","HOMERTON UNIVERSITY HOSPITAL NHS FOUNDATION TRUST","RQXM1","HOMERTON UNIVERSITY HOSPITAL - RQXM1","Ortho2012"]
["RQXM1-Priestley","RQX","HOMERTON UNIVERSITY HOSPITAL NHS FOUNDATION TRUST","RQXM1","HOMERTON UNIVERSITY HOSPITAL - RQXM1","Priestley"]
["RQXM1-RNRU","RQX","HOMERTON UNIVERSITY HOSPITAL NHS FOUNDATION TRUST","RQXM1","HOMERTON UNIVERSITY HOSPITAL - RQXM1","RNRU"]
["RQXM1-Starlight","RQX","HOMERTON UNIVERSITY HOSPITAL NHS FOUNDATION TRUST","RQXM1","HOMERTON UNIVERSITY HOSPITAL - RQXM1","Starlight"]
["RQXM1-Templar","RQX","HOMERTON UNIVERSITY HOSPITAL NHS FOUNDATION TRUST","RQXM1","HOMERTON UNIVERSITY HOSPITAL - RQXM1","Templar"]
["RQXM1-ThomasAudley","RQX","HOMERTON UNIVERSITY HOSPITAL NHS FOUNDATION TRUST","RQXM1","HOMERTON UNIVERSITY HOSPITAL - RQXM1","ThomasAudley"]
["RQY01-Arc - Aquarius Ward","RQY","SOUTH WEST LONDON AND ST GEORGE'S MENTAL HEALTH NHS TRUST","RQY01","SPRINGFIELD UNIVERSITY HOSPITAL","Arc - Aquarius Ward"]
["RQY01-BlueBell (Old Church)","RQY","SOUTH WEST LONDON AND ST GEORGE'S MENTAL HEALTH NHS TRUST","RQY01","SPRINGFIELD UNIVERSITY HOSPITAL","BlueBell (Old Church)"]
["RQY01-Crocus Ward","RQY","SOUTH WEST LONDON AND ST GEORGE'S MENTAL HEALTH NHS TRUST","RQY01","SPRINGFIELD UNIVERSITY HOSPITAL","Crocus Ward"]
["RQY01-Deaf Child Inpatient Corner Hse","RQY","SOUTH WEST LONDON AND ST GEORGE'S MENTAL HEALTH NHS TRUST","RQY01","SPRINGFIELD UNIVERSITY HOSPITAL","Deaf Child Inpatient Corner Hse"]
["RQY01-EDS National Service Inpatient","RQY","SOUTH WEST LONDON AND ST GEORGE'S MENTAL HEALTH NHS TRUST","RQY01","SPRINGFIELD UNIVERSITY HOSPITAL","EDS National Service Inpatient"]
["RQY01-Ellis Ward (New)","RQY","SOUTH WEST LONDON AND ST GEORGE'S MENTAL HEALTH NHS TRUST","RQY01","SPRINGFIELD UNIVERSITY HOSPITAL","Ellis Ward (New)"]
["RQY01-Halswell Ward","RQY","SOUTH WEST LONDON AND ST GEORGE'S MENTAL HEALTH NHS TRUST","RQY01","SPRINGFIELD UNIVERSITY HOSPITAL","Halswell Ward"]
["RQY01-Hume Ward","RQY","SOUTH WEST LONDON AND ST GEORGE'S MENTAL HEALTH NHS TRUST","RQY01","SPRINGFIELD UNIVERSITY HOSPITAL","Hume Ward"]
["RQY01-Jupiter Ward","RQY","SOUTH WEST LONDON AND ST GEORGE'S MENTAL HEALTH NHS TRUST","RQY01","SPRINGFIELD UNIVERSITY HOSPITAL","Jupiter Ward"]
["RQY01-OCD/BDD NCG Inpatient & Outpatients","RQY","SOUTH WEST LONDON AND ST GEORGE'S MENTAL HEALTH NHS TRUST","RQY01","SPRINGFIELD UNIVERSITY HOSPITAL","OCD/BDD NCG Inpatient & Outpatients"]
["RQY01-Phoenix Ward","RQY","SOUTH WEST LONDON AND ST GEORGE'S MENTAL HEALTH NHS TRUST","RQY01","SPRINGFIELD UNIVERSITY HOSPITAL","Phoenix Ward"]
["RQY01-Ruby Ward (Seymour)","RQY","SOUTH WEST LONDON AND ST GEORGE'S MENTAL HEALTH NHS TRUST","RQY01","SPRINGFIELD UNIVERSITY HOSPITAL","Ruby Ward (Seymour)"]
["RQY01-The Lotus Assessment Suite","RQY","SOUTH WEST LONDON AND ST GEORGE'S MENTAL HEALTH NHS TRUST","RQY01","SPRINGFIELD UNIVERSITY HOSPITAL","The Lotus Assessment Suite"]
["RQY01-Turner Ward","RQY","SOUTH WEST LONDON AND ST GEORGE'S MENTAL HEALTH NHS TRUST","RQY01","SPRINGFIELD UNIVERSITY HOSPITAL","Turner Ward"]
["RQY01-Ward 1 (Male P.I.C.U.)","RQY","SOUTH WEST LONDON AND ST GEORGE'S MENTAL HEALTH NHS TRUST","RQY01","SPRINGFIELD UNIVERSITY HOSPITAL","Ward 1 (Male P.I.C.U.)"]
["RQY01-Ward 2","RQY","SOUTH WEST LONDON AND ST GEORGE'S MENTAL HEALTH NHS TRUST","RQY01","SPRINGFIELD UNIVERSITY HOSPITAL","Ward 2"]
["RQY01-Ward 3","RQY","SOUTH WEST LONDON AND ST GEORGE'S MENTAL HEALTH NHS TRUST","RQY01","SPRINGFIELD UNIVERSITY HOSPITAL","Ward 3"]
["RQY01-Wisteria (EDS Inpatient CAMHS)","RQY","SOUTH WEST LONDON AND ST GEORGE'S MENTAL HEALTH NHS TRUST","RQY01","SPRINGFIELD UNIVERSITY HOSPITAL","Wisteria (EDS Inpatient CAMHS)"]
["RQY07-Laurel Ward","RQY","SOUTH WEST LONDON AND ST GEORGE'S MENTAL HEALTH NHS TRUST","RQY07","QUEEN MARY'S HOSPITAL","Laurel Ward"]
["RQY07-Lavender Ward","RQY","SOUTH WEST LONDON AND ST GEORGE'S MENTAL HEALTH NHS TRUST","RQY07","QUEEN MARY'S HOSPITAL","Lavender Ward"]
["RQY07-Rose Ward","RQY","SOUTH WEST LONDON AND ST GEORGE'S MENTAL HEALTH NHS TRUST","RQY07","QUEEN MARY'S HOSPITAL","Rose Ward"]
["RQY08-Jasmines Ward (Azaleas)","RQY","SOUTH WEST LONDON AND ST GEORGE'S MENTAL HEALTH NHS TRUST","RQY08","TOLWORTH HOSPITAL","Jasmines Ward (Azaleas)"]
["RQY08-Lilacs Ward","RQY","SOUTH WEST LONDON AND ST GEORGE'S MENTAL HEALTH NHS TRUST","RQY08","TOLWORTH HOSPITAL","Lilacs Ward"]
["RR7EN-Cragside Court","RR7","GATESHEAD HEALTH NHS FOUNDATION TRUST","RR7EN","QUEEN ELIZABETH HOSPITAL - RR7EN","Cragside Court"]
["RR7EN-Critical Care Dept","RR7","GATESHEAD HEALTH NHS FOUNDATION TRUST","RR7EN","QUEEN ELIZABETH HOSPITAL - RR7EN","Critical Care Dept"]
["RR7EN-Emergency Admissions Unit","RR7","GATESHEAD HEALTH NHS FOUNDATION TRUST","RR7EN","QUEEN ELIZABETH HOSPITAL - RR7EN","Emergency Admissions Unit"]
["RR7EN-Maternity Unit","RR7","GATESHEAD HEALTH NHS FOUNDATION TRUST","RR7EN","QUEEN ELIZABETH HOSPITAL - RR7EN","Maternity Unit"]
["RR7EN-Paediatrics","RR7","GATESHEAD HEALTH NHS FOUNDATION TRUST","RR7EN","qUEEN ELIZABETH HOSPITAL - RR7EN","Paediatrics"]
["RR7EN-Special Care Baby Unit","RR7","GATESHEAD HEALTH NHS FOUNDATION TRUST","RR7EN","QUEEN ELIZABETH HOSPITAL - RR7EN","Special Care Baby Unit"]
["RR7EN-St. Bedes","RR7","GATESHEAD HEALTH NHS FOUNDATION TRUST","RR7EN","QUEEN ELIZABETH HOSPITAL - RR7EN","St. Bedes"]
["RR7EN-Sunniside Unit","RR7","GATESHEAD HEALTH NHS FOUNDATION TRUST","RR7EN","QUEEN ELIZABETH HOSPITAL - RR7EN","Sunniside Unit"]
["RR7EN-Ward 1 Gen Med/Haem","RR7","GATESHEAD HEALTH NHS FOUNDATION TRUST","RR7EN","QUEEN ELIZABETH HOSPITAL - RR7EN","Ward 1 Gen Med/Haem"]
["RR7EN-Ward 11 Gen Medicine","RR7","GATESHEAD HEALTH NHS FOUNDATION TRUST","RR7EN","QUEEN ELIZABETH HOSPITAL - RR7EN","Ward 11 Gen Medicine"]
["RR7EN-Ward 12 Surgery","RR7","GATESHEAD HEALTH NHS FOUNDATION TRUST","RR7EN","QUEEN ELIZABETH HOSPITAL - RR7EN","Ward 12 Surgery"]
["RR7EN-Ward 14 Trauma","RR7","GATESHEAD HEALTH NHS FOUNDATION TRUST","RR7EN","QUEEN ELIZABETH HOSPITAL - RR7EN","Ward 14 Trauma"]
["RR7EN-Ward 21 Jubilee Wing Gynae/Oncol","RR7","GATESHEAD HEALTH NHS FOUNDATION TRUST","RR7EN","QUEEN ELIZABETH HOSPITAL - RR7EN","Ward 21 Jubilee Wing Gynae/Oncol"]
["RR7EN-Ward 22 Gen Medicine","RR7","GATESHEAD HEALTH NHS FOUNDATION TRUST","RR7EN","QUEEN ELIZABETH HOSPITAL - RR7EN","Ward 22 Gen Medicine"]
["RR7EN-Ward 23 Jubilee Wing","RR7","GATESHEAD HEALTH NHS FOUNDATION TRUST","RR7EN","QUEEN ELIZABETH HOSPITAL - RR7EN","Ward 23 Jubilee Wing"]
["RR7EN-Ward 24 Jubilee Wing","RR7","GATESHEAD HEALTH NHS FOUNDATION TRUST","RR7EN","QUEEN ELIZABETH HOSPITAL - RR7EN","Ward 24 Jubilee Wing"]
["RR7EN-Ward 25 Jubilee Wing","RR7","GATESHEAD HEALTH NHS FOUNDATION TRUST","RR7EN","QUEEN ELIZABETH HOSPITAL - RR7EN","Ward 25 Jubilee Wing"]
["RR7EN-Ward 26 Treat/Centre","RR7","GATESHEAD HEALTH NHS FOUNDATION TRUST","RR7EN","QUEEN ELIZABETH HOSPITAL - RR7EN","Ward 26 Treat/Centre"]
["RR7EN-Ward 27 Treat/Centre","RR7","GATESHEAD HEALTH NHS FOUNDATION TRUST","RR7EN","QUEEN ELIZABETH HOSPITAL - RR7EN","Ward 27 Treat/Centre"]
["RR7EN-Ward 4 Stroke","RR7","GATESHEAD HEALTH NHS FOUNDATION TRUST","RR7EN","QUEEN ELIZABETH HOSPITAL - RR7EN","Ward 4 Stroke"]
["RR7EN-Ward 6","RR7","GATESHEAD HEALTH NHS FOUNDATION TRUST","RR7EN","QUEEN ELIZABETH HOSPITAL - RR7EN","Ward 6"]
["RR7EN-Ward 8 Cardiology","RR7","GATESHEAD HEALTH NHS FOUNDATION TRUST","RR7EN","QUEEN ELIZABETH HOSPITAL - RR7EN","Ward 8 Cardiology"]
["RR7EN-Ward 9 Respiratory","RR7","GATESHEAD HEALTH NHS FOUNDATION TRUST","RR7EN","QUEEN ELIZABETH HOSPITAL - RR7EN","Ward 9 Respiratory"]
["RR801-J01 Neonatal unit","RR8","LEEDS TEACHING HOSPITALS NHS TRUST","RR801","Leeds General Infirmary - RR801","J01 Neonatal unit"]
["RR801-J03 Delivery Suite","RR8","LEEDS TEACHING HOSPITALS NHS TRUST","RR801","Leeds General Infirmary - RR801","J03 Delivery Suite"]
["RR801-J05 Obstetrics Post Natal","RR8","LEEDS TEACHING HOSPITALS NHS TRUST","RR801","Leeds General Infirmary - RR801","J05 Obstetrics Post Natal"]
["RR801-J07 Elderly Medicine","RR8","LEEDS TEACHING HOSPITALS NHS TRUST","RR801","Leeds General Infirmary - RR801","J07 Elderly Medicine"]
["RR801-J08 Elderly Medicine","RR8","LEEDS TEACHING HOSPITALS NHS TRUST","RR801","Leeds General Infirmary - RR801","J08 Elderly Medicine"]
["RR801-J14 Elderly Medicine","RR8","LEEDS TEACHING HOSPITALS NHS TRUST","RR801","Leeds General Infirmary - RR801","J14 Elderly Medicine"]
["RR801-J15 Elderly Medicine","RR8","LEEDS TEACHING HOSPITALS NHS TRUST","RR801","Leeds General Infirmary - RR801","J15 Elderly Medicine"]
["RR801-J17 Elderly Medicine","RR8","LEEDS TEACHING HOSPITALS NHS TRUST","RR801","Leeds General Infirmary - RR801","J17 Elderly Medicine"]
["RR801-J19 General Medicine","RR8","LEEDS TEACHING HOSPITALS NHS TRUST","RR801","Leeds General Infirmary - RR801","J19 General Medicine"]
["RR801-J20 Infection & Travel Med","RR8","LEEDS TEACHING HOSPITALS NHS TRUST","RR801","Leeds General Infirmary - RR801","J20 Infection & Travel Med"]
["RR801-J21 General Medicine","RR8","LEEDS TEACHING HOSPITALS NHS TRUST","RR801","Leeds General Infirmary - RR801","J21 General Medicine"]
[{"$f":"CONCATENATE(D3547,\"-\",F3547)","v":"RR801-J24 Benign Gynaecology"},"RR8","LEEDS TEACHING HOSPITALS NHS TRUST","RR801","Leeds General Infirmary - RR801","J24 Benign Gynaecology"]
["RR801-J26 Acute Medicine Admissions","RR8","LEEDS TEACHING HOSPITALS NHS TRUST","RR801","Leeds General Infirmary - RR801","J26 Acute Medicine Admissions"]
["RR801-J27 Acute Medicine Admissions","RR8","LEEDS TEACHING HOSPITALS NHS TRUST","RR801","Leeds General Infirmary - RR801","J27 Acute Medicine Admissions"]
["RR801-J28 Elderly Medicine Admissions","RR8","LEEDS TEACHING HOSPITALS NHS TRUST","RR801","Leeds General Infirmary - RR801","J28 Elderly Medicine Admissions"]
["RR801-J29 Elderly Medicine Admissions","RR8","LEEDS TEACHING HOSPITALS NHS TRUST","RR801","Leeds General Infirmary - RR801","J29 Elderly Medicine Admissions"]
["RR801-J84 Thoracic Surgery","RR8","LEEDS TEACHING HOSPITALS NHS TRUST","RR801","Leeds General Infirmary - RR801","J84 Thoracic Surgery"]
["RR801-J88 Haematology In-patients","RR8","LEEDS TEACHING HOSPITALS NHS TRUST","RR801","Leeds General Infirmary - RR801","J88 Haematology In-patients"]
["RR801-J89 Haematology In-patients","RR8","LEEDS TEACHING HOSPITALS NHS TRUST","RR801","Leeds General Infirmary - RR801","J89 Haematology In-patients"]
["RR801-J93 NSO In-Patients","RR8","LEEDS TEACHING HOSPITALS NHS TRUST","RR801","Leeds General Infirmary - RR801","J93 NSO In-Patients"]
["RR801-J94 NSO Young Adult","RR8","LEEDS TEACHING HOSPITALS NHS TRUST","RR801","Leeds General Infirmary - RR801","J94 NSO Young Adult"]
["RR801-J96 NSO In-patients","RR8","LEEDS TEACHING HOSPITALS NHS TRUST","RR801","Leeds General Infirmary - RR801","J96 NSO In-patients"]
["RR801-J97 NSO In-patients","RR8","LEEDS TEACHING HOSPITALS NHS TRUST","RR801","Leeds General Infirmary - RR801","J97 NSO In-patients"]
["RR801-J98 Gynae Oncology Surgery","RR8","LEEDS TEACHING HOSPITALS NHS TRUST","RR801","Leeds General Infirmary - RR801","J98 Gynae Oncology Surgery"]
["RR801-L08 Plastic Surg/Trauma HDU","RR8","LEEDS TEACHING HOSPITALS NHS TRUST","RR801","Leeds General Infirmary - RR801","L08 Plastic Surg/Trauma HDU"]
["RR801-L12 Stroke Rehabilitation","RR8","LEEDS TEACHING HOSPITALS NHS TRUST","RR801","Leeds General Infirmary - RR801","L12 Stroke Rehabilitation"]
["RR801-L17 Neurology","RR8","LEEDS TEACHING HOSPITALS NHS TRUST","RR801","Leeds General Infirmary - RR801","L17 Neurology"]
["RR801-L21 Stroke Ward & HASU","RR8","LEEDS TEACHING HOSPITALS NHS TRUST","RR801","Leeds General Infirmary - RR801","L21 Stroke Ward & HASU"]
["RR801-L23 ENT/Maxillo-Facial","RR8","LEEDS TEACHING HOSPITALS NHS TRUST","RR801","Leeds General Infirmary - RR801","L23 ENT/Maxillo-Facial"]
["RR801-L24 Neuro Cranial&Ortho Spine","RR8","LEEDS TEACHING HOSPITALS NHS TRUST","RR801","Leeds General Infirmary - RR801","L24 Neuro Cranial&Ortho Spine"]
["RR801-L25 Neuro Cranial&Ortho Spine","RR8","LEEDS TEACHING HOSPITALS NHS TRUST","RR801","Leeds General Infirmary - RR801","L25 Neuro Cranial&Ortho Spine"]
["RR801-L28 Surgical Day Unit","RR8","LEEDS TEACHING HOSPITALS NHS TRUST","RR801","Leeds General Infirmary - RR801","L28 Surgical Day Unit"]
["RR801-L34 Trauma & Orthopaedics","RR8","LEEDS TEACHING HOSPITALS NHS TRUST","RR801","Leeds General Infirmary - RR801","L34 Trauma & Orthopaedics"]
["RR801-L37 Trauma & Orthopaedics","RR8","LEEDS TEACHING HOSPITALS NHS TRUST","RR801","Leeds General Infirmary - RR801","L37 Trauma & Orthopaedics"]
["RR801-L43 Neonatal","RR8","LEEDS TEACHING HOSPITALS NHS TRUST","RR801","Leeds General Infirmary - RR801","L43 Neonatal"]
["RR801-L44 Obstetrics","RR8","LEEDS TEACHING HOSPITALS NHS TRUST","RR801","Leeds General Infirmary - RR801","L44 Obstetrics"]
["RR801-L50 Childrens Hepat, Gastro & Neph","RR8","LEEDS TEACHING HOSPITALS NHS TRUST","RR801","Leeds General Infirmary - RR801","L50 Childrens Hepat, Gastro & Neph"]
["RR807-JDWD David Beevers Day Unit","RR8","LEEDS TEACHING HOSPITALS NHS TRUST","RR807","Wharfedale Hospital - RR807","JDWD David Beevers Day Unit"]
["RR813-C01 Neuro Rehabilitation","RR8","LEEDS TEACHING HOSPITALS NHS TRUST","RR813","St James's University Hospital - RR813","C01 Neuro Rehabilitation"]
["RR813-C02 Dermatology/Rheumatology","RR8","LEEDS TEACHING HOSPITALS NHS TRUST","RR813","St James's University Hospital - RR813","C02 Dermatology/Rheumatology"]
["RR813-C03 Elective Orthopaedics","RR8","LEEDS TEACHING HOSPITALS NHS TRUST","RR813","St James's University Hospital - RR813","C03 Elective Orthopaedics"]
["RR813-J04 Obstetrics Ante-natal Ward","RR8","LEEDS TEACHING HOSPITALS NHS TRUST","RR813","St James's University Hospital - RR813","J04 Obstetrics Ante-natal Ward"]
["RR813-J06 Cystic Fibrosis","RR8","LEEDS TEACHING HOSPITALS NHS TRUST","RR813","St James's University Hospital - RR813","J06 Cystic Fibrosis"]
["RR813-J09 Respiratory Medicine","RR8","LEEDS TEACHING HOSPITALS NHS TRUST","RR813","St James's University Hospital - RR813","J09 Respiratory Medicine"]
["RR813-J10 Respiratory Medicine","RR8","LEEDS TEACHING HOSPITALS NHS TRUST","RR813","St James's University Hospital - RR813","J10 Respiratory Medicine"]
["RR813-J12 Respiratory Medicine","RR8","LEEDS TEACHING HOSPITALS NHS TRUST","RR813","St James's University Hospital - RR813","J12 Respiratory Medicine"]
["RR813-J23 Breast Ward","RR8","LEEDS TEACHING HOSPITALS NHS TRUST","RR813","St James's University Hospital - RR813","J23 Breast Ward"]
["RR813-J44 General Surgery","RR8","LEEDS TEACHING HOSPITALS NHS TRUST","RR813","St James's University Hospital - RR813","J44 General Surgery"]
["RR813-J45 General Surgery","RR8","LEEDS TEACHING HOSPITALS NHS TRUST","RR813","St James's University Hospital - RR813","J45 General Surgery"]
["RR813-J46 Acute General Surgery","RR8","LEEDS TEACHING HOSPITALS NHS TRUST","RR813","St James's University Hospital - RR813","J46 Acute General Surgery"]
["RR813-J47 Acute General Surgery","RR8","LEEDS TEACHING HOSPITALS NHS TRUST","RR813","St James's University Hospital - RR813","J47 Acute General Surgery"]
["RR813-J49 Renal In-patient/Transplant","RR8","LEEDS TEACHING HOSPITALS NHS TRUST","RR813","St James's University Hospital - RR813","J49 Renal In-patient/Transplant"]
["RR813-J50 Renal In-patient/Transplant","RR8","LEEDS TEACHING HOSPITALS NHS TRUST","RR813","St James's University Hospital - RR813","J50 Renal In-patient/Transplant"]
["RR813-J54 Intensive Care Unit","RR8","LEEDS TEACHING HOSPITALS NHS TRUST","RR813","St James's University Hospital - RR813","J54 Intensive Care Unit"]
["RR813-J81 High Dependancy Unit","RR8","LEEDS TEACHING HOSPITALS NHS TRUST","RR813","St James's University Hospital - RR813","J81 High Dependancy Unit"]
["RR813-J82 HBP & Upper Gastro Intest","RR8","LEEDS TEACHING HOSPITALS NHS TRUST","RR813","St James's University Hospital - RR813","J82 HBP & Upper Gastro Intest"]
["RR813-J83 Liver Unit","RR8","LEEDS TEACHING HOSPITALS NHS TRUST","RR813","St James's University Hospital - RR813","J83 Liver Unit"]
["RR813-J91 Gastroenterology Ward","RR8","LEEDS TEACHING HOSPITALS NHS TRUST","RR813","St James's University Hospital - RR813","J91 Gastroenterology Ward"]
["RR813-J92 Gastroenterology Ward","RR8","LEEDS TEACHING HOSPITALS NHS TRUST","RR813","St James's University Hospital - RR813","J92 Gastroenterology Ward"]
["RR813-JTC Transitional Care","RR8","LEEDS TEACHING HOSPITALS NHS TRUST","RR813","St James's University Hospital - RR813","JTC Transitional Care"]
["RR813-L03 General Intensive Care","RR8","LEEDS TEACHING HOSPITALS NHS TRUST","RR813","St James's University Hospital - RR813","L03 General Intensive Care"]
["RR813-L04 Cardiac ICU","RR8","LEEDS TEACHING HOSPITALS NHS TRUST","RR813","St James's University Hospital - RR813","L04 Cardiac ICU"]
["RR813-L06 Neuro Intensive Care","RR8","LEEDS TEACHING HOSPITALS NHS TRUST","RR813","St James's University Hospital - RR813","L06 Neuro Intensive Care"]
["RR813-L09 Childrens Medicine","RR8","LEEDS TEACHING HOSPITALS NHS TRUST","RR813","St James's University Hospital - RR813","L09 Childrens Medicine"]
["RR813-L10 Major Trauma","RR8","LEEDS TEACHING HOSPITALS NHS TRUST","RR813","St James's University Hospital - RR813","L10 Major Trauma"]
["RR813-L14 Cardiology Day Case Ward","RR8","LEEDS TEACHING HOSPITALS NHS TRUST","RR813","St James's University Hospital - RR813","L14 Cardiology Day Case Ward"]
["RR813-L15 Vascular Ward","RR8","LEEDS TEACHING HOSPITALS NHS TRUST","RR813","St James's University Hospital - RR813","L15 Vascular Ward"]
["RR813-L16 Cardiac Surgery/Vascular","RR8","LEEDS TEACHING HOSPITALS NHS TRUST","RR813","St James's University Hospital - RR813","L16 Cardiac Surgery/Vascular"]
["RR813-L18 Cardiology Ward","RR8","LEEDS TEACHING HOSPITALS NHS TRUST","RR813","St James's University Hospital - RR813","L18 Cardiology Ward"]
["RR813-L19 Cardiology Admission Ward","RR8","LEEDS TEACHING HOSPITALS NHS TRUST","RR813","St James's University Hospital - RR813","L19 Cardiology Admission Ward"]
["RR813-L20 Coronary Care","RR8","LEEDS TEACHING HOSPITALS NHS TRUST","RR813","St James's University Hospital - RR813","L20 Coronary Care"]
["RR813-L30 Childrens Respiratory (CF)","RR8","LEEDS TEACHING HOSPITALS NHS TRUST","RR813","St James's University Hospital - RR813","L30 Childrens Respiratory (CF)"]
["RR813-L31 Childrens Onc/Haem","RR8","LEEDS TEACHING HOSPITALS NHS TRUST","RR813","St James's University Hospital - RR813","L31 Childrens Onc/Haem"]
["RR813-L35 Trauma & Orthopaedics","RR8","LEEDS TEACHING HOSPITALS NHS TRUST","RR813","St James's University Hospital - RR813","L35 Trauma & Orthopaedics"]
["RR813-L36 Obstetrics","RR8","LEEDS TEACHING HOSPITALS NHS TRUST","RR813","St James's University Hospital - RR813","L36 Obstetrics"]
[{"$f":"CONCATENATE(D3611,\"-\",F3611)","v":"RR813-L40 Childrens Medicine"},"RR8","LEEDS TEACHING HOSPITALS NHS TRUST","RR813","St James's University Hospital - RR813","L40 Childrens Medicine"]
["RR813-L41 Childrens Speciality Surgery","RR8","LEEDS TEACHING HOSPITALS NHS TRUST","RR813","St James's University Hospital - RR813","L41 Childrens Speciality Surgery"]
["RR813-L42 Childrens Surgery","RR8","LEEDS TEACHING HOSPITALS NHS TRUST","RR813","St James's University Hospital - RR813","L42 Childrens Surgery"]
["RR813-L45 Delivery Suite","RR8","LEEDS TEACHING HOSPITALS NHS TRUST","RR813","St James's University Hospital - RR813","L45 Delivery Suite"]
["RR813-L47 Childrens Intensive Care","RR8","LEEDS TEACHING HOSPITALS NHS TRUST","RR813","St James's University Hospital - RR813","L47 Childrens Intensive Care"]
["RR813-L48H Childrens HDU","RR8","LEEDS TEACHING HOSPITALS NHS TRUST","RR813","St James's University Hospital - RR813","L48H Childrens HDU"]
["RR813-L51 Childrens Cardiac Surgery","RR8","LEEDS TEACHING HOSPITALS NHS TRUST","RR813","St James's University Hospital - RR813","L51 Childrens Cardiac Surgery"]
["RR813-L52 Childrens Neurosciences","RR8","LEEDS TEACHING HOSPITALS NHS TRUST","RR813","St James's University Hospital - RR813","L52 Childrens Neurosciences"]
["RR813-W01 Day Surgery Unit","RR8","LEEDS TEACHING HOSPITALS NHS TRUST","RR813","St James's University Hospital - RR813","W01 Day Surgery Unit"]
["RR819-J42 Urology","RR8","LEEDS TEACHING HOSPITALS NHS TRUST","RR819","Chapel Allerton Hospital - RR819","J42 Urology"]
["RR819-J43 Short Stay Acute Urology Surgery","RR8","LEEDS TEACHING HOSPITALS NHS TRUST","RR819","Chapel Allerton Hospital - RR819","J43 Short Stay Acute Urology Surgery"]
["RR819-L22 Adult Plastic Surgery","RR8","LEEDS TEACHING HOSPITALS NHS TRUST","RR819","Chapel Allerton Hospital - RR819","L22 Adult Plastic Surgery"]
["RRE11-Ashley House","RRE","MIDLANDS PARTNERSHIP NHS FOUNDATION TRUST","RRE11","ST GEORGE'S HOSPITAL","Ashley House"]
["RRE11-Baswich","RRE","MIDLANDS PARTNERSHIP NHS FOUNDATION TRUST","RRE11","ST GEORGE'S HOSPITAL","Baswich"]
["RRE11-Brockington","RRE","MIDLANDS PARTNERSHIP NHS FOUNDATION TRUST","RRE11","ST GEORGE'S HOSPITAL","Brockington"]
["RRE11-Brocton","RRE","MIDLANDS PARTNERSHIP NHS FOUNDATION TRUST","RRE11","ST GEORGE'S HOSPITAL","Brocton"]
["RRE11-Bromley","RRE","MIDLANDS PARTNERSHIP NHS FOUNDATION TRUST","RRE11","ST GEORGE'S HOSPITAL","Bromley"]
["RRE11-Chebsey House","RRE","MIDLANDS PARTNERSHIP NHS FOUNDATION TRUST","RRE11","ST GEORGE'S HOSPITAL","Chebsey House"]
["RRE11-Ellesmere House","RRE","MIDLANDS PARTNERSHIP NHS FOUNDATION TRUST","RRE11","ST GEORGE'S HOSPITAL","Ellesmere House"]
["RRE11-Kinver","RRE","MIDLANDS PARTNERSHIP NHS FOUNDATION TRUST","RRE11","ST GEORGE'S HOSPITAL","Kinver"]
["RRE11-Milford","RRE","MIDLANDS PARTNERSHIP NHS FOUNDATION TRUST","RRE11","ST GEORGE'S HOSPITAL","Milford"]
["RRE11-Newport House","RRE","MIDLANDS PARTNERSHIP NHS FOUNDATION TRUST","RRE11","ST GEORGE'S HOSPITAL","Newport House"]
["RRE11-Norbury","RRE","MIDLANDS PARTNERSHIP NHS FOUNDATION TRUST","RRE11","ST GEORGE'S HOSPITAL","Norbury"]
["RRE11-Norton House","RRE","MIDLANDS PARTNERSHIP NHS FOUNDATION TRUST","RRE11","ST GEORGE'S HOSPITAL","Norton House"]
["RRE11-Radford House","RRE","MIDLANDS PARTNERSHIP NHS FOUNDATION TRUST","RRE11","ST GEORGE'S HOSPITAL","Radford House"]
["RRERS-Birch","RRE","MIDLANDS PARTNERSHIP NHS FOUNDATION TRUST","RRERS","THE REDWOODS CENTRE","Birch"]
["RRERS-Holly","RRE","MIDLANDS PARTNERSHIP NHS FOUNDATION TRUST","RRERS","THE REDWOODS CENTRE","Holly"]
["RRERS-Laurel","RRE","MIDLANDS PARTNERSHIP NHS FOUNDATION TRUST","RRERS","THE REDWOODS CENTRE","Laurel"]
["RRERS-Oak","RRE","MIDLANDS PARTNERSHIP NHS FOUNDATION TRUST","RRERS","THE REDWOODS CENTRE","Oak"]
["RRERS-Pine","RRE","MIDLANDS PARTNERSHIP NHS FOUNDATION TRUST","RRERS","THE REDWOODS CENTRE","Pine"]
["RRERS-Willow","RRE","MIDLANDS PARTNERSHIP NHS FOUNDATION TRUST","RRERS","THE REDWOODS CENTRE","Willow"]
["RRERS-Yew","RRE","MIDLANDS PARTNERSHIP NHS FOUNDATION TRUST","RRERS","THE REDWOODS CENTRE","Yew"]
["RREV3-Broadfield","RRE","MIDLANDS PARTNERSHIP NHS FOUNDATION TRUST","RREV3","OLDER PEOPLE 10","Broadfield"]
["RREV3-Chatterley","RRE","MIDLANDS PARTNERSHIP NHS FOUNDATION TRUST","RREV3","OLDER PEOPLE 10","Chatterley"]
["RREV3-Grange","RRE","MIDLANDS PARTNERSHIP NHS FOUNDATION TRUST","RREV3","OLDER PEOPLE 10","Grange"]
["RREV3-Jackfield","RRE","MIDLANDS PARTNERSHIP NHS FOUNDATION TRUST","RREV3","OLDER PEOPLE 10","Jackfield"]
["RREV3-Scotia","RRE","MIDLANDS PARTNERSHIP NHS FOUNDATION TRUST","RREV3","OLDER PEOPLE 10","Scotia"]
["RREV3-Sneyd","RRE","MIDLANDS PARTNERSHIP NHS FOUNDATION TRUST","RREV3","OLDER PEOPLE 10","Sneyd"]
["RRF02-Acute Stroke Unit","RRF","WRIGHTINGTON, WIGAN AND LEIGH NHS FOUNDATION TRUST","RRF02","ROYAL ALBERT EDWARD INFIRMARY - RRF02","Acute Stroke Unit"]
["RRF02-Aspull","RRF","WRIGHTINGTON, WIGAN AND LEIGH NHS FOUNDATION TRUST","RRF02","ROYAL ALBERT EDWARD INFIRMARY - RRF02","Aspull"]
["RRF02-Cardio and Respiratory","RRF","WRIGHTINGTON, WIGAN AND LEIGH NHS FOUNDATION TRUST","RRF02","ROYAL ALBERT EDWARD INFIRMARY - RRF02","Cardio and Respiratory"]
["RRF02-Coronary Care Unit","RRF","WRIGHTINGTON, WIGAN AND LEIGH NHS FOUNDATION TRUST","RRF02","ROYAL ALBERT EDWARD INFIRMARY - RRF02","Coronary Care Unit"]
["RRF02-Elderly Care Unit","RRF","WRIGHTINGTON, WIGAN AND LEIGH NHS FOUNDATION TRUST","RRF02","ROYAL ALBERT EDWARD INFIRMARY - RRF02","Elderly Care Unit"]
["RRF02-Highfield","RRF","WRIGHTINGTON, WIGAN AND LEIGH NHS FOUNDATION TRUST","RRF02","ROYAL ALBERT EDWARD INFIRMARY - RRF02","Highfield"]
["RRF02-Intensive Care Unit/ High Dependancy Unit","RRF","WRIGHTINGTON, WIGAN AND LEIGH NHS FOUNDATION TRUST","RRF02","ROYAL ALBERT EDWARD INFIRMARY - RRF02","Intensive Care Unit/ High Dependancy Unit"]
["RRF02-Langtree","RRF","WRIGHTINGTON, WIGAN AND LEIGH NHS FOUNDATION TRUST","RRF02","ROYAL ALBERT EDWARD INFIRMARY - RRF02","Langtree"]
["RRF02-Maternity unit","RRF","WRIGHTINGTON, WIGAN AND LEIGH NHS FOUNDATION TRUST","RRF02","ROYAL ALBERT EDWARD INFIRMARY - RRF02","Maternity unit"]
["RRF02-Neonatal Unit","RRF","WRIGHTINGTON, WIGAN AND LEIGH NHS FOUNDATION TRUST","RRF02","ROYAL ALBERT EDWARD INFIRMARY - RRF02","Neonatal Unit"]
["RRF02-Orrell","RRF","WRIGHTINGTON, WIGAN AND LEIGH NHS FOUNDATION TRUST","RRF02","ROYAL ALBERT EDWARD INFIRMARY - RRF02","Orrell"]
["RRF02-Pemberton","RRF","WRIGHTINGTON, WIGAN AND LEIGH NHS FOUNDATION TRUST","RRF02","ROYAL ALBERT EDWARD INFIRMARY - RRF02","Pemberton"]
["RRF02-Rainbow","RRF","WRIGHTINGTON, WIGAN AND LEIGH NHS FOUNDATION TRUST","RRF02","ROYAL ALBERT EDWARD INFIRMARY - RRF02","Rainbow"]
["RRF02-Shevington","RRF","WRIGHTINGTON, WIGAN AND LEIGH NHS FOUNDATION TRUST","RRF02","ROYAL ALBERT EDWARD INFIRMARY - RRF02","Shevington"]
["RRF02-Swinley","RRF","WRIGHTINGTON, WIGAN AND LEIGH NHS FOUNDATION TRUST","RRF02","ROYAL ALBERT EDWARD INFIRMARY - RRF02","Swinley"]
["RRF53-John Charnley","RRF","WRIGHTINGTON, WIGAN AND LEIGH NHS FOUNDATION TRUST","RRF53","WRIGHTINGTON HOSPITAL - RRF53","John Charnley"]
["RRF53-Ward A","RRF","WRIGHTINGTON, WIGAN AND LEIGH NHS FOUNDATION TRUST","RRF53","WRIGHTINGTON HOSPITAL - RRF53","Ward A"]
["RRF53-Ward B","RRF","WRIGHTINGTON, WIGAN AND LEIGH NHS FOUNDATION TRUST","RRF53","WRIGHTINGTON HOSPITAL - RRF53","Ward B"]
["RRJ05-HDU","RRJ","THE ROYAL ORTHOPAEDIC HOSPITAL NHS FOUNDATION TRUST","RRJ05","ROYAL ORTHOPAEDIC HOSPITAL - RRJ05","HDU"]
["RRJ05-Ward 1","RRJ","THE ROYAL ORTHOPAEDIC HOSPITAL NHS FOUNDATION TRUST","RRJ05","ROYAL ORTHOPAEDIC HOSPITAL - RRJ05","Ward 1"]
["RRJ05-Ward 10 & 12","RRJ","THE ROYAL ORTHOPAEDIC HOSPITAL NHS FOUNDATION TRUST","RRJ05","ROYAL ORTHOPAEDIC HOSPITAL - RRJ05","Ward 10 & 12"]
["RRJ05-Ward 11","RRJ","THE ROYAL ORTHOPAEDIC HOSPITAL NHS FOUNDATION TRUST","RRJ05","ROYAL ORTHOPAEDIC HOSPITAL - RRJ05","Ward 11"]
["RRJ05-Ward 2","RRJ","THE ROYAL ORTHOPAEDIC HOSPITAL NHS FOUNDATION TRUST","RRJ05","ROYAL ORTHOPAEDIC HOSPITAL - RRJ05","Ward 2"]
["RRJ05-Ward 3","RRJ","THE ROYAL ORTHOPAEDIC HOSPITAL NHS FOUNDATION TRUST","RRJ05","ROYAL ORTHOPAEDIC HOSPITAL - RRJ05","Ward 3"]
["RRK15-Bournville","RRK","UNIVERSITY HOSPITALS BIRMINGHAM NHS FOUNDATION TRUST","RRK15","QUEEN ELIZABETH HOSPITAL BIRMINGHAM","Bournville"]
["RRK15-Edgbaston","RRK","UNIVERSITY HOSPITALS BIRMINGHAM NHS FOUNDATION TRUST","RRK15","QUEEN ELIZABETH HOSPITAL BIRMINGHAM","Edgbaston"]
[{"$f":"CONCATENATE(D3675,\"-\",F3675)","v":"RRK15-Harborne"},"RRK","UNIVERSITY HOSPITALS BIRMINGHAM NHS FOUNDATION TRUST","RRK15","QUEEN ELIZABETH HOSPITAL BIRMINGHAM","Harborne"]
["RRK15-W302","RRK","UNIVERSITY HOSPITALS BIRMINGHAM NHS FOUNDATION TRUST","RRK15","QUEEN ELIZABETH HOSPITAL BIRMINGHAM","W302"]
["RRK15-W303","RRK","UNIVERSITY HOSPITALS BIRMINGHAM NHS FOUNDATION TRUST","RRK15","QUEEN ELIZABETH HOSPITAL BIRMINGHAM","W303"]
["RRK15-W304","RRK","UNIVERSITY HOSPITALS BIRMINGHAM NHS FOUNDATION TRUST","RRK15","QUEEN ELIZABETH HOSPITAL BIRMINGHAM","W304"]
["RRK15-W305","RRK","UNIVERSITY HOSPITALS BIRMINGHAM NHS FOUNDATION TRUST","RRK15","QUEEN ELIZABETH HOSPITAL BIRMINGHAM","W305"]
["RRK15-W306","RRK","UNIVERSITY HOSPITALS BIRMINGHAM NHS FOUNDATION TRUST","RRK15","QUEEN ELIZABETH HOSPITAL BIRMINGHAM","W306"]
["RRK15-W407","RRK","UNIVERSITY HOSPITALS BIRMINGHAM NHS FOUNDATION TRUST","RRK15","QUEEN ELIZABETH HOSPITAL BIRMINGHAM","W407"]
["RRK15-W408","RRK","UNIVERSITY HOSPITALS BIRMINGHAM NHS FOUNDATION TRUST","RRK15","QUEEN ELIZABETH HOSPITAL BIRMINGHAM","W408"]
["RRK15-W409","RRK","UNIVERSITY HOSPITALS BIRMINGHAM NHS FOUNDATION TRUST","RRK15","QUEEN ELIZABETH HOSPITAL BIRMINGHAM","W409"]
["RRK15-W410","RRK","UNIVERSITY HOSPITALS BIRMINGHAM NHS FOUNDATION TRUST","RRK15","QUEEN ELIZABETH HOSPITAL BIRMINGHAM","W410"]
["RRK15-W411","RRK","UNIVERSITY HOSPITALS BIRMINGHAM NHS FOUNDATION TRUST","RRK15","QUEEN ELIZABETH HOSPITAL BIRMINGHAM","W411"]
["RRK15-W412","RRK","UNIVERSITY HOSPITALS BIRMINGHAM NHS FOUNDATION TRUST","RRK15","QUEEN ELIZABETH HOSPITAL BIRMINGHAM","W412"]
["RRK15-W513","RRK","UNIVERSITY HOSPITALS BIRMINGHAM NHS FOUNDATION TRUST","RRK15","QUEEN ELIZABETH HOSPITAL BIRMINGHAM","W513"]
["RRK15-W514","RRK","UNIVERSITY HOSPITALS BIRMINGHAM NHS FOUNDATION TRUST","RRK15","QUEEN ELIZABETH HOSPITAL BIRMINGHAM","W514"]
["RRK15-W515","RRK","UNIVERSITY HOSPITALS BIRMINGHAM NHS FOUNDATION TRUST","RRK15","QUEEN ELIZABETH HOSPITAL BIRMINGHAM","W515"]
["RRK15-W516","RRK","UNIVERSITY HOSPITALS BIRMINGHAM NHS FOUNDATION TRUST","RRK15","QUEEN ELIZABETH HOSPITAL BIRMINGHAM","W516"]
["RRK15-W517","RRK","UNIVERSITY HOSPITALS BIRMINGHAM NHS FOUNDATION TRUST","RRK15","QUEEN ELIZABETH HOSPITAL BIRMINGHAM","W517"]
["RRK15-W518","RRK","UNIVERSITY HOSPITALS BIRMINGHAM NHS FOUNDATION TRUST","RRK15","QUEEN ELIZABETH HOSPITAL BIRMINGHAM","W518"]
["RRK15-W620","RRK","UNIVERSITY HOSPITALS BIRMINGHAM NHS FOUNDATION TRUST","RRK15","QUEEN ELIZABETH HOSPITAL BIRMINGHAM","W620"]
["RRK15-W622","RRK","UNIVERSITY HOSPITALS BIRMINGHAM NHS FOUNDATION TRUST","RRK15","QUEEN ELIZABETH HOSPITAL BIRMINGHAM","W622"]
["RRK15-W623","RRK","UNIVERSITY HOSPITALS BIRMINGHAM NHS FOUNDATION TRUST","RRK15","QUEEN ELIZABETH HOSPITAL BIRMINGHAM","W623"]
["RRK15-W624","RRK","UNIVERSITY HOSPITALS BIRMINGHAM NHS FOUNDATION TRUST","RRK15","QUEEN ELIZABETH HOSPITAL BIRMINGHAM","W624"]
["RRK15-W625","RRK","UNIVERSITY HOSPITALS BIRMINGHAM NHS FOUNDATION TRUST","RRK15","QUEEN ELIZABETH HOSPITAL BIRMINGHAM","W625"]
["RRK15-W726","RRK","UNIVERSITY HOSPITALS BIRMINGHAM NHS FOUNDATION TRUST","RRK15","QUEEN ELIZABETH HOSPITAL BIRMINGHAM","W726"]
["RRK15-W727","RRK","UNIVERSITY HOSPITALS BIRMINGHAM NHS FOUNDATION TRUST","RRK15","QUEEN ELIZABETH HOSPITAL BIRMINGHAM","W727"]
["RRK15-W728","RRK","UNIVERSITY HOSPITALS BIRMINGHAM NHS FOUNDATION TRUST","RRK15","QUEEN ELIZABETH HOSPITAL BIRMINGHAM","W728"]
["RRK15-WBU","RRK","UNIVERSITY HOSPITALS BIRMINGHAM NHS FOUNDATION TRUST","RRK15","QUEEN ELIZABETH HOSPITAL BIRMINGHAM","WBU"]
["RRK15-WCCA","RRK","UNIVERSITY HOSPITALS BIRMINGHAM NHS FOUNDATION TRUST","RRK15","QUEEN ELIZABETH HOSPITAL BIRMINGHAM","WCCA"]
["RRK15-WCCB","RRK","UNIVERSITY HOSPITALS BIRMINGHAM NHS FOUNDATION TRUST","RRK15","QUEEN ELIZABETH HOSPITAL BIRMINGHAM","WCCB"]
["RRK15-WCCC","RRK","UNIVERSITY HOSPITALS BIRMINGHAM NHS FOUNDATION TRUST","RRK15","QUEEN ELIZABETH HOSPITAL BIRMINGHAM","WCCC"]
["RRK15-WCCD","RRK","UNIVERSITY HOSPITALS BIRMINGHAM NHS FOUNDATION TRUST","RRK15","QUEEN ELIZABETH HOSPITAL BIRMINGHAM","WCCD"]
["RRK15-WCCU","RRK","UNIVERSITY HOSPITALS BIRMINGHAM NHS FOUNDATION TRUST","RRK15","QUEEN ELIZABETH HOSPITAL BIRMINGHAM","WCCU"]
["RRK15-WW1","RRK","UNIVERSITY HOSPITALS BIRMINGHAM NHS FOUNDATION TRUST","RRK15","QUEEN ELIZABETH HOSPITAL BIRMINGHAM","WW1"]
["RRK15-WW2","RRK","UNIVERSITY HOSPITALS BIRMINGHAM NHS FOUNDATION TRUST","RRK15","QUEEN ELIZABETH HOSPITAL BIRMINGHAM","WW2"]
["RRK97-AMU 1 BHH","RRK","UNIVERSITY HOSPITALS BIRMINGHAM NHS FOUNDATION TRUST","RRK97","HEARTLANDS HOSPITAL","AMU 1 BHH"]
["RRK97-AMU 2 BHH","RRK","UNIVERSITY HOSPITALS BIRMINGHAM NHS FOUNDATION TRUST","RRK97","HEARTLANDS HOSPITAL","AMU 2 BHH"]
["RRK97-Aspen BHH","RRK","UNIVERSITY HOSPITALS BIRMINGHAM NHS FOUNDATION TRUST","RRK97","HEARTLANDS HOSPITAL","Aspen BHH"]
["RRK97-Cedar BHH","RRK","UNIVERSITY HOSPITALS BIRMINGHAM NHS FOUNDATION TRUST","RRK97","HEARTLANDS HOSPITAL","Cedar BHH"]
["RRK97-Critical Care BHH","RRK","UNIVERSITY HOSPITALS BIRMINGHAM NHS FOUNDATION TRUST","RRK97","HEARTLANDS HOSPITAL","Critical Care BHH"]
["RRK97-Delivery Suite BHH","RRK","UNIVERSITY HOSPITALS BIRMINGHAM NHS FOUNDATION TRUST","RRK97","HEARTLANDS HOSPITAL","Delivery Suite BHH"]
["RRK97-HASU & ASU BHH","RRK","UNIVERSITY HOSPITALS BIRMINGHAM NHS FOUNDATION TRUST","RRK97","HEARTLANDS HOSPITAL","HASU & ASU BHH"]
["RRK97-Heartlands Trauma Unit (Ward 8 & 9)","RRK","UNIVERSITY HOSPITALS BIRMINGHAM NHS FOUNDATION TRUST","RRK97","HEARTLANDS HOSPITAL","Heartlands Trauma Unit (Ward 8 & 9)"]
["RRK97-ID Unit BHH","RRK","UNIVERSITY HOSPITALS BIRMINGHAM NHS FOUNDATION TRUST","RRK97","HEARTLANDS HOSPITAL","ID Unit BHH"]
["RRK97-Maple BHH","RRK","UNIVERSITY HOSPITALS BIRMINGHAM NHS FOUNDATION TRUST","RRK97","HEARTLANDS HOSPITAL","Maple BHH"]
["RRK97-NNU BHH","RRK","UNIVERSITY HOSPITALS BIRMINGHAM NHS FOUNDATION TRUST","RRK97","HEARTLANDS HOSPITAL","NNU BHH"]
["RRK97-PAU & CAU BHH","RRK","UNIVERSITY HOSPITALS BIRMINGHAM NHS FOUNDATION TRUST","RRK97","HEARTLANDS HOSPITAL","PAU & CAU BHH"]
["RRK97-Ward 1 BHH","RRK","UNIVERSITY HOSPITALS BIRMINGHAM NHS FOUNDATION TRUST","RRK97","HEARTLANDS HOSPITAL","Ward 1 BHH"]
["RRK97-Ward 10 BHH","RRK","UNIVERSITY HOSPITALS BIRMINGHAM NHS FOUNDATION TRUST","RRK97","HEARTLANDS HOSPITAL","Ward 10 BHH"]
["RRK97-Ward 11 BHH","RRK","UNIVERSITY HOSPITALS BIRMINGHAM NHS FOUNDATION TRUST","RRK97","HEARTLANDS HOSPITAL","Ward 11 BHH"]
["RRK97-Ward 12 BHH","RRK","UNIVERSITY HOSPITALS BIRMINGHAM NHS FOUNDATION TRUST","RRK97","HEARTLANDS HOSPITAL","Ward 12 BHH"]
["RRK97-Ward 15/16 BHH","RRK","UNIVERSITY HOSPITALS BIRMINGHAM NHS FOUNDATION TRUST","RRK97","HEARTLANDS HOSPITAL","Ward 15/16 BHH"]
["RRK97-Ward 18 BHH (gastro)","RRK","UNIVERSITY HOSPITALS BIRMINGHAM NHS FOUNDATION TRUST","RRK97","HEARTLANDS HOSPITAL","Ward 18 BHH (gastro)"]
["RRK97-Ward 19 BHH","RRK","UNIVERSITY HOSPITALS BIRMINGHAM NHS FOUNDATION TRUST","RRK97","HEARTLANDS HOSPITAL","Ward 19 BHH"]
["RRK97-Ward 2 BHH *","RRK","UNIVERSITY HOSPITALS BIRMINGHAM NHS FOUNDATION TRUST","RRK97","HEARTLANDS HOSPITAL","Ward 2 BHH *"]
["RRK97-Ward 21 BHH","RRK","UNIVERSITY HOSPITALS BIRMINGHAM NHS FOUNDATION TRUST","RRK97","HEARTLANDS HOSPITAL","Ward 21 BHH"]
["RRK97-Ward 24 BHH","RRK","UNIVERSITY HOSPITALS BIRMINGHAM NHS FOUNDATION TRUST","RRK97","HEARTLANDS HOSPITAL","Ward 24 BHH"]
["RRK97-Ward 26 BHH","RRK","UNIVERSITY HOSPITALS BIRMINGHAM NHS FOUNDATION TRUST","RRK97","HEARTLANDS HOSPITAL","Ward 26 BHH"]
["RRK97-Ward 29 BHH*","RRK","UNIVERSITY HOSPITALS BIRMINGHAM NHS FOUNDATION TRUST","RRK97","HEARTLANDS HOSPITAL","Ward 29 BHH*"]
["RRK97-Ward 3 BHH","RRK","UNIVERSITY HOSPITALS BIRMINGHAM NHS FOUNDATION TRUST","RRK97","HEARTLANDS HOSPITAL","Ward 3 BHH"]
["RRK97-Ward 30 BHH","RRK","UNIVERSITY HOSPITALS BIRMINGHAM NHS FOUNDATION TRUST","RRK97","HEARTLANDS HOSPITAL","Ward 30 BHH"]
["RRK97-Ward 4 BHH","RRK","UNIVERSITY HOSPITALS BIRMINGHAM NHS FOUNDATION TRUST","RRK97","HEARTLANDS HOSPITAL","Ward 4 BHH"]
["RRK97-Ward 5 BHH","RRK","UNIVERSITY HOSPITALS BIRMINGHAM NHS FOUNDATION TRUST","RRK97","HEARTLANDS HOSPITAL","Ward 5 BHH"]
["RRK97-Ward 6 BHH","RRK","UNIVERSITY HOSPITALS BIRMINGHAM NHS FOUNDATION TRUST","RRK97","HEARTLANDS HOSPITAL","Ward 6 BHH"]
["RRK97-Ward 9 BHH *","RRK","UNIVERSITY HOSPITALS BIRMINGHAM NHS FOUNDATION TRUST","RRK97","HEARTLANDS HOSPITAL","Ward 9 BHH *"]
[{"$f":"CONCATENATE(D3739,\"-\",F3739)","v":"RRK98-AMU SS GHH"},"RRK","UNIVERSITY HOSPITALS BIRMINGHAM NHS FOUNDATION TRUST","RRK98","GOOD HOPE HOSPITAL","AMU SS GHH"]
["RRK98-Critical Care GHH","RRK","UNIVERSITY HOSPITALS BIRMINGHAM NHS FOUNDATION TRUST","RRK98","GOOD HOPE HOSPITAL","Critical Care GHH"]
["RRK98-Delivery Suite GHH","RRK","UNIVERSITY HOSPITALS BIRMINGHAM NHS FOUNDATION TRUST","RRK98","GOOD HOPE HOSPITAL","Delivery Suite GHH"]
["RRK98-Homeward Centre GHH","RRK","UNIVERSITY HOSPITALS BIRMINGHAM NHS FOUNDATION TRUST","RRK98","GOOD HOPE HOSPITAL","Homeward Centre GHH"]
["RRK98-MAC & Ward 4 GHH","RRK","UNIVERSITY HOSPITALS BIRMINGHAM NHS FOUNDATION TRUST","RRK98","GOOD HOPE HOSPITAL","MAC & Ward 4 GHH"]
["RRK98-NNU GHH","RRK","UNIVERSITY HOSPITALS BIRMINGHAM NHS FOUNDATION TRUST","RRK98","GOOD HOPE HOSPITAL","NNU GHH"]
["RRK98-PAU & CAU GHH","RRK","UNIVERSITY HOSPITALS BIRMINGHAM NHS FOUNDATION TRUST","RRK98","GOOD HOPE HOSPITAL","PAU & CAU GHH"]
["RRK98-SCBU GHH","RRK","UNIVERSITY HOSPITALS BIRMINGHAM NHS FOUNDATION TRUST","RRK98","GOOD HOPE HOSPITAL","SCBU GHH"]
["RRK98-Ward 10 GHH *","RRK","UNIVERSITY HOSPITALS BIRMINGHAM NHS FOUNDATION TRUST","RRK98","GOOD HOPE HOSPITAL","Ward 10 GHH *"]
["RRK98-Ward 11 GHH","RRK","UNIVERSITY HOSPITALS BIRMINGHAM NHS FOUNDATION TRUST","RRK98","GOOD HOPE HOSPITAL","Ward 11 GHH"]
["RRK98-Ward 12 GHH","RRK","UNIVERSITY HOSPITALS BIRMINGHAM NHS FOUNDATION TRUST","RRK98","GOOD HOPE HOSPITAL","Ward 12 GHH"]
["RRK98-Ward 14 GHH","RRK","UNIVERSITY HOSPITALS BIRMINGHAM NHS FOUNDATION TRUST","RRK98","GOOD HOPE HOSPITAL","Ward 14 GHH"]
["RRK98-Ward 15 GHH","RRK","UNIVERSITY HOSPITALS BIRMINGHAM NHS FOUNDATION TRUST","RRK98","GOOD HOPE HOSPITAL","Ward 15 GHH"]
["RRK98-Ward 16 GHH","RRK","UNIVERSITY HOSPITALS BIRMINGHAM NHS FOUNDATION TRUST","RRK98","GOOD HOPE HOSPITAL","Ward 16 GHH"]
["RRK98-Ward 17 GHH *","RRK","UNIVERSITY HOSPITALS BIRMINGHAM NHS FOUNDATION TRUST","RRK98","GOOD HOPE HOSPITAL","Ward 17 GHH *"]
["RRK98-Ward 2 GHH","RRK","UNIVERSITY HOSPITALS BIRMINGHAM NHS FOUNDATION TRUST","RRK98","GOOD HOPE HOSPITAL","Ward 2 GHH"]
["RRK98-Ward 21 GHH","RRK","UNIVERSITY HOSPITALS BIRMINGHAM NHS FOUNDATION TRUST","RRK98","GOOD HOPE HOSPITAL","Ward 21 GHH"]
["RRK98-Ward 23 GHH","RRK","UNIVERSITY HOSPITALS BIRMINGHAM NHS FOUNDATION TRUST","RRK98","GOOD HOPE HOSPITAL","Ward 23 GHH"]
["RRK98-Ward 24 GHH *","RRK","UNIVERSITY HOSPITALS BIRMINGHAM NHS FOUNDATION TRUST","RRK98","GOOD HOPE HOSPITAL","Ward 24 GHH *"]
["RRK98-Ward 5 GHH","RRK","UNIVERSITY HOSPITALS BIRMINGHAM NHS FOUNDATION TRUST","RRK98","GOOD HOPE HOSPITAL","Ward 5 GHH"]
["RRK98-Ward 7 GHH","RRK","UNIVERSITY HOSPITALS BIRMINGHAM NHS FOUNDATION TRUST","RRK98","GOOD HOPE HOSPITAL","Ward 7 GHH"]
["RRK98-Ward 8 GHH *","RRK","UNIVERSITY HOSPITALS BIRMINGHAM NHS FOUNDATION TRUST","RRK98","GOOD HOPE HOSPITAL","Ward 8 GHH *"]
["RRK98-Ward 9 GHH","RRK","UNIVERSITY HOSPITALS BIRMINGHAM NHS FOUNDATION TRUST","RRK98","GOOD HOPE HOSPITAL","Ward 9 GHH"]
["RRK99-AMU SS SH","RRK","UNIVERSITY HOSPITALS BIRMINGHAM NHS FOUNDATION TRUST","RRK99","SOLIHULL HOSPITAL","AMU SS SH"]
["RRK99-CAU SH","RRK","UNIVERSITY HOSPITALS BIRMINGHAM NHS FOUNDATION TRUST","RRK99","SOLIHULL HOSPITAL","CAU SH"]
["RRK99-CCU SH","RRK","UNIVERSITY HOSPITALS BIRMINGHAM NHS FOUNDATION TRUST","RRK99","SOLIHULL HOSPITAL","CCU SH"]
["RRK99-Ward 14 SH *","RRK","UNIVERSITY HOSPITALS BIRMINGHAM NHS FOUNDATION TRUST","RRK99","SOLIHULL HOSPITAL","Ward 14 SH *"]
["RRK99-Ward 15 and Admissions Lounge SH","RRK","UNIVERSITY HOSPITALS BIRMINGHAM NHS FOUNDATION TRUST","RRK99","SOLIHULL HOSPITAL","Ward 15 and Admissions Lounge SH"]
["RRK99-Ward 17 SH","RRK","UNIVERSITY HOSPITALS BIRMINGHAM NHS FOUNDATION TRUST","RRK99","SOLIHULL HOSPITAL","Ward 17 SH"]
["RRK99-Ward 19 SH","RRK","UNIVERSITY HOSPITALS BIRMINGHAM NHS FOUNDATION TRUST","RRK99","SOLIHULL HOSPITAL","Ward 19 SH"]
["RRK99-Ward 20b SH","RRK","UNIVERSITY HOSPITALS BIRMINGHAM NHS FOUNDATION TRUST","RRK99","SOLIHULL HOSPITAL","Ward 20b SH"]
["RRK99-Ward 8 SH","RRK","UNIVERSITY HOSPITALS BIRMINGHAM NHS FOUNDATION TRUST","RRK99","SOLIHULL HOSPITAL","Ward 8 SH"]
["RRP01-Ken Porter","RRP","BARNET, ENFIELD AND HARINGEY MENTAL HEALTH NHS TRUST","RRP01","BARNET GENERAL HOSPITAL","Ken Porter"]
["RRP16-Blue Nile","RRP","BARNET, ENFIELD AND HARINGEY MENTAL HEALTH NHS TRUST","RRP16","CHASE FARM HOSPITAL","Blue Nile"]
["RRP16-Cape Town","RRP","BARNET, ENFIELD AND HARINGEY MENTAL HEALTH NHS TRUST","RRP16","CHASE FARM HOSPITAL","Cape Town"]
["RRP16-Cardamom","RRP","BARNET, ENFIELD AND HARINGEY MENTAL HEALTH NHS TRUST","RRP16","CHASE FARM HOSPITAL","Cardamom"]
["RRP16-Complex Rehab Ward (formerly Somerset Villa)","RRP","BARNET, ENFIELD AND HARINGEY MENTAL HEALTH NHS TRUST","RRP16","CHASE FARM HOSPITAL","Complex Rehab Ward (formerly Somerset Villa)"]
["RRP16-Cornwall Villa","RRP","BARNET, ENFIELD AND HARINGEY MENTAL HEALTH NHS TRUST","RRP16","CHASE FARM HOSPITAL","Cornwall Villa"]
["RRP16-Derwent","RRP","BARNET, ENFIELD AND HARINGEY MENTAL HEALTH NHS TRUST","RRP16","CHASE FARM HOSPITAL","Derwent"]
["RRP16-Dorset","RRP","BARNET, ENFIELD AND HARINGEY MENTAL HEALTH NHS TRUST","RRP16","CHASE FARM HOSPITAL","Dorset"]
["RRP16-Eden House","RRP","BARNET, ENFIELD AND HARINGEY MENTAL HEALTH NHS TRUST","RRP16","CHASE FARM HOSPITAL","Eden House"]
["RRP16-Fennel","RRP","BARNET, ENFIELD AND HARINGEY MENTAL HEALTH NHS TRUST","RRP16","CHASE FARM HOSPITAL","Fennel"]
["RRP16-Juniper","RRP","BARNET, ENFIELD AND HARINGEY MENTAL HEALTH NHS TRUST","RRP16","CHASE FARM HOSPITAL","Juniper"]
["RRP16-Mint","RRP","BARNET, ENFIELD AND HARINGEY MENTAL HEALTH NHS TRUST","RRP16","CHASE FARM HOSPITAL","Mint"]
["RRP16-Moselle House","RRP","BARNET, ENFIELD AND HARINGEY MENTAL HEALTH NHS TRUST","RRP16","CHASE FARM HOSPITAL","Moselle House"]
["RRP16-Paprika","RRP","BARNET, ENFIELD AND HARINGEY MENTAL HEALTH NHS TRUST","RRP16","CHASE FARM HOSPITAL","Paprika"]
["RRP16-Sage","RRP","BARNET, ENFIELD AND HARINGEY MENTAL HEALTH NHS TRUST","RRP16","CHASE FARM HOSPITAL","Sage"]
["RRP16-Severn","RRP","BARNET, ENFIELD AND HARINGEY MENTAL HEALTH NHS TRUST","RRP16","CHASE FARM HOSPITAL","Severn"]
["RRP16-Silver Birches","RRP","BARNET, ENFIELD AND HARINGEY MENTAL HEALTH NHS TRUST","RRP16","CHASE FARM HOSPITAL","Silver Birches"]
["RRP16-Suffolk Ward","RRP","BARNET, ENFIELD AND HARINGEY MENTAL HEALTH NHS TRUST","RRP16","CHASE FARM HOSPITAL","Suffolk Ward"]
["RRP16-Sussex","RRP","BARNET, ENFIELD AND HARINGEY MENTAL HEALTH NHS TRUST","RRP16","CHASE FARM HOSPITAL","Sussex"]
["RRP16-Tamarind","RRP","BARNET, ENFIELD AND HARINGEY MENTAL HEALTH NHS TRUST","RRP16","CHASE FARM HOSPITAL","Tamarind"]
["RRP16-The Oaks","RRP","BARNET, ENFIELD AND HARINGEY MENTAL HEALTH NHS TRUST","RRP16","CHASE FARM HOSPITAL","The Oaks"]
["RRP23-Beacon Centre","RRP","BARNET, ENFIELD AND HARINGEY MENTAL HEALTH NHS TRUST","RRP23","EDGWARE COMMUNITY HOSPITAL","Beacon Centre"]
["RRP23-Devon Ward (formerly Avon)","RRP","BARNET, ENFIELD AND HARINGEY MENTAL HEALTH NHS TRUST","RRP23","EDGWARE COMMUNITY HOSPITAL","Devon Ward (formerly Avon)"]
["RRP23-Thames Ward","RRP","BARNET, ENFIELD AND HARINGEY MENTAL HEALTH NHS TRUST","RRP23","EDGWARE COMMUNITY HOSPITAL","Thames Ward"]
["RRP23-Trent Ward","RRP","BARNET, ENFIELD AND HARINGEY MENTAL HEALTH NHS TRUST","RRP23","EDGWARE COMMUNITY HOSPITAL","Trent Ward"]
["RRP46-Fairlands (Downhills)","RRP","BARNET, ENFIELD AND HARINGEY MENTAL HEALTH NHS TRUST","RRP46","ST ANN'S HOSPITAL","Fairlands (Downhills)"]
["RRP46-Finsbury","RRP","BARNET, ENFIELD AND HARINGEY MENTAL HEALTH NHS TRUST","RRP46","ST ANN'S HOSPITAL","Finsbury"]
["RRP46-Haringey Ward","RRP","BARNET, ENFIELD AND HARINGEY MENTAL HEALTH NHS TRUST","RRP46","ST ANN'S HOSPITAL","Haringey Ward"]
["RRP46-Pheonix","RRP","BARNET, ENFIELD AND HARINGEY MENTAL HEALTH NHS TRUST","RRP46","ST ANN'S HOSPITAL","Pheonix"]
["RRP47-Magnolia","RRP","BARNET, ENFIELD AND HARINGEY MENTAL HEALTH NHS TRUST","RRP47","ST MICHAEL'S HOSPITAL","Magnolia"]
["RRV03-Evergreen","RRV","UNIVERSITY COLLEGE LONDON HOSPITALS NHS FOUNDATION TRUST","RRV03","UNIVERSITY COLLEGE HOSPITAL - RRV03","Evergreen"]
["RRV03-Head and Neck T06","RRV","UNIVERSITY COLLEGE LONDON HOSPITALS NHS FOUNDATION TRUST","RRV03","UNIVERSITY COLLEGE HOSPITAL - RRV03","Head and Neck T06"]
[{"$f":"CONCATENATE(D3803,\"-\",F3803)","v":"RRV03-Hyper Acute Stroke Unit"},"RRV","UNIVERSITY COLLEGE LONDON HOSPITALS NHS FOUNDATION TRUST","RRV03","UNIVERSITY COLLEGE HOSPITAL - RRV03","Hyper Acute Stroke Unit"]
["RRV03-T03 Critical Care","RRV","UNIVERSITY COLLEGE LONDON HOSPITALS NHS FOUNDATION TRUST","RRV03","UNIVERSITY COLLEGE HOSPITAL - RRV03","T03 Critical Care"]
["RRV03-T06 North Short Stay Ward","RRV","UNIVERSITY COLLEGE LONDON HOSPITALS NHS FOUNDATION TRUST","RRV03","UNIVERSITY COLLEGE HOSPITAL - RRV03","T06 North Short Stay Ward"]
["RRV03-T06 South Gynae","RRV","UNIVERSITY COLLEGE LONDON HOSPITALS NHS FOUNDATION TRUST","RRV03","UNIVERSITY COLLEGE HOSPITAL - RRV03","T06 South Gynae"]
["RRV03-T11 North","RRV","UNIVERSITY COLLEGE LONDON HOSPITALS NHS FOUNDATION TRUST","RRV03","UNIVERSITY COLLEGE HOSPITAL - RRV03","T11 North"]
["RRV03-T11 South","RRV","UNIVERSITY COLLEGE LONDON HOSPITALS NHS FOUNDATION TRUST","RRV03","UNIVERSITY COLLEGE HOSPITAL - RRV03","T11 South"]
["RRV03-T12 North","RRV","UNIVERSITY COLLEGE LONDON HOSPITALS NHS FOUNDATION TRUST","RRV03","UNIVERSITY COLLEGE HOSPITAL - RRV03","T12 North"]
["RRV03-T12 South","RRV","UNIVERSITY COLLEGE LONDON HOSPITALS NHS FOUNDATION TRUST","RRV03","UNIVERSITY COLLEGE HOSPITAL - RRV03","T12 South"]
["RRV03-T14 North Oncology","RRV","UNIVERSITY COLLEGE LONDON HOSPITALS NHS FOUNDATION TRUST","RRV03","UNIVERSITY COLLEGE HOSPITAL - RRV03","T14 North Oncology"]
["RRV03-T14 South Haematology","RRV","UNIVERSITY COLLEGE LONDON HOSPITALS NHS FOUNDATION TRUST","RRV03","UNIVERSITY COLLEGE HOSPITAL - RRV03","T14 South Haematology"]
["RRV03-UCH TG Accident & Emergency","RRV","UNIVERSITY COLLEGE LONDON HOSPITALS NHS FOUNDATION TRUST","RRV03","UNIVERSITY COLLEGE HOSPITAL - RRV03","UCH TG Accident & Emergency"]
["RRV03-UCH Tower 10th Floor Medical","RRV","UNIVERSITY COLLEGE LONDON HOSPITALS NHS FOUNDATION TRUST","RRV03","UNIVERSITY COLLEGE HOSPITAL - RRV03","UCH Tower 10th Floor Medical"]
["RRV03-UCH Tower 10th Floor Oncology N","RRV","UNIVERSITY COLLEGE LONDON HOSPITALS NHS FOUNDATION TRUST","RRV03","UNIVERSITY COLLEGE HOSPITAL - RRV03","UCH Tower 10th Floor Oncology N"]
["RRV03-UCH Tower 10th Floor Orthopaedics","RRV","UNIVERSITY COLLEGE LONDON HOSPITALS NHS FOUNDATION TRUST","RRV03","UNIVERSITY COLLEGE HOSPITAL - RRV03","UCH Tower 10th Floor Orthopaedics"]
["RRV03-UCH Tower 13th Floor N","RRV","UNIVERSITY COLLEGE LONDON HOSPITALS NHS FOUNDATION TRUST","RRV03","UNIVERSITY COLLEGE HOSPITAL - RRV03","UCH Tower 13th Floor N"]
["RRV03-UCH Tower 13th Floor S","RRV","UNIVERSITY COLLEGE LONDON HOSPITALS NHS FOUNDATION TRUST","RRV03","UNIVERSITY COLLEGE HOSPITAL - RRV03","UCH Tower 13th Floor S"]
["RRV03-UCH Tower 16th Floor N Haematology","RRV","UNIVERSITY COLLEGE LONDON HOSPITALS NHS FOUNDATION TRUST","RRV03","UNIVERSITY COLLEGE HOSPITAL - RRV03","UCH Tower 16th Floor N Haematology"]
["RRV03-UCH Tower 16th Floor S","RRV","UNIVERSITY COLLEGE LONDON HOSPITALS NHS FOUNDATION TRUST","RRV03","UNIVERSITY COLLEGE HOSPITAL - RRV03","UCH Tower 16th Floor S"]
["RRV03-UCH Tower 1st Floor / AMU","RRV","UNIVERSITY COLLEGE LONDON HOSPITALS NHS FOUNDATION TRUST","RRV03","UNIVERSITY COLLEGE HOSPITAL - RRV03","UCH Tower 1st Floor / AMU"]
["RRV03-UCH Tower 7th Floor N","RRV","UNIVERSITY COLLEGE LONDON HOSPITALS NHS FOUNDATION TRUST","RRV03","UNIVERSITY COLLEGE HOSPITAL - RRV03","UCH Tower 7th Floor N"]
["RRV03-UCH Tower 8th Floor","RRV","UNIVERSITY COLLEGE LONDON HOSPITALS NHS FOUNDATION TRUST","RRV03","UNIVERSITY COLLEGE HOSPITAL - RRV03","UCH Tower 8th Floor"]
["RRV03-UCH Tower 9th Floor North","RRV","UNIVERSITY COLLEGE LONDON HOSPITALS NHS FOUNDATION TRUST","RRV03","UNIVERSITY COLLEGE HOSPITAL - RRV03","UCH Tower 9th Floor North"]
["RRV03-UCH Tower 9th Floor South","RRV","UNIVERSITY COLLEGE LONDON HOSPITALS NHS FOUNDATION TRUST","RRV03","UNIVERSITY COLLEGE HOSPITAL - RRV03","UCH Tower 9th Floor South"]
["RRV11-EGA Ante-Natal Care Unit","RRV","UNIVERSITY COLLEGE LONDON HOSPITALS NHS FOUNDATION TRUST","RRV11","UNIVERSITY COLLEGE HOSPITAL ELIZABETH GARRETT ANDERSON WING - RRV11","EGA Ante-Natal Care Unit"]
["RRV11-EGA Birthing Centre","RRV","UNIVERSITY COLLEGE LONDON HOSPITALS NHS FOUNDATION TRUST","RRV11","UNIVERSITY COLLEGE HOSPITAL ELIZABETH GARRETT ANDERSON WING - RRV11","EGA Birthing Centre"]
["RRV11-EGA Labour ward","RRV","UNIVERSITY COLLEGE LONDON HOSPITALS NHS FOUNDATION TRUST","RRV11","UNIVERSITY COLLEGE HOSPITAL ELIZABETH GARRETT ANDERSON WING - RRV11","EGA Labour ward"]
["RRV11-EGA Maternity Care Unit","RRV","UNIVERSITY COLLEGE LONDON HOSPITALS NHS FOUNDATION TRUST","RRV11","UNIVERSITY COLLEGE HOSPITAL ELIZABETH GARRETT ANDERSON WING - RRV11","EGA Maternity Care Unit"]
["RRV11-EGA Neonatal Unit","RRV","UNIVERSITY COLLEGE LONDON HOSPITALS NHS FOUNDATION TRUST","RRV11","UNIVERSITY COLLEGE HOSPITAL ELIZABETH GARRETT ANDERSON WING - RRV11","EGA Neonatal Unit"]
["RRV30-3rd Floor Urology","RRV","UNIVERSITY COLLEGE LONDON HOSPITALS NHS FOUNDATION TRUST","RRV30","THE HEART HOSPITAL - RRV30","3rd Floor Urology"]
["RRV30-4th Floor Thoracic","RRV","UNIVERSITY COLLEGE LONDON HOSPITALS NHS FOUNDATION TRUST","RRV30","THE HEART HOSPITAL - RRV30","4th Floor Thoracic"]
["RRVNQ-Bernard Sunley","RRV","UNIVERSITY COLLEGE LONDON HOSPITALS NHS FOUNDATION TRUST","RRVNQ","NATIONAL HOSPITAL FOR NEUROLOGY AND NEUROSURGERY, QUEEN SQUARE - RRVNQ","Bernard Sunley"]
["RRVNQ-David Ferrier","RRV","UNIVERSITY COLLEGE LONDON HOSPITALS NHS FOUNDATION TRUST","RRVNQ","NATIONAL HOSPITAL FOR NEUROLOGY AND NEUROSURGERY, QUEEN SQUARE - RRVNQ","David Ferrier"]
["RRVNQ-Hughling Jackson","RRV","UNIVERSITY COLLEGE LONDON HOSPITALS NHS FOUNDATION TRUST","RRVNQ","NATIONAL HOSPITAL FOR NEUROLOGY AND NEUROSURGERY, QUEEN SQUARE - RRVNQ","Hughling Jackson"]
["RRVNQ-John Young & Maida Vale","RRV","UNIVERSITY COLLEGE LONDON HOSPITALS NHS FOUNDATION TRUST","RRVNQ","NATIONAL HOSPITAL FOR NEUROLOGY AND NEUROSURGERY, QUEEN SQUARE - RRVNQ","John Young & Maida Vale"]
["RRVNQ-Lady Anne Allerton","RRV","UNIVERSITY COLLEGE LONDON HOSPITALS NHS FOUNDATION TRUST","RRVNQ","NATIONAL HOSPITAL FOR NEUROLOGY AND NEUROSURGERY, QUEEN SQUARE - RRVNQ","Lady Anne Allerton"]
["RRVNQ-MITU","RRV","UNIVERSITY COLLEGE LONDON HOSPITALS NHS FOUNDATION TRUST","RRVNQ","NATIONAL HOSPITAL FOR NEUROLOGY AND NEUROSURGERY, QUEEN SQUARE - RRVNQ","MITU"]
["RRVNQ-Molly Lane Fox Unit","RRV","UNIVERSITY COLLEGE LONDON HOSPITALS NHS FOUNDATION TRUST","RRVNQ","NATIONAL HOSPITAL FOR NEUROLOGY AND NEUROSURGERY, QUEEN SQUARE - RRVNQ","Molly Lane Fox Unit"]
["RRVNQ-Neurological Rehab","RRV","UNIVERSITY COLLEGE LONDON HOSPITALS NHS FOUNDATION TRUST","RRVNQ","NATIONAL HOSPITAL FOR NEUROLOGY AND NEUROSURGERY, QUEEN SQUARE - RRVNQ","Neurological Rehab"]
["RRVNQ-Neuromuscular Complex Care","RRV","UNIVERSITY COLLEGE LONDON HOSPITALS NHS FOUNDATION TRUST","RRVNQ","NATIONAL HOSPITAL FOR NEUROLOGY AND NEUROSURGERY, QUEEN SQUARE - RRVNQ","Neuromuscular Complex Care"]
["RRVNQ-SITU","RRV","UNIVERSITY COLLEGE LONDON HOSPITALS NHS FOUNDATION TRUST","RRVNQ","NATIONAL HOSPITAL FOR NEUROLOGY AND NEUROSURGERY, QUEEN SQUARE - RRVNQ","SITU"]
["RRVNQ-Telemetry Unit","RRV","UNIVERSITY COLLEGE LONDON HOSPITALS NHS FOUNDATION TRUST","RRVNQ","NATIONAL HOSPITAL FOR NEUROLOGY AND NEUROSURGERY, QUEEN SQUARE - RRVNQ","Telemetry Unit"]
["RRVNQ-Victor Horsley","RRV","UNIVERSITY COLLEGE LONDON HOSPITALS NHS FOUNDATION TRUST","RRVNQ","NATIONAL HOSPITAL FOR NEUROLOGY AND NEUROSURGERY, QUEEN SQUARE - RRVNQ","Victor Horsley"]
["RT113-Denbigh","RT1","CAMBRIDGESHIRE AND PETERBOROUGH NHS FOUNDATION TRUST","RT113","FULBOURN HOSPITAL","Denbigh"]
["RT113-GMH","RT1","CAMBRIDGESHIRE AND PETERBOROUGH NHS FOUNDATION TRUST","RT113","FULBOURN HOSPITAL","GMH"]
["RT113-Mulberry 1","RT1","CAMBRIDGESHIRE AND PETERBOROUGH NHS FOUNDATION TRUST","RT113","FULBOURN HOSPITAL","Mulberry 1"]
["RT113-Mulberry 2","RT1","CAMBRIDGESHIRE AND PETERBOROUGH NHS FOUNDATION TRUST","RT113","FULBOURN HOSPITAL","Mulberry 2"]
["RT113-Mulberry 3","RT1","CAMBRIDGESHIRE AND PETERBOROUGH NHS FOUNDATION TRUST","RT113","FULBOURN HOSPITAL","Mulberry 3"]
["RT113-Springbank","RT1","CAMBRIDGESHIRE AND PETERBOROUGH NHS FOUNDATION TRUST","RT113","FULBOURN HOSPITAL","Springbank"]
["RT113-Willow Ward","RT1","CAMBRIDGESHIRE AND PETERBOROUGH NHS FOUNDATION TRUST","RT113","FULBOURN HOSPITAL","Willow Ward"]
["RT115-Darwin Center","RT1","CAMBRIDGESHIRE AND PETERBOROUGH NHS FOUNDATION TRUST","RT115","IDA DARWIN HOSPITAL","Darwin Center"]
["RT115-Phoenix","RT1","CAMBRIDGESHIRE AND PETERBOROUGH NHS FOUNDATION TRUST","RT115","IDA DARWIN HOSPITAL","Phoenix"]
["RT115-The Croft","RT1","CAMBRIDGESHIRE AND PETERBOROUGH NHS FOUNDATION TRUST","RT115","IDA DARWIN HOSPITAL","The Croft"]
["RT11A-Lord Byron Ward A","RT1","CAMBRIDGESHIRE AND PETERBOROUGH NHS FOUNDATION TRUST","RT11A","LORD BYRON WARD","Lord Byron Ward A"]
["RT11A-Lord Byron Ward B","RT1","CAMBRIDGESHIRE AND PETERBOROUGH NHS FOUNDATION TRUST","RT11A","LORD BYRON WARD","Lord Byron Ward B"]
["RT11C-Intermediate Care Unit","RT1","CAMBRIDGESHIRE AND PETERBOROUGH NHS FOUNDATION TRUST","RT11C","INTERMEDIATE CARE UNIT","Intermediate Care Unit"]
["RT182-Trafford Ward","RT1","CAMBRIDGESHIRE AND PETERBOROUGH NHS FOUNDATION TRUST","RT182","NORTH CAMBRIDGESHIRE HOSPITAL","Trafford Ward"]
["RT190-S3","RT1","CAMBRIDGESHIRE AND PETERBOROUGH NHS FOUNDATION TRUST","RT190","ADDENBROOKES HOSPITAL","S3"]
["RT1FD-Welney Ward","RT1","CAMBRIDGESHIRE AND PETERBOROUGH NHS FOUNDATION TRUST","RT1FD","PRINCESS OF WALES HOSPITAL","Welney Ward"]
["RT1GE-Hollies","RT1","CAMBRIDGESHIRE AND PETERBOROUGH NHS FOUNDATION TRUST","RT1GE","PETERBOROUGH DISTRICT HOSPITAL","Hollies"]
["RT1GE-Maples","RT1","CAMBRIDGESHIRE AND PETERBOROUGH NHS FOUNDATION TRUST","RT1GE","PETERBOROUGH DISTRICT HOSPITAL","Maples"]
["RT1GE-Oak 1","RT1","CAMBRIDGESHIRE AND PETERBOROUGH NHS FOUNDATION TRUST","RT1GE","PETERBOROUGH DISTRICT HOSPITAL","Oak 1"]
["RT1GE-Oak 3 (AAU)","RT1","CAMBRIDGESHIRE AND PETERBOROUGH NHS FOUNDATION TRUST","RT1GE","PETERBOROUGH DISTRICT HOSPITAL","Oak 3 (AAU)"]
["RT1GE-Oak 4","RT1","CAMBRIDGESHIRE AND PETERBOROUGH NHS FOUNDATION TRUST","RT1GE","PETERBOROUGH DISTRICT HOSPITAL","Oak 4"]
["RT1GE-PICU","RT1","CAMBRIDGESHIRE AND PETERBOROUGH NHS FOUNDATION TRUST","RT1GE","PETERBOROUGH DISTRICT HOSPITAL","PICU"]
[{"$f":"CONCATENATE(D3867,\"-\",F3867)","v":"RT2HQ-Bealeys"},"RT2","PENNINE CARE NHS FOUNDATION TRUST","RT2HQ","PENNINE CARE NHS TRUST","Bealeys"]
["RT2HQ-Bury - North Ward","RT2","PENNINE CARE NHS FOUNDATION TRUST","RT2HQ","PENNINE CARE NHS TRUST","Bury - North Ward"]
["RT2HQ-Bury - Ramsbottom Ward","RT2","PENNINE CARE NHS FOUNDATION TRUST","RT2HQ","PENNINE CARE NHS TRUST","Bury - Ramsbottom Ward"]
["RT2HQ-Bury - South Ward","RT2","PENNINE CARE NHS FOUNDATION TRUST","RT2HQ","PENNINE CARE NHS TRUST","Bury - South Ward"]
["RT2HQ-Bury - The Hope Unit","RT2","PENNINE CARE NHS FOUNDATION TRUST","RT2HQ","PENNINE CARE NHS TRUST","Bury - The Hope Unit"]
["RT2HQ-Bury - The Horizon Unit","RT2","PENNINE CARE NHS FOUNDATION TRUST","RT2HQ","PENNINE CARE NHS TRUST","Bury - The Horizon Unit"]
["RT2HQ-Butler Green - Green Ward","RT2","PENNINE CARE NHS FOUNDATION TRUST","RT2HQ","PENNINE CARE NHS TRUST","Butler Green - Green Ward"]
["RT2HQ-Oldham - Aspen Ward","RT2","PENNINE CARE NHS FOUNDATION TRUST","RT2HQ","PENNINE CARE NHS TRUST","Oldham - Aspen Ward"]
["RT2HQ-Oldham - Cedar","RT2","PENNINE CARE NHS FOUNDATION TRUST","RT2HQ","PENNINE CARE NHS TRUST","Oldham - Cedar"]
["RT2HQ-Oldham - Oak Ward","RT2","PENNINE CARE NHS FOUNDATION TRUST","RT2HQ","PENNINE CARE NHS TRUST","Oldham - Oak Ward"]
["RT2HQ-Oldham - Rowan","RT2","PENNINE CARE NHS FOUNDATION TRUST","RT2HQ","PENNINE CARE NHS TRUST","Oldham - Rowan"]
["RT2HQ-Prospect Place","RT2","PENNINE CARE NHS FOUNDATION TRUST","RT2HQ","PENNINE CARE NHS TRUST","Prospect Place"]
["RT2HQ-Rochdale - Beech","RT2","PENNINE CARE NHS FOUNDATION TRUST","RT2HQ","PENNINE CARE NHS TRUST","Rochdale - Beech"]
["RT2HQ-Rochdale - Hollingworth","RT2","PENNINE CARE NHS FOUNDATION TRUST","RT2HQ","PENNINE CARE NHS TRUST","Rochdale - Hollingworth"]
["RT2HQ-Rochdale - Moorside","RT2","PENNINE CARE NHS FOUNDATION TRUST","RT2HQ","PENNINE CARE NHS TRUST","Rochdale - Moorside"]
["RT2HQ-Rochdale - Stansfield Place","RT2","PENNINE CARE NHS FOUNDATION TRUST","RT2HQ","PENNINE CARE NHS TRUST","Rochdale - Stansfield Place"]
["RT2HQ-Stockport - Bevan Place","RT2","PENNINE CARE NHS FOUNDATION TRUST","RT2HQ","PENNINE CARE NHS TRUST","Stockport - Bevan Place"]
["RT2HQ-Stockport - Heathfield","RT2","PENNINE CARE NHS FOUNDATION TRUST","RT2HQ","PENNINE CARE NHS TRUST","Stockport - Heathfield"]
["RT2HQ-Stockport - P2 (Davenport)","RT2","PENNINE CARE NHS FOUNDATION TRUST","RT2HQ","PENNINE CARE NHS TRUST","Stockport - P2 (Davenport)"]
["RT2HQ-Stockport - P3 (Norbury)","RT2","PENNINE CARE NHS FOUNDATION TRUST","RT2HQ","PENNINE CARE NHS TRUST","Stockport - P3 (Norbury)"]
["RT2HQ-Stockport - P4 (Arden)","RT2","PENNINE CARE NHS FOUNDATION TRUST","RT2HQ","PENNINE CARE NHS TRUST","Stockport - P4 (Arden)"]
["RT2HQ-Stockport - PICU - The Cobden Unit","RT2","PENNINE CARE NHS FOUNDATION TRUST","RT2HQ","PENNINE CARE NHS TRUST","Stockport - PICU - The Cobden Unit"]
["RT2HQ-Stockport - Rosewood","RT2","PENNINE CARE NHS FOUNDATION TRUST","RT2HQ","PENNINE CARE NHS TRUST","Stockport - Rosewood"]
["RT2HQ-Stockport - Saffron","RT2","PENNINE CARE NHS FOUNDATION TRUST","RT2HQ","PENNINE CARE NHS TRUST","Stockport - Saffron"]
["RT2HQ-Tameside - Beckett Place","RT2","PENNINE CARE NHS FOUNDATION TRUST","RT2HQ","PENNINE CARE NHS TRUST","Tameside - Beckett Place"]
["RT2HQ-Tameside - Hague Ward","RT2","PENNINE CARE NHS FOUNDATION TRUST","RT2HQ","PENNINE CARE NHS TRUST","Tameside - Hague Ward"]
["RT2HQ-Tameside - Hurst Place","RT2","PENNINE CARE NHS FOUNDATION TRUST","RT2HQ","PENNINE CARE NHS TRUST","Tameside - Hurst Place"]
["RT2HQ-Tameside - Rhodes Place","RT2","PENNINE CARE NHS FOUNDATION TRUST","RT2HQ","PENNINE CARE NHS TRUST","Tameside - Rhodes Place"]
["RT2HQ-Tameside - Saxon Suite","RT2","PENNINE CARE NHS FOUNDATION TRUST","RT2HQ","PENNINE CARE NHS TRUST","Tameside - Saxon Suite"]
["RT2HQ-Tameside - Summers","RT2","PENNINE CARE NHS FOUNDATION TRUST","RT2HQ","PENNINE CARE NHS TRUST","Tameside - Summers"]
["RT2HQ-Tameside - Tatton Ward","RT2","PENNINE CARE NHS FOUNDATION TRUST","RT2HQ","PENNINE CARE NHS TRUST","Tameside - Tatton Ward"]
["RT2HQ-Tameside - Taylor Ward","RT2","PENNINE CARE NHS FOUNDATION TRUST","RT2HQ","PENNINE CARE NHS TRUST","Tameside - Taylor Ward"]
["RT301-Cedar Ward","RT3","ROYAL BROMPTON & HAREFIELD NHS FOUNDATION TRUST","RT301","HAREFIELD HOSPITAL - RT301","Cedar Ward"]
["RT301-HDU Harefield Ward","RT3","ROYAL BROMPTON & HAREFIELD NHS FOUNDATION TRUST","RT301","HAREFIELD HOSPITAL - RT301","HDU Harefield Ward"]
["RT301-ITU","RT3","ROYAL BROMPTON & HAREFIELD NHS FOUNDATION TRUST","RT301","HAREFIELD HOSPITAL - RT301","ITU"]
["RT301-Juniper","RT3","ROYAL BROMPTON & HAREFIELD NHS FOUNDATION TRUST","RT301","HAREFIELD HOSPITAL - RT301","Juniper"]
["RT301-Maple Ward","RT3","ROYAL BROMPTON & HAREFIELD NHS FOUNDATION TRUST","RT301","HAREFIELD HOSPITAL - RT301","Maple Ward"]
["RT301-Oak/Acorn","RT3","ROYAL BROMPTON & HAREFIELD NHS FOUNDATION TRUST","RT301","HAREFIELD HOSPITAL - RT301","Oak/Acorn"]
["RT301-Rowan/Fir Tree","RT3","ROYAL BROMPTON & HAREFIELD NHS FOUNDATION TRUST","RT301","HAREFIELD HOSPITAL - RT301","Rowan/Fir Tree"]
["RT302-AICU","RT3","ROYAL BROMPTON & HAREFIELD NHS FOUNDATION TRUST","RT302","ROYAL BROMPTON HOSPITAL - RT302","AICU"]
["RT302-Elizabeth ward","RT3","ROYAL BROMPTON & HAREFIELD NHS FOUNDATION TRUST","RT302","ROYAL BROMPTON HOSPITAL - RT302","Elizabeth ward"]
["RT302-Foulis Ward","RT3","ROYAL BROMPTON & HAREFIELD NHS FOUNDATION TRUST","RT302","ROYAL BROMPTON HOSPITAL - RT302","Foulis Ward"]
["RT302-Paul Wood Ward","RT3","ROYAL BROMPTON & HAREFIELD NHS FOUNDATION TRUST","RT302","ROYAL BROMPTON HOSPITAL - RT302","Paul Wood Ward"]
["RT302-PICU","RT3","ROYAL BROMPTON & HAREFIELD NHS FOUNDATION TRUST","RT302","ROYAL BROMPTON HOSPITAL - RT302","PICU"]
["RT302-Princess Alexandra Ward","RT3","ROYAL BROMPTON & HAREFIELD NHS FOUNDATION TRUST","RT302","ROYAL BROMPTON HOSPITAL - RT302","Princess Alexandra Ward"]
["RT302-Rose Ward","RT3","ROYAL BROMPTON & HAREFIELD NHS FOUNDATION TRUST","RT302","ROYAL BROMPTON HOSPITAL - RT302","Rose Ward"]
["RT302-Sir Reginald Wilson","RT3","ROYAL BROMPTON & HAREFIELD NHS FOUNDATION TRUST","RT302","ROYAL BROMPTON HOSPITAL - RT302","Sir Reginald Wilson"]
["RT302-Victoria Ward","RT3","ROYAL BROMPTON & HAREFIELD NHS FOUNDATION TRUST","RT302","ROYAL BROMPTON HOSPITAL - RT302","Victoria Ward"]
["RT302-York Ward","RT3","ROYAL BROMPTON & HAREFIELD NHS FOUNDATION TRUST","RT302","ROYAL BROMPTON HOSPITAL - RT302","York Ward"]
["RT505-BC Kirby","RT5","LEICESTERSHIRE PARTNERSHIP NHS TRUST","RT505","Bennion Centre/Langley","BC Kirby"]
["RT505-BC Welford","RT5","LEICESTERSHIRE PARTNERSHIP NHS TRUST","RT505","Bennion Centre/Langley","BC Welford"]
["RT505-Langley","RT5","LEICESTERSHIRE PARTNERSHIP NHS TRUST","RT505","Bennion Centre/Langley","Langley"]
["RT521-Belvoir Unit","RT5","LEICESTERSHIRE PARTNERSHIP NHS TRUST","RT521","BELVOIR INTENSIVE CARE UNIT","Belvoir Unit"]
["RT5CD-The Gillivers","RT5","LEICESTERSHIRE PARTNERSHIP NHS TRUST","RT5CD","Gillivers","The Gillivers"]
["RT5FA-ML Mill Lodge (New Site)","RT5","LEICESTERSHIRE PARTNERSHIP NHS TRUST","RT5FA","Mill Lodge","ML Mill Lodge (New Site)"]
["RT5FK-Willows Unit","RT5","LEICESTERSHIRE PARTNERSHIP NHS TRUST","RT5FK","THE WILLOWS (LEICESTER)","Willows Unit"]
["RT5FM-3 Rubicon Close","RT5","LEICESTERSHIRE PARTNERSHIP NHS TRUST","RT5FM","3 Rubicon Close","3 Rubicon Close"]
["RT5FP-The Grange","RT5","LEICESTERSHIRE PARTNERSHIP NHS TRUST","RT5FP","THE GRANGE","The Grange"]
["RT5KE-SH Skye Wing","RT5","LEICESTERSHIRE PARTNERSHIP NHS TRUST","RT5KE","Stewart House","SH Skye Wing"]
["RT5KF-Ashby","RT5","LEICESTERSHIRE PARTNERSHIP NHS TRUST","RT5KF","THE BRADGATE MENTAL HEALTH UNIT","Ashby"]
["RT5KF-Aston","RT5","LEICESTERSHIRE PARTNERSHIP NHS TRUST","RT5KF","THE BRADGATE MENTAL HEALTH UNIT","Aston"]
["RT5KF-Beaumont","RT5","LEICESTERSHIRE PARTNERSHIP NHS TRUST","RT5KF","THE BRADGATE MENTAL HEALTH UNIT","Beaumont"]
["RT5KF-Bosworth","RT5","LEICESTERSHIRE PARTNERSHIP NHS TRUST","RT5KF","THE BRADGATE MENTAL HEALTH UNIT","Bosworth"]
["RT5KF-Heather","RT5","LEICESTERSHIRE PARTNERSHIP NHS TRUST","RT5KF","THE BRADGATE MENTAL HEALTH UNIT","Heather"]
[{"$f":"CONCATENATE(D3931,\"-\",F3931)","v":"RT5KF-Thornton"},"RT5","LEICESTERSHIRE PARTNERSHIP NHS TRUST","RT5KF","THE BRADGATE MENTAL HEALTH UNIT","Thornton"]
["RT5KF-Watermead","RT5","LEICESTERSHIRE PARTNERSHIP NHS TRUST","RT5KF","THE BRADGATE MENTAL HEALTH UNIT","Watermead"]
["RT5KT-CB Beechwood","RT5","LEICESTERSHIRE PARTNERSHIP NHS TRUST","RT5KT","Evington Centre","CB Beechwood"]
["RT5KT-CB Clarendon","RT5","LEICESTERSHIRE PARTNERSHIP NHS TRUST","RT5KT","Evington Centre","CB Clarendon"]
["RT5KT-EC Coleman","RT5","LEICESTERSHIRE PARTNERSHIP NHS TRUST","RT5KT","Evington Centre","EC Coleman"]
["RT5KT-EC Gwendolen","RT5","LEICESTERSHIRE PARTNERSHIP NHS TRUST","RT5KT","Evington Centre","EC Gwendolen"]
["RT5KW-Griffin Female PICU","RT5","LEICESTERSHIRE PARTNERSHIP NHS TRUST","RT5KW","Herschel Prins","Griffin Female PICU"]
["RT5KW-HP Phoenix","RT5","LEICESTERSHIRE PARTNERSHIP NHS TRUST","RT5KW","Herschel Prins","HP Phoenix"]
["RT5NH-Agnes Unit","RT5","LEICESTERSHIRE PARTNERSHIP NHS TRUST","RT5NH","THE AGNES UNIT","Agnes Unit"]
["RT5PA-MM Dalgliesh","RT5","LEICESTERSHIRE PARTNERSHIP NHS TRUST","RT5PA","MELTON MOWBRAY HOSPITAL","MM Dalgliesh"]
["RT5PC-Rutland","RT5","LEICESTERSHIRE PARTNERSHIP NHS TRUST","RT5PC","RUTLAND HOSPITAL","Rutland"]
["RT5PD-Lough Swithland","RT5","LEICESTERSHIRE PARTNERSHIP NHS TRUST","RT5PD","LOUGHBOROUGH HOSPITAL","Lough Swithland"]
["RT5PE-CV Ellistown 2","RT5","LEICESTERSHIRE PARTNERSHIP NHS TRUST","RT5PE","COALVILLE HOSPITAL","CV Ellistown 2"]
["RT5PE-CV Snibston 1","RT5","LEICESTERSHIRE PARTNERSHIP NHS TRUST","RT5PE","COALVILLE HOSPITAL","CV Snibston 1"]
["RT5PE-CV Ward 3","RT5","LEICESTERSHIRE PARTNERSHIP NHS TRUST","RT5PE","COALVILLE HOSPITAL","CV Ward 3"]
["RT5PH-FP General","RT5","LEICESTERSHIRE PARTNERSHIP NHS TRUST","RT5PH","FIELDING PALMER HOSPITAL","FP General"]
["RT5YF-HB East Ward","RT5","LEICESTERSHIRE PARTNERSHIP NHS TRUST","RT5YF","H & B HOSPITAL WARDS","HB East Ward"]
["RT5YF-HB North Ward","RT5","LEICESTERSHIRE PARTNERSHIP NHS TRUST","RT5YF","H & B HOSPITAL WARDS","HB North Ward"]
["RT5YL-SL Ward 1 Stroke","RT5","LEICESTERSHIRE PARTNERSHIP NHS TRUST","RT5YL","St Lukes","SL Ward 1 Stroke"]
["RT5YL-SL Ward 3","RT5","LEICESTERSHIRE PARTNERSHIP NHS TRUST","RT5YL","St Lukes","SL Ward 3"]
["RTD01-FH01","RTD","THE NEWCASTLE UPON TYNE HOSPITALS NHS FOUNDATION TRUST","RTD01","FREEMAN HOSPITAL - RTD01","FH01"]
["RTD01-FH02","RTD","THE NEWCASTLE UPON TYNE HOSPITALS NHS FOUNDATION TRUST","RTD01","FREEMAN HOSPITAL - RTD01","FH02"]
["RTD01-FH03","RTD","THE NEWCASTLE UPON TYNE HOSPITALS NHS FOUNDATION TRUST","RTD01","FREEMAN HOSPITAL - RTD01","FH03"]
["RTD01-FH05","RTD","THE NEWCASTLE UPON TYNE HOSPITALS NHS FOUNDATION TRUST","RTD01","FREEMAN HOSPITAL - RTD01","FH05"]
["RTD01-FH06","RTD","THE NEWCASTLE UPON TYNE HOSPITALS NHS FOUNDATION TRUST","RTD01","FREEMAN HOSPITAL - RTD01","FH06"]
["RTD01-FH07","RTD","THE NEWCASTLE UPON TYNE HOSPITALS NHS FOUNDATION TRUST","RTD01","FREEMAN HOSPITAL - RTD01","FH07"]
["RTD01-FH08","RTD","THE NEWCASTLE UPON TYNE HOSPITALS NHS FOUNDATION TRUST","RTD01","FREEMAN HOSPITAL - RTD01","FH08"]
["RTD01-FH09","RTD","THE NEWCASTLE UPON TYNE HOSPITALS NHS FOUNDATION TRUST","RTD01","FREEMAN HOSPITAL - RTD01","FH09"]
["RTD01-FH10","RTD","THE NEWCASTLE UPON TYNE HOSPITALS NHS FOUNDATION TRUST","RTD01","FREEMAN HOSPITAL - RTD01","FH10"]
["RTD01-FH13","RTD","THE NEWCASTLE UPON TYNE HOSPITALS NHS FOUNDATION TRUST","RTD01","FREEMAN HOSPITAL - RTD01","FH13"]
["RTD01-FH14","RTD","THE NEWCASTLE UPON TYNE HOSPITALS NHS FOUNDATION TRUST","RTD01","FREEMAN HOSPITAL - RTD01","FH14"]
["RTD01-FH15","RTD","THE NEWCASTLE UPON TYNE HOSPITALS NHS FOUNDATION TRUST","RTD01","FREEMAN HOSPITAL - RTD01","FH15"]
["RTD01-FH16","RTD","THE NEWCASTLE UPON TYNE HOSPITALS NHS FOUNDATION TRUST","RTD01","FREEMAN HOSPITAL - RTD01","FH16"]
["RTD01-FH17","RTD","THE NEWCASTLE UPON TYNE HOSPITALS NHS FOUNDATION TRUST","RTD01","FREEMAN HOSPITAL - RTD01","FH17"]
["RTD01-FH18","RTD","THE NEWCASTLE UPON TYNE HOSPITALS NHS FOUNDATION TRUST","RTD01","FREEMAN HOSPITAL - RTD01","FH18"]
["RTD01-FH19","RTD","THE NEWCASTLE UPON TYNE HOSPITALS NHS FOUNDATION TRUST","RTD01","FREEMAN HOSPITAL - RTD01","FH19"]
["RTD01-FH20","RTD","THE NEWCASTLE UPON TYNE HOSPITALS NHS FOUNDATION TRUST","RTD01","FREEMAN HOSPITAL - RTD01","FH20"]
["RTD01-FH21","RTD","THE NEWCASTLE UPON TYNE HOSPITALS NHS FOUNDATION TRUST","RTD01","FREEMAN HOSPITAL - RTD01","FH21"]
["RTD01-FH23","RTD","THE NEWCASTLE UPON TYNE HOSPITALS NHS FOUNDATION TRUST","RTD01","FREEMAN HOSPITAL - RTD01","FH23"]
["RTD01-FH24","RTD","THE NEWCASTLE UPON TYNE HOSPITALS NHS FOUNDATION TRUST","RTD01","FREEMAN HOSPITAL - RTD01","FH24"]
["RTD01-FH25","RTD","THE NEWCASTLE UPON TYNE HOSPITALS NHS FOUNDATION TRUST","RTD01","FREEMAN HOSPITAL - RTD01","FH25"]
["RTD01-FH27","RTD","THE NEWCASTLE UPON TYNE HOSPITALS NHS FOUNDATION TRUST","RTD01","FREEMAN HOSPITAL - RTD01","FH27"]
["RTD01-FH29","RTD","THE NEWCASTLE UPON TYNE HOSPITALS NHS FOUNDATION TRUST","RTD01","FREEMAN HOSPITAL - RTD01","FH29"]
["RTD01-FH30","RTD","THE NEWCASTLE UPON TYNE HOSPITALS NHS FOUNDATION TRUST","RTD01","FREEMAN HOSPITAL - RTD01","FH30"]
["RTD01-FH37","RTD","THE NEWCASTLE UPON TYNE HOSPITALS NHS FOUNDATION TRUST","RTD01","FREEMAN HOSPITAL - RTD01","FH37"]
["RTD01-FH38","RTD","THE NEWCASTLE UPON TYNE HOSPITALS NHS FOUNDATION TRUST","RTD01","FREEMAN HOSPITAL - RTD01","FH38"]
["RTD01-FHPICU","RTD","THE NEWCASTLE UPON TYNE HOSPITALS NHS FOUNDATION TRUST","RTD01","FREEMAN HOSPITAL - RTD01","FHPICU"]
["RTD02-RV01A","RTD","THE NEWCASTLE UPON TYNE HOSPITALS NHS FOUNDATION TRUST","RTD02","THE ROYAL VICTORIA INFIRMARY - RTD02","RV01A"]
["RTD02-RV01B","RTD","THE NEWCASTLE UPON TYNE HOSPITALS NHS FOUNDATION TRUST","RTD02","THE ROYAL VICTORIA INFIRMARY - RTD02","RV01B"]
["RTD02-RV02","RTD","THE NEWCASTLE UPON TYNE HOSPITALS NHS FOUNDATION TRUST","RTD02","THE ROYAL VICTORIA INFIRMARY - RTD02","RV02"]
["RTD02-RV03","RTD","THE NEWCASTLE UPON TYNE HOSPITALS NHS FOUNDATION TRUST","RTD02","THE ROYAL VICTORIA INFIRMARY - RTD02","RV03"]
["RTD02-RV04","RTD","THE NEWCASTLE UPON TYNE HOSPITALS NHS FOUNDATION TRUST","RTD02","THE ROYAL VICTORIA INFIRMARY - RTD02","RV04"]
["RTD02-RV05","RTD","THE NEWCASTLE UPON TYNE HOSPITALS NHS FOUNDATION TRUST","RTD02","THE ROYAL VICTORIA INFIRMARY - RTD02","RV05"]
["RTD02-RV09","RTD","THE NEWCASTLE UPON TYNE HOSPITALS NHS FOUNDATION TRUST","RTD02","THE ROYAL VICTORIA INFIRMARY - RTD02","RV09"]
["RTD02-RV10","RTD","THE NEWCASTLE UPON TYNE HOSPITALS NHS FOUNDATION TRUST","RTD02","THE ROYAL VICTORIA INFIRMARY - RTD02","RV10"]
["RTD02-RV11","RTD","THE NEWCASTLE UPON TYNE HOSPITALS NHS FOUNDATION TRUST","RTD02","THE ROYAL VICTORIA INFIRMARY - RTD02","RV11"]
["RTD02-RV12","RTD","THE NEWCASTLE UPON TYNE HOSPITALS NHS FOUNDATION TRUST","RTD02","THE ROYAL VICTORIA INFIRMARY - RTD02","RV12"]
["RTD02-RV15","RTD","THE NEWCASTLE UPON TYNE HOSPITALS NHS FOUNDATION TRUST","RTD02","THE ROYAL VICTORIA INFIRMARY - RTD02","RV15"]
["RTD02-RV16","RTD","THE NEWCASTLE UPON TYNE HOSPITALS NHS FOUNDATION TRUST","RTD02","THE ROYAL VICTORIA INFIRMARY - RTD02","RV16"]
["RTD02-RV18","RTD","THE NEWCASTLE UPON TYNE HOSPITALS NHS FOUNDATION TRUST","RTD02","THE ROYAL VICTORIA INFIRMARY - RTD02","RV18"]
["RTD02-RV19","RTD","THE NEWCASTLE UPON TYNE HOSPITALS NHS FOUNDATION TRUST","RTD02","THE ROYAL VICTORIA INFIRMARY - RTD02","RV19"]
["RTD02-RV20","RTD","THE NEWCASTLE UPON TYNE HOSPITALS NHS FOUNDATION TRUST","RTD02","THE ROYAL VICTORIA INFIRMARY - RTD02","RV20"]
["RTD02-RV22","RTD","THE NEWCASTLE UPON TYNE HOSPITALS NHS FOUNDATION TRUST","RTD02","THE ROYAL VICTORIA INFIRMARY - RTD02","RV22"]
["RTD02-RV23","RTD","THE NEWCASTLE UPON TYNE HOSPITALS NHS FOUNDATION TRUST","RTD02","THE ROYAL VICTORIA INFIRMARY - RTD02","RV23"]
[{"$f":"CONCATENATE(D3995,\"-\",F3995)","v":"RTD02-RV30"},"RTD","THE NEWCASTLE UPON TYNE HOSPITALS NHS FOUNDATION TRUST","RTD02","THE ROYAL VICTORIA INFIRMARY - RTD02","RV30"]
["RTD02-RV31","RTD","THE NEWCASTLE UPON TYNE HOSPITALS NHS FOUNDATION TRUST","RTD02","THE ROYAL VICTORIA INFIRMARY - RTD02","RV31"]
["RTD02-RV32/33","RTD","THE NEWCASTLE UPON TYNE HOSPITALS NHS FOUNDATION TRUST","RTD02","THE ROYAL VICTORIA INFIRMARY - RTD02","RV32/33"]
["RTD02-RV34","RTD","THE NEWCASTLE UPON TYNE HOSPITALS NHS FOUNDATION TRUST","RTD02","THE ROYAL VICTORIA INFIRMARY - RTD02","RV34"]
["RTD02-RV35","RTD","THE NEWCASTLE UPON TYNE HOSPITALS NHS FOUNDATION TRUST","RTD02","THE ROYAL VICTORIA INFIRMARY - RTD02","RV35"]
["RTD02-RV36","RTD","THE NEWCASTLE UPON TYNE HOSPITALS NHS FOUNDATION TRUST","RTD02","THE ROYAL VICTORIA INFIRMARY - RTD02","RV36"]
["RTD02-RV37","RTD","THE NEWCASTLE UPON TYNE HOSPITALS NHS FOUNDATION TRUST","RTD02","THE ROYAL VICTORIA INFIRMARY - RTD02","RV37"]
["RTD02-RV38C","RTD","THE NEWCASTLE UPON TYNE HOSPITALS NHS FOUNDATION TRUST","RTD02","THE ROYAL VICTORIA INFIRMARY - RTD02","RV38C"]
["RTD02-RV40","RTD","THE NEWCASTLE UPON TYNE HOSPITALS NHS FOUNDATION TRUST","RTD02","THE ROYAL VICTORIA INFIRMARY - RTD02","RV40"]
["RTD02-RV41","RTD","THE NEWCASTLE UPON TYNE HOSPITALS NHS FOUNDATION TRUST","RTD02","THE ROYAL VICTORIA INFIRMARY - RTD02","RV41"]
["RTD02-RV42","RTD","THE NEWCASTLE UPON TYNE HOSPITALS NHS FOUNDATION TRUST","RTD02","THE ROYAL VICTORIA INFIRMARY - RTD02","RV42"]
["RTD02-RV43","RTD","THE NEWCASTLE UPON TYNE HOSPITALS NHS FOUNDATION TRUST","RTD02","THE ROYAL VICTORIA INFIRMARY - RTD02","RV43"]
["RTD02-RV44","RTD","THE NEWCASTLE UPON TYNE HOSPITALS NHS FOUNDATION TRUST","RTD02","THE ROYAL VICTORIA INFIRMARY - RTD02","RV44"]
["RTD02-RV46","RTD","THE NEWCASTLE UPON TYNE HOSPITALS NHS FOUNDATION TRUST","RTD02","THE ROYAL VICTORIA INFIRMARY - RTD02","RV46"]
["RTD02-RV47","RTD","THE NEWCASTLE UPON TYNE HOSPITALS NHS FOUNDATION TRUST","RTD02","THE ROYAL VICTORIA INFIRMARY - RTD02","RV47"]
["RTD02-RV48","RTD","THE NEWCASTLE UPON TYNE HOSPITALS NHS FOUNDATION TRUST","RTD02","THE ROYAL VICTORIA INFIRMARY - RTD02","RV48"]
["RTD02-RV49","RTD","THE NEWCASTLE UPON TYNE HOSPITALS NHS FOUNDATION TRUST","RTD02","THE ROYAL VICTORIA INFIRMARY - RTD02","RV49"]
["RTD02-RV50","RTD","THE NEWCASTLE UPON TYNE HOSPITALS NHS FOUNDATION TRUST","RTD02","THE ROYAL VICTORIA INFIRMARY - RTD02","RV50"]
["RTD02-RV51","RTD","THE NEWCASTLE UPON TYNE HOSPITALS NHS FOUNDATION TRUST","RTD02","THE ROYAL VICTORIA INFIRMARY - RTD02","RV51"]
["RTD02-RV52","RTD","THE NEWCASTLE UPON TYNE HOSPITALS NHS FOUNDATION TRUST","RTD02","THE ROYAL VICTORIA INFIRMARY - RTD02","RV52"]
["RTD02-RVAS","RTD","THE NEWCASTLE UPON TYNE HOSPITALS NHS FOUNDATION TRUST","RTD02","THE ROYAL VICTORIA INFIRMARY - RTD02","RVAS"]
["RTD02-RVNBC","RTD","THE NEWCASTLE UPON TYNE HOSPITALS NHS FOUNDATION TRUST","RTD02","THE ROYAL VICTORIA INFIRMARY - RTD02","RVNBC"]
["RTD02-RVNEU","RTD","THE NEWCASTLE UPON TYNE HOSPITALS NHS FOUNDATION TRUST","RTD02","THE ROYAL VICTORIA INFIRMARY - RTD02","RVNEU"]
["RTD02-RVPARK","RTD","THE NEWCASTLE UPON TYNE HOSPITALS NHS FOUNDATION TRUST","RTD02","THE ROYAL VICTORIA INFIRMARY - RTD02","RVPARK"]
["RTD02-RVRDS","RTD","THE NEWCASTLE UPON TYNE HOSPITALS NHS FOUNDATION TRUST","RTD02","THE ROYAL VICTORIA INFIRMARY - RTD02","RVRDS"]
["RTD06-NCCC32","RTD","THE NEWCASTLE UPON TYNE HOSPITALS NHS FOUNDATION TRUST","RTD06","NORTHERN CENTRE FOR CANCER CARE - RTD06","NCCC32"]
["RTD06-NCCC33","RTD","THE NEWCASTLE UPON TYNE HOSPITALS NHS FOUNDATION TRUST","RTD06","NORTHERN CENTRE FOR CANCER CARE - RTD06","NCCC33"]
["RTD06-NCCC34","RTD","THE NEWCASTLE UPON TYNE HOSPITALS NHS FOUNDATION TRUST","RTD06","NORTHERN CENTRE FOR CANCER CARE - RTD06","NCCC34"]
["RTD06-NCCC35","RTD","THE NEWCASTLE UPON TYNE HOSPITALS NHS FOUNDATION TRUST","RTD06","NORTHERN CENTRE FOR CANCER CARE - RTD06","NCCC35"]
["RTE01-ACUC","RTE","GLOUCESTERSHIRE HOSPITALS NHS FOUNDATION TRUST","RTE01","CHELTENHAM GENERAL HOSPITAL - RTE01","ACUC"]
["RTE01-ALSTONE","RTE","GLOUCESTERSHIRE HOSPITALS NHS FOUNDATION TRUST","RTE01","CHELTENHAM GENERAL HOSPITAL - RTE01","ALSTONE"]
["RTE01-AVENING","RTE","GLOUCESTERSHIRE HOSPITALS NHS FOUNDATION TRUST","RTE01","CHELTENHAM GENERAL HOSPITAL - RTE01","AVENING"]
["RTE01-BIBURY","RTE","GLOUCESTERSHIRE HOSPITALS NHS FOUNDATION TRUST","RTE01","CHELTENHAM GENERAL HOSPITAL - RTE01","BIBURY"]
["RTE01-CARDIAC","RTE","GLOUCESTERSHIRE HOSPITALS NHS FOUNDATION TRUST","RTE01","CHELTENHAM GENERAL HOSPITAL - RTE01","CARDIAC"]
["RTE01-DCC","RTE","GLOUCESTERSHIRE HOSPITALS NHS FOUNDATION TRUST","RTE01","CHELTENHAM GENERAL HOSPITAL - RTE01","DCC"]
["RTE01-DIXTON","RTE","GLOUCESTERSHIRE HOSPITALS NHS FOUNDATION TRUST","RTE01","CHELTENHAM GENERAL HOSPITAL - RTE01","DIXTON"]
["RTE01-GUITING","RTE","GLOUCESTERSHIRE HOSPITALS NHS FOUNDATION TRUST","RTE01","CHELTENHAM GENERAL HOSPITAL - RTE01","GUITING"]
["RTE01-KNIGHTSBRIDGE","RTE","GLOUCESTERSHIRE HOSPITALS NHS FOUNDATION TRUST","RTE01","CHELTENHAM GENERAL HOSPITAL - RTE01","KNIGHTSBRIDGE"]
["RTE01-LILLEYBROOK","RTE","GLOUCESTERSHIRE HOSPITALS NHS FOUNDATION TRUST","RTE01","CHELTENHAM GENERAL HOSPITAL - RTE01","LILLEYBROOK"]
["RTE01-PRESCOTT","RTE","GLOUCESTERSHIRE HOSPITALS NHS FOUNDATION TRUST","RTE01","CHELTENHAM GENERAL HOSPITAL - RTE01","PRESCOTT"]
["RTE01-RENDCOMB","RTE","GLOUCESTERSHIRE HOSPITALS NHS FOUNDATION TRUST","RTE01","CHELTENHAM GENERAL HOSPITAL - RTE01","RENDCOMB"]
["RTE01-RYEWORTH","RTE","GLOUCESTERSHIRE HOSPITALS NHS FOUNDATION TRUST","RTE01","CHELTENHAM GENERAL HOSPITAL - RTE01","RYEWORTH"]
["RTE01-SNOWSHILL","RTE","GLOUCESTERSHIRE HOSPITALS NHS FOUNDATION TRUST","RTE01","CHELTENHAM GENERAL HOSPITAL - RTE01","SNOWSHILL"]
["RTE01-STROUD MATERNITY","RTE","GLOUCESTERSHIRE HOSPITALS NHS FOUNDATION TRUST","RTE01","CHELTENHAM GENERAL HOSPITAL - RTE01","STROUD MATERNITY"]
["RTE01-WOODMANCOTE","RTE","GLOUCESTERSHIRE HOSPITALS NHS FOUNDATION TRUST","RTE01","CHELTENHAM GENERAL HOSPITAL - RTE01","WOODMANCOTE"]
["RTE03-2A","RTE","GLOUCESTERSHIRE HOSPITALS NHS FOUNDATION TRUST","RTE03","GLOUCESTERSHIRE ROYAL HOSPITAL - RTE03","2A"]
["RTE03-2B","RTE","GLOUCESTERSHIRE HOSPITALS NHS FOUNDATION TRUST","RTE03","GLOUCESTERSHIRE ROYAL HOSPITAL - RTE03","2B"]
["RTE03-3A","RTE","GLOUCESTERSHIRE HOSPITALS NHS FOUNDATION TRUST","RTE03","GLOUCESTERSHIRE ROYAL HOSPITAL - RTE03","3A"]
["RTE03-3B","RTE","GLOUCESTERSHIRE HOSPITALS NHS FOUNDATION TRUST","RTE03","GLOUCESTERSHIRE ROYAL HOSPITAL - RTE03","3B"]
["RTE03-4A","RTE","GLOUCESTERSHIRE HOSPITALS NHS FOUNDATION TRUST","RTE03","GLOUCESTERSHIRE ROYAL HOSPITAL - RTE03","4A"]
["RTE03-4B","RTE","GLOUCESTERSHIRE HOSPITALS NHS FOUNDATION TRUST","RTE03","GLOUCESTERSHIRE ROYAL HOSPITAL - RTE03","4B"]
["RTE03-5A/SAU","RTE","GLOUCESTERSHIRE HOSPITALS NHS FOUNDATION TRUST","RTE03","GLOUCESTERSHIRE ROYAL HOSPITAL - RTE03","5A/SAU"]
["RTE03-5B","RTE","GLOUCESTERSHIRE HOSPITALS NHS FOUNDATION TRUST","RTE03","GLOUCESTERSHIRE ROYAL HOSPITAL - RTE03","5B"]
["RTE03-6A","RTE","GLOUCESTERSHIRE HOSPITALS NHS FOUNDATION TRUST","RTE03","GLOUCESTERSHIRE ROYAL HOSPITAL - RTE03","6A"]
["RTE03-6B","RTE","GLOUCESTERSHIRE HOSPITALS NHS FOUNDATION TRUST","RTE03","GLOUCESTERSHIRE ROYAL HOSPITAL - RTE03","6B"]
["RTE03-7A","RTE","GLOUCESTERSHIRE HOSPITALS NHS FOUNDATION TRUST","RTE03","GLOUCESTERSHIRE ROYAL HOSPITAL - RTE03","7A"]
["RTE03-7B","RTE","GLOUCESTERSHIRE HOSPITALS NHS FOUNDATION TRUST","RTE03","GLOUCESTERSHIRE ROYAL HOSPITAL - RTE03","7B"]
["RTE03-8A","RTE","GLOUCESTERSHIRE HOSPITALS NHS FOUNDATION TRUST","RTE03","GLOUCESTERSHIRE ROYAL HOSPITAL - RTE03","8A"]
["RTE03-8B","RTE","GLOUCESTERSHIRE HOSPITALS NHS FOUNDATION TRUST","RTE03","GLOUCESTERSHIRE ROYAL HOSPITAL - RTE03","8B"]
["RTE03-9A","RTE","GLOUCESTERSHIRE HOSPITALS NHS FOUNDATION TRUST","RTE03","GLOUCESTERSHIRE ROYAL HOSPITAL - RTE03","9A"]
["RTE03-9B","RTE","GLOUCESTERSHIRE HOSPITALS NHS FOUNDATION TRUST","RTE03","GLOUCESTERSHIRE ROYAL HOSPITAL - RTE03","9B"]
["RTE03-AMU","RTE","GLOUCESTERSHIRE HOSPITALS NHS FOUNDATION TRUST","RTE03","GLOUCESTERSHIRE ROYAL HOSPITAL - RTE03","AMU"]
["RTE03-CARDIOLOGY","RTE","GLOUCESTERSHIRE HOSPITALS NHS FOUNDATION TRUST","RTE03","GLOUCESTERSHIRE ROYAL HOSPITAL - RTE03","CARDIOLOGY"]
["RTE03-CIPD","RTE","GLOUCESTERSHIRE HOSPITALS NHS FOUNDATION TRUST","RTE03","GLOUCESTERSHIRE ROYAL HOSPITAL - RTE03","CIPD"]
[{"$f":"CONCATENATE(D4059,\"-\",F4059)","v":"RTE03-DCC"},"RTE","GLOUCESTERSHIRE HOSPITALS NHS FOUNDATION TRUST","RTE03","GLOUCESTERSHIRE ROYAL HOSPITAL - RTE03","DCC"]
["RTE03-GALLERY WING 1","RTE","GLOUCESTERSHIRE HOSPITALS NHS FOUNDATION TRUST","RTE03","GLOUCESTERSHIRE ROYAL HOSPITAL - RTE03","GALLERY WING 1"]
["RTE03-MATERNITY","RTE","GLOUCESTERSHIRE HOSPITALS NHS FOUNDATION TRUST","RTE03","GLOUCESTERSHIRE ROYAL HOSPITAL - RTE03","MATERNITY"]
["RTE03-SCBU","RTE","GLOUCESTERSHIRE HOSPITALS NHS FOUNDATION TRUST","RTE03","GLOUCESTERSHIRE ROYAL HOSPITAL - RTE03","SCBU"]
["RTF86-NSEC01","RTF","NORTHUMBRIA HEALTHCARE NHS FOUNDATION TRUST","RTF86","NORTHUMBRIA SPECIALIST EMERGENCY CARE HOSPITAL","NSEC01"]
["RTF86-NSEC03","RTF","NORTHUMBRIA HEALTHCARE NHS FOUNDATION TRUST","RTF86","NORTHUMBRIA SPECIALIST EMERGENCY CARE HOSPITAL","NSEC03"]
["RTF86-NSEC04","RTF","NORTHUMBRIA HEALTHCARE NHS FOUNDATION TRUST","RTF86","NORTHUMBRIA SPECIALIST EMERGENCY CARE HOSPITAL","NSEC04"]
["RTF86-NSEC06","RTF","NORTHUMBRIA HEALTHCARE NHS FOUNDATION TRUST","RTF86","NORTHUMBRIA SPECIALIST EMERGENCY CARE HOSPITAL","NSEC06"]
["RTF86-NSEC07","RTF","NORTHUMBRIA HEALTHCARE NHS FOUNDATION TRUST","RTF86","NORTHUMBRIA SPECIALIST EMERGENCY CARE HOSPITAL","NSEC07"]
["RTF86-NSEC09","RTF","NORTHUMBRIA HEALTHCARE NHS FOUNDATION TRUST","RTF86","NORTHUMBRIA SPECIALIST EMERGENCY CARE HOSPITAL","NSEC09"]
["RTF86-NSEC10","RTF","NORTHUMBRIA HEALTHCARE NHS FOUNDATION TRUST","RTF86","NORTHUMBRIA SPECIALIST EMERGENCY CARE HOSPITAL","NSEC10"]
["RTF86-NSEC12","RTF","NORTHUMBRIA HEALTHCARE NHS FOUNDATION TRUST","RTF86","NORTHUMBRIA SPECIALIST EMERGENCY CARE HOSPITAL","NSEC12"]
["RTF86-NSEC15","RTF","NORTHUMBRIA HEALTHCARE NHS FOUNDATION TRUST","RTF86","NORTHUMBRIA SPECIALIST EMERGENCY CARE HOSPITAL","NSEC15"]
["RTF86-NSEC16","RTF","NORTHUMBRIA HEALTHCARE NHS FOUNDATION TRUST","RTF86","NORTHUMBRIA SPECIALIST EMERGENCY CARE HOSPITAL","NSEC16"]
["RTF86-NSECCAU","RTF","NORTHUMBRIA HEALTHCARE NHS FOUNDATION TRUST","RTF86","NORTHUMBRIA SPECIALIST EMERGENCY CARE HOSPITAL","NSECCAU"]
["RTF86-NSECCRIT","RTF","NORTHUMBRIA HEALTHCARE NHS FOUNDATION TRUST","RTF86","NORTHUMBRIA SPECIALIST EMERGENCY CARE HOSPITAL","NSECCRIT"]
["RTF86-NSECDEL","RTF","NORTHUMBRIA HEALTHCARE NHS FOUNDATION TRUST","RTF86","NORTHUMBRIA SPECIALIST EMERGENCY CARE HOSPITAL","NSECDEL"]
["RTF86-NSECHASU","RTF","NORTHUMBRIA HEALTHCARE NHS FOUNDATION TRUST","RTF86","NORTHUMBRIA SPECIALIST EMERGENCY CARE HOSPITAL","NSECHASU"]
["RTF86-NSECSCBU","RTF","NORTHUMBRIA HEALTHCARE NHS FOUNDATION TRUST","RTF86","NORTHUMBRIA SPECIALIST EMERGENCY CARE HOSPITAL","NSECSCBU"]
["RTFDH-BERW01","RTF","NORTHUMBRIA HEALTHCARE NHS FOUNDATION TRUST","RTFDH","BERWICK INFIRMARY - RTFDH","BERW01"]
["RTFDJ-ALNW01","RTF","NORTHUMBRIA HEALTHCARE NHS FOUNDATION TRUST","RTFDJ","ALNWICK INFIRMARY - RTFDJ","ALNW01"]
["RTFDR-HEXH02","RTF","NORTHUMBRIA HEALTHCARE NHS FOUNDATION TRUST","RTFDR","HEXHAM GENERAL HOSPITAL - RTFDR","HEXH02"]
["RTFDR-HEXH03","RTF","NORTHUMBRIA HEALTHCARE NHS FOUNDATION TRUST","RTFDR","HEXHAM GENERAL HOSPITAL - RTFDR","HEXH03"]
["RTFDR-HEXH04","RTF","NORTHUMBRIA HEALTHCARE NHS FOUNDATION TRUST","RTFDR","HEXHAM GENERAL HOSPITAL - RTFDR","HEXH04"]
["RTFDR-HEXHMAT","RTF","NORTHUMBRIA HEALTHCARE NHS FOUNDATION TRUST","RTFDR","HEXHAM GENERAL HOSPITAL - RTFDR","HEXHMAT"]
["RTFDU-HALTHALT","RTF","NORTHUMBRIA HEALTHCARE NHS FOUNDATION TRUST","RTFDU","HALTWHISTLE WAR MEMORIAL HOSPITAL - RTFDU","HALTHALT"]
["RTFDX-BLYT02","RTF","NORTHUMBRIA HEALTHCARE NHS FOUNDATION TRUST","RTFDX","BLYTH COMMUNITY HOSPITAL - RTFDX","BLYT02"]
["RTFED-WANS01","RTF","NORTHUMBRIA HEALTHCARE NHS FOUNDATION TRUST","RTFED","WANSBECK HOSPITAL - RTFED","WANS01"]
["RTFED-WANS02","RTF","NORTHUMBRIA HEALTHCARE NHS FOUNDATION TRUST","RTFED","WANSBECK HOSPITAL - RTFED","WANS02"]
["RTFED-WANS04","RTF","NORTHUMBRIA HEALTHCARE NHS FOUNDATION TRUST","RTFED","WANSBECK HOSPITAL - RTFED","WANS04"]
["RTFED-WANS05","RTF","NORTHUMBRIA HEALTHCARE NHS FOUNDATION TRUST","RTFED","WANSBECK HOSPITAL - RTFED","WANS05"]
["RTFED-WANS08","RTF","NORTHUMBRIA HEALTHCARE NHS FOUNDATION TRUST","RTFED","WANSBECK HOSPITAL - RTFED","WANS08"]
["RTFED-WANS09","RTF","NORTHUMBRIA HEALTHCARE NHS FOUNDATION TRUST","RTFED","WANSBECK HOSPITAL - RTFED","WANS09"]
["RTFED-WANS10","RTF","NORTHUMBRIA HEALTHCARE NHS FOUNDATION TRUST","RTFED","WANSBECK HOSPITAL - RTFED","WANS10"]
["RTFED-WANS11A","RTF","NORTHUMBRIA HEALTHCARE NHS FOUNDATION TRUST","RTFED","WANSBECK HOSPITAL - RTFED","WANS11A"]
["RTFED-WANS11B","RTF","NORTHUMBRIA HEALTHCARE NHS FOUNDATION TRUST","RTFED","WANSBECK HOSPITAL - RTFED","WANS11B"]
["RTFED-WANSPCU","RTF","NORTHUMBRIA HEALTHCARE NHS FOUNDATION TRUST","RTFED","WANSBECK HOSPITAL - RTFED","WANSPCU"]
["RTFFS-NTGH07","RTF","NORTHUMBRIA HEALTHCARE NHS FOUNDATION TRUST","RTFFS","NORTH TYNESIDE GENERAL HOSPITAL - RTFFS","NTGH07"]
["RTFFS-NTGH08","RTF","NORTHUMBRIA HEALTHCARE NHS FOUNDATION TRUST","RTFFS","NORTH TYNESIDE GENERAL HOSPITAL - RTFFS","NTGH08"]
["RTFFS-NTGH12","RTF","NORTHUMBRIA HEALTHCARE NHS FOUNDATION TRUST","RTFFS","NORTH TYNESIDE GENERAL HOSPITAL - RTFFS","NTGH12"]
["RTFFS-NTGH15","RTF","NORTHUMBRIA HEALTHCARE NHS FOUNDATION TRUST","RTFFS","NORTH TYNESIDE GENERAL HOSPITAL - RTFFS","NTGH15"]
["RTFFS-NTGH18","RTF","NORTHUMBRIA HEALTHCARE NHS FOUNDATION TRUST","RTFFS","NORTH TYNESIDE GENERAL HOSPITAL - RTFFS","NTGH18"]
["RTFFS-NTGH20","RTF","NORTHUMBRIA HEALTHCARE NHS FOUNDATION TRUST","RTFFS","NORTH TYNESIDE GENERAL HOSPITAL - RTFFS","NTGH20"]
["RTFFS-NTGH21","RTF","NORTHUMBRIA HEALTHCARE NHS FOUNDATION TRUST","RTFFS","NORTH TYNESIDE GENERAL HOSPITAL - RTFFS","NTGH21"]
["RTFFS-NTGH22","RTF","NORTHUMBRIA HEALTHCARE NHS FOUNDATION TRUST","RTFFS","NORTH TYNESIDE GENERAL HOSPITAL - RTFFS","NTGH22"]
["RTFFS-NTGH23","RTF","NORTHUMBRIA HEALTHCARE NHS FOUNDATION TRUST","RTFFS","NORTH TYNESIDE GENERAL HOSPITAL - RTFFS","NTGH23"]
["RTFFS-NTGH24","RTF","NORTHUMBRIA HEALTHCARE NHS FOUNDATION TRUST","RTFFS","NORTH TYNESIDE GENERAL HOSPITAL - RTFFS","NTGH24"]
["RTFFS-NTGHPCU","RTF","NORTHUMBRIA HEALTHCARE NHS FOUNDATION TRUST","RTFFS","NORTH TYNESIDE GENERAL HOSPITAL - RTFFS","NTGHPCU"]
["RTG02-Acute Assessment Centre","RTG","UNIVERSITY HOSPITALS OF DERBY AND BURTON NHS FOUNDATION TRUST","RTG02","BURTON HOSPITAL - RTG02","Acute Assessment Centre"]
["RTG02-Childrens Wards","RTG","UNIVERSITY HOSPITALS OF DERBY AND BURTON NHS FOUNDATION TRUST","RTG02","BURTON HOSPITAL - RTG02","Childrens Wards"]
["RTG02-Coronary Care Unit","RTG","UNIVERSITY HOSPITALS OF DERBY AND BURTON NHS FOUNDATION TRUST","RTG02","BURTON HOSPITAL - RTG02","Coronary Care Unit"]
["RTG02-Intensive Care Unit","RTG","UNIVERSITY HOSPITALS OF DERBY AND BURTON NHS FOUNDATION TRUST","RTG02","BURTON HOSPITAL - RTG02","Intensive Care Unit"]
["RTG02-Maternity QHB","RTG","UNIVERSITY HOSPITALS OF DERBY AND BURTON NHS FOUNDATION TRUST","RTG02","BURTON HOSPITAL - RTG02","Maternity QHB"]
["RTG02-Neonatal Unit","RTG","UNIVERSITY HOSPITALS OF DERBY AND BURTON NHS FOUNDATION TRUST","RTG02","BURTON HOSPITAL - RTG02","Neonatal Unit"]
["RTG02-Ward 14","RTG","UNIVERSITY HOSPITALS OF DERBY AND BURTON NHS FOUNDATION TRUST","RTG02","BURTON HOSPITAL - RTG02","Ward 14"]
["RTG02-Ward 15","RTG","UNIVERSITY HOSPITALS OF DERBY AND BURTON NHS FOUNDATION TRUST","RTG02","BURTON HOSPITAL - RTG02","Ward 15"]
["RTG02-Ward 16","RTG","UNIVERSITY HOSPITALS OF DERBY AND BURTON NHS FOUNDATION TRUST","RTG02","BURTON HOSPITAL - RTG02","Ward 16"]
["RTG02-Ward 19","RTG","UNIVERSITY HOSPITALS OF DERBY AND BURTON NHS FOUNDATION TRUST","RTG02","BURTON HOSPITAL - RTG02","Ward 19"]
["RTG02-Ward 20","RTG","UNIVERSITY HOSPITALS OF DERBY AND BURTON NHS FOUNDATION TRUST","RTG02","BURTON HOSPITAL - RTG02","Ward 20"]
["RTG02-Ward 3 - Short Stay","RTG","UNIVERSITY HOSPITALS OF DERBY AND BURTON NHS FOUNDATION TRUST","RTG02","BURTON HOSPITAL - RTG02","Ward 3 - Short Stay"]
["RTG02-Ward 30","RTG","UNIVERSITY HOSPITALS OF DERBY AND BURTON NHS FOUNDATION TRUST","RTG02","BURTON HOSPITAL - RTG02","Ward 30"]
["RTG02-Ward 4","RTG","UNIVERSITY HOSPITALS OF DERBY AND BURTON NHS FOUNDATION TRUST","RTG02","BURTON HOSPITAL - RTG02","Ward 4"]
["RTG02-Ward 5","RTG","UNIVERSITY HOSPITALS OF DERBY AND BURTON NHS FOUNDATION TRUST","RTG02","BURTON HOSPITAL - RTG02","Ward 5"]
["RTG02-Ward 6","RTG","UNIVERSITY HOSPITALS OF DERBY AND BURTON NHS FOUNDATION TRUST","RTG02","BURTON HOSPITAL - RTG02","Ward 6"]
[{"$f":"CONCATENATE(D4123,\"-\",F4123)","v":"RTG02-Ward 7"},"RTG","UNIVERSITY HOSPITALS OF DERBY AND BURTON NHS FOUNDATION TRUST","RTG02","BURTON HOSPITAL - RTG02","Ward 7"]
["RTG02-Ward 8","RTG","UNIVERSITY HOSPITALS OF DERBY AND BURTON NHS FOUNDATION TRUST","RTG02","BURTON HOSPITAL - RTG02","Ward 8"]
["RTG50-Philip","RTG","UNIVERSITY HOSPITALS OF DERBY AND BURTON NHS FOUNDATION TRUST","RTG50","SIR ROBERT PEEL COMMUNITY HOSPITAL - RTG50","Philip"]
["RTG54-Anna","RTG","UNIVERSITY HOSPITALS OF DERBY AND BURTON NHS FOUNDATION TRUST","RTG54","SAMUEL JOHNSON COMMUNITY HOSPITAL - RTG54","Anna"]
["RTG54-Darwin","RTG","UNIVERSITY HOSPITALS OF DERBY AND BURTON NHS FOUNDATION TRUST","RTG54","SAMUEL JOHNSON COMMUNITY HOSPITAL - RTG54","Darwin"]
["RTG54-Maternity","RTG","UNIVERSITY HOSPITALS OF DERBY AND BURTON NHS FOUNDATION TRUST","RTG54","SAMUEL JOHNSON COMMUNITY HOSPITAL - RTG54","Maternity"]
["RTGFA-3","RTG","UNIVERSITY HOSPITALS OF DERBY AND BURTON NHS FOUNDATION TRUST","RTGFA","LONDON ROAD COMMUNITY HOSPITAL - RTGFA","3"]
["RTGFA-4","RTG","UNIVERSITY HOSPITALS OF DERBY AND BURTON NHS FOUNDATION TRUST","RTGFA","LONDON ROAD COMMUNITY HOSPITAL - RTGFA","4"]
["RTGFA-5","RTG","UNIVERSITY HOSPITALS OF DERBY AND BURTON NHS FOUNDATION TRUST","RTGFA","LONDON ROAD COMMUNITY HOSPITAL - RTGFA","5"]
["RTGFA-6","RTG","UNIVERSITY HOSPITALS OF DERBY AND BURTON NHS FOUNDATION TRUST","RTGFA","LONDON ROAD COMMUNITY HOSPITAL - RTGFA","6"]
["RTGFG-102","RTG","UNIVERSITY HOSPITALS OF DERBY AND BURTON NHS FOUNDATION TRUST","RTGFG","ROYAL DERBY HOSPITAL - RTGFG","102"]
["RTGFG-203","RTG","UNIVERSITY HOSPITALS OF DERBY AND BURTON NHS FOUNDATION TRUST","RTGFG","ROYAL DERBY HOSPITAL - RTGFG","203"]
["RTGFG-204","RTG","UNIVERSITY HOSPITALS OF DERBY AND BURTON NHS FOUNDATION TRUST","RTGFG","ROYAL DERBY HOSPITAL - RTGFG","204"]
["RTGFG-205","RTG","UNIVERSITY HOSPITALS OF DERBY AND BURTON NHS FOUNDATION TRUST","RTGFG","ROYAL DERBY HOSPITAL - RTGFG","205"]
["RTGFG-206","RTG","UNIVERSITY HOSPITALS OF DERBY AND BURTON NHS FOUNDATION TRUST","RTGFG","ROYAL DERBY HOSPITAL - RTGFG","206"]
["RTGFG-207","RTG","UNIVERSITY HOSPITALS OF DERBY AND BURTON NHS FOUNDATION TRUST","RTGFG","ROYAL DERBY HOSPITAL - RTGFG","207"]
["RTGFG-208","RTG","UNIVERSITY HOSPITALS OF DERBY AND BURTON NHS FOUNDATION TRUST","RTGFG","ROYAL DERBY HOSPITAL - RTGFG","208"]
["RTGFG-216","RTG","UNIVERSITY HOSPITALS OF DERBY AND BURTON NHS FOUNDATION TRUST","RTGFG","ROYAL DERBY HOSPITAL - RTGFG","216"]
["RTGFG-301","RTG","UNIVERSITY HOSPITALS OF DERBY AND BURTON NHS FOUNDATION TRUST","RTGFG","ROYAL DERBY HOSPITAL - RTGFG","301"]
["RTGFG-302","RTG","UNIVERSITY HOSPITALS OF DERBY AND BURTON NHS FOUNDATION TRUST","RTGFG","ROYAL DERBY HOSPITAL - RTGFG","302"]
["RTGFG-303","RTG","UNIVERSITY HOSPITALS OF DERBY AND BURTON NHS FOUNDATION TRUST","RTGFG","ROYAL DERBY HOSPITAL - RTGFG","303"]
["RTGFG-304","RTG","UNIVERSITY HOSPITALS OF DERBY AND BURTON NHS FOUNDATION TRUST","RTGFG","ROYAL DERBY HOSPITAL - RTGFG","304"]
["RTGFG-305","RTG","UNIVERSITY HOSPITALS OF DERBY AND BURTON NHS FOUNDATION TRUST","RTGFG","ROYAL DERBY HOSPITAL - RTGFG","305"]
["RTGFG-306","RTG","UNIVERSITY HOSPITALS OF DERBY AND BURTON NHS FOUNDATION TRUST","RTGFG","ROYAL DERBY HOSPITAL - RTGFG","306"]
["RTGFG-307","RTG","UNIVERSITY HOSPITALS OF DERBY AND BURTON NHS FOUNDATION TRUST","RTGFG","ROYAL DERBY HOSPITAL - RTGFG","307"]
["RTGFG-308","RTG","UNIVERSITY HOSPITALS OF DERBY AND BURTON NHS FOUNDATION TRUST","RTGFG","ROYAL DERBY HOSPITAL - RTGFG","308"]
["RTGFG-309","RTG","UNIVERSITY HOSPITALS OF DERBY AND BURTON NHS FOUNDATION TRUST","RTGFG","ROYAL DERBY HOSPITAL - RTGFG","309"]
["RTGFG-310","RTG","UNIVERSITY HOSPITALS OF DERBY AND BURTON NHS FOUNDATION TRUST","RTGFG","ROYAL DERBY HOSPITAL - RTGFG","310"]
["RTGFG-311","RTG","UNIVERSITY HOSPITALS OF DERBY AND BURTON NHS FOUNDATION TRUST","RTGFG","ROYAL DERBY HOSPITAL - RTGFG","311"]
["RTGFG-312","RTG","UNIVERSITY HOSPITALS OF DERBY AND BURTON NHS FOUNDATION TRUST","RTGFG","ROYAL DERBY HOSPITAL - RTGFG","312"]
["RTGFG-313","RTG","UNIVERSITY HOSPITALS OF DERBY AND BURTON NHS FOUNDATION TRUST","RTGFG","ROYAL DERBY HOSPITAL - RTGFG","313"]
["RTGFG-314","RTG","UNIVERSITY HOSPITALS OF DERBY AND BURTON NHS FOUNDATION TRUST","RTGFG","ROYAL DERBY HOSPITAL - RTGFG","314"]
["RTGFG-315","RTG","UNIVERSITY HOSPITALS OF DERBY AND BURTON NHS FOUNDATION TRUST","RTGFG","ROYAL DERBY HOSPITAL - RTGFG","315"]
["RTGFG-401","RTG","UNIVERSITY HOSPITALS OF DERBY AND BURTON NHS FOUNDATION TRUST","RTGFG","ROYAL DERBY HOSPITAL - RTGFG","401"]
["RTGFG-402","RTG","UNIVERSITY HOSPITALS OF DERBY AND BURTON NHS FOUNDATION TRUST","RTGFG","ROYAL DERBY HOSPITAL - RTGFG","402"]
["RTGFG-403","RTG","UNIVERSITY HOSPITALS OF DERBY AND BURTON NHS FOUNDATION TRUST","RTGFG","ROYAL DERBY HOSPITAL - RTGFG","403"]
["RTGFG-404","RTG","UNIVERSITY HOSPITALS OF DERBY AND BURTON NHS FOUNDATION TRUST","RTGFG","ROYAL DERBY HOSPITAL - RTGFG","404"]
["RTGFG-405","RTG","UNIVERSITY HOSPITALS OF DERBY AND BURTON NHS FOUNDATION TRUST","RTGFG","ROYAL DERBY HOSPITAL - RTGFG","405"]
["RTGFG-406","RTG","UNIVERSITY HOSPITALS OF DERBY AND BURTON NHS FOUNDATION TRUST","RTGFG","ROYAL DERBY HOSPITAL - RTGFG","406"]
["RTGFG-407","RTG","UNIVERSITY HOSPITALS OF DERBY AND BURTON NHS FOUNDATION TRUST","RTGFG","ROYAL DERBY HOSPITAL - RTGFG","407"]
["RTGFG-408","RTG","UNIVERSITY HOSPITALS OF DERBY AND BURTON NHS FOUNDATION TRUST","RTGFG","ROYAL DERBY HOSPITAL - RTGFG","408"]
["RTGFG-409","RTG","UNIVERSITY HOSPITALS OF DERBY AND BURTON NHS FOUNDATION TRUST","RTGFG","ROYAL DERBY HOSPITAL - RTGFG","409"]
["RTGFG-410","RTG","UNIVERSITY HOSPITALS OF DERBY AND BURTON NHS FOUNDATION TRUST","RTGFG","ROYAL DERBY HOSPITAL - RTGFG","410"]
["RTGFG-209A","RTG","UNIVERSITY HOSPITALS OF DERBY AND BURTON NHS FOUNDATION TRUST","RTGFG","ROYAL DERBY HOSPITAL - RTGFG","209A"]
["RTGFG-CCU","RTG","UNIVERSITY HOSPITALS OF DERBY AND BURTON NHS FOUNDATION TRUST","RTGFG","ROYAL DERBY HOSPITAL - RTGFG","CCU"]
["RTGFG-DOL","RTG","UNIVERSITY HOSPITALS OF DERBY AND BURTON NHS FOUNDATION TRUST","RTGFG","ROYAL DERBY HOSPITAL - RTGFG","DOL"]
["RTGFG-EPU","RTG","UNIVERSITY HOSPITALS OF DERBY AND BURTON NHS FOUNDATION TRUST","RTGFG","ROYAL DERBY HOSPITAL - RTGFG","EPU"]
["RTGFG-ICU","RTG","UNIVERSITY HOSPITALS OF DERBY AND BURTON NHS FOUNDATION TRUST","RTGFG","ROYAL DERBY HOSPITAL - RTGFG","ICU"]
["RTGFG-LAB","RTG","UNIVERSITY HOSPITALS OF DERBY AND BURTON NHS FOUNDATION TRUST","RTGFG","ROYAL DERBY HOSPITAL - RTGFG","LAB"]
["RTGFG-MAU","RTG","UNIVERSITY HOSPITALS OF DERBY AND BURTON NHS FOUNDATION TRUST","RTGFG","ROYAL DERBY HOSPITAL - RTGFG","MAU"]
["RTGFG-NICU","RTG","UNIVERSITY HOSPITALS OF DERBY AND BURTON NHS FOUNDATION TRUST","RTGFG","ROYAL DERBY HOSPITAL - RTGFG","NICU"]
["RTGFG-NMU","RTG","UNIVERSITY HOSPITALS OF DERBY AND BURTON NHS FOUNDATION TRUST","RTGFG","ROYAL DERBY HOSPITAL - RTGFG","NMU"]
["RTGFG-PUFF","RTG","UNIVERSITY HOSPITALS OF DERBY AND BURTON NHS FOUNDATION TRUST","RTGFG","ROYAL DERBY HOSPITAL - RTGFG","PUFF"]
["RTGFG-SAU","RTG","UNIVERSITY HOSPITALS OF DERBY AND BURTON NHS FOUNDATION TRUST","RTGFG","ROYAL DERBY HOSPITAL - RTGFG","SAU"]
["RTGFG-SUNF","RTG","UNIVERSITY HOSPITALS OF DERBY AND BURTON NHS FOUNDATION TRUST","RTGFG","ROYAL DERBY HOSPITAL - RTGFG","SUNF"]
["RTH02-C-WD Blenheim","RTH","OXFORD UNIVERSITY HOSPITALS NHS FOUNDATION TRUST","RTH02","Churchill Hospital - RTH02","C-WD Blenheim"]
["RTH02-C-WD Haem","RTH","OXFORD UNIVERSITY HOSPITALS NHS FOUNDATION TRUST","RTH02","Churchill Hospital - RTH02","C-WD Haem"]
["RTH02-C-WD OCJAW","RTH","OXFORD UNIVERSITY HOSPITALS NHS FOUNDATION TRUST","RTH02","Churchill Hospital - RTH02","C-WD OCJAW"]
["RTH02-C-WD Oncology","RTH","OXFORD UNIVERSITY HOSPITALS NHS FOUNDATION TRUST","RTH02","Churchill Hospital - RTH02","C-WD Oncology"]
["RTH02-C-WD Renal","RTH","OXFORD UNIVERSITY HOSPITALS NHS FOUNDATION TRUST","RTH02","Churchill Hospital - RTH02","C-WD Renal"]
["RTH02-C-WD Sobell","RTH","OXFORD UNIVERSITY HOSPITALS NHS FOUNDATION TRUST","RTH02","Churchill Hospital - RTH02","C-WD Sobell"]
["RTH02-C-WD Upper GI","RTH","OXFORD UNIVERSITY HOSPITALS NHS FOUNDATION TRUST","RTH02","Churchill Hospital - RTH02","C-WD Upper GI"]
["RTH02-C-WD Urology","RTH","OXFORD UNIVERSITY HOSPITALS NHS FOUNDATION TRUST","RTH02","Churchill Hospital - RTH02","C-WD Urology"]
["RTH02-C-WD Wytham","RTH","OXFORD UNIVERSITY HOSPITALS NHS FOUNDATION TRUST","RTH02","Churchill Hospital - RTH02","C-WD Wytham"]
[{"$f":"CONCATENATE(D4187,\"-\",F4187)","v":"RTH03-NOC-HDU"},"RTH","OXFORD UNIVERSITY HOSPITALS NHS FOUNDATION TRUST","RTH03","NUFFIELD ORTHOPAEDIC CENTRE","NOC-HDU"]
["RTH03-NOC-OCE","RTH","OXFORD UNIVERSITY HOSPITALS NHS FOUNDATION TRUST","RTH03","NUFFIELD ORTHOPAEDIC CENTRE","NOC-OCE"]
["RTH03-NOC-Ward B","RTH","OXFORD UNIVERSITY HOSPITALS NHS FOUNDATION TRUST","RTH03","NUFFIELD ORTHOPAEDIC CENTRE","NOC-Ward B"]
["RTH03-NOC-Ward E","RTH","OXFORD UNIVERSITY HOSPITALS NHS FOUNDATION TRUST","RTH03","NUFFIELD ORTHOPAEDIC CENTRE","NOC-Ward E"]
["RTH03-NOC-Ward F","RTH","OXFORD UNIVERSITY HOSPITALS NHS FOUNDATION TRUST","RTH03","NUFFIELD ORTHOPAEDIC CENTRE","NOC-Ward F"]
["RTH03-NOC-Ward OSSU","RTH","OXFORD UNIVERSITY HOSPITALS NHS FOUNDATION TRUST","RTH03","NUFFIELD ORTHOPAEDIC CENTRE","NOC-Ward OSSU"]
["RTH05-H-WD Childrens","RTH","OXFORD UNIVERSITY HOSPITALS NHS FOUNDATION TRUST","RTH05","Horton General Hospital","H-WD Childrens"]
["RTH05-H-WD Crit Care","RTH","OXFORD UNIVERSITY HOSPITALS NHS FOUNDATION TRUST","RTH05","Horton General Hospital","H-WD Crit Care"]
["RTH05-H-WD Juniper","RTH","OXFORD UNIVERSITY HOSPITALS NHS FOUNDATION TRUST","RTH05","Horton General Hospital","H-WD Juniper"]
["RTH05-H-WD Laburnum","RTH","OXFORD UNIVERSITY HOSPITALS NHS FOUNDATION TRUST","RTH05","Horton General Hospital","H-WD Laburnum"]
["RTH05-H-WD Trauma","RTH","OXFORD UNIVERSITY HOSPITALS NHS FOUNDATION TRUST","RTH05","Horton General Hospital","H-WD Trauma"]
["RTH08-J-WD 5A","RTH","OXFORD UNIVERSITY HOSPITALS NHS FOUNDATION TRUST","RTH08","John Radcliffe Hospital","J-WD 5A"]
["RTH08-J-WD 5F","RTH","OXFORD UNIVERSITY HOSPITALS NHS FOUNDATION TRUST","RTH08","John Radcliffe Hospital","J-WD 5F"]
["RTH08-J-WD 6A","RTH","OXFORD UNIVERSITY HOSPITALS NHS FOUNDATION TRUST","RTH08","John Radcliffe Hospital","J-WD 6A"]
["RTH08-J-WD 6B Stroke","RTH","OXFORD UNIVERSITY HOSPITALS NHS FOUNDATION TRUST","RTH08","John Radcliffe Hospital","J-WD 6B Stroke"]
["RTH08-J-WD 6C SSW","RTH","OXFORD UNIVERSITY HOSPITALS NHS FOUNDATION TRUST","RTH08","John Radcliffe Hospital","J-WD 6C SSW"]
["RTH08-J-WD 7E Osler","RTH","OXFORD UNIVERSITY HOSPITALS NHS FOUNDATION TRUST","RTH08","John Radcliffe Hospital","J-WD 7E Osler"]
["RTH08-J-WD 7F Trauma","RTH","OXFORD UNIVERSITY HOSPITALS NHS FOUNDATION TRUST","RTH08","John Radcliffe Hospital","J-WD 7F Trauma"]
["RTH08-J-WD AdamTrauma","RTH","OXFORD UNIVERSITY HOSPITALS NHS FOUNDATION TRUST","RTH08","John Radcliffe Hospital","J-WD AdamTrauma"]
["RTH08-J-WD Adult ICU","RTH","OXFORD UNIVERSITY HOSPITALS NHS FOUNDATION TRUST","RTH08","John Radcliffe Hospital","J-WD Adult ICU"]
["RTH08-J-WD Bell-Dray","RTH","OXFORD UNIVERSITY HOSPITALS NHS FOUNDATION TRUST","RTH08","John Radcliffe Hospital","J-WD Bell-Dray"]
["RTH08-J-WD Card","RTH","OXFORD UNIVERSITY HOSPITALS NHS FOUNDATION TRUST","RTH08","John Radcliffe Hospital","J-WD Card"]
["RTH08-J-WD CMU-A","RTH","OXFORD UNIVERSITY HOSPITALS NHS FOUNDATION TRUST","RTH08","John Radcliffe Hospital","J-WD CMU-A"]
["RTH08-J-WD CMU-B","RTH","OXFORD UNIVERSITY HOSPITALS NHS FOUNDATION TRUST","RTH08","John Radcliffe Hospital","J-WD CMU-B"]
["RTH08-J-WD CMU-C","RTH","OXFORD UNIVERSITY HOSPITALS NHS FOUNDATION TRUST","RTH08","John Radcliffe Hospital","J-WD CMU-C"]
["RTH08-J-WD CMU-D","RTH","OXFORD UNIVERSITY HOSPITALS NHS FOUNDATION TRUST","RTH08","John Radcliffe Hospital","J-WD CMU-D"]
["RTH08-J-WD CT Surgery","RTH","OXFORD UNIVERSITY HOSPITALS NHS FOUNDATION TRUST","RTH08","John Radcliffe Hospital","J-WD CT Surgery"]
["RTH08-J-WD CTVCC","RTH","OXFORD UNIVERSITY HOSPITALS NHS FOUNDATION TRUST","RTH08","John Radcliffe Hospital","J-WD CTVCC"]
["RTH08-J-WD Delivery","RTH","OXFORD UNIVERSITY HOSPITALS NHS FOUNDATION TRUST","RTH08","John Radcliffe Hospital","J-WD Delivery"]
["RTH08-J-WD Gynae","RTH","OXFORD UNIVERSITY HOSPITALS NHS FOUNDATION TRUST","RTH08","John Radcliffe Hospital","J-WD Gynae"]
["RTH08-J-WD John Warin","RTH","OXFORD UNIVERSITY HOSPITALS NHS FOUNDATION TRUST","RTH08","John Radcliffe Hospital","J-WD John Warin"]
["RTH08-J-WD Kamrans","RTH","OXFORD UNIVERSITY HOSPITALS NHS FOUNDATION TRUST","RTH08","John Radcliffe Hospital","J-WD Kamrans"]
["RTH08-J-WD Maty L5","RTH","OXFORD UNIVERSITY HOSPITALS NHS FOUNDATION TRUST","RTH08","John Radcliffe Hospital","J-WD Maty L5"]
["RTH08-J-WD Maty L6","RTH","OXFORD UNIVERSITY HOSPITALS NHS FOUNDATION TRUST","RTH08","John Radcliffe Hospital","J-WD Maty L6"]
["RTH08-J-WD Maty OA","RTH","OXFORD UNIVERSITY HOSPITALS NHS FOUNDATION TRUST","RTH08","John Radcliffe Hospital","J-WD Maty OA"]
["RTH08-J-WD Melanies","RTH","OXFORD UNIVERSITY HOSPITALS NHS FOUNDATION TRUST","RTH08","John Radcliffe Hospital","J-WD Melanies"]
["RTH08-J-WD Neuro ICU","RTH","OXFORD UNIVERSITY HOSPITALS NHS FOUNDATION TRUST","RTH08","John Radcliffe Hospital","J-WD Neuro ICU"]
["RTH08-J-WD Neuro Red","RTH","OXFORD UNIVERSITY HOSPITALS NHS FOUNDATION TRUST","RTH08","John Radcliffe Hospital","J-WD Neuro Red"]
["RTH08-J-WD NeuroBlue","RTH","OXFORD UNIVERSITY HOSPITALS NHS FOUNDATION TRUST","RTH08","John Radcliffe Hospital","J-WD NeuroBlue"]
["RTH08-J-WD NeuroGreen","RTH","OXFORD UNIVERSITY HOSPITALS NHS FOUNDATION TRUST","RTH08","John Radcliffe Hospital","J-WD NeuroGreen"]
["RTH08-J-WD NeuroPurpl","RTH","OXFORD UNIVERSITY HOSPITALS NHS FOUNDATION TRUST","RTH08","John Radcliffe Hospital","J-WD NeuroPurpl"]
["RTH08-J-WD Newborn IC","RTH","OXFORD UNIVERSITY HOSPITALS NHS FOUNDATION TRUST","RTH08","John Radcliffe Hospital","J-WD Newborn IC"]
["RTH08-J-WD Paed ICU","RTH","OXFORD UNIVERSITY HOSPITALS NHS FOUNDATION TRUST","RTH08","John Radcliffe Hospital","J-WD Paed ICU"]
["RTH08-J-WD Robins","RTH","OXFORD UNIVERSITY HOSPITALS NHS FOUNDATION TRUST","RTH08","John Radcliffe Hospital","J-WD Robins"]
["RTH08-J-WD SEU D","RTH","OXFORD UNIVERSITY HOSPITALS NHS FOUNDATION TRUST","RTH08","John Radcliffe Hospital","J-WD SEU D"]
["RTH08-J-WD SEU E","RTH","OXFORD UNIVERSITY HOSPITALS NHS FOUNDATION TRUST","RTH08","John Radcliffe Hospital","J-WD SEU E"]
["RTH08-J-WD SEU F","RTH","OXFORD UNIVERSITY HOSPITALS NHS FOUNDATION TRUST","RTH08","John Radcliffe Hospital","J-WD SEU F"]
["RTH08-J-WD Spires","RTH","OXFORD UNIVERSITY HOSPITALS NHS FOUNDATION TRUST","RTH08","John Radcliffe Hospital","J-WD Spires"]
["RTH08-J-WD SSIP","RTH","OXFORD UNIVERSITY HOSPITALS NHS FOUNDATION TRUST","RTH08","John Radcliffe Hospital","J-WD SSIP"]
["RTH08-J-WD Toms","RTH","OXFORD UNIVERSITY HOSPITALS NHS FOUNDATION TRUST","RTH08","John Radcliffe Hospital","J-WD Toms"]
["RTK01-Abbey Birth Centre","RTK","ASHFORD AND ST PETER'S HOSPITALS NHS FOUNDATION TRUST","RTK01","ST PETER'S HOSPITAL","Abbey Birth Centre"]
["RTK01-ACU","RTK","ASHFORD AND ST PETER'S HOSPITALS NHS FOUNDATION TRUST","RTK01","ST PETER'S HOSPITAL","ACU"]
["RTK01-AMU","RTK","ASHFORD AND ST PETER'S HOSPITALS NHS FOUNDATION TRUST","RTK01","ST PETER'S HOSPITAL","AMU"]
["RTK01-Ash","RTK","ASHFORD AND ST PETER'S HOSPITALS NHS FOUNDATION TRUST","RTK01","ST PETER'S HOSPITAL","Ash"]
["RTK01-Aspen","RTK","ASHFORD AND ST PETER'S HOSPITALS NHS FOUNDATION TRUST","RTK01","ST PETER'S HOSPITAL","Aspen"]
["RTK01-BACU","RTK","ASHFORD AND ST PETER'S HOSPITALS NHS FOUNDATION TRUST","RTK01","ST PETER'S HOSPITAL","BACU"]
["RTK01-BRAD","RTK","ASHFORD AND ST PETER'S HOSPITALS NHS FOUNDATION TRUST","RTK01","ST PETER'S HOSPITAL","BRAD"]
["RTK01-Cedar","RTK","ASHFORD AND ST PETER'S HOSPITALS NHS FOUNDATION TRUST","RTK01","ST PETER'S HOSPITAL","Cedar"]
["RTK01-Cherry","RTK","ASHFORD AND ST PETER'S HOSPITALS NHS FOUNDATION TRUST","RTK01","ST PETER'S HOSPITAL","Cherry"]
["RTK01-Falcon","RTK","ASHFORD AND ST PETER'S HOSPITALS NHS FOUNDATION TRUST","RTK01","ST PETER'S HOSPITAL","Falcon"]
["RTK01-Heron","RTK","ASHFORD AND ST PETER'S HOSPITALS NHS FOUNDATION TRUST","RTK01","ST PETER'S HOSPITAL","Heron"]
["RTK01-Holly","RTK","ASHFORD AND ST PETER'S HOSPITALS NHS FOUNDATION TRUST","RTK01","ST PETER'S HOSPITAL","Holly"]
["RTK01-ITU","RTK","ASHFORD AND ST PETER'S HOSPITALS NHS FOUNDATION TRUST","RTK01","ST PETER'S HOSPITAL","ITU"]
["RTK01-Joan Booker","RTK","ASHFORD AND ST PETER'S HOSPITALS NHS FOUNDATION TRUST","RTK01","ST PETER'S HOSPITAL","Joan Booker"]
[{"$f":"CONCATENATE(D4251,\"-\",F4251)","v":"RTK01-Kingfisher"},"RTK","ASHFORD AND ST PETER'S HOSPITALS NHS FOUNDATION TRUST","RTK01","ST PETER'S HOSPITAL","Kingfisher"]
["RTK01-Labour","RTK","ASHFORD AND ST PETER'S HOSPITALS NHS FOUNDATION TRUST","RTK01","ST PETER'S HOSPITAL","Labour"]
["RTK01-Maple","RTK","ASHFORD AND ST PETER'S HOSPITALS NHS FOUNDATION TRUST","RTK01","ST PETER'S HOSPITAL","Maple"]
["RTK01-May","RTK","ASHFORD AND ST PETER'S HOSPITALS NHS FOUNDATION TRUST","RTK01","ST PETER'S HOSPITAL","May"]
["RTK01-NICU","RTK","ASHFORD AND ST PETER'S HOSPITALS NHS FOUNDATION TRUST","RTK01","ST PETER'S HOSPITAL","NICU"]
["RTK01-SAU","RTK","ASHFORD AND ST PETER'S HOSPITALS NHS FOUNDATION TRUST","RTK01","ST PETER'S HOSPITAL","SAU"]
["RTK01-Swan","RTK","ASHFORD AND ST PETER'S HOSPITALS NHS FOUNDATION TRUST","RTK01","ST PETER'S HOSPITAL","Swan"]
["RTK01-Swift","RTK","ASHFORD AND ST PETER'S HOSPITALS NHS FOUNDATION TRUST","RTK01","ST PETER'S HOSPITAL","Swift"]
["RTK02-Dickens","RTK","ASHFORD AND ST PETER'S HOSPITALS NHS FOUNDATION TRUST","RTK02","ASHFORD HOSPITAL","Dickens"]
["RTP04-Abinger Ward","RTP","SURREY AND SUSSEX HEALTHCARE NHS TRUST","RTP04","EAST SURREY HOSPITAL","Abinger Ward"]
["RTP04-Acute Medical Unit","RTP","SURREY AND SUSSEX HEALTHCARE NHS TRUST","RTP04","EAST SURREY HOSPITAL","Acute Medical Unit"]
["RTP04-Birthing Centre","RTP","SURREY AND SUSSEX HEALTHCARE NHS TRUST","RTP04","EAST SURREY HOSPITAL","Birthing Centre"]
["RTP04-Bletchingley Ward","RTP","SURREY AND SUSSEX HEALTHCARE NHS TRUST","RTP04","EAST SURREY HOSPITAL","Bletchingley Ward"]
["RTP04-Brockham Ward","RTP","SURREY AND SUSSEX HEALTHCARE NHS TRUST","RTP04","EAST SURREY HOSPITAL","Brockham Ward"]
["RTP04-Brook Ward","RTP","SURREY AND SUSSEX HEALTHCARE NHS TRUST","RTP04","EAST SURREY HOSPITAL","Brook Ward"]
["RTP04-Buckland Ward","RTP","SURREY AND SUSSEX HEALTHCARE NHS TRUST","RTP04","EAST SURREY HOSPITAL","Buckland Ward"]
["RTP04-Burstow Ward","RTP","SURREY AND SUSSEX HEALTHCARE NHS TRUST","RTP04","EAST SURREY HOSPITAL","Burstow Ward"]
["RTP04-Capel Annex l Ward","RTP","SURREY AND SUSSEX HEALTHCARE NHS TRUST","RTP04","EAST SURREY HOSPITAL","Capel Annex l Ward"]
["RTP04-Capel Ward","RTP","SURREY AND SUSSEX HEALTHCARE NHS TRUST","RTP04","EAST SURREY HOSPITAL","Capel Ward"]
["RTP04-Chaldon Ward","RTP","SURREY AND SUSSEX HEALTHCARE NHS TRUST","RTP04","EAST SURREY HOSPITAL","Chaldon Ward"]
["RTP04-Charlwood Ward","RTP","SURREY AND SUSSEX HEALTHCARE NHS TRUST","RTP04","EAST SURREY HOSPITAL","Charlwood Ward"]
["RTP04-Copthorne Ward","RTP","SURREY AND SUSSEX HEALTHCARE NHS TRUST","RTP04","EAST SURREY HOSPITAL","Copthorne Ward"]
["RTP04-Coronary Care Unit","RTP","SURREY AND SUSSEX HEALTHCARE NHS TRUST","RTP04","EAST SURREY HOSPITAL","Coronary Care Unit"]
["RTP04-Delivery Suite","RTP","SURREY AND SUSSEX HEALTHCARE NHS TRUST","RTP04","EAST SURREY HOSPITAL","Delivery Suite"]
["RTP04-Discharge Lounge","RTP","SURREY AND SUSSEX HEALTHCARE NHS TRUST","RTP04","EAST SURREY HOSPITAL","Discharge Lounge"]
["RTP04-Godstone Ward (Haem)","RTP","SURREY AND SUSSEX HEALTHCARE NHS TRUST","RTP04","EAST SURREY HOSPITAL","Godstone Ward (Haem)"]
["RTP04-Godstone Ward (Med)","RTP","SURREY AND SUSSEX HEALTHCARE NHS TRUST","RTP04","EAST SURREY HOSPITAL","Godstone Ward (Med)"]
["RTP04-Holmwood Ward","RTP","SURREY AND SUSSEX HEALTHCARE NHS TRUST","RTP04","EAST SURREY HOSPITAL","Holmwood Ward"]
["RTP04-ITU/HDU","RTP","SURREY AND SUSSEX HEALTHCARE NHS TRUST","RTP04","EAST SURREY HOSPITAL","ITU/HDU"]
["RTP04-Leigh Ward","RTP","SURREY AND SUSSEX HEALTHCARE NHS TRUST","RTP04","EAST SURREY HOSPITAL","Leigh Ward"]
["RTP04-Meadvale Ward","RTP","SURREY AND SUSSEX HEALTHCARE NHS TRUST","RTP04","EAST SURREY HOSPITAL","Meadvale Ward"]
["RTP04-Neonatal Unit","RTP","SURREY AND SUSSEX HEALTHCARE NHS TRUST","RTP04","EAST SURREY HOSPITAL","Neonatal Unit"]
[{"$f":"CONCATENATE(D4283,\"-\",F4283)","v":"RTP04-Newdigate Ward"},"RTP","SURREY AND SUSSEX HEALTHCARE NHS TRUST","RTP04","EAST SURREY HOSPITAL","Newdigate Ward"]
["RTP04-Nutfield Ward","RTP","SURREY AND SUSSEX HEALTHCARE NHS TRUST","RTP04","EAST SURREY HOSPITAL","Nutfield Ward"]
["RTP04-Outwood Ward","RTP","SURREY AND SUSSEX HEALTHCARE NHS TRUST","RTP04","EAST SURREY HOSPITAL","Outwood Ward"]
["RTP04-Rusper Ward","RTP","SURREY AND SUSSEX HEALTHCARE NHS TRUST","RTP04","EAST SURREY HOSPITAL","Rusper Ward"]
["RTP04-Surgical Assessment Unit","RTP","SURREY AND SUSSEX HEALTHCARE NHS TRUST","RTP04","EAST SURREY HOSPITAL","Surgical Assessment Unit"]
["RTP04-Tandridge Ward","RTP","SURREY AND SUSSEX HEALTHCARE NHS TRUST","RTP04","EAST SURREY HOSPITAL","Tandridge Ward"]
["RTP04-Tilgate Annex","RTP","SURREY AND SUSSEX HEALTHCARE NHS TRUST","RTP04","EAST SURREY HOSPITAL","Tilgate Annex"]
["RTP04-Tilgate Ward","RTP","SURREY AND SUSSEX HEALTHCARE NHS TRUST","RTP04","EAST SURREY HOSPITAL","Tilgate Ward"]
["RTP04-Woodland Ward","RTP","SURREY AND SUSSEX HEALTHCARE NHS TRUST","RTP04","EAST SURREY HOSPITAL","Woodland Ward"]
["RTQ01-Chestnut","RTQ","2GETHER NHS FOUNDATION TRUST","RTQ01","CHARLTON LANE HOSPITAL","Chestnut"]
["RTQ01-Mulberry","RTQ","2GETHER NHS FOUNDATION TRUST","RTQ01","CHARLTON LANE HOSPITAL","Mulberry"]
["RTQ01-Willow","RTQ","2GETHER NHS FOUNDATION TRUST","RTQ01","CHARLTON LANE HOSPITAL","Willow"]
["RTQ02-Abbey","RTQ","2GETHER NHS FOUNDATION TRUST","RTQ02","WOTTON LAWN HOSPITAL","Abbey"]
["RTQ02-Dean","RTQ","2GETHER NHS FOUNDATION TRUST","RTQ02","WOTTON LAWN HOSPITAL","Dean"]
["RTQ02-Greyfriars","RTQ","2GETHER NHS FOUNDATION TRUST","RTQ02","WOTTON LAWN HOSPITAL","Greyfriars"]
["RTQ02-Kingsholm","RTQ","2GETHER NHS FOUNDATION TRUST","RTQ02","WOTTON LAWN HOSPITAL","Kingsholm"]
["RTQ02-Montpellier","RTQ","2GETHER NHS FOUNDATION TRUST","RTQ02","WOTTON LAWN HOSPITAL","Montpellier"]
["RTQ02-Priory","RTQ","2GETHER NHS FOUNDATION TRUST","RTQ02","WOTTON LAWN HOSPITAL","Priory"]
["RTQ11-Laurel House","RTQ","2GETHER NHS FOUNDATION TRUST","RTQ11","LAUREL HOUSE CHELT","Laurel House"]
["RTQ13-Honeybourne","RTQ","2GETHER NHS FOUNDATION TRUST","RTQ13","HONEYBOURNE","Honeybourne"]
["RTQ54-Berkeley House","RTQ","2GETHER NHS FOUNDATION TRUST","RTQ54","BERKELEY HOUSE","Berkeley House"]
["RTQHJ-Cantilupe","RTQ","2GETHER NHS FOUNDATION TRUST","RTQHJ","STONEBOW UNIT","Cantilupe"]
["RTQHJ-Jenny Lind","RTQ","2GETHER NHS FOUNDATION TRUST","RTQHJ","STONEBOW UNIT","Jenny Lind"]
["RTQHJ-Mortimer","RTQ","2GETHER NHS FOUNDATION TRUST","RTQHJ","STONEBOW UNIT","Mortimer"]
["RTQHM-Oak House","RTQ","2GETHER NHS FOUNDATION TRUST","RTQHM","OAK HOUSE","Oak House"]
["RTR03-Tocketts Ward East Cleveland Hospital","RTR","SOUTH TEES HOSPITALS NHS FOUNDATION TRUST","RTR03","EAST CLEVELAND HOSPITAL","Tocketts Ward East Cleveland Hospital"]
["RTR07-Friary Community Hospital","RTR","SOUTH TEES HOSPITALS NHS FOUNDATION TRUST","RTR07","FRIARY HOSPITAL","Friary Community Hospital"]
["RTR18-Zetland","RTR","SOUTH TEES HOSPITALS NHS FOUNDATION TRUST","RTR18","REDCAR PRIMARY CARE HOSPITAL","Zetland"]
["RTR45-Ainderby FHN","RTR","SOUTH TEES HOSPITALS NHS FOUNDATION TRUST","RTR45","FRIARAGE HOSPITAL SITE","Ainderby FHN"]
["RTR45-Gara Orthopaedic FHN","RTR","SOUTH TEES HOSPITALS NHS FOUNDATION TRUST","RTR45","FRIARAGE HOSPITAL SITE","Gara Orthopaedic FHN"]
["RTR45-Maternity FHN","RTR","SOUTH TEES HOSPITALS NHS FOUNDATION TRUST","RTR45","FRIARAGE HOSPITAL SITE","Maternity FHN"]
["RTR45-Romanby FHN","RTR","SOUTH TEES HOSPITALS NHS FOUNDATION TRUST","RTR45","FRIARAGE HOSPITAL SITE","Romanby FHN"]
["RTR45-Rutson FHN","RTR","SOUTH TEES HOSPITALS NHS FOUNDATION TRUST","RTR45","FRIARAGE HOSPITAL SITE","Rutson FHN"]
["RTRAT-Cardio HDU","RTR","SOUTH TEES HOSPITALS NHS FOUNDATION TRUST","RTRAT","THE JAMES COOK UNIVERSITY HOSPITAL","Cardio HDU"]
["RTRAT-Cardio MB","RTR","SOUTH TEES HOSPITALS NHS FOUNDATION TRUST","RTRAT","THE JAMES COOK UNIVERSITY HOSPITAL","Cardio MB"]
["RTRAT-CCU JCUH","RTR","SOUTH TEES HOSPITALS NHS FOUNDATION TRUST","RTRAT","THE JAMES COOK UNIVERSITY HOSPITAL","CCU JCUH"]
["RTRAT-CICU JCUH","RTR","SOUTH TEES HOSPITALS NHS FOUNDATION TRUST","RTRAT","THE JAMES COOK UNIVERSITY HOSPITAL","CICU JCUH"]
["RTRAT-Critical Care","RTR","SOUTH TEES HOSPITALS NHS FOUNDATION TRUST","RTRAT","THE JAMES COOK UNIVERSITY HOSPITAL","Critical Care"]
["RTRAT-JC04 (Ward 4)","RTR","SOUTH TEES HOSPITALS NHS FOUNDATION TRUST","RTRAT","THE JAMES COOK UNIVERSITY HOSPITAL","JC04 (Ward 4)"]
["RTRAT-JC06 Gastro","RTR","SOUTH TEES HOSPITALS NHS FOUNDATION TRUST","RTRAT","THE JAMES COOK UNIVERSITY HOSPITAL","JC06 Gastro"]
["RTRAT-JC09 (Ward 9)","RTR","SOUTH TEES HOSPITALS NHS FOUNDATION TRUST","RTRAT","THE JAMES COOK UNIVERSITY HOSPITAL","JC09 (Ward 9)"]
["RTRAT-JC14 Oncology (Ward 14)","RTR","SOUTH TEES HOSPITALS NHS FOUNDATION TRUST","RTRAT","THE JAMES COOK UNIVERSITY HOSPITAL","JC14 Oncology (Ward 14)"]
["RTRAT-JC21 (Ward 21)","RTR","SOUTH TEES HOSPITALS NHS FOUNDATION TRUST","RTRAT","THE JAMES COOK UNIVERSITY HOSPITAL","JC21 (Ward 21)"]
["RTRAT-JC22 (Ward 22)","RTR","SOUTH TEES HOSPITALS NHS FOUNDATION TRUST","RTRAT","THE JAMES COOK UNIVERSITY HOSPITAL","JC22 (Ward 22)"]
["RTRAT-JC24 (Ward 24)","RTR","SOUTH TEES HOSPITALS NHS FOUNDATION TRUST","RTRAT","THE JAMES COOK UNIVERSITY HOSPITAL","JC24 (Ward 24)"]
["RTRAT-JC24 HDU","RTR","SOUTH TEES HOSPITALS NHS FOUNDATION TRUST","RTRAT","THE JAMES COOK UNIVERSITY HOSPITAL","JC24 HDU"]
["RTRAT-JC25 Elective Ortho","RTR","SOUTH TEES HOSPITALS NHS FOUNDATION TRUST","RTRAT","THE JAMES COOK UNIVERSITY HOSPITAL","JC25 Elective Ortho"]
["RTRAT-JC26 (Ward 26)","RTR","SOUTH TEES HOSPITALS NHS FOUNDATION TRUST","RTRAT","THE JAMES COOK UNIVERSITY HOSPITAL","JC26 (Ward 26)"]
["RTRAT-JC27 Neuro","RTR","SOUTH TEES HOSPITALS NHS FOUNDATION TRUST","RTRAT","THE JAMES COOK UNIVERSITY HOSPITAL","JC27 Neuro"]
["RTRAT-JC28 (Ward 28)","RTR","SOUTH TEES HOSPITALS NHS FOUNDATION TRUST","RTRAT","THE JAMES COOK UNIVERSITY HOSPITAL","JC28 (Ward 28)"]
[{"$f":"CONCATENATE(D4333,\"-\",F4333)","v":"RTRAT-JC29 (Ward 29)"},"RTR","SOUTH TEES HOSPITALS NHS FOUNDATION TRUST","RTRAT","THE JAMES COOK UNIVERSITY HOSPITAL","JC29 (Ward 29)"]
["RTRAT-JC31 Vas","RTR","SOUTH TEES HOSPITALS NHS FOUNDATION TRUST","RTRAT","THE JAMES COOK UNIVERSITY HOSPITAL","JC31 Vas"]
["RTRAT-JC33 Specialty (merger of ward 18 and ward 27)","RTR","SOUTH TEES HOSPITALS NHS FOUNDATION TRUST","RTRAT","THE JAMES COOK UNIVERSITY HOSPITAL","JC33 Specialty (merger of ward 18 and ward 27)"]
["RTRAT-JC34 (Ward 34)","RTR","SOUTH TEES HOSPITALS NHS FOUNDATION TRUST","RTRAT","THE JAMES COOK UNIVERSITY HOSPITAL","JC34 (Ward 34)"]
["RTRAT-JC35 (Ward 35)","RTR","SOUTH TEES HOSPITALS NHS FOUNDATION TRUST","RTRAT","THE JAMES COOK UNIVERSITY HOSPITAL","JC35 (Ward 35)"]
["RTRAT-JC36 Trauma","RTR","SOUTH TEES HOSPITALS NHS FOUNDATION TRUST","RTRAT","THE JAMES COOK UNIVERSITY HOSPITAL","JC36 Trauma"]
["RTRAT-JCCT (Ward 32)","RTR","SOUTH TEES HOSPITALS NHS FOUNDATION TRUST","RTRAT","THE JAMES COOK UNIVERSITY HOSPITAL","JCCT (Ward 32)"]
["RTRAT-JCDS (Central Delivery Suite)","RTR","SOUTH TEES HOSPITALS NHS FOUNDATION TRUST","RTRAT","THE JAMES COOK UNIVERSITY HOSPITAL","JCDS (Central Delivery Suite)"]
["RTRAT-Neonatal Unit","RTR","SOUTH TEES HOSPITALS NHS FOUNDATION TRUST","RTRAT","THE JAMES COOK UNIVERSITY HOSPITAL","Neonatal Unit"]
["RTRAT-OPM (Older Persons Medicine)","RTR","SOUTH TEES HOSPITALS NHS FOUNDATION TRUST","RTRAT","THE JAMES COOK UNIVERSITY HOSPITAL","OPM (Older Persons Medicine)"]
["RTRAT-Paediatric Intensive Care Unit (PICU)","RTR","SOUTH TEES HOSPITALS NHS FOUNDATION TRUST","RTRAT","THE JAMES COOK UNIVERSITY HOSPITAL","Paediatric Intensive Care Unit (PICU)"]
["RTRAT-RAFAU","RTR","SOUTH TEES HOSPITALS NHS FOUNDATION TRUST","RTRAT","THE JAMES COOK UNIVERSITY HOSPITAL","RAFAU"]
["RTRAT-Short Stay (JC02)","RTR","SOUTH TEES HOSPITALS NHS FOUNDATION TRUST","RTRAT","THE JAMES COOK UNIVERSITY HOSPITAL","Short Stay (JC02)"]
["RTRAT-Spinal Injuries","RTR","SOUTH TEES HOSPITALS NHS FOUNDATION TRUST","RTRAT","THE JAMES COOK UNIVERSITY HOSPITAL","Spinal Injuries"]
["RTRAT-Ward 17 JCUH","RTR","SOUTH TEES HOSPITALS NHS FOUNDATION TRUST","RTRAT","THE JAMES COOK UNIVERSITY HOSPITAL","Ward 17 JCUH"]
["RTRAT-Ward 19 Ante Natal","RTR","SOUTH TEES HOSPITALS NHS FOUNDATION TRUST","RTRAT","THE JAMES COOK UNIVERSITY HOSPITAL","Ward 19 Ante Natal"]
["RTRAT-Ward 3","RTR","SOUTH TEES HOSPITALS NHS FOUNDATION TRUST","RTRAT","THE JAMES COOK UNIVERSITY HOSPITAL","Ward 3"]
["RTRAT-Ward 5 Surgery","RTR","SOUTH TEES HOSPITALS NHS FOUNDATION TRUST","RTRAT","THE JAMES COOK UNIVERSITY HOSPITAL","Ward 5 Surgery"]
["RTRAT-Ward 5 Surgery","RTR","SOUTH TEES HOSPITALS NHS FOUNDATION TRUST","RTRAT","THE JAMES COOK UNIVERSITY HOSPITAL","Ward 5 Surgery"]
["RTRAT-Ward 7 Colo","RTR","SOUTH TEES HOSPITALS NHS FOUNDATION TRUST","RTRAT","THE JAMES COOK UNIVERSITY HOSPITAL","Ward 7 Colo"]
["RTRAT-Ward 8","RTR","SOUTH TEES HOSPITALS NHS FOUNDATION TRUST","RTRAT","THE JAMES COOK UNIVERSITY HOSPITAL","Ward 8"]
["RTV2A-Bridge","RTV","NORTH WEST BOROUGHS HEALTHCARE NHS FOUNDATION TRUST","RTV2A","BROOKER CENTRE","Bridge"]
["RTV2A-Weaver","RTV","NORTH WEST BOROUGHS HEALTHCARE NHS FOUNDATION TRUST","RTV2A","BROOKER CENTRE","Weaver"]
["RTV2M-Golborne","RTV","NORTH WEST BOROUGHS HEALTHCARE NHS FOUNDATION TRUST","RTV2M","ATHERLEIGH PARK","Golborne"]
["RTV2M-Parsonage","RTV","NORTH WEST BOROUGHS HEALTHCARE NHS FOUNDATION TRUST","RTV2M","ATHERLEIGH PARK","Parsonage"]
["RTV2M-Priestners","RTV","NORTH WEST BOROUGHS HEALTHCARE NHS FOUNDATION TRUST","RTV2M","ATHERLEIGH PARK","Priestners"]
["RTV2M-Sovereign","RTV","NORTH WEST BOROUGHS HEALTHCARE NHS FOUNDATION TRUST","RTV2M","ATHERLEIGH PARK","Sovereign"]
["RTV2M-Westleigh","RTV","NORTH WEST BOROUGHS HEALTHCARE NHS FOUNDATION TRUST","RTV2M","ATHERLEIGH PARK","Westleigh"]
["RTV33-Austen","RTV","NORTH WEST BOROUGHS HEALTHCARE NHS FOUNDATION TRUST","RTV33","HOLLINS PARK","Austen"]
["RTV33-Byron","RTV","NORTH WEST BOROUGHS HEALTHCARE NHS FOUNDATION TRUST","RTV33","HOLLINS PARK","Byron"]
["RTV33-Chesterton","RTV","NORTH WEST BOROUGHS HEALTHCARE NHS FOUNDATION TRUST","RTV33","HOLLINS PARK","Chesterton"]
["RTV33-Kingsley","RTV","NORTH WEST BOROUGHS HEALTHCARE NHS FOUNDATION TRUST","RTV33","HOLLINS PARK","Kingsley"]
["RTV33-Marlowe","RTV","NORTH WEST BOROUGHS HEALTHCARE NHS FOUNDATION TRUST","RTV33","HOLLINS PARK","Marlowe"]
["RTV33-Sheridan","RTV","NORTH WEST BOROUGHS HEALTHCARE NHS FOUNDATION TRUST","RTV33","HOLLINS PARK","Sheridan"]
["RTV33-Tennyson","RTV","NORTH WEST BOROUGHS HEALTHCARE NHS FOUNDATION TRUST","RTV33","HOLLINS PARK","Tennyson"]
["RTV68-Iris","RTV","NORTH WEST BOROUGHS HEALTHCARE NHS FOUNDATION TRUST","RTV68","ST HELENS HOPE AND RECOVERY CENTRE","Iris"]
["RTV68-Taylor","RTV","NORTH WEST BOROUGHS HEALTHCARE NHS FOUNDATION TRUST","RTV68","ST HELENS HOPE AND RECOVERY CENTRE","Taylor"]
["RTVA6-Coniston","RTV","NORTH WEST BOROUGHS HEALTHCARE NHS FOUNDATION TRUST","RTVA6","WHISTON HOSPITAL","Coniston"]
["RTVA6-Grasmere","RTV","NORTH WEST BOROUGHS HEALTHCARE NHS FOUNDATION TRUST","RTVA6","WHISTON HOSPITAL","Grasmere"]
["RTVA6-Rydal","RTV","NORTH WEST BOROUGHS HEALTHCARE NHS FOUNDATION TRUST","RTVA6","WHISTON HOSPITAL","Rydal"]
["RTX02-RLI Acute Frailty Unit","RTX","UNIVERSITY HOSPITALS OF MORECAMBE BAY NHS FOUNDATION TRUST","RTX02","ROYAL LANCASTER INFIRMARY","RLI Acute Frailty Unit"]
["RTX02-RLI Acute Medical Unit","RTX","UNIVERSITY HOSPITALS OF MORECAMBE BAY NHS FOUNDATION TRUST","RTX02","ROYAL LANCASTER INFIRMARY","RLI Acute Medical Unit"]
["RTX02-RLI Acute Stroke Unit (Huggett Suite) - 132051","RTX","UNIVERSITY HOSPITALS OF MORECAMBE BAY NHS FOUNDATION TRUST","RTX02","ROYAL LANCASTER INFIRMARY","RLI Acute Stroke Unit (Huggett Suite) - 132051"]
["RTX02-RLI CCU - Acute Medical Dept","RTX","UNIVERSITY HOSPITALS OF MORECAMBE BAY NHS FOUNDATION TRUST","RTX02","ROYAL LANCASTER INFIRMARY","RLI CCU - Acute Medical Dept"]
["RTX02-RLI CDS/Wd17/DAU","RTX","UNIVERSITY HOSPITALS OF MORECAMBE BAY NHS FOUNDATION TRUST","RTX02","ROYAL LANCASTER INFIRMARY","RLI CDS/Wd17/DAU"]
["RTX02-RLI Lancaster Suite","RTX","UNIVERSITY HOSPITALS OF MORECAMBE BAY NHS FOUNDATION TRUST","RTX02","ROYAL LANCASTER INFIRMARY","RLI Lancaster Suite"]
["RTX02-RLI NNU Dept","RTX","UNIVERSITY HOSPITALS OF MORECAMBE BAY NHS FOUNDATION TRUST","RTX02","ROYAL LANCASTER INFIRMARY","RLI NNU Dept"]
["RTX02-RLI Paediatric Ward Dept","RTX","UNIVERSITY HOSPITALS OF MORECAMBE BAY NHS FOUNDATION TRUST","RTX02","ROYAL LANCASTER INFIRMARY","RLI Paediatric Ward Dept"]
["RTX02-RLI SAU / Ward 30","RTX","UNIVERSITY HOSPITALS OF MORECAMBE BAY NHS FOUNDATION TRUST","RTX02","ROYAL LANCASTER INFIRMARY","RLI SAU / Ward 30"]
["RTX02-RLI Ward 16","RTX","UNIVERSITY HOSPITALS OF MORECAMBE BAY NHS FOUNDATION TRUST","RTX02","ROYAL LANCASTER INFIRMARY","RLI Ward 16"]
["RTX02-RLI Ward 20 - Acute Elderly Dept","RTX","UNIVERSITY HOSPITALS OF MORECAMBE BAY NHS FOUNDATION TRUST","RTX02","ROYAL LANCASTER INFIRMARY","RLI Ward 20 - Acute Elderly Dept"]
["RTX02-RLI Ward 22 - Rehab Dept","RTX","UNIVERSITY HOSPITALS OF MORECAMBE BAY NHS FOUNDATION TRUST","RTX02","ROYAL LANCASTER INFIRMARY","RLI Ward 22 - Rehab Dept"]
["RTX02-RLI Ward 23 - Stroke Unit","RTX","UNIVERSITY HOSPITALS OF MORECAMBE BAY NHS FOUNDATION TRUST","RTX02","ROYAL LANCASTER INFIRMARY","RLI Ward 23 - Stroke Unit"]
["RTX02-RLI Ward 33 - Vascular & General Surgery","RTX","UNIVERSITY HOSPITALS OF MORECAMBE BAY NHS FOUNDATION TRUST","RTX02","ROYAL LANCASTER INFIRMARY","RLI Ward 33 - Vascular & General Surgery"]
["RTX02-RLI Ward 34 - Surgery Dept","RTX","UNIVERSITY HOSPITALS OF MORECAMBE BAY NHS FOUNDATION TRUST","RTX02","ROYAL LANCASTER INFIRMARY","RLI Ward 34 - Surgery Dept"]
["RTX02-RLI Ward 35 - Orthopaedics Dept","RTX","UNIVERSITY HOSPITALS OF MORECAMBE BAY NHS FOUNDATION TRUST","RTX02","ROYAL LANCASTER INFIRMARY","RLI Ward 35 - Orthopaedics Dept"]
["RTX02-RLI Ward 36","RTX","UNIVERSITY HOSPITALS OF MORECAMBE BAY NHS FOUNDATION TRUST","RTX02","ROYAL LANCASTER INFIRMARY","RLI Ward 36"]
["RTX02-RLI Ward 37","RTX","UNIVERSITY HOSPITALS OF MORECAMBE BAY NHS FOUNDATION TRUST","RTX02","ROYAL LANCASTER INFIRMARY","RLI Ward 37"]
["RTX02-RLI Ward 38 - ITU Dept","RTX","UNIVERSITY HOSPITALS OF MORECAMBE BAY NHS FOUNDATION TRUST","RTX02","ROYAL LANCASTER INFIRMARY","RLI Ward 38 - ITU Dept"]
["RTXBU-Abbey View","RTX","UNIVERSITY HOSPITALS OF MORECAMBE BAY NHS FOUNDATION TRUST","RTXBU","FURNESS GENERAL HOSPITAL","Abbey View"]
["RTXBU-FGH Childrens Ward Dept","RTX","UNIVERSITY HOSPITALS OF MORECAMBE BAY NHS FOUNDATION TRUST","RTXBU","FURNESS GENERAL HOSPITAL","FGH Childrens Ward Dept"]
["RTXBU-FGH Complex and Coronary Care Unit","RTX","UNIVERSITY HOSPITALS OF MORECAMBE BAY NHS FOUNDATION TRUST","RTXBU","FURNESS GENERAL HOSPITAL","FGH Complex and Coronary Care Unit"]
["RTXBU-FGH Day Unit Dept","RTX","UNIVERSITY HOSPITALS OF MORECAMBE BAY NHS FOUNDATION TRUST","RTXBU","FURNESS GENERAL HOSPITAL","FGH Day Unit Dept"]
["RTXBU-FGH Intensive Therapy Unit Dept","RTX","UNIVERSITY HOSPITALS OF MORECAMBE BAY NHS FOUNDATION TRUST","RTXBU","FURNESS GENERAL HOSPITAL","FGH Intensive Therapy Unit Dept"]
[{"$f":"CONCATENATE(D4397,\"-\",F4397)","v":"RTXBU-FGH MAU Dept"},"RTX","UNIVERSITY HOSPITALS OF MORECAMBE BAY NHS FOUNDATION TRUST","RTXBU","FURNESS GENERAL HOSPITAL","FGH MAU Dept"]
["RTXBU-FGH Patient Progression Unit Dept","RTX","UNIVERSITY HOSPITALS OF MORECAMBE BAY NHS FOUNDATION TRUST","RTXBU","FURNESS GENERAL HOSPITAL","FGH Patient Progression Unit Dept"]
["RTXBU-FGH SCBU Dept","RTX","UNIVERSITY HOSPITALS OF MORECAMBE BAY NHS FOUNDATION TRUST","RTXBU","FURNESS GENERAL HOSPITAL","FGH SCBU Dept"]
["RTXBU-FGH South Lakes Birth Centre","RTX","UNIVERSITY HOSPITALS OF MORECAMBE BAY NHS FOUNDATION TRUST","RTXBU","FURNESS GENERAL HOSPITAL","FGH South Lakes Birth Centre"]
["RTXBU-FGH Ward 1 Dept","RTX","UNIVERSITY HOSPITALS OF MORECAMBE BAY NHS FOUNDATION TRUST","RTXBU","FURNESS GENERAL HOSPITAL","FGH Ward 1 Dept"]
["RTXBU-FGH Ward 2 Dept","RTX","UNIVERSITY HOSPITALS OF MORECAMBE BAY NHS FOUNDATION TRUST","RTXBU","FURNESS GENERAL HOSPITAL","FGH Ward 2 Dept"]
["RTXBU-FGH Ward 4 Dept","RTX","UNIVERSITY HOSPITALS OF MORECAMBE BAY NHS FOUNDATION TRUST","RTXBU","FURNESS GENERAL HOSPITAL","FGH Ward 4 Dept"]
["RTXBU-FGH Ward 5 Dept","RTX","UNIVERSITY HOSPITALS OF MORECAMBE BAY NHS FOUNDATION TRUST","RTXBU","FURNESS GENERAL HOSPITAL","FGH Ward 5 Dept"]
["RTXBU-FGH Ward 6 Dept","RTX","UNIVERSITY HOSPITALS OF MORECAMBE BAY NHS FOUNDATION TRUST","RTXBU","FURNESS GENERAL HOSPITAL","FGH Ward 6 Dept"]
["RTXBU-FGH Ward 7 Dept","RTX","UNIVERSITY HOSPITALS OF MORECAMBE BAY NHS FOUNDATION TRUST","RTXBU","FURNESS GENERAL HOSPITAL","FGH Ward 7 Dept"]
["RTXBU-FGH Ward 9 Dept","RTX","UNIVERSITY HOSPITALS OF MORECAMBE BAY NHS FOUNDATION TRUST","RTXBU","FURNESS GENERAL HOSPITAL","FGH Ward 9 Dept"]
["RTXBU-Furness & S. Lakes Orthopaedic Unit","RTX","UNIVERSITY HOSPITALS OF MORECAMBE BAY NHS FOUNDATION TRUST","RTXBU","FURNESS GENERAL HOSPITAL","Furness & S. Lakes Orthopaedic Unit"]
["RTXBW-Langdale North SUSD Unit","RTX","UNIVERSITY HOSPITALS OF MORECAMBE BAY NHS FOUNDATION TRUST","RTXBW","WESTMORLAND GENERAL HOSPITAL","Langdale North SUSD Unit"]
["RTXBW-Langdale South SUSD Unit","RTX","UNIVERSITY HOSPITALS OF MORECAMBE BAY NHS FOUNDATION TRUST","RTXBW","WESTMORLAND GENERAL HOSPITAL","Langdale South SUSD Unit"]
["RTXBW-WGH Surgical Inpatients (Ward 7)","RTX","UNIVERSITY HOSPITALS OF MORECAMBE BAY NHS FOUNDATION TRUST","RTXBW","WESTMORLAND GENERAL HOSPITAL","WGH Surgical Inpatients (Ward 7)"]
["RTXBW-WGH Ward 2","RTX","UNIVERSITY HOSPITALS OF MORECAMBE BAY NHS FOUNDATION TRUST","RTXBW","WESTMORLAND GENERAL HOSPITAL","WGH Ward 2"]
["RTXKM-Millom Hospital Ward","RTX","UNIVERSITY HOSPITALS OF MORECAMBE BAY NHS FOUNDATION TRUST","RTXKM","MILLOM HOSPITAL","Millom Hospital Ward"]
["RV305-Carlton House","RV3","CENTRAL AND NORTH WEST LONDON NHS FOUNDATION TRUST","RV305","  KINGSBURY CHILD & FAMILY CENTRE","Carlton House"]
["RV305-Kenton Haven","RV3","CENTRAL AND NORTH WEST LONDON NHS FOUNDATION TRUST","RV305","  KINGSBURY CHILD & FAMILY CENTRE","Kenton Haven"]
["RV305-Preston House","RV3","CENTRAL AND NORTH WEST LONDON NHS FOUNDATION TRUST","RV305","  KINGSBURY CHILD & FAMILY CENTRE","Preston House"]
["RV312-Caspian Ward","RV3","CENTRAL AND NORTH WEST LONDON NHS FOUNDATION TRUST","RV312","  PARK ROYAL CENTRE FOR MENTAL HEALTH","Caspian Ward"]
["RV312-Colham Green","RV3","CENTRAL AND NORTH WEST LONDON NHS FOUNDATION TRUST","RV312","  PARK ROYAL CENTRE FOR MENTAL HEALTH","Colham Green"]
["RV312-Java Ward","RV3","CENTRAL AND NORTH WEST LONDON NHS FOUNDATION TRUST","RV312","  PARK ROYAL CENTRE FOR MENTAL HEALTH","Java Ward"]
["RV312-Pine Ward","RV3","CENTRAL AND NORTH WEST LONDON NHS FOUNDATION TRUST","RV312","  PARK ROYAL CENTRE FOR MENTAL HEALTH","Pine Ward"]
["RV312-Pond Ward","RV3","CENTRAL AND NORTH WEST LONDON NHS FOUNDATION TRUST","RV312","  PARK ROYAL CENTRE FOR MENTAL HEALTH","Pond Ward"]
["RV312-Shore Ward","RV3","CENTRAL AND NORTH WEST LONDON NHS FOUNDATION TRUST","RV312","  PARK ROYAL CENTRE FOR MENTAL HEALTH","Shore Ward"]
["RV312-Tasman Ward","RV3","CENTRAL AND NORTH WEST LONDON NHS FOUNDATION TRUST","RV312","  PARK ROYAL CENTRE FOR MENTAL HEALTH","Tasman Ward"]
["RV314-Fairlight Avenue","RV3","CENTRAL AND NORTH WEST LONDON NHS FOUNDATION TRUST","RV314","FAIRLIGHT AVENUE COMMUNITY REHABILITATION UNIT","Fairlight Avenue"]
["RV320-Amazon Ward","RV3","CENTRAL AND NORTH WEST LONDON NHS FOUNDATION TRUST","RV320","ST CHARLES HOSPITAL","Amazon Ward"]
["RV320-Danube Ward","RV3","CENTRAL AND NORTH WEST LONDON NHS FOUNDATION TRUST","RV320","ST CHARLES HOSPITAL","Danube Ward"]
["RV320-Ganges Ward","RV3","CENTRAL AND NORTH WEST LONDON NHS FOUNDATION TRUST","RV320","ST CHARLES HOSPITAL","Ganges Ward"]
["RV320-Kershaw Ward","RV3","CENTRAL AND NORTH WEST LONDON NHS FOUNDATION TRUST","RV320","ST CHARLES HOSPITAL","Kershaw Ward"]
["RV320-Nile Ward","RV3","CENTRAL AND NORTH WEST LONDON NHS FOUNDATION TRUST","RV320","ST CHARLES HOSPITAL","Nile Ward"]
["RV320-Redwood Ward","RV3","CENTRAL AND NORTH WEST LONDON NHS FOUNDATION TRUST","RV320","ST CHARLES HOSPITAL","Redwood Ward"]
["RV320-Shannon Ward","RV3","CENTRAL AND NORTH WEST LONDON NHS FOUNDATION TRUST","RV320","ST CHARLES HOSPITAL","Shannon Ward"]
["RV320-Thames Ward","RV3","CENTRAL AND NORTH WEST LONDON NHS FOUNDATION TRUST","RV320","ST CHARLES HOSPITAL","Thames Ward"]
["RV329-Beatrice Place","RV3","CENTRAL AND NORTH WEST LONDON NHS FOUNDATION TRUST","RV329","  3 BEATRICE PLACE","Beatrice Place"]
["RV331-Vincent Square Clinic","RV3","CENTRAL AND NORTH WEST LONDON NHS FOUNDATION TRUST","RV331","CHELSEA & WESTMINSTER HOSPITAL","Vincent Square Clinic"]
["RV346-Ebury Ward","RV3","CENTRAL AND NORTH WEST LONDON NHS FOUNDATION TRUST","RV346","THE GORDON HOSPITAL","Ebury Ward"]
["RV346-Gerrard Ward","RV3","CENTRAL AND NORTH WEST LONDON NHS FOUNDATION TRUST","RV346","THE GORDON HOSPITAL","Gerrard Ward"]
["RV346-Vincent Ward","RV3","CENTRAL AND NORTH WEST LONDON NHS FOUNDATION TRUST","RV346","THE GORDON HOSPITAL","Vincent Ward"]
["RV351-Ascot Villa","RV3","CENTRAL AND NORTH WEST LONDON NHS FOUNDATION TRUST","RV351","HORTON HAVEN","Ascot Villa"]
["RV351-Birch Villa","RV3","CENTRAL AND NORTH WEST LONDON NHS FOUNDATION TRUST","RV351","HORTON HAVEN","Birch Villa"]
["RV351-Rushett House","RV3","CENTRAL AND NORTH WEST LONDON NHS FOUNDATION TRUST","RV351","HORTON HAVEN","Rushett House"]
["RV351-Westfield House","RV3","CENTRAL AND NORTH WEST LONDON NHS FOUNDATION TRUST","RV351","HORTON HAVEN","Westfield House"]
["RV355-Roxbourne Lodge","RV3","CENTRAL AND NORTH WEST LONDON NHS FOUNDATION TRUST","RV355","ROXBOURNE HOSPITAL","Roxbourne Lodge"]
["RV357-Rosedale Court","RV3","CENTRAL AND NORTH WEST LONDON NHS FOUNDATION TRUST","RV357","  ROSEDALE COURT","Rosedale Court"]
["RV383-Eastlake Ward","RV3","CENTRAL AND NORTH WEST LONDON NHS FOUNDATION TRUST","RV383","NORTHWICK PARK HOSPITAL","Eastlake Ward"]
["RV383-Ellington Ward","RV3","CENTRAL AND NORTH WEST LONDON NHS FOUNDATION TRUST","RV383","NORTHWICK PARK HOSPITAL","Ellington Ward"]
["RV383-Ferneley Ward","RV3","CENTRAL AND NORTH WEST LONDON NHS FOUNDATION TRUST","RV383","NORTHWICK PARK HOSPITAL","Ferneley Ward"]
["RV396-Bluebell Lodge","RV3","CENTRAL AND NORTH WEST LONDON NHS FOUNDATION TRUST","RV396","  7A WOODFIELD ROAD","Bluebell Lodge"]
["RV3AN-Colne Ward","RV3","CENTRAL AND NORTH WEST LONDON NHS FOUNDATION TRUST","RV3AN","HILLINGDON HOSPITAL","Colne Ward"]
["RV3AN-Crane Ward","RV3","CENTRAL AND NORTH WEST LONDON NHS FOUNDATION TRUST","RV3AN","HILLINGDON HOSPITAL","Crane Ward"]
["RV3AN-Frays Ward","RV3","CENTRAL AND NORTH WEST LONDON NHS FOUNDATION TRUST","RV3AN","HILLINGDON HOSPITAL","Frays Ward"]
["RV3AN-Hawthorne Int. Care","RV3","CENTRAL AND NORTH WEST LONDON NHS FOUNDATION TRUST","RV3AN","HILLINGDON HOSPITAL","Hawthorne Int. Care"]
["RV3AN-Oak Tree Ward","RV3","CENTRAL AND NORTH WEST LONDON NHS FOUNDATION TRUST","RV3AN","HILLINGDON HOSPITAL","Oak Tree Ward"]
["RV3DY-Oakwood Ward","RV3","CENTRAL AND NORTH WEST LONDON NHS FOUNDATION TRUST","RV3DY","ST PANCRAS HOSPITAL","Oakwood Ward"]
["RV3DY-Rochester East","RV3","CENTRAL AND NORTH WEST LONDON NHS FOUNDATION TRUST","RV3DY","ST PANCRAS HOSPITAL","Rochester East"]
["RV3DY-Rochester West","RV3","CENTRAL AND NORTH WEST LONDON NHS FOUNDATION TRUST","RV3DY","ST PANCRAS HOSPITAL","Rochester West"]
["RV3HA-Topas","RV3","CENTRAL AND NORTH WEST LONDON NHS FOUNDATION TRUST","RV3HA","TOPAS","Topas"]
["RV3HD-Hazel Ward","RV3","CENTRAL AND NORTH WEST LONDON NHS FOUNDATION TRUST","RV3HD","  THE CAMPBELL CENTRE","Hazel Ward"]
["RV3HD-Willow Ward","RV3","CENTRAL AND NORTH WEST LONDON NHS FOUNDATION TRUST","RV3HD","  THE CAMPBELL CENTRE","Willow Ward"]
["RV3HE-Windsor ICU","RV3","CENTRAL AND NORTH WEST LONDON NHS FOUNDATION TRUST","RV3HE","WINDSOR INTERMEDIATE CARE UNIT (WICU)","Windsor ICU"]
["RV3J2-Collingham Gardens","RV3","CENTRAL AND NORTH WEST LONDON NHS FOUNDATION TRUST","RV3J2","CHILD & ADOLESCENT PSYCHIATRY","Collingham Gardens"]
[{"$f":"CONCATENATE(D4461,\"-\",F4461)","v":"RV3J2-Coombe Wood"},"RV3","CENTRAL AND NORTH WEST LONDON NHS FOUNDATION TRUST","RV3J2","CHILD & ADOLESCENT PSYCHIATRY","Coombe Wood"]
["RV3JF-Cherrywood","RV3","CENTRAL AND NORTH WEST LONDON NHS FOUNDATION TRUST","RV3JF","  OAKWOOD HOUSE","Cherrywood"]
["RV502-Eden Ward","RV5","SOUTH LONDON AND MAUDSLEY NHS FOUNDATION TRUST","RV502","The Lambeth Hospital","Eden Ward"]
["RV502-Lambeth Early Onset Ward (LEO)","RV5","SOUTH LONDON AND MAUDSLEY NHS FOUNDATION TRUST","RV502","The Lambeth Hospital","Lambeth Early Onset Ward (LEO)"]
["RV502-Luther King Ward","RV5","SOUTH LONDON AND MAUDSLEY NHS FOUNDATION TRUST","RV502","The Lambeth Hospital","Luther King Ward"]
["RV502-Nelson Ward","RV5","SOUTH LONDON AND MAUDSLEY NHS FOUNDATION TRUST","RV502","The Lambeth Hospital","Nelson Ward"]
["RV502-Rosa Parks Ward","RV5","SOUTH LONDON AND MAUDSLEY NHS FOUNDATION TRUST","RV502","The Lambeth Hospital","Rosa Parks Ward"]
["RV502-Tony Hillis Unit","RV5","SOUTH LONDON AND MAUDSLEY NHS FOUNDATION TRUST","RV502","The Lambeth Hospital","Tony Hillis Unit"]
["RV502-Ward in the Community (WiC)","RV5","SOUTH LONDON AND MAUDSLEY NHS FOUNDATION TRUST","RV502","The Lambeth Hospital","Ward in the Community (WiC)"]
["RV504-Aubrey Lewis 1 Ward (AL1)","RV5","SOUTH LONDON AND MAUDSLEY NHS FOUNDATION TRUST","RV504","Maudsley Hospital","Aubrey Lewis 1 Ward (AL1)"]
["RV504-Aubrey Lewis 3 Ward (AL3)","RV5","SOUTH LONDON AND MAUDSLEY NHS FOUNDATION TRUST","RV504","Maudsley Hospital","Aubrey Lewis 3 Ward (AL3)"]
["RV504-Eileen Skellern 1 Ward (ES1)","RV5","SOUTH LONDON AND MAUDSLEY NHS FOUNDATION TRUST","RV504","Maudsley Hospital","Eileen Skellern 1 Ward (ES1)"]
["RV504-Eileen Skellern 2 Ward (ES2)","RV5","SOUTH LONDON AND MAUDSLEY NHS FOUNDATION TRUST","RV504","Maudsley Hospital","Eileen Skellern 2 Ward (ES2)"]
["RV504-John Dickson Ward","RV5","SOUTH LONDON AND MAUDSLEY NHS FOUNDATION TRUST","RV504","Maudsley Hospital","John Dickson Ward"]
["RV504-Ruskin Ward","RV5","SOUTH LONDON AND MAUDSLEY NHS FOUNDATION TRUST","RV504","Maudsley Hospital","Ruskin Ward"]
["RV504-Snowsfields Adolescent Unit","RV5","SOUTH LONDON AND MAUDSLEY NHS FOUNDATION TRUST","RV504","Maudsley Hospital","Snowsfields Adolescent Unit"]
["RV505-Acorn Lodge Children's Unit","RV5","SOUTH LONDON AND MAUDSLEY NHS FOUNDATION TRUST","RV505","Bethlem Royal Hospital","Acorn Lodge Children's Unit"]
["RV505-Bethlem Adolescent PICU","RV5","SOUTH LONDON AND MAUDSLEY NHS FOUNDATION TRUST","RV505","Bethlem Royal Hospital","Bethlem Adolescent PICU"]
["RV505-Bethlem Adolescent Unit (BAU)","RV5","SOUTH LONDON AND MAUDSLEY NHS FOUNDATION TRUST","RV505","Bethlem Royal Hospital","Bethlem Adolescent Unit (BAU)"]
["RV505-Brook Ward","RV5","SOUTH LONDON AND MAUDSLEY NHS FOUNDATION TRUST","RV505","Bethlem Royal Hospital","Brook Ward"]
["RV505-Chaffinch Ward","RV5","SOUTH LONDON AND MAUDSLEY NHS FOUNDATION TRUST","RV505","Bethlem Royal Hospital","Chaffinch Ward"]
["RV505-Chelsham House","RV5","SOUTH LONDON AND MAUDSLEY NHS FOUNDATION TRUST","RV505","Bethlem Royal Hospital","Chelsham House"]
["RV505-Croydon PICU","RV5","SOUTH LONDON AND MAUDSLEY NHS FOUNDATION TRUST","RV505","Bethlem Royal Hospital","Croydon PICU"]
["RV505-Eating Disorders Unit (EDU)","RV5","SOUTH LONDON AND MAUDSLEY NHS FOUNDATION TRUST","RV505","Bethlem Royal Hospital","Eating Disorders Unit (EDU)"]
["RV505-Effra Ward","RV5","SOUTH LONDON AND MAUDSLEY NHS FOUNDATION TRUST","RV505","Bethlem Royal Hospital","Effra Ward"]
["RV505-Fitzmary 1 (FM1)","RV5","SOUTH LONDON AND MAUDSLEY NHS FOUNDATION TRUST","RV505","Bethlem Royal Hospital","Fitzmary 1 (FM1)"]
["RV505-Gresham 1 Ward","RV5","SOUTH LONDON AND MAUDSLEY NHS FOUNDATION TRUST","RV505","Bethlem Royal Hospital","Gresham 1 Ward"]
["RV505-Gresham 2 Ward","RV5","SOUTH LONDON AND MAUDSLEY NHS FOUNDATION TRUST","RV505","Bethlem Royal Hospital","Gresham 2 Ward"]
["RV505-Lishman Unit","RV5","SOUTH LONDON AND MAUDSLEY NHS FOUNDATION TRUST","RV505","Bethlem Royal Hospital","Lishman Unit"]
["RV505-Mother and Baby Unit (MBU)","RV5","SOUTH LONDON AND MAUDSLEY NHS FOUNDATION TRUST","RV505","Bethlem Royal Hospital","Mother and Baby Unit (MBU)"]
["RV505-National Autism Unit (NAU)","RV5","SOUTH LONDON AND MAUDSLEY NHS FOUNDATION TRUST","RV505","Bethlem Royal Hospital","National Autism Unit (NAU)"]
["RV505-National Psychosis Inpatient Ward (Fitzmary II)","RV5","SOUTH LONDON AND MAUDSLEY NHS FOUNDATION TRUST","RV505","Bethlem Royal Hospital","National Psychosis Inpatient Ward (Fitzmary II)"]
["RV505-Norbury Ward","RV5","SOUTH LONDON AND MAUDSLEY NHS FOUNDATION TRUST","RV505","Bethlem Royal Hospital","Norbury Ward"]
["RV505-Spring Ward","RV5","SOUTH LONDON AND MAUDSLEY NHS FOUNDATION TRUST","RV505","Bethlem Royal Hospital","Spring Ward"]
["RV505-Thames Ward","RV5","SOUTH LONDON AND MAUDSLEY NHS FOUNDATION TRUST","RV505","Bethlem Royal Hospital","Thames Ward"]
["RV505-Tyson West 1 Ward","RV5","SOUTH LONDON AND MAUDSLEY NHS FOUNDATION TRUST","RV505","Bethlem Royal Hospital","Tyson West 1 Ward"]
["RV505-Waddon Ward","RV5","SOUTH LONDON AND MAUDSLEY NHS FOUNDATION TRUST","RV505","Bethlem Royal Hospital","Waddon Ward"]
["RV505-Westways Rehabilitation Inpatient Ward","RV5","SOUTH LONDON AND MAUDSLEY NHS FOUNDATION TRUST","RV505","Bethlem Royal Hospital","Westways Rehabilitation Inpatient Ward"]
["RV509-Clare Ward","RV5","SOUTH LONDON AND MAUDSLEY NHS FOUNDATION TRUST","RV509","The Ladywell Unit","Clare Ward"]
["RV509-Hayworth Ward","RV5","SOUTH LONDON AND MAUDSLEY NHS FOUNDATION TRUST","RV509","The Ladywell Unit","Hayworth Ward"]
["RV509-Jim Birley Unit (JBU)","RV5","SOUTH LONDON AND MAUDSLEY NHS FOUNDATION TRUST","RV509","The Ladywell Unit","Jim Birley Unit (JBU)"]
["RV509-Johnson PICU","RV5","SOUTH LONDON AND MAUDSLEY NHS FOUNDATION TRUST","RV509","The Ladywell Unit","Johnson PICU"]
["RV509-Powell Ward","RV5","SOUTH LONDON AND MAUDSLEY NHS FOUNDATION TRUST","RV509","The Ladywell Unit","Powell Ward"]
["RV509-Virginia Woolf Ward","RV5","SOUTH LONDON AND MAUDSLEY NHS FOUNDATION TRUST","RV509","The Ladywell Unit","Virginia Woolf Ward"]
["RV509-Wharton Ward","RV5","SOUTH LONDON AND MAUDSLEY NHS FOUNDATION TRUST","RV509","The Ladywell Unit","Wharton Ward"]
["RV581-Heather Close Rehabilitation Inpatient Ward","RV5","SOUTH LONDON AND MAUDSLEY NHS FOUNDATION TRUST","RV581","LEWISHAM HEATHER CLOSE","Heather Close Rehabilitation Inpatient Ward"]
["RV5C5-Greenvale Specialist Care Unit","RV5","SOUTH LONDON AND MAUDSLEY NHS FOUNDATION TRUST","RV5C5","MHOA GREENVALE NURSING HOME","Greenvale Specialist Care Unit"]
["RV5FR-Kent and Medway Adolescent Unit (KMAU)","RV5","SOUTH LONDON AND MAUDSLEY NHS FOUNDATION TRUST","RV5FR","N&S CAMHS OAK ADOLESCENT UNIT","Kent and Medway Adolescent Unit (KMAU)"]
["RV5G0-Addison Ward","RV5","SOUTH LONDON AND MAUDSLEY NHS FOUNDATION TRUST","RV5G0","ADDISON WARD","Addison Ward"]
["RV915-Townend Court","RV9","HUMBER NHS FOUNDATION TRUST","RV915","TOWNEND COURT","Townend Court"]
["RV91T-Malton","RV9","HUMBER NHS FOUNDATION TRUST","RV91T","MALTON HOSPITAL","Malton"]
["RV91W-Whitby","RV9","HUMBER NHS FOUNDATION TRUST","RV91W","WHITBY HOSPITAL","Whitby"]
["RV929-Granville Court","RV9","HUMBER NHS FOUNDATION TRUST","RV929","GRANVILLE COURT NURSING HOME","Granville Court"]
["RV936-Humber Centre - Darley House","RV9","HUMBER NHS FOUNDATION TRUST","RV936","HUMBER CENTRE ","Humber Centre - Darley House"]
["RV936-Humber Centre - Derwent","RV9","HUMBER NHS FOUNDATION TRUST","RV936","HUMBER CENTRE ","Humber Centre - Derwent"]
["RV936-Humber Centre - Ouse","RV9","HUMBER NHS FOUNDATION TRUST","RV936","HUMBER CENTRE ","Humber Centre - Ouse"]
["RV936-Humber Centre - Swale","RV9","HUMBER NHS FOUNDATION TRUST","RV936","HUMBER CENTRE ","Humber Centre - Swale"]
["RV936-Humber Centre - Ullswater","RV9","HUMBER NHS FOUNDATION TRUST","RV936","HUMBER CENTRE ","Humber Centre - Ullswater"]
["RV938-Maister Lodge","RV9","HUMBER NHS FOUNDATION TRUST","RV938","MAISTER LODGE","Maister Lodge"]
["RV942-Mill View Court","RV9","HUMBER NHS FOUNDATION TRUST","RV942","MILL VIEW COURT","Mill View Court"]
["RV9AG-Hawthorne Court","RV9","HUMBER NHS FOUNDATION TRUST","RV9AG","HAWTHORNE CT IN-PATIENT 101720","Hawthorne Court"]
["RV9AH-Avondale","RV9","HUMBER NHS FOUNDATION TRUST","RV9AH","AVONDALE IN-PATIENT 101740","Avondale"]
["RV9AJ-Newbridges Residential Unit","RV9","HUMBER NHS FOUNDATION TRUST","RV9AJ","NEWBRIDGES IN-PATIENT 101742","Newbridges Residential Unit"]
["RV9AL-Westlands Unit","RV9","HUMBER NHS FOUNDATION TRUST","RV9AL","WESTLANDS IN-PATIENT 101741","Westlands Unit"]
[{"$f":"CONCATENATE(D4525,\"-\",F4525)","v":"RV9E2-Millview Lodge"},"RV9","HUMBER NHS FOUNDATION TRUST","RV9E2","MILL VIEW LODGE","Millview Lodge"]
["RV9GA-Miranda House - PICU","RV9","HUMBER NHS FOUNDATION TRUST","RV9GA","PICU IN-PATIENT 101773","Miranda House - PICU"]
["RVJ01-BBS_L0G31aMU","RVJ","NORTH BRISTOL NHS TRUST","RVJ01","SOUTHMEAD HOSPITAL","BBS_L0G31aMU"]
["RVJ01-BBS_L1G32a","RVJ","NORTH BRISTOL NHS TRUST","RVJ01","SOUTHMEAD HOSPITAL","BBS_L1G32a"]
["RVJ01-BBS_L1G32b","RVJ","NORTH BRISTOL NHS TRUST","RVJ01","SOUTHMEAD HOSPITAL","BBS_L1G32b"]
["RVJ01-BBS_L2G19","RVJ","NORTH BRISTOL NHS TRUST","RVJ01","SOUTHMEAD HOSPITAL","BBS_L2G19"]
["RVJ01-BBS_L2G25a","RVJ","NORTH BRISTOL NHS TRUST","RVJ01","SOUTHMEAD HOSPITAL","BBS_L2G25a"]
["RVJ01-BBS_L2G25b","RVJ","NORTH BRISTOL NHS TRUST","RVJ01","SOUTHMEAD HOSPITAL","BBS_L2G25b"]
["RVJ01-BBS_L2G33a","RVJ","NORTH BRISTOL NHS TRUST","RVJ01","SOUTHMEAD HOSPITAL","BBS_L2G33a"]
["RVJ01-BBS_L2G33b","RVJ","NORTH BRISTOL NHS TRUST","RVJ01","SOUTHMEAD HOSPITAL","BBS_L2G33b"]
["RVJ01-BBS_L2G37I","RVJ","NORTH BRISTOL NHS TRUST","RVJ01","SOUTHMEAD HOSPITAL","BBS_L2G37I"]
["RVJ01-BBS_L2G6b","RVJ","NORTH BRISTOL NHS TRUST","RVJ01","SOUTHMEAD HOSPITAL","BBS_L2G6b"]
["RVJ01-BBS_L3G26a","RVJ","NORTH BRISTOL NHS TRUST","RVJ01","SOUTHMEAD HOSPITAL","BBS_L3G26a"]
["RVJ01-BBS_L3G26b","RVJ","NORTH BRISTOL NHS TRUST","RVJ01","SOUTHMEAD HOSPITAL","BBS_L3G26b"]
["RVJ01-BBS_L3G34a","RVJ","NORTH BRISTOL NHS TRUST","RVJ01","SOUTHMEAD HOSPITAL","BBS_L3G34a"]
["RVJ01-BBS_L3G34b","RVJ","NORTH BRISTOL NHS TRUST","RVJ01","SOUTHMEAD HOSPITAL","BBS_L3G34b"]
["RVJ01-BBS_L3G7a","RVJ","NORTH BRISTOL NHS TRUST","RVJ01","SOUTHMEAD HOSPITAL","BBS_L3G7a"]
["RVJ01-BBS_L3G7b","RVJ","NORTH BRISTOL NHS TRUST","RVJ01","SOUTHMEAD HOSPITAL","BBS_L3G7b"]
["RVJ01-BBS_L4G27a","RVJ","NORTH BRISTOL NHS TRUST","RVJ01","SOUTHMEAD HOSPITAL","BBS_L4G27a"]
["RVJ01-BBS_L4G27b","RVJ","NORTH BRISTOL NHS TRUST","RVJ01","SOUTHMEAD HOSPITAL","BBS_L4G27b"]
["RVJ01-BBS_L4G8a","RVJ","NORTH BRISTOL NHS TRUST","RVJ01","SOUTHMEAD HOSPITAL","BBS_L4G8a"]
["RVJ01-BBS_L4G8b","RVJ","NORTH BRISTOL NHS TRUST","RVJ01","SOUTHMEAD HOSPITAL","BBS_L4G8b"]
["RVJ01-BBS_L5G28a","RVJ","NORTH BRISTOL NHS TRUST","RVJ01","SOUTHMEAD HOSPITAL","BBS_L5G28a"]
["RVJ01-BBS_L5G28b","RVJ","NORTH BRISTOL NHS TRUST","RVJ01","SOUTHMEAD HOSPITAL","BBS_L5G28b"]
["RVJ01-BBS_L5G9a","RVJ","NORTH BRISTOL NHS TRUST","RVJ01","SOUTHMEAD HOSPITAL","BBS_L5G9a"]
["RVJ01-BBS_L5G9b","RVJ","NORTH BRISTOL NHS TRUST","RVJ01","SOUTHMEAD HOSPITAL","BBS_L5G9b"]
["RVJ01-BBS_Medi","RVJ","NORTH BRISTOL NHS TRUST","RVJ01","SOUTHMEAD HOSPITAL","BBS_Medi"]
["RVJ01-MAT_CENDSU","RVJ","NORTH BRISTOL NHS TRUST","RVJ01","SOUTHMEAD HOSPITAL","MAT_CENDSU"]
["RVJ01-MAT_MENWAR","RVJ","NORTH BRISTOL NHS TRUST","RVJ01","SOUTHMEAD HOSPITAL","MAT_MENWAR"]
["RVJ01-MAT_NEOICU","RVJ","NORTH BRISTOL NHS TRUST","RVJ01","SOUTHMEAD HOSPITAL","MAT_NEOICU"]
["RVJ01-MAT_PERPWD","RVJ","NORTH BRISTOL NHS TRUST","RVJ01","SOUTHMEAD HOSPITAL","MAT_PERPWD"]
["RVJ01-MAT_QUANWD","RVJ","NORTH BRISTOL NHS TRUST","RVJ01","SOUTHMEAD HOSPITAL","MAT_QUANWD"]
["RVJ01-SMD_COTSWD","RVJ","NORTH BRISTOL NHS TRUST","RVJ01","SOUTHMEAD HOSPITAL","SMD_COTSWD"]
["RVJ01-SMD_ROSABC","RVJ","NORTH BRISTOL NHS TRUST","RVJ01","SOUTHMEAD HOSPITAL","SMD_ROSABC"]
["RVJ01-SMD_Wd1","RVJ","NORTH BRISTOL NHS TRUST","RVJ01","SOUTHMEAD HOSPITAL","SMD_Wd1"]
["RVJ01-SMD_Wd2","RVJ","NORTH BRISTOL NHS TRUST","RVJ01","SOUTHMEAD HOSPITAL","SMD_Wd2"]
["RVJ21-CSH_CSHBtS","RVJ","NORTH BRISTOL NHS TRUST","RVJ21","COSSHAM HOSPITAL","CSH_CSHBtS"]
["RVN2A-BANES Acute IP Sycamore","RVN","AVON AND WILTSHIRE MENTAL HEALTH PARTNERSHIP NHS TRUST","RVN2A","HILLVIEW LODGE ","BANES Acute IP Sycamore"]
["RVN2B-BANES LL IP Ward 4","RVN","AVON AND WILTSHIRE MENTAL HEALTH PARTNERSHIP NHS TRUST","RVN2B","ST MARTINS HOSPITAL (BATH)","BANES LL IP Ward 4"]
["RVN3N-Bristol Acute IP Oakwood","RVN","AVON AND WILTSHIRE MENTAL HEALTH PARTNERSHIP NHS TRUST","RVN3N","SOUTHMEAD HOSPITAL AWP","Bristol Acute IP Oakwood"]
["RVN3N-Specialised Mother and Baby IP Unit","RVN","AVON AND WILTSHIRE MENTAL HEALTH PARTNERSHIP NHS TRUST","RVN3N","SOUTHMEAD HOSPITAL AWP","Specialised Mother and Baby IP Unit"]
["RVN3Q-CAMHS Riverside Unit","RVN","AVON AND WILTSHIRE MENTAL HEALTH PARTNERSHIP NHS TRUST","RVN3Q","BLACKBERRY HILL HOSPITAL","CAMHS Riverside Unit"]
["RVN3Q-Secure Low Wickham IP Cromwell","RVN","AVON AND WILTSHIRE MENTAL HEALTH PARTNERSHIP NHS TRUST","RVN3Q","BLACKBERRY HILL HOSPITAL","Secure Low Wickham IP Cromwell"]
["RVN3Q-Secure Low Wickham IP Fairfax","RVN","AVON AND WILTSHIRE MENTAL HEALTH PARTNERSHIP NHS TRUST","RVN3Q","BLACKBERRY HILL HOSPITAL","Secure Low Wickham IP Fairfax"]
["RVN3Q-Secure Low Wickham IP Hopton","RVN","AVON AND WILTSHIRE MENTAL HEALTH PARTNERSHIP NHS TRUST","RVN3Q","BLACKBERRY HILL HOSPITAL","Secure Low Wickham IP Hopton"]
["RVN3Q-Secure Medium IP Bradley Brook","RVN","AVON AND WILTSHIRE MENTAL HEALTH PARTNERSHIP NHS TRUST","RVN3Q","BLACKBERRY HILL HOSPITAL","Secure Medium IP Bradley Brook"]
["RVN3Q-Secure Medium IP Cary","RVN","AVON AND WILTSHIRE MENTAL HEALTH PARTNERSHIP NHS TRUST","RVN3Q","BLACKBERRY HILL HOSPITAL","Secure Medium IP Cary"]
["RVN3Q-Secure Medium IP Kennet","RVN","AVON AND WILTSHIRE MENTAL HEALTH PARTNERSHIP NHS TRUST","RVN3Q","BLACKBERRY HILL HOSPITAL","Secure Medium IP Kennet"]
["RVN3Q-Secure Medium IP Ladden Brook","RVN","AVON AND WILTSHIRE MENTAL HEALTH PARTNERSHIP NHS TRUST","RVN3Q","BLACKBERRY HILL HOSPITAL","Secure Medium IP Ladden Brook"]
["RVN3Q-Secure Medium IP Severn","RVN","AVON AND WILTSHIRE MENTAL HEALTH PARTNERSHIP NHS TRUST","RVN3Q","BLACKBERRY HILL HOSPITAL","Secure Medium IP Severn"]
["RVN3Q-Secure Medium IP Teign","RVN","AVON AND WILTSHIRE MENTAL HEALTH PARTNERSHIP NHS TRUST","RVN3Q","BLACKBERRY HILL HOSPITAL","Secure Medium IP Teign"]
["RVN3Q-Secure Medium IP Wellow","RVN","AVON AND WILTSHIRE MENTAL HEALTH PARTNERSHIP NHS TRUST","RVN3Q","BLACKBERRY HILL HOSPITAL","Secure Medium IP Wellow"]
["RVN5J-S.Glos Rehab Whittucks Road","RVN","AVON AND WILTSHIRE MENTAL HEALTH PARTNERSHIP NHS TRUST","RVN5J","WHITTUCKS ROAD, HANHAM","S.Glos Rehab Whittucks Road"]
["RVN6A-Specialised LD IP Daisy","RVN","AVON AND WILTSHIRE MENTAL HEALTH PARTNERSHIP NHS TRUST","RVN6A","GREEN LANE HOSPITAL, DEVIZES","Specialised LD IP Daisy"]
["RVN6A-Wiltshire Acute IP Poppy","RVN","AVON AND WILTSHIRE MENTAL HEALTH PARTNERSHIP NHS TRUST","RVN6A","GREEN LANE HOSPITAL, DEVIZES","Wiltshire Acute IP Poppy"]
["RVN8A-Swindon Acute IP Applewood","RVN","AVON AND WILTSHIRE MENTAL HEALTH PARTNERSHIP NHS TRUST","RVN8A","SANDALWOOD COURT, SWINDON","Swindon Acute IP Applewood"]
["RVN8D-Swindon Rehab Windswept","RVN","AVON AND WILTSHIRE MENTAL HEALTH PARTNERSHIP NHS TRUST","RVN8D","WINDSWEPT","Swindon Rehab Windswept"]
["RVN9A-Wiltshire Acute IP Beechlydene","RVN","AVON AND WILTSHIRE MENTAL HEALTH PARTNERSHIP NHS TRUST","RVN9A","FOUNTAIN WAY, SALISBURY","Wiltshire Acute IP Beechlydene"]
["RVN9A-Wiltshire LL IP Amblescroft North","RVN","AVON AND WILTSHIRE MENTAL HEALTH PARTNERSHIP NHS TRUST","RVN9A","FOUNTAIN WAY, SALISBURY","Wiltshire LL IP Amblescroft North"]
["RVN9A-Wiltshire LL IP Amblescroft South","RVN","AVON AND WILTSHIRE MENTAL HEALTH PARTNERSHIP NHS TRUST","RVN9A","FOUNTAIN WAY, SALISBURY","Wiltshire LL IP Amblescroft South"]
["RVN9A-Wiltshire PICU Ashdown","RVN","AVON AND WILTSHIRE MENTAL HEALTH PARTNERSHIP NHS TRUST","RVN9A","FOUNTAIN WAY, SALISBURY","Wiltshire PICU Ashdown"]
["RVNCE-Swindon LL IP Hodson","RVN","AVON AND WILTSHIRE MENTAL HEALTH PARTNERSHIP NHS TRUST","RVNCE","VICTORIA CENTRE, SWINDON","Swindon LL IP Hodson"]
["RVNCE-Swindon LL IP Liddington","RVN","AVON AND WILTSHIRE MENTAL HEALTH PARTNERSHIP NHS TRUST","RVNCE","VICTORIA CENTRE, SWINDON","Swindon LL IP Liddington"]
["RVNEQ-Bristol Acute IP Lime","RVN","AVON AND WILTSHIRE MENTAL HEALTH PARTNERSHIP NHS TRUST","RVNEQ","CALLINGTON ROAD","Bristol Acute IP Lime"]
[{"$f":"CONCATENATE(D4589,\"-\",F4589)","v":"RVNEQ-Bristol Acute IP Silver Birch"},"RVN","AVON AND WILTSHIRE MENTAL HEALTH PARTNERSHIP NHS TRUST","RVNEQ","CALLINGTON ROAD","Bristol Acute IP Silver Birch"]
["RVNEQ-Bristol LL IP Aspen","RVN","AVON AND WILTSHIRE MENTAL HEALTH PARTNERSHIP NHS TRUST","RVNEQ","CALLINGTON ROAD","Bristol LL IP Aspen"]
["RVNEQ-Bristol PICU Elizabeth Casson","RVN","AVON AND WILTSHIRE MENTAL HEALTH PARTNERSHIP NHS TRUST","RVNEQ","CALLINGTON ROAD","Bristol PICU Elizabeth Casson"]
["RVNEQ-Bristol PICU Hazel","RVN","AVON AND WILTSHIRE MENTAL HEALTH PARTNERSHIP NHS TRUST","RVNEQ","CALLINGTON ROAD","Bristol PICU Hazel"]
["RVNEQ-Bristol Rehab Alder","RVN","AVON AND WILTSHIRE MENTAL HEALTH PARTNERSHIP NHS TRUST","RVNEQ","CALLINGTON ROAD","Bristol Rehab Alder"]
["RVNEQ-Bristol Rehab Larch","RVN","AVON AND WILTSHIRE MENTAL HEALTH PARTNERSHIP NHS TRUST","RVNEQ","CALLINGTON ROAD","Bristol Rehab Larch"]
["RVNP1-Specialised Eating Disorders IP Clifton","RVN","AVON AND WILTSHIRE MENTAL HEALTH PARTNERSHIP NHS TRUST","RVNP1","BRISTOL ADULT","Specialised Eating Disorders IP Clifton"]
["RVNP8-Specialised D&A Bristol IP Acer Unit","RVN","AVON AND WILTSHIRE MENTAL HEALTH PARTNERSHIP NHS TRUST","RVNP8","BRISTOL SDAS","Specialised D&A Bristol IP Acer Unit"]
["RVNT1-N.Som Acute IP Juniper","RVN","AVON AND WILTSHIRE MENTAL HEALTH PARTNERSHIP NHS TRUST","RVNT1","NORTH SOMERSET ADULT","N.Som Acute IP Juniper"]
["RVNT1-N.Som Rehab Elmham Way","RVN","AVON AND WILTSHIRE MENTAL HEALTH PARTNERSHIP NHS TRUST","RVNT1","NORTH SOMERSET ADULT","N.Som Rehab Elmham Way"]
["RVNT6-N.Som LL IP Cove","RVN","AVON AND WILTSHIRE MENTAL HEALTH PARTNERSHIP NHS TRUST","RVNT6","NORTH SOMERSET OLDER ADULT","N.Som LL IP Cove"]
["RVNT6-N.Som LL IP Dune","RVN","AVON AND WILTSHIRE MENTAL HEALTH PARTNERSHIP NHS TRUST","RVNT6","NORTH SOMERSET OLDER ADULT","N.Som LL IP Dune"]
["RVR05-A3 (A3)","RVR","EPSOM AND ST HELIER UNIVERSITY HOSPITALS NHS TRUST","RVR05","ST HELIER HOSPITAL","A3 (A3)"]
["RVR05-A5 (A5)","RVR","EPSOM AND ST HELIER UNIVERSITY HOSPITALS NHS TRUST","RVR05","ST HELIER HOSPITAL","A5 (A5)"]
["RVR05-A6 (A6)","RVR","EPSOM AND ST HELIER UNIVERSITY HOSPITALS NHS TRUST","RVR05","ST HELIER HOSPITAL","A6 (A6)"]
["RVR05-AMUM (AMU Short Stay)","RVR","EPSOM AND ST HELIER UNIVERSITY HOSPITALS NHS TRUST","RVR05","ST HELIER HOSPITAL","AMUM (AMU Short Stay)"]
["RVR05-AMUS (AMU)","RVR","EPSOM AND ST HELIER UNIVERSITY HOSPITALS NHS TRUST","RVR05","ST HELIER HOSPITAL","AMUS (AMU)"]
["RVR05-B1 (Whitfield Unit)","RVR","EPSOM AND ST HELIER UNIVERSITY HOSPITALS NHS TRUST","RVR05","ST HELIER HOSPITAL","B1 (Whitfield Unit)"]
["RVR05-B5M (B5 Medical)","RVR","EPSOM AND ST HELIER UNIVERSITY HOSPITALS NHS TRUST","RVR05","ST HELIER HOSPITAL","B5M (B5 Medical)"]
["RVR05-B6SC (Step Closer to Home (B6))","RVR","EPSOM AND ST HELIER UNIVERSITY HOSPITALS NHS TRUST","RVR05","ST HELIER HOSPITAL","B6SC (Step Closer to Home (B6))"]
["RVR05-BEA1 (Beacon)","RVR","EPSOM AND ST HELIER UNIVERSITY HOSPITALS NHS TRUST","RVR05","ST HELIER HOSPITAL","BEA1 (Beacon)"]
["RVR05-C3 (C3 Stroke Unit)","RVR","EPSOM AND ST HELIER UNIVERSITY HOSPITALS NHS TRUST","RVR05","ST HELIER HOSPITAL","C3 (C3 Stroke Unit)"]
["RVR05-C4 (C4)","RVR","EPSOM AND ST HELIER UNIVERSITY HOSPITALS NHS TRUST","RVR05","ST HELIER HOSPITAL","C4 (C4)"]
["RVR05-C6 (C6)","RVR","EPSOM AND ST HELIER UNIVERSITY HOSPITALS NHS TRUST","RVR05","ST HELIER HOSPITAL","C6 (C6)"]
["RVR05-FDMS (Frank Deas Medical Short Stay Unit)","RVR","EPSOM AND ST HELIER UNIVERSITY HOSPITALS NHS TRUST","RVR05","ST HELIER HOSPITAL","FDMS (Frank Deas Medical Short Stay Unit)"]
["RVR05-FDMS (Frank Deas Medical Short Stay Unit)","RVR","EPSOM AND ST HELIER UNIVERSITY HOSPITALS NHS TRUST","RVR05","ST HELIER HOSPITAL","FDMS (Frank Deas Medical Short Stay Unit)"]
["RVR05-FDWF (Frank Deas Frailty)","RVR","EPSOM AND ST HELIER UNIVERSITY HOSPITALS NHS TRUST","RVR05","ST HELIER HOSPITAL","FDWF (Frank Deas Frailty)"]
["RVR05-HS (Harry Secombe)","RVR","EPSOM AND ST HELIER UNIVERSITY HOSPITALS NHS TRUST","RVR05","ST HELIER HOSPITAL","HS (Harry Secombe)"]
["RVR05-M2 (M2)","RVR","EPSOM AND ST HELIER UNIVERSITY HOSPITALS NHS TRUST","RVR05","ST HELIER HOSPITAL","M2 (M2)"]
["RVR05-MAT (Maternity Ward)","RVR","EPSOM AND ST HELIER UNIVERSITY HOSPITALS NHS TRUST","RVR05","ST HELIER HOSPITAL","MAT (Maternity Ward)"]
["RVR05-MMWS (Mary Moore (Surgical))","RVR","EPSOM AND ST HELIER UNIVERSITY HOSPITALS NHS TRUST","RVR05","ST HELIER HOSPITAL","MMWS (Mary Moore (Surgical))"]
["RVR05-NNU (Neonatal Unit)","RVR","EPSOM AND ST HELIER UNIVERSITY HOSPITALS NHS TRUST","RVR05","ST HELIER HOSPITAL","NNU (Neonatal Unit)"]
["RVR05-QM2 (QM2)","RVR","EPSOM AND ST HELIER UNIVERSITY HOSPITALS NHS TRUST","RVR05","ST HELIER HOSPITAL","QM2 (QM2)"]
["RVR05-RB (Richard Bright)","RVR","EPSOM AND ST HELIER UNIVERSITY HOSPITALS NHS TRUST","RVR05","ST HELIER HOSPITAL","RB (Richard Bright)"]
["RVR05-SCCU (Coronary Care Unit)","RVR","EPSOM AND ST HELIER UNIVERSITY HOSPITALS NHS TRUST","RVR05","ST HELIER HOSPITAL","SCCU (Coronary Care Unit)"]
["RVR05-SITU (ITU/HDU)","RVR","EPSOM AND ST HELIER UNIVERSITY HOSPITALS NHS TRUST","RVR05","ST HELIER HOSPITAL","SITU (ITU/HDU)"]
["RVR50-ALE (Alexandra)","RVR","EPSOM AND ST HELIER UNIVERSITY HOSPITALS NHS TRUST","RVR50","EPSOM HOSPITAL","ALE (Alexandra)"]
["RVR50-AMUC (Chuter Ede AMU)","RVR","EPSOM AND ST HELIER UNIVERSITY HOSPITALS NHS TRUST","RVR50","EPSOM HOSPITAL","AMUC (Chuter Ede AMU)"]
["RVR50-BRI (Britten)","RVR","EPSOM AND ST HELIER UNIVERSITY HOSPITALS NHS TRUST","RVR50","EPSOM HOSPITAL","BRI (Britten)"]
["RVR50-BUC (Buckley)","RVR","EPSOM AND ST HELIER UNIVERSITY HOSPITALS NHS TRUST","RVR50","EPSOM HOSPITAL","BUC (Buckley)"]
["RVR50-CAMA (Croft Community Unit)","RVR","EPSOM AND ST HELIER UNIVERSITY HOSPITALS NHS TRUST","RVR50","EPSOM HOSPITAL","CAMA (Croft Community Unit)"]
["RVR50-CSY (Casey)","RVR","EPSOM AND ST HELIER UNIVERSITY HOSPITALS NHS TRUST","RVR50","EPSOM HOSPITAL","CSY (Casey)"]
["RVR50-ECCU (Coronary Care Unit)","RVR","EPSOM AND ST HELIER UNIVERSITY HOSPITALS NHS TRUST","RVR50","EPSOM HOSPITAL","ECCU (Coronary Care Unit)"]
["RVR50-EITU (ITU/HDU)","RVR","EPSOM AND ST HELIER UNIVERSITY HOSPITALS NHS TRUST","RVR50","EPSOM HOSPITAL","EITU (ITU/HDU)"]
["RVR50-EMAT (Maternity Unit)","RVR","EPSOM AND ST HELIER UNIVERSITY HOSPITALS NHS TRUST","RVR50","EPSOM HOSPITAL","EMAT (Maternity Unit)"]
["RVR50-GLO (Gloucester)","RVR","EPSOM AND ST HELIER UNIVERSITY HOSPITALS NHS TRUST","RVR50","EPSOM HOSPITAL","GLO (Gloucester)"]
["RVR50-NOR (Northey)","RVR","EPSOM AND ST HELIER UNIVERSITY HOSPITALS NHS TRUST","RVR50","EPSOM HOSPITAL","NOR (Northey)"]
["RVR50-SCBU (Special Care Baby Unit)","RVR","EPSOM AND ST HELIER UNIVERSITY HOSPITALS NHS TRUST","RVR50","EPSOM HOSPITAL","SCBU (Special Care Baby Unit)"]
["RVR50-SWIF (Swift Ward)","RVR","EPSOM AND ST HELIER UNIVERSITY HOSPITALS NHS TRUST","RVR50","EPSOM HOSPITAL","SWIF (Swift Ward)"]
["RVRTC-DERB (Derby)","RVR","EPSOM AND ST HELIER UNIVERSITY HOSPITALS NHS TRUST","RVRTC","SOUTH WEST LONDON ELECTIVE ORTHOPAEDIC CENTRE","DERB (Derby)"]
["RVRTC-OAKS (Oaks)","RVR","EPSOM AND ST HELIER UNIVERSITY HOSPITALS NHS TRUST","RVRTC","SOUTH WEST LONDON ELECTIVE ORTHOPAEDIC CENTRE","OAKS (Oaks)"]
["RVRTC-PACU (EOC PACU - Recovery)","RVR","EPSOM AND ST HELIER UNIVERSITY HOSPITALS NHS TRUST","RVRTC","SOUTH WEST LONDON ELECTIVE ORTHOPAEDIC CENTRE","PACU (EOC PACU - Recovery)"]
["RVV01-Bartholomew","RVV","EAST KENT HOSPITALS UNIVERSITY NHS FOUNDATION TRUST","RVV01","WILLIAM HARVEY HOSPITAL (ASHFORD)","Bartholomew"]
["RVV01-Cambridge J","RVV","EAST KENT HOSPITALS UNIVERSITY NHS FOUNDATION TRUST","RVV01","WILLIAM HARVEY HOSPITAL (ASHFORD)","Cambridge J"]
["RVV01-Cambridge K","RVV","EAST KENT HOSPITALS UNIVERSITY NHS FOUNDATION TRUST","RVV01","WILLIAM HARVEY HOSPITAL (ASHFORD)","Cambridge K"]
["RVV01-Cambridge L","RVV","EAST KENT HOSPITALS UNIVERSITY NHS FOUNDATION TRUST","RVV01","WILLIAM HARVEY HOSPITAL (ASHFORD)","Cambridge L"]
["RVV01-Cambridge M2","RVV","EAST KENT HOSPITALS UNIVERSITY NHS FOUNDATION TRUST","RVV01","WILLIAM HARVEY HOSPITAL (ASHFORD)","Cambridge M2"]
["RVV01-Critical Care - WHH - add duties","RVV","EAST KENT HOSPITALS UNIVERSITY NHS FOUNDATION TRUST","RVV01","WILLIAM HARVEY HOSPITAL (ASHFORD)","Critical Care - WHH - add duties"]
["RVV01-Kings A2","RVV","EAST KENT HOSPITALS UNIVERSITY NHS FOUNDATION TRUST","RVV01","WILLIAM HARVEY HOSPITAL (ASHFORD)","Kings A2"]
["RVV01-Kings B Ward - WHH","RVV","EAST KENT HOSPITALS UNIVERSITY NHS FOUNDATION TRUST","RVV01","WILLIAM HARVEY HOSPITAL (ASHFORD)","Kings B Ward - WHH"]
["RVV01-Kings C1","RVV","EAST KENT HOSPITALS UNIVERSITY NHS FOUNDATION TRUST","RVV01","WILLIAM HARVEY HOSPITAL (ASHFORD)","Kings C1"]
["RVV01-Kings C2","RVV","EAST KENT HOSPITALS UNIVERSITY NHS FOUNDATION TRUST","RVV01","WILLIAM HARVEY HOSPITAL (ASHFORD)","Kings C2"]
["RVV01-Kings D Male & Female","RVV","EAST KENT HOSPITALS UNIVERSITY NHS FOUNDATION TRUST","RVV01","WILLIAM HARVEY HOSPITAL (ASHFORD)","Kings D Male & Female"]
["RVV01-MLU WHH","RVV","EAST KENT HOSPITALS UNIVERSITY NHS FOUNDATION TRUST","RVV01","WILLIAM HARVEY HOSPITAL (ASHFORD)","MLU WHH"]
[{"$f":"CONCATENATE(D4653,\"-\",F4653)","v":"RVV01-Oxford"},"RVV","EAST KENT HOSPITALS UNIVERSITY NHS FOUNDATION TRUST","RVV01","WILLIAM HARVEY HOSPITAL (ASHFORD)","Oxford"]
["RVV01-Richard Stevens Stroke Unit","RVV","EAST KENT HOSPITALS UNIVERSITY NHS FOUNDATION TRUST","RVV01","WILLIAM HARVEY HOSPITAL (ASHFORD)","Richard Stevens Stroke Unit"]
["RVV01-Rotary Suite","RVV","EAST KENT HOSPITALS UNIVERSITY NHS FOUNDATION TRUST","RVV01","WILLIAM HARVEY HOSPITAL (ASHFORD)","Rotary Suite"]
["RVV01-WH Kennington Ward","RVV","EAST KENT HOSPITALS UNIVERSITY NHS FOUNDATION TRUST","RVV01","WILLIAM HARVEY HOSPITAL (ASHFORD)","WH Kennington Ward"]
["RVV01-WH Maternity Labour and Folkestone+ MCA","RVV","EAST KENT HOSPITALS UNIVERSITY NHS FOUNDATION TRUST","RVV01","WILLIAM HARVEY HOSPITAL (ASHFORD)","WH Maternity Labour and Folkestone+ MCA"]
["RVV01-WH NICU","RVV","EAST KENT HOSPITALS UNIVERSITY NHS FOUNDATION TRUST","RVV01","WILLIAM HARVEY HOSPITAL (ASHFORD)","WH NICU"]
["RVV01-WH Padua Ward","RVV","EAST KENT HOSPITALS UNIVERSITY NHS FOUNDATION TRUST","RVV01","WILLIAM HARVEY HOSPITAL (ASHFORD)","WH Padua Ward"]
["RVV09-ACUTE MEDICAL UNIT B","RVV","EAST KENT HOSPITALS UNIVERSITY NHS FOUNDATION TRUST","RVV09","QUEEN ELIZABETH THE QUEEN MOTHER HOSPITAL","ACUTE MEDICAL UNIT B"]
["RVV09-Bishopstone","RVV","EAST KENT HOSPITALS UNIVERSITY NHS FOUNDATION TRUST","RVV09","QUEEN ELIZABETH THE QUEEN MOTHER HOSPITAL","Bishopstone"]
["RVV09-Cheerful Sparrows Female","RVV","EAST KENT HOSPITALS UNIVERSITY NHS FOUNDATION TRUST","RVV09","QUEEN ELIZABETH THE QUEEN MOTHER HOSPITAL","Cheerful Sparrows Female"]
["RVV09-Cheerful Sparrows Male","RVV","EAST KENT HOSPITALS UNIVERSITY NHS FOUNDATION TRUST","RVV09","QUEEN ELIZABETH THE QUEEN MOTHER HOSPITAL","Cheerful Sparrows Male"]
["RVV09-Coronary Care Unit (QEQMH)","RVV","EAST KENT HOSPITALS UNIVERSITY NHS FOUNDATION TRUST","RVV09","QUEEN ELIZABETH THE QUEEN MOTHER HOSPITAL","Coronary Care Unit (QEQMH)"]
["RVV09-Critical Care - QMH","RVV","EAST KENT HOSPITALS UNIVERSITY NHS FOUNDATION TRUST","RVV09","QUEEN ELIZABETH THE QUEEN MOTHER HOSPITAL","Critical Care - QMH"]
["RVV09-Deal","RVV","EAST KENT HOSPITALS UNIVERSITY NHS FOUNDATION TRUST","RVV09","QUEEN ELIZABETH THE QUEEN MOTHER HOSPITAL","Deal"]
["RVV09-Fordwich Stroke Unit","RVV","EAST KENT HOSPITALS UNIVERSITY NHS FOUNDATION TRUST","RVV09","QUEEN ELIZABETH THE QUEEN MOTHER HOSPITAL","Fordwich Stroke Unit"]
["RVV09-QE Birchington Ward","RVV","EAST KENT HOSPITALS UNIVERSITY NHS FOUNDATION TRUST","RVV09","QUEEN ELIZABETH THE QUEEN MOTHER HOSPITAL","QE Birchington Ward"]
["RVV09-QE Maternity Wards + MCA","RVV","EAST KENT HOSPITALS UNIVERSITY NHS FOUNDATION TRUST","RVV09","QUEEN ELIZABETH THE QUEEN MOTHER HOSPITAL","QE Maternity Wards + MCA"]
["RVV09-QE MLU","RVV","EAST KENT HOSPITALS UNIVERSITY NHS FOUNDATION TRUST","RVV09","QUEEN ELIZABETH THE QUEEN MOTHER HOSPITAL","QE MLU"]
["RVV09-QE Rainbow Ward","RVV","EAST KENT HOSPITALS UNIVERSITY NHS FOUNDATION TRUST","RVV09","QUEEN ELIZABETH THE QUEEN MOTHER HOSPITAL","QE Rainbow Ward"]
["RVV09-QE SCBU","RVV","EAST KENT HOSPITALS UNIVERSITY NHS FOUNDATION TRUST","RVV09","QUEEN ELIZABETH THE QUEEN MOTHER HOSPITAL","QE SCBU"]
["RVV09-Quex","RVV","EAST KENT HOSPITALS UNIVERSITY NHS FOUNDATION TRUST","RVV09","QUEEN ELIZABETH THE QUEEN MOTHER HOSPITAL","Quex"]
["RVV09-Sandwich Bay","RVV","EAST KENT HOSPITALS UNIVERSITY NHS FOUNDATION TRUST","RVV09","QUEEN ELIZABETH THE QUEEN MOTHER HOSPITAL","Sandwich Bay"]
["RVV09-Seabathing","RVV","EAST KENT HOSPITALS UNIVERSITY NHS FOUNDATION TRUST","RVV09","QUEEN ELIZABETH THE QUEEN MOTHER HOSPITAL","Seabathing"]
["RVV09-St Augustine","RVV","EAST KENT HOSPITALS UNIVERSITY NHS FOUNDATION TRUST","RVV09","QUEEN ELIZABETH THE QUEEN MOTHER HOSPITAL","St Augustine"]
["RVV09-St Margarets","RVV","EAST KENT HOSPITALS UNIVERSITY NHS FOUNDATION TRUST","RVV09","QUEEN ELIZABETH THE QUEEN MOTHER HOSPITAL","St Margarets"]
["RVVKC-Clarke","RVV","EAST KENT HOSPITALS UNIVERSITY NHS FOUNDATION TRUST","RVVKC","KENT AND CANTERBURY HOSPITAL","Clarke"]
["RVVKC-Critical Care - KCH","RVV","EAST KENT HOSPITALS UNIVERSITY NHS FOUNDATION TRUST","RVVKC","KENT AND CANTERBURY HOSPITAL","Critical Care - KCH"]
["RVVKC-Harbledown","RVV","EAST KENT HOSPITALS UNIVERSITY NHS FOUNDATION TRUST","RVVKC","KENT AND CANTERBURY HOSPITAL","Harbledown"]
["RVVKC-Harvey","RVV","EAST KENT HOSPITALS UNIVERSITY NHS FOUNDATION TRUST","RVVKC","KENT AND CANTERBURY HOSPITAL","Harvey"]
["RVVKC-Invicta","RVV","EAST KENT HOSPITALS UNIVERSITY NHS FOUNDATION TRUST","RVVKC","KENT AND CANTERBURY HOSPITAL","Invicta"]
["RVVKC-KC Brabourne Haematology Ward","RVV","EAST KENT HOSPITALS UNIVERSITY NHS FOUNDATION TRUST","RVVKC","KENT AND CANTERBURY HOSPITAL","KC Brabourne Haematology Ward"]
["RVVKC-KC Marlowe Ward","RVV","EAST KENT HOSPITALS UNIVERSITY NHS FOUNDATION TRUST","RVVKC","KENT AND CANTERBURY HOSPITAL","KC Marlowe Ward"]
["RVVKC-Kent","RVV","EAST KENT HOSPITALS UNIVERSITY NHS FOUNDATION TRUST","RVVKC","KENT AND CANTERBURY HOSPITAL","Kent"]
["RVVKC-Kingston Stroke Unit","RVV","EAST KENT HOSPITALS UNIVERSITY NHS FOUNDATION TRUST","RVVKC","KENT AND CANTERBURY HOSPITAL","Kingston Stroke Unit"]
["RVVKC-Mount/McMaster","RVV","EAST KENT HOSPITALS UNIVERSITY NHS FOUNDATION TRUST","RVVKC","KENT AND CANTERBURY HOSPITAL","Mount/McMaster"]
["RVVKC-Treble","RVV","EAST KENT HOSPITALS UNIVERSITY NHS FOUNDATION TRUST","RVVKC","KENT AND CANTERBURY HOSPITAL","Treble"]
["RVWAA-Elective Care Unit","RVW","NORTH TEES AND HARTLEPOOL NHS FOUNDATION TRUST","RVWAA","UNIVERSITY HOSPITAL OF HARTLEPOOL","Elective Care Unit"]
["RVWAA-Ward 3 (Holdforth Unit)","RVW","NORTH TEES AND HARTLEPOOL NHS FOUNDATION TRUST","RVWAA","UNIVERSITY HOSPITAL OF HARTLEPOOL","Ward 3 (Holdforth Unit)"]
["RVWAE-Acute Cardiology Unit","RVW","NORTH TEES AND HARTLEPOOL NHS FOUNDATION TRUST","RVWAE","UNIVERSITY HOSPITAL OF NORTH TEES","Acute Cardiology Unit"]
["RVWAE-Critical Care North Tees","RVW","NORTH TEES AND HARTLEPOOL NHS FOUNDATION TRUST","RVWAE","UNIVERSITY HOSPITAL OF NORTH TEES","Critical Care North Tees"]
["RVWAE-Delivery Suite","RVW","NORTH TEES AND HARTLEPOOL NHS FOUNDATION TRUST","RVWAE","UNIVERSITY HOSPITAL OF NORTH TEES","Delivery Suite"]
["RVWAE-Emergency AMB","RVW","NORTH TEES AND HARTLEPOOL NHS FOUNDATION TRUST","RVWAE","UNIVERSITY HOSPITAL OF NORTH TEES","Emergency AMB"]
["RVWAE-Neonatal Unit","RVW","NORTH TEES AND HARTLEPOOL NHS FOUNDATION TRUST","RVWAE","UNIVERSITY HOSPITAL OF NORTH TEES","Neonatal Unit"]
["RVWAE-Paediatrics","RVW","NORTH TEES AND HARTLEPOOL NHS FOUNDATION TRUST","RVWAE","UNIVERSITY HOSPITAL OF NORTH TEES","Paediatrics"]
["RVWAE-Ward 22 (Post Natal)","RVW","NORTH TEES AND HARTLEPOOL NHS FOUNDATION TRUST","RVWAE","UNIVERSITY HOSPITAL OF NORTH TEES","Ward 22 (Post Natal)"]
["RVWAE-Ward 24 (Respiratory)","RVW","NORTH TEES AND HARTLEPOOL NHS FOUNDATION TRUST","RVWAE","UNIVERSITY HOSPITAL OF NORTH TEES","Ward 24 (Respiratory)"]
["RVWAE-Ward 25 (Respiratory)","RVW","NORTH TEES AND HARTLEPOOL NHS FOUNDATION TRUST","RVWAE","UNIVERSITY HOSPITAL OF NORTH TEES","Ward 25 (Respiratory)"]
["RVWAE-Ward 26 (Gastroenterology)","RVW","NORTH TEES AND HARTLEPOOL NHS FOUNDATION TRUST","RVWAE","UNIVERSITY HOSPITAL OF NORTH TEES","Ward 26 (Gastroenterology)"]
["RVWAE-Ward 27 (Gastroenterology)","RVW","NORTH TEES AND HARTLEPOOL NHS FOUNDATION TRUST","RVWAE","UNIVERSITY HOSPITAL OF NORTH TEES","Ward 27 (Gastroenterology)"]
["RVWAE-Ward 28 (Surgery)","RVW","NORTH TEES AND HARTLEPOOL NHS FOUNDATION TRUST","RVWAE","UNIVERSITY HOSPITAL OF NORTH TEES","Ward 28 (Surgery)"]
["RVWAE-Ward 29 (Cardio Diabetes Gen Med)","RVW","NORTH TEES AND HARTLEPOOL NHS FOUNDATION TRUST","RVWAE","UNIVERSITY HOSPITAL OF NORTH TEES","Ward 29 (Cardio Diabetes Gen Med)"]
["RVWAE-Ward 30 (Womens Health)","RVW","NORTH TEES AND HARTLEPOOL NHS FOUNDATION TRUST","RVWAE","UNIVERSITY HOSPITAL OF NORTH TEES","Ward 30 (Womens Health)"]
["RVWAE-Ward 31 (Surgical Observation Unit)","RVW","NORTH TEES AND HARTLEPOOL NHS FOUNDATION TRUST","RVWAE","UNIVERSITY HOSPITAL OF NORTH TEES","Ward 31 (Surgical Observation Unit)"]
["RVWAE-Ward 32 (Fragility Fracture)","RVW","NORTH TEES AND HARTLEPOOL NHS FOUNDATION TRUST","RVWAE","UNIVERSITY HOSPITAL OF NORTH TEES","Ward 32 (Fragility Fracture)"]
["RVWAE-Ward 33 (Orthopaedic & Spinal)","RVW","NORTH TEES AND HARTLEPOOL NHS FOUNDATION TRUST","RVWAE","UNIVERSITY HOSPITAL OF NORTH TEES","Ward 33 (Orthopaedic & Spinal)"]
["RVWAE-Ward 36","RVW","NORTH TEES AND HARTLEPOOL NHS FOUNDATION TRUST","RVWAE","UNIVERSITY HOSPITAL OF NORTH TEES","Ward 36"]
["RVWAE-Ward 38","RVW","NORTH TEES AND HARTLEPOOL NHS FOUNDATION TRUST","RVWAE","UNIVERSITY HOSPITAL OF NORTH TEES","Ward 38"]
["RVWAE-Ward 40 (Acutev Elderly)","RVW","NORTH TEES AND HARTLEPOOL NHS FOUNDATION TRUST","RVWAE","UNIVERSITY HOSPITAL OF NORTH TEES","Ward 40 (Acutev Elderly)"]
["RVWAE-Ward 41 (Stroke Unit)","RVW","NORTH TEES AND HARTLEPOOL NHS FOUNDATION TRUST","RVWAE","UNIVERSITY HOSPITAL OF NORTH TEES","Ward 41 (Stroke Unit)"]
["RVWAE-Ward 42 (Elderly Rehabilitation)","RVW","NORTH TEES AND HARTLEPOOL NHS FOUNDATION TRUST","RVWAE","UNIVERSITY HOSPITAL OF NORTH TEES","Ward 42 (Elderly Rehabilitation)"]
["RVY01-A&E Observation Ward","RVY","SOUTHPORT AND ORMSKIRK HOSPITAL NHS TRUST","RVY01","SOUTHPORT AND FORMBY DISTRICT GENERAL HOSPITAL","A&E Observation Ward"]
["RVY01-E A U","RVY","SOUTHPORT AND ORMSKIRK HOSPITAL NHS TRUST","RVY01","SOUTHPORT AND FORMBY DISTRICT GENERAL HOSPITAL","E A U"]
["RVY01-FESS Ward","RVY","SOUTHPORT AND ORMSKIRK HOSPITAL NHS TRUST","RVY01","SOUTHPORT AND FORMBY DISTRICT GENERAL HOSPITAL","FESS Ward"]
["RVY01-ITU/CCU","RVY","SOUTHPORT AND ORMSKIRK HOSPITAL NHS TRUST","RVY01","SOUTHPORT AND FORMBY DISTRICT GENERAL HOSPITAL","ITU/CCU"]
[{"$f":"CONCATENATE(D4717,\"-\",F4717)","v":"RVY01-Rehab & Discharge Lounge"},"RVY","SOUTHPORT AND ORMSKIRK HOSPITAL NHS TRUST","RVY01","SOUTHPORT AND FORMBY DISTRICT GENERAL HOSPITAL","Rehab & Discharge Lounge"]
["RVY01-Short Stay Unit","RVY","SOUTHPORT AND ORMSKIRK HOSPITAL NHS TRUST","RVY01","SOUTHPORT AND FORMBY DISTRICT GENERAL HOSPITAL","Short Stay Unit"]
["RVY01-Spinal Injuries Unit","RVY","SOUTHPORT AND ORMSKIRK HOSPITAL NHS TRUST","RVY01","SOUTHPORT AND FORMBY DISTRICT GENERAL HOSPITAL","Spinal Injuries Unit"]
["RVY01-Stroke Ward","RVY","SOUTHPORT AND ORMSKIRK HOSPITAL NHS TRUST","RVY01","SOUTHPORT AND FORMBY DISTRICT GENERAL HOSPITAL","Stroke Ward"]
["RVY01-Surgical Ward","RVY","SOUTHPORT AND ORMSKIRK HOSPITAL NHS TRUST","RVY01","SOUTHPORT AND FORMBY DISTRICT GENERAL HOSPITAL","Surgical Ward"]
["RVY01-Ward 11B-SDGH","RVY","SOUTHPORT AND ORMSKIRK HOSPITAL NHS TRUST","RVY01","SOUTHPORT AND FORMBY DISTRICT GENERAL HOSPITAL","Ward 11B-SDGH"]
["RVY01-Ward 14A","RVY","SOUTHPORT AND ORMSKIRK HOSPITAL NHS TRUST","RVY01","SOUTHPORT AND FORMBY DISTRICT GENERAL HOSPITAL","Ward 14A"]
["RVY01-Ward 14B-SDGH","RVY","SOUTHPORT AND ORMSKIRK HOSPITAL NHS TRUST","RVY01","SOUTHPORT AND FORMBY DISTRICT GENERAL HOSPITAL","Ward 14B-SDGH"]
["RVY01-Ward 15a General Med","RVY","SOUTHPORT AND ORMSKIRK HOSPITAL NHS TRUST","RVY01","SOUTHPORT AND FORMBY DISTRICT GENERAL HOSPITAL","Ward 15a General Med"]
["RVY01-Ward 7A-SDGH","RVY","SOUTHPORT AND ORMSKIRK HOSPITAL NHS TRUST","RVY01","SOUTHPORT AND FORMBY DISTRICT GENERAL HOSPITAL","Ward 7A-SDGH"]
["RVY02-Maternity","RVY","SOUTHPORT AND ORMSKIRK HOSPITAL NHS TRUST","RVY02","ORMSKIRK AND DISTRICT GENERAL HOSPITAL","Maternity"]
["RVY02-Neonatal Ward - ODGH","RVY","SOUTHPORT AND ORMSKIRK HOSPITAL NHS TRUST","RVY02","ORMSKIRK AND DISTRICT GENERAL HOSPITAL","Neonatal Ward - ODGH"]
["RVY02-Paediatric Unit","RVY","SOUTHPORT AND ORMSKIRK HOSPITAL NHS TRUST","RVY02","ORMSKIRK AND DISTRICT GENERAL HOSPITAL","Paediatric Unit"]
["RVY02-Short Stay Surgical Unit","RVY","SOUTHPORT AND ORMSKIRK HOSPITAL NHS TRUST","RVY02","ORMSKIRK AND DISTRICT GENERAL HOSPITAL","Short Stay Surgical Unit"]
["RVY02-Ward G","RVY","SOUTHPORT AND ORMSKIRK HOSPITAL NHS TRUST","RVY02","ORMSKIRK AND DISTRICT GENERAL HOSPITAL","Ward G"]
["RVY02-Ward H","RVY","SOUTHPORT AND ORMSKIRK HOSPITAL NHS TRUST","RVY02","ORMSKIRK AND DISTRICT GENERAL HOSPITAL","Ward H"]
["RW119-Kingsley Ward","RW1","SOUTHERN HEALTH NHS FOUNDATION TRUST","RW119","MELBURY LODGE","Kingsley Ward"]
["RW119-Mother & Baby Unit","RW1","SOUTHERN HEALTH NHS FOUNDATION TRUST","RW119","MELBURY LODGE","Mother & Baby Unit"]
["RW119-Stefano Olivieri Ward","RW1","SOUTHERN HEALTH NHS FOUNDATION TRUST","RW119","MELBURY LODGE","Stefano Olivieri Ward"]
["RW121-Leigh House","RW1","SOUTHERN HEALTH NHS FOUNDATION TRUST","RW121","LEIGH HOUSE","Leigh House"]
["RW134-Forest Lodge","RW1","SOUTHERN HEALTH NHS FOUNDATION TRUST","RW134","FOREST LODGE","Forest Lodge"]
["RW148-Ashford Unit","RW1","SOUTHERN HEALTH NHS FOUNDATION TRUST","RW148","RAVENSWOOD HOUSE","Ashford Unit"]
["RW148-Lyndhurst Ward","RW1","SOUTHERN HEALTH NHS FOUNDATION TRUST","RW148","RAVENSWOOD HOUSE","Lyndhurst Ward"]
["RW148-Malcolm Faulk Ward","RW1","SOUTHERN HEALTH NHS FOUNDATION TRUST","RW148","RAVENSWOOD HOUSE","Malcolm Faulk Ward"]
["RW148-Mary Graham Ward","RW1","SOUTHERN HEALTH NHS FOUNDATION TRUST","RW148","RAVENSWOOD HOUSE","Mary Graham Ward"]
["RW148-Meon Valley Ward","RW1","SOUTHERN HEALTH NHS FOUNDATION TRUST","RW148","RAVENSWOOD HOUSE","Meon Valley Ward"]
["RW14K-Chichester/Nightingale Ward","RW1","SOUTHERN HEALTH NHS FOUNDATION TRUST","RW14K","ROMSEY HOSPITAL","Chichester/Nightingale Ward"]
["RW154-Willow Ward","RW1","SOUTHERN HEALTH NHS FOUNDATION TRUST","RW154","MOORGREEN HOSPITAL","Willow Ward"]
["RW155-Beaulieu Ward","RW1","SOUTHERN HEALTH NHS FOUNDATION TRUST","RW155","WESTERN COMMUNITY HOSPITAL","Beaulieu Ward"]
["RW155-Berrywood Ward","RW1","SOUTHERN HEALTH NHS FOUNDATION TRUST","RW155","WESTERN COMMUNITY HOSPITAL","Berrywood Ward"]
["RW158-Ark Royal Ward","RW1","SOUTHERN HEALTH NHS FOUNDATION TRUST","RW158","GOSPORT WAR MEMORIAL HOSPITAL","Ark Royal Ward"]
["RW158-Poppy Ward","RW1","SOUTHERN HEALTH NHS FOUNDATION TRUST","RW158","GOSPORT WAR MEMORIAL HOSPITAL","Poppy Ward"]
["RW158-Rose Ward","RW1","SOUTHERN HEALTH NHS FOUNDATION TRUST","RW158","GOSPORT WAR MEMORIAL HOSPITAL","Rose Ward"]
["RW158-Sultan Ward","RW1","SOUTHERN HEALTH NHS FOUNDATION TRUST","RW158","GOSPORT WAR MEMORIAL HOSPITAL","Sultan Ward"]
["RW170-Cedar Ward (Petersfield)","RW1","SOUTHERN HEALTH NHS FOUNDATION TRUST","RW170","PETERSFIELD HOSPITAL","Cedar Ward (Petersfield)"]
["RW170-Rowan Ward","RW1","SOUTHERN HEALTH NHS FOUNDATION TRUST","RW170","PETERSFIELD HOSPITAL","Rowan Ward"]
["RW178-Ford Ward","RW1","SOUTHERN HEALTH NHS FOUNDATION TRUST","RW178","FORDINGBRIDGE","Ford Ward"]
["RW194-Anstey Ward","RW1","SOUTHERN HEALTH NHS FOUNDATION TRUST","RW194","ALTON COMMUNITY HOSPITAL","Anstey Ward"]
["RW1A2-Hill Ward","RW1","SOUTHERN HEALTH NHS FOUNDATION TRUST","RW1A2","BLUEBIRD HOUSE","Hill Ward"]
["RW1A2-Stewart Ward","RW1","SOUTHERN HEALTH NHS FOUNDATION TRUST","RW1A2","BLUEBIRD HOUSE","Stewart Ward"]
["RW1AC-Beechwood Ward","RW1","SOUTHERN HEALTH NHS FOUNDATION TRUST","RW1AC","PARKLANDS HOSPITAL","Beechwood Ward"]
["RW1AC-Elmwood Ward","RW1","SOUTHERN HEALTH NHS FOUNDATION TRUST","RW1AC","PARKLANDS HOSPITAL","Elmwood Ward"]
["RW1AC-Hawthorns 1","RW1","SOUTHERN HEALTH NHS FOUNDATION TRUST","RW1AC","PARKLANDS HOSPITAL","Hawthorns 1"]
["RW1AC-Hawthorns 2","RW1","SOUTHERN HEALTH NHS FOUNDATION TRUST","RW1AC","PARKLANDS HOSPITAL","Hawthorns 2"]
["RW1AM-Elmleigh Inpatient","RW1","SOUTHERN HEALTH NHS FOUNDATION TRUST","RW1AM","ELMLEIGH","Elmleigh Inpatient"]
["RW1AN-Hollybank","RW1","SOUTHERN HEALTH NHS FOUNDATION TRUST","RW1AN","HOLLYBANK","Hollybank"]
["RW1AR-Beech Ward","RW1","SOUTHERN HEALTH NHS FOUNDATION TRUST","RW1AR","SOUTHFIELDS","Beech Ward"]
["RW1AR-Cedar Ward (Southfield)","RW1","SOUTHERN HEALTH NHS FOUNDATION TRUST","RW1AR","SOUTHFIELDS","Cedar Ward (Southfield)"]
["RW1AR-Oak Ward","RW1","SOUTHERN HEALTH NHS FOUNDATION TRUST","RW1AR","SOUTHFIELDS","Oak Ward"]
["RW1GE-Hamtun Ward PICU","RW1","SOUTHERN HEALTH NHS FOUNDATION TRUST","RW1GE","ANTELOPE HOUSE","Hamtun Ward PICU"]
["RW1GE-Saxon Ward","RW1","SOUTHERN HEALTH NHS FOUNDATION TRUST","RW1GE","ANTELOPE HOUSE","Saxon Ward"]
["RW1GE-Trinity Ward","RW1","SOUTHERN HEALTH NHS FOUNDATION TRUST","RW1GE","ANTELOPE HOUSE","Trinity Ward"]
["RW1YM-Deerleap Ward","RW1","SOUTHERN HEALTH NHS FOUNDATION TRUST","RW1YM","LYMINGTON NEW FOREST HOSPITAL","Deerleap Ward"]
["RW1YM-Longbeech Ward","RW1","SOUTHERN HEALTH NHS FOUNDATION TRUST","RW1YM","LYMINGTON NEW FOREST HOSPITAL","Longbeech Ward"]
["RW1YM-Medical Admission Unit","RW1","SOUTHERN HEALTH NHS FOUNDATION TRUST","RW1YM","LYMINGTON NEW FOREST HOSPITAL","Medical Admission Unit"]
["RW1YM-Wilverley Ward","RW1","SOUTHERN HEALTH NHS FOUNDATION TRUST","RW1YM","LYMINGTON NEW FOREST HOSPITAL","Wilverley Ward"]
["RW401-Rathbone Rehabilitation Centre","RW4","MERSEY CARE NHS FOUNDATION TRUST","RW401","RATHBONE HOSPITAL","Rathbone Rehabilitation Centre"]
["RW403-Park Unit & Rowbotham Assessment Unit","RW4","MERSEY CARE NHS FOUNDATION TRUST","RW403","HESKETH CENTRE","Park Unit & Rowbotham Assessment Unit"]
["RW404-Arnold","RW4","MERSEY CARE NHS FOUNDATION TRUST","RW404","Ashworth Hospital","Arnold"]
["RW404-Blake","RW4","MERSEY CARE NHS FOUNDATION TRUST","RW404","Ashworth Hospital","Blake"]
["RW404-Carlyle","RW4","MERSEY CARE NHS FOUNDATION TRUST","RW404","Ashworth Hospital","Carlyle"]
["RW404-Dickens","RW4","MERSEY CARE NHS FOUNDATION TRUST","RW404","Ashworth Hospital","Dickens"]
["RW404-Gibbon","RW4","MERSEY CARE NHS FOUNDATION TRUST","RW404","Ashworth Hospital","Gibbon"]
["RW404-Johnson","RW4","MERSEY CARE NHS FOUNDATION TRUST","RW404","Ashworth Hospital","Johnson"]
[{"$f":"CONCATENATE(D4781,\"-\",F4781)","v":"RW404-Keats"},"RW4","MERSEY CARE NHS FOUNDATION TRUST","RW404","Ashworth Hospital","Keats"]
["RW404-Lawrence","RW4","MERSEY CARE NHS FOUNDATION TRUST","RW404","Ashworth Hospital","Lawrence"]
["RW404-Newman","RW4","MERSEY CARE NHS FOUNDATION TRUST","RW404","Ashworth Hospital","Newman"]
["RW404-Owen","RW4","MERSEY CARE NHS FOUNDATION TRUST","RW404","Ashworth Hospital","Owen"]
["RW404-Ruskin","RW4","MERSEY CARE NHS FOUNDATION TRUST","RW404","Ashworth Hospital","Ruskin"]
["RW404-Shelley","RW4","MERSEY CARE NHS FOUNDATION TRUST","RW404","Ashworth Hospital","Shelley"]
["RW404-Tennyson","RW4","MERSEY CARE NHS FOUNDATION TRUST","RW404","Ashworth Hospital","Tennyson"]
["RW406-Ward 35","RW4","MERSEY CARE NHS FOUNDATION TRUST","RW406","AINTREE EMI","Ward 35"]
["RW41E-Alt","RW4","MERSEY CARE NHS FOUNDATION TRUST","RW41E","CLOCK VIEW HOSPITAL","Alt"]
["RW41E-Dee","RW4","MERSEY CARE NHS FOUNDATION TRUST","RW41E","CLOCK VIEW HOSPITAL","Dee"]
["RW41E-Irwell","RW4","MERSEY CARE NHS FOUNDATION TRUST","RW41E","CLOCK VIEW HOSPITAL","Irwell"]
["RW41E-Morris","RW4","MERSEY CARE NHS FOUNDATION TRUST","RW41E","CLOCK VIEW HOSPITAL","Morris"]
["RW41E-Newton PICU","RW4","MERSEY CARE NHS FOUNDATION TRUST","RW41E","CLOCK VIEW HOSPITAL","Newton PICU"]
["RW41K-Brain Injury Rehabilitation","RW4","MERSEY CARE NHS FOUNDATION TRUST","RW41K","MERSEY CARE NHS TRUST BRAIN INJURY REHABILITATION","Brain Injury Rehabilitation"]
["RW41P-Houses","RW4","MERSEY CARE NHS FOUNDATION TRUST","RW41P","CALDERSTONES HOSPITAL","Houses"]
["RW41P-Maplewood 1","RW4","MERSEY CARE NHS FOUNDATION TRUST","RW41P","CALDERSTONES HOSPITAL","Maplewood 1"]
["RW41P-Maplewood 2 & 3","RW4","MERSEY CARE NHS FOUNDATION TRUST","RW41P","CALDERSTONES HOSPITAL","Maplewood 2 & 3"]
["RW41P-Woodview","RW4","MERSEY CARE NHS FOUNDATION TRUST","RW41P","CALDERSTONES HOSPITAL","Woodview"]
["RW421-Allerton Ward","RW4","MERSEY CARE NHS FOUNDATION TRUST","RW421","LSU","Allerton Ward"]
["RW421-Childwall Ward","RW4","MERSEY CARE NHS FOUNDATION TRUST","RW421","LSU","Childwall Ward"]
["RW433-Albert","RW4","MERSEY CARE NHS FOUNDATION TRUST","RW433","BROADGREEN SITE","Albert"]
["RW433-Brunswick","RW4","MERSEY CARE NHS FOUNDATION TRUST","RW433","BROADGREEN SITE","Brunswick"]
["RW433-Harrington","RW4","MERSEY CARE NHS FOUNDATION TRUST","RW433","BROADGREEN SITE","Harrington"]
["RW435-Heys Court","RW4","MERSEY CARE NHS FOUNDATION TRUST","RW435","HEYS COURT","Heys Court"]
["RW438-Acorn","RW4","MERSEY CARE NHS FOUNDATION TRUST","RW438","MOSSLEY HILL HOSPITAL","Acorn"]
["RW438-Oak","RW4","MERSEY CARE NHS FOUNDATION TRUST","RW438","MOSSLEY HILL HOSPITAL","Oak"]
["RW438-STAR Unit","RW4","MERSEY CARE NHS FOUNDATION TRUST","RW438","Mossley Hill Hospital","STAR Unit"]
["RW449-Boothroyd","RW4","MERSEY CARE NHS FOUNDATION TRUST","RW449","BOOTHROYD WARD","Boothroyd"]
["RW453-Wavertree Bungalow","RW4","MERSEY CARE NHS FOUNDATION TRUST","RW453","Wavertree Bungalow","Wavertree Bungalow"]
["RW454-Windsor House","RW4","MERSEY CARE NHS FOUNDATION TRUST","RW454","WINDSOR HOUSE","Windsor House"]
["RW486-Hope Centre","RW4","MERSEY CARE NHS FOUNDATION TRUST","RW486","SEFTON HEALTH RESOURCE PARK","Hope Centre"]
["RW493-Hawthorn","RW4","MERSEY CARE NHS FOUNDATION TRUST","RW493","Scott Clinic","Hawthorn"]
["RW493-Ivy","RW4","MERSEY CARE NHS FOUNDATION TRUST","RW493","Scott Clinic","Ivy"]
["RW493-Myrtle","RW4","MERSEY CARE NHS FOUNDATION TRUST","RW493","Scott Clinic","Myrtle"]
["RW493-Olive","RW4","MERSEY CARE NHS FOUNDATION TRUST","RW493","Scott Clinic","Olive"]
["RW493-Poplar","RW4","MERSEY CARE NHS FOUNDATION TRUST","RW493","Scott Clinic","Poplar"]
["RW493-Reed Lodge","RW4","MERSEY CARE NHS FOUNDATION TRUST","RW493","Scott Clinic","Reed Lodge"]
["RW5AA-L3299 Ribble A Assessment Ward (25-65)","RW5","LANCASHIRE CARE NHS FOUNDATION TRUST","RW5AA","ROYAL BLACKBURN HOSPITAL","L3299 Ribble A Assessment Ward (25-65)"]
["RW5AA-L3312 Hyndburn Ward Mental Health Inpatients (25-65)","RW5","LANCASHIRE CARE NHS FOUNDATION TRUST","RW5AA","ROYAL BLACKBURN HOSPITAL","L3312 Hyndburn Ward Mental Health Inpatients (25-65)"]
["RW5AA-L3313 Darwen Ward Mental Health Inpatients (25-65)","RW5","LANCASHIRE CARE NHS FOUNDATION TRUST","RW5AA","ROYAL BLACKBURN HOSPITAL","L3313 Darwen Ward Mental Health Inpatients (25-65)"]
["RW5AA-L3314 PICU Calder Ward (25-65)","RW5","LANCASHIRE CARE NHS FOUNDATION TRUST","RW5AA","ROYAL BLACKBURN HOSPITAL","L3314 PICU Calder Ward (25-65)"]
["RW5AA-L4699 Edisford Assessment Ward (25-65)","RW5","LANCASHIRE CARE NHS FOUNDATION TRUST","RW5AA","ROYAL BLACKBURN HOSPITAL","L4699 Edisford Assessment Ward (25-65)"]
["RW5AQ-A3218 Longridge Ward (C)","RW5","LANCASHIRE CARE NHS FOUNDATION TRUST","RW5AQ","LONGRIDGE COMMUNITY HOSPITAL","A3218 Longridge Ward (C)"]
["RW5CA-L4714 Hurstwood Advanced Care Mental Health Inpatients (65+)","RW5","LANCASHIRE CARE NHS FOUNDATION TRUST","RW5CA","BURNLEY GENERAL HOSPITAL","L4714 Hurstwood Advanced Care Mental Health Inpatients (65+)"]
["RW5DA-L6020 PICU Avenham Ward","RW5","LANCASHIRE CARE NHS FOUNDATION TRUST","RW5DA","CHORLEY AND SOUTH RIBBLE HOSPITAL","L6020 PICU Avenham Ward"]
["RW5DA-L6021 Duxbury Ward","RW5","LANCASHIRE CARE NHS FOUNDATION TRUST","RW5DA","CHORLEY AND SOUTH RIBBLE HOSPITAL","L6021 Duxbury Ward"]
["RW5DA-L6022 Worden Ward","RW5","LANCASHIRE CARE NHS FOUNDATION TRUST","RW5DA","CHORLEY AND SOUTH RIBBLE HOSPITAL","L6022 Worden Ward"]
["RW5DA-L7863 Perinatal Mental Health","RW5","LANCASHIRE CARE NHS FOUNDATION TRUST","RW5DA","CHORLEY AND SOUTH RIBBLE HOSPITAL","L7863 Perinatal Mental Health"]
["RW5EU-L2061 Fairsnape Ward (S)","RW5","LANCASHIRE CARE NHS FOUNDATION TRUST","RW5EU","GUILD PARK","L2061 Fairsnape Ward (S)"]
["RW5EU-L2062 Greenside Ward (S)","RW5","LANCASHIRE CARE NHS FOUNDATION TRUST","RW5EU","GUILD PARK","L2062 Greenside Ward (S)"]
["RW5EU-L2063 Calder Ward (S)","RW5","LANCASHIRE CARE NHS FOUNDATION TRUST","RW5EU","GUILD PARK","L2063 Calder Ward (S)"]
["RW5EU-L2064 Fairoak Ward (S)","RW5","LANCASHIRE CARE NHS FOUNDATION TRUST","RW5EU","GUILD PARK","L2064 Fairoak Ward (S)"]
["RW5EU-L2065 Forest Beck Ward (S)","RW5","LANCASHIRE CARE NHS FOUNDATION TRUST","RW5EU","GUILD PARK","L2065 Forest Beck Ward (S)"]
["RW5EU-L2072 Whinfell Ward (S)","RW5","LANCASHIRE CARE NHS FOUNDATION TRUST","RW5EU","GUILD PARK","L2072 Whinfell Ward (S)"]
["RW5EU-L2073 Marshaw Ward (S)","RW5","LANCASHIRE CARE NHS FOUNDATION TRUST","RW5EU","GUILD PARK","L2073 Marshaw Ward (S)"]
["RW5EU-L2075 Bleasdale Ward (S)","RW5","LANCASHIRE CARE NHS FOUNDATION TRUST","RW5EU","GUILD PARK","L2075 Bleasdale Ward (S)"]
["RW5EU-L2076 Mallowdale Ward (S)","RW5","LANCASHIRE CARE NHS FOUNDATION TRUST","RW5EU","GUILD PARK","L2076 Mallowdale Ward (S)"]
["RW5EU-L2078 Dutton Ward (S)","RW5","LANCASHIRE CARE NHS FOUNDATION TRUST","RW5EU","GUILD PARK","L2078 Dutton Ward (S)"]
["RW5EU-L2079 Langden Ward (S)","RW5","LANCASHIRE CARE NHS FOUNDATION TRUST","RW5EU","GUILD PARK","L2079 Langden Ward (S)"]
["RW5EU-L2080 Fellside East Ward (S)","RW5","LANCASHIRE CARE NHS FOUNDATION TRUST","RW5EU","GUILD PARK","L2080 Fellside East Ward (S)"]
["RW5EU-L2082 Fellside West Ward (S)","RW5","LANCASHIRE CARE NHS FOUNDATION TRUST","RW5EU","GUILD PARK","L2082 Fellside West Ward (S)"]
["RW5EU-L2083 Hermitage Ward (S)","RW5","LANCASHIRE CARE NHS FOUNDATION TRUST","RW5EU","GUILD PARK","L2083 Hermitage Ward (S)"]
["RW5FA-L7010 Scarisbrick Mental Health Inpatients (25-65)","RW5","LANCASHIRE CARE NHS FOUNDATION TRUST","RW5FA","ORMSKIRK AND DISTRICT GENERAL HOSPITAL","L7010 Scarisbrick Mental Health Inpatients (25-65)"]
["RW5FA-L7020 PICU Lathom Suite Ward (25-65)","RW5","LANCASHIRE CARE NHS FOUNDATION TRUST","RW5FA","ORMSKIRK AND DISTRICT GENERAL HOSPITAL","L7020 PICU Lathom Suite Ward (25-65)"]
[{"$f":"CONCATENATE(D4845,\"-\",F4845)","v":"RW5KM-L5090 Harbour - 136 Suite (25-65)"},"RW5","LANCASHIRE CARE NHS FOUNDATION TRUST","RW5KM","THE HARBOUR","L5090 Harbour - 136 Suite (25-65)"]
["RW5KM-L5092 Harbour - Shakespeare Ward (25-65)","RW5","LANCASHIRE CARE NHS FOUNDATION TRUST","RW5KM","THE HARBOUR","L5092 Harbour - Shakespeare Ward (25-65)"]
["RW5KM-L5093 Harbour - Stevenson Ward (25-65)","RW5","LANCASHIRE CARE NHS FOUNDATION TRUST","RW5KM","THE HARBOUR","L5093 Harbour - Stevenson Ward (25-65)"]
["RW5KM-L5094 Harbour - Churchill Ward (25-65)","RW5","LANCASHIRE CARE NHS FOUNDATION TRUST","RW5KM","THE HARBOUR","L5094 Harbour - Churchill Ward (25-65)"]
["RW5KM-L5095 Harbour - Orwell Ward (25-65)","RW5","LANCASHIRE CARE NHS FOUNDATION TRUST","RW5KM","THE HARBOUR","L5095 Harbour - Orwell Ward (25-65)"]
["RW5KM-L5096 Harbour - PICU Byron Ward (25-65)","RW5","LANCASHIRE CARE NHS FOUNDATION TRUST","RW5KM","THE HARBOUR","L5096 Harbour - PICU Byron Ward (25-65)"]
["RW5KM-L5097 Harbour - PICU Keats Ward (25-65)","RW5","LANCASHIRE CARE NHS FOUNDATION TRUST","RW5KM","THE HARBOUR","L5097 Harbour - PICU Keats Ward (25-65)"]
["RW5KM-L5102 Harbour - Austen Ward C (65+)","RW5","LANCASHIRE CARE NHS FOUNDATION TRUST","RW5KM","THE HARBOUR","L5102 Harbour - Austen Ward C (65+)"]
["RW5KM-L5103 Harbour - Dickens Ward C (65+)","RW5","LANCASHIRE CARE NHS FOUNDATION TRUST","RW5KM","THE HARBOUR","L5103 Harbour - Dickens Ward C (65+)"]
["RW5KM-L5104 Harbour - Bronte Ward C (65+)","RW5","LANCASHIRE CARE NHS FOUNDATION TRUST","RW5KM","THE HARBOUR","L5104 Harbour - Bronte Ward C (65+)"]
["RW5KM-L5105 Harbour - Wordsworth Ward C (65+)","RW5","LANCASHIRE CARE NHS FOUNDATION TRUST","RW5KM","THE HARBOUR","L5105 Harbour - Wordsworth Ward C (65+)"]
["RW5LA-L0300 The Orchard Mental Health Inpatients (25-65)","RW5","LANCASHIRE CARE NHS FOUNDATION TRUST","RW5LA","RIDGE LEA HOSPITAL","L0300 The Orchard Mental Health Inpatients (25-65)"]
["RW5LE-L7012 Scarisbrick - 136 Suite","RW5","LANCASHIRE CARE NHS FOUNDATION TRUST","RW5LE","ORMSKIRK AND DISTRICT GENERAL HOSPITAL","L7012 Scarisbrick - 136 Suite"]
["RW5LE-L3076 Blackburn - 136 Suite","RW5","LANCASHIRE CARE NHS FOUNDATION TRUST","RW5LE","ROYAL BLACKBURN HOSPITAL","L3076 Blackburn - 136 Suite"]
["RW5LE-L9547 CAMHS The Cove (MH)","RW5","LANCASHIRE CARE NHS FOUNDATION TRUST","RW5LE","The Junction","L9547 CAMHS The Cove (MH)"]
["RW601-Ward 10 (ITU/HDU)","RW6","PENNINE ACUTE HOSPITALS NHS TRUST","RW601","FAIRFIELD GENERAL HOSPITAL","Ward 10 (ITU/HDU)"]
["RW601-Ward 11a","RW6","PENNINE ACUTE HOSPITALS NHS TRUST","RW601","FAIRFIELD GENERAL HOSPITAL","Ward 11a"]
["RW601-Ward 11b (Stroke)","RW6","PENNINE ACUTE HOSPITALS NHS TRUST","RW601","FAIRFIELD GENERAL HOSPITAL","Ward 11b (Stroke)"]
["RW601-Ward 14","RW6","PENNINE ACUTE HOSPITALS NHS TRUST","RW601","FAIRFIELD GENERAL HOSPITAL","Ward 14"]
["RW601-Ward 2 CCU","RW6","PENNINE ACUTE HOSPITALS NHS TRUST","RW601","FAIRFIELD GENERAL HOSPITAL","Ward 2 CCU"]
["RW601-Ward 20","RW6","PENNINE ACUTE HOSPITALS NHS TRUST","RW601","FAIRFIELD GENERAL HOSPITAL","Ward 20"]
["RW601-Ward 21","RW6","PENNINE ACUTE HOSPITALS NHS TRUST","RW601","FAIRFIELD GENERAL HOSPITAL","Ward 21"]
["RW601-Ward 5","RW6","PENNINE ACUTE HOSPITALS NHS TRUST","RW601","FAIRFIELD GENERAL HOSPITAL","Ward 5"]
["RW601-Ward 7","RW6","PENNINE ACUTE HOSPITALS NHS TRUST","RW601","FAIRFIELD GENERAL HOSPITAL","Ward 7"]
["RW601-Ward 8","RW6","PENNINE ACUTE HOSPITALS NHS TRUST","RW601","FAIRFIELD GENERAL HOSPITAL","Ward 8"]
["RW601-Ward 9","RW6","PENNINE ACUTE HOSPITALS NHS TRUST","RW601","FAIRFIELD GENERAL HOSPITAL","Ward 9"]
["RW602-AnteNatal Ward","RW6","PENNINE ACUTE HOSPITALS NHS TRUST","RW602","NORTH MANCHESTER GENERAL HOSPITAL","AnteNatal Ward"]
["RW602-Childrens","RW6","PENNINE ACUTE HOSPITALS NHS TRUST","RW602","NORTH MANCHESTER GENERAL HOSPITAL","Childrens"]
["RW602-Critical Care","RW6","PENNINE ACUTE HOSPITALS NHS TRUST","RW602","NORTH MANCHESTER GENERAL HOSPITAL","Critical Care"]
["RW602-Labour Ward","RW6","PENNINE ACUTE HOSPITALS NHS TRUST","RW602","NORTH MANCHESTER GENERAL HOSPITAL","Labour Ward"]
["RW602-Neonatal Unit","RW6","PENNINE ACUTE HOSPITALS NHS TRUST","RW602","NORTH MANCHESTER GENERAL HOSPITAL","Neonatal Unit"]
["RW602-PostNatal Ward","RW6","PENNINE ACUTE HOSPITALS NHS TRUST","RW602","NORTH MANCHESTER GENERAL HOSPITAL","PostNatal Ward"]
["RW602-Ward C3","RW6","PENNINE ACUTE HOSPITALS NHS TRUST","RW602","NORTH MANCHESTER GENERAL HOSPITAL","Ward C3"]
["RW602-Ward C4","RW6","PENNINE ACUTE HOSPITALS NHS TRUST","RW602","NORTH MANCHESTER GENERAL HOSPITAL","Ward C4"]
["RW602-Ward C5","RW6","PENNINE ACUTE HOSPITALS NHS TRUST","RW602","NORTH MANCHESTER GENERAL HOSPITAL","Ward C5"]
["RW602-Ward C6","RW6","PENNINE ACUTE HOSPITALS NHS TRUST","RW602","NORTH MANCHESTER GENERAL HOSPITAL","Ward C6"]
["RW602-Ward CCU G4","RW6","PENNINE ACUTE HOSPITALS NHS TRUST","RW602","NORTH MANCHESTER GENERAL HOSPITAL","Ward CCU G4"]
["RW602-Ward D5","RW6","PENNINE ACUTE HOSPITALS NHS TRUST","RW602","NORTH MANCHESTER GENERAL HOSPITAL","Ward D5"]
["RW602-Ward D6","RW6","PENNINE ACUTE HOSPITALS NHS TRUST","RW602","NORTH MANCHESTER GENERAL HOSPITAL","Ward D6"]
["RW602-Ward E3","RW6","PENNINE ACUTE HOSPITALS NHS TRUST","RW602","NORTH MANCHESTER GENERAL HOSPITAL","Ward E3"]
["RW602-Ward F3","RW6","PENNINE ACUTE HOSPITALS NHS TRUST","RW602","NORTH MANCHESTER GENERAL HOSPITAL","Ward F3"]
["RW602-Ward F4","RW6","PENNINE ACUTE HOSPITALS NHS TRUST","RW602","NORTH MANCHESTER GENERAL HOSPITAL","Ward F4"]
["RW602-Ward F5","RW6","PENNINE ACUTE HOSPITALS NHS TRUST","RW602","NORTH MANCHESTER GENERAL HOSPITAL","Ward F5"]
["RW602-Ward F6","RW6","PENNINE ACUTE HOSPITALS NHS TRUST","RW602","NORTH MANCHESTER GENERAL HOSPITAL","Ward F6"]
["RW602-Ward H3","RW6","PENNINE ACUTE HOSPITALS NHS TRUST","RW602","NORTH MANCHESTER GENERAL HOSPITAL","Ward H3"]
["RW602-Ward I5","RW6","PENNINE ACUTE HOSPITALS NHS TRUST","RW602","NORTH MANCHESTER GENERAL HOSPITAL","Ward I5"]
["RW602-Ward I6","RW6","PENNINE ACUTE HOSPITALS NHS TRUST","RW602","NORTH MANCHESTER GENERAL HOSPITAL","Ward I6"]
["RW602-Ward J3J4","RW6","PENNINE ACUTE HOSPITALS NHS TRUST","RW602","NORTH MANCHESTER GENERAL HOSPITAL","Ward J3J4"]
["RW602-Ward J6","RW6","PENNINE ACUTE HOSPITALS NHS TRUST","RW602","NORTH MANCHESTER GENERAL HOSPITAL","Ward J6"]
["RW602-Ward STU","RW6","PENNINE ACUTE HOSPITALS NHS TRUST","RW602","NORTH MANCHESTER GENERAL HOSPITAL","Ward STU"]
["RW603-A&E Observation Ward","RW6","PENNINE ACUTE HOSPITALS NHS TRUST","RW603","ROYAL OLDHAM HOSPITAL","A&E Observation Ward"]
["RW603-Antenatal Ward","RW6","PENNINE ACUTE HOSPITALS NHS TRUST","RW603","ROYAL OLDHAM HOSPITAL","Antenatal Ward"]
["RW603-Childrens Unit","RW6","PENNINE ACUTE HOSPITALS NHS TRUST","RW603","ROYAL OLDHAM HOSPITAL","Childrens Unit"]
["RW603-Critical Care","RW6","PENNINE ACUTE HOSPITALS NHS TRUST","RW603","ROYAL OLDHAM HOSPITAL","Critical Care"]
["RW603-Labour Ward","RW6","PENNINE ACUTE HOSPITALS NHS TRUST","RW603","ROYAL OLDHAM HOSPITAL","Labour Ward"]
["RW603-Neonatal Unit","RW6","PENNINE ACUTE HOSPITALS NHS TRUST","RW603","ROYAL OLDHAM HOSPITAL","Neonatal Unit"]
["RW603-Postnatal Ward","RW6","PENNINE ACUTE HOSPITALS NHS TRUST","RW603","ROYAL OLDHAM HOSPITAL","Postnatal Ward"]
["RW603-Ward AMU","RW6","PENNINE ACUTE HOSPITALS NHS TRUST","RW603","ROYAL OLDHAM HOSPITAL","Ward AMU"]
["RW603-Ward CCU","RW6","PENNINE ACUTE HOSPITALS NHS TRUST","RW603","ROYAL OLDHAM HOSPITAL","Ward CCU"]
["RW603-Ward F1","RW6","PENNINE ACUTE HOSPITALS NHS TRUST","RW603","ROYAL OLDHAM HOSPITAL","Ward F1"]
["RW603-Ward F10","RW6","PENNINE ACUTE HOSPITALS NHS TRUST","RW603","ROYAL OLDHAM HOSPITAL","Ward F10"]
["RW603-Ward F11","RW6","PENNINE ACUTE HOSPITALS NHS TRUST","RW603","ROYAL OLDHAM HOSPITAL","Ward F11"]
["RW603-Ward F7","RW6","PENNINE ACUTE HOSPITALS NHS TRUST","RW603","ROYAL OLDHAM HOSPITAL","Ward F7"]
["RW603-Ward F8","RW6","PENNINE ACUTE HOSPITALS NHS TRUST","RW603","ROYAL OLDHAM HOSPITAL","Ward F8"]
[{"$f":"CONCATENATE(D4909,\"-\",F4909)","v":"RW603-Ward F9"},"RW6","PENNINE ACUTE HOSPITALS NHS TRUST","RW603","ROYAL OLDHAM HOSPITAL","Ward F9"]
["RW603-Ward G1","RW6","PENNINE ACUTE HOSPITALS NHS TRUST","RW603","ROYAL OLDHAM HOSPITAL","Ward G1"]
["RW603-Ward G2","RW6","PENNINE ACUTE HOSPITALS NHS TRUST","RW603","ROYAL OLDHAM HOSPITAL","Ward G2"]
["RW603-Ward T3","RW6","PENNINE ACUTE HOSPITALS NHS TRUST","RW603","ROYAL OLDHAM HOSPITAL","Ward T3"]
["RW603-Ward T4 STU","RW6","PENNINE ACUTE HOSPITALS NHS TRUST","RW603","ROYAL OLDHAM HOSPITAL","Ward T4 STU"]
["RW603-Ward T5","RW6","PENNINE ACUTE HOSPITALS NHS TRUST","RW603","ROYAL OLDHAM HOSPITAL","Ward T5"]
["RW603-Ward T6","RW6","PENNINE ACUTE HOSPITALS NHS TRUST","RW603","ROYAL OLDHAM HOSPITAL","Ward T6"]
["RW603-Ward T7","RW6","PENNINE ACUTE HOSPITALS NHS TRUST","RW603","ROYAL OLDHAM HOSPITAL","Ward T7"]
["RW604-Clinical Admissions Unit","RW6","PENNINE ACUTE HOSPITALS NHS TRUST","RW604","ROCHDALE INFIRMARY","Clinical Admissions Unit"]
["RW604-Oasis Unit - RI","RW6","PENNINE ACUTE HOSPITALS NHS TRUST","RW604","ROCHDALE INFIRMARY","Oasis Unit - RI"]
["RW604-Wolstenholme Unit - RI","RW6","PENNINE ACUTE HOSPITALS NHS TRUST","RW604","ROCHDALE INFIRMARY","Wolstenholme Unit - RI"]
["RW605-Floyd Unit","RW6","PENNINE ACUTE HOSPITALS NHS TRUST","RW605","BIRCH HILL HOSPITAL","Floyd Unit"]
["RWA01-130E","RWA","HULL UNIVERSITY TEACHING HOSPITALS NHS TRUST","RWA01","HULL ROYAL INFIRMARY","130E"]
["RWA01-130W","RWA","HULL UNIVERSITY TEACHING HOSPITALS NHS TRUST","RWA01","HULL ROYAL INFIRMARY","130W"]
["RWA01-AMLU","RWA","HULL UNIVERSITY TEACHING HOSPITALS NHS TRUST","RWA01","HULL ROYAL INFIRMARY","AMLU"]
["RWA01-BAIL","RWA","HULL UNIVERSITY TEACHING HOSPITALS NHS TRUST","RWA01","HULL ROYAL INFIRMARY","BAIL"]
["RWA01-BINI","RWA","HULL UNIVERSITY TEACHING HOSPITALS NHS TRUST","RWA01","HULL ROYAL INFIRMARY","BINI"]
["RWA01-C1","RWA","HULL UNIVERSITY TEACHING HOSPITALS NHS TRUST","RWA01","HULL ROYAL INFIRMARY","C1"]
["RWA01-C12D","RWA","HULL UNIVERSITY TEACHING HOSPITALS NHS TRUST","RWA01","HULL ROYAL INFIRMARY","C12D"]
["RWA01-C4","RWA","HULL UNIVERSITY TEACHING HOSPITALS NHS TRUST","RWA01","HULL ROYAL INFIRMARY","C4"]
["RWA01-C5","RWA","HULL UNIVERSITY TEACHING HOSPITALS NHS TRUST","RWA01","HULL ROYAL INFIRMARY","C5"]
["RWA01-C6A","RWA","HULL UNIVERSITY TEACHING HOSPITALS NHS TRUST","RWA01","HULL ROYAL INFIRMARY","C6A"]
["RWA01-CHDU","RWA","HULL UNIVERSITY TEACHING HOSPITALS NHS TRUST","RWA01","HULL ROYAL INFIRMARY","CHDU"]
["RWA01-CHEM","RWA","HULL UNIVERSITY TEACHING HOSPITALS NHS TRUST","RWA01","HULL ROYAL INFIRMARY","CHEM"]
["RWA01-CINI","RWA","HULL UNIVERSITY TEACHING HOSPITALS NHS TRUST","RWA01","HULL ROYAL INFIRMARY","CINI"]
["RWA01-CPRA","RWA","HULL UNIVERSITY TEACHING HOSPITALS NHS TRUST","RWA01","HULL ROYAL INFIRMARY","CPRA"]
["RWA01-CYST","RWA","HULL UNIVERSITY TEACHING HOSPITALS NHS TRUST","RWA01","HULL ROYAL INFIRMARY","CYST"]
["RWA01-DERM","RWA","HULL UNIVERSITY TEACHING HOSPITALS NHS TRUST","RWA01","HULL ROYAL INFIRMARY","DERM"]
["RWA01-EAU","RWA","HULL UNIVERSITY TEACHING HOSPITALS NHS TRUST","RWA01","HULL ROYAL INFIRMARY","EAU"]
["RWA01-EYDC","RWA","HULL UNIVERSITY TEACHING HOSPITALS NHS TRUST","RWA01","HULL ROYAL INFIRMARY","EYDC"]
["RWA01-EYWD","RWA","HULL UNIVERSITY TEACHING HOSPITALS NHS TRUST","RWA01","HULL ROYAL INFIRMARY","EYWD"]
["RWA01-GATH","RWA","HULL UNIVERSITY TEACHING HOSPITALS NHS TRUST","RWA01","HULL ROYAL INFIRMARY","GATH"]
["RWA01-H1","RWA","HULL UNIVERSITY TEACHING HOSPITALS NHS TRUST","RWA01","HULL ROYAL INFIRMARY","H1"]
["RWA01-H10","RWA","HULL UNIVERSITY TEACHING HOSPITALS NHS TRUST","RWA01","HULL ROYAL INFIRMARY","H10"]
["RWA01-H100","RWA","HULL UNIVERSITY TEACHING HOSPITALS NHS TRUST","RWA01","HULL ROYAL INFIRMARY","H100"]
["RWA01-H11","RWA","HULL UNIVERSITY TEACHING HOSPITALS NHS TRUST","RWA01","HULL ROYAL INFIRMARY","H11"]
["RWA01-H110","RWA","HULL UNIVERSITY TEACHING HOSPITALS NHS TRUST","RWA01","HULL ROYAL INFIRMARY","H110"]
["RWA01-H12","RWA","HULL UNIVERSITY TEACHING HOSPITALS NHS TRUST","RWA01","HULL ROYAL INFIRMARY","H12"]
["RWA01-H120","RWA","HULL UNIVERSITY TEACHING HOSPITALS NHS TRUST","RWA01","HULL ROYAL INFIRMARY","H120"]
["RWA01-H15","RWA","HULL UNIVERSITY TEACHING HOSPITALS NHS TRUST","RWA01","HULL ROYAL INFIRMARY","H15"]
["RWA01-H16","RWA","HULL UNIVERSITY TEACHING HOSPITALS NHS TRUST","RWA01","HULL ROYAL INFIRMARY","H16"]
["RWA01-H19","RWA","HULL UNIVERSITY TEACHING HOSPITALS NHS TRUST","RWA01","HULL ROYAL INFIRMARY","H19"]
["RWA01-H20","RWA","HULL UNIVERSITY TEACHING HOSPITALS NHS TRUST","RWA01","HULL ROYAL INFIRMARY","H20"]
["RWA01-H200","RWA","HULL UNIVERSITY TEACHING HOSPITALS NHS TRUST","RWA01","HULL ROYAL INFIRMARY","H200"]
["RWA01-H21","RWA","HULL UNIVERSITY TEACHING HOSPITALS NHS TRUST","RWA01","HULL ROYAL INFIRMARY","H21"]
["RWA01-H24","RWA","HULL UNIVERSITY TEACHING HOSPITALS NHS TRUST","RWA01","HULL ROYAL INFIRMARY","H24"]
["RWA01-H30","RWA","HULL UNIVERSITY TEACHING HOSPITALS NHS TRUST","RWA01","HULL ROYAL INFIRMARY","H30"]
["RWA01-H31","RWA","HULL UNIVERSITY TEACHING HOSPITALS NHS TRUST","RWA01","HULL ROYAL INFIRMARY","H31"]
["RWA01-H31A","RWA","HULL UNIVERSITY TEACHING HOSPITALS NHS TRUST","RWA01","HULL ROYAL INFIRMARY","H31A"]
["RWA01-H32","RWA","HULL UNIVERSITY TEACHING HOSPITALS NHS TRUST","RWA01","HULL ROYAL INFIRMARY","H32"]
["RWA01-H33","RWA","HULL UNIVERSITY TEACHING HOSPITALS NHS TRUST","RWA01","HULL ROYAL INFIRMARY","H33"]
["RWA01-H34","RWA","HULL UNIVERSITY TEACHING HOSPITALS NHS TRUST","RWA01","HULL ROYAL INFIRMARY","H34"]
["RWA01-H34A","RWA","HULL UNIVERSITY TEACHING HOSPITALS NHS TRUST","RWA01","HULL ROYAL INFIRMARY","H34A"]
["RWA01-H34D","RWA","HULL UNIVERSITY TEACHING HOSPITALS NHS TRUST","RWA01","HULL ROYAL INFIRMARY","H34D"]
["RWA01-H36","RWA","HULL UNIVERSITY TEACHING HOSPITALS NHS TRUST","RWA01","HULL ROYAL INFIRMARY","H36"]
["RWA01-H36a","RWA","HULL UNIVERSITY TEACHING HOSPITALS NHS TRUST","RWA01","HULL ROYAL INFIRMARY","H36a"]
["RWA01-H37","RWA","HULL UNIVERSITY TEACHING HOSPITALS NHS TRUST","RWA01","HULL ROYAL INFIRMARY","H37"]
["RWA01-H4","RWA","HULL UNIVERSITY TEACHING HOSPITALS NHS TRUST","RWA01","HULL ROYAL INFIRMARY","H4"]
["RWA01-H40A","RWA","HULL UNIVERSITY TEACHING HOSPITALS NHS TRUST","RWA01","HULL ROYAL INFIRMARY","H40A"]
["RWA01-H5","RWA","HULL UNIVERSITY TEACHING HOSPITALS NHS TRUST","RWA01","HULL ROYAL INFIRMARY","H5"]
["RWA01-H50","RWA","HULL UNIVERSITY TEACHING HOSPITALS NHS TRUST","RWA01","HULL ROYAL INFIRMARY","H50"]
["RWA01-H500","RWA","HULL UNIVERSITY TEACHING HOSPITALS NHS TRUST","RWA01","HULL ROYAL INFIRMARY","H500"]
["RWA01-H6","RWA","HULL UNIVERSITY TEACHING HOSPITALS NHS TRUST","RWA01","HULL ROYAL INFIRMARY","H6"]
["RWA01-H60","RWA","HULL UNIVERSITY TEACHING HOSPITALS NHS TRUST","RWA01","HULL ROYAL INFIRMARY","H60"]
[{"$f":"CONCATENATE(D4973,\"-\",F4973)","v":"RWA01-H6A"},"RWA","HULL UNIVERSITY TEACHING HOSPITALS NHS TRUST","RWA01","HULL ROYAL INFIRMARY","H6A"]
["RWA01-H7","RWA","HULL UNIVERSITY TEACHING HOSPITALS NHS TRUST","RWA01","HULL ROYAL INFIRMARY","H7"]
["RWA01-H70","RWA","HULL UNIVERSITY TEACHING HOSPITALS NHS TRUST","RWA01","HULL ROYAL INFIRMARY","H70"]
["RWA01-H8","RWA","HULL UNIVERSITY TEACHING HOSPITALS NHS TRUST","RWA01","HULL ROYAL INFIRMARY","H8"]
["RWA01-H80","RWA","HULL UNIVERSITY TEACHING HOSPITALS NHS TRUST","RWA01","HULL ROYAL INFIRMARY","H80"]
["RWA01-H9","RWA","HULL UNIVERSITY TEACHING HOSPITALS NHS TRUST","RWA01","HULL ROYAL INFIRMARY","H9"]
["RWA01-H90","RWA","HULL UNIVERSITY TEACHING HOSPITALS NHS TRUST","RWA01","HULL ROYAL INFIRMARY","H90"]
["RWA01-HAAU","RWA","HULL UNIVERSITY TEACHING HOSPITALS NHS TRUST","RWA01","HULL ROYAL INFIRMARY","HAAU"]
["RWA01-HACU","RWA","HULL UNIVERSITY TEACHING HOSPITALS NHS TRUST","RWA01","HULL ROYAL INFIRMARY","HACU"]
["RWA01-HAEM","RWA","HULL UNIVERSITY TEACHING HOSPITALS NHS TRUST","RWA01","HULL ROYAL INFIRMARY","HAEM"]
["RWA01-HARV","RWA","HULL UNIVERSITY TEACHING HOSPITALS NHS TRUST","RWA01","HULL ROYAL INFIRMARY","HARV"]
["RWA01-HASU","RWA","HULL UNIVERSITY TEACHING HOSPITALS NHS TRUST","RWA01","HULL ROYAL INFIRMARY","HASU"]
["RWA01-HCHC","RWA","HULL UNIVERSITY TEACHING HOSPITALS NHS TRUST","RWA01","HULL ROYAL INFIRMARY","HCHC"]
["RWA01-HCMU","RWA","HULL UNIVERSITY TEACHING HOSPITALS NHS TRUST","RWA01","HULL ROYAL INFIRMARY","HCMU"]
["RWA01-HCSS","RWA","HULL UNIVERSITY TEACHING HOSPITALS NHS TRUST","RWA01","HULL ROYAL INFIRMARY","HCSS"]
["RWA01-HDL","RWA","HULL UNIVERSITY TEACHING HOSPITALS NHS TRUST","RWA01","HULL ROYAL INFIRMARY","HDL"]
["RWA01-HDSU","RWA","HULL UNIVERSITY TEACHING HOSPITALS NHS TRUST","RWA01","HULL ROYAL INFIRMARY","HDSU"]
["RWA01-HGDC","RWA","HULL UNIVERSITY TEACHING HOSPITALS NHS TRUST","RWA01","HULL ROYAL INFIRMARY","HGDC"]
["RWA01-HGHD","RWA","HULL UNIVERSITY TEACHING HOSPITALS NHS TRUST","RWA01","HULL ROYAL INFIRMARY","HGHD"]
["RWA01-HGMP","RWA","HULL UNIVERSITY TEACHING HOSPITALS NHS TRUST","RWA01","HULL ROYAL INFIRMARY","HGMP"]
["RWA01-HICU","RWA","HULL UNIVERSITY TEACHING HOSPITALS NHS TRUST","RWA01","HULL ROYAL INFIRMARY","HICU"]
["RWA01-HINI","RWA","HULL UNIVERSITY TEACHING HOSPITALS NHS TRUST","RWA01","HULL ROYAL INFIRMARY","HINI"]
["RWA01-HLDS","RWA","HULL UNIVERSITY TEACHING HOSPITALS NHS TRUST","RWA01","HULL ROYAL INFIRMARY","HLDS"]
["RWA01-HNHD","RWA","HULL UNIVERSITY TEACHING HOSPITALS NHS TRUST","RWA01","HULL ROYAL INFIRMARY","HNHD"]
["RWA01-HORA","RWA","HULL UNIVERSITY TEACHING HOSPITALS NHS TRUST","RWA01","HULL ROYAL INFIRMARY","HORA"]
["RWA01-HPAU","RWA","HULL UNIVERSITY TEACHING HOSPITALS NHS TRUST","RWA01","HULL ROYAL INFIRMARY","HPAU"]
["RWA01-HPDU","RWA","HULL UNIVERSITY TEACHING HOSPITALS NHS TRUST","RWA01","HULL ROYAL INFIRMARY","HPDU"]
["RWA01-HPHD","RWA","HULL UNIVERSITY TEACHING HOSPITALS NHS TRUST","RWA01","HULL ROYAL INFIRMARY","HPHD"]
["RWA01-HPIU","RWA","HULL UNIVERSITY TEACHING HOSPITALS NHS TRUST","RWA01","HULL ROYAL INFIRMARY","HPIU"]
["RWA01-HPLA","RWA","HULL UNIVERSITY TEACHING HOSPITALS NHS TRUST","RWA01","HULL ROYAL INFIRMARY","HPLA"]
["RWA01-HSMO","RWA","HULL UNIVERSITY TEACHING HOSPITALS NHS TRUST","RWA01","HULL ROYAL INFIRMARY","HSMO"]
["RWA01-HSSW","RWA","HULL UNIVERSITY TEACHING HOSPITALS NHS TRUST","RWA01","HULL ROYAL INFIRMARY","HSSW"]
["RWA01-HTCB","RWA","HULL UNIVERSITY TEACHING HOSPITALS NHS TRUST","RWA01","HULL ROYAL INFIRMARY","HTCB"]
["RWA01-HTH","RWA","HULL UNIVERSITY TEACHING HOSPITALS NHS TRUST","RWA01","HULL ROYAL INFIRMARY","HTH"]
["RWA01-IMIC","RWA","HULL UNIVERSITY TEACHING HOSPITALS NHS TRUST","RWA01","HULL ROYAL INFIRMARY","IMIC"]
["RWA01-JBWD","RWA","HULL UNIVERSITY TEACHING HOSPITALS NHS TRUST","RWA01","HULL ROYAL INFIRMARY","JBWD"]
["RWA01-N140","RWA","HULL UNIVERSITY TEACHING HOSPITALS NHS TRUST","RWA01","HULL ROYAL INFIRMARY","N140"]
["RWA01-NHEY","RWA","HULL UNIVERSITY TEACHING HOSPITALS NHS TRUST","RWA01","HULL ROYAL INFIRMARY","NHEY"]
["RWA01-NICU","RWA","HULL UNIVERSITY TEACHING HOSPITALS NHS TRUST","RWA01","HULL ROYAL INFIRMARY","NICU"]
["RWA01-NINI","RWA","HULL UNIVERSITY TEACHING HOSPITALS NHS TRUST","RWA01","HULL ROYAL INFIRMARY","NINI"]
["RWA01-PCHE","RWA","HULL UNIVERSITY TEACHING HOSPITALS NHS TRUST","RWA01","HULL ROYAL INFIRMARY","PCHE"]
["RWA01-PHOB","RWA","HULL UNIVERSITY TEACHING HOSPITALS NHS TRUST","RWA01","HULL ROYAL INFIRMARY","PHOB"]
["RWA01-PION","RWA","HULL UNIVERSITY TEACHING HOSPITALS NHS TRUST","RWA01","HULL ROYAL INFIRMARY","PION"]
["RWA01-PLAS","RWA","HULL UNIVERSITY TEACHING HOSPITALS NHS TRUST","RWA01","HULL ROYAL INFIRMARY","PLAS"]
["RWA01-RECK","RWA","HULL UNIVERSITY TEACHING HOSPITALS NHS TRUST","RWA01","HULL ROYAL INFIRMARY","RECK"]
["RWA01-RHDU","RWA","HULL UNIVERSITY TEACHING HOSPITALS NHS TRUST","RWA01","HULL ROYAL INFIRMARY","RHDU"]
["RWA01-SPCU","RWA","HULL UNIVERSITY TEACHING HOSPITALS NHS TRUST","RWA01","HULL ROYAL INFIRMARY","SPCU"]
["RWA01-STIL","RWA","HULL UNIVERSITY TEACHING HOSPITALS NHS TRUST","RWA01","HULL ROYAL INFIRMARY","STIL"]
["RWA01-SUTT","RWA","HULL UNIVERSITY TEACHING HOSPITALS NHS TRUST","RWA01","HULL ROYAL INFIRMARY","SUTT"]
["RWA01-UPCO","RWA","HULL UNIVERSITY TEACHING HOSPITALS NHS TRUST","RWA01","HULL ROYAL INFIRMARY","UPCO"]
["RWA01-WDSU","RWA","HULL UNIVERSITY TEACHING HOSPITALS NHS TRUST","RWA01","HULL ROYAL INFIRMARY","WDSU"]
["RWA16-C07","RWA","HULL UNIVERSITY TEACHING HOSPITALS NHS TRUST","RWA16","CASTLE HILL HOSPITAL","C07"]
["RWA16-C10","RWA","HULL UNIVERSITY TEACHING HOSPITALS NHS TRUST","RWA16","CASTLE HILL HOSPITAL","C10"]
["RWA16-C11","RWA","HULL UNIVERSITY TEACHING HOSPITALS NHS TRUST","RWA16","CASTLE HILL HOSPITAL","C11"]
["RWA16-C12","RWA","HULL UNIVERSITY TEACHING HOSPITALS NHS TRUST","RWA16","CASTLE HILL HOSPITAL","C12"]
["RWA16-C14","RWA","HULL UNIVERSITY TEACHING HOSPITALS NHS TRUST","RWA16","CASTLE HILL HOSPITAL","C14"]
["RWA16-C15","RWA","HULL UNIVERSITY TEACHING HOSPITALS NHS TRUST","RWA16","CASTLE HILL HOSPITAL","C15"]
["RWA16-C16","RWA","HULL UNIVERSITY TEACHING HOSPITALS NHS TRUST","RWA16","CASTLE HILL HOSPITAL","C16"]
["RWA16-C16A","RWA","HULL UNIVERSITY TEACHING HOSPITALS NHS TRUST","RWA16","CASTLE HILL HOSPITAL","C16A"]
["RWA16-C18","RWA","HULL UNIVERSITY TEACHING HOSPITALS NHS TRUST","RWA16","CASTLE HILL HOSPITAL","C18"]
["RWA16-C19","RWA","HULL UNIVERSITY TEACHING HOSPITALS NHS TRUST","RWA16","CASTLE HILL HOSPITAL","C19"]
["RWA16-C2","RWA","HULL UNIVERSITY TEACHING HOSPITALS NHS TRUST","RWA16","CASTLE HILL HOSPITAL","C2"]
["RWA16-C20","RWA","HULL UNIVERSITY TEACHING HOSPITALS NHS TRUST","RWA16","CASTLE HILL HOSPITAL","C20"]
["RWA16-C21","RWA","HULL UNIVERSITY TEACHING HOSPITALS NHS TRUST","RWA16","CASTLE HILL HOSPITAL","C21"]
[{"$f":"CONCATENATE(D5037,\"-\",F5037)","v":"RWA16-C22"},"RWA","HULL UNIVERSITY TEACHING HOSPITALS NHS TRUST","RWA16","CASTLE HILL HOSPITAL","C22"]
["RWA16-C26","RWA","HULL UNIVERSITY TEACHING HOSPITALS NHS TRUST","RWA16","CASTLE HILL HOSPITAL","C26"]
["RWA16-C27","RWA","HULL UNIVERSITY TEACHING HOSPITALS NHS TRUST","RWA16","CASTLE HILL HOSPITAL","C27"]
["RWA16-C28","RWA","HULL UNIVERSITY TEACHING HOSPITALS NHS TRUST","RWA16","CASTLE HILL HOSPITAL","C28"]
["RWA16-C29","RWA","HULL UNIVERSITY TEACHING HOSPITALS NHS TRUST","RWA16","CASTLE HILL HOSPITAL","C29"]
["RWA16-C30","RWA","HULL UNIVERSITY TEACHING HOSPITALS NHS TRUST","RWA16","CASTLE HILL HOSPITAL","C30"]
["RWA16-C31","RWA","HULL UNIVERSITY TEACHING HOSPITALS NHS TRUST","RWA16","CASTLE HILL HOSPITAL","C31"]
["RWA16-C32","RWA","HULL UNIVERSITY TEACHING HOSPITALS NHS TRUST","RWA16","CASTLE HILL HOSPITAL","C32"]
["RWA16-C33","RWA","HULL UNIVERSITY TEACHING HOSPITALS NHS TRUST","RWA16","CASTLE HILL HOSPITAL","C33"]
["RWA16-C6","RWA","HULL UNIVERSITY TEACHING HOSPITALS NHS TRUST","RWA16","CASTLE HILL HOSPITAL","C6"]
["RWA16-C7","RWA","HULL UNIVERSITY TEACHING HOSPITALS NHS TRUST","RWA16","CASTLE HILL HOSPITAL","C7"]
["RWA16-C8","RWA","HULL UNIVERSITY TEACHING HOSPITALS NHS TRUST","RWA16","CASTLE HILL HOSPITAL","C8"]
["RWA16-C9","RWA","HULL UNIVERSITY TEACHING HOSPITALS NHS TRUST","RWA16","CASTLE HILL HOSPITAL","C9"]
["RWA16-CCAU","RWA","HULL UNIVERSITY TEACHING HOSPITALS NHS TRUST","RWA16","CASTLE HILL HOSPITAL","CCAU"]
["RWA16-CCD5","RWA","HULL UNIVERSITY TEACHING HOSPITALS NHS TRUST","RWA16","CASTLE HILL HOSPITAL","CCD5"]
["RWA16-CCDC","RWA","HULL UNIVERSITY TEACHING HOSPITALS NHS TRUST","RWA16","CASTLE HILL HOSPITAL","CCDC"]
["RWA16-CCMU","RWA","HULL UNIVERSITY TEACHING HOSPITALS NHS TRUST","RWA16","CASTLE HILL HOSPITAL","CCMU"]
["RWA16-CCTS","RWA","HULL UNIVERSITY TEACHING HOSPITALS NHS TRUST","RWA16","CASTLE HILL HOSPITAL","CCTS"]
["RWA16-CDC4","RWA","HULL UNIVERSITY TEACHING HOSPITALS NHS TRUST","RWA16","CASTLE HILL HOSPITAL","CDC4"]
["RWA16-CDS3","RWA","HULL UNIVERSITY TEACHING HOSPITALS NHS TRUST","RWA16","CASTLE HILL HOSPITAL","CDS3"]
["RWA16-CDSU","RWA","HULL UNIVERSITY TEACHING HOSPITALS NHS TRUST","RWA16","CASTLE HILL HOSPITAL","CDSU"]
["RWA16-CGI1","RWA","HULL UNIVERSITY TEACHING HOSPITALS NHS TRUST","RWA16","CASTLE HILL HOSPITAL","CGI1"]
["RWA16-CGIC","RWA","HULL UNIVERSITY TEACHING HOSPITALS NHS TRUST","RWA16","CASTLE HILL HOSPITAL","CGIC"]
["RWA16-CGMP","RWA","HULL UNIVERSITY TEACHING HOSPITALS NHS TRUST","RWA16","CASTLE HILL HOSPITAL","CGMP"]
["RWA16-CGST","RWA","HULL UNIVERSITY TEACHING HOSPITALS NHS TRUST","RWA16","CASTLE HILL HOSPITAL","CGST"]
["RWA16-CHORA","RWA","HULL UNIVERSITY TEACHING HOSPITALS NHS TRUST","RWA16","CASTLE HILL HOSPITAL","CHORA"]
["RWA16-CHRA","RWA","HULL UNIVERSITY TEACHING HOSPITALS NHS TRUST","RWA16","CASTLE HILL HOSPITAL","CHRA"]
["RWA16-CHTH","RWA","HULL UNIVERSITY TEACHING HOSPITALS NHS TRUST","RWA16","CASTLE HILL HOSPITAL","CHTH"]
["RWA16-CICU","RWA","HULL UNIVERSITY TEACHING HOSPITALS NHS TRUST","RWA16","CASTLE HILL HOSPITAL","CICU"]
["RWA16-CIMM","RWA","HULL UNIVERSITY TEACHING HOSPITALS NHS TRUST","RWA16","CASTLE HILL HOSPITAL","CIMM"]
["RWA16-CNUF","RWA","HULL UNIVERSITY TEACHING HOSPITALS NHS TRUST","RWA16","CASTLE HILL HOSPITAL","CNUF"]
["RWA16-COHD","RWA","HULL UNIVERSITY TEACHING HOSPITALS NHS TRUST","RWA16","CASTLE HILL HOSPITAL","COHD"]
["RWA16-CPAT","RWA","HULL UNIVERSITY TEACHING HOSPITALS NHS TRUST","RWA16","CASTLE HILL HOSPITAL","CPAT"]
["RWA16-CSAL","RWA","HULL UNIVERSITY TEACHING HOSPITALS NHS TRUST","RWA16","CASTLE HILL HOSPITAL","CSAL"]
["RWA16-CURP","RWA","HULL UNIVERSITY TEACHING HOSPITALS NHS TRUST","RWA16","CASTLE HILL HOSPITAL","CURP"]
["RWA16-END1","RWA","HULL UNIVERSITY TEACHING HOSPITALS NHS TRUST","RWA16","CASTLE HILL HOSPITAL","END1"]
["RWA16-END2","RWA","HULL UNIVERSITY TEACHING HOSPITALS NHS TRUST","RWA16","CASTLE HILL HOSPITAL","END2"]
["RWA16-TYAC","RWA","HULL UNIVERSITY TEACHING HOSPITALS NHS TRUST","RWA16","CASTLE HILL HOSPITAL","TYAC"]
["RWA16-TYAD","RWA","HULL UNIVERSITY TEACHING HOSPITALS NHS TRUST","RWA16","CASTLE HILL HOSPITAL","TYAD"]
["RWDDA-Ashby","RWD","UNITED LINCOLNSHIRE HOSPITALS NHS TRUST","RWDDA","LINCOLN COUNTY HOSPITAL","Ashby"]
["RWDDA-Bardney","RWD","UNITED LINCOLNSHIRE HOSPITALS NHS TRUST","RWDDA","LINCOLN COUNTY HOSPITAL","Bardney"]
["RWDDA-Branston","RWD","UNITED LINCOLNSHIRE HOSPITALS NHS TRUST","RWDDA","LINCOLN COUNTY HOSPITAL","Branston"]
["RWDDA-Burton","RWD","UNITED LINCOLNSHIRE HOSPITALS NHS TRUST","RWDDA","LINCOLN COUNTY HOSPITAL","Burton"]
["RWDDA-Carlton-Coleby","RWD","UNITED LINCOLNSHIRE HOSPITALS NHS TRUST","RWDDA","LINCOLN COUNTY HOSPITAL","Carlton-Coleby"]
["RWDDA-Clayton","RWD","UNITED LINCOLNSHIRE HOSPITALS NHS TRUST","RWDDA","LINCOLN COUNTY HOSPITAL","Clayton"]
["RWDDA-Dixon","RWD","UNITED LINCOLNSHIRE HOSPITALS NHS TRUST","RWDDA","LINCOLN COUNTY HOSPITAL","Dixon"]
["RWDDA-Frailty Assessment Unit","RWD","UNITED LINCOLNSHIRE HOSPITALS NHS TRUST","RWDDA","LINCOLN COUNTY HOSPITAL","Frailty Assessment Unit"]
["RWDDA-Greetwell","RWD","UNITED LINCOLNSHIRE HOSPITALS NHS TRUST","RWDDA","LINCOLN COUNTY HOSPITAL","Greetwell"]
["RWDDA-Hatton","RWD","UNITED LINCOLNSHIRE HOSPITALS NHS TRUST","RWDDA","LINCOLN COUNTY HOSPITAL","Hatton"]
["RWDDA-ICU","RWD","UNITED LINCOLNSHIRE HOSPITALS NHS TRUST","RWDDA","LINCOLN COUNTY HOSPITAL","ICU"]
["RWDDA-Johnson","RWD","UNITED LINCOLNSHIRE HOSPITALS NHS TRUST","RWDDA","LINCOLN COUNTY HOSPITAL","Johnson"]
["RWDDA-Lancaster","RWD","UNITED LINCOLNSHIRE HOSPITALS NHS TRUST","RWDDA","LINCOLN COUNTY HOSPITAL","Lancaster"]
["RWDDA-MEAU","RWD","UNITED LINCOLNSHIRE HOSPITALS NHS TRUST","RWDDA","LINCOLN COUNTY HOSPITAL","MEAU"]
["RWDDA-Navenby","RWD","UNITED LINCOLNSHIRE HOSPITALS NHS TRUST","RWDDA","LINCOLN COUNTY HOSPITAL","Navenby"]
["RWDDA-Neonatal (SCBU)","RWD","UNITED LINCOLNSHIRE HOSPITALS NHS TRUST","RWDDA","LINCOLN COUNTY HOSPITAL","Neonatal (SCBU)"]
["RWDDA-Nettleham","RWD","UNITED LINCOLNSHIRE HOSPITALS NHS TRUST","RWDDA","LINCOLN COUNTY HOSPITAL","Nettleham"]
["RWDDA-Neustadt-Welton","RWD","UNITED LINCOLNSHIRE HOSPITALS NHS TRUST","RWDDA","LINCOLN COUNTY HOSPITAL","Neustadt-Welton"]
["RWDDA-Rainforest","RWD","UNITED LINCOLNSHIRE HOSPITALS NHS TRUST","RWDDA","LINCOLN COUNTY HOSPITAL","Rainforest"]
["RWDDA-Scampton","RWD","UNITED LINCOLNSHIRE HOSPITALS NHS TRUST","RWDDA","LINCOLN COUNTY HOSPITAL","Scampton"]
["RWDDA-SEAU","RWD","UNITED LINCOLNSHIRE HOSPITALS NHS TRUST","RWDDA","LINCOLN COUNTY HOSPITAL","SEAU"]
["RWDDA-Shuttleworth","RWD","UNITED LINCOLNSHIRE HOSPITALS NHS TRUST","RWDDA","LINCOLN COUNTY HOSPITAL","Shuttleworth"]
["RWDDA-Stroke Unit","RWD","UNITED LINCOLNSHIRE HOSPITALS NHS TRUST","RWDDA","LINCOLN COUNTY HOSPITAL","Stroke Unit"]
["RWDDA-Waddington","RWD","UNITED LINCOLNSHIRE HOSPITALS NHS TRUST","RWDDA","LINCOLN COUNTY HOSPITAL","Waddington"]
["RWDLA-1B","RWD","UNITED LINCOLNSHIRE HOSPITALS NHS TRUST","RWDLA","PILGRIM HOSPITAL","1B"]
[{"$f":"CONCATENATE(D5101,\"-\",F5101)","v":"RWDLA-Acute Cardiac Unit"},"RWD","UNITED LINCOLNSHIRE HOSPITALS NHS TRUST","RWDLA","PILGRIM HOSPITAL","Acute Cardiac Unit"]
["RWDLA-Acute Medical Short Stay","RWD","UNITED LINCOLNSHIRE HOSPITALS NHS TRUST","RWDLA","PILGRIM HOSPITAL","Acute Medical Short Stay"]
["RWDLA-Bevan Ward","RWD","UNITED LINCOLNSHIRE HOSPITALS NHS TRUST","RWDLA","PILGRIM HOSPITAL","Bevan Ward"]
["RWDLA-Childrens Ward","RWD","UNITED LINCOLNSHIRE HOSPITALS NHS TRUST","RWDLA","PILGRIM HOSPITAL","Childrens Ward"]
["RWDLA-ICU","RWD","UNITED LINCOLNSHIRE HOSPITALS NHS TRUST","RWDLA","PILGRIM HOSPITAL","ICU"]
["RWDLA-Integrated Assessment Centre","RWD","UNITED LINCOLNSHIRE HOSPITALS NHS TRUST","RWDLA","PILGRIM HOSPITAL","Integrated Assessment Centre"]
["RWDLA-Labour Ward","RWD","UNITED LINCOLNSHIRE HOSPITALS NHS TRUST","RWDLA","PILGRIM HOSPITAL","Labour Ward"]
["RWDLA-Maternity Ward","RWD","UNITED LINCOLNSHIRE HOSPITALS NHS TRUST","RWDLA","PILGRIM HOSPITAL","Maternity Ward"]
["RWDLA-Neonatal (SCBU)","RWD","UNITED LINCOLNSHIRE HOSPITALS NHS TRUST","RWDLA","PILGRIM HOSPITAL","Neonatal (SCBU)"]
["RWDLA-Orthopaedic Ward","RWD","UNITED LINCOLNSHIRE HOSPITALS NHS TRUST","RWDLA","PILGRIM HOSPITAL","Orthopaedic Ward"]
["RWDLA-Stroke Unit","RWD","UNITED LINCOLNSHIRE HOSPITALS NHS TRUST","RWDLA","PILGRIM HOSPITAL","Stroke Unit"]
["RWDLA-Ward 5A","RWD","UNITED LINCOLNSHIRE HOSPITALS NHS TRUST","RWDLA","PILGRIM HOSPITAL","Ward 5A"]
["RWDLA-Ward 5B","RWD","UNITED LINCOLNSHIRE HOSPITALS NHS TRUST","RWDLA","PILGRIM HOSPITAL","Ward 5B"]
["RWDLA-Ward 6A","RWD","UNITED LINCOLNSHIRE HOSPITALS NHS TRUST","RWDLA","PILGRIM HOSPITAL","Ward 6A"]
["RWDLA-Ward 6B","RWD","UNITED LINCOLNSHIRE HOSPITALS NHS TRUST","RWDLA","PILGRIM HOSPITAL","Ward 6B"]
["RWDLA-Ward 7A","RWD","UNITED LINCOLNSHIRE HOSPITALS NHS TRUST","RWDLA","PILGRIM HOSPITAL","Ward 7A"]
["RWDLA-Ward 7B","RWD","UNITED LINCOLNSHIRE HOSPITALS NHS TRUST","RWDLA","PILGRIM HOSPITAL","Ward 7B"]
["RWDLA-Ward 8A","RWD","UNITED LINCOLNSHIRE HOSPITALS NHS TRUST","RWDLA","PILGRIM HOSPITAL","Ward 8A"]
["RWDLP-Acute Care Unit","RWD","UNITED LINCOLNSHIRE HOSPITALS NHS TRUST","RWDLP","GRANTHAM AND DISTRICT HOSPITAL","Acute Care Unit"]
["RWDLP-Emergency Assessment Unit","RWD","UNITED LINCOLNSHIRE HOSPITALS NHS TRUST","RWDLP","GRANTHAM AND DISTRICT HOSPITAL","Emergency Assessment Unit"]
["RWDLP-Ward 1","RWD","UNITED LINCOLNSHIRE HOSPITALS NHS TRUST","RWDLP","GRANTHAM AND DISTRICT HOSPITAL","Ward 1"]
["RWDLP-Ward 2","RWD","UNITED LINCOLNSHIRE HOSPITALS NHS TRUST","RWDLP","GRANTHAM AND DISTRICT HOSPITAL","Ward 2"]
["RWDLP-Ward 6","RWD","UNITED LINCOLNSHIRE HOSPITALS NHS TRUST","RWDLP","GRANTHAM AND DISTRICT HOSPITAL","Ward 6"]
["RWEAA-LRI-Bone Marrow Transplant Unit","RWE","UNIVERSITY HOSPITALS OF LEICESTER NHS TRUST","RWEAA","LEICESTER ROYAL INFIRMARY","LRI-Bone Marrow Transplant Unit"]
["RWEAA-LRI-Childrens Intensive Care Unit","RWE","UNIVERSITY HOSPITALS OF LEICESTER NHS TRUST","RWEAA","LEICESTER ROYAL INFIRMARY","LRI-Childrens Intensive Care Unit"]
["RWEAA-LRI-Delivery Suite","RWE","UNIVERSITY HOSPITALS OF LEICESTER NHS TRUST","RWEAA","LEICESTER ROYAL INFIRMARY","LRI-Delivery Suite"]
["RWEAA-LRI-GAU (Gynaecology admissions)","RWE","UNIVERSITY HOSPITALS OF LEICESTER NHS TRUST","RWEAA","LEICESTER ROYAL INFIRMARY","LRI-GAU (Gynaecology admissions)"]
["RWEAA-LRI-Hampton Suite","RWE","UNIVERSITY HOSPITALS OF LEICESTER NHS TRUST","RWEAA","LEICESTER ROYAL INFIRMARY","LRI-Hampton Suite"]
["RWEAA-LRI-Infectious Diseases Unit","RWE","UNIVERSITY HOSPITALS OF LEICESTER NHS TRUST","RWEAA","LEICESTER ROYAL INFIRMARY","LRI-Infectious Diseases Unit"]
["RWEAA-LRI-ITU (Gen.Surgery,Haematology,Med,Max.Facial)","RWE","UNIVERSITY HOSPITALS OF LEICESTER NHS TRUST","RWEAA","LEICESTER ROYAL INFIRMARY","LRI-ITU (Gen.Surgery,Haematology,Med,Max.Facial)"]
["RWEAA-LRI-Kinmonth Unit Head, Neck, ENT Surg","RWE","UNIVERSITY HOSPITALS OF LEICESTER NHS TRUST","RWEAA","LEICESTER ROYAL INFIRMARY","LRI-Kinmonth Unit Head, Neck, ENT Surg"]
["RWEAA-LRI-Neo-Natal Unit","RWE","UNIVERSITY HOSPITALS OF LEICESTER NHS TRUST","RWEAA","LEICESTER ROYAL INFIRMARY","LRI-Neo-Natal Unit"]
["RWEAA-LRI-Stroke Wds 25/26","RWE","UNIVERSITY HOSPITALS OF LEICESTER NHS TRUST","RWEAA","LEICESTER ROYAL INFIRMARY","LRI-Stroke Wds 25/26"]
["RWEAA-LRI-Wd 10 Childrens Surgery","RWE","UNIVERSITY HOSPITALS OF LEICESTER NHS TRUST","RWEAA","LEICESTER ROYAL INFIRMARY","LRI-Wd 10 Childrens Surgery"]
["RWEAA-LRI-Wd 11 Childrens Med","RWE","UNIVERSITY HOSPITALS OF LEICESTER NHS TRUST","RWEAA","LEICESTER ROYAL INFIRMARY","LRI-Wd 11 Childrens Med"]
["RWEAA-LRI-Wd 12 Childrens Med","RWE","UNIVERSITY HOSPITALS OF LEICESTER NHS TRUST","RWEAA","LEICESTER ROYAL INFIRMARY","LRI-Wd 12 Childrens Med"]
["RWEAA-LRI-Wd 14 Childrens Med","RWE","UNIVERSITY HOSPITALS OF LEICESTER NHS TRUST","RWEAA","LEICESTER ROYAL INFIRMARY","LRI-Wd 14 Childrens Med"]
["RWEAA-LRI-Wd 17 Spinal/Trauma Ortho","RWE","UNIVERSITY HOSPITALS OF LEICESTER NHS TRUST","RWEAA","LEICESTER ROYAL INFIRMARY","LRI-Wd 17 Spinal/Trauma Ortho"]
["RWEAA-LRI-Wd 18 Trauma Ortho Admissions","RWE","UNIVERSITY HOSPITALS OF LEICESTER NHS TRUST","RWEAA","LEICESTER ROYAL INFIRMARY","LRI-Wd 18 Trauma Ortho Admissions"]
["RWEAA-LRI-Wd 19 Childrens Surgery","RWE","UNIVERSITY HOSPITALS OF LEICESTER NHS TRUST","RWEAA","LEICESTER ROYAL INFIRMARY","LRI-Wd 19 Childrens Surgery"]
["RWEAA-LRI-Wd 22 Surgery","RWE","UNIVERSITY HOSPITALS OF LEICESTER NHS TRUST","RWEAA","LEICESTER ROYAL INFIRMARY","LRI-Wd 22 Surgery"]
["RWEAA-LRI-Wd 23 Specialist Med","RWE","UNIVERSITY HOSPITALS OF LEICESTER NHS TRUST","RWEAA","LEICESTER ROYAL INFIRMARY","LRI-Wd 23 Specialist Med"]
["RWEAA-LRI-Wd 24 Specialist Med","RWE","UNIVERSITY HOSPITALS OF LEICESTER NHS TRUST","RWEAA","LEICESTER ROYAL INFIRMARY","LRI-Wd 24 Specialist Med"]
["RWEAA-LRI-Wd 27 Childrens Onc & Haem","RWE","UNIVERSITY HOSPITALS OF LEICESTER NHS TRUST","RWEAA","LEICESTER ROYAL INFIRMARY","LRI-Wd 27 Childrens Onc & Haem"]
["RWEAA-LRI-Wd 29 Older People","RWE","UNIVERSITY HOSPITALS OF LEICESTER NHS TRUST","RWEAA","LEICESTER ROYAL INFIRMARY","LRI-Wd 29 Older People"]
["RWEAA-LRI-Wd 30 Older people","RWE","UNIVERSITY HOSPITALS OF LEICESTER NHS TRUST","RWEAA","LEICESTER ROYAL INFIRMARY","LRI-Wd 30 Older people"]
["RWEAA-LRI-Wd 31 Older People","RWE","UNIVERSITY HOSPITALS OF LEICESTER NHS TRUST","RWEAA","LEICESTER ROYAL INFIRMARY","LRI-Wd 31 Older People"]
["RWEAA-LRI-Wd 32 Trauma Ortho","RWE","UNIVERSITY HOSPITALS OF LEICESTER NHS TRUST","RWEAA","LEICESTER ROYAL INFIRMARY","LRI-Wd 32 Trauma Ortho"]
["RWEAA-LRI-Wd 33 (Medicine)","RWE","UNIVERSITY HOSPITALS OF LEICESTER NHS TRUST","RWEAA","LEICESTER ROYAL INFIRMARY","LRI-Wd 33 (Medicine)"]
["RWEAA-LRI-Wd 36 Older People","RWE","UNIVERSITY HOSPITALS OF LEICESTER NHS TRUST","RWEAA","LEICESTER ROYAL INFIRMARY","LRI-Wd 36 Older People"]
["RWEAA-LRI-Wd 38 Diabetes/Endocrine","RWE","UNIVERSITY HOSPITALS OF LEICESTER NHS TRUST","RWEAA","LEICESTER ROYAL INFIRMARY","LRI-Wd 38 Diabetes/Endocrine"]
["RWEAA-LRI-Wd 39 Onc","RWE","UNIVERSITY HOSPITALS OF LEICESTER NHS TRUST","RWEAA","LEICESTER ROYAL INFIRMARY","LRI-Wd 39 Onc"]
["RWEAA-LRI-Wd 40 Onc","RWE","UNIVERSITY HOSPITALS OF LEICESTER NHS TRUST","RWEAA","LEICESTER ROYAL INFIRMARY","LRI-Wd 40 Onc"]
["RWEAA-LRI-Wd 41 Haem","RWE","UNIVERSITY HOSPITALS OF LEICESTER NHS TRUST","RWEAA","LEICESTER ROYAL INFIRMARY","LRI-Wd 41 Haem"]
["RWEAA-LRI-Wd 42 Gastro Med","RWE","UNIVERSITY HOSPITALS OF LEICESTER NHS TRUST","RWEAA","LEICESTER ROYAL INFIRMARY","LRI-Wd 42 Gastro Med"]
["RWEAA-LRI-Wd 43 Gastro Med/Hepat","RWE","UNIVERSITY HOSPITALS OF LEICESTER NHS TRUST","RWEAA","LEICESTER ROYAL INFIRMARY","LRI-Wd 43 Gastro Med/Hepat"]
["RWEAA-LRI-Wd 9 Spec Surg Admission","RWE","UNIVERSITY HOSPITALS OF LEICESTER NHS TRUST","RWEAA","LEICESTER ROYAL INFIRMARY","LRI-Wd 9 Spec Surg Admission"]
["RWEAE-GH-Coronary Care Unit","RWE","UNIVERSITY HOSPITALS OF LEICESTER NHS TRUST","RWEAE","GLENFIELD HOSPITAL","GH-Coronary Care Unit"]
["RWEAE-GH-ITU - Glenfield (General and Cardiac Intensive Care)","RWE","UNIVERSITY HOSPITALS OF LEICESTER NHS TRUST","RWEAE","GLENFIELD HOSPITAL","GH-ITU - Glenfield (General and Cardiac Intensive Care)"]
["RWEAE-GH-Paed ITU - Children’s Cardiac Intensive Care","RWE","UNIVERSITY HOSPITALS OF LEICESTER NHS TRUST","RWEAE","GLENFIELD HOSPITAL","GH-Paed ITU - Children’s Cardiac Intensive Care"]
["RWEAE-GH-Wd 15 Respiratory","RWE","UNIVERSITY HOSPITALS OF LEICESTER NHS TRUST","RWEAE","GLENFIELD HOSPITAL","GH-Wd 15 Respiratory"]
[{"$f":"CONCATENATE(D5162,\"-\",F5162)","v":"RWEAE-GH-Wd 16 Respiratory"},"RWE","UNIVERSITY HOSPITALS OF LEICESTER NHS TRUST","RWEAE","GLENFIELD HOSPITAL","GH-Wd 16 Respiratory"]
["RWEAE-GH-Wd 17 Respiratory","RWE","UNIVERSITY HOSPITALS OF LEICESTER NHS TRUST","RWEAE","GLENFIELD HOSPITAL","GH-Wd 17 Respiratory"]
["RWEAE-GH-Wd 23","RWE","UNIVERSITY HOSPITALS OF LEICESTER NHS TRUST","RWEAE","GLENFIELD HOSPITAL","GH-Wd 23"]
["RWEAE-GH-Wd 26 Thoracic Surgery","RWE","UNIVERSITY HOSPITALS OF LEICESTER NHS TRUST","RWEAE","GLENFIELD HOSPITAL","GH-Wd 26 Thoracic Surgery"]
[{"$f":"CONCATENATE(D5166,\"-\",F5166)","v":"RWEAE-GH-Wd 27 Cardiology"},"RWE","UNIVERSITY HOSPITALS OF LEICESTER NHS TRUST","RWEAE","GLENFIELD HOSPITAL","GH-Wd 27 Cardiology"]
["RWEAE-GH-Wd 28 Cardiology","RWE","UNIVERSITY HOSPITALS OF LEICESTER NHS TRUST","RWEAE","GLENFIELD HOSPITAL","GH-Wd 28 Cardiology"]
["RWEAE-GH-Wd 29 Respiratory","RWE","UNIVERSITY HOSPITALS OF LEICESTER NHS TRUST","RWEAE","GLENFIELD HOSPITAL","GH-Wd 29 Respiratory"]
["RWEAE-GH-Wd 30 Childrens Cardiology","RWE","UNIVERSITY HOSPITALS OF LEICESTER NHS TRUST","RWEAE","GLENFIELD HOSPITAL","GH-Wd 30 Childrens Cardiology"]
["RWEAE-GH-Wd 31 Cardiac Surgery","RWE","UNIVERSITY HOSPITALS OF LEICESTER NHS TRUST","RWEAE","GLENFIELD HOSPITAL","GH-Wd 31 Cardiac Surgery"]
["RWEAE-GH-Wd 32 Cardiology Procedures","RWE","UNIVERSITY HOSPITALS OF LEICESTER NHS TRUST","RWEAE","GLENFIELD HOSPITAL","GH-Wd 32 Cardiology Procedures"]
["RWEAE-GH-Wd 33 Cardiology","RWE","UNIVERSITY HOSPITALS OF LEICESTER NHS TRUST","RWEAE","GLENFIELD HOSPITAL","GH-Wd 33 Cardiology"]
["RWEAE-GH-Wd 33A Cardiology","RWE","UNIVERSITY HOSPITALS OF LEICESTER NHS TRUST","RWEAE","GLENFIELD HOSPITAL","GH-Wd 33A Cardiology"]
["RWEAK-LGH-Brain Injury Unit","RWE","UNIVERSITY HOSPITALS OF LEICESTER NHS TRUST","RWEAK","LEICESTER GENERAL HOSPITAL","LGH-Brain Injury Unit"]
["RWEAK-LGH-Delivery Suite","RWE","UNIVERSITY HOSPITALS OF LEICESTER NHS TRUST","RWEAK","LEICESTER GENERAL HOSPITAL","LGH-Delivery Suite"]
["RWEAK-LGH-ITU (Gen.Surgery,Urology,Gynae,Ortho & Renal Transplant)","RWE","UNIVERSITY HOSPITALS OF LEICESTER NHS TRUST","RWEAK","LEICESTER GENERAL HOSPITAL","LGH-ITU (Gen.Surgery,Urology,Gynae,Ortho & Renal Transplant)"]
["RWEAK-LGH-NICU Neo-Natal Intensive Care","RWE","UNIVERSITY HOSPITALS OF LEICESTER NHS TRUST","RWEAK","LEICESTER GENERAL HOSPITAL","LGH-NICU Neo-Natal Intensive Care"]
["RWEAK-LGH-NRU Neuro Rehab","RWE","UNIVERSITY HOSPITALS OF LEICESTER NHS TRUST","RWEAK","LEICESTER GENERAL HOSPITAL","LGH-NRU Neuro Rehab"]
["RWEAK-LGH-Wd 10 CAPD Renal","RWE","UNIVERSITY HOSPITALS OF LEICESTER NHS TRUST","RWEAK","LEICESTER GENERAL HOSPITAL","LGH-Wd 10 CAPD Renal"]
["RWEAK-LGH-Wd 14 Elective Ortho","RWE","UNIVERSITY HOSPITALS OF LEICESTER NHS TRUST","RWEAK","LEICESTER GENERAL HOSPITAL","LGH-Wd 14 Elective Ortho"]
["RWEAK-LGH-Wd 15 High Dependency Renal","RWE","UNIVERSITY HOSPITALS OF LEICESTER NHS TRUST","RWEAK","LEICESTER GENERAL HOSPITAL","LGH-Wd 15 High Dependency Renal"]
["RWEAK-LGH-Wd 15 Nephrology Renal","RWE","UNIVERSITY HOSPITALS OF LEICESTER NHS TRUST","RWEAK","LEICESTER GENERAL HOSPITAL","LGH-Wd 15 Nephrology Renal"]
["RWEAK-LGH-Wd 17 Renal Transplant","RWE","UNIVERSITY HOSPITALS OF LEICESTER NHS TRUST","RWEAK","LEICESTER GENERAL HOSPITAL","LGH-Wd 17 Renal Transplant"]
["RWEAK-LGH-Wd 19 Elective Ortho (Previously Wd 16)","RWE","UNIVERSITY HOSPITALS OF LEICESTER NHS TRUST","RWEAK","LEICESTER GENERAL HOSPITAL","LGH-Wd 19 Elective Ortho (Previously Wd 16)"]
["RWEAK-LGH-Wd 20 Surgery","RWE","UNIVERSITY HOSPITALS OF LEICESTER NHS TRUST","RWEAK","LEICESTER GENERAL HOSPITAL","LGH-Wd 20 Surgery"]
["RWEAK-LGH-Wd 22 Female surgery","RWE","UNIVERSITY HOSPITALS OF LEICESTER NHS TRUST","RWEAK","LEICESTER GENERAL HOSPITAL","LGH-Wd 22 Female surgery"]
["RWEAK-LGH-Wd 26 Urology Surgery","RWE","UNIVERSITY HOSPITALS OF LEICESTER NHS TRUST","RWEAK","LEICESTER GENERAL HOSPITAL","LGH-Wd 26 Urology Surgery"]
["RWEAK-LGH-Wd 27 Surgery (& SACU)","RWE","UNIVERSITY HOSPITALS OF LEICESTER NHS TRUST","RWEAK","LEICESTER GENERAL HOSPITAL","LGH-Wd 27 Surgery (& SACU)"]
["RWEAK-LGH-Wd 28 Surgery/Urology Admission","RWE","UNIVERSITY HOSPITALS OF LEICESTER NHS TRUST","RWEAK","LEICESTER GENERAL HOSPITAL","LGH-Wd 28 Surgery/Urology Admission"]
["RWEAK-LGH-Wd 3 Stroke Rehab","RWE","UNIVERSITY HOSPITALS OF LEICESTER NHS TRUST","RWEAK","LEICESTER GENERAL HOSPITAL","LGH-Wd 3 Stroke Rehab"]
["RWEAK-LGH-Wd 31 Gynae","RWE","UNIVERSITY HOSPITALS OF LEICESTER NHS TRUST","RWEAK","LEICESTER GENERAL HOSPITAL","LGH-Wd 31 Gynae"]
["RWF03-Acute Stroke","RWF","MAIDSTONE AND TUNBRIDGE WELLS NHS TRUST","RWF03","MAIDSTONE DISTRICT GENERAL HOSPITAL","Acute Stroke"]
["RWF03-Birth Centre","RWF","MAIDSTONE AND TUNBRIDGE WELLS NHS TRUST","RWF03","MAIDSTONE DISTRICT GENERAL HOSPITAL","Birth Centre"]
["RWF03-Cornwallis","RWF","MAIDSTONE AND TUNBRIDGE WELLS NHS TRUST","RWF03","MAIDSTONE DISTRICT GENERAL HOSPITAL","Cornwallis"]
["RWF03-Culpepper (incl CCU)","RWF","MAIDSTONE AND TUNBRIDGE WELLS NHS TRUST","RWF03","MAIDSTONE DISTRICT GENERAL HOSPITAL","Culpepper (incl CCU)"]
["RWF03-Edith Cavel","RWF","MAIDSTONE AND TUNBRIDGE WELLS NHS TRUST","RWF03","MAIDSTONE DISTRICT GENERAL HOSPITAL","Edith Cavel"]
["RWF03-Intensive Treatment Unit (ITU)","RWF","MAIDSTONE AND TUNBRIDGE WELLS NHS TRUST","RWF03","MAIDSTONE DISTRICT GENERAL HOSPITAL","Intensive Treatment Unit (ITU)"]
["RWF03-John Day","RWF","MAIDSTONE AND TUNBRIDGE WELLS NHS TRUST","RWF03","MAIDSTONE DISTRICT GENERAL HOSPITAL","John Day"]
["RWF03-Lord North","RWF","MAIDSTONE AND TUNBRIDGE WELLS NHS TRUST","RWF03","MAIDSTONE DISTRICT GENERAL HOSPITAL","Lord North"]
["RWF03-Maidstone Orthopaedic Unit (MOU)","RWF","MAIDSTONE AND TUNBRIDGE WELLS NHS TRUST","RWF03","MAIDSTONE DISTRICT GENERAL HOSPITAL","Maidstone Orthopaedic Unit (MOU)"]
["RWF03-Mercer","RWF","MAIDSTONE AND TUNBRIDGE WELLS NHS TRUST","RWF03","MAIDSTONE DISTRICT GENERAL HOSPITAL","Mercer"]
["RWF03-MSSU","RWF","MAIDSTONE AND TUNBRIDGE WELLS NHS TRUST","RWF03","MAIDSTONE DISTRICT GENERAL HOSPITAL","MSSU"]
["RWF03-Peale","RWF","MAIDSTONE AND TUNBRIDGE WELLS NHS TRUST","RWF03","MAIDSTONE DISTRICT GENERAL HOSPITAL","Peale"]
["RWF03-Pye Oliver","RWF","MAIDSTONE AND TUNBRIDGE WELLS NHS TRUST","RWF03","MAIDSTONE DISTRICT GENERAL HOSPITAL","Pye Oliver"]
["RWF03-Urgent Medical Ambulatory Unit (UMAU)","RWF","MAIDSTONE AND TUNBRIDGE WELLS NHS TRUST","RWF03","MAIDSTONE DISTRICT GENERAL HOSPITAL","Urgent Medical Ambulatory Unit (UMAU)"]
["RWF03-Whatman","RWF","MAIDSTONE AND TUNBRIDGE WELLS NHS TRUST","RWF03","MAIDSTONE DISTRICT GENERAL HOSPITAL","Whatman"]
["RWFTW-Birth Centre (Crowborough).","RWF","MAIDSTONE AND TUNBRIDGE WELLS NHS TRUST","RWFTW","THE TUNBRIDGE WELLS HOSPITAL","Birth Centre (Crowborough)."]
["RWFTW-Coronary Care Unit (CCU)","RWF","MAIDSTONE AND TUNBRIDGE WELLS NHS TRUST","RWFTW","THE TUNBRIDGE WELLS HOSPITAL","Coronary Care Unit (CCU)"]
["RWFTW-Gynaecology/Ward 33","RWF","MAIDSTONE AND TUNBRIDGE WELLS NHS TRUST","RWFTW","THE TUNBRIDGE WELLS HOSPITAL","Gynaecology/Ward 33"]
["RWFTW-Hedgehog","RWF","MAIDSTONE AND TUNBRIDGE WELLS NHS TRUST","RWFTW","THE TUNBRIDGE WELLS HOSPITAL","Hedgehog"]
["RWFTW-Intensive Treatment Unit (ITU)","RWF","MAIDSTONE AND TUNBRIDGE WELLS NHS TRUST","RWFTW","THE TUNBRIDGE WELLS HOSPITAL","Intensive Treatment Unit (ITU)"]
["RWFTW-Medical Assessment Unit","RWF","MAIDSTONE AND TUNBRIDGE WELLS NHS TRUST","RWFTW","THE TUNBRIDGE WELLS HOSPITAL","Medical Assessment Unit"]
["RWFTW-Midwifery Services (ante/post natal & Delivery Suite)","RWF","MAIDSTONE AND TUNBRIDGE WELLS NHS TRUST","RWFTW","THE TUNBRIDGE WELLS HOSPITAL","Midwifery Services (ante/post natal & Delivery Suite)"]
["RWFTW-Neonatal Unit","RWF","MAIDSTONE AND TUNBRIDGE WELLS NHS TRUST","RWFTW","THE TUNBRIDGE WELLS HOSPITAL","Neonatal Unit"]
["RWFTW-SAU","RWF","MAIDSTONE AND TUNBRIDGE WELLS NHS TRUST","RWFTW","THE TUNBRIDGE WELLS HOSPITAL","SAU"]
["RWFTW-SSSU","RWF","MAIDSTONE AND TUNBRIDGE WELLS NHS TRUST","RWFTW","THE TUNBRIDGE WELLS HOSPITAL","SSSU"]
["RWFTW-Stroke/Ward 22","RWF","MAIDSTONE AND TUNBRIDGE WELLS NHS TRUST","RWFTW","THE TUNBRIDGE WELLS HOSPITAL","Stroke/Ward 22"]
["RWFTW-Ward 10","RWF","MAIDSTONE AND TUNBRIDGE WELLS NHS TRUST","RWFTW","THE TUNBRIDGE WELLS HOSPITAL","Ward 10"]
["RWFTW-Ward 11","RWF","MAIDSTONE AND TUNBRIDGE WELLS NHS TRUST","RWFTW","THE TUNBRIDGE WELLS HOSPITAL","Ward 11"]
["RWFTW-Ward 12","RWF","MAIDSTONE AND TUNBRIDGE WELLS NHS TRUST","RWFTW","THE TUNBRIDGE WELLS HOSPITAL","Ward 12"]
["RWFTW-Ward 2","RWF","MAIDSTONE AND TUNBRIDGE WELLS NHS TRUST","RWFTW","THE TUNBRIDGE WELLS HOSPITAL","Ward 2"]
["RWFTW-Ward 20","RWF","MAIDSTONE AND TUNBRIDGE WELLS NHS TRUST","RWFTW","THE TUNBRIDGE WELLS HOSPITAL","Ward 20"]
["RWFTW-Ward 21","RWF","MAIDSTONE AND TUNBRIDGE WELLS NHS TRUST","RWFTW","THE TUNBRIDGE WELLS HOSPITAL","Ward 21"]
["RWFTW-Ward 30","RWF","MAIDSTONE AND TUNBRIDGE WELLS NHS TRUST","RWFTW","THE TUNBRIDGE WELLS HOSPITAL","Ward 30"]
["RWFTW-Ward 31","RWF","MAIDSTONE AND TUNBRIDGE WELLS NHS TRUST","RWFTW","THE TUNBRIDGE WELLS HOSPITAL","Ward 31"]
["RWFTW-Ward 32","RWF","MAIDSTONE AND TUNBRIDGE WELLS NHS TRUST","RWFTW","THE TUNBRIDGE WELLS HOSPITAL","Ward 32"]
["RWG02-AAU Blue & Yellow Level 3","RWG","WEST HERTFORDSHIRE HOSPITALS NHS TRUST","RWG02","WATFORD GENERAL HOSPITAL","AAU Blue & Yellow Level 3"]
["RWG02-AAU Blue Level 1","RWG","WEST HERTFORDSHIRE HOSPITALS NHS TRUST","RWG02","WATFORD GENERAL HOSPITAL","AAU Blue Level 1"]
[{"$f":"CONCATENATE(D5229,\"-\",F5229)","v":"RWG02-AAU Green Level 1"},"RWG","WEST HERTFORDSHIRE HOSPITALS NHS TRUST","RWG02","WATFORD GENERAL HOSPITAL","AAU Green Level 1"]
["RWG02-AAU Purple Level 1","RWG","WEST HERTFORDSHIRE HOSPITALS NHS TRUST","RWG02","WATFORD GENERAL HOSPITAL","AAU Purple Level 1"]
["RWG02-AAU Red Suite","RWG","WEST HERTFORDSHIRE HOSPITALS NHS TRUST","RWG02","WATFORD GENERAL HOSPITAL","AAU Red Suite"]
["RWG02-AAU Yellow Level 1","RWG","WEST HERTFORDSHIRE HOSPITALS NHS TRUST","RWG02","WATFORD GENERAL HOSPITAL","AAU Yellow Level 1"]
["RWG02-ABC","RWG","WEST HERTFORDSHIRE HOSPITALS NHS TRUST","RWG02","WATFORD GENERAL HOSPITAL","ABC"]
["RWG02-Acute Stroke Unit","RWG","WEST HERTFORDSHIRE HOSPITALS NHS TRUST","RWG02","WATFORD GENERAL HOSPITAL","Acute Stroke Unit"]
["RWG02-Aldenham","RWG","WEST HERTFORDSHIRE HOSPITALS NHS TRUST","RWG02","WATFORD GENERAL HOSPITAL","Aldenham"]
["RWG02-Bluebell","RWG","WEST HERTFORDSHIRE HOSPITALS NHS TRUST","RWG02","WATFORD GENERAL HOSPITAL","Bluebell"]
["RWG02-Cardiac Care","RWG","WEST HERTFORDSHIRE HOSPITALS NHS TRUST","RWG02","WATFORD GENERAL HOSPITAL","Cardiac Care"]
["RWG02-Cassio","RWG","WEST HERTFORDSHIRE HOSPITALS NHS TRUST","RWG02","WATFORD GENERAL HOSPITAL","Cassio"]
["RWG02-Cleves","RWG","WEST HERTFORDSHIRE HOSPITALS NHS TRUST","RWG02","WATFORD GENERAL HOSPITAL","Cleves"]
["RWG02-Combined ITU","RWG","WEST HERTFORDSHIRE HOSPITALS NHS TRUST","RWG02","WATFORD GENERAL HOSPITAL","Combined ITU"]
["RWG02-Croxley","RWG","WEST HERTFORDSHIRE HOSPITALS NHS TRUST","RWG02","WATFORD GENERAL HOSPITAL","Croxley"]
["RWG02-Delivery Suite","RWG","WEST HERTFORDSHIRE HOSPITALS NHS TRUST","RWG02","WATFORD GENERAL HOSPITAL","Delivery Suite"]
["RWG02-Elizabeth","RWG","WEST HERTFORDSHIRE HOSPITALS NHS TRUST","RWG02","WATFORD GENERAL HOSPITAL","Elizabeth"]
["RWG02-Flaunden","RWG","WEST HERTFORDSHIRE HOSPITALS NHS TRUST","RWG02","WATFORD GENERAL HOSPITAL","Flaunden"]
["RWG02-Heronsgate & Gade","RWG","WEST HERTFORDSHIRE HOSPITALS NHS TRUST","RWG02","WATFORD GENERAL HOSPITAL","Heronsgate & Gade"]
["RWG02-Katherine","RWG","WEST HERTFORDSHIRE HOSPITALS NHS TRUST","RWG02","WATFORD GENERAL HOSPITAL","Katherine"]
["RWG02-Langley","RWG","WEST HERTFORDSHIRE HOSPITALS NHS TRUST","RWG02","WATFORD GENERAL HOSPITAL","Langley"]
["RWG02-Letchmore","RWG","WEST HERTFORDSHIRE HOSPITALS NHS TRUST","RWG02","WATFORD GENERAL HOSPITAL","Letchmore"]
["RWG02-Oxhey","RWG","WEST HERTFORDSHIRE HOSPITALS NHS TRUST","RWG02","WATFORD GENERAL HOSPITAL","Oxhey"]
["RWG02-Ridge","RWG","WEST HERTFORDSHIRE HOSPITALS NHS TRUST","RWG02","WATFORD GENERAL HOSPITAL","Ridge"]
["RWG02-Sarratt","RWG","WEST HERTFORDSHIRE HOSPITALS NHS TRUST","RWG02","WATFORD GENERAL HOSPITAL","Sarratt"]
["RWG02-SCBU","RWG","WEST HERTFORDSHIRE HOSPITALS NHS TRUST","RWG02","WATFORD GENERAL HOSPITAL","SCBU"]
["RWG02-Starfish","RWG","WEST HERTFORDSHIRE HOSPITALS NHS TRUST","RWG02","WATFORD GENERAL HOSPITAL","Starfish"]
["RWG02-Tudor & Castle","RWG","WEST HERTFORDSHIRE HOSPITALS NHS TRUST","RWG02","WATFORD GENERAL HOSPITAL","Tudor & Castle"]
["RWG02-Victoria","RWG","WEST HERTFORDSHIRE HOSPITALS NHS TRUST","RWG02","WATFORD GENERAL HOSPITAL","Victoria"]
["RWG02-Winyard","RWG","WEST HERTFORDSHIRE HOSPITALS NHS TRUST","RWG02","WATFORD GENERAL HOSPITAL","Winyard"]
["RWG03-De La Mare/Beckett","RWG","WEST HERTFORDSHIRE HOSPITALS NHS TRUST","RWG03","ST ALBANS CITY HOSPITAL","De La Mare/Beckett"]
["RWH01-04 Critical Care North; South","RWH","EAST AND NORTH HERTFORDSHIRE NHS TRUST","RWH01","LISTER HOSPITAL","04 Critical Care North; South"]
["RWH01-05A North; South","RWH","EAST AND NORTH HERTFORDSHIRE NHS TRUST","RWH01","LISTER HOSPITAL","05A North; South"]
["RWH01-05B North; South","RWH","EAST AND NORTH HERTFORDSHIRE NHS TRUST","RWH01","LISTER HOSPITAL","05B North; South"]
["RWH01-06A North; South","RWH","EAST AND NORTH HERTFORDSHIRE NHS TRUST","RWH01","LISTER HOSPITAL","06A North; South"]
["RWH01-06B North; South","RWH","EAST AND NORTH HERTFORDSHIRE NHS TRUST","RWH01","LISTER HOSPITAL","06B North; South"]
["RWH01-07B North; South","RWH","EAST AND NORTH HERTFORDSHIRE NHS TRUST","RWH01","LISTER HOSPITAL","07B North; South"]
["RWH01-08A North; South","RWH","EAST AND NORTH HERTFORDSHIRE NHS TRUST","RWH01","LISTER HOSPITAL","08A North; South"]
["RWH01-08B North; South","RWH","EAST AND NORTH HERTFORDSHIRE NHS TRUST","RWH01","LISTER HOSPITAL","08B North; South"]
["RWH01-09A North; South","RWH","EAST AND NORTH HERTFORDSHIRE NHS TRUST","RWH01","LISTER HOSPITAL","09A North; South"]
["RWH01-09B North; South","RWH","EAST AND NORTH HERTFORDSHIRE NHS TRUST","RWH01","LISTER HOSPITAL","09B North; South"]
["RWH01-10A Gynae; North","RWH","EAST AND NORTH HERTFORDSHIRE NHS TRUST","RWH01","LISTER HOSPITAL","10A Gynae; North"]
["RWH01-10B North; South","RWH","EAST AND NORTH HERTFORDSHIRE NHS TRUST","RWH01","LISTER HOSPITAL","10B North; South"]
["RWH01-11A North; South","RWH","EAST AND NORTH HERTFORDSHIRE NHS TRUST","RWH01","LISTER HOSPITAL","11A North; South"]
["RWH01-11B North; South","RWH","EAST AND NORTH HERTFORDSHIRE NHS TRUST","RWH01","LISTER HOSPITAL","11B North; South"]
["RWH01-ACU North; South","RWH","EAST AND NORTH HERTFORDSHIRE NHS TRUST","RWH01","LISTER HOSPITAL","ACU North; South"]
["RWH01-AMU-A","RWH","EAST AND NORTH HERTFORDSHIRE NHS TRUST","RWH01","LISTER HOSPITAL","AMU-A"]
["RWH01-AMU-W","RWH","EAST AND NORTH HERTFORDSHIRE NHS TRUST","RWH01","LISTER HOSPITAL","AMU-W"]
["RWH01-Maternity Unit - CLU","RWH","EAST AND NORTH HERTFORDSHIRE NHS TRUST","RWH01","LISTER HOSPITAL","Maternity Unit - CLU"]
["RWH01-Maternity Unit - Dacre","RWH","EAST AND NORTH HERTFORDSHIRE NHS TRUST","RWH01","LISTER HOSPITAL","Maternity Unit - Dacre"]
["RWH01-Maternity Unit - Gloucester","RWH","EAST AND NORTH HERTFORDSHIRE NHS TRUST","RWH01","LISTER HOSPITAL","Maternity Unit - Gloucester"]
["RWH01-Maternity Unit - Mat MLU","RWH","EAST AND NORTH HERTFORDSHIRE NHS TRUST","RWH01","LISTER HOSPITAL","Maternity Unit - Mat MLU"]
["RWH01-Mulbery Bush Unit - Bluebell","RWH","EAST AND NORTH HERTFORDSHIRE NHS TRUST","RWH01","LISTER HOSPITAL","Mulbery Bush Unit - Bluebell"]
["RWH01-SAU","RWH","EAST AND NORTH HERTFORDSHIRE NHS TRUST","RWH01","LISTER HOSPITAL","SAU"]
["RWH01-Strathmore Wing - Ashwell","RWH","EAST AND NORTH HERTFORDSHIRE NHS TRUST","RWH01","LISTER HOSPITAL","Strathmore Wing - Ashwell"]
["RWH01-Strathmore Wing - Barley","RWH","EAST AND NORTH HERTFORDSHIRE NHS TRUST","RWH01","LISTER HOSPITAL","Strathmore Wing - Barley"]
["RWH01-Strathmore Wing - Pirton","RWH","EAST AND NORTH HERTFORDSHIRE NHS TRUST","RWH01","LISTER HOSPITAL","Strathmore Wing - Pirton"]
["RWH01-Strathmore Wing - SSU","RWH","EAST AND NORTH HERTFORDSHIRE NHS TRUST","RWH01","LISTER HOSPITAL","Strathmore Wing - SSU"]
["RWH01-Treatment Centre -  Swift","RWH","EAST AND NORTH HERTFORDSHIRE NHS TRUST","RWH01","LISTER HOSPITAL","Treatment Centre -  Swift"]
["RWH04-Ward 11","RWH","EAST AND NORTH HERTFORDSHIRE NHS TRUST","RWH04","MOUNT VERNON CANCER CENTRE","Ward 11"]
["RWJ03-Devonshire Centre for Neuro-Rehabilitation","RWJ","STOCKPORT NHS FOUNDATION TRUST","RWJ03","CHERRY TREE HOSPITAL","Devonshire Centre for Neuro-Rehabilitation"]
["RWJ09-A1","RWJ","STOCKPORT NHS FOUNDATION TRUST","RWJ09","STEPPING HILL HOSPITAL","A1"]
["RWJ09-A10","RWJ","STOCKPORT NHS FOUNDATION TRUST","RWJ09","STEPPING HILL HOSPITAL","A10"]
["RWJ09-A11","RWJ","STOCKPORT NHS FOUNDATION TRUST","RWJ09","STEPPING HILL HOSPITAL","A11"]
["RWJ09-A3","RWJ","STOCKPORT NHS FOUNDATION TRUST","RWJ09","STEPPING HILL HOSPITAL","A3"]
["RWJ09-AMU","RWJ","STOCKPORT NHS FOUNDATION TRUST","RWJ09","STEPPING HILL HOSPITAL","AMU"]
[{"$f":"CONCATENATE(D5293,\"-\",F5293)","v":"RWJ09-B4"},"RWJ","STOCKPORT NHS FOUNDATION TRUST","RWJ09","STEPPING HILL HOSPITAL","B4"]
["RWJ09-B6","RWJ","STOCKPORT NHS FOUNDATION TRUST","RWJ09","STEPPING HILL HOSPITAL","B6"]
["RWJ09-Birth Centre","RWJ","STOCKPORT NHS FOUNDATION TRUST","RWJ09","STEPPING HILL HOSPITAL","Birth Centre"]
["RWJ09-C3","RWJ","STOCKPORT NHS FOUNDATION TRUST","RWJ09","STEPPING HILL HOSPITAL","C3"]
["RWJ09-C4","RWJ","STOCKPORT NHS FOUNDATION TRUST","RWJ09","STEPPING HILL HOSPITAL","C4"]
["RWJ09-C6","RWJ","STOCKPORT NHS FOUNDATION TRUST","RWJ09","STEPPING HILL HOSPITAL","C6"]
["RWJ09-Clinical Decisions Unit","RWJ","STOCKPORT NHS FOUNDATION TRUST","RWJ09","STEPPING HILL HOSPITAL","Clinical Decisions Unit"]
["RWJ09-Coronary Care Unit","RWJ","STOCKPORT NHS FOUNDATION TRUST","RWJ09","STEPPING HILL HOSPITAL","Coronary Care Unit"]
["RWJ09-D1","RWJ","STOCKPORT NHS FOUNDATION TRUST","RWJ09","STEPPING HILL HOSPITAL","D1"]
["RWJ09-D2","RWJ","STOCKPORT NHS FOUNDATION TRUST","RWJ09","STEPPING HILL HOSPITAL","D2"]
["RWJ09-D4","RWJ","STOCKPORT NHS FOUNDATION TRUST","RWJ09","STEPPING HILL HOSPITAL","D4"]
["RWJ09-D5","RWJ","STOCKPORT NHS FOUNDATION TRUST","RWJ09","STEPPING HILL HOSPITAL","D5"]
["RWJ09-D6","RWJ","STOCKPORT NHS FOUNDATION TRUST","RWJ09","STEPPING HILL HOSPITAL","D6"]
["RWJ09-D7","RWJ","STOCKPORT NHS FOUNDATION TRUST","RWJ09","STEPPING HILL HOSPITAL","D7"]
["RWJ09-Delivery Suite","RWJ","STOCKPORT NHS FOUNDATION TRUST","RWJ09","STEPPING HILL HOSPITAL","Delivery Suite"]
["RWJ09-E1","RWJ","STOCKPORT NHS FOUNDATION TRUST","RWJ09","STEPPING HILL HOSPITAL","E1"]
["RWJ09-E2","RWJ","STOCKPORT NHS FOUNDATION TRUST","RWJ09","STEPPING HILL HOSPITAL","E2"]
["RWJ09-E3","RWJ","STOCKPORT NHS FOUNDATION TRUST","RWJ09","STEPPING HILL HOSPITAL","E3"]
["RWJ09-ICU & HDU","RWJ","STOCKPORT NHS FOUNDATION TRUST","RWJ09","STEPPING HILL HOSPITAL","ICU & HDU"]
["RWJ09-Jasmine Ward","RWJ","STOCKPORT NHS FOUNDATION TRUST","RWJ09","STEPPING HILL HOSPITAL","Jasmine Ward"]
["RWJ09-M4","RWJ","STOCKPORT NHS FOUNDATION TRUST","RWJ09","STEPPING HILL HOSPITAL","M4"]
["RWJ09-Maternity 2","RWJ","STOCKPORT NHS FOUNDATION TRUST","RWJ09","STEPPING HILL HOSPITAL","Maternity 2"]
["RWJ09-Neonatal Unit","RWJ","STOCKPORT NHS FOUNDATION TRUST","RWJ09","STEPPING HILL HOSPITAL","Neonatal Unit"]
["RWJ09-SAU","RWJ","STOCKPORT NHS FOUNDATION TRUST","RWJ09","STEPPING HILL HOSPITAL","SAU"]
["RWJ09-Short Stay Surgical Unit","RWJ","STOCKPORT NHS FOUNDATION TRUST","RWJ09","STEPPING HILL HOSPITAL","Short Stay Surgical Unit"]
["RWJ09-Tree House","RWJ","STOCKPORT NHS FOUNDATION TRUST","RWJ09","STEPPING HILL HOSPITAL","Tree House"]
["RWJ88-Bluebell Ward","RWJ","STOCKPORT NHS FOUNDATION TRUST","RWJ88","THE MEADOWS","Bluebell Ward"]
["RWK2X-BED Archer Unit","RWK","EAST LONDON NHS FOUNDATION TRUST","RWK2X","LUTON & CENTRAL BEDS MHIP","BED Archer Unit"]
["RWK2X-BED Ash Ward","RWK","EAST LONDON NHS FOUNDATION TRUST","RWK2X","LUTON & CENTRAL BEDS MHIP","BED Ash Ward"]
["RWK2X-BED Cedar House","RWK","EAST LONDON NHS FOUNDATION TRUST","RWK2X","LUTON & CENTRAL BEDS MHIP","BED Cedar House"]
["RWK2X-BED Fountains Court","RWK","EAST LONDON NHS FOUNDATION TRUST","RWK2X","LUTON & CENTRAL BEDS MHIP","BED Fountains Court"]
["RWK2X-BED Townsend Court","RWK","EAST LONDON NHS FOUNDATION TRUST","RWK2X","LUTON & CENTRAL BEDS MHIP","BED Townsend Court"]
["RWK2X-BED Willow Ward","RWK","EAST LONDON NHS FOUNDATION TRUST","RWK2X","LUTON & CENTRAL BEDS MHIP","BED Willow Ward"]
["RWK2X-LU Coral Ward","RWK","EAST LONDON NHS FOUNDATION TRUST","RWK2X","LUTON & CENTRAL BEDS MHIP","LU Coral Ward"]
["RWK2X-LU Onyx Ward","RWK","EAST LONDON NHS FOUNDATION TRUST","RWK2X","LUTON & CENTRAL BEDS MHIP","LU Onyx Ward"]
["RWK2X-LU Poplars Ward","RWK","EAST LONDON NHS FOUNDATION TRUST","RWK2X","LUTON & CENTRAL BEDS MHIP","LU Poplars Ward"]
["RWK2X-LUTON Crystal Ward","RWK","EAST LONDON NHS FOUNDATION TRUST","RWK2X","LUTON & CENTRAL BEDS MHIP","LUTON Crystal Ward"]
["RWK2X-LUTON Jade","RWK","EAST LONDON NHS FOUNDATION TRUST","RWK2X","LUTON & CENTRAL BEDS MHIP","LUTON Jade"]
["RWK46-Coborn  PICU","RWK","EAST LONDON NHS FOUNDATION TRUST","RWK46","NEWHAM CENTRE FOR MENTAL HEALTH","Coborn  PICU"]
["RWK46-Coborn Acute","RWK","EAST LONDON NHS FOUNDATION TRUST","RWK46","NEWHAM CENTRE FOR MENTAL HEALTH","Coborn Acute"]
["RWK46-Coborn-Galaxy Ward","RWK","EAST LONDON NHS FOUNDATION TRUST","RWK46","NEWHAM CENTRE FOR MENTAL HEALTH","Coborn-Galaxy Ward"]
["RWK46-Emerald Ward","RWK","EAST LONDON NHS FOUNDATION TRUST","RWK46","NEWHAM CENTRE FOR MENTAL HEALTH","Emerald Ward"]
["RWK46-LONDON Crystal","RWK","EAST LONDON NHS FOUNDATION TRUST","RWK46","NEWHAM CENTRE FOR MENTAL HEALTH","LONDON Crystal"]
["RWK46-NEW Ivory","RWK","EAST LONDON NHS FOUNDATION TRUST","RWK46","NEWHAM CENTRE FOR MENTAL HEALTH","NEW Ivory"]
["RWK46-Opal Ward","RWK","EAST LONDON NHS FOUNDATION TRUST","RWK46","NEWHAM CENTRE FOR MENTAL HEALTH","Opal Ward"]
["RWK46-Ruby Triage Ward","RWK","EAST LONDON NHS FOUNDATION TRUST","RWK46","NEWHAM CENTRE FOR MENTAL HEALTH","Ruby Triage Ward"]
["RWK46-Sapphire Ward","RWK","EAST LONDON NHS FOUNDATION TRUST","RWK46","NEWHAM CENTRE FOR MENTAL HEALTH","Sapphire Ward"]
["RWK46-Topaz Ward","RWK","EAST LONDON NHS FOUNDATION TRUST","RWK46","NEWHAM CENTRE FOR MENTAL HEALTH","Topaz Ward"]
["RWK60-Aldgate Ward","RWK","EAST LONDON NHS FOUNDATION TRUST","RWK60","FORENSIC CENTRE FOR MENTAL HEALTH","Aldgate Ward"]
["RWK60-Bow Ward","RWK","EAST LONDON NHS FOUNDATION TRUST","RWK60","FORENSIC CENTRE FOR MENTAL HEALTH","Bow Ward"]
["RWK60-Broadgate Ward","RWK","EAST LONDON NHS FOUNDATION TRUST","RWK60","FORENSIC CENTRE FOR MENTAL HEALTH","Broadgate Ward"]
["RWK60-Butterfield Ward","RWK","EAST LONDON NHS FOUNDATION TRUST","RWK60","FORENSIC CENTRE FOR MENTAL HEALTH","Butterfield Ward"]
["RWK60-Clerkenwell JHC","RWK","EAST LONDON NHS FOUNDATION TRUST","RWK60","FORENSIC CENTRE FOR MENTAL HEALTH","Clerkenwell JHC"]
["RWK60-Clissold Ward","RWK","EAST LONDON NHS FOUNDATION TRUST","RWK60","FORENSIC CENTRE FOR MENTAL HEALTH","Clissold Ward"]
["RWK60-East India","RWK","EAST LONDON NHS FOUNDATION TRUST","RWK60","FORENSIC CENTRE FOR MENTAL HEALTH","East India"]
["RWK60-Hoxton Ward","RWK","EAST LONDON NHS FOUNDATION TRUST","RWK60","FORENSIC CENTRE FOR MENTAL HEALTH","Hoxton Ward"]
["RWK60-Limehouse Unit","RWK","EAST LONDON NHS FOUNDATION TRUST","RWK60","FORENSIC CENTRE FOR MENTAL HEALTH","Limehouse Unit"]
["RWK60-Loxford Ward","RWK","EAST LONDON NHS FOUNDATION TRUST","RWK60","FORENSIC CENTRE FOR MENTAL HEALTH","Loxford Ward"]
["RWK60-Ludgate Ward","RWK","EAST LONDON NHS FOUNDATION TRUST","RWK60","FORENSIC CENTRE FOR MENTAL HEALTH","Ludgate Ward"]
["RWK60-Morrison Ward","RWK","EAST LONDON NHS FOUNDATION TRUST","RWK60","FORENSIC CENTRE FOR MENTAL HEALTH","Morrison Ward"]
["RWK60-Shoreditch","RWK","EAST LONDON NHS FOUNDATION TRUST","RWK60","FORENSIC CENTRE FOR MENTAL HEALTH","Shoreditch"]
["RWK60-Victoria Ward","RWK","EAST LONDON NHS FOUNDATION TRUST","RWK60","FORENSIC CENTRE FOR MENTAL HEALTH","Victoria Ward"]
["RWK60-West Ferry","RWK","EAST LONDON NHS FOUNDATION TRUST","RWK60","FORENSIC CENTRE FOR MENTAL HEALTH","West Ferry"]
["RWK60-Woodberry Ward","RWK","EAST LONDON NHS FOUNDATION TRUST","RWK60","FORENSIC CENTRE FOR MENTAL HEALTH","Woodberry Ward"]
[{"$f":"CONCATENATE(D5357,\"-\",F5357)","v":"RWK61-Brick Lane Ward"},"RWK","EAST LONDON NHS FOUNDATION TRUST","RWK61","TOWER HAMLETS CENTRE FOR MENTAL HEALTH","Brick Lane Ward"]
["RWK61-Columbia Ward","RWK","EAST LONDON NHS FOUNDATION TRUST","RWK61","TOWER HAMLETS CENTRE FOR MENTAL HEALTH","Columbia Ward"]
["RWK61-Globe Ward","RWK","EAST LONDON NHS FOUNDATION TRUST","RWK61","TOWER HAMLETS CENTRE FOR MENTAL HEALTH","Globe Ward"]
["RWK61-Lea Ward","RWK","EAST LONDON NHS FOUNDATION TRUST","RWK61","TOWER HAMLETS CENTRE FOR MENTAL HEALTH","Lea Ward"]
["RWK61-Leadenhall Ward","RWK","EAST LONDON NHS FOUNDATION TRUST","RWK61","TOWER HAMLETS CENTRE FOR MENTAL HEALTH","Leadenhall Ward"]
["RWK61-Millharbour","RWK","EAST LONDON NHS FOUNDATION TRUST","RWK61","toWER HAMLETS CENTRE FOR MENTAL HEALTH","Millharbour"]
["RWK61-Roman Ward","RWK","EAST LONDON NHS FOUNDATION TRUST","RWK61","TOWER HAMLETS CENTRE FOR MENTAL HEALTH","Roman Ward"]
["RWK61-Rosebank Ward","RWK","EAST LONDON NHS FOUNDATION TRUST","RWK61","TOWER HAMLETS CENTRE FOR MENTAL HEALTH","Rosebank Ward"]
["RWK61-Thames Hse","RWK","EAST LONDON NHS FOUNDATION TRUST","RWK61","TOWER HAMLETS CENTRE FOR MENTAL HEALTH","Thames Hse"]
["RWK62-Bevan Ward","RWK","EAST LONDON NHS FOUNDATION TRUST","RWK62","CITY AND HACKNEY CENTRE FOR MENTAL HEALTH","Bevan Ward"]
["RWK62-Brett Ward","RWK","EAST LONDON NHS FOUNDATION TRUST","RWK62","CITY AND HACKNEY CENTRE FOR MENTAL HEALTH","Brett Ward"]
["RWK62-Conolly Ward","RWK","EAST LONDON NHS FOUNDATION TRUST","RWK62","CITY AND HACKNEY CENTRE FOR MENTAL HEALTH","Conolly Ward"]
["RWK62-Gardner Ward","RWK","EAST LONDON NHS FOUNDATION TRUST","RWK62","CITY AND HACKNEY CENTRE FOR MENTAL HEALTH","Gardner Ward"]
["RWK62-Joshua Ward","RWK","EAST LONDON NHS FOUNDATION TRUST","RWK62","CITY AND HACKNEY CENTRE FOR MENTAL HEALTH","Joshua Ward"]
["RWK62-Mother & Baby Ward","RWK","EAST LONDON NHS FOUNDATION TRUST","RWK62","CITY AND HACKNEY CENTRE FOR MENTAL HEALTH","Mother & Baby Ward"]
["RWK62-Ruth Seifert Ward","RWK","EAST LONDON NHS FOUNDATION TRUST","RWK62","CITY AND HACKNEY CENTRE FOR MENTAL HEALTH","Ruth Seifert Ward"]
["RWK89-Fothergill Ward","RWK","EAST LONDON NHS FOUNDATION TRUST","RWK89","EAST HAM CARE CENTRE","Fothergill Ward"]
["RWK89-Sally Sherman Ward","RWK","EAST LONDON NHS FOUNDATION TRUST","RWK89","EAST HAM CARE CENTRE","Sally Sherman Ward"]
["RWP01-CCU-Alex","RWP","WORCESTERSHIRE ACUTE HOSPITALS NHS TRUST","RWP01","ALEXANDRA HOSPITAL","CCU-Alex"]
["RWP01-ICCU - Alex","RWP","WORCESTERSHIRE ACUTE HOSPITALS NHS TRUST","RWP01","ALEXANDRA HOSPITAL","ICCU - Alex"]
["RWP01-M A U - Alex","RWP","WORCESTERSHIRE ACUTE HOSPITALS NHS TRUST","RWP01","ALEXANDRA HOSPITAL","M A U - Alex"]
["RWP01-Ward 1 - Medicine","RWP","WORCESTERSHIRE ACUTE HOSPITALS NHS TRUST","RWP01","ALEXANDRA HOSPITAL","Ward 1 - Medicine"]
["RWP01-Ward 10 - Urology","RWP","WORCESTERSHIRE ACUTE HOSPITALS NHS TRUST","RWP01","ALEXANDRA HOSPITAL","Ward 10 - Urology"]
["RWP01-Ward 11 - Medicine","RWP","WORCESTERSHIRE ACUTE HOSPITALS NHS TRUST","RWP01","ALEXANDRA HOSPITAL","Ward 11 - Medicine"]
["RWP01-Ward 12 Medicine","RWP","WORCESTERSHIRE ACUTE HOSPITALS NHS TRUST","RWP01","ALEXANDRA HOSPITAL","Ward 12 Medicine"]
["RWP01-Ward 14 - Surgery","RWP","WORCESTERSHIRE ACUTE HOSPITALS NHS TRUST","RWP01","ALEXANDRA HOSPITAL","Ward 14 - Surgery"]
["RWP01-Ward 16 - Elective Orthopaedic Ward","RWP","WORCESTERSHIRE ACUTE HOSPITALS NHS TRUST","RWP01","ALEXANDRA HOSPITAL","Ward 16 - Elective Orthopaedic Ward"]
["RWP01-Ward 17 - Trauma Ward","RWP","WORCESTERSHIRE ACUTE HOSPITALS NHS TRUST","RWP01","ALEXANDRA HOSPITAL","Ward 17 - Trauma Ward"]
["RWP01-Ward 18","RWP","WORCESTERSHIRE ACUTE HOSPITALS NHS TRUST","RWP01","ALEXANDRA HOSPITAL","Ward 18"]
["RWP01-Ward 2 - Medicine","RWP","WORCESTERSHIRE ACUTE HOSPITALS NHS TRUST","RWP01","ALEXANDRA HOSPITAL","Ward 2 - Medicine"]
["RWP01-Ward 4","RWP","WORCESTERSHIRE ACUTE HOSPITALS NHS TRUST","RWP01","ALEXANDRA HOSPITAL","Ward 4"]
["RWP01-Ward 5 Alex","RWP","WORCESTERSHIRE ACUTE HOSPITALS NHS TRUST","RWP01","ALEXANDRA HOSPITAL","Ward 5 Alex"]
["RWP01-Ward 6 - Medicine","RWP","WORCESTERSHIRE ACUTE HOSPITALS NHS TRUST","RWP01","ALEXANDRA HOSPITAL","Ward 6 - Medicine"]
["RWP31-Ward 1 - KTC","RWP","WORCESTERSHIRE ACUTE HOSPITALS NHS TRUST","RWP31","KIDDERMINSTER HOSPITAL","Ward 1 - KTC"]
["RWP50-Acute Stroke Unit","RWP","WORCESTERSHIRE ACUTE HOSPITALS NHS TRUST","RWP50","WORCESTERSHIRE ROYAL HOSPITAL","Acute Stroke Unit"]
["RWP50-Avon 2- Gastro","RWP","WORCESTERSHIRE ACUTE HOSPITALS NHS TRUST","RWP50","WORCESTERSHIRE ROYAL HOSPITAL","Avon 2- Gastro"]
["RWP50-Avon 3 Infectious Diseases","RWP","WORCESTERSHIRE ACUTE HOSPITALS NHS TRUST","RWP50","WORCESTERSHIRE ROYAL HOSPITAL","Avon 3 Infectious Diseases"]
["RWP50-Avon 4","RWP","WORCESTERSHIRE ACUTE HOSPITALS NHS TRUST","RWP50","WORCESTERSHIRE ROYAL HOSPITAL","Avon 4"]
["RWP50-Avon 5","RWP","WORCESTERSHIRE ACUTE HOSPITALS NHS TRUST","RWP50","WORCESTERSHIRE ROYAL HOSPITAL","Avon 5"]
["RWP50-Beech A","RWP","WORCESTERSHIRE ACUTE HOSPITALS NHS TRUST","RWP50","WORCESTERSHIRE ROYAL HOSPITAL","Beech A"]
["RWP50-Beech B - Female","RWP","WORCESTERSHIRE ACUTE HOSPITALS NHS TRUST","RWP50","WORCESTERSHIRE ROYAL HOSPITAL","Beech B - Female"]
["RWP50-Beech C","RWP","WORCESTERSHIRE ACUTE HOSPITALS NHS TRUST","RWP50","WORCESTERSHIRE ROYAL HOSPITAL","Beech C"]
["RWP50-Beech High Care","RWP","WORCESTERSHIRE ACUTE HOSPITALS NHS TRUST","RWP50","WORCESTERSHIRE ROYAL HOSPITAL","Beech High Care"]
["RWP50-Evergreen 1","RWP","WORCESTERSHIRE ACUTE HOSPITALS NHS TRUST","RWP50","WORCESTERSHIRE ROYAL HOSPITAL","Evergreen 1"]
["RWP50-Head and Neck Ward","RWP","WORCESTERSHIRE ACUTE HOSPITALS NHS TRUST","RWP50","WORCESTERSHIRE ROYAL HOSPITAL","Head and Neck Ward"]
["RWP50-ICCU - Worcs","RWP","WORCESTERSHIRE ACUTE HOSPITALS NHS TRUST","RWP50","WORCESTERSHIRE ROYAL HOSPITAL","ICCU - Worcs"]
["RWP50-Laurel 1 Cardiology-CCU","RWP","WORCESTERSHIRE ACUTE HOSPITALS NHS TRUST","RWP50","WORCESTERSHIRE ROYAL HOSPITAL","Laurel 1 Cardiology-CCU"]
["RWP50-Laurel 3 Haem Ward","RWP","WORCESTERSHIRE ACUTE HOSPITALS NHS TRUST","RWP50","WORCESTERSHIRE ROYAL HOSPITAL","Laurel 3 Haem Ward"]
["RWP50-Laurel Unit 2","RWP","WORCESTERSHIRE ACUTE HOSPITALS NHS TRUST","RWP50","WORCESTERSHIRE ROYAL HOSPITAL","Laurel Unit 2"]
["RWP50-Maternity Team 1 Midwives","RWP","WORCESTERSHIRE ACUTE HOSPITALS NHS TRUST","RWP50","WORCESTERSHIRE ROYAL HOSPITAL","Maternity Team 1 Midwives"]
["RWP50-MAU Assessment","RWP","WORCESTERSHIRE ACUTE HOSPITALS NHS TRUST","RWP50","WORCESTERSHIRE ROYAL HOSPITAL","MAU Assessment"]
["RWP50-MAU High Care and Short Stay","RWP","WORCESTERSHIRE ACUTE HOSPITALS NHS TRUST","RWP50","WORCESTERSHIRE ROYAL HOSPITAL","MAU High Care and Short Stay"]
["RWP50-NICU- Paeds","RWP","WORCESTERSHIRE ACUTE HOSPITALS NHS TRUST","RWP50","WORCESTERSHIRE ROYAL HOSPITAL","NICU- Paeds"]
["RWP50-Riverbank Unit- Paeds","RWP","WORCESTERSHIRE ACUTE HOSPITALS NHS TRUST","RWP50","WORCESTERSHIRE ROYAL HOSPITAL","Riverbank Unit- Paeds"]
["RWP50-Silver Oncology","RWP","WORCESTERSHIRE ACUTE HOSPITALS NHS TRUST","RWP50","WORCESTERSHIRE ROYAL HOSPITAL","Silver Oncology"]
["RWP50-Surgical Clinical Decisions Unit (SCDU)","RWP","WORCESTERSHIRE ACUTE HOSPITALS NHS TRUST","RWP50","WORCESTERSHIRE ROYAL HOSPITAL","Surgical Clinical Decisions Unit (SCDU)"]
["RWP50-Trauma & Orthopaedic A Ward - WRH","RWP","WORCESTERSHIRE ACUTE HOSPITALS NHS TRUST","RWP50","WORCESTERSHIRE ROYAL HOSPITAL","Trauma & Orthopaedic A Ward - WRH"]
["RWP50-Vascular Unit & VHCU","RWP","WORCESTERSHIRE ACUTE HOSPITALS NHS TRUST","RWP50","WORCESTERSHIRE ROYAL HOSPITAL","Vascular Unit & VHCU"]
["RWR13-Albany Lodge","RWR","HERTFORDSHIRE PARTNERSHIP UNIVERSITY NHS FOUNDATION TRUST","RWR13","MENTAL HEALTH SERVICE (ALBANY LODGE)","Albany Lodge"]
["RWR23-Warren Court","RWR","HERTFORDSHIRE PARTNERSHIP UNIVERSITY NHS FOUNDATION TRUST","RWR23","ERIC SHEPHERD ADMINISTRATION","Warren Court"]
["RWR31-Lambourn Grove","RWR","HERTFORDSHIRE PARTNERSHIP UNIVERSITY NHS FOUNDATION TRUST","RWR31","LAMBOURN GROVE","Lambourn Grove"]
["RWR32-Logandene","RWR","HERTFORDSHIRE PARTNERSHIP UNIVERSITY NHS FOUNDATION TRUST","RWR32","LOGANDENE EMI UNIT","Logandene"]
["RWR34-Aston","RWR","HERTFORDSHIRE PARTNERSHIP UNIVERSITY NHS FOUNDATION TRUST","RWR34","MENTAL HEALTH SERVICE (LISTER HOSPITAL)","Aston"]
["RWR47-Seward Lodge","RWR","HERTFORDSHIRE PARTNERSHIP UNIVERSITY NHS FOUNDATION TRUST","RWR47","SEWARD LODGE","Seward Lodge"]
[{"$f":"CONCATENATE(D5421,\"-\",F5421)","v":"RWR76-Victoria Court"},"RWR","HERTFORDSHIRE PARTNERSHIP UNIVERSITY NHS FOUNDATION TRUST","RWR76","ELDERLY MENTAL AND INFIRM UNIT VICTORIA COURT","Victoria Court"]
["RWR78-Hampden House","RWR","HERTFORDSHIRE PARTNERSHIP UNIVERSITY NHS FOUNDATION TRUST","RWR78","ADULT MENTAL HEALTH UNIT (HAMPDEN HOUSE)","Hampden House"]
["RWR79-Gainsford House","RWR","HERTFORDSHIRE PARTNERSHIP UNIVERSITY NHS FOUNDATION TRUST","RWR79","ADULT MENTAL HEALTH UNIT (GAINSFORD HOUSE)","Gainsford House"]
["RWR96-4 Bowlers Green","RWR","HERTFORDSHIRE PARTNERSHIP UNIVERSITY NHS FOUNDATION TRUST","RWR96","KINGSLEY GREEN","4 Bowlers Green"]
["RWR96-Beech","RWR","HERTFORDSHIRE PARTNERSHIP UNIVERSITY NHS FOUNDATION TRUST","RWR96","KINGSLEY GREEN","Beech"]
["RWR96-Dove","RWR","HERTFORDSHIRE PARTNERSHIP UNIVERSITY NHS FOUNDATION TRUST","RWR96","KINGSLEY GREEN","Dove"]
["RWR96-Forest House","RWR","HERTFORDSHIRE PARTNERSHIP UNIVERSITY NHS FOUNDATION TRUST","RWR96","KINGSLEY GREEN","Forest House"]
["RWR96-Oak","RWR","HERTFORDSHIRE PARTNERSHIP UNIVERSITY NHS FOUNDATION TRUST","RWR96","KINGSLEY GREEN","Oak"]
["RWR96-Owl","RWR","HERTFORDSHIRE PARTNERSHIP UNIVERSITY NHS FOUNDATION TRUST","RWR96","KINGSLEY GREEN","Owl"]
["RWR96-Robin","RWR","HERTFORDSHIRE PARTNERSHIP UNIVERSITY NHS FOUNDATION TRUST","RWR96","KINGSLEY GREEN","Robin"]
["RWR96-SRS","RWR","HERTFORDSHIRE PARTNERSHIP UNIVERSITY NHS FOUNDATION TRUST","RWR96","KINGSLEY GREEN","SRS"]
["RWR96-Swift","RWR","HERTFORDSHIRE PARTNERSHIP UNIVERSITY NHS FOUNDATION TRUST","RWR96","KINGSLEY GREEN","Swift"]
["RWR96-Thumbswood","RWR","HERTFORDSHIRE PARTNERSHIP UNIVERSITY NHS FOUNDATION TRUST","RWR96","KINGSLEY GREEN","Thumbswood"]
["RWR96-Wren","RWR","HERTFORDSHIRE PARTNERSHIP UNIVERSITY NHS FOUNDATION TRUST","RWR96","KINGSLEY GREEN","Wren"]
["RWRF3-Astley Court","RWR","HERTFORDSHIRE PARTNERSHIP UNIVERSITY NHS FOUNDATION TRUST","RWRF3","LITTLE PLUMSTEAD HOSPITAL","Astley Court"]
["RWRF3-Broadland Clinic","RWR","HERTFORDSHIRE PARTNERSHIP UNIVERSITY NHS FOUNDATION TRUST","RWRF3","LITTLE PLUMSTEAD HOSPITAL","Broadland Clinic"]
["RWRG7-Lexden","RWR","HERTFORDSHIRE PARTNERSHIP UNIVERSITY NHS FOUNDATION TRUST","RWRG7","LEXDEN SITE","Lexden"]
["RWRG9-The Beacon","RWR","HERTFORDSHIRE PARTNERSHIP UNIVERSITY NHS FOUNDATION TRUST","RWRG9","THE BEACON","The Beacon"]
["RWV12-Meadow View","RWV","DEVON PARTNERSHIP NHS TRUST","RWV12","NORTH DEVON DISTRICT HOSPITAL","Meadow View"]
["RWV12-Moorland View","RWV","DEVON PARTNERSHIP NHS TRUST","RWV12","NORTH DEVON DISTRICT HOSPITAL","Moorland View"]
["RWV55-Beech Unit","RWV","DEVON PARTNERSHIP NHS TRUST","RWV55","TORBAY HOSPITAL","Beech Unit"]
["RWV55-Haytor","RWV","DEVON PARTNERSHIP NHS TRUST","RWV55","TORBAY HOSPITAL","Haytor"]
["RWV67-LD Inpatient - ASU","RWV","DEVON PARTNERSHIP NHS TRUST","RWV67","KNIGHTSHAYES","LD Inpatient - ASU"]
["RWV70-Ashcombe","RWV","DEVON PARTNERSHIP NHS TRUST","RWV70","LEANDER UNIT","Ashcombe"]
["RWV70-Avon House","RWV","DEVON PARTNERSHIP NHS TRUST","RWV70","LEANDER UNIT","Avon House"]
["RWV70-Chichester House","RWV","DEVON PARTNERSHIP NHS TRUST","RWV70","LEANDER UNIT","Chichester House"]
["RWV70-Cofton","RWV","DEVON PARTNERSHIP NHS TRUST","RWV70","LEANDER UNIT","Cofton"]
["RWV70-Connelly","RWV","DEVON PARTNERSHIP NHS TRUST","RWV70","LEANDER UNIT","Connelly"]
["RWV70-Holcombe","RWV","DEVON PARTNERSHIP NHS TRUST","RWV70","LEANDER UNIT","Holcombe"]
["RWV70-Owen","RWV","DEVON PARTNERSHIP NHS TRUST","RWV70","LEANDER UNIT","Owen"]
["RWV70-Warren","RWV","DEVON PARTNERSHIP NHS TRUST","RWV70","LEANDER UNIT","Warren"]
["RWV93-Coombehaven","RWV","DEVON PARTNERSHIP NHS TRUST","RWV93","THE CEDARS (EXETER)","Coombehaven"]
["RWV93-Delderfield","RWV","DEVON PARTNERSHIP NHS TRUST","RWV93","THE CEDARS (EXETER)","Delderfield"]
["RWV93-Haldon Service","RWV","DEVON PARTNERSHIP NHS TRUST","RWV93","THE CEDARS (EXETER)","Haldon Service"]
["RWV93-MBU - 8 Bed Unit","RWV","DEVON PARTNERSHIP NHS TRUST","RWV93","THE CEDARS (EXETER)","MBU - 8 Bed Unit"]
["RWV93-Russell Clinic","RWV","DEVON PARTNERSHIP NHS TRUST","RWV93","THE CEDARS (EXETER)","Russell Clinic"]
["RWV93-The Junipers PICU","RWV","DEVON PARTNERSHIP NHS TRUST","RWV93","THE CEDARS (EXETER)","The Junipers PICU"]
["RWV98-Belvedere","RWV","DEVON PARTNERSHIP NHS TRUST","RWV98","FRANKLYN COMMUNITY HOSPITAL","Belvedere"]
["RWV98-Rougemont","RWV","DEVON PARTNERSHIP NHS TRUST","RWV98","FRANKLYN COMMUNITY HOSPITAL","Rougemont"]
["RWWHG-W-B4-H - Ward B4 - Halton","RWW","WARRINGTON AND HALTON HOSPITALS NHS FOUNDATION TRUST","RWWHG","HALTON HOSPITAL","W-B4-H - Ward B4 - Halton"]
["RWWHG-W-CM1-H - Ward 1 - CMTC Treatment Centre","RWW","WARRINGTON AND HALTON HOSPITALS NHS FOUNDATION TRUST","RWWHG","HALTON HOSPITAL","W-CM1-H - Ward 1 - CMTC Treatment Centre"]
["RWWWH-Delivery Suite","RWW","WARRINGTON AND HALTON HOSPITALS NHS FOUNDATION TRUST","RWWWH","WARRINGTON HOSPITAL","Delivery Suite"]
["RWWWH-SAU","RWW","WARRINGTON AND HALTON HOSPITALS NHS FOUNDATION TRUST","RWWWH","WARRINGTON HOSPITAL","SAU"]
["RWWWH-W-A1A - Ward A1 Asst","RWW","WARRINGTON AND HALTON HOSPITALS NHS FOUNDATION TRUST","RWWWH","WARRINGTON HOSPITAL","W-A1A - Ward A1 Asst"]
["RWWWH-W-A2A - Ward A2 Admission","RWW","WARRINGTON AND HALTON HOSPITALS NHS FOUNDATION TRUST","RWWWH","WARRINGTON HOSPITAL","W-A2A - Ward A2 Admission"]
["RWWWH-W-A4 - Ward A4","RWW","WARRINGTON AND HALTON HOSPITALS NHS FOUNDATION TRUST","RWWWH","WARRINGTON HOSPITAL","W-A4 - Ward A4"]
["RWWWH-W-A5 - Ward A5","RWW","WARRINGTON AND HALTON HOSPITALS NHS FOUNDATION TRUST","RWWWH","WARRINGTON HOSPITAL","W-A5 - Ward A5"]
["RWWWH-W-A6 - Ward A6","RWW","WARRINGTON AND HALTON HOSPITALS NHS FOUNDATION TRUST","RWWWH","WARRINGTON HOSPITAL","W-A6 - Ward A6"]
["RWWWH-W-A7 - Ward A7","RWW","WARRINGTON AND HALTON HOSPITALS NHS FOUNDATION TRUST","RWWWH","WARRINGTON HOSPITAL","W-A7 - Ward A7"]
["RWWWH-W-A8 - Ward A8","RWW","WARRINGTON AND HALTON HOSPITALS NHS FOUNDATION TRUST","RWWWH","WARRINGTON HOSPITAL","W-A8 - Ward A8"]
["RWWWH-W-A9 - Ward A9","RWW","WARRINGTON AND HALTON HOSPITALS NHS FOUNDATION TRUST","RWWWH","WARRINGTON HOSPITAL","W-A9 - Ward A9"]
["RWWWH-W-ACCU - ACCU","RWW","WARRINGTON AND HALTON HOSPITALS NHS FOUNDATION TRUST","RWWWH","WARRINGTON HOSPITAL","W-ACCU - ACCU"]
["RWWWH-W-B11B/W-B11C /PAU- Ward B11","RWW","WARRINGTON AND HALTON HOSPITALS NHS FOUNDATION TRUST","RWWWH","WARRINGTON HOSPITAL","W-B11B/W-B11C /PAU- Ward B11"]
["RWWWH-W-B12 - Ward B12 (Forget-me-not)","RWW","WARRINGTON AND HALTON HOSPITALS NHS FOUNDATION TRUST","RWWWH","WARRINGTON HOSPITAL","W-B12 - Ward B12 (Forget-me-not)"]
["RWWWH-W-B14 - Ward B14","RWW","WARRINGTON AND HALTON HOSPITALS NHS FOUNDATION TRUST","RWWWH","WARRINGTON HOSPITAL","W-B14 - Ward B14"]
["RWWWH-W-B18 - Ward B18","RWW","WARRINGTON AND HALTON HOSPITALS NHS FOUNDATION TRUST","RWWWH","WARRINGTON HOSPITAL","W-B18 - Ward B18"]
["RWWWH-W-B19 - Ward B19","RWW","WARRINGTON AND HALTON HOSPITALS NHS FOUNDATION TRUST","RWWWH","WARRINGTON HOSPITAL","W-B19 - Ward B19"]
["RWWWH-W-C20 - Ward C20","RWW","WARRINGTON AND HALTON HOSPITALS NHS FOUNDATION TRUST","RWWWH","WARRINGTON HOSPITAL","W-C20 - Ward C20"]
["RWWWH-W-C21 - Ward C21","RWW","WARRINGTON AND HALTON HOSPITALS NHS FOUNDATION TRUST","RWWWH","WARRINGTON HOSPITAL","W-C21 - Ward C21"]
["RWWWH-W-C23 - Ward C23","RWW","WARRINGTON AND HALTON HOSPITALS NHS FOUNDATION TRUST","RWWWH","WARRINGTON HOSPITAL","W-C23 - Ward C23"]
["RWWWH-W-ICU - Intensive Care Unit","RWW","WARRINGTON AND HALTON HOSPITALS NHS FOUNDATION TRUST","RWWWH","WARRINGTON HOSPITAL","W-ICU - Intensive Care Unit"]
["RWWWH-W-NHDU/W-NITU/W-NSC - Neonatal Unit","RWW","WARRINGTON AND HALTON HOSPITALS NHS FOUNDATION TRUST","RWWWH","WARRINGTON HOSPITAL","W-NHDU/W-NITU/W-NSC - Neonatal Unit"]
["RWX51-Bluebell Ward","RWX","BERKSHIRE HEALTHCARE NHS FOUNDATION TRUST","RWX51","PROSPECT PARK HOSPITAL","Bluebell Ward"]
["RWX51-Campion Unit","RWX","BERKSHIRE HEALTHCARE NHS FOUNDATION TRUST","RWX51","PROSPECT PARK HOSPITAL","Campion Unit"]
[{"$f":"CONCATENATE(D5485,\"-\",F5485)","v":"RWX51-Daisy Ward"},"RWX","BERKSHIRE HEALTHCARE NHS FOUNDATION TRUST","RWX51","PROSPECT PARK HOSPITAL","Daisy Ward"]
["RWX51-Oakwood Ward","RWX","BERKSHIRE HEALTHCARE NHS FOUNDATION TRUST","RWX51","PROSPECT PARK HOSPITAL","Oakwood Ward"]
["RWX51-Orchid Ward","RWX","BERKSHIRE HEALTHCARE NHS FOUNDATION TRUST","RWX51","PROSPECT PARK HOSPITAL","Orchid Ward"]
["RWX51-Rose Ward","RWX","BERKSHIRE HEALTHCARE NHS FOUNDATION TRUST","RWX51","PROSPECT PARK HOSPITAL","Rose Ward"]
["RWX51-Rowan Ward","RWX","BERKSHIRE HEALTHCARE NHS FOUNDATION TRUST","RWX51","PROSPECT PARK HOSPITAL","Rowan Ward"]
["RWX51-Snowdrop Ward","RWX","BERKSHIRE HEALTHCARE NHS FOUNDATION TRUST","RWX51","PROSPECT PARK HOSPITAL","Snowdrop Ward"]
["RWX51-Sorrel Ward","RWX","BERKSHIRE HEALTHCARE NHS FOUNDATION TRUST","RWX51","PROSPECT PARK HOSPITAL","Sorrel Ward"]
["RWX70-Willow House","RWX","BERKSHIRE HEALTHCARE NHS FOUNDATION TRUST","RWX70","WOKINGHAM COMMUNITY HOSPITAL","Willow House"]
["RWX70-Windsor Ward Days","RWX","BERKSHIRE HEALTHCARE NHS FOUNDATION TRUST","RWX70","WOKINGHAM COMMUNITY HOSPITAL","Windsor Ward Days"]
["RWX84-Henry Tudor","RWX","BERKSHIRE HEALTHCARE NHS FOUNDATION TRUST","RWX84","ST MARKS HOSPITAL","Henry Tudor"]
["RWX85-Jubilee Ward","RWX","BERKSHIRE HEALTHCARE NHS FOUNDATION TRUST","RWX85","UPTON HOSPITAL","Jubilee Ward"]
["RWX86-WBCH Donnington Ward","RWX","BERKSHIRE HEALTHCARE NHS FOUNDATION TRUST","RWX86","WEST BERKSHIRE COMMUNITY HOSPITAL","WBCH Donnington Ward"]
["RWX86-WBCH Highclere Ward","RWX","BERKSHIRE HEALTHCARE NHS FOUNDATION TRUST","RWX86","WEST BERKSHIRE COMMUNITY HOSPITAL","WBCH Highclere Ward"]
["RWY01-HRI ACUTE FLOOR","RWY","CALDERDALE AND HUDDERSFIELD NHS FOUNDATION TRUST","RWY01","HUDDERSFIELD ROYAL INFIRMARY","HRI ACUTE FLOOR"]
["RWY01-ICU","RWY","CALDERDALE AND HUDDERSFIELD NHS FOUNDATION TRUST","RWY01","HUDDERSFIELD ROYAL INFIRMARY","ICU"]
["RWY01-SAU HRI","RWY","CALDERDALE AND HUDDERSFIELD NHS FOUNDATION TRUST","RWY01","HUDDERSFIELD ROYAL INFIRMARY","SAU HRI"]
["RWY01-WARD 10","RWY","CALDERDALE AND HUDDERSFIELD NHS FOUNDATION TRUST","RWY01","HUDDERSFIELD ROYAL INFIRMARY","WARD 10"]
["RWY01-WARD 11","RWY","CALDERDALE AND HUDDERSFIELD NHS FOUNDATION TRUST","RWY01","HUDDERSFIELD ROYAL INFIRMARY","WARD 11"]
["RWY01-WARD 12","RWY","CALDERDALE AND HUDDERSFIELD NHS FOUNDATION TRUST","RWY01","HUDDERSFIELD ROYAL INFIRMARY","WARD 12"]
["RWY01-WARD 15","RWY","CALDERDALE AND HUDDERSFIELD NHS FOUNDATION TRUST","RWY01","HUDDERSFIELD ROYAL INFIRMARY","WARD 15"]
["RWY01-WARD 17","RWY","CALDERDALE AND HUDDERSFIELD NHS FOUNDATION TRUST","RWY01","HUDDERSFIELD ROYAL INFIRMARY","WARD 17"]
["RWY01-WARD 19","RWY","CALDERDALE AND HUDDERSFIELD NHS FOUNDATION TRUST","RWY01","HUDDERSFIELD ROYAL INFIRMARY","WARD 19"]
["RWY01-WARD 20","RWY","CALDERDALE AND HUDDERSFIELD NHS FOUNDATION TRUST","RWY01","HUDDERSFIELD ROYAL INFIRMARY","WARD 20"]
["RWY01-WARD 21","RWY","CALDERDALE AND HUDDERSFIELD NHS FOUNDATION TRUST","RWY01","HUDDERSFIELD ROYAL INFIRMARY","WARD 21"]
["RWY01-WARD 22","RWY","CALDERDALE AND HUDDERSFIELD NHS FOUNDATION TRUST","RWY01","HUDDERSFIELD ROYAL INFIRMARY","WARD 22"]
["RWY01-WARD 3","RWY","CALDERDALE AND HUDDERSFIELD NHS FOUNDATION TRUST","RWY01","HUDDERSFIELD ROYAL INFIRMARY","WARD 3"]
["RWY01-WARD 5","RWY","CALDERDALE AND HUDDERSFIELD NHS FOUNDATION TRUST","RWY01","HUDDERSFIELD ROYAL INFIRMARY","WARD 5"]
["RWY01-WARD 6","RWY","CALDERDALE AND HUDDERSFIELD NHS FOUNDATION TRUST","RWY01","HUDDERSFIELD ROYAL INFIRMARY","WARD 6"]
["RWY02-CRH ACUTE FLOOR","RWY","CALDERDALE AND HUDDERSFIELD NHS FOUNDATION TRUST","RWY02","CALDERDALE ROYAL HOSPITAL","CRH ACUTE FLOOR"]
["RWY02-RESPIRATORY FLOOR","RWY","CALDERDALE AND HUDDERSFIELD NHS FOUNDATION TRUST","RWY02","CALDERDALE ROYAL HOSPITAL","RESPIRATORY FLOOR"]
["RWY02-WARD 3ABCD","RWY","CALDERDALE AND HUDDERSFIELD NHS FOUNDATION TRUST","RWY02","CALDERDALE ROYAL HOSPITAL","WARD 3ABCD"]
["RWY02-WARD 4ABD","RWY","CALDERDALE AND HUDDERSFIELD NHS FOUNDATION TRUST","RWY02","CALDERDALE ROYAL HOSPITAL","WARD 4ABD"]
["RWY02-WARD 4C","RWY","CALDERDALE AND HUDDERSFIELD NHS FOUNDATION TRUST","RWY02","CALDERDALE ROYAL HOSPITAL","WARD 4C"]
["RWY02-WARD 6AB","RWY","CALDERDALE AND HUDDERSFIELD NHS FOUNDATION TRUST","RWY02","CALDERDALE ROYAL HOSPITAL","WARD 6AB"]
["RWY02-WARD 6C","RWY","CALDERDALE AND HUDDERSFIELD NHS FOUNDATION TRUST","RWY02","CALDERDALE ROYAL HOSPITAL","WARD 6C"]
["RWY02-WARD 7AD","RWY","CALDERDALE AND HUDDERSFIELD NHS FOUNDATION TRUST","RWY02","CALDERDALE ROYAL HOSPITAL","WARD 7AD"]
["RWY02-WARD 7BC","RWY","CALDERDALE AND HUDDERSFIELD NHS FOUNDATION TRUST","RWY02","CALDERDALE ROYAL HOSPITAL","WARD 7BC"]
["RWY02-WARD 8A","RWY","CALDERDALE AND HUDDERSFIELD NHS FOUNDATION TRUST","RWY02","CALDERDALE ROYAL HOSPITAL","WARD 8A"]
["RWY02-WARD 8D","RWY","CALDERDALE AND HUDDERSFIELD NHS FOUNDATION TRUST","RWY02","CALDERDALE ROYAL HOSPITAL","WARD 8D"]
["RWY02-WARD CCU","RWY","CALDERDALE AND HUDDERSFIELD NHS FOUNDATION TRUST","RWY02","CALDERDALE ROYAL HOSPITAL","WARD CCU"]
["RWY02-WARD LDRP","RWY","CALDERDALE AND HUDDERSFIELD NHS FOUNDATION TRUST","RWY02","CALDERDALE ROYAL HOSPITAL","WARD LDRP"]
["RWY02-WARD NICU","RWY","CALDERDALE AND HUDDERSFIELD NHS FOUNDATION TRUST","RWY02","CALDERDALE ROYAL HOSPITAL","WARD NICU"]
["RX1CC-Adult Cardiac Unit","RX1","NOTTINGHAM UNIVERSITY HOSPITALS NHS TRUST","RX1CC","NOTTINGHAM UNIVERSITY HOSPITALS NHS TRUST - CITY CAMPUS","Adult Cardiac Unit"]
["RX1CC-Barclay","RX1","NOTTINGHAM UNIVERSITY HOSPITALS NHS TRUST","RX1CC","NOTTINGHAM UNIVERSITY HOSPITALS NHS TRUST - CITY CAMPUS","Barclay"]
["RX1CC-Beeston","RX1","NOTTINGHAM UNIVERSITY HOSPITALS NHS TRUST","RX1CC","NOTTINGHAM UNIVERSITY HOSPITALS NHS TRUST - CITY CAMPUS","Beeston"]
["RX1CC-Berman 1","RX1","NOTTINGHAM UNIVERSITY HOSPITALS NHS TRUST","RX1CC","NOTTINGHAM UNIVERSITY HOSPITALS NHS TRUST - CITY CAMPUS","Berman 1"]
["RX1CC-Berman 2","RX1","NOTTINGHAM UNIVERSITY HOSPITALS NHS TRUST","RX1CC","NOTTINGHAM UNIVERSITY HOSPITALS NHS TRUST - CITY CAMPUS","Berman 2"]
["RX1CC-Bonington","RX1","NOTTINGHAM UNIVERSITY HOSPITALS NHS TRUST","RX1CC","NOTTINGHAM UNIVERSITY HOSPITALS NHS TRUST - CITY CAMPUS","Bonington"]
["RX1CC-Bramley","RX1","NOTTINGHAM UNIVERSITY HOSPITALS NHS TRUST","RX1CC","NOTTINGHAM UNIVERSITY HOSPITALS NHS TRUST - CITY CAMPUS","Bramley"]
["RX1CC-Burns Unit","RX1","NOTTINGHAM UNIVERSITY HOSPITALS NHS TRUST","RX1CC","NOTTINGHAM UNIVERSITY HOSPITALS NHS TRUST - CITY CAMPUS","Burns Unit"]
["RX1CC-Cardiac Intensive Care Unit","RX1","NOTTINGHAM UNIVERSITY HOSPITALS NHS TRUST","RX1CC","NOTTINGHAM UNIVERSITY HOSPITALS NHS TRUST - CITY CAMPUS","Cardiac Intensive Care Unit"]
["RX1CC-Carrel","RX1","NOTTINGHAM UNIVERSITY HOSPITALS NHS TRUST","RX1CC","NOTTINGHAM UNIVERSITY HOSPITALS NHS TRUST - CITY CAMPUS","Carrel"]
["RX1CC-CAS Loxley","RX1","NOTTINGHAM UNIVERSITY HOSPITALS NHS TRUST","RX1CC","NOTTINGHAM UNIVERSITY HOSPITALS NHS TRUST - CITY CAMPUS","CAS Loxley"]
["RX1CC-Critical Care City","RX1","NOTTINGHAM UNIVERSITY HOSPITALS NHS TRUST","RX1CC","NOTTINGHAM UNIVERSITY HOSPITALS NHS TRUST - CITY CAMPUS","Critical Care City"]
["RX1CC-Cystic Fibrosis Unit.","RX1","NOTTINGHAM UNIVERSITY HOSPITALS NHS TRUST","RX1CC","NOTTINGHAM UNIVERSITY HOSPITALS NHS TRUST - CITY CAMPUS","Cystic Fibrosis Unit."]
["RX1CC-Edward 2","RX1","NOTTINGHAM UNIVERSITY HOSPITALS NHS TRUST","RX1CC","NOTTINGHAM UNIVERSITY HOSPITALS NHS TRUST - CITY CAMPUS","Edward 2"]
["RX1CC-Fleming","RX1","NOTTINGHAM UNIVERSITY HOSPITALS NHS TRUST","RX1CC","NOTTINGHAM UNIVERSITY HOSPITALS NHS TRUST - CITY CAMPUS","Fleming"]
["RX1CC-Fletcher","RX1","NOTTINGHAM UNIVERSITY HOSPITALS NHS TRUST","RX1CC","NOTTINGHAM UNIVERSITY HOSPITALS NHS TRUST - CITY CAMPUS","Fletcher"]
["RX1CC-Fraser","RX1","NOTTINGHAM UNIVERSITY HOSPITALS NHS TRUST","RX1CC","NOTTINGHAM UNIVERSITY HOSPITALS NHS TRUST - CITY CAMPUS","Fraser"]
["RX1CC-Gervis Pearson","RX1","NOTTINGHAM UNIVERSITY HOSPITALS NHS TRUST","RX1CC","NOTTINGHAM UNIVERSITY HOSPITALS NHS TRUST - CITY CAMPUS","Gervis Pearson"]
["RX1CC-Gillies","RX1","NOTTINGHAM UNIVERSITY HOSPITALS NHS TRUST","RX1CC","NOTTINGHAM UNIVERSITY HOSPITALS NHS TRUST - CITY CAMPUS","Gillies"]
["RX1CC-Harvey 1","RX1","NOTTINGHAM UNIVERSITY HOSPITALS NHS TRUST","RX1CC","NOTTINGHAM UNIVERSITY HOSPITALS NHS TRUST - CITY CAMPUS","Harvey 1"]
["RX1CC-Harvey 2","RX1","NOTTINGHAM UNIVERSITY HOSPITALS NHS TRUST","RX1CC","NOTTINGHAM UNIVERSITY HOSPITALS NHS TRUST - CITY CAMPUS","Harvey 2"]
["RX1CC-Hayward House","RX1","NOTTINGHAM UNIVERSITY HOSPITALS NHS TRUST","RX1CC","NOTTINGHAM UNIVERSITY HOSPITALS NHS TRUST - CITY CAMPUS","Hayward House"]
[{"$f":"CONCATENATE(D5549,\"-\",F5549)","v":"RX1CC-Hogarth"},"RX1","NOTTINGHAM UNIVERSITY HOSPITALS NHS TRUST","RX1CC","NOTTINGHAM UNIVERSITY HOSPITALS NHS TRUST - CITY CAMPUS","Hogarth"]
["RX1CC-Labour Suite City","RX1","NOTTINGHAM UNIVERSITY HOSPITALS NHS TRUST","RX1CC","NOTTINGHAM UNIVERSITY HOSPITALS NHS TRUST - CITY CAMPUS","Labour Suite City"]
["RX1CC-Lawrence","RX1","NOTTINGHAM UNIVERSITY HOSPITALS NHS TRUST","RX1CC","NOTTINGHAM UNIVERSITY HOSPITALS NHS TRUST - CITY CAMPUS","Lawrence"]
["RX1CC-Linden Lodge","RX1","NOTTINGHAM UNIVERSITY HOSPITALS NHS TRUST","RX1CC","NOTTINGHAM UNIVERSITY HOSPITALS NHS TRUST - CITY CAMPUS","Linden Lodge"]
["RX1CC-Loxley Ward","RX1","NOTTINGHAM UNIVERSITY HOSPITALS NHS TRUST","RX1CC","NOTTINGHAM UNIVERSITY HOSPITALS NHS TRUST - CITY CAMPUS","Loxley Ward"]
["RX1CC-Morris","RX1","NOTTINGHAM UNIVERSITY HOSPITALS NHS TRUST","RX1CC","NOTTINGHAM UNIVERSITY HOSPITALS NHS TRUST - CITY CAMPUS","Morris"]
["RX1CC-Neonatal CITY","RX1","NOTTINGHAM UNIVERSITY HOSPITALS NHS TRUST","RX1CC","NOTTINGHAM UNIVERSITY HOSPITALS NHS TRUST - CITY CAMPUS","Neonatal CITY"]
["RX1CC-Newell","RX1","NOTTINGHAM UNIVERSITY HOSPITALS NHS TRUST","RX1CC","NOTTINGHAM UNIVERSITY HOSPITALS NHS TRUST - CITY CAMPUS","Newell"]
["RX1CC-Nightingale 2","RX1","NOTTINGHAM UNIVERSITY HOSPITALS NHS TRUST","RX1CC","NOTTINGHAM UNIVERSITY HOSPITALS NHS TRUST - CITY CAMPUS","Nightingale 2"]
["RX1CC-Oxton","RX1","NOTTINGHAM UNIVERSITY HOSPITALS NHS TRUST","RX1CC","NOTTINGHAM UNIVERSITY HOSPITALS NHS TRUST - CITY CAMPUS","Oxton"]
["RX1CC-Papplewick","RX1","NOTTINGHAM UNIVERSITY HOSPITALS NHS TRUST","RX1CC","NOTTINGHAM UNIVERSITY HOSPITALS NHS TRUST - CITY CAMPUS","Papplewick"]
["RX1CC-Patience 1","RX1","NOTTINGHAM UNIVERSITY HOSPITALS NHS TRUST","RX1CC","NOTTINGHAM UNIVERSITY HOSPITALS NHS TRUST - CITY CAMPUS","Patience 1"]
["RX1CC-RAU","RX1","NOTTINGHAM UNIVERSITY HOSPITALS NHS TRUST","RX1CC","NOTTINGHAM UNIVERSITY HOSPITALS NHS TRUST - CITY CAMPUS","RAU"]
["RX1CC-Southwell","RX1","NOTTINGHAM UNIVERSITY HOSPITALS NHS TRUST","RX1CC","NOTTINGHAM UNIVERSITY HOSPITALS NHS TRUST - CITY CAMPUS","Southwell"]
["RX1CC-Specialist Receiving Unit","RX1","NOTTINGHAM UNIVERSITY HOSPITALS NHS TRUST","RX1CC","NOTTINGHAM UNIVERSITY HOSPITALS NHS TRUST - CITY CAMPUS","Specialist Receiving Unit"]
["RX1CC-Toghill Ward","RX1","NOTTINGHAM UNIVERSITY HOSPITALS NHS TRUST","RX1CC","NOTTINGHAM UNIVERSITY HOSPITALS NHS TRUST - CITY CAMPUS","Toghill Ward"]
["RX1CC-Winifred 2","RX1","NOTTINGHAM UNIVERSITY HOSPITALS NHS TRUST","RX1CC","NOTTINGHAM UNIVERSITY HOSPITALS NHS TRUST - CITY CAMPUS","Winifred 2"]
["RX1RA-A23","RX1","NOTTINGHAM UNIVERSITY HOSPITALS NHS TRUST","RX1RA","NOTTINGHAM UNIVERSITY HOSPITALS NHS TRUST - QUEEN'S MEDICAL CENTRE CAMPUS","A23"]
["RX1RA-Advanced Respiratory Care Unit","RX1","NOTTINGHAM UNIVERSITY HOSPITALS NHS TRUST","RX1RA","NOTTINGHAM UNIVERSITY HOSPITALS NHS TRUST - QUEEN'S MEDICAL CENTRE CAMPUS","Advanced Respiratory Care Unit"]
["RX1RA-AICU-Adult Critical Care","RX1","NOTTINGHAM UNIVERSITY HOSPITALS NHS TRUST","RX1RA","NOTTINGHAM UNIVERSITY HOSPITALS NHS TRUST - QUEEN'S MEDICAL CENTRE CAMPUS","AICU-Adult Critical Care"]
["RX1RA-B26","RX1","NOTTINGHAM UNIVERSITY HOSPITALS NHS TRUST","RX1RA","NOTTINGHAM UNIVERSITY HOSPITALS NHS TRUST - QUEEN'S MEDICAL CENTRE CAMPUS","B26"]
["RX1RA-B3 AMU","RX1","NOTTINGHAM UNIVERSITY HOSPITALS NHS TRUST","RX1RA","NOTTINGHAM UNIVERSITY HOSPITALS NHS TRUST - QUEEN'S MEDICAL CENTRE CAMPUS","B3 AMU"]
["RX1RA-B47","RX1","NOTTINGHAM UNIVERSITY HOSPITALS NHS TRUST","RX1RA","NOTTINGHAM UNIVERSITY HOSPITALS NHS TRUST - QUEEN'S MEDICAL CENTRE CAMPUS","B47"]
["RX1RA-B48","RX1","NOTTINGHAM UNIVERSITY HOSPITALS NHS TRUST","RX1RA","NOTTINGHAM UNIVERSITY HOSPITALS NHS TRUST - QUEEN'S MEDICAL CENTRE CAMPUS","B48"]
["RX1RA-B49","RX1","NOTTINGHAM UNIVERSITY HOSPITALS NHS TRUST","RX1RA","NOTTINGHAM UNIVERSITY HOSPITALS NHS TRUST - QUEEN'S MEDICAL CENTRE CAMPUS","B49"]
["RX1RA-C25","RX1","NOTTINGHAM UNIVERSITY HOSPITALS NHS TRUST","RX1RA","NOTTINGHAM UNIVERSITY HOSPITALS NHS TRUST - QUEEN'S MEDICAL CENTRE CAMPUS","C25"]
["RX1RA-C29","RX1","NOTTINGHAM UNIVERSITY HOSPITALS NHS TRUST","RX1RA","NOTTINGHAM UNIVERSITY HOSPITALS NHS TRUST - QUEEN'S MEDICAL CENTRE CAMPUS","C29"]
["RX1RA-C30","RX1","NOTTINGHAM UNIVERSITY HOSPITALS NHS TRUST","RX1RA","NOTTINGHAM UNIVERSITY HOSPITALS NHS TRUST - QUEEN'S MEDICAL CENTRE CAMPUS","C30"]
["RX1RA-C31","RX1","NOTTINGHAM UNIVERSITY HOSPITALS NHS TRUST","RX1RA","NOTTINGHAM UNIVERSITY HOSPITALS NHS TRUST - QUEEN'S MEDICAL CENTRE CAMPUS","C31"]
["RX1RA-C4","RX1","NOTTINGHAM UNIVERSITY HOSPITALS NHS TRUST","RX1RA","NOTTINGHAM UNIVERSITY HOSPITALS NHS TRUST - QUEEN'S MEDICAL CENTRE CAMPUS","C4"]
["RX1RA-C5","RX1","NOTTINGHAM UNIVERSITY HOSPITALS NHS TRUST","RX1RA","NOTTINGHAM UNIVERSITY HOSPITALS NHS TRUST - QUEEN'S MEDICAL CENTRE CAMPUS","C5"]
["RX1RA-C51","RX1","NOTTINGHAM UNIVERSITY HOSPITALS NHS TRUST","RX1RA","NOTTINGHAM UNIVERSITY HOSPITALS NHS TRUST - QUEEN'S MEDICAL CENTRE CAMPUS","C51"]
["RX1RA-C52","RX1","NOTTINGHAM UNIVERSITY HOSPITALS NHS TRUST","RX1RA","NOTTINGHAM UNIVERSITY HOSPITALS NHS TRUST - QUEEN'S MEDICAL CENTRE CAMPUS","C52"]
["RX1RA-C53","RX1","NOTTINGHAM UNIVERSITY HOSPITALS NHS TRUST","RX1RA","NOTTINGHAM UNIVERSITY HOSPITALS NHS TRUST - QUEEN'S MEDICAL CENTRE CAMPUS","C53"]
["RX1RA-C54","RX1","NOTTINGHAM UNIVERSITY HOSPITALS NHS TRUST","RX1RA","NOTTINGHAM UNIVERSITY HOSPITALS NHS TRUST - QUEEN'S MEDICAL CENTRE CAMPUS","C54"]
["RX1RA-C6","RX1","NOTTINGHAM UNIVERSITY HOSPITALS NHS TRUST","RX1RA","NOTTINGHAM UNIVERSITY HOSPITALS NHS TRUST - QUEEN'S MEDICAL CENTRE CAMPUS","C6"]
["RX1RA-Childrens Assessment Unit","RX1","NOTTINGHAM UNIVERSITY HOSPITALS NHS TRUST","RX1RA","NOTTINGHAM UNIVERSITY HOSPITALS NHS TRUST - QUEEN'S MEDICAL CENTRE CAMPUS","Childrens Assessment Unit"]
["RX1RA-D10","RX1","NOTTINGHAM UNIVERSITY HOSPITALS NHS TRUST","RX1RA","NOTTINGHAM UNIVERSITY HOSPITALS NHS TRUST - QUEEN'S MEDICAL CENTRE CAMPUS","D10"]
["RX1RA-D11","RX1","NOTTINGHAM UNIVERSITY HOSPITALS NHS TRUST","RX1RA","NOTTINGHAM UNIVERSITY HOSPITALS NHS TRUST - QUEEN'S MEDICAL CENTRE CAMPUS","D11"]
["RX1RA-D33","RX1","NOTTINGHAM UNIVERSITY HOSPITALS NHS TRUST","RX1RA","NOTTINGHAM UNIVERSITY HOSPITALS NHS TRUST - QUEEN'S MEDICAL CENTRE CAMPUS","D33"]
["RX1RA-D34","RX1","NOTTINGHAM UNIVERSITY HOSPITALS NHS TRUST","RX1RA","NOTTINGHAM UNIVERSITY HOSPITALS NHS TRUST - QUEEN'S MEDICAL CENTRE CAMPUS","D34"]
["RX1RA-D35","RX1","NOTTINGHAM UNIVERSITY HOSPITALS NHS TRUST","RX1RA","NOTTINGHAM UNIVERSITY HOSPITALS NHS TRUST - QUEEN'S MEDICAL CENTRE CAMPUS","D35"]
["RX1RA-D55 Level One Unit","RX1","NOTTINGHAM UNIVERSITY HOSPITALS NHS TRUST","RX1RA","NOTTINGHAM UNIVERSITY HOSPITALS NHS TRUST - QUEEN'S MEDICAL CENTRE CAMPUS","D55 Level One Unit"]
["RX1RA-D57","RX1","NOTTINGHAM UNIVERSITY HOSPITALS NHS TRUST","RX1RA","NOTTINGHAM UNIVERSITY HOSPITALS NHS TRUST - QUEEN'S MEDICAL CENTRE CAMPUS","D57"]
["RX1RA-D58","RX1","NOTTINGHAM UNIVERSITY HOSPITALS NHS TRUST","RX1RA","NOTTINGHAM UNIVERSITY HOSPITALS NHS TRUST - QUEEN'S MEDICAL CENTRE CAMPUS","D58"]
["RX1RA-D8","RX1","NOTTINGHAM UNIVERSITY HOSPITALS NHS TRUST","RX1RA","NOTTINGHAM UNIVERSITY HOSPITALS NHS TRUST - QUEEN'S MEDICAL CENTRE CAMPUS","D8"]
["RX1RA-E12","RX1","NOTTINGHAM UNIVERSITY HOSPITALS NHS TRUST","RX1RA","NOTTINGHAM UNIVERSITY HOSPITALS NHS TRUST - QUEEN'S MEDICAL CENTRE CAMPUS","E12"]
["RX1RA-E14","RX1","NOTTINGHAM UNIVERSITY HOSPITALS NHS TRUST","RX1RA","NOTTINGHAM UNIVERSITY HOSPITALS NHS TRUST - QUEEN'S MEDICAL CENTRE CAMPUS","E14"]
["RX1RA-E15","RX1","NOTTINGHAM UNIVERSITY HOSPITALS NHS TRUST","RX1RA","NOTTINGHAM UNIVERSITY HOSPITALS NHS TRUST - QUEEN'S MEDICAL CENTRE CAMPUS","E15"]
["RX1RA-E16","RX1","NOTTINGHAM UNIVERSITY HOSPITALS NHS TRUST","RX1RA","NOTTINGHAM UNIVERSITY HOSPITALS NHS TRUST - QUEEN'S MEDICAL CENTRE CAMPUS","E16"]
["RX1RA-E17","RX1","NOTTINGHAM UNIVERSITY HOSPITALS NHS TRUST","RX1RA","NOTTINGHAM UNIVERSITY HOSPITALS NHS TRUST - QUEEN'S MEDICAL CENTRE CAMPUS","E17"]
["RX1RA-F18","RX1","NOTTINGHAM UNIVERSITY HOSPITALS NHS TRUST","RX1RA","NOTTINGHAM UNIVERSITY HOSPITALS NHS TRUST - QUEEN'S MEDICAL CENTRE CAMPUS","F18"]
["RX1RA-F19","RX1","NOTTINGHAM UNIVERSITY HOSPITALS NHS TRUST","RX1RA","NOTTINGHAM UNIVERSITY HOSPITALS NHS TRUST - QUEEN'S MEDICAL CENTRE CAMPUS","F19"]
["RX1RA-F20","RX1","NOTTINGHAM UNIVERSITY HOSPITALS NHS TRUST","RX1RA","NOTTINGHAM UNIVERSITY HOSPITALS NHS TRUST - QUEEN'S MEDICAL CENTRE CAMPUS","F20"]
["RX1RA-F21","RX1","NOTTINGHAM UNIVERSITY HOSPITALS NHS TRUST","RX1RA","NOTTINGHAM UNIVERSITY HOSPITALS NHS TRUST - QUEEN'S MEDICAL CENTRE CAMPUS","F21"]
["RX1RA-F22/CNU","RX1","NOTTINGHAM UNIVERSITY HOSPITALS NHS TRUST","RX1RA","NOTTINGHAM UNIVERSITY HOSPITALS NHS TRUST - QUEEN'S MEDICAL CENTRE CAMPUS","F22/CNU"]
["RX1RA-Labour Suite QMC","RX1","NOTTINGHAM UNIVERSITY HOSPITALS NHS TRUST","RX1RA","NOTTINGHAM UNIVERSITY HOSPITALS NHS TRUST - QUEEN'S MEDICAL CENTRE CAMPUS","Labour Suite QMC"]
["RX1RA-Neonatal QMC","RX1","NOTTINGHAM UNIVERSITY HOSPITALS NHS TRUST","RX1RA","NOTTINGHAM UNIVERSITY HOSPITALS NHS TRUST - QUEEN'S MEDICAL CENTRE CAMPUS","Neonatal QMC"]
["RX1RA-Neuro & Spinal Post Operative Unit","RX1","NOTTINGHAM UNIVERSITY HOSPITALS NHS TRUST","RX1RA","NOTTINGHAM UNIVERSITY HOSPITALS NHS TRUST - QUEEN'S MEDICAL CENTRE CAMPUS","Neuro & Spinal Post Operative Unit"]
["RX1RA-Paeds Neuro Ward","RX1","NOTTINGHAM UNIVERSITY HOSPITALS NHS TRUST","RX1RA","NOTTINGHAM UNIVERSITY HOSPITALS NHS TRUST - QUEEN'S MEDICAL CENTRE CAMPUS","Paeds Neuro Ward"]
["RX1RA-Paeds Oncology Ward","RX1","NOTTINGHAM UNIVERSITY HOSPITALS NHS TRUST","RX1RA","NOTTINGHAM UNIVERSITY HOSPITALS NHS TRUST - QUEEN'S MEDICAL CENTRE CAMPUS","Paeds Oncology Ward"]
["RX1RA-PHDU&PICU","RX1","NOTTINGHAM UNIVERSITY HOSPITALS NHS TRUST","RX1RA","NOTTINGHAM UNIVERSITY HOSPITALS NHS TRUST - QUEEN'S MEDICAL CENTRE CAMPUS","PHDU&PICU"]
["RX213-Brunswick Ward","RX2","SUSSEX PARTNERSHIP NHS FOUNDATION TRUST","RX213","MILL VIEW HOSPITAL","Brunswick Ward"]
["RX213-Caburn Ward","RX2","SUSSEX PARTNERSHIP NHS FOUNDATION TRUST","RX213","MILL VIEW HOSPITAL","Caburn Ward"]
[{"$f":"CONCATENATE(D5613,\"-\",F5613)","v":"RX213-Meridian Ward"},"RX2","SUSSEX PARTNERSHIP NHS FOUNDATION TRUST","RX213","MILL VIEW HOSPITAL","Meridian Ward"]
["RX213-Pavillion Ward","RX2","SUSSEX PARTNERSHIP NHS FOUNDATION TRUST","RX213","MILL VIEW HOSPITAL","Pavillion Ward"]
["RX213-Regency Ward","RX2","SUSSEX PARTNERSHIP NHS FOUNDATION TRUST","RX213","MILL VIEW HOSPITAL","Regency Ward"]
["RX22L-Rutland Gardens","RX2","SUSSEX PARTNERSHIP NHS FOUNDATION TRUST","RX22L","REHABILITATION BRIGHTON","Rutland Gardens"]
["RX240-Connolly House","RX2","SUSSEX PARTNERSHIP NHS FOUNDATION TRUST","RX240","THE HAROLD KIDD UNIT","Connolly House"]
["RX240-Grove Ward","RX2","SUSSEX PARTNERSHIP NHS FOUNDATION TRUST","RX240","THE HAROLD KIDD UNIT","Grove Ward"]
["RX240-Orchard Ward","RX2","SUSSEX PARTNERSHIP NHS FOUNDATION TRUST","RX240","THE HAROLD KIDD UNIT","Orchard Ward"]
["RX24T-Ash","RX2","SUSSEX PARTNERSHIP NHS FOUNDATION TRUST","RX24T","FORENSIC EASTBOURNE / WEALDEN","Ash"]
["RX24T-Elm","RX2","SUSSEX PARTNERSHIP NHS FOUNDATION TRUST","RX24T","FORENSIC EASTBOURNE / WEALDEN","Elm"]
["RX24T-Oak Ward","RX2","SUSSEX PARTNERSHIP NHS FOUNDATION TRUST","RX24T","FORENSIC EASTBOURNE / WEALDEN","Oak Ward"]
["RX24T-Willow Ward","RX2","SUSSEX PARTNERSHIP NHS FOUNDATION TRUST","RX24T","FORENSIC EASTBOURNE / WEALDEN","Willow Ward"]
["RX26N-Oaklands Ward","RX2","SUSSEX PARTNERSHIP NHS FOUNDATION TRUST","RX26N","OAKLANDS WARD","Oaklands Ward"]
["RX277-Larch Ward","RX2","SUSSEX PARTNERSHIP NHS FOUNDATION TRUST","RX277","MEADOWFIELD","Larch Ward"]
["RX277-Maple Ward","RX2","SUSSEX PARTNERSHIP NHS FOUNDATION TRUST","RX277","MEADOWFIELD","Maple Ward"]
["RX277-Rowan Ward","RX2","SUSSEX PARTNERSHIP NHS FOUNDATION TRUST","RX277","MEADOWFIELD","Rowan Ward"]
["RX277-Selden Centre","RX2","SUSSEX PARTNERSHIP NHS FOUNDATION TRUST","RX277","MEADOWFIELD","Selden Centre"]
["RX277-Shepherd House","RX2","SUSSEX PARTNERSHIP NHS FOUNDATION TRUST","RX277","MEADOWFIELD","Shepherd House"]
["RX27D-Fir Ward","RX2","SUSSEX PARTNERSHIP NHS FOUNDATION TRUST","RX27D","CHICHESTER CRT","Fir Ward"]
["RX27D-Hazel Ward","RX2","SUSSEX PARTNERSHIP NHS FOUNDATION TRUST","RX27D","CHICHESTER CRT","Hazel Ward"]
["RX27D-Pine Ward","RX2","SUSSEX PARTNERSHIP NHS FOUNDATION TRUST","RX27D","CHICHESTER CRT","Pine Ward"]
["RX28L-Iris Ward","RX2","SUSSEX PARTNERSHIP NHS FOUNDATION TRUST","RX28L","IRIS WARD","Iris Ward"]
["RX2C8-Crawley Road","RX2","SUSSEX PARTNERSHIP NHS FOUNDATION TRUST","RX2C8","HORSHAM HOSPITAL","Crawley Road"]
["RX2E7-Amberley Ward","RX2","SUSSEX PARTNERSHIP NHS FOUNDATION TRUST","RX2E7","DEPARTMENT OF PSYCHIATRY","Amberley Ward"]
["RX2E7-Bodiam","RX2","SUSSEX PARTNERSHIP NHS FOUNDATION TRUST","RX2E7","DEPARTMENT OF PSYCHIATRY","Bodiam"]
["RX2E7-Heathfield Ward","RX2","SUSSEX PARTNERSHIP NHS FOUNDATION TRUST","RX2E7","DEPARTMENT OF PSYCHIATRY","Heathfield Ward"]
["RX2F3-Amberstone","RX2","SUSSEX PARTNERSHIP NHS FOUNDATION TRUST","RX2F3","AMBERSTONE HOSPITAL","Amberstone"]
["RX2L8-Beechwood","RX2","SUSSEX PARTNERSHIP NHS FOUNDATION TRUST","RX2L8","BEECHWOOD UNIT","Beechwood"]
["RX2M1-St Raphael Ward","RX2","SUSSEX PARTNERSHIP NHS FOUNDATION TRUST","RX2M1","CONQUEST HOSPITAL","St Raphael Ward"]
["RX2M1-Woodlands Abbey","RX2","SUSSEX PARTNERSHIP NHS FOUNDATION TRUST","RX2M1","CONQUEST HOSPITAL","Woodlands Abbey"]
["RX2M1-Woodlands Castle","RX2","SUSSEX PARTNERSHIP NHS FOUNDATION TRUST","RX2M1","CONQUEST HOSPITAL","Woodlands Castle"]
["RX2P0-Amber Ward","RX2","SUSSEX PARTNERSHIP NHS FOUNDATION TRUST","RX2P0","LANGLEY GREEN HOSPITAL","Amber Ward"]
["RX2P0-Coral Ward","RX2","SUSSEX PARTNERSHIP NHS FOUNDATION TRUST","RX2P0","LANGLEY GREEN HOSPITAL","Coral Ward"]
["RX2P0-Jade Ward","RX2","SUSSEX PARTNERSHIP NHS FOUNDATION TRUST","RX2P0","LANGLEY GREEN HOSPITAL","Jade Ward"]
["RX2P0-Opal Ward","RX2","SUSSEX PARTNERSHIP NHS FOUNDATION TRUST","RX2P0","LANGLEY GREEN HOSPITAL","Opal Ward"]
["RX2X4-Chalkhill","RX2","SUSSEX PARTNERSHIP NHS FOUNDATION TRUST","RX2X4","CHALKHILL","Chalkhill"]
["RX33A-Baysdale","RX3","TEES, ESK AND WEAR VALLEYS NHS FOUNDATION TRUST","RX33A","ROSEBERRY PARK HOSPITAL","Baysdale"]
["RX33A-Bedale Ward","RX3","TEES, ESK AND WEAR VALLEYS NHS FOUNDATION TRUST","RX33A","ROSEBERRY PARK HOSPITAL","Bedale Ward"]
["RX33A-Bilsdale","RX3","TEES, ESK AND WEAR VALLEYS NHS FOUNDATION TRUST","RX33A","ROSEBERRY PARK HOSPITAL","Bilsdale"]
["RX33A-Brambling","RX3","TEES, ESK AND WEAR VALLEYS NHS FOUNDATION TRUST","RX33A","ROSEBERRY PARK HOSPITAL","Brambling"]
["RX33A-Bransdale","RX3","TEES, ESK AND WEAR VALLEYS NHS FOUNDATION TRUST","RX33A","ROSEBERRY PARK HOSPITAL","Bransdale"]
["RX33A-Clover / Ivy","RX3","TEES, ESK AND WEAR VALLEYS NHS FOUNDATION TRUST","RX33A","ROSEBERRY PARK HOSPITAL","Clover / Ivy"]
["RX33A-Eagle Enhanced Care RP","RX3","TEES, ESK AND WEAR VALLEYS NHS FOUNDATION TRUST","RX33A","ROSEBERRY PARK HOSPITAL","Eagle Enhanced Care RP"]
["RX33A-Harrier / Hawk","RX3","TEES, ESK AND WEAR VALLEYS NHS FOUNDATION TRUST","RX33A","ROSEBERRY PARK HOSPITAL","Harrier / Hawk"]
["RX33A-Jay Ward","RX3","TEES, ESK AND WEAR VALLEYS NHS FOUNDATION TRUST","RX33A","ROSEBERRY PARK HOSPITAL","Jay Ward"]
["RX33A-Kestrel / Kite.","RX3","TEES, ESK AND WEAR VALLEYS NHS FOUNDATION TRUST","RX33A","ROSEBERRY PARK HOSPITAL","Kestrel / Kite."]
["RX33A-Kirkdale","RX3","TEES, ESK AND WEAR VALLEYS NHS FOUNDATION TRUST","RX33A","ROSEBERRY PARK HOSPITAL","Kirkdale"]
["RX33A-Lark","RX3","TEES, ESK AND WEAR VALLEYS NHS FOUNDATION TRUST","RX33A","ROSEBERRY PARK HOSPITAL","Lark"]
["RX33A-Linnet Ward","RX3","TEES, ESK AND WEAR VALLEYS NHS FOUNDATION TRUST","RX33A","ROSEBERRY PARK HOSPITAL","Linnet Ward"]
["RX33A-Mallard","RX3","TEES, ESK AND WEAR VALLEYS NHS FOUNDATION TRUST","RX33A","ROSEBERRY PARK HOSPITAL","Mallard"]
["RX33A-Mandarin","RX3","TEES, ESK AND WEAR VALLEYS NHS FOUNDATION TRUST","RX33A","ROSEBERRY PARK HOSPITAL","Mandarin"]
["RX33A-Merlin","RX3","TEES, ESK AND WEAR VALLEYS NHS FOUNDATION TRUST","RX33A","ROSEBERRY PARK HOSPITAL","Merlin"]
["RX33A-Newtondale","RX3","TEES, ESK AND WEAR VALLEYS NHS FOUNDATION TRUST","RX33A","ROSEBERRY PARK HOSPITAL","Newtondale"]
["RX33A-Nightingale","RX3","TEES, ESK AND WEAR VALLEYS NHS FOUNDATION TRUST","RX33A","ROSEBERRY PARK HOSPITAL","Nightingale"]
["RX33A-Northdale Centre","RX3","TEES, ESK AND WEAR VALLEYS NHS FOUNDATION TRUST","RX33A","ROSEBERRY PARK HOSPITAL","Northdale Centre"]
["RX33A-Overdale","RX3","TEES, ESK AND WEAR VALLEYS NHS FOUNDATION TRUST","RX33A","ROSEBERRY PARK HOSPITAL","Overdale"]
["RX33A-Sandpiper Ward","RX3","TEES, ESK AND WEAR VALLEYS NHS FOUNDATION TRUST","RX33A","ROSEBERRY PARK HOSPITAL","Sandpiper Ward"]
["RX33A-Stockdale","RX3","TEES, ESK AND WEAR VALLEYS NHS FOUNDATION TRUST","RX33A","ROSEBERRY PARK HOSPITAL","Stockdale"]
["RX33A-Swift Ward","RX3","TEES, ESK AND WEAR VALLEYS NHS FOUNDATION TRUST","RX33A","ROSEBERRY PARK HOSPITAL","Swift Ward"]
["RX33A-Thistle","RX3","TEES, ESK AND WEAR VALLEYS NHS FOUNDATION TRUST","RX33A","ROSEBERRY PARK HOSPITAL","Thistle"]
["RX33V-Acomb Garth","RX3","TEES, ESK AND WEAR VALLEYS NHS FOUNDATION TRUST","RX33V","RECOVERY UNIT ACOMB (ACOMB GARTH)","Acomb Garth"]
["RX33W-Oak Rise","RX3","TEES, ESK AND WEAR VALLEYS NHS FOUNDATION TRUST","RX33W","OAK RISE","Oak Rise"]
["RX33Y-Meadowfields","RX3","TEES, ESK AND WEAR VALLEYS NHS FOUNDATION TRUST","RX33Y","MEADOWFIELDS","Meadowfields"]
["RX34L-Ebor Ward","RX3","TEES, ESK AND WEAR VALLEYS NHS FOUNDATION TRUST","RX34L","PEPPERMILL COURT","Ebor Ward"]
["RX34L-Minster Ward","RX3","TEES, ESK AND WEAR VALLEYS NHS FOUNDATION TRUST","RX34L","PEPPERMILL COURT","Minster Ward"]
[{"$f":"CONCATENATE(D5677,\"-\",F5677)","v":"RX35E-Cherry Tree House"},"RX3","TEES, ESK AND WEAR VALLEYS NHS FOUNDATION TRUST","RX35E","CHERRY TREE HOUSE COMMUNITY","Cherry Tree House"]
["RX3AD-Primrose Lodge","RX3","TEES, ESK AND WEAR VALLEYS NHS FOUNDATION TRUST","RX3AD","PRIMROSE LODGE","Primrose Lodge"]
["RX3AT-Ceddesfeld","RX3","TEES, ESK AND WEAR VALLEYS NHS FOUNDATION TRUST","RX3AT","AUCKLAND PARK HOSPITAL","Ceddesfeld"]
["RX3AT-Hamsterley","RX3","TEES, ESK AND WEAR VALLEYS NHS FOUNDATION TRUST","RX3AT","AUCKLAND PARK HOSPITAL","Hamsterley"]
["RX3CL-Bek-Ramsey Ward","RX3","TEES, ESK AND WEAR VALLEYS NHS FOUNDATION TRUST","RX3CL","LANCHESTER ROAD HOSPITAL","Bek-Ramsey Ward"]
["RX3CL-Farnham Ward","RX3","TEES, ESK AND WEAR VALLEYS NHS FOUNDATION TRUST","RX3CL","LANCHESTER ROAD HOSPITAL","Farnham Ward"]
["RX3CL-Harland AMH","RX3","TEES, ESK AND WEAR VALLEYS NHS FOUNDATION TRUST","RX3CL","LANCHESTER ROAD HOSPITAL","Harland AMH"]
["RX3CL-Roseberry Wards","RX3","TEES, ESK AND WEAR VALLEYS NHS FOUNDATION TRUST","RX3CL","LANCHESTER ROAD HOSPITAL","Roseberry Wards"]
["RX3CL-Talbot Ward","RX3","TEES, ESK AND WEAR VALLEYS NHS FOUNDATION TRUST","RX3CL","LANCHESTER ROAD HOSPITAL","Talbot Ward"]
["RX3CL-Tunstall Ward","RX3","TEES, ESK AND WEAR VALLEYS NHS FOUNDATION TRUST","RX3CL","LANCHESTER ROAD HOSPITAL","Tunstall Ward"]
["RX3EY-Ayckbourn Danby Ward","RX3","TEES, ESK AND WEAR VALLEYS NHS FOUNDATION TRUST","RX3EY","CROSS LANE HOSPITAL AYCKBOURN","Ayckbourn Danby Ward"]
["RX3EY-Ayckbourn Esk Ward","RX3","TEES, ESK AND WEAR VALLEYS NHS FOUNDATION TRUST","RX3EY","CROSS LANE HOSPITAL AYCKBOURN","Ayckbourn Esk Ward"]
["RX3FC-Aysgarth","RX3","TEES, ESK AND WEAR VALLEYS NHS FOUNDATION TRUST","RX3FC","AYSGARTH","Aysgarth"]
["RX3KN-Oakwood","RX3","TEES, ESK AND WEAR VALLEYS NHS FOUNDATION TRUST","RX3KN","OAKWOOD UNIT","Oakwood"]
["RX3KW-Springwood","RX3","TEES, ESK AND WEAR VALLEYS NHS FOUNDATION TRUST","RX3KW","SPRINGWOOD","Springwood"]
["RX3LF-Newberry Centre","RX3","TEES, ESK AND WEAR VALLEYS NHS FOUNDATION TRUST","RX3LF","WEST LANE HOSPITAL","Newberry Centre"]
["RX3LF-The Evergreen Centre","RX3","TEES, ESK AND WEAR VALLEYS NHS FOUNDATION TRUST","RX3LF","WEST LANE HOSPITAL","The Evergreen Centre"]
["RX3LF-Westwood Centre","RX3","TEES, ESK AND WEAR VALLEYS NHS FOUNDATION TRUST","RX3LF","WEST LANE HOSPITAL","Westwood Centre"]
["RX3MM-Birch Ward","RX3","TEES, ESK AND WEAR VALLEYS NHS FOUNDATION TRUST","RX3MM","WEST PARK HOSPITAL","Birch Ward"]
["RX3MM-Cedar","RX3","TEES, ESK AND WEAR VALLEYS NHS FOUNDATION TRUST","RX3MM","WEST PARK HOSPITAL","Cedar"]
["RX3MM-Elm Ward","RX3","TEES, ESK AND WEAR VALLEYS NHS FOUNDATION TRUST","RX3MM","WEST PARK HOSPITAL","Elm Ward"]
["RX3MM-Holly","RX3","TEES, ESK AND WEAR VALLEYS NHS FOUNDATION TRUST","RX3MM","WEST PARK HOSPITAL","Holly"]
["RX3MM-Maple","RX3","TEES, ESK AND WEAR VALLEYS NHS FOUNDATION TRUST","RX3MM","WEST PARK HOSPITAL","Maple"]
["RX3MM-Oak Ward","RX3","TEES, ESK AND WEAR VALLEYS NHS FOUNDATION TRUST","RX3MM","WEST PARK HOSPITAL","Oak Ward"]
["RX3MM-Willow Ward","RX3","TEES, ESK AND WEAR VALLEYS NHS FOUNDATION TRUST","RX3MM","WEST PARK HOSPITAL","Willow Ward"]
["RX3MV-Rowan Lea","RX3","TEES, ESK AND WEAR VALLEYS NHS FOUNDATION TRUST","RX3MV","CROSS LANE HOSPITAL ROWAN LEA","Rowan Lea"]
["RX3NH-Westerdale North","RX3","TEES, ESK AND WEAR VALLEYS NHS FOUNDATION TRUST","RX3NH","SANDWELL PARK","Westerdale North"]
["RX3NH-Westerdale South","RX3","TEES, ESK AND WEAR VALLEYS NHS FOUNDATION TRUST","RX3NH","SANDWELL PARK","Westerdale South"]
["RX3NJ-Lustrum Vale","RX3","TEES, ESK AND WEAR VALLEYS NHS FOUNDATION TRUST","RX3NJ","LUSTRUM VALE","Lustrum Vale"]
["RX3NP-Bankfields Court Unit 2","RX3","TEES, ESK AND WEAR VALLEYS NHS FOUNDATION TRUST","RX3NP","BANKFIELDS COURT UNIT 2","Bankfields Court Unit 2"]
["RX3NQ-Bankfields Court","RX3","TEES, ESK AND WEAR VALLEYS NHS FOUNDATION TRUST","RX3NQ","BANKFIELDS COURT UNIT 3","Bankfields Court"]
["RX3YE-Cedar (NY)","RX3","TEES, ESK AND WEAR VALLEYS NHS FOUNDATION TRUST","RX3YE","THE BRIARY UNIT","Cedar (NY)"]
["RX3YE-Rowan Ward","RX3","TEES, ESK AND WEAR VALLEYS NHS FOUNDATION TRUST","RX3YE","THE BRIARY UNIT","Rowan Ward"]
["RX3YK-The Orchards (NY)","RX3","TEES, ESK AND WEAR VALLEYS NHS FOUNDATION TRUST","RX3YK","THE ORCHARDS DAY HOSPITAL","The Orchards (NY)"]
["RX41M-WARD 31A","RX4","NORTHUMBERLAND, TYNE AND WEAR NHS FOUNDATION TRUST","RX41M","REGIONAL EATING DISORDERS","WARD 31A"]
["RX438-BROOKE HOUSE","RX4","NORTHUMBERLAND, TYNE AND WEAR NHS FOUNDATION TRUST","RX438","BROOKE HOUSE","BROOKE HOUSE"]
["RX442-FELLSIDE","RX4","NORTHUMBERLAND, TYNE AND WEAR NHS FOUNDATION TRUST","RX442","TRANWELL UNIT","FELLSIDE"]
["RX442-LAMESLEY","RX4","NORTHUMBERLAND, TYNE AND WEAR NHS FOUNDATION TRUST","RX442","TRANWELL UNIT","LAMESLEY"]
["RX461-ELM HOUSE","RX4","NORTHUMBERLAND, TYNE AND WEAR NHS FOUNDATION TRUST","RX461","ELM HOUSE","ELM HOUSE"]
["RX467-KDU CHEVIOT","RX4","NORTHUMBERLAND, TYNE AND WEAR NHS FOUNDATION TRUST","RX467","NORTHGATE HOSPITAL SITE","KDU CHEVIOT"]
["RX467-KDU LINDISFARNE","RX4","NORTHUMBERLAND, TYNE AND WEAR NHS FOUNDATION TRUST","RX467","NORTHGATE HOSPITAL SITE","KDU LINDISFARNE"]
["RX467-KDU WANSBECK","RX4","NORTHUMBERLAND, TYNE AND WEAR NHS FOUNDATION TRUST","RX467","NORTHGATE HOSPITAL SITE","KDU WANSBECK"]
["RX467-MITFORD","RX4","NORTHUMBERLAND, TYNE AND WEAR NHS FOUNDATION TRUST","RX467","NORTHGATE HOSPITAL SITE","MITFORD"]
["RX467-TWEED UNIT","RX4","NORTHUMBERLAND, TYNE AND WEAR NHS FOUNDATION TRUST","RX467","NORTHGATE HOSPITAL SITE","TWEED UNIT"]
["RX467-TYNE UNIT","RX4","NORTHUMBERLAND, TYNE AND WEAR NHS FOUNDATION TRUST","RX467","NORTHGATE HOSPITAL SITE","TYNE UNIT"]
["RX4CA-FRASER HOUSE","RX4","NORTHUMBERLAND, TYNE AND WEAR NHS FOUNDATION TRUST","RX4CA","FERNDENE","FRASER HOUSE"]
["RX4CA-REDBURN YPU","RX4","NORTHUMBERLAND, TYNE AND WEAR NHS FOUNDATION TRUST","RX4CA","FERNDENE","REDBURN YPU"]
["RX4CA-STEPHENSON HOUSE","RX4","NORTHUMBERLAND, TYNE AND WEAR NHS FOUNDATION TRUST","RX4CA","FERNDENE","STEPHENSON HOUSE"]
["RX4E2-ALNMOUTH","RX4","NORTHUMBERLAND, TYNE AND WEAR NHS FOUNDATION TRUST","RX4E2","ST GEORGES HOSPITAL SITE (MORPETH)","ALNMOUTH"]
["RX4E2-BEADNELL","RX4","NORTHUMBERLAND, TYNE AND WEAR NHS FOUNDATION TRUST","RX4E2","ST GEORGES HOSPITAL SITE (MORPETH)","BEADNELL"]
["RX4E2-BLUEBELL COURT","RX4","NORTHUMBERLAND, TYNE AND WEAR NHS FOUNDATION TRUST","RX4E2","ST GEORGES HOSPITAL SITE (MORPETH)","BLUEBELL COURT"]
["RX4E2-EMBLETON","RX4","NORTHUMBERLAND, TYNE AND WEAR NHS FOUNDATION TRUST","RX4E2","ST GEORGES HOSPITAL SITE (MORPETH)","EMBLETON"]
["RX4E2-HAUXLEY","RX4","NORTHUMBERLAND, TYNE AND WEAR NHS FOUNDATION TRUST","RX4E2","ST GEORGES HOSPITAL SITE (MORPETH)","HAUXLEY"]
["RX4E2-KINNERSLEY","RX4","NORTHUMBERLAND, TYNE AND WEAR NHS FOUNDATION TRUST","RX4E2","ST GEORGES HOSPITAL SITE (MORPETH)","KINNERSLEY"]
["RX4E2-NEWTON","RX4","NORTHUMBERLAND, TYNE AND WEAR NHS FOUNDATION TRUST","RX4E2","ST GEORGES HOSPITAL SITE (MORPETH)","NEWTON"]
["RX4E2-WARKWORTH","RX4","NORTHUMBERLAND, TYNE AND WEAR NHS FOUNDATION TRUST","RX4E2","ST GEORGES HOSPITAL SITE (MORPETH)","WARKWORTH"]
["RX4E2-WOODHORN","RX4","NORTHUMBERLAND, TYNE AND WEAR NHS FOUNDATION TRUST","RX4E2","ST GEORGES HOSPITAL SITE (MORPETH)","WOODHORN"]
["RX4E4-AIDAN","RX4","NORTHUMBERLAND, TYNE AND WEAR NHS FOUNDATION TRUST","RX4E4","ST NICHOLAS HOSPITAL (NEWCASTLE UPON TYNE)","AIDAN"]
["RX4E4-ASHBY","RX4","NORTHUMBERLAND, TYNE AND WEAR NHS FOUNDATION TRUST","RX4E4","ST NICHOLAS HOSPITAL (NEWCASTLE UPON TYNE)","ASHBY"]
["RX4E4-BEDE","RX4","NORTHUMBERLAND, TYNE AND WEAR NHS FOUNDATION TRUST","RX4E4","ST NICHOLAS HOSPITAL (NEWCASTLE UPON TYNE)","BEDE"]
["RX4E4-CUTHBERT","RX4","NORTHUMBERLAND, TYNE AND WEAR NHS FOUNDATION TRUST","RX4E4","ST NICHOLAS HOSPITAL (NEWCASTLE UPON TYNE)","CUTHBERT"]
["RX4E4-LENNOX","RX4","NORTHUMBERLAND, TYNE AND WEAR NHS FOUNDATION TRUST","RX4E4","ST NICHOLAS HOSPITAL (NEWCASTLE UPON TYNE)","LENNOX"]
["RX4E4-OSWIN","RX4","NORTHUMBERLAND, TYNE AND WEAR NHS FOUNDATION TRUST","RX4E4","ST NICHOLAS HOSPITAL (NEWCASTLE UPON TYNE)","OSWIN"]
["RX4E4-WILLOW VIEW","RX4","NORTHUMBERLAND, TYNE AND WEAR NHS FOUNDATION TRUST","RX4E4","ST NICHOLAS HOSPITAL (NEWCASTLE UPON TYNE)","WILLOW VIEW"]
[{"$f":"CONCATENATE(D5741,\"-\",F5741)","v":"RX4E6-COLLINGWOOD COURT"},"RX4","NORTHUMBERLAND, TYNE AND WEAR NHS FOUNDATION TRUST","RX4E6","NEWCASTLE GENERAL HOSPITAL","COLLINGWOOD COURT"]
["RX4E6-LOWRY","RX4","NORTHUMBERLAND, TYNE AND WEAR NHS FOUNDATION TRUST","RX4E6","NEWCASTLE GENERAL HOSPITAL","LOWRY"]
["RX4E6-RADS AT GIBSIDE","RX4","NORTHUMBERLAND, TYNE AND WEAR NHS FOUNDATION TRUST","RX4E6","NEWCASTLE GENERAL HOSPITAL","RADS AT GIBSIDE"]
["RX4FD-AKENSIDE","RX4","NORTHUMBERLAND, TYNE AND WEAR NHS FOUNDATION TRUST","RX4FD","CAMPUS FOR AGEING & VITALITY","AKENSIDE"]
["RX4FD-CASTLESIDE","RX4","NORTHUMBERLAND, TYNE AND WEAR NHS FOUNDATION TRUST","RX4FD","CAMPUS FOR AGEING & VITALITY","CASTLESIDE"]
["RX4K2-CLEADON - ROSEWOOD","RX4","NORTHUMBERLAND, TYNE AND WEAR NHS FOUNDATION TRUST","RX4K2","MONKWEARMOUTH HOSPITAL","CLEADON - ROSEWOOD"]
["RX4K2-MARSDEN","RX4","NORTHUMBERLAND, TYNE AND WEAR NHS FOUNDATION TRUST","RX4K2","MONKWEARMOUTH HOSPITAL","MARSDEN"]
["RX4K2-MOWBRAY","RX4","NORTHUMBERLAND, TYNE AND WEAR NHS FOUNDATION TRUST","RX4K2","MONKWEARMOUTH HOSPITAL","MOWBRAY"]
["RX4K2-ROKER","RX4","NORTHUMBERLAND, TYNE AND WEAR NHS FOUNDATION TRUST","RX4K2","MONKWEARMOUTH HOSPITAL","ROKER"]
["RX4W4-WALKERGATE WARD 1","RX4","NORTHUMBERLAND, TYNE AND WEAR NHS FOUNDATION TRUST","RX4W4","WALKERGATE PARK HOSPITAL","WALKERGATE WARD 1"]
["RX4W4-WALKERGATE WARD 2","RX4","NORTHUMBERLAND, TYNE AND WEAR NHS FOUNDATION TRUST","RX4W4","WALKERGATE PARK HOSPITAL","WALKERGATE WARD 2"]
["RX4W4-WALKERGATE WARD 3","RX4","NORTHUMBERLAND, TYNE AND WEAR NHS FOUNDATION TRUST","RX4W4","WALKERGATE PARK HOSPITAL","WALKERGATE WARD 3"]
["RX4W4-WALKERGATE WARD 4","RX4","NORTHUMBERLAND, TYNE AND WEAR NHS FOUNDATION TRUST","RX4W4","WALKERGATE PARK HOSPITAL","WALKERGATE WARD 4"]
["RX4Y0-ROSE LODGE","RX4","NORTHUMBERLAND, TYNE AND WEAR NHS FOUNDATION TRUST","RX4Y0","ROSE LODGE","ROSE LODGE"]
["RX4Z3-ALDERVALE - MEADOW VIEW","RX4","NORTHUMBERLAND, TYNE AND WEAR NHS FOUNDATION TRUST","RX4Z3","HOPEWOOD PARK","ALDERVALE - MEADOW VIEW"]
["RX4Z3-BECKFIELD - DENE","RX4","NORTHUMBERLAND, TYNE AND WEAR NHS FOUNDATION TRUST","RX4Z3","HOPEWOOD PARK","BECKFIELD - DENE"]
["RX4Z3-BRIDGEWELL - MILL COTTAGE","RX4","NORTHUMBERLAND, TYNE AND WEAR NHS FOUNDATION TRUST","RX4Z3","HOPEWOOD PARK","BRIDGEWELL - MILL COTTAGE"]
["RX4Z3-CLEARBROOK - LOWER WILLOWS","RX4","NORTHUMBERLAND, TYNE AND WEAR NHS FOUNDATION TRUST","RX4Z3","HOPEWOOD PARK","CLEARBROOK - LOWER WILLOWS"]
["RX4Z3-LONGVIEW - EAST WILLOWS","RX4","NORTHUMBERLAND, TYNE AND WEAR NHS FOUNDATION TRUST","RX4Z3","HOPEWOOD PARK","LONGVIEW - EAST WILLOWS"]
["RX4Z3-SHOREDRIFT - BEDE 1","RX4","NORTHUMBERLAND, TYNE AND WEAR NHS FOUNDATION TRUST","RX4Z3","HOPEWOOD PARK","SHOREDRIFT - BEDE 1"]
["RX4Z3-SPRINGRISE - WEST WILLOWS","RX4","NORTHUMBERLAND, TYNE AND WEAR NHS FOUNDATION TRUST","RX4Z3","HOPEWOOD PARK","SPRINGRISE - WEST WILLOWS"]
["RXA19-Beech","RXA","CHESHIRE AND WIRRAL PARTNERSHIP NHS FOUNDATION TRUST","RXA19","BOWMERE HOSPITAL","Beech"]
["RXA19-Cherry","RXA","CHESHIRE AND WIRRAL PARTNERSHIP NHS FOUNDATION TRUST","RXA19","BOWMERE HOSPITAL","Cherry"]
["RXA19-Juniper","RXA","CHESHIRE AND WIRRAL PARTNERSHIP NHS FOUNDATION TRUST","RXA19","BOWMERE HOSPITAL","Juniper"]
["RXA19-Maple","RXA","CHESHIRE AND WIRRAL PARTNERSHIP NHS FOUNDATION TRUST","RXA19","BOWMERE HOSPITAL","Maple"]
["RXA19-Rosewood","RXA","CHESHIRE AND WIRRAL PARTNERSHIP NHS FOUNDATION TRUST","RXA19","BOWMERE HOSPITAL","Rosewood"]
["RXA19-Willow PICU","RXA","CHESHIRE AND WIRRAL PARTNERSHIP NHS FOUNDATION TRUST","RXA19","BOWMERE HOSPITAL","Willow PICU"]
["RXA35-Greenways A&T","RXA","CHESHIRE AND WIRRAL PARTNERSHIP NHS FOUNDATION TRUST","RXA35","ROSEMOUNT","Greenways A&T"]
["RXA52-Eastway A&T","RXA","CHESHIRE AND WIRRAL PARTNERSHIP NHS FOUNDATION TRUST","RXA52","EASTWAY INPATIENTS","Eastway A&T"]
["RXA54-Brackendale","RXA","CHESHIRE AND WIRRAL PARTNERSHIP NHS FOUNDATION TRUST","RXA54","CLATTERBRIDGE HOSPITAL PSYCH SERVICES","Brackendale"]
["RXA54-Brooklands","RXA","CHESHIRE AND WIRRAL PARTNERSHIP NHS FOUNDATION TRUST","RXA54","CLATTERBRIDGE HOSPITAL PSYCH SERVICES","Brooklands"]
["RXA54-Lakefield","RXA","CHESHIRE AND WIRRAL PARTNERSHIP NHS FOUNDATION TRUST","RXA54","CLATTERBRIDGE HOSPITAL PSYCH SERVICES","Lakefield"]
["RXA54-Meadowbank","RXA","CHESHIRE AND WIRRAL PARTNERSHIP NHS FOUNDATION TRUST","RXA54","CLATTERBRIDGE HOSPITAL PSYCH SERVICES","Meadowbank"]
["RXA54-Oaktrees","RXA","CHESHIRE AND WIRRAL PARTNERSHIP NHS FOUNDATION TRUST","RXA54","CLATTERBRIDGE HOSPITAL PSYCH SERVICES","Oaktrees"]
["RXA72-Alderley Unit","RXA","CHESHIRE AND WIRRAL PARTNERSHIP NHS FOUNDATION TRUST","RXA72","MARY DENDY UNIT","Alderley Unit"]
["RXA72-Saddlebridge","RXA","CHESHIRE AND WIRRAL PARTNERSHIP NHS FOUNDATION TRUST","RXA72","MARY DENDY UNIT","Saddlebridge"]
["RXAG5-Coral","RXA","CHESHIRE AND WIRRAL PARTNERSHIP NHS FOUNDATION TRUST","RXAG5","ANCORA HOUSE","Coral"]
["RXAG5-Indigo","RXA","CHESHIRE AND WIRRAL PARTNERSHIP NHS FOUNDATION TRUST","RXAG5","ANCORA HOUSE","Indigo"]
["RXAWK-Adelphi","RXA","CHESHIRE AND WIRRAL PARTNERSHIP NHS FOUNDATION TRUST","RXAWK","MACCLESFIELD MENTAL HEALTH","Adelphi"]
["RXAWK-Bollin","RXA","CHESHIRE AND WIRRAL PARTNERSHIP NHS FOUNDATION TRUST","RXAWK","MACCLESFIELD MENTAL HEALTH","Bollin"]
["RXAWK-Croft","RXA","CHESHIRE AND WIRRAL PARTNERSHIP NHS FOUNDATION TRUST","RXAWK","MACCLESFIELD MENTAL HEALTH","Croft"]
["RXC01-AAU Cq","RXC","EAST SUSSEX HEALTHCARE NHS TRUST","RXC01","CONQUEST HOSPITAL","AAU Cq"]
["RXC01-Baird Ward Cq","RXC","EAST SUSSEX HEALTHCARE NHS TRUST","RXC01","CONQUEST HOSPITAL","Baird Ward Cq"]
["RXC01-Benson Ward CQ","RXC","EAST SUSSEX HEALTHCARE NHS TRUST","RXC01","CONQUEST HOSPITAL","Benson Ward CQ"]
["RXC01-Cookson Devas Elective CQ","RXC","EAST SUSSEX HEALTHCARE NHS TRUST","RXC01","CONQUEST HOSPITAL","Cookson Devas Elective CQ"]
["RXC01-Critical Care Conquest","RXC","EAST SUSSEX HEALTHCARE NHS TRUST","RXC01","CONQUEST HOSPITAL","Critical Care Conquest"]
["RXC01-De Cham Ward Conquest","RXC","EAST SUSSEX HEALTHCARE NHS TRUST","RXC01","CONQUEST HOSPITAL","De Cham Ward Conquest"]
["RXC01-Egerton Ward CQ","RXC","EAST SUSSEX HEALTHCARE NHS TRUST","RXC01","CONQUEST HOSPITAL","Egerton Ward CQ"]
["RXC01-Gardner Ward Conquest","RXC","EAST SUSSEX HEALTHCARE NHS TRUST","RXC01","CONQUEST HOSPITAL","Gardner Ward Conquest"]
["RXC01-James Ward CQ","RXC","EAST SUSSEX HEALTHCARE NHS TRUST","RXC01","CONQUEST HOSPITAL","James Ward CQ"]
["RXC01-Kipling & Friston Wards","RXC","EAST SUSSEX HEALTHCARE NHS TRUST","RXC01","CONQUEST HOSPITAL","Kipling & Friston Wards"]
["RXC01-MacDonald Ward CQ","RXC","EAST SUSSEX HEALTHCARE NHS TRUST","RXC01","CONQUEST HOSPITAL","MacDonald Ward CQ"]
["RXC01-Maternity Cq","RXC","EAST SUSSEX HEALTHCARE NHS TRUST","RXC01","CONQUEST HOSPITAL","Maternity Cq"]
["RXC01-Mirlees Ward CQ","RXC","EAST SUSSEX HEALTHCARE NHS TRUST","RXC01","CONQUEST HOSPITAL","Mirlees Ward CQ"]
["RXC01-Newington Frailty CQ","RXC","EAST SUSSEX HEALTHCARE NHS TRUST","RXC01","CONQUEST HOSPITAL","Newington Frailty CQ"]
["RXC01-Rye Memorial Care Centre","RXC","EAST SUSSEX HEALTHCARE NHS TRUST","RXC01","CONQUEST HOSPITAL","Rye Memorial Care Centre"]
["RXC01-SAU CQ","RXC","EAST SUSSEX HEALTHCARE NHS TRUST","RXC01","CONQUEST HOSPITAL","SAU CQ"]
["RXC01-SCBU CQ","RXC","EAST SUSSEX HEALTHCARE NHS TRUST","RXC01","CONQUEST HOSPITAL","SCBU CQ"]
["RXC01-St Raphael Ward","RXC","EAST SUSSEX HEALTHCARE NHS TRUST","RXC01","CONQUEST HOSPITAL","St Raphael Ward"]
["RXC01-Tressell Ward Cq","RXC","EAST SUSSEX HEALTHCARE NHS TRUST","RXC01","CONQUEST HOSPITAL","Tressell Ward Cq"]
["RXC01-Wellington Ward CQ","RXC","EAST SUSSEX HEALTHCARE NHS TRUST","RXC01","CONQUEST HOSPITAL","Wellington Ward CQ"]
["RXC01-Woodlands Abbey","RXC","EAST SUSSEX HEALTHCARE NHS TRUST","RXC01","CONQUEST HOSPITAL","Woodlands Abbey"]
["RXC01-Woodlands Castle","RXC","EAST SUSSEX HEALTHCARE NHS TRUST","RXC01","CONQUEST HOSPITAL","Woodlands Castle"]
["RXC02-AMU Edgh","RXC","EAST SUSSEX HEALTHCARE NHS TRUST","RXC02","EASTBOURNE DISTRICT GENERAL HOSPITAL","AMU Edgh"]
[{"$f":"CONCATENATE(D5805,\"-\",F5805)","v":"RXC02-Berwick Ward EDGH"},"RXC","EAST SUSSEX HEALTHCARE NHS TRUST","RXC02","EASTBOURNE DISTRICT GENERAL HOSPITAL","Berwick Ward EDGH"]
["RXC02-CCU & Cath Lab EDGH","RXC","EAST SUSSEX HEALTHCARE NHS TRUST","RXC02","EASTBOURNE DISTRICT GENERAL HOSPITAL","CCU & Cath Lab EDGH"]
["RXC02-Critical Care Edgh","RXC","EAST SUSSEX HEALTHCARE NHS TRUST","RXC02","EASTBOURNE DISTRICT GENERAL HOSPITAL","Critical Care Edgh"]
["RXC02-Cuckmere Ward EDGH","RXC","EAST SUSSEX HEALTHCARE NHS TRUST","RXC02","EASTBOURNE DISTRICT GENERAL HOSPITAL","Cuckmere Ward EDGH"]
["RXC02-East Dean/Sovereign Ward","RXC","EAST SUSSEX HEALTHCARE NHS TRUST","RXC02","EASTBOURNE DISTRICT GENERAL HOSPITAL","East Dean/Sovereign Ward"]
["RXC02-Eastbourne Midwifery Unit- EMU","RXC","EAST SUSSEX HEALTHCARE NHS TRUST","RXC02","EASTBOURNE DISTRICT GENERAL HOSPITAL","Eastbourne Midwifery Unit- EMU"]
["RXC02-Frailty Edgh","RXC","EAST SUSSEX HEALTHCARE NHS TRUST","RXC02","EASTBOURNE DISTRICT GENERAL HOSPITAL","Frailty Edgh"]
["RXC02-Hailsham Edgh","RXC","EAST SUSSEX HEALTHCARE NHS TRUST","RXC02","EASTBOURNE DISTRICT GENERAL HOSPITAL","Hailsham Edgh"]
["RXC02-Jevington Ward EDGH","RXC","EAST SUSSEX HEALTHCARE NHS TRUST","RXC02","EASTBOURNE DISTRICT GENERAL HOSPITAL","Jevington Ward EDGH"]
["RXC02-Michelham Unit","RXC","EAST SUSSEX HEALTHCARE NHS TRUST","RXC02","EASTBOURNE DISTRICT GENERAL HOSPITAL","Michelham Unit"]
["RXC02-Pevensey Ward EDGH","RXC","EAST SUSSEX HEALTHCARE NHS TRUST","RXC02","EASTBOURNE DISTRICT GENERAL HOSPITAL","Pevensey Ward EDGH"]
["RXC02-Seaford Edgh","RXC","EAST SUSSEX HEALTHCARE NHS TRUST","RXC02","EASTBOURNE DISTRICT GENERAL HOSPITAL","Seaford Edgh"]
["RXC02-Westham Edgh","RXC","EAST SUSSEX HEALTHCARE NHS TRUST","RXC02","EASTBOURNE DISTRICT GENERAL HOSPITAL","Westham Edgh"]
["RXE07-Brambles","RXE","ROTHERHAM DONCASTER AND SOUTH HUMBER NHS FOUNDATION TRUST","RXE07","ROTHERHAM OPMHS WOODLANDS","Brambles"]
["RXE07-Glade Ward","RXE","ROTHERHAM DONCASTER AND SOUTH HUMBER NHS FOUNDATION TRUST","RXE07","ROTHERHAM OPMHS WOODLANDS","Glade Ward"]
["RXE12-Goldcrest Ward","RXE","ROTHERHAM DONCASTER AND SOUTH HUMBER NHS FOUNDATION TRUST","RXE12","ROTHERHAM  EARLY INTERVENTION (SWALLOWNEST)","Goldcrest Ward"]
["RXE12-Kingfisher Ward","RXE","ROTHERHAM DONCASTER AND SOUTH HUMBER NHS FOUNDATION TRUST","RXE12","ROTHERHAM  EARLY INTERVENTION (SWALLOWNEST)","Kingfisher Ward"]
["RXE12-Osprey Ward","RXE","ROTHERHAM DONCASTER AND SOUTH HUMBER NHS FOUNDATION TRUST","RXE12","ROTHERHAM  EARLY INTERVENTION (SWALLOWNEST)","Osprey Ward"]
["RXE12-Sandpiper Ward","RXE","ROTHERHAM DONCASTER AND SOUTH HUMBER NHS FOUNDATION TRUST","RXE12","ROTHERHAM  EARLY INTERVENTION (SWALLOWNEST)","Sandpiper Ward"]
["RXE92-Laurel","RXE","ROTHERHAM DONCASTER AND SOUTH HUMBER NHS FOUNDATION TRUST","RXE92","NTH LINCS - GREAT OAKS INPATIENT UNIT","Laurel"]
["RXE92-Mulberry Ward","RXE","ROTHERHAM DONCASTER AND SOUTH HUMBER NHS FOUNDATION TRUST","RXE92","NTH LINCS - GREAT OAKS INPATIENT UNIT","Mulberry Ward"]
["RXEA1-Hawthorne Ward","RXE","ROTHERHAM DONCASTER AND SOUTH HUMBER NHS FOUNDATION TRUST","RXEA1","TICKHILL ROAD","Hawthorne Ward"]
["RXEA1-Hazel Ward","RXE","ROTHERHAM DONCASTER AND SOUTH HUMBER NHS FOUNDATION TRUST","RXEA1","TICKHILL ROAD","Hazel Ward"]
["RXEA1-Magnolia Ward","RXE","ROTHERHAM DONCASTER AND SOUTH HUMBER NHS FOUNDATION TRUST","RXEA1","TICKHILL ROAD","Magnolia Ward"]
["RXEAA-Amber Lodge","RXE","ROTHERHAM DONCASTER AND SOUTH HUMBER NHS FOUNDATION TRUST","RXEAA","ST CATHERINE'S","Amber Lodge"]
["RXEAA-Brodsworth Ward","RXE","ROTHERHAM DONCASTER AND SOUTH HUMBER NHS FOUNDATION TRUST","RXEAA","ST CATHERINE'S","Brodsworth Ward"]
["RXEAA-Coniston","RXE","ROTHERHAM DONCASTER AND SOUTH HUMBER NHS FOUNDATION TRUST","RXEAA","ST CATHERINE'S","Coniston"]
["RXEAA-Coral Lodge","RXE","ROTHERHAM DONCASTER AND SOUTH HUMBER NHS FOUNDATION TRUST","RXEAA","ST CATHERINE'S","Coral Lodge"]
["RXEAA-Cusworth Ward","RXE","ROTHERHAM DONCASTER AND SOUTH HUMBER NHS FOUNDATION TRUST","RXEAA","ST CATHERINE'S","Cusworth Ward"]
["RXEAA-Danes Court","RXE","ROTHERHAM DONCASTER AND SOUTH HUMBER NHS FOUNDATION TRUST","RXEAA","ST CATHERINE'S","Danes Court"]
["RXEAA-Emerald Ward","RXE","ROTHERHAM DONCASTER AND SOUTH HUMBER NHS FOUNDATION TRUST","RXEAA","ST CATHERINE'S","Emerald Ward"]
["RXEAA-Jubilee Close","RXE","ROTHERHAM DONCASTER AND SOUTH HUMBER NHS FOUNDATION TRUST","RXEAA","ST CATHERINE'S","Jubilee Close"]
["RXEAA-Skelbrooke Ward","RXE","ROTHERHAM DONCASTER AND SOUTH HUMBER NHS FOUNDATION TRUST","RXEAA","ST CATHERINE'S","Skelbrooke Ward"]
["RXEAA-Windermere","RXE","ROTHERHAM DONCASTER AND SOUTH HUMBER NHS FOUNDATION TRUST","RXEAA","ST CATHERINE'S","Windermere"]
["RXEDL-St Johns Hospice","RXE","ROTHERHAM DONCASTER AND SOUTH HUMBER NHS FOUNDATION TRUST","RXEDL","ST. JOHN’S HOSPICE.","St Johns Hospice"]
["RXEX3-New Beginnings","RXE","ROTHERHAM DONCASTER AND SOUTH HUMBER NHS FOUNDATION TRUST","RXEX3","NEW BEGINNINGS - DONCASTER","New Beginnings"]
["RXF03-Elective Orthopaedic Suite PGI","RXF","MID YORKSHIRE HOSPITALS NHS TRUST","RXF03","PONTEFRACT GENERAL INFIRMARY","Elective Orthopaedic Suite PGI"]
["RXF03-Friarwood Birth Centre","RXF","MID YORKSHIRE HOSPITALS NHS TRUST","RXF03","PONTEFRACT GENERAL INFIRMARY","Friarwood Birth Centre"]
["RXF03-Medical & Stroke Rehab Unit, PGI","RXF","MID YORKSHIRE HOSPITALS NHS TRUST","RXF03","PONTEFRACT GENERAL INFIRMARY","Medical & Stroke Rehab Unit, PGI"]
["RXF05-Childrens Unit PGH","RXF","MID YORKSHIRE HOSPITALS NHS TRUST","RXF05","PINDERFIELDS GENERAL HOSPITAL","Childrens Unit PGH"]
["RXF05-Gate 12 PGH, Acute Assesment","RXF","MID YORKSHIRE HOSPITALS NHS TRUST","RXF05","PINDERFIELDS GENERAL HOSPITAL","Gate 12 PGH, Acute Assesment"]
["RXF05-Gate 18 PGH, Antenatal","RXF","MID YORKSHIRE HOSPITALS NHS TRUST","RXF05","PINDERFIELDS GENERAL HOSPITAL","Gate 18 PGH, Antenatal"]
["RXF05-Gate 18a PGH, Labour","RXF","MID YORKSHIRE HOSPITALS NHS TRUST","RXF05","PINDERFIELDS GENERAL HOSPITAL","Gate 18a PGH, Labour"]
["RXF05-Gate 20a Respiratory","RXF","MID YORKSHIRE HOSPITALS NHS TRUST","RXF05","PINDERFIELDS GENERAL HOSPITAL","Gate 20a Respiratory"]
["RXF05-Gate 20b Oncology","RXF","MID YORKSHIRE HOSPITALS NHS TRUST","RXF05","PINDERFIELDS GENERAL HOSPITAL","Gate 20b Oncology"]
["RXF05-Gate 21 PGH, Haematology","RXF","MID YORKSHIRE HOSPITALS NHS TRUST","RXF05","PINDERFIELDS GENERAL HOSPITAL","Gate 21 PGH, Haematology"]
["RXF05-Gate 27 Acute Care","RXF","MID YORKSHIRE HOSPITALS NHS TRUST","RXF05","PINDERFIELDS GENERAL HOSPITAL","Gate 27 Acute Care"]
["RXF05-Gate 28 PGH, Plastics","RXF","MID YORKSHIRE HOSPITALS NHS TRUST","RXF05","PINDERFIELDS GENERAL HOSPITAL","Gate 28 PGH, Plastics"]
["RXF05-Gate 29 PGH, Burns","RXF","MID YORKSHIRE HOSPITALS NHS TRUST","RXF05","PINDERFIELDS GENERAL HOSPITAL","Gate 29 PGH, Burns"]
["RXF05-Gate 30 PGH, Intensive Care","RXF","MID YORKSHIRE HOSPITALS NHS TRUST","RXF05","PINDERFIELDS GENERAL HOSPITAL","Gate 30 PGH, Intensive Care"]
["RXF05-Gate 31 PGH, Cardiology","RXF","MID YORKSHIRE HOSPITALS NHS TRUST","RXF05","PINDERFIELDS GENERAL HOSPITAL","Gate 31 PGH, Cardiology"]
["RXF05-Gate 32 PGH, Diabetes & Endocrine","RXF","MID YORKSHIRE HOSPITALS NHS TRUST","RXF05","PINDERFIELDS GENERAL HOSPITAL","Gate 32 PGH, Diabetes & Endocrine"]
["RXF05-Gate 32a PGH, Orthopaedics","RXF","MID YORKSHIRE HOSPITALS NHS TRUST","RXF05","PINDERFIELDS GENERAL HOSPITAL","Gate 32a PGH, Orthopaedics"]
["RXF05-Gate 33 PGH, Surgery","RXF","MID YORKSHIRE HOSPITALS NHS TRUST","RXF05","PINDERFIELDS GENERAL HOSPITAL","Gate 33 PGH, Surgery"]
["RXF05-Gate 34 PGH, UroGynae, Enhanced Care","RXF","MID YORKSHIRE HOSPITALS NHS TRUST","RXF05","PINDERFIELDS GENERAL HOSPITAL","Gate 34 PGH, UroGynae, Enhanced Care"]
["RXF05-Gate 36 PGH, Surgical Assessment","RXF","MID YORKSHIRE HOSPITALS NHS TRUST","RXF05","PINDERFIELDS GENERAL HOSPITAL","Gate 36 PGH, Surgical Assessment"]
["RXF05-Gate 38 PGH, Orthopaedics","RXF","MID YORKSHIRE HOSPITALS NHS TRUST","RXF05","PINDERFIELDS GENERAL HOSPITAL","Gate 38 PGH, Orthopaedics"]
["RXF05-Gate 41 ACE","RXF","MID YORKSHIRE HOSPITALS NHS TRUST","RXF05","PINDERFIELDS GENERAL HOSPITAL","Gate 41 ACE"]
["RXF05-Gate 42 PGH, Elderly Care","RXF","MID YORKSHIRE HOSPITALS NHS TRUST","RXF05","PINDERFIELDS GENERAL HOSPITAL","Gate 42 PGH, Elderly Care"]
["RXF05-Gate 43a PGH, Elderly Care","RXF","MID YORKSHIRE HOSPITALS NHS TRUST","RXF05","PINDERFIELDS GENERAL HOSPITAL","Gate 43a PGH, Elderly Care"]
["RXF05-Gate 43b PGH, Elderly Care","RXF","MID YORKSHIRE HOSPITALS NHS TRUST","RXF05","PINDERFIELDS GENERAL HOSPITAL","Gate 43b PGH, Elderly Care"]
["RXF05-Gate 44 PGH, Gastroenterology","RXF","MID YORKSHIRE HOSPITALS NHS TRUST","RXF05","PINDERFIELDS GENERAL HOSPITAL","Gate 44 PGH, Gastroenterology"]
["RXF05-Gate 45a PGH, Respiratory","RXF","MID YORKSHIRE HOSPITALS NHS TRUST","RXF05","PINDERFIELDS GENERAL HOSPITAL","Gate 45a PGH, Respiratory"]
["RXF05-Gate 45b PGH, Respiratory","RXF","MID YORKSHIRE HOSPITALS NHS TRUST","RXF05","PINDERFIELDS GENERAL HOSPITAL","Gate 45b PGH, Respiratory"]
[{"$f":"CONCATENATE(D5869,\"-\",F5869)","v":"RXF05-Gate 46 Childrens Ward"},"RXF","MID YORKSHIRE HOSPITALS NHS TRUST","RXF05","PINDERFIELDS GENERAL HOSPITAL","Gate 46 Childrens Ward"]
["RXF05-Gate 46 Paediatric Burns","RXF","MID YORKSHIRE HOSPITALS NHS TRUST","RXF05","PINDERFIELDS GENERAL HOSPITAL","Gate 46 Paediatric Burns"]
["RXF05-Gate 46a Gastro","RXF","MID YORKSHIRE HOSPITALS NHS TRUST","RXF05","PINDERFIELDS GENERAL HOSPITAL","Gate 46a Gastro"]
["RXF05-Gate A1 Medical Step Down","RXF","MID YORKSHIRE HOSPITALS NHS TRUST","RXF05","PINDERFIELDS GENERAL HOSPITAL","Gate A1 Medical Step Down"]
["RXF05-Gate A2 PGH & HASU Stroke & Neurology","RXF","MID YORKSHIRE HOSPITALS NHS TRUST","RXF05","PINDERFIELDS GENERAL HOSPITAL","Gate A2 PGH & HASU Stroke & Neurology"]
["RXF05-Gate A4 PGH, Spinal Injuries","RXF","MID YORKSHIRE HOSPITALS NHS TRUST","RXF05","PINDERFIELDS GENERAL HOSPITAL","Gate A4 PGH, Spinal Injuries"]
["RXF05-Neo Natal Unit Trustwide","RXF","MID YORKSHIRE HOSPITALS NHS TRUST","RXF05","PINDERFIELDS GENERAL HOSPITAL","Neo Natal Unit Trustwide"]
["RXF05-Pinderfields Birth Centre, PGH","RXF","MID YORKSHIRE HOSPITALS NHS TRUST","RXF05","PINDERFIELDS GENERAL HOSPITAL","Pinderfields Birth Centre, PGH"]
["RXF05-Wakefield Intermediate Care Unit","RXF","MID YORKSHIRE HOSPITALS NHS TRUST","RXF05","PINDERFIELDS GENERAL HOSPITAL","Wakefield Intermediate Care Unit"]
["RXF10-Bronte Birth Centre, DDH","RXF","MID YORKSHIRE HOSPITALS NHS TRUST","RXF10","DEWSBURY AND DISTRICT HOSPITAL","Bronte Birth Centre, DDH"]
["RXF10-Elective Surgical Unit DDH","RXF","MID YORKSHIRE HOSPITALS NHS TRUST","RXF10","DEWSBURY AND DISTRICT HOSPITAL","Elective Surgical Unit DDH"]
["RXF10-Ward 10 DDH, Medicine","RXF","MID YORKSHIRE HOSPITALS NHS TRUST","RXF10","DEWSBURY AND DISTRICT HOSPITAL","Ward 10 DDH, Medicine"]
["RXF10-Ward 11 Elderly Step Down","RXF","MID YORKSHIRE HOSPITALS NHS TRUST","RXF10","DEWSBURY AND DISTRICT HOSPITAL","Ward 11 Elderly Step Down"]
["RXF10-Ward 2 Elderly Step Down","RXF","MID YORKSHIRE HOSPITALS NHS TRUST","RXF10","DEWSBURY AND DISTRICT HOSPITAL","Ward 2 Elderly Step Down"]
["RXF10-Ward 20 DDH, Orthopaedics","RXF","MID YORKSHIRE HOSPITALS NHS TRUST","RXF10","DEWSBURY AND DISTRICT HOSPITAL","Ward 20 DDH, Orthopaedics"]
["RXF10-Ward 4 Neuro and Stroke","RXF","MID YORKSHIRE HOSPITALS NHS TRUST","RXF10","DEWSBURY AND DISTRICT HOSPITAL","Ward 4 Neuro and Stroke"]
["RXF10-Ward 6 DDH, Medical Step Down","RXF","MID YORKSHIRE HOSPITALS NHS TRUST","RXF10","DEWSBURY AND DISTRICT HOSPITAL","Ward 6 DDH, Medical Step Down"]
["RXF10-Ward 8 DDH, Clinical Decisions Unit","RXF","MID YORKSHIRE HOSPITALS NHS TRUST","RXF10","DEWSBURY AND DISTRICT HOSPITAL","Ward 8 DDH, Clinical Decisions Unit"]
["RXF10-Ward 9 DDH, ACE Assessment Unit","RXF","MID YORKSHIRE HOSPITALS NHS TRUST","RXF10","DEWSBURY AND DISTRICT HOSPITAL","Ward 9 DDH, ACE Assessment Unit"]
["RXG10-Appleton","RXG","SOUTH WEST YORKSHIRE PARTNERSHIP NHS FOUNDATION TRUST","RXG10","FIELDHEAD HOSPITAL","Appleton"]
["RXG10-Bronte","RXG","SOUTH WEST YORKSHIRE PARTNERSHIP NHS FOUNDATION TRUST","RXG10","FIELDHEAD HOSPITAL","Bronte"]
["RXG10-Chippendale","RXG","SOUTH WEST YORKSHIRE PARTNERSHIP NHS FOUNDATION TRUST","RXG10","FIELDHEAD HOSPITAL","Chippendale"]
["RXG10-Crofton","RXG","SOUTH WEST YORKSHIRE PARTNERSHIP NHS FOUNDATION TRUST","RXG10","FIELDHEAD HOSPITAL","Crofton"]
["RXG10-Hepworth","RXG","SOUTH WEST YORKSHIRE PARTNERSHIP NHS FOUNDATION TRUST","RXG10","FIELDHEAD HOSPITAL","Hepworth"]
["RXG10-Horizon","RXG","SOUTH WEST YORKSHIRE PARTNERSHIP NHS FOUNDATION TRUST","RXG10","FIELDHEAD HOSPITAL","Horizon"]
["RXG10-Johnson","RXG","SOUTH WEST YORKSHIRE PARTNERSHIP NHS FOUNDATION TRUST","RXG10","FIELDHEAD HOSPITAL","Johnson"]
["RXG10-Newhaven","RXG","SOUTH WEST YORKSHIRE PARTNERSHIP NHS FOUNDATION TRUST","RXG10","FIELDHEAD HOSPITAL","Newhaven"]
["RXG10-Nostell","RXG","SOUTH WEST YORKSHIRE PARTNERSHIP NHS FOUNDATION TRUST","RXG10","FIELDHEAD HOSPITAL","Nostell"]
["RXG10-Priestley","RXG","SOUTH WEST YORKSHIRE PARTNERSHIP NHS FOUNDATION TRUST","RXG10","FIELDHEAD HOSPITAL","Priestley"]
["RXG10-Ryburn","RXG","SOUTH WEST YORKSHIRE PARTNERSHIP NHS FOUNDATION TRUST","RXG10","FIELDHEAD HOSPITAL","Ryburn"]
["RXG10-Sandal","RXG","SOUTH WEST YORKSHIRE PARTNERSHIP NHS FOUNDATION TRUST","RXG10","FIELDHEAD HOSPITAL","Sandal"]
["RXG10-Stanley","RXG","SOUTH WEST YORKSHIRE PARTNERSHIP NHS FOUNDATION TRUST","RXG10","FIELDHEAD HOSPITAL","Stanley"]
["RXG10-Thornhill","RXG","SOUTH WEST YORKSHIRE PARTNERSHIP NHS FOUNDATION TRUST","RXG10","FIELDHEAD HOSPITAL","Thornhill"]
["RXG10-Walton","RXG","SOUTH WEST YORKSHIRE PARTNERSHIP NHS FOUNDATION TRUST","RXG10","FIELDHEAD HOSPITAL","Walton"]
["RXG10-Waterton","RXG","SOUTH WEST YORKSHIRE PARTNERSHIP NHS FOUNDATION TRUST","RXG10","FIELDHEAD HOSPITAL","Waterton"]
["RXG31-Poplars","RXG","SOUTH WEST YORKSHIRE PARTNERSHIP NHS FOUNDATION TRUST","RXG31","THE POPLARS","Poplars"]
["RXG36-Enfield Down","RXG","SOUTH WEST YORKSHIRE PARTNERSHIP NHS FOUNDATION TRUST","RXG36","ENFIELD DOWN","Enfield Down"]
["RXG41-Ashdale","RXG","SOUTH WEST YORKSHIRE PARTNERSHIP NHS FOUNDATION TRUST","RXG41","THE DALES","Ashdale"]
["RXG41-Beechdale","RXG","SOUTH WEST YORKSHIRE PARTNERSHIP NHS FOUNDATION TRUST","RXG41","THE DALES","Beechdale"]
["RXG41-Elmdale","RXG","SOUTH WEST YORKSHIRE PARTNERSHIP NHS FOUNDATION TRUST","RXG41","THE DALES","Elmdale"]
["RXG58-Lyndhurst","RXG","SOUTH WEST YORKSHIRE PARTNERSHIP NHS FOUNDATION TRUST","RXG58","LYNDHURST","Lyndhurst"]
["RXG82-Beamshaw","RXG","SOUTH WEST YORKSHIRE PARTNERSHIP NHS FOUNDATION TRUST","RXG82","KENDRAY HOSPITAL","Beamshaw"]
["RXG82-Clark","RXG","SOUTH WEST YORKSHIRE PARTNERSHIP NHS FOUNDATION TRUST","RXG82","KENDRAY HOSPITAL","Clark"]
["RXG82-Melton Suite PICU","RXG","SOUTH WEST YORKSHIRE PARTNERSHIP NHS FOUNDATION TRUST","RXG82","KENDRAY HOSPITAL","Melton Suite PICU"]
["RXG82-Neuro Rehab Unit","RXG","SOUTH WEST YORKSHIRE PARTNERSHIP NHS FOUNDATION TRUST","RXG82","KENDRAY HOSPITAL","Neuro Rehab Unit"]
["RXG82-Stroke Rehab Unit","RXG","SOUTH WEST YORKSHIRE PARTNERSHIP NHS FOUNDATION TRUST","RXG82","KENDRAY HOSPITAL","Stroke Rehab Unit"]
["RXG82-Willow Ward","RXG","SOUTH WEST YORKSHIRE PARTNERSHIP NHS FOUNDATION TRUST","RXG82","KENDRAY HOSPITAL","Willow Ward"]
["RXGDD-Ward 18","RXG","SOUTH WEST YORKSHIRE PARTNERSHIP NHS FOUNDATION TRUST","RXGDD","PRIESTLEY UNIT","Ward 18"]
["RXGDD-Ward 19 - Female","RXG","SOUTH WEST YORKSHIRE PARTNERSHIP NHS FOUNDATION TRUST","RXGDD","PRIESTLEY UNIT","Ward 19 - Female"]
["RXGDD-Ward 19 - Male","RXG","SOUTH WEST YORKSHIRE PARTNERSHIP NHS FOUNDATION TRUST","RXGDD","PRIESTLEY UNIT","Ward 19 - Male"]
["RXH01-Albion and Lewes Ward - Level 10 Thomas Kemp Tower","RXH","BRIGHTON AND SUSSEX UNIVERSITY HOSPITALS NHS TRUST","RXH01","ROYAL SUSSEX COUNTY HOSPITAL","Albion and Lewes Ward - Level 10 Thomas Kemp Tower"]
["RXH01-Bailey Ward - Barry Building (3rd Floor)","RXH","BRIGHTON AND SUSSEX UNIVERSITY HOSPITALS NHS TRUST","RXH01","ROYAL SUSSEX COUNTY HOSPITAL","Bailey Ward - Barry Building (3rd Floor)"]
["RXH01-Bristol Ward - Barry Building (2nd Floor)","RXH","BRIGHTON AND SUSSEX UNIVERSITY HOSPITALS NHS TRUST","RXH01","ROYAL SUSSEX COUNTY HOSPITAL","Bristol Ward - Barry Building (2nd Floor)"]
["RXH01-Chichester Ward - Barry Building (3rd Floor)","RXH","BRIGHTON AND SUSSEX UNIVERSITY HOSPITALS NHS TRUST","RXH01","ROYAL SUSSEX COUNTY HOSPITAL","Chichester Ward - Barry Building (3rd Floor)"]
["RXH01-Egremont and Catherine James Ward - Barry Building (2nd Floor)","RXH","BRIGHTON AND SUSSEX UNIVERSITY HOSPITALS NHS TRUST","RXH01","ROYAL SUSSEX COUNTY HOSPITAL","Egremont and Catherine James Ward - Barry Building (2nd Floor)"]
["RXH01-Emerald Unit - Barry Building (1st Floor)","RXH","BRIGHTON AND SUSSEX UNIVERSITY HOSPITALS NHS TRUST","RXH01","ROYAL SUSSEX COUNTY HOSPITAL","Emerald Unit - Barry Building (1st Floor)"]
["RXH01-Haematology-Oncology Ward - Level 9 Sussex Kidney Centre","RXH","BRIGHTON AND SUSSEX UNIVERSITY HOSPITALS NHS TRUST","RXH01","ROYAL SUSSEX COUNTY HOSPITAL","Haematology-Oncology Ward - Level 9 Sussex Kidney Centre"]
["RXH01-Howard 1 Ward - Jubilee Building (Ground Floor)","RXH","BRIGHTON AND SUSSEX UNIVERSITY HOSPITALS NHS TRUST","RXH01","ROYAL SUSSEX COUNTY HOSPITAL","Howard 1 Ward - Jubilee Building (Ground Floor)"]
["RXH01-Howard 2 & Grant Ward - Jubilee Building","RXH","BRIGHTON AND SUSSEX UNIVERSITY HOSPITALS NHS TRUST","RXH01","ROYAL SUSSEX COUNTY HOSPITAL","Howard 2 & Grant Ward - Jubilee Building"]
["RXH01-Jowers Ward - Barry Building (1st Floor)","RXH","BRIGHTON AND SUSSEX UNIVERSITY HOSPITALS NHS TRUST","RXH01","ROYAL SUSSEX COUNTY HOSPITAL","Jowers Ward - Barry Building (1st Floor)"]
["RXH01-L6A Cardiac Ward - Level 6 Millennium Wing","RXH","BRIGHTON AND SUSSEX UNIVERSITY HOSPITALS NHS TRUST","RXH01","ROYAL SUSSEX COUNTY HOSPITAL","L6A Cardiac Ward - Level 6 Millennium Wing"]
["RXH01-L7A Cardiac Surgery - Level 7 Millennium Wing","RXH","BRIGHTON AND SUSSEX UNIVERSITY HOSPITALS NHS TRUST","RXH01","ROYAL SUSSEX COUNTY HOSPITAL","L7A Cardiac Surgery - Level 7 Millennium Wing"]
["RXH01-L8 Surgical Ward - Level 8 Thomas Kemp Tower","RXH","BRIGHTON AND SUSSEX UNIVERSITY HOSPITALS NHS TRUST","RXH01","ROYAL SUSSEX COUNTY HOSPITAL","L8 Surgical Ward - Level 8 Thomas Kemp Tower"]
["RXH01-L8A East Ward - Level 8 Millennium Wing","RXH","BRIGHTON AND SUSSEX UNIVERSITY HOSPITALS NHS TRUST","RXH01","ROYAL SUSSEX COUNTY HOSPITAL","L8A East Ward - Level 8 Millennium Wing"]
[{"$f":"CONCATENATE(D5933,\"-\",F5933)","v":"RXH01-L8A West Ward - Level 8 Millennium Wing"},"RXH","BRIGHTON AND SUSSEX UNIVERSITY HOSPITALS NHS TRUST","RXH01","ROYAL SUSSEX COUNTY HOSPITAL","L8A West Ward - Level 8 Millennium Wing"]
["RXH01-L9A Level 9 Millennium Wing","RXH","BRIGHTON AND SUSSEX UNIVERSITY HOSPITALS NHS TRUST","RXH01","ROYAL SUSSEX COUNTY HOSPITAL","L9A Level 9 Millennium Wing"]
["RXH01-Level 11","RXH","BRIGHTON AND SUSSEX UNIVERSITY HOSPITALS NHS TRUST","RXH01","ROYAL SUSSEX COUNTY HOSPITAL","Level 11"]
["RXH01-Level 11 West","RXH","BRIGHTON AND SUSSEX UNIVERSITY HOSPITALS NHS TRUST","RXH01","ROYAL SUSSEX COUNTY HOSPITAL","Level 11 West"]
["RXH01-Maternity RSCH","RXH","BRIGHTON AND SUSSEX UNIVERSITY HOSPITALS NHS TRUST","RXH01","ROYAL SUSSEX COUNTY HOSPITAL","Maternity RSCH"]
["RXH01-Medical Assessment Unit (AMU) - Level 5","RXH","BRIGHTON AND SUSSEX UNIVERSITY HOSPITALS NHS TRUST","RXH01","ROYAL SUSSEX COUNTY HOSPITAL","Medical Assessment Unit (AMU) - Level 5"]
["RXH01-Newhaven Downs","RXH","BRIGHTON AND SUSSEX UNIVERSITY HOSPITALS NHS TRUST","RXH01","ROYAL SUSSEX COUNTY HOSPITAL","Newhaven Downs"]
["RXH01-Overton","RXH","BRIGHTON AND SUSSEX UNIVERSITY HOSPITALS NHS TRUST","RXH01","ROYAL SUSSEX COUNTY HOSPITAL","Overton"]
["RXH01-Pickford","RXH","BRIGHTON AND SUSSEX UNIVERSITY HOSPITALS NHS TRUST","RXH01","ROYAL SUSSEX COUNTY HOSPITAL","Pickford"]
["RXH01-RSCH Cardiac Day Case Unit - Lewes Ward Level 10 Thomas Kemp Tower","RXH","BRIGHTON AND SUSSEX UNIVERSITY HOSPITALS NHS TRUST","RXH01","ROYAL SUSSEX COUNTY HOSPITAL","RSCH Cardiac Day Case Unit - Lewes Ward Level 10 Thomas Kemp Tower"]
["RXH01-RSCH ITU Ward - Level 7 Thomas Kemp Tower","RXH","BRIGHTON AND SUSSEX UNIVERSITY HOSPITALS NHS TRUST","RXH01","ROYAL SUSSEX COUNTY HOSPITAL","RSCH ITU Ward - Level 7 Thomas Kemp Tower"]
["RXH01-Solomon Ward - Barry Building (3rd Floor)","RXH","BRIGHTON AND SUSSEX UNIVERSITY HOSPITALS NHS TRUST","RXH01","ROYAL SUSSEX COUNTY HOSPITAL","Solomon Ward - Barry Building (3rd Floor)"]
["RXH01-Trafford Ward - Level 9 Sussex Kidney Centre","RXH","BRIGHTON AND SUSSEX UNIVERSITY HOSPITALS NHS TRUST","RXH01","ROYAL SUSSEX COUNTY HOSPITAL","Trafford Ward - Level 9 Sussex Kidney Centre"]
["RXH01-Vallance Ward - Barry Building (1st Floor)","RXH","BRIGHTON AND SUSSEX UNIVERSITY HOSPITALS NHS TRUST","RXH01","ROYAL SUSSEX COUNTY HOSPITAL","Vallance Ward - Barry Building (1st Floor)"]
["RXH06-RACH High Dependancy Unit HDU- Level 8","RXH","BRIGHTON AND SUSSEX UNIVERSITY HOSPITALS NHS TRUST","RXH06","THE ROYAL ALEXANDRA CHILDREN'S HOSPITAL","RACH High Dependancy Unit HDU- Level 8"]
["RXH06-RACH Medical Ward - Level 9","RXH","BRIGHTON AND SUSSEX UNIVERSITY HOSPITALS NHS TRUST","RXH06","THE ROYAL ALEXANDRA CHILDREN'S HOSPITAL","RACH Medical Ward - Level 9"]
["RXH06-RACH Surgical Ward - Level 8","RXH","BRIGHTON AND SUSSEX UNIVERSITY HOSPITALS NHS TRUST","RXH06","THE ROYAL ALEXANDRA CHILDREN'S HOSPITAL","RACH Surgical Ward - Level 8"]
["RXH06-RSCH Trevor Mann Baby Unit L14 Thomas Kemp Tower","RXH","BRIGHTON AND SUSSEX UNIVERSITY HOSPITALS NHS TRUST","RXH06","THE ROYAL ALEXANDRA CHILDREN'S HOSPITAL","RSCH Trevor Mann Baby Unit L14 Thomas Kemp Tower"]
["RXH06-Special Care Baby Unit PRH","RXH","BRIGHTON AND SUSSEX UNIVERSITY HOSPITALS NHS TRUST","RXH06","THE ROYAL ALEXANDRA CHILDREN'S HOSPITAL","Special Care Baby Unit PRH"]
["RXH09-Albourne Ward (1st Floor)","RXH","BRIGHTON AND SUSSEX UNIVERSITY HOSPITALS NHS TRUST","RXH09","PRINCESS ROYAL HOSPITAL","Albourne Ward (1st Floor)"]
["RXH09-Ansty Ward (1st Floor)","RXH","BRIGHTON AND SUSSEX UNIVERSITY HOSPITALS NHS TRUST","RXH09","PRINCESS ROYAL HOSPITAL","Ansty Ward (1st Floor)"]
["RXH09-Ardingly Ward (2nd Floor)","RXH","BRIGHTON AND SUSSEX UNIVERSITY HOSPITALS NHS TRUST","RXH09","PRINCESS ROYAL HOSPITAL","Ardingly Ward (2nd Floor)"]
["RXH09-Balcombe Ward (Ground Floor)","RXH","BRIGHTON AND SUSSEX UNIVERSITY HOSPITALS NHS TRUST","RXH09","PRINCESS ROYAL HOSPITAL","Balcombe Ward (Ground Floor)"]
["RXH09-Clayton Ward","RXH","BRIGHTON AND SUSSEX UNIVERSITY HOSPITALS NHS TRUST","RXH09","PRINCESS ROYAL HOSPITAL","Clayton Ward"]
["RXH09-Horsted Keynes Ward (2nd Floor)","RXH","BRIGHTON AND SUSSEX UNIVERSITY HOSPITALS NHS TRUST","RXH09","PRINCESS ROYAL HOSPITAL","Horsted Keynes Ward (2nd Floor)"]
["RXH09-Hurstepier Point","RXH","BRIGHTON AND SUSSEX UNIVERSITY HOSPITALS NHS TRUST","RXH09","PRINCESS ROYAL HOSPITAL","Hurstepier Point"]
["RXH09-Lindfield Ward (Rehab)","RXH","BRIGHTON AND SUSSEX UNIVERSITY HOSPITALS NHS TRUST","RXH09","PRINCESS ROYAL HOSPITAL","Lindfield Ward (Rehab)"]
["RXH09-Maternity PRH","RXH","BRIGHTON AND SUSSEX UNIVERSITY HOSPITALS NHS TRUST","RXH09","PRINCESS ROYAL HOSPITAL","Maternity PRH"]
["RXH09-Newick Ward Sussex Orthopaedic Treatment Centre","RXH","BRIGHTON AND SUSSEX UNIVERSITY HOSPITALS NHS TRUST","RXH09","PRINCESS ROYAL HOSPITAL","Newick Ward Sussex Orthopaedic Treatment Centre"]
["RXH09-Newtimber Ward (Sussex Rehab)","RXH","BRIGHTON AND SUSSEX UNIVERSITY HOSPITALS NHS TRUST","RXH09","PRINCESS ROYAL HOSPITAL","Newtimber Ward (Sussex Rehab)"]
["RXH09-Plumpton ward","RXH","BRIGHTON AND SUSSEX UNIVERSITY HOSPITALS NHS TRUST","RXH09","PRINCESS ROYAL HOSPITAL","Plumpton ward"]
["RXH09-PRH Intensive Care Unit ITU (1st Floor)","RXH","BRIGHTON AND SUSSEX UNIVERSITY HOSPITALS NHS TRUST","RXH09","PRINCESS ROYAL HOSPITAL","PRH Intensive Care Unit ITU (1st Floor)"]
["RXH09-Pyecombe Ward (Ground Floor)","RXH","BRIGHTON AND SUSSEX UNIVERSITY HOSPITALS NHS TRUST","RXH09","PRINCESS ROYAL HOSPITAL","Pyecombe Ward (Ground Floor)"]
["RXH09-Twineham Ward (1st Floor)","RXH","BRIGHTON AND SUSSEX UNIVERSITY HOSPITALS NHS TRUST","RXH09","PRINCESS ROYAL HOSPITAL","Twineham Ward (1st Floor)"]
["RXK01-AMU A - Sandwell","RXK","SANDWELL AND WEST BIRMINGHAM HOSPITALS NHS TRUST","RXK01","SANDWELL GENERAL HOSPITAL","AMU A - Sandwell"]
["RXK01-Critical Care - Sandwell","RXK","SANDWELL AND WEST BIRMINGHAM HOSPITALS NHS TRUST","RXK01","SANDWELL GENERAL HOSPITAL","Critical Care - Sandwell"]
["RXK01-Lyndon 1 - Paediatrics","RXK","SANDWELL AND WEST BIRMINGHAM HOSPITALS NHS TRUST","RXK01","SANDWELL GENERAL HOSPITAL","Lyndon 1 - Paediatrics"]
["RXK01-Lyndon 2 - Surgery","RXK","SANDWELL AND WEST BIRMINGHAM HOSPITALS NHS TRUST","RXK01","SANDWELL GENERAL HOSPITAL","Lyndon 2 - Surgery"]
["RXK01-Lyndon 3 - T&O/Stepdown","RXK","SANDWELL AND WEST BIRMINGHAM HOSPITALS NHS TRUST","RXK01","SANDWELL GENERAL HOSPITAL","Lyndon 3 - T&O/Stepdown"]
["RXK01-Lyndon 4","RXK","SANDWELL AND WEST BIRMINGHAM HOSPITALS NHS TRUST","RXK01","SANDWELL GENERAL HOSPITAL","Lyndon 4"]
["RXK01-Lyndon 5 - Acute Medicine","RXK","SANDWELL AND WEST BIRMINGHAM HOSPITALS NHS TRUST","RXK01","SANDWELL GENERAL HOSPITAL","Lyndon 5 - Acute Medicine"]
["RXK01-Lyndon Ground - PAU/Adolescents","RXK","SANDWELL AND WEST BIRMINGHAM HOSPITALS NHS TRUST","RXK01","SANDWELL GENERAL HOSPITAL","Lyndon Ground - PAU/Adolescents"]
["RXK01-Newton 3 - T&O","RXK","SANDWELL AND WEST BIRMINGHAM HOSPITALS NHS TRUST","RXK01","SANDWELL GENERAL HOSPITAL","Newton 3 - T&O"]
["RXK01-Newton 4 - Stroke and Neurology Rehab","RXK","SANDWELL AND WEST BIRMINGHAM HOSPITALS NHS TRUST","RXK01","SANDWELL GENERAL HOSPITAL","Newton 4 - Stroke and Neurology Rehab"]
["RXK01-Newton 5 - Haematology","RXK","SANDWELL AND WEST BIRMINGHAM HOSPITALS NHS TRUST","RXK01","SANDWELL GENERAL HOSPITAL","Newton 5 - Haematology"]
["RXK01-Older Persons Assessment Unit (OPAU) - Sandwell","RXK","SANDWELL AND WEST BIRMINGHAM HOSPITALS NHS TRUST","RXK01","SANDWELL GENERAL HOSPITAL","Older Persons Assessment Unit (OPAU) - Sandwell"]
["RXK01-Priory 2 - Colorectal/General Surgery","RXK","SANDWELL AND WEST BIRMINGHAM HOSPITALS NHS TRUST","RXK01","SANDWELL GENERAL HOSPITAL","Priory 2 - Colorectal/General Surgery"]
["RXK01-Priory 4 - Stroke/Neurology","RXK","SANDWELL AND WEST BIRMINGHAM HOSPITALS NHS TRUST","RXK01","SANDWELL GENERAL HOSPITAL","Priory 4 - Stroke/Neurology"]
["RXK01-Priory 5 - Gastro/Resp","RXK","SANDWELL AND WEST BIRMINGHAM HOSPITALS NHS TRUST","RXK01","SANDWELL GENERAL HOSPITAL","Priory 5 - Gastro/Resp"]
["RXK01-SAU - Sandwell","RXK","SANDWELL AND WEST BIRMINGHAM HOSPITALS NHS TRUST","RXK01","SANDWELL GENERAL HOSPITAL","SAU - Sandwell"]
["RXK02-AMUs - City","RXK","SANDWELL AND WEST BIRMINGHAM HOSPITALS NHS TRUST","RXK02","CITY HOSPITAL","AMUs - City"]
["RXK02-CCS - Critical Care Services - City","RXK","SANDWELL AND WEST BIRMINGHAM HOSPITALS NHS TRUST","RXK02","CITY HOSPITAL","CCS - Critical Care Services - City"]
["RXK02-City Surgical Unit (CSU)","RXK","SANDWELL AND WEST BIRMINGHAM HOSPITALS NHS TRUST","RXK02","CITY HOSPITAL","City Surgical Unit (CSU)"]
["RXK02-D11 - Male Older Adult","RXK","SANDWELL AND WEST BIRMINGHAM HOSPITALS NHS TRUST","RXK02","CITY HOSPITAL","D11 - Male Older Adult"]
["RXK02-D15/D16 Gastro/Resp","RXK","SANDWELL AND WEST BIRMINGHAM HOSPITALS NHS TRUST","RXK02","CITY HOSPITAL","D15/D16 Gastro/Resp"]
["RXK02-D17 (Gynae Ward)","RXK","SANDWELL AND WEST BIRMINGHAM HOSPITALS NHS TRUST","RXK02","CITY HOSPITAL","D17 (Gynae Ward)"]
["RXK02-D19 - Paediatric Medicine","RXK","SANDWELL AND WEST BIRMINGHAM HOSPITALS NHS TRUST","RXK02","CITY HOSPITAL","D19 - Paediatric Medicine"]
["RXK02-D26 - Female Older Adult","RXK","SANDWELL AND WEST BIRMINGHAM HOSPITALS NHS TRUST","RXK02","CITY HOSPITAL","D26 - Female Older Adult"]
["RXK02-D43 - Community RTG","RXK","SANDWELL AND WEST BIRMINGHAM HOSPITALS NHS TRUST","RXK02","CITY HOSPITAL","D43 - Community RTG"]
["RXK02-D47 - City","RXK","SANDWELL AND WEST BIRMINGHAM HOSPITALS NHS TRUST","RXK02","CITY HOSPITAL","D47 - City"]
["RXK02-D5/D7 - Cardiology","RXK","SANDWELL AND WEST BIRMINGHAM HOSPITALS NHS TRUST","RXK02","CITY HOSPITAL","D5/D7 - Cardiology"]
["RXK02-Labour Ward - City","RXK","SANDWELL AND WEST BIRMINGHAM HOSPITALS NHS TRUST","RXK02","CITY HOSPITAL","Labour Ward - City"]
["RXK02-Maternity 1 - City","RXK","SANDWELL AND WEST BIRMINGHAM HOSPITALS NHS TRUST","RXK02","CITY HOSPITAL","Maternity 1 - City"]
["RXK02-Maternity 2 - City","RXK","SANDWELL AND WEST BIRMINGHAM HOSPITALS NHS TRUST","RXK02","CITY HOSPITAL","Maternity 2 - City"]
[{"$f":"CONCATENATE(D5997,\"-\",F5997)","v":"RXK02-Neonatal Unit - City"},"RXK","SANDWELL AND WEST BIRMINGHAM HOSPITALS NHS TRUST","RXK02","CITY HOSPITAL","Neonatal Unit - City"]
["RXK02-Serenity Birth Centre - City","RXK","SANDWELL AND WEST BIRMINGHAM HOSPITALS NHS TRUST","RXK02","CITY HOSPITAL","Serenity Birth Centre - City"]
["RXK03-Ophthalmic Unit - City","RXK","SANDWELL AND WEST BIRMINGHAM HOSPITALS NHS TRUST","RXK03","BIRMINGHAM MIDLAND EYE CENTRE (BMEC)","Ophthalmic Unit - City"]
["RXK10-Eliza Tinsley Ward - Community RTG","RXK","SANDWELL AND WEST BIRMINGHAM HOSPITALS NHS TRUST","RXK10","ROWLEY REGIS HOSPITAL","Eliza Tinsley Ward - Community RTG"]
["RXK10-Henderson","RXK","SANDWELL AND WEST BIRMINGHAM HOSPITALS NHS TRUST","RXK10","ROWLEY REGIS HOSPITAL","Henderson"]
["RXK10-Leasowes","RXK","SANDWELL AND WEST BIRMINGHAM HOSPITALS NHS TRUST","RXK10","ROWLEY REGIS HOSPITAL","Leasowes"]
["RXK10-McCarthy - Rowley","RXK","SANDWELL AND WEST BIRMINGHAM HOSPITALS NHS TRUST","RXK10","ROWLEY REGIS HOSPITAL","McCarthy - Rowley"]
["RXL01-AMU","RXL","BLACKPOOL TEACHING HOSPITALS NHS FOUNDATION TRUST","RXL01","BLACKPOOL VICTORIA HOSPITAL","AMU"]
["RXL01-CCU","RXL","BLACKPOOL TEACHING HOSPITALS NHS FOUNDATION TRUST","RXL01","BLACKPOOL VICTORIA HOSPITAL","CCU"]
["RXL01-Childrens Ward and Adolescent Ward","RXL","BLACKPOOL TEACHING HOSPITALS NHS FOUNDATION TRUST","RXL01","BLACKPOOL VICTORIA HOSPITAL","Childrens Ward and Adolescent Ward"]
["RXL01-CITU","RXL","BLACKPOOL TEACHING HOSPITALS NHS FOUNDATION TRUST","RXL01","BLACKPOOL VICTORIA HOSPITAL","CITU"]
["RXL01-Haematology Ward","RXL","BLACKPOOL TEACHING HOSPITALS NHS FOUNDATION TRUST","RXL01","BLACKPOOL VICTORIA HOSPITAL","Haematology Ward"]
["RXL01-ITU","RXL","BLACKPOOL TEACHING HOSPITALS NHS FOUNDATION TRUST","RXL01","BLACKPOOL VICTORIA HOSPITAL","ITU"]
["RXL01-Lancashire Suite","RXL","BLACKPOOL TEACHING HOSPITALS NHS FOUNDATION TRUST","RXL01","BLACKPOOL VICTORIA HOSPITAL","Lancashire Suite"]
["RXL01-Maternity Unit Ward D","RXL","BLACKPOOL TEACHING HOSPITALS NHS FOUNDATION TRUST","RXL01","BLACKPOOL VICTORIA HOSPITAL","Maternity Unit Ward D"]
["RXL01-NEONATES","RXL","BLACKPOOL TEACHING HOSPITALS NHS FOUNDATION TRUST","RXL01","BLACKPOOL VICTORIA HOSPITAL","NEONATES"]
["RXL01-Stroke Unit","RXL","BLACKPOOL TEACHING HOSPITALS NHS FOUNDATION TRUST","RXL01","BLACKPOOL VICTORIA HOSPITAL","Stroke Unit"]
["RXL01-Surgical Assessment Unit","RXL","BLACKPOOL TEACHING HOSPITALS NHS FOUNDATION TRUST","RXL01","BLACKPOOL VICTORIA HOSPITAL","Surgical Assessment Unit"]
["RXL01-Ward 10","RXL","BLACKPOOL TEACHING HOSPITALS NHS FOUNDATION TRUST","RXL01","BLACKPOOL VICTORIA HOSPITAL","Ward 10"]
["RXL01-Ward 11","RXL","BLACKPOOL TEACHING HOSPITALS NHS FOUNDATION TRUST","RXL01","BLACKPOOL VICTORIA HOSPITAL","Ward 11"]
["RXL01-Ward 12","RXL","BLACKPOOL TEACHING HOSPITALS NHS FOUNDATION TRUST","RXL01","BLACKPOOL VICTORIA HOSPITAL","Ward 12"]
["RXL01-Ward 14","RXL","BLACKPOOL TEACHING HOSPITALS NHS FOUNDATION TRUST","RXL01","BLACKPOOL VICTORIA HOSPITAL","Ward 14"]
["RXL01-Ward 15a","RXL","BLACKPOOL TEACHING HOSPITALS NHS FOUNDATION TRUST","RXL01","BLACKPOOL VICTORIA HOSPITAL","Ward 15a"]
["RXL01-Ward 15b","RXL","BLACKPOOL TEACHING HOSPITALS NHS FOUNDATION TRUST","RXL01","BLACKPOOL VICTORIA HOSPITAL","Ward 15b"]
["RXL01-Ward 16","RXL","BLACKPOOL TEACHING HOSPITALS NHS FOUNDATION TRUST","RXL01","BLACKPOOL VICTORIA HOSPITAL","Ward 16"]
["RXL01-Ward 18","RXL","BLACKPOOL TEACHING HOSPITALS NHS FOUNDATION TRUST","RXL01","BLACKPOOL VICTORIA HOSPITAL","Ward 18"]
["RXL01-Ward 2","RXL","BLACKPOOL TEACHING HOSPITALS NHS FOUNDATION TRUST","RXL01","BLACKPOOL VICTORIA HOSPITAL","Ward 2"]
["RXL01-Ward 23","RXL","BLACKPOOL TEACHING HOSPITALS NHS FOUNDATION TRUST","RXL01","BLACKPOOL VICTORIA HOSPITAL","Ward 23"]
["RXL01-Ward 24","RXL","BLACKPOOL TEACHING HOSPITALS NHS FOUNDATION TRUST","RXL01","BLACKPOOL VICTORIA HOSPITAL","Ward 24"]
["RXL01-Ward 25","RXL","BLACKPOOL TEACHING HOSPITALS NHS FOUNDATION TRUST","RXL01","BLACKPOOL VICTORIA HOSPITAL","Ward 25"]
["RXL01-Ward 26","RXL","BLACKPOOL TEACHING HOSPITALS NHS FOUNDATION TRUST","RXL01","BLACKPOOL VICTORIA HOSPITAL","Ward 26"]
["RXL01-Ward 3","RXL","BLACKPOOL TEACHING HOSPITALS NHS FOUNDATION TRUST","RXL01","BLACKPOOL VICTORIA HOSPITAL","Ward 3"]
["RXL01-Ward 34","RXL","BLACKPOOL TEACHING HOSPITALS NHS FOUNDATION TRUST","RXL01","BLACKPOOL VICTORIA HOSPITAL","Ward 34"]
["RXL01-Ward 35","RXL","BLACKPOOL TEACHING HOSPITALS NHS FOUNDATION TRUST","RXL01","BLACKPOOL VICTORIA HOSPITAL","Ward 35"]
["RXL01-Ward 37","RXL","BLACKPOOL TEACHING HOSPITALS NHS FOUNDATION TRUST","RXL01","BLACKPOOL VICTORIA HOSPITAL","Ward 37"]
["RXL01-Ward 38","RXL","BLACKPOOL TEACHING HOSPITALS NHS FOUNDATION TRUST","RXL01","BLACKPOOL VICTORIA HOSPITAL","Ward 38"]
["RXL01-Ward 39","RXL","BLACKPOOL TEACHING HOSPITALS NHS FOUNDATION TRUST","RXL01","BLACKPOOL VICTORIA HOSPITAL","Ward 39"]
["RXL01-Ward 5","RXL","BLACKPOOL TEACHING HOSPITALS NHS FOUNDATION TRUST","RXL01","BLACKPOOL VICTORIA HOSPITAL","Ward 5"]
["RXL01-Ward 6","RXL","BLACKPOOL TEACHING HOSPITALS NHS FOUNDATION TRUST","RXL01","BLACKPOOL VICTORIA HOSPITAL","Ward 6"]
["RXL01-Ward 7","RXL","BLACKPOOL TEACHING HOSPITALS NHS FOUNDATION TRUST","RXL01","BLACKPOOL VICTORIA HOSPITAL","Ward 7"]
["RXL01-Ward 8","RXL","BLACKPOOL TEACHING HOSPITALS NHS FOUNDATION TRUST","RXL01","BLACKPOOL VICTORIA HOSPITAL","Ward 8"]
["RXL01-Ward C","RXL","BLACKPOOL TEACHING HOSPITALS NHS FOUNDATION TRUST","RXL01","BLACKPOOL VICTORIA HOSPITAL","Ward C"]
["RXL06-Clifton Hospital W1","RXL","BLACKPOOL TEACHING HOSPITALS NHS FOUNDATION TRUST","RXL06","CLIFTON HOSPITAL","Clifton Hospital W1"]
["RXL06-Clifton Hospital W2","RXL","BLACKPOOL TEACHING HOSPITALS NHS FOUNDATION TRUST","RXL06","CLIFTON HOSPITAL","Clifton Hospital W2"]
["RXL06-Clifton Hospital W2B","RXL","BLACKPOOL TEACHING HOSPITALS NHS FOUNDATION TRUST","RXL06","CLIFTON HOSPITAL","Clifton Hospital W2B"]
["RXL06-Clifton Hospital W3","RXL","BLACKPOOL TEACHING HOSPITALS NHS FOUNDATION TRUST","RXL06","CLIFTON HOSPITAL","Clifton Hospital W3"]
["RXL06-Clifton Hospital W4","RXL","BLACKPOOL TEACHING HOSPITALS NHS FOUNDATION TRUST","RXL06","CLIFTON HOSPITAL","Clifton Hospital W4"]
["RXM30-KEDLESTON LOW SECURE UNIT","RXM","DERBYSHIRE HEALTHCARE NHS FOUNDATION TRUST","RXM30","KEDLESTON UNIT","KEDLESTON LOW SECURE UNIT"]
["RXM54-ENHANCED CARE WARD","RXM","DERBYSHIRE HEALTHCARE NHS FOUNDATION TRUST","RXM54","RADBOURNE UNIT","ENHANCED CARE WARD"]
["RXM63-LONDON ROAD COMMUNITY HOSPITAL - WARD 1 OP","RXM","DERBYSHIRE HEALTHCARE NHS FOUNDATION TRUST","RXM63","WARD 1","LONDON ROAD COMMUNITY HOSPITAL - WARD 1 OP"]
["RXM70-HARTINGTON UNIT - MORTON WARD ADULT","RXM","DERBYSHIRE HEALTHCARE NHS FOUNDATION TRUST","RXM70","MORTON WARD, HARTINGTON UNIT","HARTINGTON UNIT - MORTON WARD ADULT"]
["RXM71-HARTINGTON UNIT - PLEASLEY WARD ADULT","RXM","DERBYSHIRE HEALTHCARE NHS FOUNDATION TRUST","RXM71","PLEASLEY WARD, HARTINGTON UNIT","HARTINGTON UNIT - PLEASLEY WARD ADULT"]
["RXM74-RADBOURNE UNIT - WARD 36 ADULT ACUTE INPATIENT","RXM","DERBYSHIRE HEALTHCARE NHS FOUNDATION TRUST","RXM74","WARD 36, PSYCHIATRIC UNIT","RADBOURNE UNIT - WARD 36 ADULT ACUTE INPATIENT"]
["RXM76-HARTINGTON UNIT - TANSLEY WARD ADULT","RXM","DERBYSHIRE HEALTHCARE NHS FOUNDATION TRUST","RXM76","TANSLEY WARD","HARTINGTON UNIT - TANSLEY WARD ADULT"]
["RXM77-RADBOURNE UNIT - WARD 33 ADULT ACUTE INPATIENT","RXM","DERBYSHIRE HEALTHCARE NHS FOUNDATION TRUST","RXM77","WARD 33, PSYCHIATRIC UNIT","RADBOURNE UNIT - WARD 33 ADULT ACUTE INPATIENT"]
["RXM78-RADBOURNE UNIT - WARD 34 ADULT ACUTE INPATIENT","RXM","DERBYSHIRE HEALTHCARE NHS FOUNDATION TRUST","RXM78","WARD 34, PSYCHIATRIC UNIT","RADBOURNE UNIT - WARD 34 ADULT ACUTE INPATIENT"]
["RXM81-RADBOURNE UNIT - WARD 35 ADULT ACUTE INPATIENT","RXM","DERBYSHIRE HEALTHCARE NHS FOUNDATION TRUST","RXM81","WARD 35, PSYCHIATRIC UNIT","RADBOURNE UNIT - WARD 35 ADULT ACUTE INPATIENT"]
["RXMT4-AUDREY HOUSE RESIDENTIAL REHABILITATION","RXM","DERBYSHIRE HEALTHCARE NHS FOUNDATION TRUST","RXMT4","ADULT MENTAL HEALTH","AUDREY HOUSE RESIDENTIAL REHABILITATION"]
["RXMT4-CHILD BEARING INPATIENT","RXM","DERBYSHIRE HEALTHCARE NHS FOUNDATION TRUST","RXMT4","ADULT MENTAL HEALTH","CHILD BEARING INPATIENT"]
["RXMT4-CTC RESIDENTIAL REHABILITATION","RXM","DERBYSHIRE HEALTHCARE NHS FOUNDATION TRUST","RXMT4","ADULT MENTAL HEALTH","CTC RESIDENTIAL REHABILITATION"]
["RXMT4-KINGSWAY CUBLEY COURT - FEMALE","RXM","DERBYSHIRE HEALTHCARE NHS FOUNDATION TRUST","RXMT4","ADULT MENTAL HEALTH","KINGSWAY CUBLEY COURT - FEMALE"]
["RXMT4-KINGSWAY CUBLEY COURT - MALE","RXM","DERBYSHIRE HEALTHCARE NHS FOUNDATION TRUST","RXMT4","ADULT MENTAL HEALTH","KINGSWAY CUBLEY COURT - MALE"]
["RXN01-Brindle Ward (Gastro)","RXN","LANCASHIRE TEACHING HOSPITALS NHS FOUNDATION TRUST","RXN01","CHORLEY AND SOUTH RIBBLE HOSPITAL","Brindle Ward (Gastro)"]
["RXN01-CCU CDH","RXN","LANCASHIRE TEACHING HOSPITALS NHS FOUNDATION TRUST","RXN01","CHORLEY AND SOUTH RIBBLE HOSPITAL","CCU CDH"]
[{"$f":"CONCATENATE(D6061,\"-\",F6061)","v":"RXN01-Hazelwood (Respiratory)"},"RXN","LANCASHIRE TEACHING HOSPITALS NHS FOUNDATION TRUST","RXN01","CHORLEY AND SOUTH RIBBLE HOSPITAL","Hazelwood (Respiratory)"]
["RXN01-Leyland Ward","RXN","LANCASHIRE TEACHING HOSPITALS NHS FOUNDATION TRUST","RXN01","CHORLEY AND SOUTH RIBBLE HOSPITAL","Leyland Ward"]
["RXN01-MAU Chorley","RXN","LANCASHIRE TEACHING HOSPITALS NHS FOUNDATION TRUST","RXN01","CHORLEY AND SOUTH RIBBLE HOSPITAL","MAU Chorley"]
["RXN01-Rookwood A","RXN","LANCASHIRE TEACHING HOSPITALS NHS FOUNDATION TRUST","RXN01","CHORLEY AND SOUTH RIBBLE HOSPITAL","Rookwood A"]
["RXN01-Rookwood B","RXN","LANCASHIRE TEACHING HOSPITALS NHS FOUNDATION TRUST","RXN01","CHORLEY AND SOUTH RIBBLE HOSPITAL","Rookwood B"]
["RXN01-Surgical Unit CDH","RXN","LANCASHIRE TEACHING HOSPITALS NHS FOUNDATION TRUST","RXN01","CHORLEY AND SOUTH RIBBLE HOSPITAL","Surgical Unit CDH"]
["RXN02-Bleasdale Ward","RXN","LANCASHIRE TEACHING HOSPITALS NHS FOUNDATION TRUST","RXN02","ROYAL PRESTON HOSPITAL","Bleasdale Ward"]
["RXN02-CCU RPH","RXN","LANCASHIRE TEACHING HOSPITALS NHS FOUNDATION TRUST","RXN02","ROYAL PRESTON HOSPITAL","CCU RPH"]
["RXN02-Critical Care","RXN","LANCASHIRE TEACHING HOSPITALS NHS FOUNDATION TRUST","RXN02","ROYAL PRESTON HOSPITAL","Critical Care"]
["RXN02-Gynae Ward RPH","RXN","LANCASHIRE TEACHING HOSPITALS NHS FOUNDATION TRUST","RXN02","ROYAL PRESTON HOSPITAL","Gynae Ward RPH"]
["RXN02-Major Trauma Ward","RXN","LANCASHIRE TEACHING HOSPITALS NHS FOUNDATION TRUST","RXN02","ROYAL PRESTON HOSPITAL","Major Trauma Ward"]
["RXN02-Maternity Ward","RXN","LANCASHIRE TEACHING HOSPITALS NHS FOUNDATION TRUST","RXN02","ROYAL PRESTON HOSPITAL","Maternity Ward"]
["RXN02-MAU Preston","RXN","LANCASHIRE TEACHING HOSPITALS NHS FOUNDATION TRUST","RXN02","ROYAL PRESTON HOSPITAL","MAU Preston"]
["RXN02-Neonatal Unit","RXN","LANCASHIRE TEACHING HOSPITALS NHS FOUNDATION TRUST","RXN02","ROYAL PRESTON HOSPITAL","Neonatal Unit"]
["RXN02-NRU","RXN","LANCASHIRE TEACHING HOSPITALS NHS FOUNDATION TRUST","RXN02","ROYAL PRESTON HOSPITAL","NRU"]
["RXN02-Respiratory High Care Unit","RXN","LANCASHIRE TEACHING HOSPITALS NHS FOUNDATION TRUST","RXN02","ROYAL PRESTON HOSPITAL","Respiratory High Care Unit"]
["RXN02-Ribblesdale Unit","RXN","LANCASHIRE TEACHING HOSPITALS NHS FOUNDATION TRUST","RXN02","ROYAL PRESTON HOSPITAL","Ribblesdale Unit"]
["RXN02-Ward 10","RXN","LANCASHIRE TEACHING HOSPITALS NHS FOUNDATION TRUST","RXN02","ROYAL PRESTON HOSPITAL","Ward 10"]
["RXN02-Ward 11","RXN","LANCASHIRE TEACHING HOSPITALS NHS FOUNDATION TRUST","RXN02","ROYAL PRESTON HOSPITAL","Ward 11"]
["RXN02-Ward 12","RXN","LANCASHIRE TEACHING HOSPITALS NHS FOUNDATION TRUST","RXN02","ROYAL PRESTON HOSPITAL","Ward 12"]
["RXN02-Ward 14","RXN","LANCASHIRE TEACHING HOSPITALS NHS FOUNDATION TRUST","RXN02","ROYAL PRESTON HOSPITAL","Ward 14"]
["RXN02-Ward 15","RXN","LANCASHIRE TEACHING HOSPITALS NHS FOUNDATION TRUST","RXN02","ROYAL PRESTON HOSPITAL","Ward 15"]
["RXN02-Ward 16","RXN","LANCASHIRE TEACHING HOSPITALS NHS FOUNDATION TRUST","RXN02","ROYAL PRESTON HOSPITAL","Ward 16"]
["RXN02-Ward 17","RXN","LANCASHIRE TEACHING HOSPITALS NHS FOUNDATION TRUST","RXN02","ROYAL PRESTON HOSPITAL","Ward 17"]
["RXN02-Ward 18","RXN","LANCASHIRE TEACHING HOSPITALS NHS FOUNDATION TRUST","RXN02","ROYAL PRESTON HOSPITAL","Ward 18"]
["RXN02-Ward 20","RXN","LANCASHIRE TEACHING HOSPITALS NHS FOUNDATION TRUST","RXN02","ROYAL PRESTON HOSPITAL","Ward 20"]
["RXN02-Ward 21","RXN","LANCASHIRE TEACHING HOSPITALS NHS FOUNDATION TRUST","RXN02","ROYAL PRESTON HOSPITAL","Ward 21"]
["RXN02-Ward 23","RXN","LANCASHIRE TEACHING HOSPITALS NHS FOUNDATION TRUST","RXN02","ROYAL PRESTON HOSPITAL","Ward 23"]
["RXN02-Ward 24","RXN","LANCASHIRE TEACHING HOSPITALS NHS FOUNDATION TRUST","RXN02","ROYAL PRESTON HOSPITAL","Ward 24"]
["RXN02-Ward 25","RXN","LANCASHIRE TEACHING HOSPITALS NHS FOUNDATION TRUST","RXN02","ROYAL PRESTON HOSPITAL","Ward 25"]
["RXN02-Ward 2a","RXN","LANCASHIRE TEACHING HOSPITALS NHS FOUNDATION TRUST","RXN02","ROYAL PRESTON HOSPITAL","Ward 2a"]
["RXN02-Ward 2b","RXN","LANCASHIRE TEACHING HOSPITALS NHS FOUNDATION TRUST","RXN02","ROYAL PRESTON HOSPITAL","Ward 2b"]
["RXN02-Ward 2c","RXN","LANCASHIRE TEACHING HOSPITALS NHS FOUNDATION TRUST","RXN02","ROYAL PRESTON HOSPITAL","Ward 2c"]
["RXN02-Ward 3","RXN","LANCASHIRE TEACHING HOSPITALS NHS FOUNDATION TRUST","RXN02","ROYAL PRESTON HOSPITAL","Ward 3"]
["RXN02-Ward 4","RXN","LANCASHIRE TEACHING HOSPITALS NHS FOUNDATION TRUST","RXN02","ROYAL PRESTON HOSPITAL","Ward 4"]
["RXN02-Ward 8","RXN","LANCASHIRE TEACHING HOSPITALS NHS FOUNDATION TRUST","RXN02","ROYAL PRESTON HOSPITAL","Ward 8"]
["RXP69-Weardale Community Hospital (5001)","RXP","COUNTY DURHAM AND DARLINGTON NHS FOUNDATION TRUST","RXP69","WEARDALE COMMUNITY HOSPITAL","Weardale Community Hospital (5001)"]
["RXPBA-Ward 16 BAGH [0249]","RXP","COUNTY DURHAM AND DARLINGTON NHS FOUNDATION TRUST","RXPBA","BISHOP AUCKLAND HOSPITAL","Ward 16 BAGH [0249]"]
["RXPBA-Ward 18 BAGH [1409]","RXP","COUNTY DURHAM AND DARLINGTON NHS FOUNDATION TRUST","RXPBA","BISHOP AUCKLAND HOSPITAL","Ward 18 BAGH [1409]"]
["RXPBA-Ward 4 Stroke Rehab Unit BAGH (0248)","RXP","COUNTY DURHAM AND DARLINGTON NHS FOUNDATION TRUST","RXPBA","BISHOP AUCKLAND HOSPITAL","Ward 4 Stroke Rehab Unit BAGH (0248)"]
["RXPBA-Ward 6 BAGH [0243]","RXP","COUNTY DURHAM AND DARLINGTON NHS FOUNDATION TRUST","RXPBA","BISHOP AUCKLAND HOSPITAL","Ward 6 BAGH [0243]"]
["RXPCC-Ward 1 C-L-S [0307]","RXP","COUNTY DURHAM AND DARLINGTON NHS FOUNDATION TRUST","RXPCC","CHESTER LE STREET HOSPITAL","Ward 1 C-L-S [0307]"]
["RXPCJ-C-Hosp. RCH","RXP","COUNTY DURHAM AND DARLINGTON NHS FOUNDATION TRUST","RXPCJ","RICHARDSON COMMUNITY HOSPITAL","C-Hosp. RCH"]
["RXPCL-C-Hosp Sedgefield Wards","RXP","COUNTY DURHAM AND DARLINGTON NHS FOUNDATION TRUST","RXPCL","SEDGEFIELD COMMUNITY HOSPITAL","C-Hosp Sedgefield Wards"]
["RXPCP-Acute Cardiac Unit, UHND (0004)","RXP","COUNTY DURHAM AND DARLINGTON NHS FOUNDATION TRUST","RXPCP","UNIVERSITY HOSPITAL OF NORTH DURHAM","Acute Cardiac Unit, UHND (0004)"]
["RXPCP-ITU UHND (1505)","RXP","COUNTY DURHAM AND DARLINGTON NHS FOUNDATION TRUST","RXPCP","UNIVERSITY HOSPITAL OF NORTH DURHAM","ITU UHND (1505)"]
["RXPCP-NEONATAL UHND (0606)","RXP","COUNTY DURHAM AND DARLINGTON NHS FOUNDATION TRUST","RXPCP","UNIVERSITY HOSPITAL OF NORTH DURHAM","NEONATAL UHND (0606)"]
["RXPCP-SAU UHND [1106]","RXP","COUNTY DURHAM AND DARLINGTON NHS FOUNDATION TRUST","RXPCP","UNIVERSITY HOSPITAL OF NORTH DURHAM","SAU UHND [1106]"]
["RXPCP-TREETOPS UHND [0602]","RXP","COUNTY DURHAM AND DARLINGTON NHS FOUNDATION TRUST","RXPCP","UNIVERSITY HOSPITAL OF NORTH DURHAM","TREETOPS UHND [0602]"]
["RXPCP-Ward 1 UHND (0001)","RXP","COUNTY DURHAM AND DARLINGTON NHS FOUNDATION TRUST","RXPCP","UNIVERSITY HOSPITAL OF NORTH DURHAM","Ward 1 UHND (0001)"]
["RXPCP-Ward 10 UHND [0603]","RXP","COUNTY DURHAM AND DARLINGTON NHS FOUNDATION TRUST","RXPCP","UNIVERSITY HOSPITAL OF NORTH DURHAM","Ward 10 UHND [0603]"]
["RXPCP-Ward 12 Orthopaedic Unit UHND (1303)","RXP","COUNTY DURHAM AND DARLINGTON NHS FOUNDATION TRUST","RXPCP","UNIVERSITY HOSPITAL OF NORTH DURHAM","Ward 12 Orthopaedic Unit UHND (1303)"]
["RXPCP-Ward 14 UHND [0005]","RXP","COUNTY DURHAM AND DARLINGTON NHS FOUNDATION TRUST","RXPCP","UNIVERSITY HOSPITAL OF NORTH DURHAM","Ward 14 UHND [0005]"]
["RXPCP-Ward 15 UHND [1305]","RXP","COUNTY DURHAM AND DARLINGTON NHS FOUNDATION TRUST","RXPCP","UNIVERSITY HOSPITAL OF NORTH DURHAM","Ward 15 UHND [1305]"]
["RXPCP-WARD 16 UHND [1105]","RXP","COUNTY DURHAM AND DARLINGTON NHS FOUNDATION TRUST","RXPCP","UNIVERSITY HOSPITAL OF NORTH DURHAM","WARD 16 UHND [1105]"]
["RXPCP-Ward 2 UHND [0002]","RXP","COUNTY DURHAM AND DARLINGTON NHS FOUNDATION TRUST","RXPCP","UNIVERSITY HOSPITAL OF NORTH DURHAM","Ward 2 UHND [0002]"]
["RXPCP-Ward 3 AMUSS UHND (0003)","RXP","COUNTY DURHAM AND DARLINGTON NHS FOUNDATION TRUST","RXPCP","UNIVERSITY HOSPITAL OF NORTH DURHAM","Ward 3 AMUSS UHND (0003)"]
["RXPCP-Ward 5 UHND (0300)","RXP","COUNTY DURHAM AND DARLINGTON NHS FOUNDATION TRUST","RXPCP","UNIVERSITY HOSPITAL OF NORTH DURHAM","Ward 5 UHND (0300)"]
["RXPCP-Ward 6 UHND (0006)","RXP","COUNTY DURHAM AND DARLINGTON NHS FOUNDATION TRUST","RXPCP","UNIVERSITY HOSPITAL OF NORTH DURHAM","Ward 6 UHND (0006)"]
["RXPCP-Ward 9 UHND [0605]","RXP","COUNTY DURHAM AND DARLINGTON NHS FOUNDATION TRUST","RXPCP","UNIVERSITY HOSPITAL OF NORTH DURHAM","Ward 9 UHND [0605]"]
["RXPCW-Ward 2 SBH [0304]","RXP","COUNTY DURHAM AND DARLINGTON NHS FOUNDATION TRUST","RXPCW","SHOTLEY BRIDGE HOSPITAL SITE","Ward 2 SBH [0304]"]
["RXPDA-AMU DMH (1203)","RXP","COUNTY DURHAM AND DARLINGTON NHS FOUNDATION TRUST","RXPDA","DARLINGTON MEMORIAL HOSPITAL","AMU DMH (1203)"]
["RXPDA-CCU DMH [0202]","RXP","COUNTY DURHAM AND DARLINGTON NHS FOUNDATION TRUST","RXPDA","DARLINGTON MEMORIAL HOSPITAL","CCU DMH [0202]"]
["RXPDA-Critical Care DMH (1619)","RXP","COUNTY DURHAM AND DARLINGTON NHS FOUNDATION TRUST","RXPDA","DARLINGTON MEMORIAL HOSPITAL","Critical Care DMH (1619)"]
[{"$f":"CONCATENATE(D6125,\"-\",F6125)","v":"RXPDA-Orthopaedic Unit DMH (1402)"},"RXP","COUNTY DURHAM AND DARLINGTON NHS FOUNDATION TRUST","RXPDA","DARLINGTON MEMORIAL HOSPITAL","Orthopaedic Unit DMH (1402)"]
["RXPDA-SCBU DMH [2203]","RXP","COUNTY DURHAM AND DARLINGTON NHS FOUNDATION TRUST","RXPDA","DARLINGTON MEMORIAL HOSPITAL","SCBU DMH [2203]"]
["RXPDA-Ward 21 DMH [2201]","RXP","COUNTY DURHAM AND DARLINGTON NHS FOUNDATION TRUST","RXPDA","DARLINGTON MEMORIAL HOSPITAL","Ward 21 DMH [2201]"]
["RXPDA-Ward 31 DMH (1204)","RXP","COUNTY DURHAM AND DARLINGTON NHS FOUNDATION TRUST","RXPDA","DARLINGTON MEMORIAL HOSPITAL","Ward 31 DMH (1204)"]
["RXPDA-Ward 32 DMH (1205)","RXP","COUNTY DURHAM AND DARLINGTON NHS FOUNDATION TRUST","RXPDA","DARLINGTON MEMORIAL HOSPITAL","Ward 32 DMH (1205)"]
["RXPDA-Ward 41 DMH [0205]","RXP","COUNTY DURHAM AND DARLINGTON NHS FOUNDATION TRUST","RXPDA","DARLINGTON MEMORIAL HOSPITAL","Ward 41 DMH [0205]"]
["RXPDA-Ward 42 DMH [0206]","RXP","COUNTY DURHAM AND DARLINGTON NHS FOUNDATION TRUST","RXPDA","DARLINGTON MEMORIAL HOSPITAL","Ward 42 DMH [0206]"]
["RXPDA-Ward 43 DMH [0207]","RXP","COUNTY DURHAM AND DARLINGTON NHS FOUNDATION TRUST","RXPDA","DARLINGTON MEMORIAL HOSPITAL","Ward 43 DMH [0207]"]
["RXPDA-Ward 44 DMH [0208]","RXP","COUNTY DURHAM AND DARLINGTON NHS FOUNDATION TRUST","RXPDA","DARLINGTON MEMORIAL HOSPITAL","Ward 44 DMH [0208]"]
["RXPDA-Ward 51 DMH (0233)","RXP","COUNTY DURHAM AND DARLINGTON NHS FOUNDATION TRUST","RXPDA","DARLINGTON MEMORIAL HOSPITAL","Ward 51 DMH (0233)"]
["RXPDA-Ward 52 DMH (0211)","RXP","COUNTY DURHAM AND DARLINGTON NHS FOUNDATION TRUST","RXPDA","DARLINGTON MEMORIAL HOSPITAL","Ward 52 DMH (0211)"]
["RXPDA-Ward 61 DMH [0706]","RXP","COUNTY DURHAM AND DARLINGTON NHS FOUNDATION TRUST","RXPDA","DARLINGTON MEMORIAL HOSPITAL","Ward 61 DMH [0706]"]
["RXPDA-Ward 62 DMH [0705]","RXP","COUNTY DURHAM AND DARLINGTON NHS FOUNDATION TRUST","RXPDA","DARLINGTON MEMORIAL HOSPITAL","Ward 62 DMH [0705]"]
["RXQ02-SM Birth Centre","RXQ","BUCKINGHAMSHIRE HEALTHCARE NHS TRUST","RXQ02","Stoke Mandeville Hospital","SM Birth Centre"]
["RXQ02-SM Burns Unit","RXQ","BUCKINGHAMSHIRE HEALTHCARE NHS TRUST","RXQ02","Stoke Mandeville Hospital","SM Burns Unit"]
["RXQ02-SM ITU","RXQ","BUCKINGHAMSHIRE HEALTHCARE NHS TRUST","RXQ02","Stoke Mandeville Hospital","SM ITU"]
["RXQ02-SM Labour Ward","RXQ","BUCKINGHAMSHIRE HEALTHCARE NHS TRUST","RXQ02","Stoke Mandeville Hospital","SM Labour Ward"]
["RXQ02-SM MDU","RXQ","BUCKINGHAMSHIRE HEALTHCARE NHS TRUST","RXQ02","Stoke Mandeville Hospital","SM MDU"]
["RXQ02-SM NNU","RXQ","BUCKINGHAMSHIRE HEALTHCARE NHS TRUST","RXQ02","Stoke Mandeville Hospital","SM NNU"]
["RXQ02-SM Rothschild","RXQ","BUCKINGHAMSHIRE HEALTHCARE NHS TRUST","RXQ02","Stoke Mandeville Hospital","SM Rothschild"]
["RXQ02-SM St Andrew","RXQ","BUCKINGHAMSHIRE HEALTHCARE NHS TRUST","RXQ02","Stoke Mandeville Hospital","SM St Andrew"]
["RXQ02-SM St Andrew & St Patrick","RXQ","BUCKINGHAMSHIRE HEALTHCARE NHS TRUST","RXQ02","Stoke Mandeville Hospital","SM St Andrew & St Patrick"]
["RXQ02-SM St David","RXQ","BUCKINGHAMSHIRE HEALTHCARE NHS TRUST","RXQ02","Stoke Mandeville Hospital","SM St David"]
["RXQ02-SM St Francis","RXQ","BUCKINGHAMSHIRE HEALTHCARE NHS TRUST","RXQ02","Stoke Mandeville Hospital","SM St Francis"]
["RXQ02-SM St George","RXQ","BUCKINGHAMSHIRE HEALTHCARE NHS TRUST","RXQ02","Stoke Mandeville Hospital","SM St George"]
["RXQ02-SM St Patrick","RXQ","BUCKINGHAMSHIRE HEALTHCARE NHS TRUST","RXQ02","Stoke Mandeville Hospital","SM St Patrick"]
["RXQ02-SM Ward 1","RXQ","BUCKINGHAMSHIRE HEALTHCARE NHS TRUST","RXQ02","Stoke Mandeville Hospital","SM Ward 1"]
["RXQ02-SM Ward 1 & 2","RXQ","BUCKINGHAMSHIRE HEALTHCARE NHS TRUST","RXQ02","Stoke Mandeville Hospital","SM Ward 1 & 2"]
["RXQ02-SM Ward 10 SSW","RXQ","BUCKINGHAMSHIRE HEALTHCARE NHS TRUST","RXQ02","Stoke Mandeville Hospital","SM Ward 10 SSW"]
["RXQ02-SM Ward 14","RXQ","BUCKINGHAMSHIRE HEALTHCARE NHS TRUST","RXQ02","Stoke Mandeville Hospital","SM Ward 14"]
["RXQ02-SM Ward 16a","RXQ","BUCKINGHAMSHIRE HEALTHCARE NHS TRUST","RXQ02","Stoke Mandeville Hospital","SM Ward 16a"]
["RXQ02-SM Ward 16b","RXQ","BUCKINGHAMSHIRE HEALTHCARE NHS TRUST","RXQ02","Stoke Mandeville Hospital","SM Ward 16b"]
["RXQ02-SM Ward 17 Gastro","RXQ","BUCKINGHAMSHIRE HEALTHCARE NHS TRUST","RXQ02","Stoke Mandeville Hospital","SM Ward 17 Gastro"]
["RXQ02-SM Ward 2","RXQ","BUCKINGHAMSHIRE HEALTHCARE NHS TRUST","RXQ02","Stoke Mandeville Hospital","SM Ward 2"]
["RXQ02-SM Ward 3","RXQ","BUCKINGHAMSHIRE HEALTHCARE NHS TRUST","RXQ02","Stoke Mandeville Hospital","SM Ward 3"]
["RXQ02-SM Ward 4 Respiratory","RXQ","BUCKINGHAMSHIRE HEALTHCARE NHS TRUST","RXQ02","Stoke Mandeville Hospital","SM Ward 4 Respiratory"]
["RXQ02-SM Ward 5","RXQ","BUCKINGHAMSHIRE HEALTHCARE NHS TRUST","RXQ02","Stoke Mandeville Hospital","SM Ward 5"]
["RXQ02-SM Ward 6 Diabetes","RXQ","BUCKINGHAMSHIRE HEALTHCARE NHS TRUST","RXQ02","Stoke Mandeville Hospital","SM Ward 6 Diabetes"]
["RXQ02-SM Ward 7 Respiratory","RXQ","BUCKINGHAMSHIRE HEALTHCARE NHS TRUST","RXQ02","Stoke Mandeville Hospital","SM Ward 7 Respiratory"]
["RXQ02-SM Ward 8","RXQ","BUCKINGHAMSHIRE HEALTHCARE NHS TRUST","RXQ02","Stoke Mandeville Hospital","SM Ward 8"]
["RXQ02-SM Ward 9 MfOP","RXQ","BUCKINGHAMSHIRE HEALTHCARE NHS TRUST","RXQ02","Stoke Mandeville Hospital","SM Ward 9 MfOP"]
["RXQ50-WH Birth Centre","RXQ","BUCKINGHAMSHIRE HEALTHCARE NHS TRUST","RXQ50","Wycombe Hospital","WH Birth Centre"]
["RXQ50-WH CCU 2A","RXQ","BUCKINGHAMSHIRE HEALTHCARE NHS TRUST","RXQ50","Wycombe Hospital","WH CCU 2A"]
["RXQ50-WH ITU","RXQ","BUCKINGHAMSHIRE HEALTHCARE NHS TRUST","RXQ50","Wycombe Hospital","WH ITU"]
["RXQ50-WH Ward 12A","RXQ","BUCKINGHAMSHIRE HEALTHCARE NHS TRUST","RXQ50","Wycombe Hospital","WH Ward 12A"]
["RXQ50-WH Ward 12B","RXQ","BUCKINGHAMSHIRE HEALTHCARE NHS TRUST","RXQ50","Wycombe Hospital","WH Ward 12B"]
["RXQ50-WH Ward 12C","RXQ","BUCKINGHAMSHIRE HEALTHCARE NHS TRUST","RXQ50","Wycombe Hospital","WH Ward 12C"]
["RXQ50-WH Ward 8","RXQ","BUCKINGHAMSHIRE HEALTHCARE NHS TRUST","RXQ50","Wycombe Hospital","WH Ward 8"]
["RXQ50-WH Ward 8 & 9","RXQ","BUCKINGHAMSHIRE HEALTHCARE NHS TRUST","RXQ50","Wycombe Hospital","WH Ward 8 & 9"]
["RXQ50-WH Ward 9","RXQ","BUCKINGHAMSHIRE HEALTHCARE NHS TRUST","RXQ50","Wycombe Hospital","WH Ward 9"]
["RXQ51-Bucks Neuro Rehab","RXQ","BUCKINGHAMSHIRE HEALTHCARE NHS TRUST","RXQ51","Amersham Hospital","Bucks Neuro Rehab"]
["RXQ51-Chartridge","RXQ","BUCKINGHAMSHIRE HEALTHCARE NHS TRUST","RXQ51","Amersham Hospital","Chartridge"]
["RXQ51-Waterside","RXQ","BUCKINGHAMSHIRE HEALTHCARE NHS TRUST","RXQ51","Amersham Hospital","Waterside"]
["RXQ61-Buckingham","RXQ","BUCKINGHAMSHIRE HEALTHCARE NHS TRUST","RXQ61","Buckingham Hospital","Buckingham"]
["RXQFN-Florence Nightingale","RXQ","BUCKINGHAMSHIRE HEALTHCARE NHS TRUST","RXQFN","Florence Nightingale Hospice","Florence Nightingale"]
["RXR10-Antenatal Ward","RXR","EAST LANCASHIRE HOSPITALS NHS TRUST","RXR10","BURNLEY GENERAL HOSPITAL","Antenatal Ward"]
["RXR10-Burnley Birth Centre","RXR","EAST LANCASHIRE HOSPITALS NHS TRUST","RXR10","BURNLEY GENERAL HOSPITAL","Burnley Birth Centre"]
["RXR10-Central Birth Suite","RXR","EAST LANCASHIRE HOSPITALS NHS TRUST","RXR10","BURNLEY GENERAL HOSPITAL","Central Birth Suite"]
["RXR10-Gynaecology and Breast Care Ward","RXR","EAST LANCASHIRE HOSPITALS NHS TRUST","RXR10","BURNLEY GENERAL HOSPITAL","Gynaecology and Breast Care Ward"]
["RXR10-Postnatal Ward","RXR","EAST LANCASHIRE HOSPITALS NHS TRUST","RXR10","BURNLEY GENERAL HOSPITAL","Postnatal Ward"]
["RXR10-Rakehead","RXR","EAST LANCASHIRE HOSPITALS NHS TRUST","RXR10","BURNLEY GENERAL HOSPITAL","Rakehead"]
["RXR10-Ward 15","RXR","EAST LANCASHIRE HOSPITALS NHS TRUST","RXR10","BURNLEY GENERAL HOSPITAL","Ward 15"]
["RXR10-Ward 16","RXR","EAST LANCASHIRE HOSPITALS NHS TRUST","RXR10","BURNLEY GENERAL HOSPITAL","Ward 16"]
["RXR10-Ward 19","RXR","EAST LANCASHIRE HOSPITALS NHS TRUST","RXR10","BURNLEY GENERAL HOSPITAL","Ward 19"]
[{"$f":"CONCATENATE(D6189,\"-\",F6189)","v":"RXR20-Acute Stroke Unit (ASU)"},"RXR","EAST LANCASHIRE HOSPITALS NHS TRUST","RXR20","ROYAL BLACKBURN HOSPITAL","Acute Stroke Unit (ASU)"]
["RXR20-B18","RXR","EAST LANCASHIRE HOSPITALS NHS TRUST","RXR20","ROYAL BLACKBURN HOSPITAL","B18"]
["RXR20-B22","RXR","EAST LANCASHIRE HOSPITALS NHS TRUST","RXR20","ROYAL BLACKBURN HOSPITAL","B22"]
["RXR20-B24","RXR","EAST LANCASHIRE HOSPITALS NHS TRUST","RXR20","ROYAL BLACKBURN HOSPITAL","B24"]
["RXR20-B4","RXR","EAST LANCASHIRE HOSPITALS NHS TRUST","RXR20","ROYAL BLACKBURN HOSPITAL","B4"]
["RXR20-Blackburn Birth Centre","RXR","EAST LANCASHIRE HOSPITALS NHS TRUST","RXR20","ROYAL BLACKBURN HOSPITAL","Blackburn Birth Centre"]
["RXR20-C1","RXR","EAST LANCASHIRE HOSPITALS NHS TRUST","RXR20","ROYAL BLACKBURN HOSPITAL","C1"]
["RXR20-C10","RXR","EAST LANCASHIRE HOSPITALS NHS TRUST","RXR20","ROYAL BLACKBURN HOSPITAL","C10"]
["RXR20-C11","RXR","EAST LANCASHIRE HOSPITALS NHS TRUST","RXR20","ROYAL BLACKBURN HOSPITAL","C11"]
["RXR20-C14A","RXR","EAST LANCASHIRE HOSPITALS NHS TRUST","RXR20","ROYAL BLACKBURN HOSPITAL","C14A"]
["RXR20-C14B","RXR","EAST LANCASHIRE HOSPITALS NHS TRUST","RXR20","ROYAL BLACKBURN HOSPITAL","C14B"]
["RXR20-C18A","RXR","EAST LANCASHIRE HOSPITALS NHS TRUST","RXR20","ROYAL BLACKBURN HOSPITAL","C18A"]
["RXR20-C18B","RXR","EAST LANCASHIRE HOSPITALS NHS TRUST","RXR20","ROYAL BLACKBURN HOSPITAL","C18B"]
["RXR20-C2","RXR","EAST LANCASHIRE HOSPITALS NHS TRUST","RXR20","ROYAL BLACKBURN HOSPITAL","C2"]
["RXR20-C22","RXR","EAST LANCASHIRE HOSPITALS NHS TRUST","RXR20","ROYAL BLACKBURN HOSPITAL","C22"]
["RXR20-C3","RXR","EAST LANCASHIRE HOSPITALS NHS TRUST","RXR20","ROYAL BLACKBURN HOSPITAL","C3"]
["RXR20-C4","RXR","EAST LANCASHIRE HOSPITALS NHS TRUST","RXR20","ROYAL BLACKBURN HOSPITAL","C4"]
["RXR20-C5","RXR","EAST LANCASHIRE HOSPITALS NHS TRUST","RXR20","ROYAL BLACKBURN HOSPITAL","C5"]
["RXR20-C6","RXR","EAST LANCASHIRE HOSPITALS NHS TRUST","RXR20","ROYAL BLACKBURN HOSPITAL","C6"]
["RXR20-C7","RXR","EAST LANCASHIRE HOSPITALS NHS TRUST","RXR20","ROYAL BLACKBURN HOSPITAL","C7"]
["RXR20-C8","RXR","EAST LANCASHIRE HOSPITALS NHS TRUST","RXR20","ROYAL BLACKBURN HOSPITAL","C8"]
["RXR20-C9","RXR","EAST LANCASHIRE HOSPITALS NHS TRUST","RXR20","ROYAL BLACKBURN HOSPITAL","C9"]
["RXR20-Childrens Unit","RXR","EAST LANCASHIRE HOSPITALS NHS TRUST","RXR20","ROYAL BLACKBURN HOSPITAL","Childrens Unit"]
["RXR20-Coronary Care Unit (CCU)","RXR","EAST LANCASHIRE HOSPITALS NHS TRUST","RXR20","ROYAL BLACKBURN HOSPITAL","Coronary Care Unit (CCU)"]
["RXR20-Critical Care Unit","RXR","EAST LANCASHIRE HOSPITALS NHS TRUST","RXR20","ROYAL BLACKBURN HOSPITAL","Critical Care Unit"]
["RXR20-D1","RXR","EAST LANCASHIRE HOSPITALS NHS TRUST","RXR20","ROYAL BLACKBURN HOSPITAL","D1"]
["RXR20-D3","RXR","EAST LANCASHIRE HOSPITALS NHS TRUST","RXR20","ROYAL BLACKBURN HOSPITAL","D3"]
["RXR20-Medical Assessment Unit (AMUA)","RXR","EAST LANCASHIRE HOSPITALS NHS TRUST","RXR20","ROYAL BLACKBURN HOSPITAL","Medical Assessment Unit (AMUA)"]
["RXR20-Medical Assessment Unit (AMUB)","RXR","EAST LANCASHIRE HOSPITALS NHS TRUST","RXR20","ROYAL BLACKBURN HOSPITAL","Medical Assessment Unit (AMUB)"]
["RXR20-Neonatal Intensive Care Unit","RXR","EAST LANCASHIRE HOSPITALS NHS TRUST","RXR20","ROYAL BLACKBURN HOSPITAL","Neonatal Intensive Care Unit"]
["RXR20-Surgical Triage Unit","RXR","EAST LANCASHIRE HOSPITALS NHS TRUST","RXR20","ROYAL BLACKBURN HOSPITAL","Surgical Triage Unit"]
["RXR50-Hartley","RXR","EAST LANCASHIRE HOSPITALS NHS TRUST","RXR50","PENDLE COMMUNITY HOSPITAL","Hartley"]
["RXR50-Marsden","RXR","EAST LANCASHIRE HOSPITALS NHS TRUST","RXR50","PENDLE COMMUNITY HOSPITAL","Marsden"]
["RXR50-Reedyford","RXR","EAST LANCASHIRE HOSPITALS NHS TRUST","RXR50","PENDLE COMMUNITY HOSPITAL","Reedyford"]
["RXR70-Ribblesdale","RXR","EAST LANCASHIRE HOSPITALS NHS TRUST","RXR70","CLITHEROE COMMUNITY HOSPITAL","Ribblesdale"]
["RXT05-Citrine","RXT","BIRMINGHAM AND SOLIHULL MENTAL HEALTH NHS FOUNDATION TRUST","RXT05","ARDENLEIGH","Citrine"]
["RXT05-Coral","RXT","BIRMINGHAM AND SOLIHULL MENTAL HEALTH NHS FOUNDATION TRUST","RXT05","ARDENLEIGH","Coral"]
["RXT05-Larimar","RXT","BIRMINGHAM AND SOLIHULL MENTAL HEALTH NHS FOUNDATION TRUST","RXT05","ARDENLEIGH","Larimar"]
["RXT05-Pacific","RXT","BIRMINGHAM AND SOLIHULL MENTAL HEALTH NHS FOUNDATION TRUST","RXT05","ARDENLEIGH","Pacific"]
["RXT05-Tourmaline","RXT","BIRMINGHAM AND SOLIHULL MENTAL HEALTH NHS FOUNDATION TRUST","RXT05","ARDENLEIGH","Tourmaline"]
["RXT06-Ashcroft","RXT","BIRMINGHAM AND SOLIHULL MENTAL HEALTH NHS FOUNDATION TRUST","RXT06","ASHCROFT","Ashcroft"]
["RXT15-David Bromley","RXT","BIRMINGHAM AND SOLIHULL MENTAL HEALTH NHS FOUNDATION TRUST","RXT15","DAVID BROMLEY","David Bromley"]
["RXT18-Endeavour Court","RXT","BIRMINGHAM AND SOLIHULL MENTAL HEALTH NHS FOUNDATION TRUST","RXT18","ENDEAVOUR COURT","Endeavour Court"]
["RXT19-Endeavour House","RXT","BIRMINGHAM AND SOLIHULL MENTAL HEALTH NHS FOUNDATION TRUST","RXT19","ENDEAVOUR HOUSE","Endeavour House"]
["RXT22-Forward House","RXT","BIRMINGHAM AND SOLIHULL MENTAL HEALTH NHS FOUNDATION TRUST","RXT22","FORWARD HOUSE","Forward House"]
["RXT24-Grove Avenue","RXT","BIRMINGHAM AND SOLIHULL MENTAL HEALTH NHS FOUNDATION TRUST","RXT24","GROVE AVENUE","Grove Avenue"]
["RXT27-Hertford House","RXT","BIRMINGHAM AND SOLIHULL MENTAL HEALTH NHS FOUNDATION TRUST","RXT27","HERTFORD HOUSE","Hertford House"]
["RXT29-Hillis","RXT","BIRMINGHAM AND SOLIHULL MENTAL HEALTH NHS FOUNDATION TRUST","RXT29","HILLIS LODGE","Hillis"]
["RXT47-Mary Seacole 1","RXT","BIRMINGHAM AND SOLIHULL MENTAL HEALTH NHS FOUNDATION TRUST","RXT47","MARY SEACOLE HOUSE","Mary Seacole 1"]
["RXT47-Mary Seacole 2","RXT","BIRMINGHAM AND SOLIHULL MENTAL HEALTH NHS FOUNDATION TRUST","RXT47","MARY SEACOLE HOUSE","Mary Seacole 2"]
["RXT47-Meadowcroft","RXT","BIRMINGHAM AND SOLIHULL MENTAL HEALTH NHS FOUNDATION TRUST","RXT47","MARY SEACOLE HOUSE","Meadowcroft"]
["RXT51-Newbridge","RXT","BIRMINGHAM AND SOLIHULL MENTAL HEALTH NHS FOUNDATION TRUST","RXT51","NEWBRIDGE HOUSE","Newbridge"]
["RXT54-George","RXT","BIRMINGHAM AND SOLIHULL MENTAL HEALTH NHS FOUNDATION TRUST","RXT54","NORTHCROFT HOSPITAL","George"]
["RXT64-Avon","RXT","BIRMINGHAM AND SOLIHULL MENTAL HEALTH NHS FOUNDATION TRUST","RXT64","REASIDE CLINIC","Avon"]
["RXT64-Blythe","RXT","BIRMINGHAM AND SOLIHULL MENTAL HEALTH NHS FOUNDATION TRUST","RXT64","REASIDE CLINIC","Blythe"]
["RXT64-Dove","RXT","BIRMINGHAM AND SOLIHULL MENTAL HEALTH NHS FOUNDATION TRUST","RXT64","REASIDE CLINIC","Dove"]
["RXT64-Kennett","RXT","BIRMINGHAM AND SOLIHULL MENTAL HEALTH NHS FOUNDATION TRUST","RXT64","REASIDE CLINIC","Kennett"]
["RXT64-Severn","RXT","BIRMINGHAM AND SOLIHULL MENTAL HEALTH NHS FOUNDATION TRUST","RXT64","REASIDE CLINIC","Severn"]
["RXT64-Swift","RXT","BIRMINGHAM AND SOLIHULL MENTAL HEALTH NHS FOUNDATION TRUST","RXT64","REASIDE CLINIC","Swift"]
["RXT64-Trent","RXT","BIRMINGHAM AND SOLIHULL MENTAL HEALTH NHS FOUNDATION TRUST","RXT64","REASIDE CLINIC","Trent"]
["RXT65-Reservoir Court","RXT","BIRMINGHAM AND SOLIHULL MENTAL HEALTH NHS FOUNDATION TRUST","RXT65","RESERVOIR COURT","Reservoir Court"]
["RXT96-Dan Mooney","RXT","BIRMINGHAM AND SOLIHULL MENTAL HEALTH NHS FOUNDATION TRUST","RXT96","DAN MOONEY HOUSE","Dan Mooney"]
["RXT99-Eden Acute","RXT","BIRMINGHAM AND SOLIHULL MENTAL HEALTH NHS FOUNDATION TRUST","RXT99","EDEN UNIT","Eden Acute"]
["RXT99-Eden PICU","RXT","BIRMINGHAM AND SOLIHULL MENTAL HEALTH NHS FOUNDATION TRUST","RXT99","EDEN UNIT","Eden PICU"]
[{"$f":"CONCATENATE(D6253,\"-\",F6253)","v":"RXTD2-Lavender"},"RXT","BIRMINGHAM AND SOLIHULL MENTAL HEALTH NHS FOUNDATION TRUST","RXTD2","THE ZINNIA CENTRE","Lavender"]
["RXTD2-Saffron","RXT","BIRMINGHAM AND SOLIHULL MENTAL HEALTH NHS FOUNDATION TRUST","RXTD2","THE ZINNIA CENTRE","Saffron"]
["RXTD3-Jasamine","RXT","BIRMINGHAM AND SOLIHULL MENTAL HEALTH NHS FOUNDATION TRUST","RXTD3","THE BARBERRY","Jasamine"]
["RXTD4-Caffra","RXT","BIRMINGHAM AND SOLIHULL MENTAL HEALTH NHS FOUNDATION TRUST","RXTD4","THE OLEASTER","Caffra"]
["RXTD4-Japonica New Ward","RXT","BIRMINGHAM AND SOLIHULL MENTAL HEALTH NHS FOUNDATION TRUST","RXTD4","THE OLEASTER","Japonica New Ward"]
["RXTD4-Magnolia","RXT","BIRMINGHAM AND SOLIHULL MENTAL HEALTH NHS FOUNDATION TRUST","RXTD4","THE OLEASTER","Magnolia"]
["RXTD4-Melissa","RXT","BIRMINGHAM AND SOLIHULL MENTAL HEALTH NHS FOUNDATION TRUST","RXTD4","THE OLEASTER","Melissa"]
["RXTD4-Tazetta","RXT","BIRMINGHAM AND SOLIHULL MENTAL HEALTH NHS FOUNDATION TRUST","RXTD4","THE OLEASTER","Tazetta"]
["RXTD5-Bergamot","RXT","BIRMINGHAM AND SOLIHULL MENTAL HEALTH NHS FOUNDATION TRUST","RXTD5","JUNIPER CENTRE","Bergamot"]
["RXTD5-Rosemary","RXT","BIRMINGHAM AND SOLIHULL MENTAL HEALTH NHS FOUNDATION TRUST","RXTD5","JUNIPER CENTRE","Rosemary"]
["RXTD5-Sage","RXT","BIRMINGHAM AND SOLIHULL MENTAL HEALTH NHS FOUNDATION TRUST","RXTD5","JUNIPER CENTRE","Sage"]
["RXTD6-Acacia","RXT","BIRMINGHAM AND SOLIHULL MENTAL HEALTH NHS FOUNDATION TRUST","RXTD6","TAMARIND CENTRE","Acacia"]
["RXTD6-Cedar","RXT","BIRMINGHAM AND SOLIHULL MENTAL HEALTH NHS FOUNDATION TRUST","RXTD6","TAMARIND CENTRE","Cedar"]
["RXTD6-Hibiscus","RXT","BIRMINGHAM AND SOLIHULL MENTAL HEALTH NHS FOUNDATION TRUST","RXTD6","TAMARIND CENTRE","Hibiscus"]
["RXTD6-Laurel","RXT","BIRMINGHAM AND SOLIHULL MENTAL HEALTH NHS FOUNDATION TRUST","RXTD6","TAMARIND CENTRE","Laurel"]
["RXTD6-Lobelia","RXT","BIRMINGHAM AND SOLIHULL MENTAL HEALTH NHS FOUNDATION TRUST","RXTD6","TAMARIND CENTRE","Lobelia"]
["RXTD6-Myrtle","RXT","BIRMINGHAM AND SOLIHULL MENTAL HEALTH NHS FOUNDATION TRUST","RXTD6","TAMARIND CENTRE","Myrtle"]
["RXTD6-Sycamore","RXT","BIRMINGHAM AND SOLIHULL MENTAL HEALTH NHS FOUNDATION TRUST","RXTD6","TAMARIND CENTRE","Sycamore"]
["RXTVQ-Cilantro","RXT","BIRMINGHAM AND SOLIHULL MENTAL HEALTH NHS FOUNDATION TRUST","RXTVQ","EATING DISORDERS, THE BARBERRY","Cilantro"]
["RXTVX-Chamomile","RXT","BIRMINGHAM AND SOLIHULL MENTAL HEALTH NHS FOUNDATION TRUST","RXTVX","MOTHER AND BABY UNIT","Chamomile"]
["RXV04-Chapman Barker Unit","RXV","GREATER MANCHESTER MENTAL HEALTH NHS FOUNDATION TRUST","RXV04","CHAPMAN BARKER - DRUG & ALCOHOL INPATIENT UNIT","Chapman Barker Unit"]
["RXV06-Borrowdale Ward","RXV","GREATER MANCHESTER MENTAL HEALTH NHS FOUNDATION TRUST","RXV06","PRESTWICH HOSPITAL","Borrowdale Ward"]
["RXV06-Buttermere Ward","RXV","GREATER MANCHESTER MENTAL HEALTH NHS FOUNDATION TRUST","RXV06","PRESTWICH HOSPITAL","Buttermere Ward"]
["RXV06-Coniston Ward","RXV","GREATER MANCHESTER MENTAL HEALTH NHS FOUNDATION TRUST","RXV06","PRESTWICH HOSPITAL","Coniston Ward"]
["RXV06-Delaney Ward","RXV","GREATER MANCHESTER MENTAL HEALTH NHS FOUNDATION TRUST","RXV06","PRESTWICH HOSPITAL","Delaney Ward"]
["RXV06-Derwent Ward","RXV","GREATER MANCHESTER MENTAL HEALTH NHS FOUNDATION TRUST","RXV06","PRESTWICH HOSPITAL","Derwent Ward"]
["RXV06-Dovedale Ward","RXV","GREATER MANCHESTER MENTAL HEALTH NHS FOUNDATION TRUST","RXV06","PRESTWICH HOSPITAL","Dovedale Ward"]
["RXV06-Eskdale Ward","RXV","GREATER MANCHESTER MENTAL HEALTH NHS FOUNDATION TRUST","RXV06","PRESTWICH HOSPITAL","Eskdale Ward"]
["RXV06-Ferndale Ward","RXV","GREATER MANCHESTER MENTAL HEALTH NHS FOUNDATION TRUST","RXV06","PRESTWICH HOSPITAL","Ferndale Ward"]
["RXV06-Gardener Unit","RXV","GREATER MANCHESTER MENTAL HEALTH NHS FOUNDATION TRUST","RXV06","PRESTWICH HOSPITAL","Gardener Unit"]
["RXV06-Griffin Ward","RXV","GREATER MANCHESTER MENTAL HEALTH NHS FOUNDATION TRUST","RXV06","PRESTWICH HOSPITAL","Griffin Ward"]
["RXV06-Hayeswater Ward","RXV","GREATER MANCHESTER MENTAL HEALTH NHS FOUNDATION TRUST","RXV06","PRESTWICH HOSPITAL","Hayeswater Ward"]
["RXV06-Isherwood Ward","RXV","GREATER MANCHESTER MENTAL HEALTH NHS FOUNDATION TRUST","RXV06","PRESTWICH HOSPITAL","Isherwood Ward"]
["RXV06-J17 - Pegasus Ward","RXV","GREATER MANCHESTER MENTAL HEALTH NHS FOUNDATION TRUST","RXV06","PRESTWICH HOSPITAL","J17 - Pegasus Ward"]
["RXV06-J17 - Phoenix Ward","RXV","GREATER MANCHESTER MENTAL HEALTH NHS FOUNDATION TRUST","RXV06","PRESTWICH HOSPITAL","J17 - Phoenix Ward"]
["RXV06-John Denmark Unit","RXV","GREATER MANCHESTER MENTAL HEALTH NHS FOUNDATION TRUST","RXV06","PRESTWICH HOSPITAL","John Denmark Unit"]
["RXV06-Keswick Ward","RXV","GREATER MANCHESTER MENTAL HEALTH NHS FOUNDATION TRUST","RXV06","PRESTWICH HOSPITAL","Keswick Ward"]
["RXV06-Kingsley","RXV","GREATER MANCHESTER MENTAL HEALTH NHS FOUNDATION TRUST","RXV06","PRESTWICH HOSPITAL","Kingsley"]
["RXV06-Loweswater","RXV","GREATER MANCHESTER MENTAL HEALTH NHS FOUNDATION TRUST","RXV06","PRESTWICH HOSPITAL","Loweswater"]
["RXV06-Newland Ward","RXV","GREATER MANCHESTER MENTAL HEALTH NHS FOUNDATION TRUST","RXV06","PRESTWICH HOSPITAL","Newland Ward"]
["RXV06-Rydal Ward","RXV","GREATER MANCHESTER MENTAL HEALTH NHS FOUNDATION TRUST","RXV06","PRESTWICH HOSPITAL","Rydal Ward"]
["RXV06-Silverdale Ward","RXV","GREATER MANCHESTER MENTAL HEALTH NHS FOUNDATION TRUST","RXV06","PRESTWICH HOSPITAL","Silverdale Ward"]
["RXV06-Ullswater Ward","RXV","GREATER MANCHESTER MENTAL HEALTH NHS FOUNDATION TRUST","RXV06","PRESTWICH HOSPITAL","Ullswater Ward"]
["RXV06-Wentworth","RXV","GREATER MANCHESTER MENTAL HEALTH NHS FOUNDATION TRUST","RXV06","PRESTWICH HOSPITAL","Wentworth"]
["RXV15-Delamere Ward","RXV","GREATER MANCHESTER MENTAL HEALTH NHS FOUNDATION TRUST","RXV15","WOODLANDS HOSPITAL","Delamere Ward"]
["RXV15-Hazelwood Ward","RXV","GREATER MANCHESTER MENTAL HEALTH NHS FOUNDATION TRUST","RXV15","WOODLANDS HOSPITAL","Hazelwood Ward"]
["RXV15-Holly Ward","RXV","GREATER MANCHESTER MENTAL HEALTH NHS FOUNDATION TRUST","RXV15","WOODLANDS HOSPITAL","Holly Ward"]
["RXV17-Chaucer Ward","RXV","GREATER MANCHESTER MENTAL HEALTH NHS FOUNDATION TRUST","RXV17","MEADOWBROOK HOSPITAL - SALFORD MH","Chaucer Ward"]
["RXV17-Copeland Ward","RXV","GREATER MANCHESTER MENTAL HEALTH NHS FOUNDATION TRUST","RXV17","MEADOWBROOK HOSPITAL - SALFORD MH","Copeland Ward"]
["RXV17-Eagleton Ward","RXV","GREATER MANCHESTER MENTAL HEALTH NHS FOUNDATION TRUST","RXV17","MEADOWBROOK HOSPITAL - SALFORD MH","Eagleton Ward"]
["RXV17-Keats Ward","RXV","GREATER MANCHESTER MENTAL HEALTH NHS FOUNDATION TRUST","RXV17","MEADOWBROOK HOSPITAL - SALFORD MH","Keats Ward"]
["RXV17-MacColl Ward","RXV","GREATER MANCHESTER MENTAL HEALTH NHS FOUNDATION TRUST","RXV17","MEADOWBROOK HOSPITAL - SALFORD MH","MacColl Ward"]
["RXV60-Beech Ward","RXV","GREATER MANCHESTER MENTAL HEALTH NHS FOUNDATION TRUST","RXV60","RIVINGTON UNIT - BOLTON MH","Beech Ward"]
["RXV60-Maple House","RXV","GREATER MANCHESTER MENTAL HEALTH NHS FOUNDATION TRUST","RXV60","RIVINGTON UNIT - BOLTON MH","Maple House"]
["RXV60-Oak Ward","RXV","GREATER MANCHESTER MENTAL HEALTH NHS FOUNDATION TRUST","RXV60","RIVINGTON UNIT - BOLTON MH","Oak Ward"]
["RXV80-Bollin Ward","RXV","GREATER MANCHESTER MENTAL HEALTH NHS FOUNDATION TRUST","RXV80","MOORSIDE UNIT - TRAFFORD MH","Bollin Ward"]
["RXV80-Brook Ward","RXV","GREATER MANCHESTER MENTAL HEALTH NHS FOUNDATION TRUST","RXV80","MOORSIDE UNIT - TRAFFORD MH","Brook Ward"]
["RXV80-Greenway Ward","RXV","GREATER MANCHESTER MENTAL HEALTH NHS FOUNDATION TRUST","RXV80","MOORSIDE UNIT - TRAFFORD MH","Greenway Ward"]
["RXV80-Irwell Ward","RXV","GREATER MANCHESTER MENTAL HEALTH NHS FOUNDATION TRUST","RXV80","MOORSIDE UNIT - TRAFFORD MH","Irwell Ward"]
["RXV80-Medlock Ward","RXV","GREATER MANCHESTER MENTAL HEALTH NHS FOUNDATION TRUST","RXV80","MOORSIDE UNIT - TRAFFORD MH","Medlock Ward"]
["RXVA9-Bramley Street","RXV","GREATER MANCHESTER MENTAL HEALTH NHS FOUNDATION TRUST","RXVA9","BRAMLEY STREET REHABILITATION UNIT","Bramley Street"]
["RXVJ1-Anson Road","RXV","GREATER MANCHESTER MENTAL HEALTH NHS FOUNDATION TRUST","RXVJ1","ANSON ROAD UNIT","Anson Road"]
["RXVJ2-Andersen Ward","RXV","GREATER MANCHESTER MENTAL HEALTH NHS FOUNDATION TRUST","RXVJ2","LAUREATE HOUSE SERVICES","Andersen Ward"]
["RXVJ2-Blake Ward","RXV","GREATER MANCHESTER MENTAL HEALTH NHS FOUNDATION TRUST","RXVJ2","LAUREATE HOUSE SERVICES","Blake Ward"]
[{"$f":"CONCATENATE(D6317,\"-\",F6317)","v":"RXVJ2-Bronte Ward"},"RXV","GREATER MANCHESTER MENTAL HEALTH NHS FOUNDATION TRUST","RXVJ2","LAUREATE HOUSE SERVICES","Bronte Ward"]
["RXVJ2-Cavendish Ward","RXV","GREATER MANCHESTER MENTAL HEALTH NHS FOUNDATION TRUST","RXVJ2","LAUREATE HOUSE SERVICES","Cavendish Ward"]
["RXVL9-Acacia Unit","RXV","GREATER MANCHESTER MENTAL HEALTH NHS FOUNDATION TRUST","RXVL9","PARK HOUSE SERVICES","Acacia Unit"]
["RXVL9-Elm Ward","RXV","GREATER MANCHESTER MENTAL HEALTH NHS FOUNDATION TRUST","RXVL9","PARK HOUSE SERVICES","Elm Ward"]
["RXVL9-Juniper Ward","RXV","GREATER MANCHESTER MENTAL HEALTH NHS FOUNDATION TRUST","RXVL9","PARK HOUSE SERVICES","Juniper Ward"]
["RXVL9-Laurel Ward","RXV","GREATER MANCHESTER MENTAL HEALTH NHS FOUNDATION TRUST","RXVL9","PARK HOUSE SERVICES","Laurel Ward"]
["RXVL9-Maple Ward (Mcr)","RXV","GREATER MANCHESTER MENTAL HEALTH NHS FOUNDATION TRUST","RXVL9","PARK HOUSE SERVICES","Maple Ward (Mcr)"]
["RXVL9-Mulberry Ward","RXV","GREATER MANCHESTER MENTAL HEALTH NHS FOUNDATION TRUST","RXVL9","PARK HOUSE SERVICES","Mulberry Ward"]
["RXVL9-Poplar","RXV","GREATER MANCHESTER MENTAL HEALTH NHS FOUNDATION TRUST","RXVL9","PARK HOUSE SERVICES","Poplar"]
["RXVL9-Redwood","RXV","GREATER MANCHESTER MENTAL HEALTH NHS FOUNDATION TRUST","RXVL9","PARK HOUSE SERVICES","Redwood"]
["RXVL9-Safire","RXV","GREATER MANCHESTER MENTAL HEALTH NHS FOUNDATION TRUST","RXVL9","PARK HOUSE SERVICES","Safire"]
["RXWAS-27SD","RXW","SHREWSBURY AND TELFORD HOSPITAL NHS TRUST","RXWAS","ROYAL SHREWSBURY HOSPITAL","27SD"]
["RXWAS-AMU - RSH","RXW","SHREWSBURY AND TELFORD HOSPITAL NHS TRUST","RXWAS","ROYAL SHREWSBURY HOSPITAL","AMU - RSH"]
["RXWAS-ITU/HDU (RSH)","RXW","SHREWSBURY AND TELFORD HOSPITAL NHS TRUST","RXWAS","ROYAL SHREWSBURY HOSPITAL","ITU/HDU (RSH)"]
["RXWAS-SAU","RXW","SHREWSBURY AND TELFORD HOSPITAL NHS TRUST","RXWAS","ROYAL SHREWSBURY HOSPITAL","SAU"]
["RXWAS-Ward 21","RXW","SHREWSBURY AND TELFORD HOSPITAL NHS TRUST","RXWAS","ROYAL SHREWSBURY HOSPITAL","Ward 21"]
["RXWAS-Ward 22 O","RXW","SHREWSBURY AND TELFORD HOSPITAL NHS TRUST","RXWAS","ROYAL SHREWSBURY HOSPITAL","Ward 22 O"]
["RXWAS-Ward 22 RE","RXW","SHREWSBURY AND TELFORD HOSPITAL NHS TRUST","RXWAS","ROYAL SHREWSBURY HOSPITAL","Ward 22 RE"]
["RXWAS-Ward 23 O/H","RXW","SHREWSBURY AND TELFORD HOSPITAL NHS TRUST","RXWAS","ROYAL SHREWSBURY HOSPITAL","Ward 23 O/H"]
["RXWAS-Ward 24 CCU","RXW","SHREWSBURY AND TELFORD HOSPITAL NHS TRUST","RXWAS","ROYAL SHREWSBURY HOSPITAL","Ward 24 CCU"]
["RXWAS-Ward 25","RXW","SHREWSBURY AND TELFORD HOSPITAL NHS TRUST","RXWAS","ROYAL SHREWSBURY HOSPITAL","Ward 25"]
["RXWAS-Ward 26 S/ICA/U","RXW","SHREWSBURY AND TELFORD HOSPITAL NHS TRUST","RXWAS","ROYAL SHREWSBURY HOSPITAL","Ward 26 S/ICA/U"]
["RXWAS-Ward 28","RXW","SHREWSBURY AND TELFORD HOSPITAL NHS TRUST","RXWAS","ROYAL SHREWSBURY HOSPITAL","Ward 28"]
["RXWAS-Ward 32 Short Stay","RXW","SHREWSBURY AND TELFORD HOSPITAL NHS TRUST","RXWAS","ROYAL SHREWSBURY HOSPITAL","Ward 32 Short Stay"]
["RXWAT-AMU - PRH","RXW","SHREWSBURY AND TELFORD HOSPITAL NHS TRUST","RXWAT","THE PRINCESS ROYAL HOSPITAL","AMU - PRH"]
["RXWAT-HASU","RXW","SHREWSBURY AND TELFORD HOSPITAL NHS TRUST","RXWAT","THE PRINCESS ROYAL HOSPITAL","HASU"]
["RXWAT-ITU/HDU (PRH)","RXW","SHREWSBURY AND TELFORD HOSPITAL NHS TRUST","RXWAT","THE PRINCESS ROYAL HOSPITAL","ITU/HDU (PRH)"]
["RXWAT-Ward 10","RXW","SHREWSBURY AND TELFORD HOSPITAL NHS TRUST","RXWAT","THE PRINCESS ROYAL HOSPITAL","Ward 10"]
["RXWAT-Ward 11","RXW","SHREWSBURY AND TELFORD HOSPITAL NHS TRUST","RXWAT","THE PRINCESS ROYAL HOSPITAL","Ward 11"]
["RXWAT-Ward 14 Gynae","RXW","SHREWSBURY AND TELFORD HOSPITAL NHS TRUST","RXWAT","THE PRINCESS ROYAL HOSPITAL","Ward 14 Gynae"]
["RXWAT-Ward 15","RXW","SHREWSBURY AND TELFORD HOSPITAL NHS TRUST","RXWAT","THE PRINCESS ROYAL HOSPITAL","Ward 15"]
["RXWAT-Ward 16","RXW","SHREWSBURY AND TELFORD HOSPITAL NHS TRUST","RXWAT","THE PRINCESS ROYAL HOSPITAL","Ward 16"]
["RXWAT-Ward 17","RXW","SHREWSBURY AND TELFORD HOSPITAL NHS TRUST","RXWAT","THE PRINCESS ROYAL HOSPITAL","Ward 17"]
["RXWAT-Ward 17SD","RXW","SHREWSBURY AND TELFORD HOSPITAL NHS TRUST","RXWAT","THE PRINCESS ROYAL HOSPITAL","Ward 17SD"]
["RXWAT-Ward 19 Childrens","RXW","SHREWSBURY AND TELFORD HOSPITAL NHS TRUST","RXWAT","THE PRINCESS ROYAL HOSPITAL","Ward 19 Childrens"]
["RXWAT-Ward 4","RXW","SHREWSBURY AND TELFORD HOSPITAL NHS TRUST","RXWAT","THE PRINCESS ROYAL HOSPITAL","Ward 4"]
["RXWAT-Ward 6 CCU","RXW","SHREWSBURY AND TELFORD HOSPITAL NHS TRUST","RXWAT","THE PRINCESS ROYAL HOSPITAL","Ward 6 CCU"]
["RXWAT-Ward 7","RXW","SHREWSBURY AND TELFORD HOSPITAL NHS TRUST","RXWAT","THE PRINCESS ROYAL HOSPITAL","Ward 7"]
["RXWAT-Ward 8 ESC","RXW","SHREWSBURY AND TELFORD HOSPITAL NHS TRUST","RXWAT","THE PRINCESS ROYAL HOSPITAL","Ward 8 ESC"]
["RXWAT-Ward 9","RXW","SHREWSBURY AND TELFORD HOSPITAL NHS TRUST","RXWAT","THE PRINCESS ROYAL HOSPITAL","Ward 9"]
["RXWMS-RSH GP Maty","RXW","SHREWSBURY AND TELFORD HOSPITAL NHS TRUST","RXWMS","ROYAL SHREWSBURY HOSPITAL (MATERNITY)","RSH GP Maty"]
["RXWMT-Ward 21 Postnatal","RXW","SHREWSBURY AND TELFORD HOSPITAL NHS TRUST","RXWMT","THE PRINCESS ROYAL HOSPITAL (MATERNITY)","Ward 21 Postnatal"]
["RXWMT-Ward 22 Antenatal","RXW","SHREWSBURY AND TELFORD HOSPITAL NHS TRUST","RXWMT","THE PRINCESS ROYAL HOSPITAL (MATERNITY)","Ward 22 Antenatal"]
["RXWMT-Ward 23 NNU","RXW","SHREWSBURY AND TELFORD HOSPITAL NHS TRUST","RXWMT","THE PRINCESS ROYAL HOSPITAL (MATERNITY)","Ward 23 NNU"]
["RXWMT-Ward 24 Delivery","RXW","SHREWSBURY AND TELFORD HOSPITAL NHS TRUST","RXWMT","THE PRINCESS ROYAL HOSPITAL (MATERNITY)","Ward 24 Delivery"]
["RXWMT-Wrekin Midwife Led Unit","RXW","SHREWSBURY AND TELFORD HOSPITAL NHS TRUST","RXWMT","THE PRINCESS ROYAL HOSPITAL (MATERNITY)","Wrekin Midwife Led Unit"]
["RXX10-Anderson","RXX","SURREY AND BORDERS PARTNERSHIP NHS FOUNDATION TRUST","RXX10","ABRAHAM COWLEY UNIT","Anderson"]
["RXX10-Blake","RXX","SURREY AND BORDERS PARTNERSHIP NHS FOUNDATION TRUST","RXX10","ABRAHAM COWLEY UNIT","Blake"]
["RXX10-Clare","RXX","SURREY AND BORDERS PARTNERSHIP NHS FOUNDATION TRUST","RXX10","ABRAHAM COWLEY UNIT","Clare"]
["RXX10-Spenser","RXX","SURREY AND BORDERS PARTNERSHIP NHS FOUNDATION TRUST","RXX10","ABRAHAM COWLEY UNIT","Spenser"]
["RXX29-Juniper","RXX","SURREY AND BORDERS PARTNERSHIP NHS FOUNDATION TRUST","RXX29","FARNHAM HOSPITAL","Juniper"]
["RXX29-Magnolia","RXX","SURREY AND BORDERS PARTNERSHIP NHS FOUNDATION TRUST","RXX29","FARNHAM HOSPITAL","Magnolia"]
["RXX29-Mulberry","RXX","SURREY AND BORDERS PARTNERSHIP NHS FOUNDATION TRUST","RXX29","FARNHAM HOSPITAL","Mulberry"]
["RXX29-Rowan","RXX","SURREY AND BORDERS PARTNERSHIP NHS FOUNDATION TRUST","RXX29","FARNHAM HOSPITAL","Rowan"]
["RXX29-Victoria","RXX","SURREY AND BORDERS PARTNERSHIP NHS FOUNDATION TRUST","RXX29","FARNHAM HOSPITAL","Victoria"]
["RXX2T-The Meadows","RXX","SURREY AND BORDERS PARTNERSHIP NHS FOUNDATION TRUST","RXX2T","WEST PARK","The Meadows"]
["RXX2V-Deacon","RXX","SURREY AND BORDERS PARTNERSHIP NHS FOUNDATION TRUST","RXX2V","ST EBBAS","Deacon"]
["RXY03-Cranmer","RXY","KENT AND MEDWAY NHS AND SOCIAL CARE PARTNERSHIP TRUST","RXY03","ST MARTINS HOSPITAL","Cranmer"]
["RXY03-Foxglove","RXY","KENT AND MEDWAY NHS AND SOCIAL CARE PARTNERSHIP TRUST","RXY03","ST MARTINS HOSPITAL","Foxglove"]
["RXY03-Samphire","RXY","KENT AND MEDWAY NHS AND SOCIAL CARE PARTNERSHIP TRUST","RXY03","ST MARTINS HOSPITAL","Samphire"]
["RXY08-Boughton Ward","RXY","KENT AND MEDWAY NHS AND SOCIAL CARE PARTNERSHIP TRUST","RXY08","MAIDSTONE HOSPITAL","Boughton Ward"]
["RXY08-Chartwell Ward","RXY","KENT AND MEDWAY NHS AND SOCIAL CARE PARTNERSHIP TRUST","RXY08","MAIDSTONE HOSPITAL","Chartwell Ward"]
["RXY08-The Orchards","RXY","KENT AND MEDWAY NHS AND SOCIAL CARE PARTNERSHIP TRUST","RXY08","MAIDSTONE HOSPITAL","The Orchards"]
["RXY08-Upnor Ward","RXY","KENT AND MEDWAY NHS AND SOCIAL CARE PARTNERSHIP TRUST","RXY08","MAIDSTONE HOSPITAL","Upnor Ward"]
[{"$f":"CONCATENATE(D6381,\"-\",F6381)","v":"RXY10-Jasmine"},"RXY","KENT AND MEDWAY NHS AND SOCIAL CARE PARTNERSHIP TRUST","RXY10","DARENT VALLEY HOSPITAL","Jasmine"]
["RXY17-Ethelbert Road","RXY","KENT AND MEDWAY NHS AND SOCIAL CARE PARTNERSHIP TRUST","RXY17","KENT & CANTERBURY HOSPITAL","Ethelbert Road"]
["RXY1C-111 Tonbridge Road","RXY","KENT AND MEDWAY NHS AND SOCIAL CARE PARTNERSHIP TRUST","RXY1C","TONBRIDGE ROAD","111 Tonbridge Road"]
["RXY2R-Bluebell","RXY","KENT AND MEDWAY NHS AND SOCIAL CARE PARTNERSHIP TRUST","RXY2R","ST MARTINS NEW BUILDING","Bluebell"]
["RXY2R-Fern","RXY","KENT AND MEDWAY NHS AND SOCIAL CARE PARTNERSHIP TRUST","RXY2R","ST MARTINS NEW BUILDING","Fern"]
["RXY3H-Rosewood Lodge","RXY","KENT AND MEDWAY NHS AND SOCIAL CARE PARTNERSHIP TRUST","RXY3H","33-39 BIRLING ROAD","Rosewood Lodge"]
["RXY41-Allington Centre","RXY","KENT AND MEDWAY NHS AND SOCIAL CARE PARTNERSHIP TRUST","RXY41","FORENSIC PSYCHIATRY","Allington Centre"]
["RXY41-Emmetts","RXY","KENT AND MEDWAY NHS AND SOCIAL CARE PARTNERSHIP TRUST","RXY41","FORENSIC PSYCHIATRY","Emmetts"]
["RXY41-Groombridge","RXY","KENT AND MEDWAY NHS AND SOCIAL CARE PARTNERSHIP TRUST","RXY41","FORENSIC PSYCHIATRY","Groombridge"]
["RXY41-Penshurst","RXY","KENT AND MEDWAY NHS AND SOCIAL CARE PARTNERSHIP TRUST","RXY41","FORENSIC PSYCHIATRY","Penshurst"]
["RXY41-Walmer","RXY","KENT AND MEDWAY NHS AND SOCIAL CARE PARTNERSHIP TRUST","RXY41","FORENSIC PSYCHIATRY","Walmer"]
["RXY79-Ruby Ward","RXY","KENT AND MEDWAY NHS AND SOCIAL CARE PARTNERSHIP TRUST","RXY79","OPMH GILLINGHAM","Ruby Ward"]
["RXY7C-Newhaven Lodge","RXY","KENT AND MEDWAY NHS AND SOCIAL CARE PARTNERSHIP TRUST","RXY7C","Newhaven Lodge","Newhaven Lodge"]
["RXY98-Brookfield Centre","RXY","KENT AND MEDWAY NHS AND SOCIAL CARE PARTNERSHIP TRUST","RXY98","LD DARTFORD","Brookfield Centre"]
["RXY98-Marle","RXY","KENT AND MEDWAY NHS AND SOCIAL CARE PARTNERSHIP TRUST","RXY98","LD DARTFORD","Marle"]
["RXY98-Riverhill","RXY","KENT AND MEDWAY NHS AND SOCIAL CARE PARTNERSHIP TRUST","RXY98","LD DARTFORD","Riverhill"]
["RXYF2-Bridge House","RXY","KENT AND MEDWAY NHS AND SOCIAL CARE PARTNERSHIP TRUST","RXYF2","FANT OAST","Bridge House"]
["RXYF6-Frank Lloyd","RXY","KENT AND MEDWAY NHS AND SOCIAL CARE PARTNERSHIP TRUST","RXYF6","FRANK LLOYD NURSING HOME","Frank Lloyd"]
["RXYG4-Amberwood","RXY","KENT AND MEDWAY NHS AND SOCIAL CARE PARTNERSHIP TRUST","RXYG4","GREENACRES","Amberwood"]
["RXYG4-Cherrywood Ward","RXY","KENT AND MEDWAY NHS AND SOCIAL CARE PARTNERSHIP TRUST","RXYG4","GREENACRES","Cherrywood Ward"]
["RXYG4-Pinewood Ward","RXY","KENT AND MEDWAY NHS AND SOCIAL CARE PARTNERSHIP TRUST","RXYG4","GREENACRES","Pinewood Ward"]
["RXYG4-South Central EDMBU","RXY","KENT AND MEDWAY NHS AND SOCIAL CARE PARTNERSHIP TRUST","RXYG4","GREENACRES","South Central EDMBU"]
["RXYG4-Willow Suite","RXY","KENT AND MEDWAY NHS AND SOCIAL CARE PARTNERSHIP TRUST","RXYG4","GREENACRES","Willow Suite"]
["RXYR2-Rivendell","RXY","KENT AND MEDWAY NHS AND SOCIAL CARE PARTNERSHIP TRUST","RXYR2","RIVENDELL","Rivendell"]
["RXYT1-Sevenscore","RXY","KENT AND MEDWAY NHS AND SOCIAL CARE PARTNERSHIP TRUST","RXYT1","THANET MENTAL HEALTH UNIT","Sevenscore"]
["RXYT1-Woodchurch","RXY","KENT AND MEDWAY NHS AND SOCIAL CARE PARTNERSHIP TRUST","RXYT1","THANET MENTAL HEALTH UNIT","Woodchurch"]
["RXYT8-The Grove","RXY","KENT AND MEDWAY NHS AND SOCIAL CARE PARTNERSHIP TRUST","RXYT8","THE HAVEN","The Grove"]
["RY2T5-Padgate House","RY2","BRIDGEWATER COMMUNITY HEALTHCARE NHS FOUNDATION TRUST","RY2T5","PADGATE HOUSE RESIDENTIAL CARE","Padgate House"]
["RY311-Caroline House","RY3","NORFOLK COMMUNITY HEALTH AND CARE NHS TRUST","RY311","Colman Hospital","Caroline House"]
["RY311-Pine Cottage","RY3","NORFOLK COMMUNITY HEALTH AND CARE NHS TRUST","RY311","Colman Hospital","Pine Cottage"]
["RY311-Priscilla Bacon Centre","RY3","NORFOLK COMMUNITY HEALTH AND CARE NHS TRUST","RY311","Colman Hospital","Priscilla Bacon Centre"]
["RY312-Alder Ward","RY3","NORFOLK COMMUNITY HEALTH AND CARE NHS TRUST","RY312","Norwich Community Hospital","Alder Ward"]
["RY312-Beech Ward","RY3","NORFOLK COMMUNITY HEALTH AND CARE NHS TRUST","RY312","Norwich Community Hospital","Beech Ward"]
["RY319-Foxley Ward","RY3","NORFOLK COMMUNITY HEALTH AND CARE NHS TRUST","RY319","Dereham Hospital","Foxley Ward"]
["RY332-North Walsham Ward","RY3","NORFOLK COMMUNITY HEALTH AND CARE NHS TRUST","RY332","North Walsham Hospital","North Walsham Ward"]
["RY335-Pineheath Ward","RY3","NORFOLK COMMUNITY HEALTH AND CARE NHS TRUST","RY335","Kelling Hospital","Pineheath Ward"]
["RY33E-Swaffham Ward","RY3","NORFOLK COMMUNITY HEALTH AND CARE NHS TRUST","RY33E","Swaffham Community Hospital","Swaffham Ward"]
["RY351-Mill Lodge Ward","RY3","NORFOLK COMMUNITY HEALTH AND CARE NHS TRUST","RY351","Mill Lodges (3 Mill Close)","Mill Lodge Ward"]
["RY352-Squirrels","RY3","NORFOLK COMMUNITY HEALTH AND CARE NHS TRUST","RY352","Squirrels (5 Mill Close)","Squirrels"]
["RY386-Ogden Court Ward","RY3","NORFOLK COMMUNITY HEALTH AND CARE NHS TRUST","RY386","Ogden Court","Ogden Court Ward"]
["RY402-Oakmere","RY4","HERTFORDSHIRE COMMUNITY NHS TRUST","RY402","POTTERS BAR COMMUNITY HOSPITAL","Oakmere"]
["RY407-Danesbury","RY4","HERTFORDSHIRE COMMUNITY NHS TRUST","RY407","DANESBURY","Danesbury"]
["RY409-Cambridge/Oxford Ward","RY4","HERTFORDSHIRE COMMUNITY NHS TRUST","RY409","HERTFORDSHIRE & ESSEX HOSPITAL","Cambridge/Oxford Ward"]
["RY410-Holywell","RY4","HERTFORDSHIRE COMMUNITY NHS TRUST","RY410","HOLYWELL","Holywell"]
["RY411-Langley","RY4","HERTFORDSHIRE COMMUNITY NHS TRUST","RY411","LANGLEY HOUSE","Langley"]
["RY412-Rehab Unit","RY4","HERTFORDSHIRE COMMUNITY NHS TRUST","RY412","QUEEN VICTORIA MEMORIAL HOSPITAL","Rehab Unit"]
["RY414-Simpson","RY4","HERTFORDSHIRE COMMUNITY NHS TRUST","RY414","HEMEL HEMPSTEAD GENERAL HOSPITAL","Simpson"]
["RY414-St Peters Ward","RY4","HERTFORDSHIRE COMMUNITY NHS TRUST","RY414","HEMEL HEMPSTEAD GENERAL HOSPITAL","St Peters Ward"]
["RY539-Gloucester","RY5","LINCOLNSHIRE COMMUNITY HEALTH SERVICES NHS TRUST","RY539","SKEGNESS HOSPITAL","Gloucester"]
["RY539-Scarborough","RY5","LINCOLNSHIRE COMMUNITY HEALTH SERVICES NHS TRUST","RY539","SKEGNESS HOSPITAL","Scarborough"]
["RY567-Welland","RY5","LINCOLNSHIRE COMMUNITY HEALTH SERVICES NHS TRUST","RY567","THE JOHNSON COMMUNITY HOSPITAL","Welland"]
["RY568-Scotter","RY5","LINCOLNSHIRE COMMUNITY HEALTH SERVICES NHS TRUST","RY568","JOHN COUPLAND COMMUNITY HOSPITAL","Scotter"]
["RY572-Archer","RY5","LINCOLNSHIRE COMMUNITY HEALTH SERVICES NHS TRUST","RY572","LOUTH COMMUNITY HOSPITAL","Archer"]
["RY572-Carlton","RY5","LINCOLNSHIRE COMMUNITY HEALTH SERVICES NHS TRUST","RY572","LOUTH COMMUNITY HOSPITAL","Carlton"]
["RY583-Butterfly","RY5","LINCOLNSHIRE COMMUNITY HEALTH SERVICES NHS TRUST","RY583","THE BUTTERFLY HOSPICE","Butterfly"]
["RY612-CRU","RY6","LEEDS COMMUNITY HEALTHCARE NHS TRUST","RY612","ST MARY'S HOSPITAL","CRU"]
["RY622-Hannah House","RY6","LEEDS COMMUNITY HEALTHCARE NHS TRUST","RY622","HANNAH HOUSE","Hannah House"]
["RY632-CAmHS in-Patient","RY6","LEEDS COMMUNITY HEALTHCARE NHS TRUST","RY632","LITTLE WOODHOUSE HALL","CAmHS in-Patient"]
["RY838-OKER","RY8","DERBYSHIRE COMMUNITY HEALTH SERVICES NHS FOUNDATION TRUST","RY838","WHITWORTH HOSPITAL","OKER"]
["RY87V-OKEOVER","RY8","DERBYSHIRE COMMUNITY HEALTH SERVICES NHS FOUNDATION TRUST","RY87V","ST OSWALD'S","OKEOVER"]
["RY8AJ-Walton Unit","RY8","DERBYSHIRE COMMUNITY HEALTH SERVICES NHS FOUNDATION TRUST","RY8AJ","WALTON HOSPITAL","Walton Unit"]
["RY8AK-HILLSIDE","RY8","DERBYSHIRE COMMUNITY HEALTH SERVICES NHS FOUNDATION TRUST","RY8AK","ASH GREEN","HILLSIDE"]
["RY8AK-VALLEY VIEW","RY8","DERBYSHIRE COMMUNITY HEALTH SERVICES NHS FOUNDATION TRUST","RY8AK","ASH GREEN","VALLEY VIEW"]
["RY8DE-BARON","RY8","DERBYSHIRE COMMUNITY HEALTH SERVICES NHS FOUNDATION TRUST","RY8DE","BABINGTON HOSPITAL","BARON"]
[{"$f":"CONCATENATE(D6445,\"-\",F6445)","v":"RY8DG-BUTTERLEY"},"RY8","DERBYSHIRE COMMUNITY HEALTH SERVICES NHS FOUNDATION TRUST","RY8DG","RIPLEY HOSPITAL","BUTTERLEY"]
["RY8NR-ALTON","RY8","DERBYSHIRE COMMUNITY HEALTH SERVICES NHS FOUNDATION TRUST","RY8NR","CLAY CROSS HOSPITAL","ALTON"]
["RY8NW-FENTON","RY8","DERBYSHIRE COMMUNITY HEALTH SERVICES NHS FOUNDATION TRUST","RY8NW","CAVENDISH HOSPITAL","FENTON"]
["RY8RH-HEANOR MANNERS","RY8","DERBYSHIRE COMMUNITY HEALTH SERVICES NHS FOUNDATION TRUST","RY8RH","ILKESTON COMMUNITY HOSPITAL","HEANOR MANNERS"]
["RY8RH-HOPEWELL","RY8","DERBYSHIRE COMMUNITY HEALTH SERVICES NHS FOUNDATION TRUST","RY8RH","ILKESTON COMMUNITY HOSPITAL","HOPEWELL"]
["RY902-Pamela Bryant","RY9","HOUNSLOW AND RICHMOND COMMUNITY HEALTHCARE NHS TRUST","RY902","TEDDINGTON MEMORIAL HOSPITAL","Pamela Bryant"]
["RYG58-Beechwood","RYG","COVENTRY AND WARWICKSHIRE PARTNERSHIP NHS TRUST","RYG58","THE CALUDON CENTRE, COVENTRY","Beechwood"]
["RYG58-Hawkesbury Lodge","RYG","COVENTRY AND WARWICKSHIRE PARTNERSHIP NHS TRUST","RYG58","THE CALUDON CENTRE, COVENTRY","Hawkesbury Lodge"]
["RYG58-Hearsall","RYG","COVENTRY AND WARWICKSHIRE PARTNERSHIP NHS TRUST","RYG58","THE CALUDON CENTRE, COVENTRY","Hearsall"]
["RYG58-Highfield House","RYG","COVENTRY AND WARWICKSHIRE PARTNERSHIP NHS TRUST","RYG58","THE CALUDON CENTRE, COVENTRY","Highfield House"]
["RYG58-Pembleton","RYG","COVENTRY AND WARWICKSHIRE PARTNERSHIP NHS TRUST","RYG58","THE CALUDON CENTRE, COVENTRY","Pembleton"]
["RYG58-Sherbourne","RYG","COVENTRY AND WARWICKSHIRE PARTNERSHIP NHS TRUST","RYG58","THE CALUDON CENTRE, COVENTRY","Sherbourne"]
["RYG58-Stanley","RYG","COVENTRY AND WARWICKSHIRE PARTNERSHIP NHS TRUST","RYG58","THE CALUDON CENTRE, COVENTRY","Stanley"]
["RYG58-Swanswell (Spencer)","RYG","COVENTRY AND WARWICKSHIRE PARTNERSHIP NHS TRUST","RYG58","THE CALUDON CENTRE, COVENTRY","Swanswell (Spencer)"]
["RYG58-Westwood","RYG","COVENTRY AND WARWICKSHIRE PARTNERSHIP NHS TRUST","RYG58","THE CALUDON CENTRE, COVENTRY","Westwood"]
["RYG79-Ferndale","RYG","COVENTRY AND WARWICKSHIRE PARTNERSHIP NHS TRUST","RYG79","ST MICHAEL'S","Ferndale"]
["RYG79-Hazelwood","RYG","COVENTRY AND WARWICKSHIRE PARTNERSHIP NHS TRUST","RYG79","ST MICHAEL'S","Hazelwood"]
["RYG79-Larches","RYG","COVENTRY AND WARWICKSHIRE PARTNERSHIP NHS TRUST","RYG79","ST MICHAEL'S","Larches"]
["RYG79-Rowans","RYG","COVENTRY AND WARWICKSHIRE PARTNERSHIP NHS TRUST","RYG79","ST MICHAEL'S","Rowans"]
["RYG79-Willowvale","RYG","COVENTRY AND WARWICKSHIRE PARTNERSHIP NHS TRUST","RYG79","ST MICHAEL'S","Willowvale"]
["RYG79-Woodloes","RYG","COVENTRY AND WARWICKSHIRE PARTNERSHIP NHS TRUST","RYG79","ST MICHAEL'S","Woodloes"]
["RYG92-Aspen Unit","RYG","COVENTRY AND WARWICKSHIRE PARTNERSHIP NHS TRUST","RYG92","ASPEN CENTRE","Aspen Unit"]
["RYG96-Amber","RYG","COVENTRY AND WARWICKSHIRE PARTNERSHIP NHS TRUST","RYG96","BROOKLANDS HOSPITAL","Amber"]
["RYG96-Eden Unit","RYG","COVENTRY AND WARWICKSHIRE PARTNERSHIP NHS TRUST","RYG96","BROOKLANDS HOSPITAL","Eden Unit"]
["RYG96-Jade Adolescents","RYG","COVENTRY AND WARWICKSHIRE PARTNERSHIP NHS TRUST","RYG96","BROOKLANDS HOSPITAL","Jade Adolescents"]
["RYG96-Janet Shaw Clinic","RYG","COVENTRY AND WARWICKSHIRE PARTNERSHIP NHS TRUST","RYG96","BROOKLANDS HOSPITAL","Janet Shaw Clinic"]
["RYG96-Malvern Unit","RYG","COVENTRY AND WARWICKSHIRE PARTNERSHIP NHS TRUST","RYG96","BROOKLANDS HOSPITAL","Malvern Unit"]
["RYG96-Snowdon Unit","RYG","COVENTRY AND WARWICKSHIRE PARTNERSHIP NHS TRUST","RYG96","BROOKLANDS HOSPITAL","Snowdon Unit"]
["RYJ01-Albert Ward","RYJ","IMPERIAL COLLEGE HEALTHCARE NHS TRUST","RYJ01","ST MARY'S HOSPITAL (HQ)","Albert Ward"]
["RYJ01-Aleck Bourne 2 Ward","RYJ","IMPERIAL COLLEGE HEALTHCARE NHS TRUST","RYJ01","ST MARY'S HOSPITAL (HQ)","Aleck Bourne 2 Ward"]
["RYJ01-Almroth Wright Ward/ Rodney Porter","RYJ","IMPERIAL COLLEGE HEALTHCARE NHS TRUST","RYJ01","ST MARY'S HOSPITAL (HQ)","Almroth Wright Ward/ Rodney Porter"]
["RYJ01-AMU","RYJ","IMPERIAL COLLEGE HEALTHCARE NHS TRUST","RYJ01","ST MARY'S HOSPITAL (HQ)","AMU"]
["RYJ01-Birth Centre SMH","RYJ","IMPERIAL COLLEGE HEALTHCARE NHS TRUST","RYJ01","ST MARY'S HOSPITAL (HQ)","Birth Centre SMH"]
["RYJ01-Charles Pannett Ward","RYJ","IMPERIAL COLLEGE HEALTHCARE NHS TRUST","RYJ01","ST MARY'S HOSPITAL (HQ)","Charles Pannett Ward"]
["RYJ01-Douglas Ward","RYJ","IMPERIAL COLLEGE HEALTHCARE NHS TRUST","RYJ01","ST MARY'S HOSPITAL (HQ)","Douglas Ward"]
["RYJ01-Emergency Medical Short Stay (EMSS)","RYJ","IMPERIAL COLLEGE HEALTHCARE NHS TRUST","RYJ01","ST MARY'S HOSPITAL (HQ)","Emergency Medical Short Stay (EMSS)"]
["RYJ01-GRAND UNION WARD","RYJ","IMPERIAL COLLEGE HEALTHCARE NHS TRUST","RYJ01","ST MARY'S HOSPITAL (HQ)","GRAND UNION WARD"]
["RYJ01-GREAT WESTERN WD","RYJ","IMPERIAL COLLEGE HEALTHCARE NHS TRUST","RYJ01","ST MARY'S HOSPITAL (HQ)","GREAT WESTERN WD"]
["RYJ01-Intensive Care SMH","RYJ","IMPERIAL COLLEGE HEALTHCARE NHS TRUST","RYJ01","ST MARY'S HOSPITAL (HQ)","Intensive Care SMH"]
["RYJ01-ISIC SAU","RYJ","IMPERIAL COLLEGE HEALTHCARE NHS TRUST","RYJ01","ST MARY'S HOSPITAL (HQ)","ISIC SAU"]
["RYJ01-Joseph Toynbee Ward","RYJ","IMPERIAL COLLEGE HEALTHCARE NHS TRUST","RYJ01","ST MARY'S HOSPITAL (HQ)","Joseph Toynbee Ward"]
["RYJ01-Lewis Lloyd","RYJ","IMPERIAL COLLEGE HEALTHCARE NHS TRUST","RYJ01","ST MARY'S HOSPITAL (HQ)","Lewis Lloyd"]
["RYJ01-Lillian Holland Ward","RYJ","IMPERIAL COLLEGE HEALTHCARE NHS TRUST","RYJ01","ST MARY'S HOSPITAL (HQ)","Lillian Holland Ward"]
["RYJ01-Major Trauma Ward","RYJ","IMPERIAL COLLEGE HEALTHCARE NHS TRUST","RYJ01","ST MARY'S HOSPITAL (HQ)","Major Trauma Ward"]
["RYJ01-Manvers Ward","RYJ","IMPERIAL COLLEGE HEALTHCARE NHS TRUST","RYJ01","ST MARY'S HOSPITAL (HQ)","Manvers Ward"]
["RYJ01-NICU","RYJ","IMPERIAL COLLEGE HEALTHCARE NHS TRUST","RYJ01","ST MARY'S HOSPITAL (HQ)","NICU"]
["RYJ01-Patterson Ward","RYJ","IMPERIAL COLLEGE HEALTHCARE NHS TRUST","RYJ01","ST MARY'S HOSPITAL (HQ)","Patterson Ward"]
["RYJ01-PICU","RYJ","IMPERIAL COLLEGE HEALTHCARE NHS TRUST","RYJ01","ST MARY'S HOSPITAL (HQ)","PICU"]
["RYJ01-Thistlewaite Ward","RYJ","IMPERIAL COLLEGE HEALTHCARE NHS TRUST","RYJ01","ST MARY'S HOSPITAL (HQ)","Thistlewaite Ward"]
["RYJ01-Valentine Ellis Ward","RYJ","IMPERIAL COLLEGE HEALTHCARE NHS TRUST","RYJ01","ST MARY'S HOSPITAL (HQ)","Valentine Ellis Ward"]
["RYJ01-Witherow Ward","RYJ","IMPERIAL COLLEGE HEALTHCARE NHS TRUST","RYJ01","ST MARY'S HOSPITAL (HQ)","Witherow Ward"]
["RYJ01-Zachary Cope Ward","RYJ","IMPERIAL COLLEGE HEALTHCARE NHS TRUST","RYJ01","ST MARY'S HOSPITAL (HQ)","Zachary Cope Ward"]
["RYJ02-10 North Ward","RYJ","IMPERIAL COLLEGE HEALTHCARE NHS TRUST","RYJ02","CHARING CROSS HOSPITAL","10 North Ward"]
["RYJ02-10 South Ward","RYJ","IMPERIAL COLLEGE HEALTHCARE NHS TRUST","RYJ02","CHARING CROSS HOSPITAL","10 South Ward"]
["RYJ02-11 South Ward","RYJ","IMPERIAL COLLEGE HEALTHCARE NHS TRUST","RYJ02","CHARING CROSS HOSPITAL","11 South Ward"]
["RYJ02-4 South Ward","RYJ","IMPERIAL COLLEGE HEALTHCARE NHS TRUST","RYJ02","CHARING CROSS HOSPITAL","4 South Ward"]
["RYJ02-6 North Ward","RYJ","IMPERIAL COLLEGE HEALTHCARE NHS TRUST","RYJ02","CHARING CROSS HOSPITAL","6 North Ward"]
["RYJ02-6 South Ward","RYJ","IMPERIAL COLLEGE HEALTHCARE NHS TRUST","RYJ02","CHARING CROSS HOSPITAL","6 South Ward"]
["RYJ02-7 North Ward","RYJ","IMPERIAL COLLEGE HEALTHCARE NHS TRUST","RYJ02","CHARING CROSS HOSPITAL","7 North Ward"]
["RYJ02-7 South Ward","RYJ","IMPERIAL COLLEGE HEALTHCARE NHS TRUST","RYJ02","CHARING CROSS HOSPITAL","7 South Ward"]
["RYJ02-7 West","RYJ","IMPERIAL COLLEGE HEALTHCARE NHS TRUST","RYJ02","CHARING CROSS HOSPITAL","7 West"]
["RYJ02-8 North CXH","RYJ","IMPERIAL COLLEGE HEALTHCARE NHS TRUST","RYJ02","CHARING CROSS HOSPITAL","8 North CXH"]
["RYJ02-8 South Ward","RYJ","IMPERIAL COLLEGE HEALTHCARE NHS TRUST","RYJ02","CHARING CROSS HOSPITAL","8 South Ward"]
["RYJ02-8 West Ward","RYJ","IMPERIAL COLLEGE HEALTHCARE NHS TRUST","RYJ02","CHARING CROSS HOSPITAL","8 West Ward"]
[{"$f":"CONCATENATE(D6509,\"-\",F6509)","v":"RYJ02-9 North Ward"},"RYJ","IMPERIAL COLLEGE HEALTHCARE NHS TRUST","RYJ02","CHARING CROSS HOSPITAL","9 North Ward"]
["RYJ02-9 South Ward","RYJ","IMPERIAL COLLEGE HEALTHCARE NHS TRUST","RYJ02","CHARING CROSS HOSPITAL","9 South Ward"]
["RYJ02-9 West Ward","RYJ","IMPERIAL COLLEGE HEALTHCARE NHS TRUST","RYJ02","CHARING CROSS HOSPITAL","9 West Ward"]
["RYJ02-CXH AAU","RYJ","IMPERIAL COLLEGE HEALTHCARE NHS TRUST","RYJ02","CHARING CROSS HOSPITAL","CXH AAU"]
["RYJ02-CXH AMU","RYJ","IMPERIAL COLLEGE HEALTHCARE NHS TRUST","RYJ02","CHARING CROSS HOSPITAL","CXH AMU"]
["RYJ02-CXH ARU","RYJ","IMPERIAL COLLEGE HEALTHCARE NHS TRUST","RYJ02","CHARING CROSS HOSPITAL","CXH ARU"]
["RYJ02-Intensive Care CXH","RYJ","IMPERIAL COLLEGE HEALTHCARE NHS TRUST","RYJ02","CHARING CROSS HOSPITAL","Intensive Care CXH"]
["RYJ02-Lady Skinner Ward","RYJ","IMPERIAL COLLEGE HEALTHCARE NHS TRUST","RYJ02","CHARING CROSS HOSPITAL","Lady Skinner Ward"]
["RYJ02-Riverside","RYJ","IMPERIAL COLLEGE HEALTHCARE NHS TRUST","RYJ02","CHARING CROSS HOSPITAL","Riverside"]
["RYJ03-A6 CICU","RYJ","IMPERIAL COLLEGE HEALTHCARE NHS TRUST","RYJ03","HAMMERSMITH HOSPITAL","A6 CICU"]
["RYJ03-A7 Ward & CCU","RYJ","IMPERIAL COLLEGE HEALTHCARE NHS TRUST","RYJ03","HAMMERSMITH HOSPITAL","A7 Ward & CCU"]
["RYJ03-A8 Ward","RYJ","IMPERIAL COLLEGE HEALTHCARE NHS TRUST","RYJ03","HAMMERSMITH HOSPITAL","A8 Ward"]
["RYJ03-A9 Ward","RYJ","IMPERIAL COLLEGE HEALTHCARE NHS TRUST","RYJ03","HAMMERSMITH HOSPITAL","A9 Ward"]
["RYJ03-C8 Cardiology","RYJ","IMPERIAL COLLEGE HEALTHCARE NHS TRUST","RYJ03","HAMMERSMITH HOSPITAL","C8 Cardiology"]
["RYJ03-D7 Ward","RYJ","IMPERIAL COLLEGE HEALTHCARE NHS TRUST","RYJ03","HAMMERSMITH HOSPITAL","D7 Ward"]
["RYJ03-Dacie Ward","RYJ","IMPERIAL COLLEGE HEALTHCARE NHS TRUST","RYJ03","HAMMERSMITH HOSPITAL","Dacie Ward"]
["RYJ03-Dewardener Ward","RYJ","IMPERIAL COLLEGE HEALTHCARE NHS TRUST","RYJ03","HAMMERSMITH HOSPITAL","Dewardener Ward"]
["RYJ03-Handfield Jones Ward","RYJ","IMPERIAL COLLEGE HEALTHCARE NHS TRUST","RYJ03","HAMMERSMITH HOSPITAL","Handfield Jones Ward"]
["RYJ03-Intensive care HH","RYJ","IMPERIAL COLLEGE HEALTHCARE NHS TRUST","RYJ03","HAMMERSMITH HOSPITAL","Intensive care HH"]
["RYJ03-John Humphrey Ward","RYJ","IMPERIAL COLLEGE HEALTHCARE NHS TRUST","RYJ03","HAMMERSMITH HOSPITAL","John Humphrey Ward"]
["RYJ03-Kerr Ward","RYJ","IMPERIAL COLLEGE HEALTHCARE NHS TRUST","RYJ03","HAMMERSMITH HOSPITAL","Kerr Ward"]
["RYJ03-Peters Ward","RYJ","IMPERIAL COLLEGE HEALTHCARE NHS TRUST","RYJ03","HAMMERSMITH HOSPITAL","Peters Ward"]
["RYJ03-Victor Bonney Ward","RYJ","IMPERIAL COLLEGE HEALTHCARE NHS TRUST","RYJ03","HAMMERSMITH HOSPITAL","Victor Bonney Ward"]
["RYJ03-Weston Ward","RYJ","IMPERIAL COLLEGE HEALTHCARE NHS TRUST","RYJ03","HAMMERSMITH HOSPITAL","Weston Ward"]
["RYJ04-Birth Centre QCCH","RYJ","IMPERIAL COLLEGE HEALTHCARE NHS TRUST","RYJ04","QUEEN CHARLOTTE'S HOSPITAL","Birth Centre QCCH"]
["RYJ04-Edith Dare Postnatal Ward","RYJ","IMPERIAL COLLEGE HEALTHCARE NHS TRUST","RYJ04","QUEEN CHARLOTTE'S HOSPITAL","Edith Dare Postnatal Ward"]
["RYJ04-Neo Natal","RYJ","IMPERIAL COLLEGE HEALTHCARE NHS TRUST","RYJ04","QUEEN CHARLOTTE'S HOSPITAL","Neo Natal"]
["RYJ04-QC Lewis Suite Antenatal","RYJ","IMPERIAL COLLEGE HEALTHCARE NHS TRUST","RYJ04","QUEEN CHARLOTTE'S HOSPITAL","QC Lewis Suite Antenatal"]
["RYJ04-QC Stanley Clayton Ward","RYJ","IMPERIAL COLLEGE HEALTHCARE NHS TRUST","RYJ04","QUEEN CHARLOTTE'S HOSPITAL","QC Stanley Clayton Ward"]
["RYJ04-QCCH labour","RYJ","IMPERIAL COLLEGE HEALTHCARE NHS TRUST","RYJ04","QUEEN CHARLOTTE'S HOSPITAL","QCCH labour"]
["RYJ07-Alex Cross Ward","RYJ","IMPERIAL COLLEGE HEALTHCARE NHS TRUST","RYJ07","WESTERN EYE HOSPITAL","Alex Cross Ward"]
["RYK01-Cedars","RYK","DUDLEY AND WALSALL MENTAL HEALTH PARTNERSHIP NHS TRUST","RYK01","BLOXWICH HOSPITAL (MENTAL ILLNESS)","Cedars"]
["RYK01-Linden","RYK","DUDLEY AND WALSALL MENTAL HEALTH PARTNERSHIP NHS TRUST","RYK01","BLOXWICH HOSPITAL (MENTAL ILLNESS)","Linden"]
["RYK10-Ambleside","RYK","DUDLEY AND WALSALL MENTAL HEALTH PARTNERSHIP NHS TRUST","RYK10","DOROTHY PATTISON HOSPITAL","Ambleside"]
["RYK10-Langdale","RYK","DUDLEY AND WALSALL MENTAL HEALTH PARTNERSHIP NHS TRUST","RYK10","DOROTHY PATTISON HOSPITAL","Langdale"]
["RYK34-Clent","RYK","DUDLEY AND WALSALL MENTAL HEALTH PARTNERSHIP NHS TRUST","RYK34","BUSHEY FIELDS HOSPITAL","Clent"]
["RYK34-Holyrood","RYK","DUDLEY AND WALSALL MENTAL HEALTH PARTNERSHIP NHS TRUST","RYK34","BUSHEY FIELDS HOSPITAL","Holyrood"]
["RYK34-Kinver","RYK","DUDLEY AND WALSALL MENTAL HEALTH PARTNERSHIP NHS TRUST","RYK34","BUSHEY FIELDS HOSPITAL","Kinver"]
["RYK34-Malvern","RYK","DUDLEY AND WALSALL MENTAL HEALTH PARTNERSHIP NHS TRUST","RYK34","BUSHEY FIELDS HOSPITAL","Malvern"]
["RYK34-Wrekin","RYK","DUDLEY AND WALSALL MENTAL HEALTH PARTNERSHIP NHS TRUST","RYK34","BUSHEY FIELDS HOSPITAL","Wrekin"]
["RYR16-Acute Cardiac Unit M036 C","RYR","WESTERN SUSSEX HOSPITALS NHS FOUNDATION TRUST","RYR16","ST RICHARD'S HOSPITAL","Acute Cardiac Unit M036 C"]
["RYR16-Aldwick Ward S107 C","RYR","WESTERN SUSSEX HOSPITALS NHS FOUNDATION TRUST","RYR16","ST RICHARD'S HOSPITAL","Aldwick Ward S107 C"]
["RYR16-Ashling Ward M403 C","RYR","WESTERN SUSSEX HOSPITALS NHS FOUNDATION TRUST","RYR16","ST RICHARD'S HOSPITAL","Ashling Ward M403 C"]
["RYR16-Birdham Ward M100 C","RYR","WESTERN SUSSEX HOSPITALS NHS FOUNDATION TRUST","RYR16","ST RICHARD'S HOSPITAL","Birdham Ward M100 C"]
["RYR16-Bosham Ward S100 C","RYR","WESTERN SUSSEX HOSPITALS NHS FOUNDATION TRUST","RYR16","ST RICHARD'S HOSPITAL","Bosham Ward S100 C"]
["RYR16-Boxgrove Ward M105 C","RYR","WESTERN SUSSEX HOSPITALS NHS FOUNDATION TRUST","RYR16","ST RICHARD'S HOSPITAL","Boxgrove Ward M105 C"]
["RYR16-Chichester Suite T401 C","RYR","WESTERN SUSSEX HOSPITALS NHS FOUNDATION TRUST","RYR16","ST RICHARD'S HOSPITAL","Chichester Suite T401 C"]
["RYR16-Chilgrove Ward S207 C","RYR","WESTERN SUSSEX HOSPITALS NHS FOUNDATION TRUST","RYR16","ST RICHARD'S HOSPITAL","Chilgrove Ward S207 C"]
["RYR16-Donald Wilson House M114 C","RYR","WESTERN SUSSEX HOSPITALS NHS FOUNDATION TRUST","RYR16","ST RICHARD'S HOSPITAL","Donald Wilson House M114 C"]
["RYR16-Emergency Floor M109 C","RYR","WESTERN SUSSEX HOSPITALS NHS FOUNDATION TRUST","RYR16","ST RICHARD'S HOSPITAL","Emergency Floor M109 C"]
["RYR16-Fishbourne Ward M107 C","RYR","WESTERN SUSSEX HOSPITALS NHS FOUNDATION TRUST","RYR16","ST RICHARD'S HOSPITAL","Fishbourne Ward M107 C"]
["RYR16-Ford Ward M023 C","RYR","WESTERN SUSSEX HOSPITALS NHS FOUNDATION TRUST","RYR16","ST RICHARD'S HOSPITAL","Ford Ward M023 C"]
["RYR16-Howard Ward W200 C","RYR","WESTERN SUSSEX HOSPITALS NHS FOUNDATION TRUST","RYR16","ST RICHARD'S HOSPITAL","Howard Ward W200 C"]
["RYR16-Lavant Ward M111 C","RYR","WESTERN SUSSEX HOSPITALS NHS FOUNDATION TRUST","RYR16","ST RICHARD'S HOSPITAL","Lavant Ward M111 C"]
["RYR16-Middleton Ward M112 C","RYR","WESTERN SUSSEX HOSPITALS NHS FOUNDATION TRUST","RYR16","ST RICHARD'S HOSPITAL","Middleton Ward M112 C"]
["RYR16-Petworth Ward M104 C","RYR","WESTERN SUSSEX HOSPITALS NHS FOUNDATION TRUST","RYR16","ST RICHARD'S HOSPITAL","Petworth Ward M104 C"]
["RYR16-SCBU W201 C","RYR","WESTERN SUSSEX HOSPITALS NHS FOUNDATION TRUST","RYR16","ST RICHARD'S HOSPITAL","SCBU W201 C"]
["RYR16-Selsey Ward S102 C","RYR","WESTERN SUSSEX HOSPITALS NHS FOUNDATION TRUST","RYR16","ST RICHARD'S HOSPITAL","Selsey Ward S102 C"]
["RYR16-Wittering Ward S205 C","RYR","WESTERN SUSSEX HOSPITALS NHS FOUNDATION TRUST","RYR16","ST RICHARD'S HOSPITAL","Wittering Ward S205 C"]
["RYR18-Balcombe Ward M606 W","RYR","WESTERN SUSSEX HOSPITALS NHS FOUNDATION TRUST","RYR18","WORTHING HOSPITAL","Balcombe Ward M606 W"]
["RYR18-Barrow Ward M656 W","RYR","WESTERN SUSSEX HOSPITALS NHS FOUNDATION TRUST","RYR18","WORTHING HOSPITAL","Barrow Ward M656 W"]
["RYR18-Becket Ward M651 W","RYR","WESTERN SUSSEX HOSPITALS NHS FOUNDATION TRUST","RYR18","WORTHING HOSPITAL","Becket Ward M651 W"]
["RYR18-Beeding Ward W702 W","RYR","WESTERN SUSSEX HOSPITALS NHS FOUNDATION TRUST","RYR18","WORTHING HOSPITAL","Beeding Ward W702 W"]
["RYR18-Bluefin Ward W706 W","RYR","WESTERN SUSSEX HOSPITALS NHS FOUNDATION TRUST","RYR18","WORTHING HOSPITAL","Bluefin Ward W706 W"]
[{"$f":"CONCATENATE(D6573,\"-\",F6573)","v":"RYR18-Botolphs Ward M666 W"},"RYR","WESTERN SUSSEX HOSPITALS NHS FOUNDATION TRUST","RYR18","WORTHING HOSPITAL","Botolphs Ward M666 W"]
["RYR18-Broadwater Ward M662 W","RYR","WESTERN SUSSEX HOSPITALS NHS FOUNDATION TRUST","RYR18","WORTHING HOSPITAL","Broadwater Ward M662 W"]
["RYR18-Buckingham Ward M661 W","RYR","WESTERN SUSSEX HOSPITALS NHS FOUNDATION TRUST","RYR18","WORTHING HOSPITAL","Buckingham Ward M661 W"]
["RYR18-Burlington Ward M657 W","RYR","WESTERN SUSSEX HOSPITALS NHS FOUNDATION TRUST","RYR18","WORTHING HOSPITAL","Burlington Ward M657 W"]
["RYR18-Castle Ward M603 W","RYR","WESTERN SUSSEX HOSPITALS NHS FOUNDATION TRUST","RYR18","WORTHING HOSPITAL","Castle Ward M603 W"]
["RYR18-Chiltington Ward S609 W","RYR","WESTERN SUSSEX HOSPITALS NHS FOUNDATION TRUST","RYR18","WORTHING HOSPITAL","Chiltington Ward S609 W"]
["RYR18-Clapham Ward S608 W","RYR","WESTERN SUSSEX HOSPITALS NHS FOUNDATION TRUST","RYR18","WORTHING HOSPITAL","Clapham Ward S608 W"]
["RYR18-Coombes Ward S711 W","RYR","WESTERN SUSSEX HOSPITALS NHS FOUNDATION TRUST","RYR18","WORTHING HOSPITAL","Coombes Ward S711 W"]
["RYR18-Courtlands Ward M536 W","RYR","WESTERN SUSSEX HOSPITALS NHS FOUNDATION TRUST","RYR18","WORTHING HOSPITAL","Courtlands Ward M536 W"]
["RYR18-Ditchling Ward M903 W","RYR","WESTERN SUSSEX HOSPITALS NHS FOUNDATION TRUST","RYR18","WORTHING HOSPITAL","Ditchling Ward M903 W"]
["RYR18-Downlands Suite T901 W","RYR","WESTERN SUSSEX HOSPITALS NHS FOUNDATION TRUST","RYR18","WORTHING HOSPITAL","Downlands Suite T901 W"]
["RYR18-Durrington Ward M665 W","RYR","WESTERN SUSSEX HOSPITALS NHS FOUNDATION TRUST","RYR18","WORTHING HOSPITAL","Durrington Ward M665 W"]
["RYR18-Eartham Ward M658 W","RYR","WESTERN SUSSEX HOSPITALS NHS FOUNDATION TRUST","RYR18","WORTHING HOSPITAL","Eartham Ward M658 W"]
["RYR18-Eastbrook Ward M602 W","RYR","WESTERN SUSSEX HOSPITALS NHS FOUNDATION TRUST","RYR18","WORTHING HOSPITAL","Eastbrook Ward M602 W"]
["RYR18-Emergency Floor M600 W","RYR","WESTERN SUSSEX HOSPITALS NHS FOUNDATION TRUST","RYR18","WORTHING HOSPITAL","Emergency Floor M600 W"]
["RYR18-Erringham Ward M604 W","RYR","WESTERN SUSSEX HOSPITALS NHS FOUNDATION TRUST","RYR18","WORTHING HOSPITAL","Erringham Ward M604 W"]
["RYR18-ESCU S555 W","RYR","WESTERN SUSSEX HOSPITALS NHS FOUNDATION TRUST","RYR18","WORTHING HOSPITAL","ESCU S555 W"]
["RYW01-C27","RYW","BIRMINGHAM COMMUNITY HEALTHCARE NHS FOUNDATION TRUST","RYW01","COMMUNITY UNIT 3 GOOD HOPE HOSPITAL","C27"]
["RYW03-Ann Marie Hawes","RYW","BIRMINGHAM COMMUNITY HEALTHCARE NHS FOUNDATION TRUST","RYW03","INTERMEDIATE CARE REHABILITATION UNIT","Ann Marie Hawes"]
["RYW03-Perrytrees","RYW","BIRMINGHAM COMMUNITY HEALTHCARE NHS FOUNDATION TRUST","RYW03","INTERMEDIATE CARE REHABILITATION UNIT","Perrytrees"]
["RYW15-Sheldon unit","RYW","BIRMINGHAM COMMUNITY HEALTHCARE NHS FOUNDATION TRUST","RYW15","SHELDON HEATH - LAND ONLY","Sheldon unit"]
["RYW23-5","RYW","BIRMINGHAM COMMUNITY HEALTHCARE NHS FOUNDATION TRUST","RYW23","MOSELEY HALL HOSPITAL","5"]
["RYW23-6","RYW","BIRMINGHAM COMMUNITY HEALTHCARE NHS FOUNDATION TRUST","RYW23","MOSELEY HALL HOSPITAL","6"]
["RYW23-8","RYW","BIRMINGHAM COMMUNITY HEALTHCARE NHS FOUNDATION TRUST","RYW23","MOSELEY HALL HOSPITAL","8"]
["RYW23-9","RYW","BIRMINGHAM COMMUNITY HEALTHCARE NHS FOUNDATION TRUST","RYW23","MOSELEY HALL HOSPITAL","9"]
["RYW23-CCDU","RYW","BIRMINGHAM COMMUNITY HEALTHCARE NHS FOUNDATION TRUST","RYW23","MOSELEY HALL HOSPITAL","CCDU"]
["RYW24-12","RYW","BIRMINGHAM COMMUNITY HEALTHCARE NHS FOUNDATION TRUST","RYW24","WEST HEATH HOSPITAL","12"]
["RYW24-Willows","RYW","BIRMINGHAM COMMUNITY HEALTHCARE NHS FOUNDATION TRUST","RYW24","WEST HEATH HOSPITAL","Willows"]
["RYW41-No 9 Kingswood","RYW","BIRMINGHAM COMMUNITY HEALTHCARE NHS FOUNDATION TRUST","RYW41","HOBMOOR ROAD 192 (TOTAL SITE)","No 9 Kingswood"]
["RYW41-Riverside Short breaks","RYW","BIRMINGHAM COMMUNITY HEALTHCARE NHS FOUNDATION TRUST","RYW41","HOBMOOR ROAD 192 (TOTAL SITE)","Riverside Short breaks"]
["RYWF7-No 10 Kingswood Short breaks","RYW","BIRMINGHAM COMMUNITY HEALTHCARE NHS FOUNDATION TRUST","RYWF7","KINGSWOOD DRIVE","No 10 Kingswood Short breaks"]
["RYX23-Adams","RYX","CENTRAL LONDON COMMUNITY HEALTHCARE NHS TRUST","RYX23","FINCHLEY MEMORIAL HOSPITAL","Adams"]
["RYX23-Marjory Warren","RYX","CENTRAL LONDON COMMUNITY HEALTHCARE NHS TRUST","RYX23","FINCHLEY MEMORIAL HOSPITAL","Marjory Warren"]
["RYX24-Jade","RYX","CENTRAL LONDON COMMUNITY HEALTHCARE NHS TRUST","RYX24","EDGWARE COMMUNITY HOSPITAL","Jade"]
["RYX27-Alexa Rehab (PLK)","RYX","CENTRAL LONDON COMMUNITY HEALTHCARE NHS TRUST","RYX27","PRINCESS LOUISE NURSING HOME","Alexa Rehab (PLK)"]
["RYX30-Ahlone Rehab","RYX","CENTRAL LONDON COMMUNITY HEALTHCARE NHS TRUST","RYX30","ATHLONE HOUSE CARE HOME                   ","Ahlone Rehab"]
["RYX89-Heathlands","RYX","CENTRAL LONDON COMMUNITY HEALTHCARE NHS TRUST","RYX89","HEATHLAND COURT CARE HOME","Heathlands"]
["RYYAL-Kent and Cottage Ward","RYY","KENT COMMUNITY HEALTH NHS FOUNDATION TRUST","RYYAL","FAVERSHAM COTTAGE HOSPITAL","Kent and Cottage Ward"]
["RYYC3-Heron","RYY","KENT COMMUNITY HEALTH NHS FOUNDATION TRUST","RYYC3","QUEEN VICTORIA MEMORIAL HOSPITAL","Heron"]
["RYYCH-Elizabeth ward","RYY","KENT COMMUNITY HEALTH NHS FOUNDATION TRUST","RYYCH","VICTORIA HOSPITAL","Elizabeth ward"]
["RYYCJ-Benenden","RYY","KENT COMMUNITY HEALTH NHS FOUNDATION TRUST","RYYCJ","WEST VIEW HOSPITAL","Benenden"]
["RYYCM-Friends","RYY","KENT COMMUNITY HEALTH NHS FOUNDATION TRUST","RYYCM","WHITSTABLE & TANKERTON HOSPITAL","Friends"]
["RYYD4-Hever/ Chartwell","RYY","KENT COMMUNITY HEALTH NHS FOUNDATION TRUST","RYYD4","EDENBRIDGE HOSPITAL","Hever/ Chartwell"]
["RYYD9-Sevenoaks","RYY","KENT COMMUNITY HEALTH NHS FOUNDATION TRUST","RYYD9","SEVENOAKS HOSPITAL","Sevenoaks"]
["RYYDC-Goldsmid","RYY","KENT COMMUNITY HEALTH NHS FOUNDATION TRUST","RYYDC","TONBRIDGE COTTAGE HOSPITAL","Goldsmid"]
["RYYDC-Primrose","RYY","KENT COMMUNITY HEALTH NHS FOUNDATION TRUST","RYYDC","TONBRIDGE COTTAGE HOSPITAL","Primrose"]
["RYYK4-Hawkhurst","RYY","KENT COMMUNITY HEALTH NHS FOUNDATION TRUST","RYYK4","HAWKHURST HOSPITAL","Hawkhurst"]
["TAD16-Bracken","TAD","BRADFORD DISTRICT CARE NHS FOUNDATION TRUST","TAD16","AIREDALE CENTRE FOR MENTAL HEALTH","Bracken"]
["TAD16-Fern","TAD","BRADFORD DISTRICT CARE NHS FOUNDATION TRUST","TAD16","AIREDALE CENTRE FOR MENTAL HEALTH","Fern"]
["TAD16-Heather","TAD","BRADFORD DISTRICT CARE NHS FOUNDATION TRUST","TAD16","AIREDALE CENTRE FOR MENTAL HEALTH","Heather"]
["TAD17-Ashbrook","TAD","BRADFORD DISTRICT CARE NHS FOUNDATION TRUST","TAD17","LYNFIELD MOUNT HOSPITAL","Ashbrook"]
["TAD17-Assessment & Treatment Unit (LD)","TAD","BRADFORD DISTRICT CARE NHS FOUNDATION TRUST","TAD17","LYNFIELD MOUNT HOSPITAL","Assessment & Treatment Unit (LD)"]
["TAD17-Baildon","TAD","BRADFORD DISTRICT CARE NHS FOUNDATION TRUST","TAD17","LYNFIELD MOUNT HOSPITAL","Baildon"]
["TAD17-Clover (PICU)","TAD","BRADFORD DISTRICT CARE NHS FOUNDATION TRUST","TAD17","LYNFIELD MOUNT HOSPITAL","Clover (PICU)"]
["TAD17-Dementia Assessment Unit (DAU)","TAD","BRADFORD DISTRICT CARE NHS FOUNDATION TRUST","TAD17","LYNFIELD MOUNT HOSPITAL","Dementia Assessment Unit (DAU)"]
["TAD17-Ilkley","TAD","BRADFORD DISTRICT CARE NHS FOUNDATION TRUST","TAD17","LYNFIELD MOUNT HOSPITAL","Ilkley"]
["TAD17-Maplebeck","TAD","BRADFORD DISTRICT CARE NHS FOUNDATION TRUST","TAD17","LYNFIELD MOUNT HOSPITAL","Maplebeck"]
["TAD17-Oakburn","TAD","BRADFORD DISTRICT CARE NHS FOUNDATION TRUST","TAD17","LYNFIELD MOUNT HOSPITAL","Oakburn"]
["TAD17-Step Forward (Rehab)","TAD","BRADFORD DISTRICT CARE NHS FOUNDATION TRUST","TAD17","LYNFIELD MOUNT HOSPITAL","Step Forward (Rehab)"]
["TAD17-Thornton","TAD","BRADFORD DISTRICT CARE NHS FOUNDATION TRUST","TAD17","LYNFIELD MOUNT HOSPITAL","Thornton"]
["TAF01-Dunkley Ward","TAF","CAMDEN AND ISLINGTON NHS FOUNDATION TRUST","TAF01","ST PANCRAS HOSPITAL","Dunkley Ward"]
["TAF01-Laffan Ward","TAF","CAMDEN AND ISLINGTON NHS FOUNDATION TRUST","TAF01","ST PANCRAS HOSPITAL","Laffan Ward"]
["TAF01-Montague Ward","TAF","CAMDEN AND ISLINGTON NHS FOUNDATION TRUST","TAF01","ST PANCRAS HOSPITAL","Montague Ward"]
["TAF01-Rosewood Ward","TAF","CAMDEN AND ISLINGTON NHS FOUNDATION TRUST","TAF01","ST PANCRAS HOSPITAL","Rosewood Ward"]
[{"$f":"CONCATENATE(D6637,\"-\",F6637)","v":"TAF01-Ruby Ward"},"TAF","CAMDEN AND ISLINGTON NHS FOUNDATION TRUST","TAF01","ST PANCRAS HOSPITAL","Ruby Ward"]
["TAF72-Amber Ward","TAF","CAMDEN AND ISLINGTON NHS FOUNDATION TRUST","TAF72","HIGHGATE ACUTE MENTAL HEALTH CENTRE","Amber Ward"]
["TAF72-Coral Ward","TAF","CAMDEN AND ISLINGTON NHS FOUNDATION TRUST","TAF72","HIGHGATE ACUTE MENTAL HEALTH CENTRE","Coral Ward"]
["TAF72-Emerald Ward","TAF","CAMDEN AND ISLINGTON NHS FOUNDATION TRUST","TAF72","HIGHGATE ACUTE MENTAL HEALTH CENTRE","Emerald Ward"]
["TAF72-Garnet Ward","TAF","CAMDEN AND ISLINGTON NHS FOUNDATION TRUST","TAF72","HIGHGATE ACUTE MENTAL HEALTH CENTRE","Garnet Ward"]
["TAF72-Jade Ward","TAF","CAMDEN AND ISLINGTON NHS FOUNDATION TRUST","TAF72","HIGHGATE ACUTE MENTAL HEALTH CENTRE","Jade Ward"]
["TAF72-Malachite Ward","TAF","CAMDEN AND ISLINGTON NHS FOUNDATION TRUST","TAF72","HIGHGATE ACUTE MENTAL HEALTH CENTRE","Malachite Ward"]
["TAF72-Opal Ward","TAF","CAMDEN AND ISLINGTON NHS FOUNDATION TRUST","TAF72","HIGHGATE ACUTE MENTAL HEALTH CENTRE","Opal Ward"]
["TAF72-Pearl Ward","TAF","CAMDEN AND ISLINGTON NHS FOUNDATION TRUST","TAF72","HIGHGATE ACUTE MENTAL HEALTH CENTRE","Pearl Ward"]
["TAF72-Sapphire Ward","TAF","CAMDEN AND ISLINGTON NHS FOUNDATION TRUST","TAF72","HIGHGATE ACUTE MENTAL HEALTH CENTRE","Sapphire Ward"]
["TAF72-Topaz Ward","TAF","CAMDEN AND ISLINGTON NHS FOUNDATION TRUST","TAF72","HIGHGATE ACUTE MENTAL HEALTH CENTRE","Topaz Ward"]
["TAHCC-Endcliffe Ward","TAH","SHEFFIELD HEALTH & SOCIAL CARE NHS FOUNDATION TRUST","TAHCC","THE LONGLEY CENTRE","Endcliffe Ward"]
["TAHCC-Maple","TAH","SHEFFIELD HEALTH & SOCIAL CARE NHS FOUNDATION TRUST","TAHCC","THE LONGLEY CENTRE","Maple"]
["TAHEC-Firshill Rise","TAH","SHEFFIELD HEALTH & SOCIAL CARE NHS FOUNDATION TRUST","TAHEC","INTENSIVE SUPPORT SERVICE","Firshill Rise"]
["TAHFC-Burbage","TAH","SHEFFIELD HEALTH & SOCIAL CARE NHS FOUNDATION TRUST","TAHFC","MICHAEL CARLISLE CENTRE","Burbage"]
["TAHFC-Dovedale 1","TAH","SHEFFIELD HEALTH & SOCIAL CARE NHS FOUNDATION TRUST","TAHFC","MICHAEL CARLISLE CENTRE","Dovedale 1"]
["TAHFC-Stanage","TAH","SHEFFIELD HEALTH & SOCIAL CARE NHS FOUNDATION TRUST","TAHFC","MICHAEL CARLISLE CENTRE","Stanage"]
["TAHXM-Forest Close Ward 1","TAH","SHEFFIELD HEALTH & SOCIAL CARE NHS FOUNDATION TRUST","TAHXM","FOREST CLOSE","Forest Close Ward 1"]
["TAHXM-Forest Close Ward 2","TAH","SHEFFIELD HEALTH & SOCIAL CARE NHS FOUNDATION TRUST","TAHXM","FOREST CLOSE","Forest Close Ward 2"]
["TAHXM-Forest Close Ward 3","TAH","SHEFFIELD HEALTH & SOCIAL CARE NHS FOUNDATION TRUST","TAHXM","FOREST CLOSE","Forest Close Ward 3"]
["TAHXN-Forest Lodge Assessment","TAH","SHEFFIELD HEALTH & SOCIAL CARE NHS FOUNDATION TRUST","TAHXN","FOREST LODGE","Forest Lodge Assessment"]
["TAHXN-Forest Lodge Rehab","TAH","SHEFFIELD HEALTH & SOCIAL CARE NHS FOUNDATION TRUST","TAHXN","FOREST LODGE","Forest Lodge Rehab"]
["TAHXP-G1","TAH","SHEFFIELD HEALTH & SOCIAL CARE NHS FOUNDATION TRUST","TAHXP","GRENOSIDE GRANGE","G1"]
["TAJ07-Chance","TAJ","BLACK COUNTRY PARTNERSHIP NHS FOUNDATION TRUST","TAJ07","EDWARD STREET HOSPITAL","Chance"]
["TAJ07-Salter","TAJ","BLACK COUNTRY PARTNERSHIP NHS FOUNDATION TRUST","TAJ07","EDWARD STREET HOSPITAL","Salter"]
["TAJ11-Gerry Simon","TAJ","BLACK COUNTRY PARTNERSHIP NHS FOUNDATION TRUST","TAJ11","HEATH LANE HOSPITAL","Gerry Simon"]
["TAJ11-MacArthur","TAJ","BLACK COUNTRY PARTNERSHIP NHS FOUNDATION TRUST","TAJ11","HEATH LANE HOSPITAL","MacArthur"]
["TAJ11-Penrose","TAJ","BLACK COUNTRY PARTNERSHIP NHS FOUNDATION TRUST","TAJ11","HEATH LANE HOSPITAL","Penrose"]
["TAJ20-Abbey","TAJ","BLACK COUNTRY PARTNERSHIP NHS FOUNDATION TRUST","TAJ20","HALLAM STREET HOSPITAL","Abbey"]
["TAJ20-Charlemont","TAJ","BLACK COUNTRY PARTNERSHIP NHS FOUNDATION TRUST","TAJ20","HALLAM STREET HOSPITAL","Charlemont"]
["TAJ20-Friar","TAJ","BLACK COUNTRY PARTNERSHIP NHS FOUNDATION TRUST","TAJ20","HALLAM STREET HOSPITAL","Friar"]
["TAJ20-The Larches","TAJ","BLACK COUNTRY PARTNERSHIP NHS FOUNDATION TRUST","TAJ20","HALLAM STREET HOSPITAL","The Larches"]
["TAJ52-Brook","TAJ","BLACK COUNTRY PARTNERSHIP NHS FOUNDATION TRUST","TAJ52","PENN HOSPITAL","Brook"]
["TAJ52-Dale","TAJ","BLACK COUNTRY PARTNERSHIP NHS FOUNDATION TRUST","TAJ52","PENN HOSPITAL","Dale"]
["TAJ52-Meadow","TAJ","BLACK COUNTRY PARTNERSHIP NHS FOUNDATION TRUST","TAJ52","PENN HOSPITAL","Meadow"]

{"sheet":"Index","index":6,"n_rows":2802,"n_cols":15,"rows_kept":2802,"cut":false,"hidden":true,"merged":[]}
["Lookups",null,null,null,null,"Provider Orgs",null,null,null,"Concatenation","Natural Key",null,null,"Provider Orgs","AHP Activity?"]
["Columns","Row",null,null,null,"RTQ","Gloucestershire Health and Care NHS Foundation Trust",null,null,"April_2017-18",10166,null,null,"RTQ","Y"]
[1,1,null,null,null,"REM","Liverpool University Hosptials NHS Foundation Trust",null,null,"May_2017-18",10167,null,null,"REM","Y"]
[1,2,null,null,null,"RCF","Airedale NHS Foundation Trust",null,null,"June_2017-18",10168,null,null,"RCF","Y"]
[1,3,null,null,null,"RBS","Alder Hey Children's NHS Foundation Trust",null,null,"July_2017-18",10169,null,null,"RBS","Y"]
[1,4,null,null,null,"RTK","Ashford And St Peter's Hospitals NHS Foundation Trust",null,null,"August_2017-18",10170,null,null,"RTK","Y"]
[1,5,null,null,null,"RVN","Avon and Wiltshire Mental Health Partnership NHS Trust",null,null,"September_2017-18",10171,null,null,"RVN","Y"]
[1,6,null,null,null,"RF4","Barking, Havering And Redbridge University Hospitals NHS Trust",null,null,"October_2017-18",10172,null,null,"RF4","Y"]
[1,7,null,null,null,"RRP","Barnet, Enfield and Haringey Mental Health NHS Trust",null,null,"November_2017-18",10173,null,null,"RRP","Y"]
[1,8,null,null,null,"RFF","Barnsley Hospital NHS Foundation Trust",null,null,"December_2017-18",10174,null,null,"RFF","Y"]
[1,9,null,null,null,"R1H","Barts Health NHS Trust",null,null,"January_2017-18",10175,null,null,"R1H","Y"]
[1,10,null,null,null,"RDD","Basildon And Thurrock University Hospitals NHS Foundation Trust",null,null,"February_2017-18",10176,null,null,"RDD","Y"]
[1,11,null,null,null,"RC1","Bedford Hospital NHS Trust",null,null,"March_2017-18",10177,null,null,"RC1","Y"]
[1,12,null,null,null,"RWX","Berkshire Healthcare NHS Foundation Trust",null,null,null,null,null,null,"RWX","Y"]
[1,13,null,null,null,"RXT","Birmingham and Solihull Mental Health NHS Foundation Trust",null,null,null,null,null,null,"RXT","Y"]
[1,14,null,null,null,"RYW","Birmingham Community HealthCare NHS Trust",null,null,null,null,null,null,"RYW","Y"]
[1,15,null,null,null,"RQ3","Birmingham Women's and Children's Hospital NHS Foundation Trust",null,null,null,null,null,null,"RQ3","Y"]
[1,16,null,null,null,"TAJ","Black Country Partnership NHS Foundation Trust",null,null,null,null,null,null,"TAJ","Y"]
[1,17,null,null,null,"RXL","Blackpool Teaching Hospitals NHS Foundation Trust",null,null,null,null,null,null,"RXL","Y"]
[1,18,null,null,null,"RMC","Bolton NHS Foundation Trust",null,null,null,null,null,null,"RMC","Y"]
[1,19,null,null,null,"TAD","Bradford District Care Trust",null,null,null,null,null,null,"TAD","Y"]
[1,20,null,null,null,"RAE","Bradford Teaching Hospitals NHS Foundation Trust",null,null,null,null,null,null,"RAE","Y"]
[1,21,null," ",null,"RY2","Bridgewater Community Healthcare NHS Trust",null,null,null,null,null,null,"RY2","Y"]
[1,22,null,null,null,"RXH","Brighton And Sussex University Hospitals NHS Trust",null,null,null,null,null,null,"RXH","Y"]
[1,23,null,null,null,"RXQ","Buckinghamshire Healthcare NHS Trust",null,null,null,null,null,null,"RXQ","Y"]
[1,24,null,null,null,"RWY","Calderdale And Huddersfield NHS Foundation Trust",null,null,null,null,null,null,"RWY","Y"]
[1,25,null,null,null,"RGT","Cambridge University Hospitals NHS Foundation Trust",null,null,null,null,null,null,"RGT","Y"]
[1,26,null,null,null,"RT1","Cambridgeshire And Peterborough NHS Foundation Trust",null,null,null,null,null,null,"RT1","Y"]
[1,27,null,null,null,"RYV","Cambridgeshire Community Services NHS Trust",null,null,null,null,null,null,"RYV","Y"]
[1,28,null,null,null,"TAF","Camden And Islington NHS Foundation Trust",null,null,null,null,null,null,"TAF","Y"]
[1,29,null,null,null,"RV3","Central and North West London NHS Foundation Trust",null,null,null,null,null,null,"RV3","Y"]
[1,30,null,null,null,"RYX","Central London Community Healthcare NHS Trust",null,null,null,null,null,null,"RYX","Y"]
[1,31,null,null,null,"RQM","Chelsea And Westminster Hospital NHS Foundation Trust",null,null,null,null,null,null,"RQM","Y"]
[1,32,null,null,null,"RXA","Cheshire and Wirral Partnership NHS Foundation Trust",null,null,null,null,null,null,"RXA","Y"]
[1,33,null,null,null,"RFS","Chesterfield Royal Hospital NHS Foundation Trust",null,null,null,null,null,null,"RFS","Y"]
[1,34,null,null,null,"RLN","City Hospitals Sunderland NHS Foundation Trust",null,null,null,null,null,null,"RLN","Y"]
[1,35,null,null,null,"RJ8","Cornwall Partnership NHS Foundation Trust",null,null,null,null,null,null,"RJ8","Y"]
[1,36,null,null,null,"RJR","Countess of Chester Hospital NHS Foundation Trust",null,null,null,null,null,null,"RJR","Y"]
[1,37,null,null,null,"RXP","County Durham And Darlington NHS Foundation Trust",null,null,null,null,null,null,"RXP","Y"]
[1,38,null,null,null,"RYG","Coventry and Warwickshire Partnership NHS Trust",null,null,null,null,null,null,"RYG","Y"]
[1,39,null,null,null,"RJ6","Croydon Health Services NHS Trust",null,null,null,null,null,null,"RJ6","Y"]
[1,40,null,null,null,"RNN","North Cumbria Integrated Care NHS Foundation Trust",null,null,null,null,null,null,"RNN","Y"]
[1,41,null,null,null,"RN7","Dartford And Gravesham NHS Trust",null,null,null,null,null,null,"RN7","Y"]
[1,42,null,null,null,"RY8","Derbyshire Community Health Services NHS Trust",null,null,null,null,null,null,"RY8","Y"]
[1,43,null,null,null,"RXM","Derbyshire Healthcare NHS Foundation Trust",null,null,null,null,null,null,"RXM","Y"]
[1,44,null,null,null,"RWV","Devon Partnership NHS Trust",null,null,null,null,null,null,"RWV","Y"]
[1,45,null,null,null,"RP5","Doncaster And Bassetlaw Hospitals NHS Foundation Trust",null,null,null,null,null,null,"RP5","Y"]
[1,46,null,null,null,"RBD","Dorset County Hospital NHS Foundation Trust",null,null,null,null,null,null,"RBD","Y"]
[1,47,null,null,null,"RDY","Dorset HealthCare University NHS Foundation Trust",null,null,null,null,null,null,"RDY","Y"]
[1,48,null,null,null,"RYK","Dudley and Walsall Mental Health Partnership NHS Trust",null,null,null,null,null,null,"RYK","Y"]
[1,49,null,null,null,"RWH","East And North Hertfordshire NHS Trust",null,null,null,null,null,null,"RWH","Y"]
[1,50,null,null,null,"RJN","East Cheshire NHS Trust",null,null,null,null,null,null,"RJN","Y"]
[1,51,null,null,null,"RVV","East Kent Hospitals University NHS Foundation Trust",null,null,null,null,null,null,"RVV","Y"]
[1,52,null,null,null,"RXR","East Lancashire Hospitals NHS Trust",null,null,null,null,null,null,"RXR","Y"]
[1,53,null,null,null,"RWK","East London Foundation Trust ",null,null,null,null,null,null,"RWK","Y"]
[1,54,null,null,null,"RDE","East Suffolk and North Essex NHS Foundation Trust",null,null,null,null,null,null,"RDE","Y"]
[1,55,null,null,null,"RXC","East Sussex Healthcare NHS Trust",null,null,null,null,null,null,"RXC","Y"]
[1,56,null,null,null,"RVR","Epsom And St Helier University Hospitals NHS Trust",null,null,null,null,null,null,"RVR","Y"]
[1,57,null,null,null,"R1L","Essex Partnership University NHS Foundation Trust",null,null,null,null,null,null,"R1L","Y"]
[1,58,null,null,null,"RDU","Frimley Park Hospital NHS Foundation Trust",null,null,null,null,null,null,"RDU","Y"]
[1,59,null,null,null,"RR7","Gateshead Health NHS Foundation Trust",null,null,null,null,null,null,"RR7","Y"]
[1,60,null,null,null,"RLT","George Eliot Hospital NHS Trust",null,null,null,null,null,null,"RLT","Y"]
[1,61,null,null,null,"RTE","Gloucestershire Hospitals NHS Foundation Trust",null,null,null,null,null,null,"RTE","Y"]
[1,62,null,null,null,"RP4","Great Ormond Street Hospital For Children NHS Foundation Trust",null,null,null,null,null,null,"RP4","Y"]
[1,63,null,null,null,"RN3","Great Western Hospitals NHS Foundation Trust",null,null,null,null,null,null,"RN3","Y"]
[1,64,null,null,null,"RXV","Greater Manchester Mental Health NHS Foundation Trust",null,null,null,null,null,null,"RXV","Y"]
[1,65,null,null,null,"RN5","Hampshire Hospitals NHS Foundation Trust",null,null,null,null,null,null,"RJ1","Y"]
[1,66,null,null,null,"RCD","Harrogate And District NHS Foundation Trust",null,null,null,null,null,null,"RN5","Y"]
[1,67,null,null,null,"RY4","Hertfordshire Community NHS Trust",null,null,null,null,null,null,"RCD","Y"]
[1,68,null,null,null,"RWR","Hertfordshire Partnership University NHS Foundation Trust",null,null,null,null,null,null,"RY4","Y"]
[1,69,null,null,null,"RQX","Homerton University Hospital NHS Foundation Trust",null,null,null,null,null,null,"RWR","Y"]
[1,70,null,null,null,"RY9","Hounslow And Richmond Community Healthcare NHS Trust",null,null,null,null,null,null,"RQX","Y"]
[1,71,null,null,null,"RWA","Hull And East Yorkshire Hospitals NHS Trust",null,null,null,null,null,null,"RY9","Y"]
[1,72,null,null,null,"RV9","Humber NHS Foundation Trust",null,null,null,null,null,null,"RWA","Y"]
[1,73,null,null,null,"RYJ","Imperial College Healthcare NHS Trust",null,null,null,null,null,null,"RV9","Y"]
[1,74,null,null,null,"R1F","Isle of Wight NHS Trust",null,null,null,null,null,null,"RYJ","Y"]
[1,75,null,null,null,"RGP","James Paget University Hospitals NHS Foundation Trust",null,null,null,null,null,null,"R1F","Y"]
[1,76,null,null,null,"RXY","Kent And Medway NHS And Social Care Partnership Trust",null,null,null,null,null,null,"RGP","Y"]
[1,77,null,null,null,"RYY","Kent Community Health NHS Trust",null,null,null,null,null,null,"RXY","Y"]
[1,78,null,null,null,"RNQ","Kettering General Hospital NHS Foundation Trust",null,null,null,null,null,null,"RYY","Y"]
[1,79,null,null,null,"RJZ","King's College Hospital NHS Foundation Trust",null,null,null,null,null,null,"RNQ","Y"]
[1,80,null,null,null,"RAX","Kingston Hospital NHS Trust",null,null,null,null,null,null,"RJZ","Y"]
[1,81,null,null,null,"RW5","Lancashire Care NHS Foundation trust",null,null,null,null,null,null,"RAX","Y"]
[1,82,null,null,null,"RXN","Lancashire Teaching Hospitals NHS Foundation Trust",null,null,null,null,null,null,"RW5","Y"]
[1,83,null,null,null,"RGD","Leeds and York Partnership NHS Foundation Trust",null,null,null,null,null,null,"RXN","Y"]
[1,84,null,null,null,"RY6","Leeds Community Healthcare NHS Trust",null,null,null,null,null,null,"RGD","Y"]
[1,85,null,null,null,"RR8","Leeds Teaching Hospitals NHS Trust",null,null,null,null,null,null,"RY6","Y"]
[1,86,null,null,null,"RT5","Leicestershire Partnership NHS Trust",null,null,null,null,null,null,"RR8","Y"]
[1,87,null,null,null,"RJ2","Lewisham and Greenwich NHS Trust",null,null,null,null,null,null,"RT5","Y"]
[1,88,null,null,null,"RY5","Lincolnshire Community Health Services NHS Trust",null,null,null,null,null,null,"RJ2","Y"]
[1,89,null,null,null,"RP7","Lincolnshire Partnership NHS Foundation Trust",null,null,null,null,null,null,"RY5","Y"]
[1,90,null,null,null,"RBQ","Liverpool Heart And Chest NHS Foundation Trust",null,null,null,null,null,null,"RP7","Y"]
[1,91,null,null,null,"REP","Liverpool Women's NHS Foundation Trust",null,null,null,null,null,null,"RBQ","Y"]
[1,92,null,null,null,"R1K","London North West Healthcare NHS Trust",null,null,null,null,null,null,"REP","Y"]
[1,93,null,null,null,"RC9","Luton And Dunstable Hospital NHS Foundation Trust",null,null,null,null,null,null,"R1K","Y"]
[1,94,null,null,null,"RWF","Maidstone And Tunbridge Wells NHS Trust",null,null,null,null,null,null,"RC9","Y"]
[1,95,null,null,null,"R0A","Manchester University NHS Foundation Trust",null,null,null,null,null,null,"RWF","Y"]
[1,96,null,null,null,"RPA","Medway NHS Foundation Trust",null,null,null,null,null,null,"R0A","Y"]
[1,97,null,null,null,"RW4","Mersey Care NHS Trust",null,null,null,null,null,null,"RPA","Y"]
[1,98,null,null,null,"RBT","Mid Cheshire Hospitals NHS Foundation Trust",null,null,null,null,null,null,"RW4","Y"]
[1,99,null,null,null,"RQ8","Mid Essex Hospital Services NHS Trust",null,null,null,null,null,null,"RBT","Y"]
[1,100,null,null,null,"RXF","Mid Yorkshire Hospitals NHS Trust",null,null,null,null,null,null,"RQ8","Y"]
[1,101,null,null,null,"RRE","Midlands Partnership NHS Foundation Trust",null,null,null,null,null,null,"RXF","Y"]
[1,102,null,null,null,"RD8","Milton Keynes Hospital NHS Foundation Trust",null,null,null,null,null,null,"RRE","Y"]
[1,103,null,null,null,"RP6","Moorfields Eye Hospital NHS Foundation Trust",null,null,null,null,null,null,"RD8","Y"]
[1,104,null,null,null,"RM1","Norfolk And Norwich University Hospitals NHS Foundation Trust",null,null,null,null,null,null,"RP6","Y"]
[1,105,null,null,null,"RMY","Norfolk and Suffolk NHS Foundation Trust",null,null,null,null,null,null,"RM1","Y"]
[1,106,null,null,null,"RY3","Norfolk Community Health And Care NHS Trust",null,null,null,null,null,null,"RMY","Y"]
[1,107,null,null,null,"RVJ","North Bristol NHS Trust",null,null,null,null,null,null,"RY3","Y"]
[1,108,null,null,null,"RAT","North East London NHS Foundation Trust",null,null,null,null,null,null,"RVJ","Y"]
[1,109,null,null,null,"RAP","North Middlesex University Hospital NHS Trust",null,null,null,null,null,null,"RAT","Y"]
[1,110,null,null,null,"RLY","North Staffordshire Combined Healthcare NHS Trust",null,null,null,null,null,null,"RAP","Y"]
[1,111,null,null,null,"RVW","North Tees And Hartlepool NHS Foundation Trust",null,null,null,null,null,null,"RLY","Y"]
[1,112,null,null,null,"RGN","North West Anglia NHS Foundation Trust",null,null,null,null,null,null,"RVW","Y"]
[1,113,null,null,null,"RTV","North West Boroughs Healthcare NHS Foundation Trust",null,null,null,null,null,null,"RGN","Y"]
[1,114,null,null,null,"RNS","Northampton General Hospital NHS Trust",null,null,null,null,null,null,"RTV","Y"]
[1,115,null,null,null,"RP1","Northamptonshire Healthcare NHS Foundation Trust",null,null,null,null,null,null,"RNS","Y"]
[1,116,null,null,null,"RBZ","Northern Devon Healthcare NHS Trust",null,null,null,null,null,null,"RP1","Y"]
[1,117,null,null,null,"RJL","Northern Lincolnshire And Goole Hospitals NHS Foundation Trust",null,null,null,null,null,null,"RBZ","Y"]
[1,118,null,null,null,"RX4","Cumbria, Northumberland, Tyne and Wear NHS Foundation Trust",null,null,null,null,null,null,"RJL","Y"]
[1,119,null,null,null,"RTF","Northumbria Healthcare NHS Foundation Trust",null,null,null,null,null,null,"RX4","Y"]
[1,120,null,null,null,"RX1","Nottingham University Hospitals NHS Trust",null,null,null,null,null,null,"RTF","Y"]
[1,121,null,null,null,"RHA","Nottinghamshire Healthcare NHS Trust",null,null,null,null,null,null,"RX1","Y"]
[1,122,null,null,null,"RNU","Oxford Health NHS Foundation Trust",null,null,null,null,null,null,"RHA","Y"]
[1,123,null,null,null,"RTH","Oxford University Hospitals NHS Trust",null,null,null,null,null,null,"RNU","Y"]
[1,124,null,null,null,"RPG","Oxleas NHS Foundation Trust",null,null,null,null,null,null,"RTH","Y"]
[1,125,null,null,null,"RW6","Pennine Acute Hospitals NHS Trust",null,null,null,null,null,null,"RPG","Y"]
[1,126,null,null,null,"RT2","Pennine Care NHS Foundation Trust",null,null,null,null,null,null,"RGM","Y"]
[1,127,null,null,null,"RK9","Plymouth Hospitals NHS Trust",null,null,null,null,null,null,"RW6","Y"]
[1,128,null,null,null,"RD3","Poole Hospital NHS Foundation Trust",null,null,null,null,null,null,"RT2","Y"]
[1,129,null,null,null,"RHU","Portsmouth Hospitals NHS Trust",null,null,null,null,null,null,"RK9","Y"]
[1,130,null,null,null,"RPC","Queen Victoria Hospital NHS Foundation Trust",null,null,null,null,null,null,"RD3","Y"]
[1,131,null,null,null,"RXE","Rotherham Doncaster and South Humber NHS Foundation Trust",null,null,null,null,null,null,"RHU","Y"]
[1,132,null,null,null,"RHW","Royal Berkshire NHS Foundation Trust",null,null,null,null,null,null,"RPC","Y"]
[1,133,null,null,null,"RT3","Royal Brompton And Harefield NHS Foundation Trust",null,null,null,null,null,null,"RXE","Y"]
[1,134,null,null,null,"REF","Royal Cornwall Hospitals NHS Trust",null,null,null,null,null,null,"RHW","Y"]
[1,135,null,null,null,"RH8","Royal Devon And Exeter NHS Foundation Trust",null,null,null,null,null,null,"RT3","Y"]
[1,136,null,null,null,"RAL","Royal Free London NHS Foundation Trust",null,null,null,null,null,null,"REF","Y"]
[1,137,null,null,null,"RAN","Royal National Orthopaedic Hospital NHS Trust",null,null,null,null,null,null,"RH8","Y"]
[1,138,null,null,null,"RGM","Royal Papworth Hospital NHS Foundation Trust",null,null,null,null,null,null,"RAL","Y"]
[1,139,null,null,null,"RA2","Royal Surrey County Hospital NHS Foundation Trust",null,null,null,null,null,null,"RAN","Y"]
[1,140,null,null,null,"RD1","Royal United Hospital Bath NHS Trust",null,null,null,null,null,null,"RA2","Y"]
[1,141,null,null,null,"RM3","Salford Royal NHS Foundation Trust",null,null,null,null,null,null,"RD1","Y"]
[1,142,null,null,null,"RNZ","Salisbury NHS Foundation Trust",null,null,null,null,null,null,"RM3","Y"]
[1,143,null,null,null,"RXK","Sandwell And West Birmingham Hospitals NHS Trust",null,null,null,null,null,null,"RNZ","Y"]
[1,144,null,null,null,"RCU","Sheffield Children's NHS Foundation Trust",null,null,null,null,null,null,"RXK","Y"]
[1,145,null,null,null,"TAH","Sheffield Health & Social Care NHS Foundation Trust",null,null,null,null,null,null,"RCU","Y"]
[1,146,null,null,null,"RHQ","Sheffield Teaching Hospitals NHS Foundation Trust",null,null,null,null,null,null,"TAH","Y"]
[1,147,null,null,null,"RK5","Sherwood Forest Hospitals NHS Foundation Trust",null,null,null,null,null,null,"RHQ","Y"]
[1,148,null,null,null,"RXW","Shrewsbury And Telford Hospital NHS Trust",null,null,null,null,null,null,"RK5","Y"]
[1,149,null,null,null,"R1D","Shropshire Community Health NHS Trust",null,null,null,null,null,null,"RXW","Y"]
[1,150,null,null,null,"R1C","Solent NHS Trust",null,null,null,null,null,null,"R1D","Y"]
[1,151,null,null,null,"RH5","Somerset Partnership NHS Foundation Trust",null,null,null,null,null,null,"R1C","Y"]
[1,152,null,null,null,"RV5","South London And Maudsley NHS Foundation Trust",null,null,null,null,null,null,"RH5","Y"]
[1,153,null,null,null,"RTR","South Tees Hospitals NHS Foundation Trust",null,null,null,null,null,null,"RV5","Y"]
[1,154,null,null,null,"R0B","South Tyneside and Sunderland NHS Foundation Trust",null,null,null,null,null,null,"RTR","Y"]
[1,155,null,null,null,"RE9","South Tyneside NHS Foundation Trust",null,null,null,null,null,null,"RE9","Y"]
[1,156,null,null,null,"RJC","South Warwickshire NHS Foundation Trust",null,null,null,null,null,null,"RJC","Y"]
[1,157,null,null,null,"RQY","South West London And St George's Mental Health NHS Trust",null,null,null,null,null,null,"RQY","Y"]
[1,158,null,null,null,"RXG","South West Yorkshire Partnership NHS Foundation Trust",null,null,null,null,null,null,"RXG","Y"]
[1,159,null,null,null,"RAJ","Southend University Hospital NHS Foundation Trust",null,null,null,null,null,null,"RAJ","Y"]
[1,160,null,null,null,"RW1","Southern Health NHS Foundation Trust",null,null,null,null,null,null,"RW1","Y"]
[1,161,null,null,null,"RVY","Southport And Ormskirk Hospital NHS Trust",null,null,null,null,null,null,"RVY","Y"]
[1,162,null,null,null,"RJ7","St George's Healthcare NHS Trust",null,null,null,null,null,null,"RJ7","Y"]
[1,163,null,null,null,"RBN","St Helens And Knowsley Hospitals NHS Trust",null,null,null,null,null,null,"RBN","Y"]
[1,164,null,null,null,"RWJ","Stockport NHS Foundation Trust",null,null,null,null,null,null,"RWJ","Y"]
[1,165,null,null,null,"RXX","Surrey and Borders Partnership NHS Foundation Trust",null,null,null,null,null,null,"RXX","Y"]
[1,166,null,null,null,"RTP","Surrey And Sussex Healthcare NHS Trust",null,null,null,null,null,null,"RTP","Y"]
[1,167,null,null,null,"RDR","Sussex Community NHS Trust",null,null,null,null,null,null,"RDR","Y"]
[1,168,null,null,null,"RX2","Sussex Partnership NHS Foundation Trust",null,null,null,null,null,null,"RX2","Y"]
[1,169,null,null,null,"RMP","Tameside Hospital NHS Foundation Trust",null,null,null,null,null,null,"RMP","Y"]
[1,170,null,null,null,"RBA","Taunton And Somerset NHS Foundation Trust",null,null,null,null,null,null,"RBA","Y"]
[1,171,null,null,null,"RX3","Tees, Esk and Wear Valleys NHS Foundation Trust",null,null,null,null,null,null,"RX3","Y"]
[1,172,null,null,null,"RBV","The Christie NHS Foundation Trust",null,null,null,null,null,null,"RBV","Y"]
[1,173,null,null,null,"REN","The Clatterbridge Cancer Centre NHS Foundation Trust",null,null,null,null,null,null,"REN","Y"]
[1,174,null,null,null,"RNA","The Dudley Group NHS Foundation Trust",null,null,null,null,null,null,"RNA","Y"]
[1,175,null,null,null,"RAS","The Hillingdon Hospitals NHS Foundation Trust",null,null,null,null,null,null,"RAS","Y"]
[1,176,null,null,null,"RTD","The Newcastle Upon Tyne Hospitals NHS Foundation Trust",null,null,null,null,null,null,"RTD","Y"]
[1,177,null,null,null,"RQW","The Princess Alexandra Hospital NHS Trust",null,null,null,null,null,null,"RQW","Y"]
[1,178,null,null,null,"RCX","The Queen Elizabeth Hospital, King's Lynn, NHS Foundation Trust",null,null,null,null,null,null,"RCX","Y"]
[1,179,null,null,null,"RL1","The Robert Jones And Agnes Hunt Orthopaedic Hospital NHS Foundation Trust",null,null,null,null,null,null,"RL1","Y"]
[1,180,null,null,null,"RFR","The Rotherham NHS Foundation Trust",null,null,null,null,null,null,"RFR","Y"]
[1,181,null,null,null,"RDZ","The Royal Bournemouth And Christchurch Hospitals NHS Foundation Trust",null,null,null,null,null,null,"RDZ","Y"]
[1,182,null,null,null,"RPY","The Royal Marsden NHS Foundation Trust",null,null,null,null,null,null,"RPY","Y"]
[1,183,null,null,null,"RRJ","The Royal Orthopaedic Hospital NHS Foundation Trust",null,null,null,null,null,null,"RRJ","Y"]
[1,184,null,null,null,"RL4","The Royal Wolverhampton NHS Trust",null,null,null,null,null,null,"RL4","Y"]
[1,185,null,null,null,"RET","The Walton Centre NHS Foundation Trust",null,null,null,null,null,null,"RET","Y"]
[1,186,null,null,null,"RKE","The Whittington Hospital NHS Trust",null,null,null,null,null,null,"RKE","Y"]
[1,187,null,null,null,"RA9","Torbay and South Devon NHS Foundation Trust",null,null,null,null,null,null,"RA9","Y"]
[1,188,null,null,null,"RWD","United Lincolnshire Hospitals NHS Trust",null,null,null,null,null,null,"RWD","Y"]
[1,189,null,null,null,"RRV","University College London Hospitals NHS Foundation Trust",null,null,null,null,null,null,"RRV","Y"]
[1,190,null,null,null,"RJE","University Hospital of North Midlands NHS Trust",null,null,null,null,null,null,"RJE","Y"]
[1,191,null,null,null,"RHM","University Hospital Southampton NHS Foundation Trust",null,null,null,null,null,null,"RHM","Y"]
[1,192,null,null,null,"RRK","University Hospitals Birmingham NHS Foundation Trust",null,null,null,null,null,null,"RRK","Y"]
[1,193,null,null,null,"RA7","University Hospitals Bristol NHS Foundation Trust",null,null,null,null,null,null,"RA7","Y"]
[1,194,null,null,null,"RKB","University Hospitals Coventry And Warwickshire NHS Trust",null,null,null,null,null,null,"RKB","Y"]
[1,195,null,null,null,"RTG","University Hospitals of Derby and Burton NHS Foundation Trust",null,null,null,null,null,null,"RTG","Y"]
[1,196,null,null,null,"RWE","University Hospitals of Leicester NHS Trust",null,null,null,null,null,null,"RWE","Y"]
[1,197,null,null,null,"RTX","University Hospitals of Morecambe Bay NHS Foundation Trust",null,null,null,null,null,null,"RTX","Y"]
[1,198,null,null,null,"RBK","Walsall Healthcare NHS Trust",null,null,null,null,null,null,"RBK","Y"]
[1,199,null,null,null,"RWW","Warrington And Halton Hospitals NHS Foundation Trust",null,null,null,null,null,null,"RWW","Y"]
[1,200,null,null,null,"RWG","West Hertfordshire Hospitals NHS Trust",null,null,null,null,null,null,"RWG","Y"]
[{"$f":"A3+1","v":2},1,null,null,null,"RKL","West London Mental Health NHS Trust",null,null,null,null,null,null,"RKL","Y"]
[2,2,null,null,null,"RGR","West Suffolk NHS Foundation Trust",null,null,null,null,null,null,"RGR","Y"]
[2,3,null,null,null,"RYR","Western Sussex Hospitals NHS Trust",null,null,null,null,null,null,"RYR","Y"]
[2,4,null,null,null,"RA3","Weston Area Health NHS Trust",null,null,null,null,null,null,"RA3","Y"]
[2,5,null,null,null,"AXG","Wiltshire Health & Care LLP",null,null,null,null,null,null,"AXG","Y"]
[2,6,null,null,null,"RBL","Wirral University Teaching Hospital NHS Foundation Trust",null,null,null,null,null,null,"RBL","Y"]
[2,7,null,null,null,"RWP","Worcestershire Acute Hospitals NHS Trust",null,null,null,null,null,null,"RWP","Y"]
[2,8,null,null,null,"R1A","Worcestershire Health and Care NHS Trust",null,null,null,null,null,null,"R1A","Y"]
[2,9,null,null,null,"RRF","Wrightington, Wigan And Leigh NHS Foundation Trust",null,null,null,null,null,null,"RRF","Y"]
[2,10,null,null,null,"RLQ","Wye Valley NHS Trust",null,null,null,null,null,null,"RLQ","Y"]
[2,11,null,null,null,"RA4","Yeovil District Hospital NHS Foundation Trust",null,null,null,null,null,null,"RA4","Y"]
[2,12,null,null,null,"RCB","York Teaching Hospital NHS Foundation Trust",null,null,null,null,null,null,"R0B","Y"]
[2,13,null,null,null,"RJ1","Guy's and St Thomas' NHS Foundation Trust",null,null,null,null,null,null,"RCB","Y"]
[2,14]
[2,15]
[2,16]
[2,17]
[2,18]
[2,19]
[2,20]
[2,21]
[2,22]
[2,23]
[2,24]
[2,25]
[2,26]
[2,27]
[2,28]
[2,29]
[2,30]
[2,31]
[2,32]
[2,33]
[2,34]
[2,35]
[2,36]
[2,37]
[2,38]
[2,39]
[2,40]
[2,41]
[2,42]
[2,43]
[2,44]
[2,45]
[2,46]
[2,47]
[2,48]
[2,49]
[2,50]
[2,51]
[2,52]
[2,53]
[2,54]
[2,55]
[2,56]
[2,57]
[2,58]
[2,59]
[2,60]
[2,61]
[2,62]
[2,63]
[2,64]
[{"$f":"A67+1","v":2},65]
[2,66]
[2,67]
[2,68]
[2,69]
[2,70]
[2,71]
[2,72]
[2,73]
[2,74]
[2,75]
[2,76]
[2,77]
[2,78]
[2,79]
[2,80]
[2,81]
[2,82]
[2,83]
[2,84]
[2,85]
[2,86]
[2,87]
[2,88]
[2,89]
[2,90]
[2,91]
[2,92]
[2,93]
[2,94]
[2,95]
[2,96]
[2,97]
[2,98]
[2,99]
[2,100]
[2,101]
[2,102]
[2,103]
[2,104]
[2,105]
[2,106]
[2,107]
[2,108]
[2,109]
[2,110]
[2,111]
[2,112]
[2,113]
[2,114]
[2,115]
[2,116]
[2,117]
[2,118]
[2,119]
[2,120]
[2,121]
[2,122]
[2,123]
[2,124]
[2,125]
[2,126]
[2,127]
[2,128]
[{"$f":"A131+1","v":2},129]
[2,130]
[2,131]
[2,132]
[2,133]
[2,134]
[2,135]
[2,136]
[2,137]
[2,138]
[2,139]
[2,140]
[2,141]
[2,142]
[2,143]
[2,144]
[2,145]
[2,146]
[2,147]
[2,148]
[2,149]
[2,150]
[2,151]
[2,152]
[2,153]
[2,154]
[2,155]
[2,156]
[2,157]
[2,158]
[2,159]
[2,160]
[2,161]
[2,162]
[2,163]
[2,164]
[2,165]
[2,166]
[2,167]
[2,168]
[2,169]
[2,170]
[2,171]
[2,172]
[2,173]
[2,174]
[2,175]
[2,176]
[2,177]
[2,178]
[2,179]
[2,180]
[2,181]
[2,182]
[2,183]
[2,184]
[2,185]
[2,186]
[2,187]
[2,188]
[2,189]
[2,190]
[2,191]
[2,192]
[{"$f":"A195+1","v":2},193]
[2,194]
[2,195]
[2,196]
[2,197]
[2,198]
[2,199]
[2,200]
[3,1]
[3,2]
[3,3]
[3,4]
[3,5]
[3,6]
[3,7]
[3,8]
[3,9]
[3,10]
[3,11]
[3,12]
[3,13]
[3,14]
[3,15]
[3,16]
[3,17]
[3,18]
[3,19]
[3,20]
[3,21]
[3,22]
[3,23]
[3,24]
[3,25]
[3,26]
[3,27]
[3,28]
[3,29]
[3,30]
[3,31]
[3,32]
[3,33]
[3,34]
[3,35]
[3,36]
[3,37]
[3,38]
[3,39]
[3,40]
[3,41]
[3,42]
[3,43]
[3,44]
[3,45]
[3,46]
[3,47]
[3,48]
[3,49]
[3,50]
[3,51]
[3,52]
[3,53]
[3,54]
[3,55]
[3,56]
[{"$f":"A259+1","v":3},57]
[3,58]
[3,59]
[3,60]
[3,61]
[3,62]
[3,63]
[3,64]
[3,65]
[3,66]
[3,67]
[3,68]
[3,69]
[3,70]
[3,71]
[3,72]
[3,73]
[3,74]
[3,75]
[3,76]
[3,77]
[3,78]
[3,79]
[3,80]
[3,81]
[3,82]
[3,83]
[3,84]
[3,85]
[3,86]
[3,87]
[3,88]
[3,89]
[3,90]
[3,91]
[3,92]
[3,93]
[3,94]
[3,95]
[3,96]
[3,97]
[3,98]
[3,99]
[3,100]
[3,101]
[3,102]
[3,103]
[3,104]
[3,105]
[3,106]
[3,107]
[3,108]
[3,109]
[3,110]
[3,111]
[3,112]
[3,113]
[3,114]
[3,115]
[3,116]
[3,117]
[3,118]
[3,119]
[3,120]
[{"$f":"A323+1","v":3},121]
[3,122]
[3,123]
[3,124]
[3,125]
[3,126]
[3,127]
[3,128]
[3,129]
[3,130]
[3,131]
[3,132]
[3,133]
[3,134]
[3,135]
[3,136]
[3,137]
[3,138]
[3,139]
[3,140]
[3,141]
[3,142]
[3,143]
[3,144]
[3,145]
[3,146]
[3,147]
[3,148]
[3,149]
[3,150]
[3,151]
[3,152]
[3,153]
[3,154]
[3,155]
[3,156]
[3,157]
[3,158]
[3,159]
[3,160]
[3,161]
[3,162]
[3,163]
[3,164]
[3,165]
[3,166]
[3,167]
[3,168]
[3,169]
[3,170]
[3,171]
[3,172]
[3,173]
[3,174]
[3,175]
[3,176]
[3,177]
[3,178]
[3,179]
[3,180]
[3,181]
[3,182]
[3,183]
[3,184]
[{"$f":"A387+1","v":3},185]
[3,186]
[3,187]
[3,188]
[3,189]
[3,190]
[3,191]
[3,192]
[3,193]
[3,194]
[3,195]
[3,196]
[3,197]
[3,198]
[3,199]
[3,200]
[4,1]
[4,2]
[4,3]
[4,4]
[4,5]
[4,6]
[4,7]
[4,8]
[4,9]
[4,10]
[4,11]
[4,12]
[4,13]
[4,14]
[4,15]
[4,16]
[4,17]
[4,18]
[4,19]
[4,20]
[4,21]
[4,22]
[4,23]
[4,24]
[4,25]
[4,26]
[4,27]
[4,28]
[4,29]
[4,30]
[4,31]
[4,32]
[4,33]
[4,34]
[4,35]
[4,36]
[4,37]
[4,38]
[4,39]
[4,40]
[4,41]
[4,42]
[4,43]
[4,44]
[4,45]
[4,46]
[4,47]
[4,48]
[{"$f":"A451+1","v":4},49]
[4,50]
[4,51]
[4,52]
[4,53]
[4,54]
[4,55]
[4,56]
[4,57]
[4,58]
[4,59]
[4,60]
[4,61]
[4,62]
[4,63]
[4,64]
[4,65]
[4,66]
[4,67]
[4,68]
[4,69]
[4,70]
[4,71]
[4,72]
[4,73]
[4,74]
[4,75]
[4,76]
[4,77]
[4,78]
[4,79]
[4,80]
[4,81]
[4,82]
[4,83]
[4,84]
[4,85]
[4,86]
[4,87]
[4,88]
[4,89]
[4,90]
[4,91]
[4,92]
[4,93]
[4,94]
[4,95]
[4,96]
[4,97]
[4,98]
[4,99]
[4,100]
[4,101]
[4,102]
[4,103]
[4,104]
[4,105]
[4,106]
[4,107]
[4,108]
[4,109]
[4,110]
[4,111]
[4,112]
[{"$f":"A515+1","v":4},113]
[4,114]
[4,115]
[4,116]
[4,117]
[4,118]
[4,119]
[4,120]
[4,121]
[4,122]
[4,123]
[4,124]
[4,125]
[4,126]
[4,127]
[4,128]
[4,129]
[4,130]
[4,131]
[4,132]
[4,133]
[4,134]
[4,135]
[4,136]
[4,137]
[4,138]
[4,139]
[4,140]
[4,141]
[4,142]
[4,143]
[4,144]
[4,145]
[4,146]
[4,147]
[4,148]
[4,149]
[4,150]
[4,151]
[4,152]
[4,153]
[4,154]
[4,155]
[4,156]
[4,157]
[4,158]
[4,159]
[4,160]
[4,161]
[4,162]
[4,163]
[4,164]
[4,165]
[4,166]
[4,167]
[4,168]
[4,169]
[4,170]
[4,171]
[4,172]
[4,173]
[4,174]
[4,175]
[4,176]
[{"$f":"A579+1","v":4},177]
[4,178]
[4,179]
[4,180]
[4,181]
[4,182]
[4,183]
[4,184]
[4,185]
[4,186]
[4,187]
[4,188]
[4,189]
[4,190]
[4,191]
[4,192]
[4,193]
[4,194]
[4,195]
[4,196]
[4,197]
[4,198]
[4,199]
[4,200]
[5,1]
[5,2]
[5,3]
[5,4]
[5,5]
[5,6]
[5,7]
[5,8]
[5,9]
[5,10]
[5,11]
[5,12]
[5,13]
[5,14]
[5,15]
[5,16]
[5,17]
[5,18]
[5,19]
[5,20]
[5,21]
[5,22]
[5,23]
[5,24]
[5,25]
[5,26]
[5,27]
[5,28]
[5,29]
[5,30]
[5,31]
[5,32]
[5,33]
[5,34]
[5,35]
[5,36]
[5,37]
[5,38]
[5,39]
[5,40]
[{"$f":"A643+1","v":5},41]
[5,42]
[5,43]
[5,44]
[5,45]
[5,46]
[5,47]
[5,48]
[5,49]
[5,50]
[5,51]
[5,52]
[5,53]
[5,54]
[5,55]
[5,56]
[5,57]
[5,58]
[5,59]
[5,60]
[5,61]
[5,62]
[5,63]
[5,64]
[5,65]
[5,66]
[5,67]
[5,68]
[5,69]
[5,70]
[5,71]
[5,72]
[5,73]
[5,74]
[5,75]
[5,76]
[5,77]
[5,78]
[5,79]
[5,80]
[5,81]
[5,82]
[5,83]
[5,84]
[5,85]
[5,86]
[5,87]
[5,88]
[5,89]
[5,90]
[5,91]
[5,92]
[5,93]
[5,94]
[5,95]
[5,96]
[5,97]
[5,98]
[5,99]
[5,100]
[5,101]
[5,102]
[5,103]
[5,104]
[{"$f":"A707+1","v":5},105]
[5,106]
[5,107]
[5,108]
[5,109]
[5,110]
[5,111]
[5,112]
[5,113]
[5,114]
[5,115]
[5,116]
[5,117]
[5,118]
[5,119]
[5,120]
[5,121]
[5,122]
[5,123]
[5,124]
[5,125]
[5,126]
[5,127]
[5,128]
[5,129]
[5,130]
[5,131]
[5,132]
[5,133]
[5,134]
[5,135]
[5,136]
[5,137]
[5,138]
[5,139]
[5,140]
[5,141]
[5,142]
[5,143]
[5,144]
[5,145]
[5,146]
[5,147]
[5,148]
[5,149]
[5,150]
[5,151]
[5,152]
[5,153]
[5,154]
[5,155]
[5,156]
[5,157]
[5,158]
[5,159]
[5,160]
[5,161]
[5,162]
[5,163]
[5,164]
[5,165]
[5,166]
[5,167]
[5,168]
[{"$f":"A771+1","v":5},169]
[5,170]
[5,171]
[5,172]
[5,173]
[5,174]
[5,175]
[5,176]
[5,177]
[5,178]
[5,179]
[5,180]
[5,181]
[5,182]
[5,183]
[5,184]
[5,185]
[5,186]
[5,187]
[5,188]
[5,189]
[5,190]
[5,191]
[5,192]
[5,193]
[5,194]
[5,195]
[5,196]
[5,197]
[5,198]
[5,199]
[5,200]
[6,1]
[6,2]
[6,3]
[6,4]
[6,5]
[6,6]
[6,7]
[6,8]
[6,9]
[6,10]
[6,11]
[6,12]
[6,13]
[6,14]
[6,15]
[6,16]
[6,17]
[6,18]
[6,19]
[6,20]
[6,21]
[6,22]
[6,23]
[6,24]
[6,25]
[6,26]
[6,27]
[6,28]
[6,29]
[6,30]
[6,31]
[6,32]
[{"$f":"A835+1","v":6},33]
[6,34]
[6,35]
[6,36]
[6,37]
[6,38]
[6,39]
[6,40]
[6,41]
[6,42]
[6,43]
[6,44]
[6,45]
[6,46]
[6,47]
[6,48]
[6,49]
[6,50]
[6,51]
[6,52]
[6,53]
[6,54]
[6,55]
[6,56]
[6,57]
[6,58]
[6,59]
[6,60]
[6,61]
[6,62]
[6,63]
[6,64]
[6,65]
[6,66]
[6,67]
[6,68]
[6,69]
[6,70]
[6,71]
[6,72]
[6,73]
[6,74]
[6,75]
[6,76]
[6,77]
[6,78]
[6,79]
[6,80]
[6,81]
[6,82]
[6,83]
[6,84]
[6,85]
[6,86]
[6,87]
[6,88]
[6,89]
[6,90]
[6,91]
[6,92]
[6,93]
[6,94]
[6,95]
[6,96]
[{"$f":"A899+1","v":6},97]
[6,98]
[6,99]
[6,100]
[6,101]
[6,102]
[6,103]
[6,104]
[6,105]
[6,106]
[6,107]
[6,108]
[6,109]
[6,110]
[6,111]
[6,112]
[6,113]
[6,114]
[6,115]
[6,116]
[6,117]
[6,118]
[6,119]
[6,120]
[6,121]
[6,122]
[6,123]
[6,124]
[6,125]
[6,126]
[6,127]
[6,128]
[6,129]
[6,130]
[6,131]
[6,132]
[6,133]
[6,134]
[6,135]
[6,136]
[6,137]
[6,138]
[6,139]
[6,140]
[6,141]
[6,142]
[6,143]
[6,144]
[6,145]
[6,146]
[6,147]
[6,148]
[6,149]
[6,150]
[6,151]
[6,152]
[6,153]
[6,154]
[6,155]
[6,156]
[6,157]
[6,158]
[6,159]
[6,160]
[{"$f":"A963+1","v":6},161]
[6,162]
[6,163]
[6,164]
[6,165]
[6,166]
[6,167]
[6,168]
[6,169]
[6,170]
[6,171]
[6,172]
[6,173]
[6,174]
[6,175]
[6,176]
[6,177]
[6,178]
[6,179]
[6,180]
[6,181]
[6,182]
[6,183]
[6,184]
[6,185]
[6,186]
[6,187]
[6,188]
[6,189]
[6,190]
[6,191]
[6,192]
[6,193]
[6,194]
[6,195]
[6,196]
[6,197]
[6,198]
[6,199]
[6,200]
[7,1]
[7,2]
[7,3]
[7,4]
[7,5]
[7,6]
[7,7]
[7,8]
[7,9]
[7,10]
[7,11]
[7,12]
[7,13]
[7,14]
[7,15]
[7,16]
[7,17]
[7,18]
[7,19]
[7,20]
[7,21]
[7,22]
[7,23]
[7,24]
[{"$f":"A1027+1","v":7},25]
[7,26]
[7,27]
[7,28]
[7,29]
[7,30]
[7,31]
[7,32]
[7,33]
[7,34]
[7,35]
[7,36]
[7,37]
[7,38]
[7,39]
[7,40]
[7,41]
[7,42]
[7,43]
[7,44]
[7,45]
[7,46]
[7,47]
[7,48]
[7,49]
[7,50]
[7,51]
[7,52]
[7,53]
[7,54]
[7,55]
[7,56]
[7,57]
[7,58]
[7,59]
[7,60]
[7,61]
[7,62]
[7,63]
[7,64]
[7,65]
[7,66]
[7,67]
[7,68]
[7,69]
[7,70]
[7,71]
[7,72]
[7,73]
[7,74]
[7,75]
[7,76]
[7,77]
[7,78]
[7,79]
[7,80]
[7,81]
[7,82]
[7,83]
[7,84]
[7,85]
[7,86]
[7,87]
[7,88]
[{"$f":"A1091+1","v":7},89]
[7,90]
[7,91]
[7,92]
[7,93]
[7,94]
[7,95]
[7,96]
[7,97]
[7,98]
[7,99]
[7,100]
[7,101]
[7,102]
[7,103]
[7,104]
[7,105]
[7,106]
[7,107]
[7,108]
[7,109]
[7,110]
[7,111]
[7,112]
[7,113]
[7,114]
[7,115]
[7,116]
[7,117]
[7,118]
[7,119]
[7,120]
[7,121]
[7,122]
[7,123]
[7,124]
[7,125]
[7,126]
[7,127]
[7,128]
[7,129]
[7,130]
[7,131]
[7,132]
[7,133]
[7,134]
[7,135]
[7,136]
[7,137]
[7,138]
[7,139]
[7,140]
[7,141]
[7,142]
[7,143]
[7,144]
[7,145]
[7,146]
[7,147]
[7,148]
[7,149]
[7,150]
[7,151]
[7,152]
[{"$f":"A1155+1","v":7},153]
[7,154]
[7,155]
[7,156]
[7,157]
[7,158]
[7,159]
[7,160]
[7,161]
[7,162]
[7,163]
[7,164]
[7,165]
[7,166]
[7,167]
[7,168]
[7,169]
[7,170]
[7,171]
[7,172]
[7,173]
[7,174]
[7,175]
[7,176]
[7,177]
[7,178]
[7,179]
[7,180]
[7,181]
[7,182]
[7,183]
[7,184]
[7,185]
[7,186]
[7,187]
[7,188]
[7,189]
[7,190]
[7,191]
[7,192]
[7,193]
[7,194]
[7,195]
[7,196]
[7,197]
[7,198]
[7,199]
[7,200]
[8,1]
[8,2]
[8,3]
[8,4]
[8,5]
[8,6]
[8,7]
[8,8]
[8,9]
[8,10]
[8,11]
[8,12]
[8,13]
[8,14]
[8,15]
[8,16]
[{"$f":"A1219+1","v":8},17]
[8,18]
[8,19]
[8,20]
[8,21]
[8,22]
[8,23]
[8,24]
[8,25]
[8,26]
[8,27]
[8,28]
[8,29]
[8,30]
[8,31]
[8,32]
[8,33]
[8,34]
[8,35]
[8,36]
[8,37]
[8,38]
[8,39]
[8,40]
[8,41]
[8,42]
[8,43]
[8,44]
[8,45]
[8,46]
[8,47]
[8,48]
[8,49]
[8,50]
[8,51]
[8,52]
[8,53]
[8,54]
[8,55]
[8,56]
[8,57]
[8,58]
[8,59]
[8,60]
[8,61]
[8,62]
[8,63]
[8,64]
[8,65]
[8,66]
[8,67]
[8,68]
[8,69]
[8,70]
[8,71]
[8,72]
[8,73]
[8,74]
[8,75]
[8,76]
[8,77]
[8,78]
[8,79]
[8,80]
[{"$f":"A1283+1","v":8},81]
[8,82]
[8,83]
[8,84]
[8,85]
[8,86]
[8,87]
[8,88]
[8,89]
[8,90]
[8,91]
[8,92]
[8,93]
[8,94]
[8,95]
[8,96]
[8,97]
[8,98]
[8,99]
[8,100]
[8,101]
[8,102]
[8,103]
[8,104]
[8,105]
[8,106]
[8,107]
[8,108]
[8,109]
[8,110]
[8,111]
[8,112]
[8,113]
[8,114]
[8,115]
[8,116]
[8,117]
[8,118]
[8,119]
[8,120]
[8,121]
[8,122]
[8,123]
[8,124]
[8,125]
[8,126]
[8,127]
[8,128]
[8,129]
[8,130]
[8,131]
[8,132]
[8,133]
[8,134]
[8,135]
[8,136]
[8,137]
[8,138]
[8,139]
[8,140]
[8,141]
[8,142]
[8,143]
[8,144]
[{"$f":"A1347+1","v":8},145]
[8,146]
[8,147]
[8,148]
[8,149]
[8,150]
[8,151]
[8,152]
[8,153]
[8,154]
[8,155]
[8,156]
[8,157]
[8,158]
[8,159]
[8,160]
[8,161]
[8,162]
[8,163]
[8,164]
[8,165]
[8,166]
[8,167]
[8,168]
[8,169]
[8,170]
[8,171]
[8,172]
[8,173]
[8,174]
[8,175]
[8,176]
[8,177]
[8,178]
[8,179]
[8,180]
[8,181]
[8,182]
[8,183]
[8,184]
[8,185]
[8,186]
[8,187]
[8,188]
[8,189]
[8,190]
[8,191]
[8,192]
[8,193]
[8,194]
[8,195]
[8,196]
[8,197]
[8,198]
[8,199]
[8,200]
[9,1]
[9,2]
[9,3]
[9,4]
[9,5]
[9,6]
[9,7]
[9,8]
[{"$f":"A1411+1","v":9},9]
[9,10]
[9,11]
[9,12]
[9,13]
[9,14]
[9,15]
[9,16]
[9,17]
[9,18]
[9,19]
[9,20]
[9,21]
[9,22]
[9,23]
[9,24]
[9,25]
[9,26]
[9,27]
[9,28]
[9,29]
[9,30]
[9,31]
[9,32]
[9,33]
[9,34]
[9,35]
[9,36]
[9,37]
[9,38]
[9,39]
[9,40]
[9,41]
[9,42]
[9,43]
[9,44]
[9,45]
[9,46]
[9,47]
[9,48]
[9,49]
[9,50]
[9,51]
[9,52]
[9,53]
[9,54]
[9,55]
[9,56]
[9,57]
[9,58]
[9,59]
[9,60]
[9,61]
[9,62]
[9,63]
[9,64]
[9,65]
[9,66]
[9,67]
[9,68]
[9,69]
[9,70]
[9,71]
[9,72]
[{"$f":"A1475+1","v":9},73]
[9,74]
[9,75]
[9,76]
[9,77]
[9,78]
[9,79]
[9,80]
[9,81]
[9,82]
[9,83]
[9,84]
[9,85]
[9,86]
[9,87]
[9,88]
[9,89]
[9,90]
[9,91]
[9,92]
[9,93]
[9,94]
[9,95]
[9,96]
[9,97]
[9,98]
[9,99]
[9,100]
[9,101]
[9,102]
[9,103]
[9,104]
[9,105]
[9,106]
[9,107]
[9,108]
[9,109]
[9,110]
[9,111]
[9,112]
[9,113]
[9,114]
[9,115]
[9,116]
[9,117]
[9,118]
[9,119]
[9,120]
[9,121]
[9,122]
[9,123]
[9,124]
[9,125]
[9,126]
[9,127]
[9,128]
[9,129]
[9,130]
[9,131]
[9,132]
[9,133]
[9,134]
[9,135]
[9,136]
[{"$f":"A1539+1","v":9},137]
[9,138]
[9,139]
[9,140]
[9,141]
[9,142]
[9,143]
[9,144]
[9,145]
[9,146]
[9,147]
[9,148]
[9,149]
[9,150]
[9,151]
[9,152]
[9,153]
[9,154]
[9,155]
[9,156]
[9,157]
[9,158]
[9,159]
[9,160]
[9,161]
[9,162]
[9,163]
[9,164]
[9,165]
[9,166]
[9,167]
[9,168]
[9,169]
[9,170]
[9,171]
[9,172]
[9,173]
[9,174]
[9,175]
[9,176]
[9,177]
[9,178]
[9,179]
[9,180]
[9,181]
[9,182]
[9,183]
[9,184]
[9,185]
[9,186]
[9,187]
[9,188]
[9,189]
[9,190]
[9,191]
[9,192]
[9,193]
[9,194]
[9,195]
[9,196]
[9,197]
[9,198]
[9,199]
[9,200]
[{"$f":"A1603+1","v":10},1]
[10,2]
[10,3]
[10,4]
[10,5]
[10,6]
[10,7]
[10,8]
[10,9]
[10,10]
[10,11]
[10,12]
[10,13]
[10,14]
[10,15]
[10,16]
[10,17]
[10,18]
[10,19]
[10,20]
[10,21]
[10,22]
[10,23]
[10,24]
[10,25]
[10,26]
[10,27]
[10,28]
[10,29]
[10,30]
[10,31]
[10,32]
[10,33]
[10,34]
[10,35]
[10,36]
[10,37]
[10,38]
[10,39]
[10,40]
[10,41]
[10,42]
[10,43]
[10,44]
[10,45]
[10,46]
[10,47]
[10,48]
[10,49]
[10,50]
[10,51]
[10,52]
[10,53]
[10,54]
[10,55]
[10,56]
[10,57]
[10,58]
[10,59]
[10,60]
[10,61]
[10,62]
[10,63]
[10,64]
[{"$f":"A1667+1","v":10},65]
[10,66]
[10,67]
[10,68]
[10,69]
[10,70]
[10,71]
[10,72]
[10,73]
[10,74]
[10,75]
[10,76]
[10,77]
[10,78]
[10,79]
[10,80]
[10,81]
[10,82]
[10,83]
[10,84]
[10,85]
[10,86]
[10,87]
[10,88]
[10,89]
[10,90]
[10,91]
[10,92]
[10,93]
[10,94]
[10,95]
[10,96]
[10,97]
[10,98]
[10,99]
[10,100]
[10,101]
[10,102]
[10,103]
[10,104]
[10,105]
[10,106]
[10,107]
[10,108]
[10,109]
[10,110]
[10,111]
[10,112]
[10,113]
[10,114]
[10,115]
[10,116]
[10,117]
[10,118]
[10,119]
[10,120]
[10,121]
[10,122]
[10,123]
[10,124]
[10,125]
[10,126]
[10,127]
[10,128]
[{"$f":"A1731+1","v":10},129]
[10,130]
[10,131]
[10,132]
[10,133]
[10,134]
[10,135]
[10,136]
[10,137]
[10,138]
[10,139]
[10,140]
[10,141]
[10,142]
[10,143]
[10,144]
[10,145]
[10,146]
[10,147]
[10,148]
[10,149]
[10,150]
[10,151]
[10,152]
[10,153]
[10,154]
[10,155]
[10,156]
[10,157]
[10,158]
[10,159]
[10,160]
[10,161]
[10,162]
[10,163]
[10,164]
[10,165]
[10,166]
[10,167]
[10,168]
[10,169]
[10,170]
[10,171]
[10,172]
[10,173]
[10,174]
[10,175]
[10,176]
[10,177]
[10,178]
[10,179]
[10,180]
[10,181]
[10,182]
[10,183]
[10,184]
[10,185]
[10,186]
[10,187]
[10,188]
[10,189]
[10,190]
[10,191]
[10,192]
[{"$f":"A1795+1","v":10},193]
[10,194]
[10,195]
[10,196]
[10,197]
[10,198]
[10,199]
[10,200]
[11,1]
[11,2]
[11,3]
[11,4]
[11,5]
[11,6]
[11,7]
[11,8]
[11,9]
[11,10]
[11,11]
[11,12]
[11,13]
[11,14]
[11,15]
[11,16]
[11,17]
[11,18]
[11,19]
[11,20]
[11,21]
[11,22]
[11,23]
[11,24]
[11,25]
[11,26]
[11,27]
[11,28]
[11,29]
[11,30]
[11,31]
[11,32]
[11,33]
[11,34]
[11,35]
[11,36]
[11,37]
[11,38]
[11,39]
[11,40]
[11,41]
[11,42]
[11,43]
[11,44]
[11,45]
[11,46]
[11,47]
[11,48]
[11,49]
[11,50]
[11,51]
[11,52]
[11,53]
[11,54]
[11,55]
[11,56]
[{"$f":"A1859+1","v":11},57]
[11,58]
[11,59]
[11,60]
[11,61]
[11,62]
[11,63]
[11,64]
[11,65]
[11,66]
[11,67]
[11,68]
[11,69]
[11,70]
[11,71]
[11,72]
[11,73]
[11,74]
[11,75]
[11,76]
[11,77]
[11,78]
[11,79]
[11,80]
[11,81]
[11,82]
[11,83]
[11,84]
[11,85]
[11,86]
[11,87]
[11,88]
[11,89]
[11,90]
[11,91]
[11,92]
[11,93]
[11,94]
[11,95]
[11,96]
[11,97]
[11,98]
[11,99]
[11,100]
[11,101]
[11,102]
[11,103]
[11,104]
[11,105]
[11,106]
[11,107]
[11,108]
[11,109]
[11,110]
[11,111]
[11,112]
[11,113]
[11,114]
[11,115]
[11,116]
[11,117]
[11,118]
[11,119]
[11,120]
[{"$f":"A1923+1","v":11},121]
[11,122]
[11,123]
[11,124]
[11,125]
[11,126]
[11,127]
[11,128]
[11,129]
[11,130]
[11,131]
[11,132]
[11,133]
[11,134]
[11,135]
[11,136]
[11,137]
[11,138]
[11,139]
[11,140]
[11,141]
[11,142]
[11,143]
[11,144]
[11,145]
[11,146]
[11,147]
[11,148]
[11,149]
[11,150]
[11,151]
[11,152]
[11,153]
[11,154]
[11,155]
[11,156]
[11,157]
[11,158]
[11,159]
[11,160]
[11,161]
[11,162]
[11,163]
[11,164]
[11,165]
[11,166]
[11,167]
[11,168]
[11,169]
[11,170]
[11,171]
[11,172]
[11,173]
[11,174]
[11,175]
[11,176]
[11,177]
[11,178]
[11,179]
[11,180]
[11,181]
[11,182]
[11,183]
[11,184]
[{"$f":"A1987+1","v":11},185]
[11,186]
[11,187]
[11,188]
[11,189]
[11,190]
[11,191]
[11,192]
[11,193]
[11,194]
[11,195]
[11,196]
[11,197]
[11,198]
[11,199]
[11,200]
[12,1]
[12,2]
[12,3]
[12,4]
[12,5]
[12,6]
[12,7]
[12,8]
[12,9]
[12,10]
[12,11]
[12,12]
[12,13]
[12,14]
[12,15]
[12,16]
[12,17]
[12,18]
[12,19]
[12,20]
[12,21]
[12,22]
[12,23]
[12,24]
[12,25]
[12,26]
[12,27]
[12,28]
[12,29]
[12,30]
[12,31]
[12,32]
[12,33]
[12,34]
[12,35]
[12,36]
[12,37]
[12,38]
[12,39]
[12,40]
[12,41]
[12,42]
[12,43]
[12,44]
[12,45]
[12,46]
[12,47]
[12,48]
[{"$f":"A2051+1","v":12},49]
[12,50]
[12,51]
[12,52]
[12,53]
[12,54]
[12,55]
[12,56]
[12,57]
[12,58]
[12,59]
[12,60]
[12,61]
[12,62]
[12,63]
[12,64]
[12,65]
[12,66]
[12,67]
[12,68]
[12,69]
[12,70]
[12,71]
[12,72]
[12,73]
[12,74]
[12,75]
[12,76]
[12,77]
[12,78]
[12,79]
[12,80]
[12,81]
[12,82]
[12,83]
[12,84]
[12,85]
[12,86]
[12,87]
[12,88]
[12,89]
[12,90]
[12,91]
[12,92]
[12,93]
[12,94]
[12,95]
[12,96]
[12,97]
[12,98]
[12,99]
[12,100]
[12,101]
[12,102]
[12,103]
[12,104]
[12,105]
[12,106]
[12,107]
[12,108]
[12,109]
[12,110]
[12,111]
[12,112]
[{"$f":"A2115+1","v":12},113]
[12,114]
[12,115]
[12,116]
[12,117]
[12,118]
[12,119]
[12,120]
[12,121]
[12,122]
[12,123]
[12,124]
[12,125]
[12,126]
[12,127]
[12,128]
[12,129]
[12,130]
[12,131]
[12,132]
[12,133]
[12,134]
[12,135]
[12,136]
[12,137]
[12,138]
[12,139]
[12,140]
[12,141]
[12,142]
[12,143]
[12,144]
[12,145]
[12,146]
[12,147]
[12,148]
[12,149]
[12,150]
[12,151]
[12,152]
[12,153]
[12,154]
[12,155]
[12,156]
[12,157]
[12,158]
[12,159]
[12,160]
[12,161]
[12,162]
[12,163]
[12,164]
[12,165]
[12,166]
[12,167]
[12,168]
[12,169]
[12,170]
[12,171]
[12,172]
[12,173]
[12,174]
[12,175]
[12,176]
[{"$f":"A2179+1","v":12},177]
[12,178]
[12,179]
[12,180]
[12,181]
[12,182]
[12,183]
[12,184]
[12,185]
[12,186]
[12,187]
[12,188]
[12,189]
[12,190]
[12,191]
[12,192]
[12,193]
[12,194]
[12,195]
[12,196]
[12,197]
[12,198]
[12,199]
[12,200]
[13,1]
[13,2]
[13,3]
[13,4]
[13,5]
[13,6]
[13,7]
[13,8]
[13,9]
[13,10]
[13,11]
[13,12]
[13,13]
[13,14]
[13,15]
[13,16]
[13,17]
[13,18]
[13,19]
[13,20]
[13,21]
[13,22]
[13,23]
[13,24]
[13,25]
[13,26]
[13,27]
[13,28]
[13,29]
[13,30]
[13,31]
[13,32]
[13,33]
[13,34]
[13,35]
[13,36]
[13,37]
[13,38]
[13,39]
[13,40]
[13,41]
[13,42]
[13,43]
[13,44]
[13,45]
[13,46]
[13,47]
[13,48]
[13,49]
[13,50]
[13,51]
[13,52]
[13,53]
[13,54]
[13,55]
[13,56]
[13,57]
[13,58]
[13,59]
[13,60]
[13,61]
[13,62]
[13,63]
[13,64]
[13,65]
[13,66]
[13,67]
[13,68]
[13,69]
[13,70]
[13,71]
[13,72]
[13,73]
[13,74]
[13,75]
[13,76]
[13,77]
[13,78]
[13,79]
[13,80]
[13,81]
[13,82]
[13,83]
[13,84]
[13,85]
[13,86]
[13,87]
[13,88]
[13,89]
[13,90]
[13,91]
[13,92]
[13,93]
[13,94]
[13,95]
[13,96]
[13,97]
[13,98]
[13,99]
[13,100]
[13,101]
[13,102]
[13,103]
[13,104]
[13,105]
[13,106]
[13,107]
[13,108]
[13,109]
[13,110]
[13,111]
[13,112]
[13,113]
[13,114]
[13,115]
[13,116]
[13,117]
[13,118]
[13,119]
[13,120]
[13,121]
[13,122]
[13,123]
[13,124]
[13,125]
[13,126]
[13,127]
[13,128]
[13,129]
[13,130]
[13,131]
[13,132]
[13,133]
[13,134]
[13,135]
[13,136]
[13,137]
[13,138]
[13,139]
[13,140]
[13,141]
[13,142]
[13,143]
[13,144]
[13,145]
[13,146]
[13,147]
[13,148]
[13,149]
[13,150]
[13,151]
[13,152]
[13,153]
[13,154]
[13,155]
[13,156]
[13,157]
[13,158]
[13,159]
[13,160]
[13,161]
[13,162]
[13,163]
[13,164]
[13,165]
[13,166]
[13,167]
[13,168]
[13,169]
[13,170]
[13,171]
[13,172]
[13,173]
[13,174]
[13,175]
[13,176]
[13,177]
[13,178]
[13,179]
[13,180]
[13,181]
[13,182]
[13,183]
[13,184]
[13,185]
[13,186]
[13,187]
[13,188]
[13,189]
[13,190]
[13,191]
[13,192]
[13,193]
[13,194]
[13,195]
[13,196]
[13,197]
[13,198]
[13,199]
[13,200]
[18,1]
[18,2]
[18,3]
[18,4]
[18,5]
[18,6]
[18,7]
[18,8]
[18,9]
[18,10]
[18,11]
[18,12]
[18,13]
[18,14]
[18,15]
[18,16]
[18,17]
[18,18]
[18,19]
[18,20]
[18,21]
[18,22]
[18,23]
[18,24]
[18,25]
[18,26]
[18,27]
[18,28]
[18,29]
[18,30]
[18,31]
[18,32]
[18,33]
[18,34]
[18,35]
[18,36]
[18,37]
[18,38]
[18,39]
[18,40]
[18,41]
[18,42]
[18,43]
[18,44]
[18,45]
[18,46]
[18,47]
[18,48]
[18,49]
[18,50]
[18,51]
[18,52]
[18,53]
[18,54]
[18,55]
[18,56]
[18,57]
[18,58]
[18,59]
[18,60]
[18,61]
[18,62]
[18,63]
[18,64]
[18,65]
[18,66]
[18,67]
[18,68]
[18,69]
[18,70]
[18,71]
[18,72]
[18,73]
[18,74]
[18,75]
[18,76]
[18,77]
[18,78]
[18,79]
[18,80]
[18,81]
[18,82]
[18,83]
[18,84]
[18,85]
[18,86]
[18,87]
[18,88]
[18,89]
[18,90]
[18,91]
[18,92]
[18,93]
[18,94]
[18,95]
[18,96]
[18,97]
[18,98]
[18,99]
[18,100]
[18,101]
[18,102]
[18,103]
[18,104]
[18,105]
[18,106]
[18,107]
[18,108]
[18,109]
[18,110]
[18,111]
[18,112]
[18,113]
[18,114]
[18,115]
[18,116]
[18,117]
[18,118]
[18,119]
[18,120]
[18,121]
[18,122]
[18,123]
[18,124]
[18,125]
[18,126]
[18,127]
[18,128]
[18,129]
[18,130]
[18,131]
[18,132]
[18,133]
[18,134]
[18,135]
[18,136]
[18,137]
[18,138]
[18,139]
[18,140]
[18,141]
[18,142]
[18,143]
[18,144]
[18,145]
[18,146]
[18,147]
[18,148]
[18,149]
[18,150]
[18,151]
[18,152]
[18,153]
[18,154]
[18,155]
[18,156]
[18,157]
[18,158]
[18,159]
[18,160]
[18,161]
[18,162]
[18,163]
[18,164]
[18,165]
[18,166]
[18,167]
[18,168]
[18,169]
[18,170]
[18,171]
[18,172]
[18,173]
[18,174]
[18,175]
[18,176]
[18,177]
[18,178]
[18,179]
[18,180]
[18,181]
[18,182]
[18,183]
[18,184]
[18,185]
[18,186]
[18,187]
[18,188]
[18,189]
[18,190]
[18,191]
[18,192]
[18,193]
[18,194]
[18,195]
[18,196]
[18,197]
[18,198]
[18,199]
[18,200]

{"sheet":"Backsheet","index":7,"n_rows":201,"n_cols":44,"rows_kept":201,"cut":false,"hidden":true,"merged":[]}
["Site Code:K","Site Name","Ward","Specialty 1","Specialty 2","Day Nurse Plan:N","Day Nurse Actual:N","Day Care Plan:N","Day Care Actual:N","Day Reg Assoc Plan:N","Day Reg Assoc Actual:N","Day Reg Non Assoc Plan:N","Day Reg Non Assoc Actual:N","Night Nurse Plan:N","Night Nurse Actual:N","Night Care Plan:N","Night Care Actual:N","Night Reg Assoc Plan:N","Night Reg Assoc Actual:N","Night Reg Non Assoc Plan:N","Night Reg Non Assoc Actual:N","Registered AHP Plan:N","Registered AHP Actual:N","Non-registered AHP Plan:N","Non-registered AHP Actual:N","Day Nurse Fill Rate:N","Day Care Fill Rate:N","Day Reg Assoc Fill Rate:N","Day Non Reg Assoc Fill Rate:N","Night Nurse Fill Rate:N","Night Care Fill Rate:N","Night Reg Assoc Fill Rate:N","Night Non Reg Assoc Fill Rate:N","Registered AHP Fill Rate:N","Non-Registered AHP Fill Rate:N","Total Patients (CHPPD):N","Nurse CHPPD:N","Care CHPPD:N","Reg Nursing Assoc CHPPD:N","Non Reg Nursing Assoc CHPPD:N","Registered AHP CHPPD:N","Non-registered AHP CHPPD:N","Overall CHPPD:N","Url Staffing Url"]
[{"$f":"IF('Trust - Frontsheet'!D14=0,\"\",IF('Trust - Frontsheet'!D14=\"\",\"\",'Trust - Frontsheet'!D14))","v":"RWG02"},{"$f":"IF(ISBLANK('Trust - Frontsheet'!E14),\"\",'Trust - Frontsheet'!E14)","v":"WATFORD GENERAL HOSPITAL"},{"$f":"IF(ISBLANK('Trust - Frontsheet'!F14),\"\",\"'\" & 'Trust - Frontsheet'!F14 & \"'\")","v":"'AAU Blue Level 1'"},{"$f":"IF(ISBLANK('Trust - Frontsheet'!G14),\"\",'Trust - Frontsheet'!G14)","v":"326 - ACUTE INTERNAL MEDICINE"},{"$f":"IF(ISBLANK('Trust - Frontsheet'!H14),\"\",'Trust - Frontsheet'!H14)","v":""},{"$f":"'Trust - Frontsheet'!I14","v":1069.5},{"$f":"'Trust - Frontsheet'!J14","v":943},{"$f":"'Trust - Frontsheet'!K14","v":708.75},{"$f":"'Trust - Frontsheet'!L14","v":857.5},{"$f":"'Trust - Frontsheet'!M14","v":0},{"$f":"'Trust - Frontsheet'!N14","v":0},{"$f":"'Trust - Frontsheet'!O14","v":0},{"$f":"'Trust - Frontsheet'!P14","v":0},{"$f":"'Trust - Frontsheet'!Q14","v":1069},{"$f":"'Trust - Frontsheet'!R14","v":1007.5},{"$f":"'Trust - Frontsheet'!S14","v":713},{"$f":"'Trust - Frontsheet'!T14","v":851},{"$f":"'Trust - Frontsheet'!U14","v":0},{"$f":"'Trust - Frontsheet'!V14","v":0},{"$f":"'Trust - Frontsheet'!W14","v":0},{"$f":"'Trust - Frontsheet'!X14","v":0},{"$f":"'Trust - Frontsheet'!Y14","v":0},{"$f":"'Trust - Frontsheet'!Z14","v":0},{"$f":"'Trust - Frontsheet'!AA14","v":0},{"$f":"'Trust - Frontsheet'!AB14","v":0},{"$f":"IF(OR('Trust - Frontsheet'!AK14=\"\",'Trust - Frontsheet'!AK14=\"-\"),0,('Trust - Frontsheet'!AK14))","v":0.88172043010752688},{"$f":"IF(OR('Trust - Frontsheet'!AL14=\"\",'Trust - Frontsheet'!AL14=\"-\"),0,('Trust - Frontsheet'!AL14))","v":1.2098765432098766},{"$f":"IF(OR('Trust - Frontsheet'!AM14=\"\",'Trust - Frontsheet'!AM14=\"-\"),0,('Trust - Frontsheet'!AM14))","v":0},{"$f":"IF(OR('Trust - Frontsheet'!AN14=\"\",'Trust - Frontsheet'!AN14=\"-\"),0,('Trust - Frontsheet'!AN14))","v":0},{"$f":"IF(OR('Trust - Frontsheet'!AO14=\"\",'Trust - Frontsheet'!AO14=\"-\"),0,('Trust - Frontsheet'!AO14))","v":0.94246959775491113},{"$f":"IF(OR('Trust - Frontsheet'!AP14=\"\",'Trust - Frontsheet'!AP14=\"-\"),0,('Trust - Frontsheet'!AP14))","v":1.1935483870967742},{"$f":"IF(OR('Trust - Frontsheet'!AQ14=\"\",'Trust - Frontsheet'!AQ14=\"-\"),0,('Trust - Frontsheet'!AQ14))","v":0},{"$f":"IF(OR('Trust - Frontsheet'!AR14=\"\",'Trust - Frontsheet'!AR14=\"-\"),0,('Trust - Frontsheet'!AR14))","v":0},{"$f":"IF(OR('Trust - Frontsheet'!AS14=\"\",'Trust - Frontsheet'!AS14=\"-\"),0,('Trust - Frontsheet'!AS14))","v":0},{"$f":"IF(OR('Trust - Frontsheet'!AT14=\"\",'Trust - Frontsheet'!AT14=\"-\"),0,('Trust - Frontsheet'!AT14))","v":0},{"$f":"'Trust - Frontsheet'!#REF!","v":{"$error":"#REF!"}},{"$f":"IF(OR('Trust - Frontsheet'!AD14=\"\",'Trust - Frontsheet'!AD14=\"-\"),0,('Trust - Frontsheet'!AD14))","v":0},{"$f":"IF(OR('Trust - Frontsheet'!AE14=\"\",'Trust - Frontsheet'!AE14=\"-\"),0,('Trust - Frontsheet'!AE14))","v":0},{"$f":"IF(OR('Trust - Frontsheet'!AF14=\"\",'Trust - Frontsheet'!AF14=\"-\"),0,('Trust - Frontsheet'!AF14))","v":0},{"$f":"IF(OR('Trust - Frontsheet'!AG14=\"\",'Trust - Frontsheet'!AG14=\"-\"),0,('Trust - Frontsheet'!AG14))","v":0},{"$f":"IF(OR('Trust - Frontsheet'!AH14=\"\",'Trust - Frontsheet'!AH14=\"-\"),0,('Trust - Frontsheet'!AH14))","v":0},{"$f":"IF(OR('Trust - Frontsheet'!AI14=\"\",'Trust - Frontsheet'!AI14=\"-\"),0,('Trust - Frontsheet'!AI14))","v":0},{"$f":"IF(OR('Trust - Frontsheet'!AJ14=\"\",'Trust - Frontsheet'!AJ14=\"-\"),0,('Trust - Frontsheet'!AJ14))","v":0},{"$f":"IF(A2=\"\",\"\",(IF(ISBLANK('Trust - Frontsheet'!F9),\"\",'Trust - Frontsheet'!F9)))","v":""}]
[{"$f":"IF('Trust - Frontsheet'!D15=0,\"\",IF('Trust - Frontsheet'!D15=\"\",\"\",'Trust - Frontsheet'!D15))","v":"RWG02"},{"$f":"IF(ISBLANK('Trust - Frontsheet'!E15),\"\",'Trust - Frontsheet'!E15)","v":"WATFORD GENERAL HOSPITAL"},{"$f":"IF(ISBLANK('Trust - Frontsheet'!F15),\"\",\"'\" & 'Trust - Frontsheet'!F15 & \"'\")","v":"'AAU Green Level 1'"},{"$f":"IF(ISBLANK('Trust - Frontsheet'!G15),\"\",'Trust - Frontsheet'!G15)","v":"326 - ACUTE INTERNAL MEDICINE"},{"$f":"IF(ISBLANK('Trust - Frontsheet'!H15),\"\",'Trust - Frontsheet'!H15)","v":""},{"$f":"'Trust - Frontsheet'!I15","v":1069.5},{"$f":"'Trust - Frontsheet'!J15","v":996.5},{"$f":"'Trust - Frontsheet'!K15","v":713},{"$f":"'Trust - Frontsheet'!L15","v":700.67},{"$f":"'Trust - Frontsheet'!M15","v":0},{"$f":"'Trust - Frontsheet'!N15","v":0},{"$f":"'Trust - Frontsheet'!O15","v":0},{"$f":"'Trust - Frontsheet'!P15","v":0},{"$f":"'Trust - Frontsheet'!Q15","v":1069.5},{"$f":"'Trust - Frontsheet'!R15","v":1081},{"$f":"'Trust - Frontsheet'!S15","v":712.25},{"$f":"'Trust - Frontsheet'!T15","v":689.25},{"$f":"'Trust - Frontsheet'!U15","v":0},{"$f":"'Trust - Frontsheet'!V15","v":0},{"$f":"'Trust - Frontsheet'!W15","v":0},{"$f":"'Trust - Frontsheet'!X15","v":0},{"$f":"'Trust - Frontsheet'!Y15","v":0},{"$f":"'Trust - Frontsheet'!Z15","v":0},{"$f":"'Trust - Frontsheet'!AA15","v":0},{"$f":"'Trust - Frontsheet'!AB15","v":0},{"$f":"IF(OR('Trust - Frontsheet'!AK15=\"\",'Trust - Frontsheet'!AK15=\"-\"),0,('Trust - Frontsheet'!AK15))","v":0.93174380551659652},{"$f":"IF(OR('Trust - Frontsheet'!AL15=\"\",'Trust - Frontsheet'!AL15=\"-\"),0,('Trust - Frontsheet'!AL15))","v":0.98270687237026644},{"$f":"IF(OR('Trust - Frontsheet'!AM15=\"\",'Trust - Frontsheet'!AM15=\"-\"),0,('Trust - Frontsheet'!AM15))","v":0},{"$f":"IF(OR('Trust - Frontsheet'!AN15=\"\",'Trust - Frontsheet'!AN15=\"-\"),0,('Trust - Frontsheet'!AN15))","v":0},{"$f":"IF(OR('Trust - Frontsheet'!AO15=\"\",'Trust - Frontsheet'!AO15=\"-\"),0,('Trust - Frontsheet'!AO15))","v":1.010752688172043},{"$f":"IF(OR('Trust - Frontsheet'!AP15=\"\",'Trust - Frontsheet'!AP15=\"-\"),0,('Trust - Frontsheet'!AP15))","v":0.96770796770796774},{"$f":"IF(OR('Trust - Frontsheet'!AQ15=\"\",'Trust - Frontsheet'!AQ15=\"-\"),0,('Trust - Frontsheet'!AQ15))","v":0},{"$f":"IF(OR('Trust - Frontsheet'!AR15=\"\",'Trust - Frontsheet'!AR15=\"-\"),0,('Trust - Frontsheet'!AR15))","v":0},{"$f":"IF(OR('Trust - Frontsheet'!AS15=\"\",'Trust - Frontsheet'!AS15=\"-\"),0,('Trust - Frontsheet'!AS15))","v":0},{"$f":"IF(OR('Trust - Frontsheet'!AT15=\"\",'Trust - Frontsheet'!AT15=\"-\"),0,('Trust - Frontsheet'!AT15))","v":0},{"$f":"'Trust - Frontsheet'!AC15","v":401},{"$f":"IF(OR('Trust - Frontsheet'!AD15=\"\",'Trust - Frontsheet'!AD15=\"-\"),0,('Trust - Frontsheet'!AD15))","v":5.1807980049875315},{"$f":"IF(OR('Trust - Frontsheet'!AE15=\"\",'Trust - Frontsheet'!AE15=\"-\"),0,('Trust - Frontsheet'!AE15))","v":3.4661346633416459},{"$f":"IF(OR('Trust - Frontsheet'!AF15=\"\",'Trust - Frontsheet'!AF15=\"-\"),0,('Trust - Frontsheet'!AF15))","v":0},{"$f":"IF(OR('Trust - Frontsheet'!AG15=\"\",'Trust - Frontsheet'!AG15=\"-\"),0,('Trust - Frontsheet'!AG15))","v":0},{"$f":"IF(OR('Trust - Frontsheet'!AH15=\"\",'Trust - Frontsheet'!AH15=\"-\"),0,('Trust - Frontsheet'!AH15))","v":0},{"$f":"IF(OR('Trust - Frontsheet'!AI15=\"\",'Trust - Frontsheet'!AI15=\"-\"),0,('Trust - Frontsheet'!AI15))","v":0},{"$f":"IF(OR('Trust - Frontsheet'!AJ15=\"\",'Trust - Frontsheet'!AJ15=\"-\"),0,('Trust - Frontsheet'!AJ15))","v":8.6469326683291765},{"$f":"IF(A3=\"\",\"\",(IF(ISBLANK('Trust - Frontsheet'!F9),\"\",'Trust - Frontsheet'!F9)))","v":""}]
[{"$f":"IF('Trust - Frontsheet'!D16=0,\"\",IF('Trust - Frontsheet'!D16=\"\",\"\",'Trust - Frontsheet'!D16))","v":"RWG02"},{"$f":"IF(ISBLANK('Trust - Frontsheet'!E16),\"\",'Trust - Frontsheet'!E16)","v":"WATFORD GENERAL HOSPITAL"},{"$f":"IF(ISBLANK('Trust - Frontsheet'!F16),\"\",\"'\" & 'Trust - Frontsheet'!F16 & \"'\")","v":"'AAU Yellow Level 1'"},{"$f":"IF(ISBLANK('Trust - Frontsheet'!G16),\"\",'Trust - Frontsheet'!G16)","v":"326 - ACUTE INTERNAL MEDICINE"},{"$f":"IF(ISBLANK('Trust - Frontsheet'!H16),\"\",'Trust - Frontsheet'!H16)","v":""},{"$f":"'Trust - Frontsheet'!I16","v":1069.5},{"$f":"'Trust - Frontsheet'!J16","v":971.91666666666663},{"$f":"'Trust - Frontsheet'!K16","v":713},{"$f":"'Trust - Frontsheet'!L16","v":712.25},{"$f":"'Trust - Frontsheet'!M16","v":0},{"$f":"'Trust - Frontsheet'!N16","v":0},{"$f":"'Trust - Frontsheet'!O16","v":0},{"$f":"'Trust - Frontsheet'!P16","v":0},{"$f":"'Trust - Frontsheet'!Q16","v":1069.5},{"$f":"'Trust - Frontsheet'!R16","v":1058},{"$f":"'Trust - Frontsheet'!S16","v":713},{"$f":"'Trust - Frontsheet'!T16","v":724.5},{"$f":"'Trust - Frontsheet'!U16","v":0},{"$f":"'Trust - Frontsheet'!V16","v":0},{"$f":"'Trust - Frontsheet'!W16","v":0},{"$f":"'Trust - Frontsheet'!X16","v":0},{"$f":"'Trust - Frontsheet'!Y16","v":0},{"$f":"'Trust - Frontsheet'!Z16","v":0},{"$f":"'Trust - Frontsheet'!AA16","v":0},{"$f":"'Trust - Frontsheet'!AB16","v":0},{"$f":"IF(OR('Trust - Frontsheet'!AK16=\"\",'Trust - Frontsheet'!AK16=\"-\"),0,('Trust - Frontsheet'!AK16))","v":0.90875798659809881},{"$f":"IF(OR('Trust - Frontsheet'!AL16=\"\",'Trust - Frontsheet'!AL16=\"-\"),0,('Trust - Frontsheet'!AL16))","v":0.99894810659186539},{"$f":"IF(OR('Trust - Frontsheet'!AM16=\"\",'Trust - Frontsheet'!AM16=\"-\"),0,('Trust - Frontsheet'!AM16))","v":0},{"$f":"IF(OR('Trust - Frontsheet'!AN16=\"\",'Trust - Frontsheet'!AN16=\"-\"),0,('Trust - Frontsheet'!AN16))","v":0},{"$f":"IF(OR('Trust - Frontsheet'!AO16=\"\",'Trust - Frontsheet'!AO16=\"-\"),0,('Trust - Frontsheet'!AO16))","v":0.989247311827957},{"$f":"IF(OR('Trust - Frontsheet'!AP16=\"\",'Trust - Frontsheet'!AP16=\"-\"),0,('Trust - Frontsheet'!AP16))","v":1.0161290322580645},{"$f":"IF(OR('Trust - Frontsheet'!AQ16=\"\",'Trust - Frontsheet'!AQ16=\"-\"),0,('Trust - Frontsheet'!AQ16))","v":0},{"$f":"IF(OR('Trust - Frontsheet'!AR16=\"\",'Trust - Frontsheet'!AR16=\"-\"),0,('Trust - Frontsheet'!AR16))","v":0},{"$f":"IF(OR('Trust - Frontsheet'!AS16=\"\",'Trust - Frontsheet'!AS16=\"-\"),0,('Trust - Frontsheet'!AS16))","v":0},{"$f":"IF(OR('Trust - Frontsheet'!AT16=\"\",'Trust - Frontsheet'!AT16=\"-\"),0,('Trust - Frontsheet'!AT16))","v":0},{"$f":"'Trust - Frontsheet'!AC16","v":407},{"$f":"IF(OR('Trust - Frontsheet'!AD16=\"\",'Trust - Frontsheet'!AD16=\"-\"),0,('Trust - Frontsheet'!AD16))","v":4.9875102375102367},{"$f":"IF(OR('Trust - Frontsheet'!AE16=\"\",'Trust - Frontsheet'!AE16=\"-\"),0,('Trust - Frontsheet'!AE16))","v":3.5300982800982803},{"$f":"IF(OR('Trust - Frontsheet'!AF16=\"\",'Trust - Frontsheet'!AF16=\"-\"),0,('Trust - Frontsheet'!AF16))","v":0},{"$f":"IF(OR('Trust - Frontsheet'!AG16=\"\",'Trust - Frontsheet'!AG16=\"-\"),0,('Trust - Frontsheet'!AG16))","v":0},{"$f":"IF(OR('Trust - Frontsheet'!AH16=\"\",'Trust - Frontsheet'!AH16=\"-\"),0,('Trust - Frontsheet'!AH16))","v":0},{"$f":"IF(OR('Trust - Frontsheet'!AI16=\"\",'Trust - Frontsheet'!AI16=\"-\"),0,('Trust - Frontsheet'!AI16))","v":0},{"$f":"IF(OR('Trust - Frontsheet'!AJ16=\"\",'Trust - Frontsheet'!AJ16=\"-\"),0,('Trust - Frontsheet'!AJ16))","v":8.517608517608517},{"$f":"IF(A4=\"\",\"\",(IF(ISBLANK('Trust - Frontsheet'!F9),\"\",'Trust - Frontsheet'!F9)))","v":""}]
[{"$f":"IF('Trust - Frontsheet'!D17=0,\"\",IF('Trust - Frontsheet'!D17=\"\",\"\",'Trust - Frontsheet'!D17))","v":"RWG02"},{"$f":"IF(ISBLANK('Trust - Frontsheet'!E17),\"\",'Trust - Frontsheet'!E17)","v":"WATFORD GENERAL HOSPITAL"},{"$f":"IF(ISBLANK('Trust - Frontsheet'!F17),\"\",\"'\" & 'Trust - Frontsheet'!F17 & \"'\")","v":"'AAU Purple Level 1'"},{"$f":"IF(ISBLANK('Trust - Frontsheet'!G17),\"\",'Trust - Frontsheet'!G17)","v":"326 - ACUTE INTERNAL MEDICINE"},{"$f":"IF(ISBLANK('Trust - Frontsheet'!H17),\"\",'Trust - Frontsheet'!H17)","v":""},{"$f":"'Trust - Frontsheet'!I17","v":1069.5},{"$f":"'Trust - Frontsheet'!J17","v":1058},{"$f":"'Trust - Frontsheet'!K17","v":713},{"$f":"'Trust - Frontsheet'!L17","v":784},{"$f":"'Trust - Frontsheet'!M17","v":0},{"$f":"'Trust - Frontsheet'!N17","v":0},{"$f":"'Trust - Frontsheet'!O17","v":0},{"$f":"'Trust - Frontsheet'!P17","v":0},{"$f":"'Trust - Frontsheet'!Q17","v":1069.5},{"$f":"'Trust - Frontsheet'!R17","v":1081},{"$f":"'Trust - Frontsheet'!S17","v":702},{"$f":"'Trust - Frontsheet'!T17","v":818.75},{"$f":"'Trust - Frontsheet'!U17","v":0},{"$f":"'Trust - Frontsheet'!V17","v":0},{"$f":"'Trust - Frontsheet'!W17","v":0},{"$f":"'Trust - Frontsheet'!X17","v":0},{"$f":"'Trust - Frontsheet'!Y17","v":0},{"$f":"'Trust - Frontsheet'!Z17","v":0},{"$f":"'Trust - Frontsheet'!AA17","v":0},{"$f":"'Trust - Frontsheet'!AB17","v":0},{"$f":"IF(OR('Trust - Frontsheet'!AK17=\"\",'Trust - Frontsheet'!AK17=\"-\"),0,('Trust - Frontsheet'!AK17))","v":0.989247311827957},{"$f":"IF(OR('Trust - Frontsheet'!AL17=\"\",'Trust - Frontsheet'!AL17=\"-\"),0,('Trust - Frontsheet'!AL17))","v":1.0995792426367461},{"$f":"IF(OR('Trust - Frontsheet'!AM17=\"\",'Trust - Frontsheet'!AM17=\"-\"),0,('Trust - Frontsheet'!AM17))","v":0},{"$f":"IF(OR('Trust - Frontsheet'!AN17=\"\",'Trust - Frontsheet'!AN17=\"-\"),0,('Trust - Frontsheet'!AN17))","v":0},{"$f":"IF(OR('Trust - Frontsheet'!AO17=\"\",'Trust - Frontsheet'!AO17=\"-\"),0,('Trust - Frontsheet'!AO17))","v":1.010752688172043},{"$f":"IF(OR('Trust - Frontsheet'!AP17=\"\",'Trust - Frontsheet'!AP17=\"-\"),0,('Trust - Frontsheet'!AP17))","v":1.1663105413105412},{"$f":"IF(OR('Trust - Frontsheet'!AQ17=\"\",'Trust - Frontsheet'!AQ17=\"-\"),0,('Trust - Frontsheet'!AQ17))","v":0},{"$f":"IF(OR('Trust - Frontsheet'!AR17=\"\",'Trust - Frontsheet'!AR17=\"-\"),0,('Trust - Frontsheet'!AR17))","v":0},{"$f":"IF(OR('Trust - Frontsheet'!AS17=\"\",'Trust - Frontsheet'!AS17=\"-\"),0,('Trust - Frontsheet'!AS17))","v":0},{"$f":"IF(OR('Trust - Frontsheet'!AT17=\"\",'Trust - Frontsheet'!AT17=\"-\"),0,('Trust - Frontsheet'!AT17))","v":0},{"$f":"'Trust - Frontsheet'!AC17","v":383},{"$f":"IF(OR('Trust - Frontsheet'!AD17=\"\",'Trust - Frontsheet'!AD17=\"-\"),0,('Trust - Frontsheet'!AD17))","v":5.584856396866841},{"$f":"IF(OR('Trust - Frontsheet'!AE17=\"\",'Trust - Frontsheet'!AE17=\"-\"),0,('Trust - Frontsheet'!AE17))","v":4.1847258485639687},{"$f":"IF(OR('Trust - Frontsheet'!AF17=\"\",'Trust - Frontsheet'!AF17=\"-\"),0,('Trust - Frontsheet'!AF17))","v":0},{"$f":"IF(OR('Trust - Frontsheet'!AG17=\"\",'Trust - Frontsheet'!AG17=\"-\"),0,('Trust - Frontsheet'!AG17))","v":0},{"$f":"IF(OR('Trust - Frontsheet'!AH17=\"\",'Trust - Frontsheet'!AH17=\"-\"),0,('Trust - Frontsheet'!AH17))","v":0},{"$f":"IF(OR('Trust - Frontsheet'!AI17=\"\",'Trust - Frontsheet'!AI17=\"-\"),0,('Trust - Frontsheet'!AI17))","v":0},{"$f":"IF(OR('Trust - Frontsheet'!AJ17=\"\",'Trust - Frontsheet'!AJ17=\"-\"),0,('Trust - Frontsheet'!AJ17))","v":9.7695822454308097},{"$f":"IF(A5=\"\",\"\",(IF(ISBLANK('Trust - Frontsheet'!F9),\"\",'Trust - Frontsheet'!F9)))","v":""}]
[{"$f":"IF('Trust - Frontsheet'!D18=0,\"\",IF('Trust - Frontsheet'!D18=\"\",\"\",'Trust - Frontsheet'!D18))","v":"RWG02"},{"$f":"IF(ISBLANK('Trust - Frontsheet'!E18),\"\",'Trust - Frontsheet'!E18)","v":"WATFORD GENERAL HOSPITAL"},{"$f":"IF(ISBLANK('Trust - Frontsheet'!F18),\"\",\"'\" & 'Trust - Frontsheet'!F18 & \"'\")","v":"'AAU Blue & Yellow Level 3'"},{"$f":"IF(ISBLANK('Trust - Frontsheet'!G18),\"\",'Trust - Frontsheet'!G18)","v":"326 - ACUTE INTERNAL MEDICINE"},{"$f":"IF(ISBLANK('Trust - Frontsheet'!H18),\"\",'Trust - Frontsheet'!H18)","v":""},{"$f":"'Trust - Frontsheet'!I18","v":2139},{"$f":"'Trust - Frontsheet'!J18","v":1894.0833333333333},{"$f":"'Trust - Frontsheet'!K18","v":2496},{"$f":"'Trust - Frontsheet'!L18","v":3125.25},{"$f":"'Trust - Frontsheet'!M18","v":0},{"$f":"'Trust - Frontsheet'!N18","v":0},{"$f":"'Trust - Frontsheet'!O18","v":0},{"$f":"'Trust - Frontsheet'!P18","v":0},{"$f":"'Trust - Frontsheet'!Q18","v":2139},{"$f":"'Trust - Frontsheet'!R18","v":2058.5},{"$f":"'Trust - Frontsheet'!S18","v":1069.5},{"$f":"'Trust - Frontsheet'!T18","v":1667.5},{"$f":"'Trust - Frontsheet'!U18","v":0},{"$f":"'Trust - Frontsheet'!V18","v":0},{"$f":"'Trust - Frontsheet'!W18","v":0},{"$f":"'Trust - Frontsheet'!X18","v":0},{"$f":"'Trust - Frontsheet'!Y18","v":0},{"$f":"'Trust - Frontsheet'!Z18","v":0},{"$f":"'Trust - Frontsheet'!AA18","v":0},{"$f":"'Trust - Frontsheet'!AB18","v":0},{"$f":"IF(OR('Trust - Frontsheet'!AK18=\"\",'Trust - Frontsheet'!AK18=\"-\"),0,('Trust - Frontsheet'!AK18))","v":0.88549945457378831},{"$f":"IF(OR('Trust - Frontsheet'!AL18=\"\",'Trust - Frontsheet'!AL18=\"-\"),0,('Trust - Frontsheet'!AL18))","v":1.2521033653846154},{"$f":"IF(OR('Trust - Frontsheet'!AM18=\"\",'Trust - Frontsheet'!AM18=\"-\"),0,('Trust - Frontsheet'!AM18))","v":0},{"$f":"IF(OR('Trust - Frontsheet'!AN18=\"\",'Trust - Frontsheet'!AN18=\"-\"),0,('Trust - Frontsheet'!AN18))","v":0},{"$f":"IF(OR('Trust - Frontsheet'!AO18=\"\",'Trust - Frontsheet'!AO18=\"-\"),0,('Trust - Frontsheet'!AO18))","v":0.9623655913978495},{"$f":"IF(OR('Trust - Frontsheet'!AP18=\"\",'Trust - Frontsheet'!AP18=\"-\"),0,('Trust - Frontsheet'!AP18))","v":1.5591397849462365},{"$f":"IF(OR('Trust - Frontsheet'!AQ18=\"\",'Trust - Frontsheet'!AQ18=\"-\"),0,('Trust - Frontsheet'!AQ18))","v":0},{"$f":"IF(OR('Trust - Frontsheet'!AR18=\"\",'Trust - Frontsheet'!AR18=\"-\"),0,('Trust - Frontsheet'!AR18))","v":0},{"$f":"IF(OR('Trust - Frontsheet'!AS18=\"\",'Trust - Frontsheet'!AS18=\"-\"),0,('Trust - Frontsheet'!AS18))","v":0},{"$f":"IF(OR('Trust - Frontsheet'!AT18=\"\",'Trust - Frontsheet'!AT18=\"-\"),0,('Trust - Frontsheet'!AT18))","v":0},{"$f":"'Trust - Frontsheet'!AC18","v":1103},{"$f":"IF(OR('Trust - Frontsheet'!AD18=\"\",'Trust - Frontsheet'!AD18=\"-\"),0,('Trust - Frontsheet'!AD18))","v":3.5834844363856146},{"$f":"IF(OR('Trust - Frontsheet'!AE18=\"\",'Trust - Frontsheet'!AE18=\"-\"),0,('Trust - Frontsheet'!AE18))","v":4.3451949229374431},{"$f":"IF(OR('Trust - Frontsheet'!AF18=\"\",'Trust - Frontsheet'!AF18=\"-\"),0,('Trust - Frontsheet'!AF18))","v":0},{"$f":"IF(OR('Trust - Frontsheet'!AG18=\"\",'Trust - Frontsheet'!AG18=\"-\"),0,('Trust - Frontsheet'!AG18))","v":0},{"$f":"IF(OR('Trust - Frontsheet'!AH18=\"\",'Trust - Frontsheet'!AH18=\"-\"),0,('Trust - Frontsheet'!AH18))","v":0},{"$f":"IF(OR('Trust - Frontsheet'!AI18=\"\",'Trust - Frontsheet'!AI18=\"-\"),0,('Trust - Frontsheet'!AI18))","v":0},{"$f":"IF(OR('Trust - Frontsheet'!AJ18=\"\",'Trust - Frontsheet'!AJ18=\"-\"),0,('Trust - Frontsheet'!AJ18))","v":7.9286793593230573},{"$f":"IF(A6=\"\",\"\",(IF(ISBLANK('Trust - Frontsheet'!F9),\"\",'Trust - Frontsheet'!F9)))","v":""}]
[{"$f":"IF('Trust - Frontsheet'!D19=0,\"\",IF('Trust - Frontsheet'!D19=\"\",\"\",'Trust - Frontsheet'!D19))","v":"RWG02"},{"$f":"IF(ISBLANK('Trust - Frontsheet'!E19),\"\",'Trust - Frontsheet'!E19)","v":"WATFORD GENERAL HOSPITAL"},{"$f":"IF(ISBLANK('Trust - Frontsheet'!F19),\"\",\"'\" & 'Trust - Frontsheet'!F19 & \"'\")","v":"'AAU Red Suite'"},{"$f":"IF(ISBLANK('Trust - Frontsheet'!G19),\"\",'Trust - Frontsheet'!G19)","v":"430 - GERIATRIC MEDICINE"},{"$f":"IF(ISBLANK('Trust - Frontsheet'!H19),\"\",'Trust - Frontsheet'!H19)","v":""},{"$f":"'Trust - Frontsheet'!I19","v":810.5},{"$f":"'Trust - Frontsheet'!J19","v":992},{"$f":"'Trust - Frontsheet'!K19","v":1068.25},{"$f":"'Trust - Frontsheet'!L19","v":991.75},{"$f":"'Trust - Frontsheet'!M19","v":0},{"$f":"'Trust - Frontsheet'!N19","v":0},{"$f":"'Trust - Frontsheet'!O19","v":0},{"$f":"'Trust - Frontsheet'!P19","v":0},{"$f":"'Trust - Frontsheet'!Q19","v":1069.5},{"$f":"'Trust - Frontsheet'!R19","v":1012},{"$f":"'Trust - Frontsheet'!S19","v":356.5},{"$f":"'Trust - Frontsheet'!T19","v":667},{"$f":"'Trust - Frontsheet'!U19","v":0},{"$f":"'Trust - Frontsheet'!V19","v":0},{"$f":"'Trust - Frontsheet'!W19","v":0},{"$f":"'Trust - Frontsheet'!X19","v":0},{"$f":"'Trust - Frontsheet'!Y19","v":0},{"$f":"'Trust - Frontsheet'!Z19","v":0},{"$f":"'Trust - Frontsheet'!AA19","v":0},{"$f":"'Trust - Frontsheet'!AB19","v":0},{"$f":"IF(OR('Trust - Frontsheet'!AK19=\"\",'Trust - Frontsheet'!AK19=\"-\"),0,('Trust - Frontsheet'!AK19))","v":1.2239358420727946},{"$f":"IF(OR('Trust - Frontsheet'!AL19=\"\",'Trust - Frontsheet'!AL19=\"-\"),0,('Trust - Frontsheet'!AL19))","v":0.92838754973086823},{"$f":"IF(OR('Trust - Frontsheet'!AM19=\"\",'Trust - Frontsheet'!AM19=\"-\"),0,('Trust - Frontsheet'!AM19))","v":0},{"$f":"IF(OR('Trust - Frontsheet'!AN19=\"\",'Trust - Frontsheet'!AN19=\"-\"),0,('Trust - Frontsheet'!AN19))","v":0},{"$f":"IF(OR('Trust - Frontsheet'!AO19=\"\",'Trust - Frontsheet'!AO19=\"-\"),0,('Trust - Frontsheet'!AO19))","v":0.94623655913978499},{"$f":"IF(OR('Trust - Frontsheet'!AP19=\"\",'Trust - Frontsheet'!AP19=\"-\"),0,('Trust - Frontsheet'!AP19))","v":1.8709677419354838},{"$f":"IF(OR('Trust - Frontsheet'!AQ19=\"\",'Trust - Frontsheet'!AQ19=\"-\"),0,('Trust - Frontsheet'!AQ19))","v":0},{"$f":"IF(OR('Trust - Frontsheet'!AR19=\"\",'Trust - Frontsheet'!AR19=\"-\"),0,('Trust - Frontsheet'!AR19))","v":0},{"$f":"IF(OR('Trust - Frontsheet'!AS19=\"\",'Trust - Frontsheet'!AS19=\"-\"),0,('Trust - Frontsheet'!AS19))","v":0},{"$f":"IF(OR('Trust - Frontsheet'!AT19=\"\",'Trust - Frontsheet'!AT19=\"-\"),0,('Trust - Frontsheet'!AT19))","v":0},{"$f":"'Trust - Frontsheet'!AC19","v":521},{"$f":"IF(OR('Trust - Frontsheet'!AD19=\"\",'Trust - Frontsheet'!AD19=\"-\"),0,('Trust - Frontsheet'!AD19))","v":3.8464491362763917},{"$f":"IF(OR('Trust - Frontsheet'!AE19=\"\",'Trust - Frontsheet'!AE19=\"-\"),0,('Trust - Frontsheet'!AE19))","v":3.1837811900191939},{"$f":"IF(OR('Trust - Frontsheet'!AF19=\"\",'Trust - Frontsheet'!AF19=\"-\"),0,('Trust - Frontsheet'!AF19))","v":0},{"$f":"IF(OR('Trust - Frontsheet'!AG19=\"\",'Trust - Frontsheet'!AG19=\"-\"),0,('Trust - Frontsheet'!AG19))","v":0},{"$f":"IF(OR('Trust - Frontsheet'!AH19=\"\",'Trust - Frontsheet'!AH19=\"-\"),0,('Trust - Frontsheet'!AH19))","v":0},{"$f":"IF(OR('Trust - Frontsheet'!AI19=\"\",'Trust - Frontsheet'!AI19=\"-\"),0,('Trust - Frontsheet'!AI19))","v":0},{"$f":"IF(OR('Trust - Frontsheet'!AJ19=\"\",'Trust - Frontsheet'!AJ19=\"-\"),0,('Trust - Frontsheet'!AJ19))","v":7.0302303262955856},{"$f":"IF(A7=\"\",\"\",(IF(ISBLANK('Trust - Frontsheet'!F9),\"\",'Trust - Frontsheet'!F9)))","v":""}]
[{"$f":"IF('Trust - Frontsheet'!D20=0,\"\",IF('Trust - Frontsheet'!D20=\"\",\"\",'Trust - Frontsheet'!D20))","v":"RWG02"},{"$f":"IF(ISBLANK('Trust - Frontsheet'!E20),\"\",'Trust - Frontsheet'!E20)","v":"WATFORD GENERAL HOSPITAL"},{"$f":"IF(ISBLANK('Trust - Frontsheet'!F20),\"\",\"'\" & 'Trust - Frontsheet'!F20 & \"'\")","v":"'Acute Stroke Unit'"},{"$f":"IF(ISBLANK('Trust - Frontsheet'!G20),\"\",'Trust - Frontsheet'!G20)","v":"328 - STROKE MEDICINE"},{"$f":"IF(ISBLANK('Trust - Frontsheet'!H20),\"\",'Trust - Frontsheet'!H20)","v":""},{"$f":"'Trust - Frontsheet'!I20","v":2358.6999999999998},{"$f":"'Trust - Frontsheet'!J20","v":2168.3666666666668},{"$f":"'Trust - Frontsheet'!K20","v":1425.5},{"$f":"'Trust - Frontsheet'!L20","v":1376.75},{"$f":"'Trust - Frontsheet'!M20","v":0},{"$f":"'Trust - Frontsheet'!N20","v":0},{"$f":"'Trust - Frontsheet'!O20","v":0},{"$f":"'Trust - Frontsheet'!P20","v":181.5},{"$f":"'Trust - Frontsheet'!Q20","v":2139},{"$f":"'Trust - Frontsheet'!R20","v":2093},{"$f":"'Trust - Frontsheet'!S20","v":1426},{"$f":"'Trust - Frontsheet'!T20","v":1518},{"$f":"'Trust - Frontsheet'!U20","v":0},{"$f":"'Trust - Frontsheet'!V20","v":0},{"$f":"'Trust - Frontsheet'!W20","v":0},{"$f":"'Trust - Frontsheet'!X20","v":34.5},{"$f":"'Trust - Frontsheet'!Y20","v":0},{"$f":"'Trust - Frontsheet'!Z20","v":0},{"$f":"'Trust - Frontsheet'!AA20","v":0},{"$f":"'Trust - Frontsheet'!AB20","v":0},{"$f":"IF(OR('Trust - Frontsheet'!AK20=\"\",'Trust - Frontsheet'!AK20=\"-\"),0,('Trust - Frontsheet'!AK20))","v":0.91930583230875773},{"$f":"IF(OR('Trust - Frontsheet'!AL20=\"\",'Trust - Frontsheet'!AL20=\"-\"),0,('Trust - Frontsheet'!AL20))","v":0.96580147316730969},{"$f":"IF(OR('Trust - Frontsheet'!AM20=\"\",'Trust - Frontsheet'!AM20=\"-\"),0,('Trust - Frontsheet'!AM20))","v":0},{"$f":"IF(OR('Trust - Frontsheet'!AN20=\"\",'Trust - Frontsheet'!AN20=\"-\"),0,('Trust - Frontsheet'!AN20))","v":0},{"$f":"IF(OR('Trust - Frontsheet'!AO20=\"\",'Trust - Frontsheet'!AO20=\"-\"),0,('Trust - Frontsheet'!AO20))","v":0.978494623655914},{"$f":"IF(OR('Trust - Frontsheet'!AP20=\"\",'Trust - Frontsheet'!AP20=\"-\"),0,('Trust - Frontsheet'!AP20))","v":1.064516129032258},{"$f":"IF(OR('Trust - Frontsheet'!AQ20=\"\",'Trust - Frontsheet'!AQ20=\"-\"),0,('Trust - Frontsheet'!AQ20))","v":0},{"$f":"IF(OR('Trust - Frontsheet'!AR20=\"\",'Trust - Frontsheet'!AR20=\"-\"),0,('Trust - Frontsheet'!AR20))","v":0},{"$f":"IF(OR('Trust - Frontsheet'!AS20=\"\",'Trust - Frontsheet'!AS20=\"-\"),0,('Trust - Frontsheet'!AS20))","v":0},{"$f":"IF(OR('Trust - Frontsheet'!AT20=\"\",'Trust - Frontsheet'!AT20=\"-\"),0,('Trust - Frontsheet'!AT20))","v":0},{"$f":"'Trust - Frontsheet'!AC20","v":971},{"$f":"IF(OR('Trust - Frontsheet'!AD20=\"\",'Trust - Frontsheet'!AD20=\"-\"),0,('Trust - Frontsheet'!AD20))","v":4.3886371438379674},{"$f":"IF(OR('Trust - Frontsheet'!AE20=\"\",'Trust - Frontsheet'!AE20=\"-\"),0,('Trust - Frontsheet'!AE20))","v":2.9812049433573637},{"$f":"IF(OR('Trust - Frontsheet'!AF20=\"\",'Trust - Frontsheet'!AF20=\"-\"),0,('Trust - Frontsheet'!AF20))","v":0},{"$f":"IF(OR('Trust - Frontsheet'!AG20=\"\",'Trust - Frontsheet'!AG20=\"-\"),0,('Trust - Frontsheet'!AG20))","v":0.22245108135942326},{"$f":"IF(OR('Trust - Frontsheet'!AH20=\"\",'Trust - Frontsheet'!AH20=\"-\"),0,('Trust - Frontsheet'!AH20))","v":0},{"$f":"IF(OR('Trust - Frontsheet'!AI20=\"\",'Trust - Frontsheet'!AI20=\"-\"),0,('Trust - Frontsheet'!AI20))","v":0},{"$f":"IF(OR('Trust - Frontsheet'!AJ20=\"\",'Trust - Frontsheet'!AJ20=\"-\"),0,('Trust - Frontsheet'!AJ20))","v":7.5922931685547548},{"$f":"IF(A8=\"\",\"\",(IF(ISBLANK('Trust - Frontsheet'!F9),\"\",'Trust - Frontsheet'!F9)))","v":""}]
[{"$f":"IF('Trust - Frontsheet'!D21=0,\"\",IF('Trust - Frontsheet'!D21=\"\",\"\",'Trust - Frontsheet'!D21))","v":"RWG02"},{"$f":"IF(ISBLANK('Trust - Frontsheet'!E21),\"\",'Trust - Frontsheet'!E21)","v":"WATFORD GENERAL HOSPITAL"},{"$f":"IF(ISBLANK('Trust - Frontsheet'!F21),\"\",\"'\" & 'Trust - Frontsheet'!F21 & \"'\")","v":"'Aldenham'"},{"$f":"IF(ISBLANK('Trust - Frontsheet'!G21),\"\",'Trust - Frontsheet'!G21)","v":"340 - RESPIRATORY MEDICINE"},{"$f":"IF(ISBLANK('Trust - Frontsheet'!H21),\"\",'Trust - Frontsheet'!H21)","v":""},{"$f":"'Trust - Frontsheet'!I21","v":1786.8333333333301},{"$f":"'Trust - Frontsheet'!J21","v":1638.3333333333333},{"$f":"'Trust - Frontsheet'!K21","v":1426},{"$f":"'Trust - Frontsheet'!L21","v":1299.5},{"$f":"'Trust - Frontsheet'!M21","v":0},{"$f":"'Trust - Frontsheet'!N21","v":0},{"$f":"'Trust - Frontsheet'!O21","v":0},{"$f":"'Trust - Frontsheet'!P21","v":0},{"$f":"'Trust - Frontsheet'!Q21","v":1426},{"$f":"'Trust - Frontsheet'!R21","v":1495},{"$f":"'Trust - Frontsheet'!S21","v":851},{"$f":"'Trust - Frontsheet'!T21","v":989},{"$f":"'Trust - Frontsheet'!U21","v":0},{"$f":"'Trust - Frontsheet'!V21","v":0},{"$f":"'Trust - Frontsheet'!W21","v":0},{"$f":"'Trust - Frontsheet'!X21","v":0},{"$f":"'Trust - Frontsheet'!Y21","v":0},{"$f":"'Trust - Frontsheet'!Z21","v":0},{"$f":"'Trust - Frontsheet'!AA21","v":0},{"$f":"'Trust - Frontsheet'!AB21","v":0},{"$f":"IF(OR('Trust - Frontsheet'!AK21=\"\",'Trust - Frontsheet'!AK21=\"-\"),0,('Trust - Frontsheet'!AK21))","v":0.91689208096259844},{"$f":"IF(OR('Trust - Frontsheet'!AL21=\"\",'Trust - Frontsheet'!AL21=\"-\"),0,('Trust - Frontsheet'!AL21))","v":0.91129032258064513},{"$f":"IF(OR('Trust - Frontsheet'!AM21=\"\",'Trust - Frontsheet'!AM21=\"-\"),0,('Trust - Frontsheet'!AM21))","v":0},{"$f":"IF(OR('Trust - Frontsheet'!AN21=\"\",'Trust - Frontsheet'!AN21=\"-\"),0,('Trust - Frontsheet'!AN21))","v":0},{"$f":"IF(OR('Trust - Frontsheet'!AO21=\"\",'Trust - Frontsheet'!AO21=\"-\"),0,('Trust - Frontsheet'!AO21))","v":1.0483870967741935},{"$f":"IF(OR('Trust - Frontsheet'!AP21=\"\",'Trust - Frontsheet'!AP21=\"-\"),0,('Trust - Frontsheet'!AP21))","v":1.1621621621621621},{"$f":"IF(OR('Trust - Frontsheet'!AQ21=\"\",'Trust - Frontsheet'!AQ21=\"-\"),0,('Trust - Frontsheet'!AQ21))","v":0},{"$f":"IF(OR('Trust - Frontsheet'!AR21=\"\",'Trust - Frontsheet'!AR21=\"-\"),0,('Trust - Frontsheet'!AR21))","v":0},{"$f":"IF(OR('Trust - Frontsheet'!AS21=\"\",'Trust - Frontsheet'!AS21=\"-\"),0,('Trust - Frontsheet'!AS21))","v":0},{"$f":"IF(OR('Trust - Frontsheet'!AT21=\"\",'Trust - Frontsheet'!AT21=\"-\"),0,('Trust - Frontsheet'!AT21))","v":0},{"$f":"'Trust - Frontsheet'!AC21","v":806},{"$f":"IF(OR('Trust - Frontsheet'!AD21=\"\",'Trust - Frontsheet'!AD21=\"-\"),0,('Trust - Frontsheet'!AD21))","v":3.8875103391232422},{"$f":"IF(OR('Trust - Frontsheet'!AE21=\"\",'Trust - Frontsheet'!AE21=\"-\"),0,('Trust - Frontsheet'!AE21))","v":2.8393300248138957},{"$f":"IF(OR('Trust - Frontsheet'!AF21=\"\",'Trust - Frontsheet'!AF21=\"-\"),0,('Trust - Frontsheet'!AF21))","v":0},{"$f":"IF(OR('Trust - Frontsheet'!AG21=\"\",'Trust - Frontsheet'!AG21=\"-\"),0,('Trust - Frontsheet'!AG21))","v":0},{"$f":"IF(OR('Trust - Frontsheet'!AH21=\"\",'Trust - Frontsheet'!AH21=\"-\"),0,('Trust - Frontsheet'!AH21))","v":0},{"$f":"IF(OR('Trust - Frontsheet'!AI21=\"\",'Trust - Frontsheet'!AI21=\"-\"),0,('Trust - Frontsheet'!AI21))","v":0},{"$f":"IF(OR('Trust - Frontsheet'!AJ21=\"\",'Trust - Frontsheet'!AJ21=\"-\"),0,('Trust - Frontsheet'!AJ21))","v":6.7268403639371375},{"$f":"IF(A9=\"\",\"\",(IF(ISBLANK('Trust - Frontsheet'!F9),\"\",'Trust - Frontsheet'!F9)))","v":""}]
[{"$f":"IF('Trust - Frontsheet'!D22=0,\"\",IF('Trust - Frontsheet'!D22=\"\",\"\",'Trust - Frontsheet'!D22))","v":"RWG02"},{"$f":"IF(ISBLANK('Trust - Frontsheet'!E22),\"\",'Trust - Frontsheet'!E22)","v":"WATFORD GENERAL HOSPITAL"},{"$f":"IF(ISBLANK('Trust - Frontsheet'!F22),\"\",\"'\" & 'Trust - Frontsheet'!F22 & \"'\")","v":"'Bluebell'"},{"$f":"IF(ISBLANK('Trust - Frontsheet'!G22),\"\",'Trust - Frontsheet'!G22)","v":"430 - GERIATRIC MEDICINE"},{"$f":"IF(ISBLANK('Trust - Frontsheet'!H22),\"\",'Trust - Frontsheet'!H22)","v":""},{"$f":"'Trust - Frontsheet'!I22","v":713},{"$f":"'Trust - Frontsheet'!J22","v":747.5},{"$f":"'Trust - Frontsheet'!K22","v":2139},{"$f":"'Trust - Frontsheet'!L22","v":1822.75},{"$f":"'Trust - Frontsheet'!M22","v":0},{"$f":"'Trust - Frontsheet'!N22","v":0},{"$f":"'Trust - Frontsheet'!O22","v":0},{"$f":"'Trust - Frontsheet'!P22","v":46},{"$f":"'Trust - Frontsheet'!Q22","v":713},{"$f":"'Trust - Frontsheet'!R22","v":920},{"$f":"'Trust - Frontsheet'!S22","v":2139},{"$f":"'Trust - Frontsheet'!T22","v":1667.5},{"$f":"'Trust - Frontsheet'!U22","v":0},{"$f":"'Trust - Frontsheet'!V22","v":0},{"$f":"'Trust - Frontsheet'!W22","v":0},{"$f":"'Trust - Frontsheet'!X22","v":103.5},{"$f":"'Trust - Frontsheet'!Y22","v":0},{"$f":"'Trust - Frontsheet'!Z22","v":0},{"$f":"'Trust - Frontsheet'!AA22","v":0},{"$f":"'Trust - Frontsheet'!AB22","v":0},{"$f":"IF(OR('Trust - Frontsheet'!AK22=\"\",'Trust - Frontsheet'!AK22=\"-\"),0,('Trust - Frontsheet'!AK22))","v":1.0483870967741935},{"$f":"IF(OR('Trust - Frontsheet'!AL22=\"\",'Trust - Frontsheet'!AL22=\"-\"),0,('Trust - Frontsheet'!AL22))","v":0.85215053763440862},{"$f":"IF(OR('Trust - Frontsheet'!AM22=\"\",'Trust - Frontsheet'!AM22=\"-\"),0,('Trust - Frontsheet'!AM22))","v":0},{"$f":"IF(OR('Trust - Frontsheet'!AN22=\"\",'Trust - Frontsheet'!AN22=\"-\"),0,('Trust - Frontsheet'!AN22))","v":0},{"$f":"IF(OR('Trust - Frontsheet'!AO22=\"\",'Trust - Frontsheet'!AO22=\"-\"),0,('Trust - Frontsheet'!AO22))","v":1.2903225806451613},{"$f":"IF(OR('Trust - Frontsheet'!AP22=\"\",'Trust - Frontsheet'!AP22=\"-\"),0,('Trust - Frontsheet'!AP22))","v":0.77956989247311825},{"$f":"IF(OR('Trust - Frontsheet'!AQ22=\"\",'Trust - Frontsheet'!AQ22=\"-\"),0,('Trust - Frontsheet'!AQ22))","v":0},{"$f":"IF(OR('Trust - Frontsheet'!AR22=\"\",'Trust - Frontsheet'!AR22=\"-\"),0,('Trust - Frontsheet'!AR22))","v":0},{"$f":"IF(OR('Trust - Frontsheet'!AS22=\"\",'Trust - Frontsheet'!AS22=\"-\"),0,('Trust - Frontsheet'!AS22))","v":0},{"$f":"IF(OR('Trust - Frontsheet'!AT22=\"\",'Trust - Frontsheet'!AT22=\"-\"),0,('Trust - Frontsheet'!AT22))","v":0},{"$f":"'Trust - Frontsheet'!AC22","v":463},{"$f":"IF(OR('Trust - Frontsheet'!AD22=\"\",'Trust - Frontsheet'!AD22=\"-\"),0,('Trust - Frontsheet'!AD22))","v":3.6015118790496761},{"$f":"IF(OR('Trust - Frontsheet'!AE22=\"\",'Trust - Frontsheet'!AE22=\"-\"),0,('Trust - Frontsheet'!AE22))","v":7.5383369330453567},{"$f":"IF(OR('Trust - Frontsheet'!AF22=\"\",'Trust - Frontsheet'!AF22=\"-\"),0,('Trust - Frontsheet'!AF22))","v":0},{"$f":"IF(OR('Trust - Frontsheet'!AG22=\"\",'Trust - Frontsheet'!AG22=\"-\"),0,('Trust - Frontsheet'!AG22))","v":0.32289416846652269},{"$f":"IF(OR('Trust - Frontsheet'!AH22=\"\",'Trust - Frontsheet'!AH22=\"-\"),0,('Trust - Frontsheet'!AH22))","v":0},{"$f":"IF(OR('Trust - Frontsheet'!AI22=\"\",'Trust - Frontsheet'!AI22=\"-\"),0,('Trust - Frontsheet'!AI22))","v":0},{"$f":"IF(OR('Trust - Frontsheet'!AJ22=\"\",'Trust - Frontsheet'!AJ22=\"-\"),0,('Trust - Frontsheet'!AJ22))","v":11.462742980561556},{"$f":"IF(A10=\"\",\"\",(IF(ISBLANK('Trust - Frontsheet'!F9),\"\",'Trust - Frontsheet'!F9)))","v":""}]
[{"$f":"IF('Trust - Frontsheet'!D23=0,\"\",IF('Trust - Frontsheet'!D23=\"\",\"\",'Trust - Frontsheet'!D23))","v":"RWG02"},{"$f":"IF(ISBLANK('Trust - Frontsheet'!E23),\"\",'Trust - Frontsheet'!E23)","v":"WATFORD GENERAL HOSPITAL"},{"$f":"IF(ISBLANK('Trust - Frontsheet'!F23),\"\",\"'\" & 'Trust - Frontsheet'!F23 & \"'\")","v":"'Cardiac Care'"},{"$f":"IF(ISBLANK('Trust - Frontsheet'!G23),\"\",'Trust - Frontsheet'!G23)","v":"320 - CARDIOLOGY"},{"$f":"IF(ISBLANK('Trust - Frontsheet'!H23),\"\",'Trust - Frontsheet'!H23)","v":""},{"$f":"'Trust - Frontsheet'!I23","v":2139},{"$f":"'Trust - Frontsheet'!J23","v":1966.5},{"$f":"'Trust - Frontsheet'!K23","v":713},{"$f":"'Trust - Frontsheet'!L23","v":747.5},{"$f":"'Trust - Frontsheet'!M23","v":0},{"$f":"'Trust - Frontsheet'!N23","v":0},{"$f":"'Trust - Frontsheet'!O23","v":0},{"$f":"'Trust - Frontsheet'!P23","v":0},{"$f":"'Trust - Frontsheet'!Q23","v":1782.25},{"$f":"'Trust - Frontsheet'!R23","v":1747.75},{"$f":"'Trust - Frontsheet'!S23","v":356.5},{"$f":"'Trust - Frontsheet'!T23","v":391},{"$f":"'Trust - Frontsheet'!U23","v":0},{"$f":"'Trust - Frontsheet'!V23","v":0},{"$f":"'Trust - Frontsheet'!W23","v":0},{"$f":"'Trust - Frontsheet'!X23","v":0},{"$f":"'Trust - Frontsheet'!Y23","v":0},{"$f":"'Trust - Frontsheet'!Z23","v":0},{"$f":"'Trust - Frontsheet'!AA23","v":0},{"$f":"'Trust - Frontsheet'!AB23","v":0},{"$f":"IF(OR('Trust - Frontsheet'!AK23=\"\",'Trust - Frontsheet'!AK23=\"-\"),0,('Trust - Frontsheet'!AK23))","v":0.91935483870967738},{"$f":"IF(OR('Trust - Frontsheet'!AL23=\"\",'Trust - Frontsheet'!AL23=\"-\"),0,('Trust - Frontsheet'!AL23))","v":1.0483870967741935},{"$f":"IF(OR('Trust - Frontsheet'!AM23=\"\",'Trust - Frontsheet'!AM23=\"-\"),0,('Trust - Frontsheet'!AM23))","v":0},{"$f":"IF(OR('Trust - Frontsheet'!AN23=\"\",'Trust - Frontsheet'!AN23=\"-\"),0,('Trust - Frontsheet'!AN23))","v":0},{"$f":"IF(OR('Trust - Frontsheet'!AO23=\"\",'Trust - Frontsheet'!AO23=\"-\"),0,('Trust - Frontsheet'!AO23))","v":0.98064244634591102},{"$f":"IF(OR('Trust - Frontsheet'!AP23=\"\",'Trust - Frontsheet'!AP23=\"-\"),0,('Trust - Frontsheet'!AP23))","v":1.096774193548387},{"$f":"IF(OR('Trust - Frontsheet'!AQ23=\"\",'Trust - Frontsheet'!AQ23=\"-\"),0,('Trust - Frontsheet'!AQ23))","v":0},{"$f":"IF(OR('Trust - Frontsheet'!AR23=\"\",'Trust - Frontsheet'!AR23=\"-\"),0,('Trust - Frontsheet'!AR23))","v":0},{"$f":"IF(OR('Trust - Frontsheet'!AS23=\"\",'Trust - Frontsheet'!AS23=\"-\"),0,('Trust - Frontsheet'!AS23))","v":0},{"$f":"IF(OR('Trust - Frontsheet'!AT23=\"\",'Trust - Frontsheet'!AT23=\"-\"),0,('Trust - Frontsheet'!AT23))","v":0},{"$f":"'Trust - Frontsheet'!AC14","v":398},{"$f":"IF(OR('Trust - Frontsheet'!AD23=\"\",'Trust - Frontsheet'!AD23=\"-\"),0,('Trust - Frontsheet'!AD23))","v":9.3322864321608048},{"$f":"IF(OR('Trust - Frontsheet'!AE23=\"\",'Trust - Frontsheet'!AE23=\"-\"),0,('Trust - Frontsheet'!AE23))","v":2.8605527638190953},{"$f":"IF(OR('Trust - Frontsheet'!AF23=\"\",'Trust - Frontsheet'!AF23=\"-\"),0,('Trust - Frontsheet'!AF23))","v":0},{"$f":"IF(OR('Trust - Frontsheet'!AG23=\"\",'Trust - Frontsheet'!AG23=\"-\"),0,('Trust - Frontsheet'!AG23))","v":0},{"$f":"IF(OR('Trust - Frontsheet'!AH23=\"\",'Trust - Frontsheet'!AH23=\"-\"),0,('Trust - Frontsheet'!AH23))","v":0},{"$f":"IF(OR('Trust - Frontsheet'!AI23=\"\",'Trust - Frontsheet'!AI23=\"-\"),0,('Trust - Frontsheet'!AI23))","v":0},{"$f":"IF(OR('Trust - Frontsheet'!AJ23=\"\",'Trust - Frontsheet'!AJ23=\"-\"),0,('Trust - Frontsheet'!AJ23))","v":12.1928391959799},{"$f":"IF(A11=\"\",\"\",(IF(ISBLANK('Trust - Frontsheet'!F9),\"\",'Trust - Frontsheet'!F9)))","v":""}]
[{"$f":"IF('Trust - Frontsheet'!D24=0,\"\",IF('Trust - Frontsheet'!D24=\"\",\"\",'Trust - Frontsheet'!D24))","v":"RWG02"},{"$f":"IF(ISBLANK('Trust - Frontsheet'!E24),\"\",'Trust - Frontsheet'!E24)","v":"WATFORD GENERAL HOSPITAL"},{"$f":"IF(ISBLANK('Trust - Frontsheet'!F24),\"\",\"'\" & 'Trust - Frontsheet'!F24 & \"'\")","v":"'Cassio'"},{"$f":"IF(ISBLANK('Trust - Frontsheet'!G24),\"\",'Trust - Frontsheet'!G24)","v":"301 - GASTROENTEROLOGY"},{"$f":"IF(ISBLANK('Trust - Frontsheet'!H24),\"\",'Trust - Frontsheet'!H24)","v":""},{"$f":"'Trust - Frontsheet'!I24","v":717.75},{"$f":"'Trust - Frontsheet'!J24","v":828.92},{"$f":"'Trust - Frontsheet'!K24","v":1075.75},{"$f":"'Trust - Frontsheet'!L24","v":980.08},{"$f":"'Trust - Frontsheet'!M24","v":0},{"$f":"'Trust - Frontsheet'!N24","v":0},{"$f":"'Trust - Frontsheet'!O24","v":0},{"$f":"'Trust - Frontsheet'!P24","v":74},{"$f":"'Trust - Frontsheet'!Q24","v":713},{"$f":"'Trust - Frontsheet'!R24","v":759},{"$f":"'Trust - Frontsheet'!S24","v":713},{"$f":"'Trust - Frontsheet'!T24","v":1046.5},{"$f":"'Trust - Frontsheet'!U24","v":0},{"$f":"'Trust - Frontsheet'!V24","v":0},{"$f":"'Trust - Frontsheet'!W24","v":0},{"$f":"'Trust - Frontsheet'!X24","v":11.5},{"$f":"'Trust - Frontsheet'!Y24","v":0},{"$f":"'Trust - Frontsheet'!Z24","v":0},{"$f":"'Trust - Frontsheet'!AA24","v":0},{"$f":"'Trust - Frontsheet'!AB24","v":0},{"$f":"IF(OR('Trust - Frontsheet'!AK24=\"\",'Trust - Frontsheet'!AK24=\"-\"),0,('Trust - Frontsheet'!AK24))","v":1.15488679902473},{"$f":"IF(OR('Trust - Frontsheet'!AL24=\"\",'Trust - Frontsheet'!AL24=\"-\"),0,('Trust - Frontsheet'!AL24))","v":0.91106669765280046},{"$f":"IF(OR('Trust - Frontsheet'!AM24=\"\",'Trust - Frontsheet'!AM24=\"-\"),0,('Trust - Frontsheet'!AM24))","v":0},{"$f":"IF(OR('Trust - Frontsheet'!AN24=\"\",'Trust - Frontsheet'!AN24=\"-\"),0,('Trust - Frontsheet'!AN24))","v":0},{"$f":"IF(OR('Trust - Frontsheet'!AO24=\"\",'Trust - Frontsheet'!AO24=\"-\"),0,('Trust - Frontsheet'!AO24))","v":1.064516129032258},{"$f":"IF(OR('Trust - Frontsheet'!AP24=\"\",'Trust - Frontsheet'!AP24=\"-\"),0,('Trust - Frontsheet'!AP24))","v":1.467741935483871},{"$f":"IF(OR('Trust - Frontsheet'!AQ24=\"\",'Trust - Frontsheet'!AQ24=\"-\"),0,('Trust - Frontsheet'!AQ24))","v":0},{"$f":"IF(OR('Trust - Frontsheet'!AR24=\"\",'Trust - Frontsheet'!AR24=\"-\"),0,('Trust - Frontsheet'!AR24))","v":0},{"$f":"IF(OR('Trust - Frontsheet'!AS24=\"\",'Trust - Frontsheet'!AS24=\"-\"),0,('Trust - Frontsheet'!AS24))","v":0},{"$f":"IF(OR('Trust - Frontsheet'!AT24=\"\",'Trust - Frontsheet'!AT24=\"-\"),0,('Trust - Frontsheet'!AT24))","v":0},{"$f":"'Trust - Frontsheet'!AC24","v":613},{"$f":"IF(OR('Trust - Frontsheet'!AD24=\"\",'Trust - Frontsheet'!AD24=\"-\"),0,('Trust - Frontsheet'!AD24))","v":2.5904078303425777},{"$f":"IF(OR('Trust - Frontsheet'!AE24=\"\",'Trust - Frontsheet'!AE24=\"-\"),0,('Trust - Frontsheet'!AE24))","v":3.3060032626427405},{"$f":"IF(OR('Trust - Frontsheet'!AF24=\"\",'Trust - Frontsheet'!AF24=\"-\"),0,('Trust - Frontsheet'!AF24))","v":0},{"$f":"IF(OR('Trust - Frontsheet'!AG24=\"\",'Trust - Frontsheet'!AG24=\"-\"),0,('Trust - Frontsheet'!AG24))","v":0.13947797716150082},{"$f":"IF(OR('Trust - Frontsheet'!AH24=\"\",'Trust - Frontsheet'!AH24=\"-\"),0,('Trust - Frontsheet'!AH24))","v":0},{"$f":"IF(OR('Trust - Frontsheet'!AI24=\"\",'Trust - Frontsheet'!AI24=\"-\"),0,('Trust - Frontsheet'!AI24))","v":0},{"$f":"IF(OR('Trust - Frontsheet'!AJ24=\"\",'Trust - Frontsheet'!AJ24=\"-\"),0,('Trust - Frontsheet'!AJ24))","v":6.0358890701468191},{"$f":"IF(A12=\"\",\"\",(IF(ISBLANK('Trust - Frontsheet'!F9),\"\",'Trust - Frontsheet'!F9)))","v":""}]
[{"$f":"IF('Trust - Frontsheet'!D25=0,\"\",IF('Trust - Frontsheet'!D25=\"\",\"\",'Trust - Frontsheet'!D25))","v":"RWG02"},{"$f":"IF(ISBLANK('Trust - Frontsheet'!E25),\"\",'Trust - Frontsheet'!E25)","v":"WATFORD GENERAL HOSPITAL"},{"$f":"IF(ISBLANK('Trust - Frontsheet'!F25),\"\",\"'\" & 'Trust - Frontsheet'!F25 & \"'\")","v":"'Croxley'"},{"$f":"IF(ISBLANK('Trust - Frontsheet'!G25),\"\",'Trust - Frontsheet'!G25)","v":"430 - GERIATRIC MEDICINE"},{"$f":"IF(ISBLANK('Trust - Frontsheet'!H25),\"\",'Trust - Frontsheet'!H25)","v":""},{"$f":"'Trust - Frontsheet'!I25","v":1060.9166666666699},{"$f":"'Trust - Frontsheet'!J25","v":1122},{"$f":"'Trust - Frontsheet'!K25","v":1780.25},{"$f":"'Trust - Frontsheet'!L25","v":1623.25},{"$f":"'Trust - Frontsheet'!M25","v":0},{"$f":"'Trust - Frontsheet'!N25","v":0},{"$f":"'Trust - Frontsheet'!O25","v":0},{"$f":"'Trust - Frontsheet'!P25","v":0},{"$f":"'Trust - Frontsheet'!Q25","v":1069.5},{"$f":"'Trust - Frontsheet'!R25","v":1219},{"$f":"'Trust - Frontsheet'!S25","v":1427},{"$f":"'Trust - Frontsheet'!T25","v":1496},{"$f":"'Trust - Frontsheet'!U25","v":0},{"$f":"'Trust - Frontsheet'!V25","v":0},{"$f":"'Trust - Frontsheet'!W25","v":0},{"$f":"'Trust - Frontsheet'!X25","v":0},{"$f":"'Trust - Frontsheet'!Y25","v":0},{"$f":"'Trust - Frontsheet'!Z25","v":0},{"$f":"'Trust - Frontsheet'!AA25","v":0},{"$f":"'Trust - Frontsheet'!AB25","v":0},{"$f":"IF(OR('Trust - Frontsheet'!AK25=\"\",'Trust - Frontsheet'!AK25=\"-\"),0,('Trust - Frontsheet'!AK25))","v":1.0575759956012849},{"$f":"IF(OR('Trust - Frontsheet'!AL25=\"\",'Trust - Frontsheet'!AL25=\"-\"),0,('Trust - Frontsheet'!AL25))","v":0.91181013902541774},{"$f":"IF(OR('Trust - Frontsheet'!AM25=\"\",'Trust - Frontsheet'!AM25=\"-\"),0,('Trust - Frontsheet'!AM25))","v":0},{"$f":"IF(OR('Trust - Frontsheet'!AN25=\"\",'Trust - Frontsheet'!AN25=\"-\"),0,('Trust - Frontsheet'!AN25))","v":0},{"$f":"IF(OR('Trust - Frontsheet'!AO25=\"\",'Trust - Frontsheet'!AO25=\"-\"),0,('Trust - Frontsheet'!AO25))","v":1.1397849462365592},{"$f":"IF(OR('Trust - Frontsheet'!AP25=\"\",'Trust - Frontsheet'!AP25=\"-\"),0,('Trust - Frontsheet'!AP25))","v":1.048353188507358},{"$f":"IF(OR('Trust - Frontsheet'!AQ25=\"\",'Trust - Frontsheet'!AQ25=\"-\"),0,('Trust - Frontsheet'!AQ25))","v":0},{"$f":"IF(OR('Trust - Frontsheet'!AR25=\"\",'Trust - Frontsheet'!AR25=\"-\"),0,('Trust - Frontsheet'!AR25))","v":0},{"$f":"IF(OR('Trust - Frontsheet'!AS25=\"\",'Trust - Frontsheet'!AS25=\"-\"),0,('Trust - Frontsheet'!AS25))","v":0},{"$f":"IF(OR('Trust - Frontsheet'!AT25=\"\",'Trust - Frontsheet'!AT25=\"-\"),0,('Trust - Frontsheet'!AT25))","v":0},{"$f":"'Trust - Frontsheet'!AC25","v":860},{"$f":"IF(OR('Trust - Frontsheet'!AD25=\"\",'Trust - Frontsheet'!AD25=\"-\"),0,('Trust - Frontsheet'!AD25))","v":2.7220930232558138},{"$f":"IF(OR('Trust - Frontsheet'!AE25=\"\",'Trust - Frontsheet'!AE25=\"-\"),0,('Trust - Frontsheet'!AE25))","v":3.6270348837209303},{"$f":"IF(OR('Trust - Frontsheet'!AF25=\"\",'Trust - Frontsheet'!AF25=\"-\"),0,('Trust - Frontsheet'!AF25))","v":0},{"$f":"IF(OR('Trust - Frontsheet'!AG25=\"\",'Trust - Frontsheet'!AG25=\"-\"),0,('Trust - Frontsheet'!AG25))","v":0},{"$f":"IF(OR('Trust - Frontsheet'!AH25=\"\",'Trust - Frontsheet'!AH25=\"-\"),0,('Trust - Frontsheet'!AH25))","v":0},{"$f":"IF(OR('Trust - Frontsheet'!AI25=\"\",'Trust - Frontsheet'!AI25=\"-\"),0,('Trust - Frontsheet'!AI25))","v":0},{"$f":"IF(OR('Trust - Frontsheet'!AJ25=\"\",'Trust - Frontsheet'!AJ25=\"-\"),0,('Trust - Frontsheet'!AJ25))","v":6.3491279069767446},{"$f":"IF(A13=\"\",\"\",(IF(ISBLANK('Trust - Frontsheet'!F9),\"\",'Trust - Frontsheet'!F9)))","v":""}]
[{"$f":"IF('Trust - Frontsheet'!D26=0,\"\",IF('Trust - Frontsheet'!D26=\"\",\"\",'Trust - Frontsheet'!D26))","v":"RWG02"},{"$f":"IF(ISBLANK('Trust - Frontsheet'!E26),\"\",'Trust - Frontsheet'!E26)","v":"WATFORD GENERAL HOSPITAL"},{"$f":"IF(ISBLANK('Trust - Frontsheet'!F26),\"\",\"'\" & 'Trust - Frontsheet'!F26 & \"'\")","v":"'Heronsgate & Gade'"},{"$f":"IF(ISBLANK('Trust - Frontsheet'!G26),\"\",'Trust - Frontsheet'!G26)","v":"302 - ENDOCRINOLOGY"},{"$f":"IF(ISBLANK('Trust - Frontsheet'!H26),\"\",'Trust - Frontsheet'!H26)","v":""},{"$f":"'Trust - Frontsheet'!I26","v":1589.5},{"$f":"'Trust - Frontsheet'!J26","v":1422.42},{"$f":"'Trust - Frontsheet'!K26","v":2139},{"$f":"'Trust - Frontsheet'!L26","v":2079.5},{"$f":"'Trust - Frontsheet'!M26","v":0},{"$f":"'Trust - Frontsheet'!N26","v":92},{"$f":"'Trust - Frontsheet'!O26","v":0},{"$f":"'Trust - Frontsheet'!P26","v":0},{"$f":"'Trust - Frontsheet'!Q26","v":1426},{"$f":"'Trust - Frontsheet'!R26","v":1414.5},{"$f":"'Trust - Frontsheet'!S26","v":1781.75},{"$f":"'Trust - Frontsheet'!T26","v":1954.25},{"$f":"'Trust - Frontsheet'!U26","v":0},{"$f":"'Trust - Frontsheet'!V26","v":0},{"$f":"'Trust - Frontsheet'!W26","v":0},{"$f":"'Trust - Frontsheet'!X26","v":0},{"$f":"'Trust - Frontsheet'!Y26","v":0},{"$f":"'Trust - Frontsheet'!Z26","v":0},{"$f":"'Trust - Frontsheet'!AA26","v":0},{"$f":"'Trust - Frontsheet'!AB26","v":0},{"$f":"IF(OR('Trust - Frontsheet'!AK26=\"\",'Trust - Frontsheet'!AK26=\"-\"),0,('Trust - Frontsheet'!AK26))","v":0.89488518402013217},{"$f":"IF(OR('Trust - Frontsheet'!AL26=\"\",'Trust - Frontsheet'!AL26=\"-\"),0,('Trust - Frontsheet'!AL26))","v":0.97218326320710613},{"$f":"IF(OR('Trust - Frontsheet'!AM26=\"\",'Trust - Frontsheet'!AM26=\"-\"),0,('Trust - Frontsheet'!AM26))","v":0},{"$f":"IF(OR('Trust - Frontsheet'!AN26=\"\",'Trust - Frontsheet'!AN26=\"-\"),0,('Trust - Frontsheet'!AN26))","v":0},{"$f":"IF(OR('Trust - Frontsheet'!AO26=\"\",'Trust - Frontsheet'!AO26=\"-\"),0,('Trust - Frontsheet'!AO26))","v":0.99193548387096775},{"$f":"IF(OR('Trust - Frontsheet'!AP26=\"\",'Trust - Frontsheet'!AP26=\"-\"),0,('Trust - Frontsheet'!AP26))","v":1.0968149291426967},{"$f":"IF(OR('Trust - Frontsheet'!AQ26=\"\",'Trust - Frontsheet'!AQ26=\"-\"),0,('Trust - Frontsheet'!AQ26))","v":0},{"$f":"IF(OR('Trust - Frontsheet'!AR26=\"\",'Trust - Frontsheet'!AR26=\"-\"),0,('Trust - Frontsheet'!AR26))","v":0},{"$f":"IF(OR('Trust - Frontsheet'!AS26=\"\",'Trust - Frontsheet'!AS26=\"-\"),0,('Trust - Frontsheet'!AS26))","v":0},{"$f":"IF(OR('Trust - Frontsheet'!AT26=\"\",'Trust - Frontsheet'!AT26=\"-\"),0,('Trust - Frontsheet'!AT26))","v":0},{"$f":"'Trust - Frontsheet'!AC26","v":1139},{"$f":"IF(OR('Trust - Frontsheet'!AD26=\"\",'Trust - Frontsheet'!AD26=\"-\"),0,('Trust - Frontsheet'!AD26))","v":2.4907111501316948},{"$f":"IF(OR('Trust - Frontsheet'!AE26=\"\",'Trust - Frontsheet'!AE26=\"-\"),0,('Trust - Frontsheet'!AE26))","v":3.5414837576821774},{"$f":"IF(OR('Trust - Frontsheet'!AF26=\"\",'Trust - Frontsheet'!AF26=\"-\"),0,('Trust - Frontsheet'!AF26))","v":8.0772607550482878E-2},{"$f":"IF(OR('Trust - Frontsheet'!AG26=\"\",'Trust - Frontsheet'!AG26=\"-\"),0,('Trust - Frontsheet'!AG26))","v":0},{"$f":"IF(OR('Trust - Frontsheet'!AH26=\"\",'Trust - Frontsheet'!AH26=\"-\"),0,('Trust - Frontsheet'!AH26))","v":0},{"$f":"IF(OR('Trust - Frontsheet'!AI26=\"\",'Trust - Frontsheet'!AI26=\"-\"),0,('Trust - Frontsheet'!AI26))","v":0},{"$f":"IF(OR('Trust - Frontsheet'!AJ26=\"\",'Trust - Frontsheet'!AJ26=\"-\"),0,('Trust - Frontsheet'!AJ26))","v":6.112967515364355},{"$f":"IF(A14=\"\",\"\",(IF(ISBLANK('Trust - Frontsheet'!F9),\"\",'Trust - Frontsheet'!F9)))","v":""}]
[{"$f":"IF('Trust - Frontsheet'!D27=0,\"\",IF('Trust - Frontsheet'!D27=\"\",\"\",'Trust - Frontsheet'!D27))","v":"RWG02"},{"$f":"IF(ISBLANK('Trust - Frontsheet'!E27),\"\",'Trust - Frontsheet'!E27)","v":"WATFORD GENERAL HOSPITAL"},{"$f":"IF(ISBLANK('Trust - Frontsheet'!F27),\"\",\"'\" & 'Trust - Frontsheet'!F27 & \"'\")","v":"'Oxhey'"},{"$f":"IF(ISBLANK('Trust - Frontsheet'!G27),\"\",'Trust - Frontsheet'!G27)","v":"326 - ACUTE INTERNAL MEDICINE"},{"$f":"IF(ISBLANK('Trust - Frontsheet'!H27),\"\",'Trust - Frontsheet'!H27)","v":""},{"$f":"'Trust - Frontsheet'!I27","v":708.75},{"$f":"'Trust - Frontsheet'!J27","v":721.75},{"$f":"'Trust - Frontsheet'!K27","v":535.5},{"$f":"'Trust - Frontsheet'!L27","v":635.75},{"$f":"'Trust - Frontsheet'!M27","v":0},{"$f":"'Trust - Frontsheet'!N27","v":0},{"$f":"'Trust - Frontsheet'!O27","v":0},{"$f":"'Trust - Frontsheet'!P27","v":115},{"$f":"'Trust - Frontsheet'!Q27","v":701.5},{"$f":"'Trust - Frontsheet'!R27","v":713},{"$f":"'Trust - Frontsheet'!S27","v":356.5},{"$f":"'Trust - Frontsheet'!T27","v":621},{"$f":"'Trust - Frontsheet'!U27","v":0},{"$f":"'Trust - Frontsheet'!V27","v":0},{"$f":"'Trust - Frontsheet'!W27","v":0},{"$f":"'Trust - Frontsheet'!X27","v":126.5},{"$f":"'Trust - Frontsheet'!Y27","v":0},{"$f":"'Trust - Frontsheet'!Z27","v":0},{"$f":"'Trust - Frontsheet'!AA27","v":0},{"$f":"'Trust - Frontsheet'!AB27","v":0},{"$f":"IF(OR('Trust - Frontsheet'!AK27=\"\",'Trust - Frontsheet'!AK27=\"-\"),0,('Trust - Frontsheet'!AK27))","v":1.0183421516754849},{"$f":"IF(OR('Trust - Frontsheet'!AL27=\"\",'Trust - Frontsheet'!AL27=\"-\"),0,('Trust - Frontsheet'!AL27))","v":1.1872082166199813},{"$f":"IF(OR('Trust - Frontsheet'!AM27=\"\",'Trust - Frontsheet'!AM27=\"-\"),0,('Trust - Frontsheet'!AM27))","v":0},{"$f":"IF(OR('Trust - Frontsheet'!AN27=\"\",'Trust - Frontsheet'!AN27=\"-\"),0,('Trust - Frontsheet'!AN27))","v":0},{"$f":"IF(OR('Trust - Frontsheet'!AO27=\"\",'Trust - Frontsheet'!AO27=\"-\"),0,('Trust - Frontsheet'!AO27))","v":1.0163934426229508},{"$f":"IF(OR('Trust - Frontsheet'!AP27=\"\",'Trust - Frontsheet'!AP27=\"-\"),0,('Trust - Frontsheet'!AP27))","v":1.7419354838709677},{"$f":"IF(OR('Trust - Frontsheet'!AQ27=\"\",'Trust - Frontsheet'!AQ27=\"-\"),0,('Trust - Frontsheet'!AQ27))","v":0},{"$f":"IF(OR('Trust - Frontsheet'!AR27=\"\",'Trust - Frontsheet'!AR27=\"-\"),0,('Trust - Frontsheet'!AR27))","v":0},{"$f":"IF(OR('Trust - Frontsheet'!AS27=\"\",'Trust - Frontsheet'!AS27=\"-\"),0,('Trust - Frontsheet'!AS27))","v":0},{"$f":"IF(OR('Trust - Frontsheet'!AT27=\"\",'Trust - Frontsheet'!AT27=\"-\"),0,('Trust - Frontsheet'!AT27))","v":0},{"$f":"'Trust - Frontsheet'!AC27","v":352},{"$f":"IF(OR('Trust - Frontsheet'!AD27=\"\",'Trust - Frontsheet'!AD27=\"-\"),0,('Trust - Frontsheet'!AD27))","v":4.0759943181818183},{"$f":"IF(OR('Trust - Frontsheet'!AE27=\"\",'Trust - Frontsheet'!AE27=\"-\"),0,('Trust - Frontsheet'!AE27))","v":3.5703125},{"$f":"IF(OR('Trust - Frontsheet'!AF27=\"\",'Trust - Frontsheet'!AF27=\"-\"),0,('Trust - Frontsheet'!AF27))","v":0},{"$f":"IF(OR('Trust - Frontsheet'!AG27=\"\",'Trust - Frontsheet'!AG27=\"-\"),0,('Trust - Frontsheet'!AG27))","v":0.68607954545454541},{"$f":"IF(OR('Trust - Frontsheet'!AH27=\"\",'Trust - Frontsheet'!AH27=\"-\"),0,('Trust - Frontsheet'!AH27))","v":0},{"$f":"IF(OR('Trust - Frontsheet'!AI27=\"\",'Trust - Frontsheet'!AI27=\"-\"),0,('Trust - Frontsheet'!AI27))","v":0},{"$f":"IF(OR('Trust - Frontsheet'!AJ27=\"\",'Trust - Frontsheet'!AJ27=\"-\"),0,('Trust - Frontsheet'!AJ27))","v":8.3323863636363633},{"$f":"IF(A15=\"\",\"\",(IF(ISBLANK('Trust - Frontsheet'!F9),\"\",'Trust - Frontsheet'!F9)))","v":""}]
[{"$f":"IF('Trust - Frontsheet'!D28=0,\"\",IF('Trust - Frontsheet'!D28=\"\",\"\",'Trust - Frontsheet'!D28))","v":"RWG02"},{"$f":"IF(ISBLANK('Trust - Frontsheet'!E28),\"\",'Trust - Frontsheet'!E28)","v":"WATFORD GENERAL HOSPITAL"},{"$f":"IF(ISBLANK('Trust - Frontsheet'!F28),\"\",\"'\" & 'Trust - Frontsheet'!F28 & \"'\")","v":"'Sarratt'"},{"$f":"IF(ISBLANK('Trust - Frontsheet'!G28),\"\",'Trust - Frontsheet'!G28)","v":"430 - GERIATRIC MEDICINE"},{"$f":"IF(ISBLANK('Trust - Frontsheet'!H28),\"\",'Trust - Frontsheet'!H28)","v":""},{"$f":"'Trust - Frontsheet'!I28","v":1690.5},{"$f":"'Trust - Frontsheet'!J28","v":1682.25},{"$f":"'Trust - Frontsheet'!K28","v":2144},{"$f":"'Trust - Frontsheet'!L28","v":1928.37},{"$f":"'Trust - Frontsheet'!M28","v":0},{"$f":"'Trust - Frontsheet'!N28","v":0},{"$f":"'Trust - Frontsheet'!O28","v":0},{"$f":"'Trust - Frontsheet'!P28","v":150.08000000000001},{"$f":"'Trust - Frontsheet'!Q28","v":1426},{"$f":"'Trust - Frontsheet'!R28","v":1449},{"$f":"'Trust - Frontsheet'!S28","v":2136.75},{"$f":"'Trust - Frontsheet'!T28","v":2535.6666666666665},{"$f":"'Trust - Frontsheet'!U28","v":0},{"$f":"'Trust - Frontsheet'!V28","v":0},{"$f":"'Trust - Frontsheet'!W28","v":0},{"$f":"'Trust - Frontsheet'!X28","v":0},{"$f":"'Trust - Frontsheet'!Y28","v":0},{"$f":"'Trust - Frontsheet'!Z28","v":0},{"$f":"'Trust - Frontsheet'!AA28","v":0},{"$f":"'Trust - Frontsheet'!AB28","v":0},{"$f":"IF(OR('Trust - Frontsheet'!AK28=\"\",'Trust - Frontsheet'!AK28=\"-\"),0,('Trust - Frontsheet'!AK28))","v":0.99511978704525283},{"$f":"IF(OR('Trust - Frontsheet'!AL28=\"\",'Trust - Frontsheet'!AL28=\"-\"),0,('Trust - Frontsheet'!AL28))","v":0.89942630597014916},{"$f":"IF(OR('Trust - Frontsheet'!AM28=\"\",'Trust - Frontsheet'!AM28=\"-\"),0,('Trust - Frontsheet'!AM28))","v":0},{"$f":"IF(OR('Trust - Frontsheet'!AN28=\"\",'Trust - Frontsheet'!AN28=\"-\"),0,('Trust - Frontsheet'!AN28))","v":0},{"$f":"IF(OR('Trust - Frontsheet'!AO28=\"\",'Trust - Frontsheet'!AO28=\"-\"),0,('Trust - Frontsheet'!AO28))","v":1.0161290322580645},{"$f":"IF(OR('Trust - Frontsheet'!AP28=\"\",'Trust - Frontsheet'!AP28=\"-\"),0,('Trust - Frontsheet'!AP28))","v":1.1866931866931867},{"$f":"IF(OR('Trust - Frontsheet'!AQ28=\"\",'Trust - Frontsheet'!AQ28=\"-\"),0,('Trust - Frontsheet'!AQ28))","v":0},{"$f":"IF(OR('Trust - Frontsheet'!AR28=\"\",'Trust - Frontsheet'!AR28=\"-\"),0,('Trust - Frontsheet'!AR28))","v":0},{"$f":"IF(OR('Trust - Frontsheet'!AS28=\"\",'Trust - Frontsheet'!AS28=\"-\"),0,('Trust - Frontsheet'!AS28))","v":0},{"$f":"IF(OR('Trust - Frontsheet'!AT28=\"\",'Trust - Frontsheet'!AT28=\"-\"),0,('Trust - Frontsheet'!AT28))","v":0},{"$f":"'Trust - Frontsheet'!AC28","v":1104},{"$f":"IF(OR('Trust - Frontsheet'!AD28=\"\",'Trust - Frontsheet'!AD28=\"-\"),0,('Trust - Frontsheet'!AD28))","v":2.8362771739130435},{"$f":"IF(OR('Trust - Frontsheet'!AE28=\"\",'Trust - Frontsheet'!AE28=\"-\"),0,('Trust - Frontsheet'!AE28))","v":4.0435114734299518},{"$f":"IF(OR('Trust - Frontsheet'!AF28=\"\",'Trust - Frontsheet'!AF28=\"-\"),0,('Trust - Frontsheet'!AF28))","v":0},{"$f":"IF(OR('Trust - Frontsheet'!AG28=\"\",'Trust - Frontsheet'!AG28=\"-\"),0,('Trust - Frontsheet'!AG28))","v":0.13594202898550725},{"$f":"IF(OR('Trust - Frontsheet'!AH28=\"\",'Trust - Frontsheet'!AH28=\"-\"),0,('Trust - Frontsheet'!AH28))","v":0},{"$f":"IF(OR('Trust - Frontsheet'!AI28=\"\",'Trust - Frontsheet'!AI28=\"-\"),0,('Trust - Frontsheet'!AI28))","v":0},{"$f":"IF(OR('Trust - Frontsheet'!AJ28=\"\",'Trust - Frontsheet'!AJ28=\"-\"),0,('Trust - Frontsheet'!AJ28))","v":7.0157306763285021},{"$f":"IF(A16=\"\",\"\",(IF(ISBLANK('Trust - Frontsheet'!F9),\"\",'Trust - Frontsheet'!F9)))","v":""}]
[{"$f":"IF('Trust - Frontsheet'!D29=0,\"\",IF('Trust - Frontsheet'!D29=\"\",\"\",'Trust - Frontsheet'!D29))","v":"RWG08"},{"$f":"IF(ISBLANK('Trust - Frontsheet'!E29),\"\",'Trust - Frontsheet'!E29)","v":"HEMEL HEMPSTEAD HOSPITAL"},{"$f":"IF(ISBLANK('Trust - Frontsheet'!F29),\"\",\"'\" & 'Trust - Frontsheet'!F29 & \"'\")","v":"'Simpson HH'"},{"$f":"IF(ISBLANK('Trust - Frontsheet'!G29),\"\",'Trust - Frontsheet'!G29)","v":"430 - GERIATRIC MEDICINE"},{"$f":"IF(ISBLANK('Trust - Frontsheet'!H29),\"\",'Trust - Frontsheet'!H29)","v":""},{"$f":"'Trust - Frontsheet'!I29","v":1069.5},{"$f":"'Trust - Frontsheet'!J29","v":787.5},{"$f":"'Trust - Frontsheet'!K29","v":1069.5},{"$f":"'Trust - Frontsheet'!L29","v":1287.25},{"$f":"'Trust - Frontsheet'!M29","v":0},{"$f":"'Trust - Frontsheet'!N29","v":57.5},{"$f":"'Trust - Frontsheet'!O29","v":0},{"$f":"'Trust - Frontsheet'!P29","v":0},{"$f":"'Trust - Frontsheet'!Q29","v":1069.5},{"$f":"'Trust - Frontsheet'!R29","v":931.5},{"$f":"'Trust - Frontsheet'!S29","v":713},{"$f":"'Trust - Frontsheet'!T29","v":1069.5},{"$f":"'Trust - Frontsheet'!U29","v":0},{"$f":"'Trust - Frontsheet'!V29","v":57.5},{"$f":"'Trust - Frontsheet'!W29","v":0},{"$f":"'Trust - Frontsheet'!X29","v":0},{"$f":"'Trust - Frontsheet'!Y29","v":0},{"$f":"'Trust - Frontsheet'!Z29","v":0},{"$f":"'Trust - Frontsheet'!AA29","v":0},{"$f":"'Trust - Frontsheet'!AB29","v":0},{"$f":"IF(OR('Trust - Frontsheet'!AK29=\"\",'Trust - Frontsheet'!AK29=\"-\"),0,('Trust - Frontsheet'!AK29))","v":0.73632538569424966},{"$f":"IF(OR('Trust - Frontsheet'!AL29=\"\",'Trust - Frontsheet'!AL29=\"-\"),0,('Trust - Frontsheet'!AL29))","v":1.2035998129967274},{"$f":"IF(OR('Trust - Frontsheet'!AM29=\"\",'Trust - Frontsheet'!AM29=\"-\"),0,('Trust - Frontsheet'!AM29))","v":0},{"$f":"IF(OR('Trust - Frontsheet'!AN29=\"\",'Trust - Frontsheet'!AN29=\"-\"),0,('Trust - Frontsheet'!AN29))","v":0},{"$f":"IF(OR('Trust - Frontsheet'!AO29=\"\",'Trust - Frontsheet'!AO29=\"-\"),0,('Trust - Frontsheet'!AO29))","v":0.87096774193548387},{"$f":"IF(OR('Trust - Frontsheet'!AP29=\"\",'Trust - Frontsheet'!AP29=\"-\"),0,('Trust - Frontsheet'!AP29))","v":1.5},{"$f":"IF(OR('Trust - Frontsheet'!AQ29=\"\",'Trust - Frontsheet'!AQ29=\"-\"),0,('Trust - Frontsheet'!AQ29))","v":0},{"$f":"IF(OR('Trust - Frontsheet'!AR29=\"\",'Trust - Frontsheet'!AR29=\"-\"),0,('Trust - Frontsheet'!AR29))","v":0},{"$f":"IF(OR('Trust - Frontsheet'!AS29=\"\",'Trust - Frontsheet'!AS29=\"-\"),0,('Trust - Frontsheet'!AS29))","v":0},{"$f":"IF(OR('Trust - Frontsheet'!AT29=\"\",'Trust - Frontsheet'!AT29=\"-\"),0,('Trust - Frontsheet'!AT29))","v":0},{"$f":"'Trust - Frontsheet'!AC29","v":712},{"$f":"IF(OR('Trust - Frontsheet'!AD29=\"\",'Trust - Frontsheet'!AD29=\"-\"),0,('Trust - Frontsheet'!AD29))","v":2.4143258426966292},{"$f":"IF(OR('Trust - Frontsheet'!AE29=\"\",'Trust - Frontsheet'!AE29=\"-\"),0,('Trust - Frontsheet'!AE29))","v":3.3100421348314608},{"$f":"IF(OR('Trust - Frontsheet'!AF29=\"\",'Trust - Frontsheet'!AF29=\"-\"),0,('Trust - Frontsheet'!AF29))","v":0.16151685393258428},{"$f":"IF(OR('Trust - Frontsheet'!AG29=\"\",'Trust - Frontsheet'!AG29=\"-\"),0,('Trust - Frontsheet'!AG29))","v":0},{"$f":"IF(OR('Trust - Frontsheet'!AH29=\"\",'Trust - Frontsheet'!AH29=\"-\"),0,('Trust - Frontsheet'!AH29))","v":0},{"$f":"IF(OR('Trust - Frontsheet'!AI29=\"\",'Trust - Frontsheet'!AI29=\"-\"),0,('Trust - Frontsheet'!AI29))","v":0},{"$f":"IF(OR('Trust - Frontsheet'!AJ29=\"\",'Trust - Frontsheet'!AJ29=\"-\"),0,('Trust - Frontsheet'!AJ29))","v":5.8858848314606744},{"$f":"IF(A17=\"\",\"\",(IF(ISBLANK('Trust - Frontsheet'!F9),\"\",'Trust - Frontsheet'!F9)))","v":""}]
[{"$f":"IF('Trust - Frontsheet'!D30=0,\"\",IF('Trust - Frontsheet'!D30=\"\",\"\",'Trust - Frontsheet'!D30))","v":"RWG02"},{"$f":"IF(ISBLANK('Trust - Frontsheet'!E30),\"\",'Trust - Frontsheet'!E30)","v":"WATFORD GENERAL HOSPITAL"},{"$f":"IF(ISBLANK('Trust - Frontsheet'!F30),\"\",\"'\" & 'Trust - Frontsheet'!F30 & \"'\")","v":"'Tudor & Castle'"},{"$f":"IF(ISBLANK('Trust - Frontsheet'!G30),\"\",'Trust - Frontsheet'!G30)","v":"430 - GERIATRIC MEDICINE"},{"$f":"IF(ISBLANK('Trust - Frontsheet'!H30),\"\",'Trust - Frontsheet'!H30)","v":""},{"$f":"'Trust - Frontsheet'!I30","v":1782.5},{"$f":"'Trust - Frontsheet'!J30","v":1760.75},{"$f":"'Trust - Frontsheet'!K30","v":2131.25},{"$f":"'Trust - Frontsheet'!L30","v":2259.1666666666665},{"$f":"'Trust - Frontsheet'!M30","v":0},{"$f":"'Trust - Frontsheet'!N30","v":172.5},{"$f":"'Trust - Frontsheet'!O30","v":0},{"$f":"'Trust - Frontsheet'!P30","v":0},{"$f":"'Trust - Frontsheet'!Q30","v":1782.5},{"$f":"'Trust - Frontsheet'!R30","v":2311.5},{"$f":"'Trust - Frontsheet'!S30","v":2139},{"$f":"'Trust - Frontsheet'!T30","v":2376.75},{"$f":"'Trust - Frontsheet'!U30","v":0},{"$f":"'Trust - Frontsheet'!V30","v":0},{"$f":"'Trust - Frontsheet'!W30","v":0},{"$f":"'Trust - Frontsheet'!X30","v":0},{"$f":"'Trust - Frontsheet'!Y30","v":0},{"$f":"'Trust - Frontsheet'!Z30","v":0},{"$f":"'Trust - Frontsheet'!AA30","v":0},{"$f":"'Trust - Frontsheet'!AB30","v":0},{"$f":"IF(OR('Trust - Frontsheet'!AK30=\"\",'Trust - Frontsheet'!AK30=\"-\"),0,('Trust - Frontsheet'!AK30))","v":0.98779803646563813},{"$f":"IF(OR('Trust - Frontsheet'!AL30=\"\",'Trust - Frontsheet'!AL30=\"-\"),0,('Trust - Frontsheet'!AL30))","v":1.060019550342131},{"$f":"IF(OR('Trust - Frontsheet'!AM30=\"\",'Trust - Frontsheet'!AM30=\"-\"),0,('Trust - Frontsheet'!AM30))","v":0},{"$f":"IF(OR('Trust - Frontsheet'!AN30=\"\",'Trust - Frontsheet'!AN30=\"-\"),0,('Trust - Frontsheet'!AN30))","v":0},{"$f":"IF(OR('Trust - Frontsheet'!AO30=\"\",'Trust - Frontsheet'!AO30=\"-\"),0,('Trust - Frontsheet'!AO30))","v":1.2967741935483872},{"$f":"IF(OR('Trust - Frontsheet'!AP30=\"\",'Trust - Frontsheet'!AP30=\"-\"),0,('Trust - Frontsheet'!AP30))","v":1.1111500701262271},{"$f":"IF(OR('Trust - Frontsheet'!AQ30=\"\",'Trust - Frontsheet'!AQ30=\"-\"),0,('Trust - Frontsheet'!AQ30))","v":0},{"$f":"IF(OR('Trust - Frontsheet'!AR30=\"\",'Trust - Frontsheet'!AR30=\"-\"),0,('Trust - Frontsheet'!AR30))","v":0},{"$f":"IF(OR('Trust - Frontsheet'!AS30=\"\",'Trust - Frontsheet'!AS30=\"-\"),0,('Trust - Frontsheet'!AS30))","v":0},{"$f":"IF(OR('Trust - Frontsheet'!AT30=\"\",'Trust - Frontsheet'!AT30=\"-\"),0,('Trust - Frontsheet'!AT30))","v":0},{"$f":"'Trust - Frontsheet'!AC30","v":1261},{"$f":"IF(OR('Trust - Frontsheet'!AD30=\"\",'Trust - Frontsheet'!AD30=\"-\"),0,('Trust - Frontsheet'!AD30))","v":3.2293814432989691},{"$f":"IF(OR('Trust - Frontsheet'!AE30=\"\",'Trust - Frontsheet'!AE30=\"-\"),0,('Trust - Frontsheet'!AE30))","v":3.6763811789584979},{"$f":"IF(OR('Trust - Frontsheet'!AF30=\"\",'Trust - Frontsheet'!AF30=\"-\"),0,('Trust - Frontsheet'!AF30))","v":0.13679619349722444},{"$f":"IF(OR('Trust - Frontsheet'!AG30=\"\",'Trust - Frontsheet'!AG30=\"-\"),0,('Trust - Frontsheet'!AG30))","v":0},{"$f":"IF(OR('Trust - Frontsheet'!AH30=\"\",'Trust - Frontsheet'!AH30=\"-\"),0,('Trust - Frontsheet'!AH30))","v":0},{"$f":"IF(OR('Trust - Frontsheet'!AI30=\"\",'Trust - Frontsheet'!AI30=\"-\"),0,('Trust - Frontsheet'!AI30))","v":0},{"$f":"IF(OR('Trust - Frontsheet'!AJ30=\"\",'Trust - Frontsheet'!AJ30=\"-\"),0,('Trust - Frontsheet'!AJ30))","v":7.0425588157546919},{"$f":"IF(A18=\"\",\"\",(IF(ISBLANK('Trust - Frontsheet'!F9),\"\",'Trust - Frontsheet'!F9)))","v":""}]
[{"$f":"IF('Trust - Frontsheet'!D31=0,\"\",IF('Trust - Frontsheet'!D31=\"\",\"\",'Trust - Frontsheet'!D31))","v":"RWG02"},{"$f":"IF(ISBLANK('Trust - Frontsheet'!E31),\"\",'Trust - Frontsheet'!E31)","v":"WATFORD GENERAL HOSPITAL"},{"$f":"IF(ISBLANK('Trust - Frontsheet'!F31),\"\",\"'\" & 'Trust - Frontsheet'!F31 & \"'\")","v":"'Winyard'"},{"$f":"IF(ISBLANK('Trust - Frontsheet'!G31),\"\",'Trust - Frontsheet'!G31)","v":"430 - GERIATRIC MEDICINE"},{"$f":"IF(ISBLANK('Trust - Frontsheet'!H31),\"\",'Trust - Frontsheet'!H31)","v":""},{"$f":"'Trust - Frontsheet'!I31","v":714.5},{"$f":"'Trust - Frontsheet'!J31","v":857.25},{"$f":"'Trust - Frontsheet'!K31","v":1069.5},{"$f":"'Trust - Frontsheet'!L31","v":1120.4166666666667},{"$f":"'Trust - Frontsheet'!M31","v":0},{"$f":"'Trust - Frontsheet'!N31","v":0},{"$f":"'Trust - Frontsheet'!O31","v":0},{"$f":"'Trust - Frontsheet'!P31","v":0},{"$f":"'Trust - Frontsheet'!Q31","v":713},{"$f":"'Trust - Frontsheet'!R31","v":943},{"$f":"'Trust - Frontsheet'!S31","v":713},{"$f":"'Trust - Frontsheet'!T31","v":816.5},{"$f":"'Trust - Frontsheet'!U31","v":0},{"$f":"'Trust - Frontsheet'!V31","v":0},{"$f":"'Trust - Frontsheet'!W31","v":0},{"$f":"'Trust - Frontsheet'!X31","v":0},{"$f":"'Trust - Frontsheet'!Y31","v":0},{"$f":"'Trust - Frontsheet'!Z31","v":0},{"$f":"'Trust - Frontsheet'!AA31","v":0},{"$f":"'Trust - Frontsheet'!AB31","v":0},{"$f":"IF(OR('Trust - Frontsheet'!AK31=\"\",'Trust - Frontsheet'!AK31=\"-\"),0,('Trust - Frontsheet'!AK31))","v":1.1997900629811056},{"$f":"IF(OR('Trust - Frontsheet'!AL31=\"\",'Trust - Frontsheet'!AL31=\"-\"),0,('Trust - Frontsheet'!AL31))","v":1.0476079164718717},{"$f":"IF(OR('Trust - Frontsheet'!AM31=\"\",'Trust - Frontsheet'!AM31=\"-\"),0,('Trust - Frontsheet'!AM31))","v":0},{"$f":"IF(OR('Trust - Frontsheet'!AN31=\"\",'Trust - Frontsheet'!AN31=\"-\"),0,('Trust - Frontsheet'!AN31))","v":0},{"$f":"IF(OR('Trust - Frontsheet'!AO31=\"\",'Trust - Frontsheet'!AO31=\"-\"),0,('Trust - Frontsheet'!AO31))","v":1.3225806451612903},{"$f":"IF(OR('Trust - Frontsheet'!AP31=\"\",'Trust - Frontsheet'!AP31=\"-\"),0,('Trust - Frontsheet'!AP31))","v":1.1451612903225807},{"$f":"IF(OR('Trust - Frontsheet'!AQ31=\"\",'Trust - Frontsheet'!AQ31=\"-\"),0,('Trust - Frontsheet'!AQ31))","v":0},{"$f":"IF(OR('Trust - Frontsheet'!AR31=\"\",'Trust - Frontsheet'!AR31=\"-\"),0,('Trust - Frontsheet'!AR31))","v":0},{"$f":"IF(OR('Trust - Frontsheet'!AS31=\"\",'Trust - Frontsheet'!AS31=\"-\"),0,('Trust - Frontsheet'!AS31))","v":0},{"$f":"IF(OR('Trust - Frontsheet'!AT31=\"\",'Trust - Frontsheet'!AT31=\"-\"),0,('Trust - Frontsheet'!AT31))","v":0},{"$f":"'Trust - Frontsheet'!AC31","v":541},{"$f":"IF(OR('Trust - Frontsheet'!AD31=\"\",'Trust - Frontsheet'!AD31=\"-\"),0,('Trust - Frontsheet'!AD31))","v":3.3276340110905731},{"$f":"IF(OR('Trust - Frontsheet'!AE31=\"\",'Trust - Frontsheet'!AE31=\"-\"),0,('Trust - Frontsheet'!AE31))","v":3.580252618607517},{"$f":"IF(OR('Trust - Frontsheet'!AF31=\"\",'Trust - Frontsheet'!AF31=\"-\"),0,('Trust - Frontsheet'!AF31))","v":0},{"$f":"IF(OR('Trust - Frontsheet'!AG31=\"\",'Trust - Frontsheet'!AG31=\"-\"),0,('Trust - Frontsheet'!AG31))","v":0},{"$f":"IF(OR('Trust - Frontsheet'!AH31=\"\",'Trust - Frontsheet'!AH31=\"-\"),0,('Trust - Frontsheet'!AH31))","v":0},{"$f":"IF(OR('Trust - Frontsheet'!AI31=\"\",'Trust - Frontsheet'!AI31=\"-\"),0,('Trust - Frontsheet'!AI31))","v":0},{"$f":"IF(OR('Trust - Frontsheet'!AJ31=\"\",'Trust - Frontsheet'!AJ31=\"-\"),0,('Trust - Frontsheet'!AJ31))","v":6.9078866296980905},{"$f":"IF(A19=\"\",\"\",(IF(ISBLANK('Trust - Frontsheet'!F9),\"\",'Trust - Frontsheet'!F9)))","v":""}]
[{"$f":"IF('Trust - Frontsheet'!D32=0,\"\",IF('Trust - Frontsheet'!D32=\"\",\"\",'Trust - Frontsheet'!D32))","v":"RWG02"},{"$f":"IF(ISBLANK('Trust - Frontsheet'!E32),\"\",'Trust - Frontsheet'!E32)","v":"WATFORD GENERAL HOSPITAL"},{"$f":"IF(ISBLANK('Trust - Frontsheet'!F32),\"\",\"'\" & 'Trust - Frontsheet'!F32 & \"'\")","v":"'Combined ITU'"},{"$f":"IF(ISBLANK('Trust - Frontsheet'!G32),\"\",'Trust - Frontsheet'!G32)","v":"192 - CRITICAL CARE MEDICINE"},{"$f":"IF(ISBLANK('Trust - Frontsheet'!H32),\"\",'Trust - Frontsheet'!H32)","v":""},{"$f":"'Trust - Frontsheet'!I32","v":3559},{"$f":"'Trust - Frontsheet'!J32","v":3703},{"$f":"'Trust - Frontsheet'!K32","v":471.5},{"$f":"'Trust - Frontsheet'!L32","v":506},{"$f":"'Trust - Frontsheet'!M32","v":0},{"$f":"'Trust - Frontsheet'!N32","v":0},{"$f":"'Trust - Frontsheet'!O32","v":0},{"$f":"'Trust - Frontsheet'!P32","v":0},{"$f":"'Trust - Frontsheet'!Q32","v":3549},{"$f":"'Trust - Frontsheet'!R32","v":3411},{"$f":"'Trust - Frontsheet'!S32","v":345},{"$f":"'Trust - Frontsheet'!T32","v":356.5},{"$f":"'Trust - Frontsheet'!U32","v":0},{"$f":"'Trust - Frontsheet'!V32","v":0},{"$f":"'Trust - Frontsheet'!W32","v":0},{"$f":"'Trust - Frontsheet'!X32","v":0},{"$f":"'Trust - Frontsheet'!Y32","v":0},{"$f":"'Trust - Frontsheet'!Z32","v":0},{"$f":"'Trust - Frontsheet'!AA32","v":0},{"$f":"'Trust - Frontsheet'!AB32","v":0},{"$f":"IF(OR('Trust - Frontsheet'!AK32=\"\",'Trust - Frontsheet'!AK32=\"-\"),0,('Trust - Frontsheet'!AK32))","v":1.0404608035965159},{"$f":"IF(OR('Trust - Frontsheet'!AL32=\"\",'Trust - Frontsheet'!AL32=\"-\"),0,('Trust - Frontsheet'!AL32))","v":1.0731707317073171},{"$f":"IF(OR('Trust - Frontsheet'!AM32=\"\",'Trust - Frontsheet'!AM32=\"-\"),0,('Trust - Frontsheet'!AM32))","v":0},{"$f":"IF(OR('Trust - Frontsheet'!AN32=\"\",'Trust - Frontsheet'!AN32=\"-\"),0,('Trust - Frontsheet'!AN32))","v":0},{"$f":"IF(OR('Trust - Frontsheet'!AO32=\"\",'Trust - Frontsheet'!AO32=\"-\"),0,('Trust - Frontsheet'!AO32))","v":0.9611158072696534},{"$f":"IF(OR('Trust - Frontsheet'!AP32=\"\",'Trust - Frontsheet'!AP32=\"-\"),0,('Trust - Frontsheet'!AP32))","v":1.0333333333333334},{"$f":"IF(OR('Trust - Frontsheet'!AQ32=\"\",'Trust - Frontsheet'!AQ32=\"-\"),0,('Trust - Frontsheet'!AQ32))","v":0},{"$f":"IF(OR('Trust - Frontsheet'!AR32=\"\",'Trust - Frontsheet'!AR32=\"-\"),0,('Trust - Frontsheet'!AR32))","v":0},{"$f":"IF(OR('Trust - Frontsheet'!AS32=\"\",'Trust - Frontsheet'!AS32=\"-\"),0,('Trust - Frontsheet'!AS32))","v":0},{"$f":"IF(OR('Trust - Frontsheet'!AT32=\"\",'Trust - Frontsheet'!AT32=\"-\"),0,('Trust - Frontsheet'!AT32))","v":0},{"$f":"'Trust - Frontsheet'!AC32","v":420},{"$f":"IF(OR('Trust - Frontsheet'!AD32=\"\",'Trust - Frontsheet'!AD32=\"-\"),0,('Trust - Frontsheet'!AD32))","v":16.938095238095237},{"$f":"IF(OR('Trust - Frontsheet'!AE32=\"\",'Trust - Frontsheet'!AE32=\"-\"),0,('Trust - Frontsheet'!AE32))","v":2.0535714285714284},{"$f":"IF(OR('Trust - Frontsheet'!AF32=\"\",'Trust - Frontsheet'!AF32=\"-\"),0,('Trust - Frontsheet'!AF32))","v":0},{"$f":"IF(OR('Trust - Frontsheet'!AG32=\"\",'Trust - Frontsheet'!AG32=\"-\"),0,('Trust - Frontsheet'!AG32))","v":0},{"$f":"IF(OR('Trust - Frontsheet'!AH32=\"\",'Trust - Frontsheet'!AH32=\"-\"),0,('Trust - Frontsheet'!AH32))","v":0},{"$f":"IF(OR('Trust - Frontsheet'!AI32=\"\",'Trust - Frontsheet'!AI32=\"-\"),0,('Trust - Frontsheet'!AI32))","v":0},{"$f":"IF(OR('Trust - Frontsheet'!AJ32=\"\",'Trust - Frontsheet'!AJ32=\"-\"),0,('Trust - Frontsheet'!AJ32))","v":18.991666666666667},{"$f":"IF(A20=\"\",\"\",(IF(ISBLANK('Trust - Frontsheet'!F9),\"\",'Trust - Frontsheet'!F9)))","v":""}]
[{"$f":"IF('Trust - Frontsheet'!D33=0,\"\",IF('Trust - Frontsheet'!D33=\"\",\"\",'Trust - Frontsheet'!D33))","v":"RWG02"},{"$f":"IF(ISBLANK('Trust - Frontsheet'!E33),\"\",'Trust - Frontsheet'!E33)","v":"WATFORD GENERAL HOSPITAL"},{"$f":"IF(ISBLANK('Trust - Frontsheet'!F33),\"\",\"'\" & 'Trust - Frontsheet'!F33 & \"'\")","v":"'Cleves'"},{"$f":"IF(ISBLANK('Trust - Frontsheet'!G33),\"\",'Trust - Frontsheet'!G33)","v":"100 - GENERAL SURGERY"},{"$f":"IF(ISBLANK('Trust - Frontsheet'!H33),\"\",'Trust - Frontsheet'!H33)","v":""},{"$f":"'Trust - Frontsheet'!I33","v":713},{"$f":"'Trust - Frontsheet'!J33","v":1058},{"$f":"'Trust - Frontsheet'!K33","v":1069.5},{"$f":"'Trust - Frontsheet'!L33","v":632.5},{"$f":"'Trust - Frontsheet'!M33","v":0},{"$f":"'Trust - Frontsheet'!N33","v":0},{"$f":"'Trust - Frontsheet'!O33","v":0},{"$f":"'Trust - Frontsheet'!P33","v":0},{"$f":"'Trust - Frontsheet'!Q33","v":1069.5},{"$f":"'Trust - Frontsheet'!R33","v":1069.5},{"$f":"'Trust - Frontsheet'!S33","v":356.5},{"$f":"'Trust - Frontsheet'!T33","v":356.5},{"$f":"'Trust - Frontsheet'!U33","v":0},{"$f":"'Trust - Frontsheet'!V33","v":0},{"$f":"'Trust - Frontsheet'!W33","v":0},{"$f":"'Trust - Frontsheet'!X33","v":0},{"$f":"'Trust - Frontsheet'!Y33","v":0},{"$f":"'Trust - Frontsheet'!Z33","v":0},{"$f":"'Trust - Frontsheet'!AA33","v":0},{"$f":"'Trust - Frontsheet'!AB33","v":0},{"$f":"IF(OR('Trust - Frontsheet'!AK33=\"\",'Trust - Frontsheet'!AK33=\"-\"),0,('Trust - Frontsheet'!AK33))","v":1.4838709677419355},{"$f":"IF(OR('Trust - Frontsheet'!AL33=\"\",'Trust - Frontsheet'!AL33=\"-\"),0,('Trust - Frontsheet'!AL33))","v":0.59139784946236562},{"$f":"IF(OR('Trust - Frontsheet'!AM33=\"\",'Trust - Frontsheet'!AM33=\"-\"),0,('Trust - Frontsheet'!AM33))","v":0},{"$f":"IF(OR('Trust - Frontsheet'!AN33=\"\",'Trust - Frontsheet'!AN33=\"-\"),0,('Trust - Frontsheet'!AN33))","v":0},{"$f":"IF(OR('Trust - Frontsheet'!AO33=\"\",'Trust - Frontsheet'!AO33=\"-\"),0,('Trust - Frontsheet'!AO33))","v":1},{"$f":"IF(OR('Trust - Frontsheet'!AP33=\"\",'Trust - Frontsheet'!AP33=\"-\"),0,('Trust - Frontsheet'!AP33))","v":1},{"$f":"IF(OR('Trust - Frontsheet'!AQ33=\"\",'Trust - Frontsheet'!AQ33=\"-\"),0,('Trust - Frontsheet'!AQ33))","v":0},{"$f":"IF(OR('Trust - Frontsheet'!AR33=\"\",'Trust - Frontsheet'!AR33=\"-\"),0,('Trust - Frontsheet'!AR33))","v":0},{"$f":"IF(OR('Trust - Frontsheet'!AS33=\"\",'Trust - Frontsheet'!AS33=\"-\"),0,('Trust - Frontsheet'!AS33))","v":0},{"$f":"IF(OR('Trust - Frontsheet'!AT33=\"\",'Trust - Frontsheet'!AT33=\"-\"),0,('Trust - Frontsheet'!AT33))","v":0},{"$f":"'Trust - Frontsheet'!AC33","v":583},{"$f":"IF(OR('Trust - Frontsheet'!AD33=\"\",'Trust - Frontsheet'!AD33=\"-\"),0,('Trust - Frontsheet'!AD33))","v":3.6492281303602057},{"$f":"IF(OR('Trust - Frontsheet'!AE33=\"\",'Trust - Frontsheet'!AE33=\"-\"),0,('Trust - Frontsheet'!AE33))","v":1.6963979416809605},{"$f":"IF(OR('Trust - Frontsheet'!AF33=\"\",'Trust - Frontsheet'!AF33=\"-\"),0,('Trust - Frontsheet'!AF33))","v":0},{"$f":"IF(OR('Trust - Frontsheet'!AG33=\"\",'Trust - Frontsheet'!AG33=\"-\"),0,('Trust - Frontsheet'!AG33))","v":0},{"$f":"IF(OR('Trust - Frontsheet'!AH33=\"\",'Trust - Frontsheet'!AH33=\"-\"),0,('Trust - Frontsheet'!AH33))","v":0},{"$f":"IF(OR('Trust - Frontsheet'!AI33=\"\",'Trust - Frontsheet'!AI33=\"-\"),0,('Trust - Frontsheet'!AI33))","v":0},{"$f":"IF(OR('Trust - Frontsheet'!AJ33=\"\",'Trust - Frontsheet'!AJ33=\"-\"),0,('Trust - Frontsheet'!AJ33))","v":5.3456260720411661},{"$f":"IF(A21=\"\",\"\",(IF(ISBLANK('Trust - Frontsheet'!F9),\"\",'Trust - Frontsheet'!F9)))","v":""}]
[{"$f":"IF('Trust - Frontsheet'!D34=0,\"\",IF('Trust - Frontsheet'!D34=\"\",\"\",'Trust - Frontsheet'!D34))","v":"RWG03"},{"$f":"IF(ISBLANK('Trust - Frontsheet'!E34),\"\",'Trust - Frontsheet'!E34)","v":"ST ALBANS CITY HOSPITAL"},{"$f":"IF(ISBLANK('Trust - Frontsheet'!F34),\"\",\"'\" & 'Trust - Frontsheet'!F34 & \"'\")","v":"'De La Mare/Beckett'"},{"$f":"IF(ISBLANK('Trust - Frontsheet'!G34),\"\",'Trust - Frontsheet'!G34)","v":"110 - TRAUMA & ORTHOPAEDICS"},{"$f":"IF(ISBLANK('Trust - Frontsheet'!H34),\"\",'Trust - Frontsheet'!H34)","v":""},{"$f":"'Trust - Frontsheet'!I34","v":1925.25},{"$f":"'Trust - Frontsheet'!J34","v":1806.9166666666667},{"$f":"'Trust - Frontsheet'!K34","v":1724},{"$f":"'Trust - Frontsheet'!L34","v":1698.9166666666667},{"$f":"'Trust - Frontsheet'!M34","v":0},{"$f":"'Trust - Frontsheet'!N34","v":0},{"$f":"'Trust - Frontsheet'!O34","v":0},{"$f":"'Trust - Frontsheet'!P34","v":0},{"$f":"'Trust - Frontsheet'!Q34","v":1524.5},{"$f":"'Trust - Frontsheet'!R34","v":1495},{"$f":"'Trust - Frontsheet'!S34","v":1184.5},{"$f":"'Trust - Frontsheet'!T34","v":1252.5},{"$f":"'Trust - Frontsheet'!U34","v":0},{"$f":"'Trust - Frontsheet'!V34","v":0},{"$f":"'Trust - Frontsheet'!W34","v":0},{"$f":"'Trust - Frontsheet'!X34","v":0},{"$f":"'Trust - Frontsheet'!Y34","v":0},{"$f":"'Trust - Frontsheet'!Z34","v":0},{"$f":"'Trust - Frontsheet'!AA34","v":0},{"$f":"'Trust - Frontsheet'!AB34","v":0},{"$f":"IF(OR('Trust - Frontsheet'!AK34=\"\",'Trust - Frontsheet'!AK34=\"-\"),0,('Trust - Frontsheet'!AK34))","v":0.93853612085010607},{"$f":"IF(OR('Trust - Frontsheet'!AL34=\"\",'Trust - Frontsheet'!AL34=\"-\"),0,('Trust - Frontsheet'!AL34))","v":0.98545050270688328},{"$f":"IF(OR('Trust - Frontsheet'!AM34=\"\",'Trust - Frontsheet'!AM34=\"-\"),0,('Trust - Frontsheet'!AM34))","v":0},{"$f":"IF(OR('Trust - Frontsheet'!AN34=\"\",'Trust - Frontsheet'!AN34=\"-\"),0,('Trust - Frontsheet'!AN34))","v":0},{"$f":"IF(OR('Trust - Frontsheet'!AO34=\"\",'Trust - Frontsheet'!AO34=\"-\"),0,('Trust - Frontsheet'!AO34))","v":0.9806493932436865},{"$f":"IF(OR('Trust - Frontsheet'!AP34=\"\",'Trust - Frontsheet'!AP34=\"-\"),0,('Trust - Frontsheet'!AP34))","v":1.0574081891093288},{"$f":"IF(OR('Trust - Frontsheet'!AQ34=\"\",'Trust - Frontsheet'!AQ34=\"-\"),0,('Trust - Frontsheet'!AQ34))","v":0},{"$f":"IF(OR('Trust - Frontsheet'!AR34=\"\",'Trust - Frontsheet'!AR34=\"-\"),0,('Trust - Frontsheet'!AR34))","v":0},{"$f":"IF(OR('Trust - Frontsheet'!AS34=\"\",'Trust - Frontsheet'!AS34=\"-\"),0,('Trust - Frontsheet'!AS34))","v":0},{"$f":"IF(OR('Trust - Frontsheet'!AT34=\"\",'Trust - Frontsheet'!AT34=\"-\"),0,('Trust - Frontsheet'!AT34))","v":0},{"$f":"'Trust - Frontsheet'!AC34","v":606},{"$f":"IF(OR('Trust - Frontsheet'!AD34=\"\",'Trust - Frontsheet'!AD34=\"-\"),0,('Trust - Frontsheet'!AD34))","v":5.4487073707370746},{"$f":"IF(OR('Trust - Frontsheet'!AE34=\"\",'Trust - Frontsheet'!AE34=\"-\"),0,('Trust - Frontsheet'!AE34))","v":4.870324532453246},{"$f":"IF(OR('Trust - Frontsheet'!AF34=\"\",'Trust - Frontsheet'!AF34=\"-\"),0,('Trust - Frontsheet'!AF34))","v":0},{"$f":"IF(OR('Trust - Frontsheet'!AG34=\"\",'Trust - Frontsheet'!AG34=\"-\"),0,('Trust - Frontsheet'!AG34))","v":0},{"$f":"IF(OR('Trust - Frontsheet'!AH34=\"\",'Trust - Frontsheet'!AH34=\"-\"),0,('Trust - Frontsheet'!AH34))","v":0},{"$f":"IF(OR('Trust - Frontsheet'!AI34=\"\",'Trust - Frontsheet'!AI34=\"-\"),0,('Trust - Frontsheet'!AI34))","v":0},{"$f":"IF(OR('Trust - Frontsheet'!AJ34=\"\",'Trust - Frontsheet'!AJ34=\"-\"),0,('Trust - Frontsheet'!AJ34))","v":10.31903190319032},{"$f":"IF(A22=\"\",\"\",(IF(ISBLANK('Trust - Frontsheet'!F9),\"\",'Trust - Frontsheet'!F9)))","v":""}]
[{"$f":"IF('Trust - Frontsheet'!D35=0,\"\",IF('Trust - Frontsheet'!D35=\"\",\"\",'Trust - Frontsheet'!D35))","v":"RWG02"},{"$f":"IF(ISBLANK('Trust - Frontsheet'!E35),\"\",'Trust - Frontsheet'!E35)","v":"WATFORD GENERAL HOSPITAL"},{"$f":"IF(ISBLANK('Trust - Frontsheet'!F35),\"\",\"'\" & 'Trust - Frontsheet'!F35 & \"'\")","v":"'Elizabeth'"},{"$f":"IF(ISBLANK('Trust - Frontsheet'!G35),\"\",'Trust - Frontsheet'!G35)","v":"502 - GYNAECOLOGY"},{"$f":"IF(ISBLANK('Trust - Frontsheet'!H35),\"\",'Trust - Frontsheet'!H35)","v":""},{"$f":"'Trust - Frontsheet'!I35","v":1069.5},{"$f":"'Trust - Frontsheet'!J35","v":1323},{"$f":"'Trust - Frontsheet'!K35","v":1426},{"$f":"'Trust - Frontsheet'!L35","v":1236.25},{"$f":"'Trust - Frontsheet'!M35","v":0},{"$f":"'Trust - Frontsheet'!N35","v":0},{"$f":"'Trust - Frontsheet'!O35","v":0},{"$f":"'Trust - Frontsheet'!P35","v":11.5},{"$f":"'Trust - Frontsheet'!Q35","v":1069.5},{"$f":"'Trust - Frontsheet'!R35","v":1230.5},{"$f":"'Trust - Frontsheet'!S35","v":713},{"$f":"'Trust - Frontsheet'!T35","v":862.5},{"$f":"'Trust - Frontsheet'!U35","v":0},{"$f":"'Trust - Frontsheet'!V35","v":0},{"$f":"'Trust - Frontsheet'!W35","v":0},{"$f":"'Trust - Frontsheet'!X35","v":0},{"$f":"'Trust - Frontsheet'!Y35","v":0},{"$f":"'Trust - Frontsheet'!Z35","v":0},{"$f":"'Trust - Frontsheet'!AA35","v":0},{"$f":"'Trust - Frontsheet'!AB35","v":0},{"$f":"IF(OR('Trust - Frontsheet'!AK35=\"\",'Trust - Frontsheet'!AK35=\"-\"),0,('Trust - Frontsheet'!AK35))","v":1.2370266479663394},{"$f":"IF(OR('Trust - Frontsheet'!AL35=\"\",'Trust - Frontsheet'!AL35=\"-\"),0,('Trust - Frontsheet'!AL35))","v":0.86693548387096775},{"$f":"IF(OR('Trust - Frontsheet'!AM35=\"\",'Trust - Frontsheet'!AM35=\"-\"),0,('Trust - Frontsheet'!AM35))","v":0},{"$f":"IF(OR('Trust - Frontsheet'!AN35=\"\",'Trust - Frontsheet'!AN35=\"-\"),0,('Trust - Frontsheet'!AN35))","v":0},{"$f":"IF(OR('Trust - Frontsheet'!AO35=\"\",'Trust - Frontsheet'!AO35=\"-\"),0,('Trust - Frontsheet'!AO35))","v":1.1505376344086022},{"$f":"IF(OR('Trust - Frontsheet'!AP35=\"\",'Trust - Frontsheet'!AP35=\"-\"),0,('Trust - Frontsheet'!AP35))","v":1.2096774193548387},{"$f":"IF(OR('Trust - Frontsheet'!AQ35=\"\",'Trust - Frontsheet'!AQ35=\"-\"),0,('Trust - Frontsheet'!AQ35))","v":0},{"$f":"IF(OR('Trust - Frontsheet'!AR35=\"\",'Trust - Frontsheet'!AR35=\"-\"),0,('Trust - Frontsheet'!AR35))","v":0},{"$f":"IF(OR('Trust - Frontsheet'!AS35=\"\",'Trust - Frontsheet'!AS35=\"-\"),0,('Trust - Frontsheet'!AS35))","v":0},{"$f":"IF(OR('Trust - Frontsheet'!AT35=\"\",'Trust - Frontsheet'!AT35=\"-\"),0,('Trust - Frontsheet'!AT35))","v":0},{"$f":"'Trust - Frontsheet'!AC35","v":834},{"$f":"IF(OR('Trust - Frontsheet'!AD35=\"\",'Trust - Frontsheet'!AD35=\"-\"),0,('Trust - Frontsheet'!AD35))","v":3.0617505995203835},{"$f":"IF(OR('Trust - Frontsheet'!AE35=\"\",'Trust - Frontsheet'!AE35=\"-\"),0,('Trust - Frontsheet'!AE35))","v":2.5164868105515588},{"$f":"IF(OR('Trust - Frontsheet'!AF35=\"\",'Trust - Frontsheet'!AF35=\"-\"),0,('Trust - Frontsheet'!AF35))","v":0},{"$f":"IF(OR('Trust - Frontsheet'!AG35=\"\",'Trust - Frontsheet'!AG35=\"-\"),0,('Trust - Frontsheet'!AG35))","v":1.3788968824940047E-2},{"$f":"IF(OR('Trust - Frontsheet'!AH35=\"\",'Trust - Frontsheet'!AH35=\"-\"),0,('Trust - Frontsheet'!AH35))","v":0},{"$f":"IF(OR('Trust - Frontsheet'!AI35=\"\",'Trust - Frontsheet'!AI35=\"-\"),0,('Trust - Frontsheet'!AI35))","v":0},{"$f":"IF(OR('Trust - Frontsheet'!AJ35=\"\",'Trust - Frontsheet'!AJ35=\"-\"),0,('Trust - Frontsheet'!AJ35))","v":5.5920263788968825},{"$f":"IF(A23=\"\",\"\",(IF(ISBLANK('Trust - Frontsheet'!F9),\"\",'Trust - Frontsheet'!F9)))","v":""}]
[{"$f":"IF('Trust - Frontsheet'!D36=0,\"\",IF('Trust - Frontsheet'!D36=\"\",\"\",'Trust - Frontsheet'!D36))","v":"RWG02"},{"$f":"IF(ISBLANK('Trust - Frontsheet'!E36),\"\",'Trust - Frontsheet'!E36)","v":"WATFORD GENERAL HOSPITAL"},{"$f":"IF(ISBLANK('Trust - Frontsheet'!F36),\"\",\"'\" & 'Trust - Frontsheet'!F36 & \"'\")","v":"'Flaunden'"},{"$f":"IF(ISBLANK('Trust - Frontsheet'!G36),\"\",'Trust - Frontsheet'!G36)","v":"100 - GENERAL SURGERY"},{"$f":"IF(ISBLANK('Trust - Frontsheet'!H36),\"\",'Trust - Frontsheet'!H36)","v":""},{"$f":"'Trust - Frontsheet'!I36","v":1061.6666666666699},{"$f":"'Trust - Frontsheet'!J36","v":1012},{"$f":"'Trust - Frontsheet'!K36","v":1782.5},{"$f":"'Trust - Frontsheet'!L36","v":1295.25},{"$f":"'Trust - Frontsheet'!M36","v":0},{"$f":"'Trust - Frontsheet'!N36","v":92},{"$f":"'Trust - Frontsheet'!O36","v":0},{"$f":"'Trust - Frontsheet'!P36","v":69},{"$f":"'Trust - Frontsheet'!Q36","v":1425.5},{"$f":"'Trust - Frontsheet'!R36","v":1184},{"$f":"'Trust - Frontsheet'!S36","v":713},{"$f":"'Trust - Frontsheet'!T36","v":782},{"$f":"'Trust - Frontsheet'!U36","v":0},{"$f":"'Trust - Frontsheet'!V36","v":57.5},{"$f":"'Trust - Frontsheet'!W36","v":0},{"$f":"'Trust - Frontsheet'!X36","v":0},{"$f":"'Trust - Frontsheet'!Y36","v":0},{"$f":"'Trust - Frontsheet'!Z36","v":0},{"$f":"'Trust - Frontsheet'!AA36","v":0},{"$f":"'Trust - Frontsheet'!AB36","v":0},{"$f":"IF(OR('Trust - Frontsheet'!AK36=\"\",'Trust - Frontsheet'!AK36=\"-\"),0,('Trust - Frontsheet'!AK36))","v":0.95321821036106458},{"$f":"IF(OR('Trust - Frontsheet'!AL36=\"\",'Trust - Frontsheet'!AL36=\"-\"),0,('Trust - Frontsheet'!AL36))","v":0.72664796633941098},{"$f":"IF(OR('Trust - Frontsheet'!AM36=\"\",'Trust - Frontsheet'!AM36=\"-\"),0,('Trust - Frontsheet'!AM36))","v":0},{"$f":"IF(OR('Trust - Frontsheet'!AN36=\"\",'Trust - Frontsheet'!AN36=\"-\"),0,('Trust - Frontsheet'!AN36))","v":0},{"$f":"IF(OR('Trust - Frontsheet'!AO36=\"\",'Trust - Frontsheet'!AO36=\"-\"),0,('Trust - Frontsheet'!AO36))","v":0.83058575938267276},{"$f":"IF(OR('Trust - Frontsheet'!AP36=\"\",'Trust - Frontsheet'!AP36=\"-\"),0,('Trust - Frontsheet'!AP36))","v":1.096774193548387},{"$f":"IF(OR('Trust - Frontsheet'!AQ36=\"\",'Trust - Frontsheet'!AQ36=\"-\"),0,('Trust - Frontsheet'!AQ36))","v":0},{"$f":"IF(OR('Trust - Frontsheet'!AR36=\"\",'Trust - Frontsheet'!AR36=\"-\"),0,('Trust - Frontsheet'!AR36))","v":0},{"$f":"IF(OR('Trust - Frontsheet'!AS36=\"\",'Trust - Frontsheet'!AS36=\"-\"),0,('Trust - Frontsheet'!AS36))","v":0},{"$f":"IF(OR('Trust - Frontsheet'!AT36=\"\",'Trust - Frontsheet'!AT36=\"-\"),0,('Trust - Frontsheet'!AT36))","v":0},{"$f":"'Trust - Frontsheet'!AC36","v":763},{"$f":"IF(OR('Trust - Frontsheet'!AD36=\"\",'Trust - Frontsheet'!AD36=\"-\"),0,('Trust - Frontsheet'!AD36))","v":2.8781127129750983},{"$f":"IF(OR('Trust - Frontsheet'!AE36=\"\",'Trust - Frontsheet'!AE36=\"-\"),0,('Trust - Frontsheet'!AE36))","v":2.7224770642201834},{"$f":"IF(OR('Trust - Frontsheet'!AF36=\"\",'Trust - Frontsheet'!AF36=\"-\"),0,('Trust - Frontsheet'!AF36))","v":0.19593709043250326},{"$f":"IF(OR('Trust - Frontsheet'!AG36=\"\",'Trust - Frontsheet'!AG36=\"-\"),0,('Trust - Frontsheet'!AG36))","v":9.0432503276539969E-2},{"$f":"IF(OR('Trust - Frontsheet'!AH36=\"\",'Trust - Frontsheet'!AH36=\"-\"),0,('Trust - Frontsheet'!AH36))","v":0},{"$f":"IF(OR('Trust - Frontsheet'!AI36=\"\",'Trust - Frontsheet'!AI36=\"-\"),0,('Trust - Frontsheet'!AI36))","v":0},{"$f":"IF(OR('Trust - Frontsheet'!AJ36=\"\",'Trust - Frontsheet'!AJ36=\"-\"),0,('Trust - Frontsheet'!AJ36))","v":5.8869593709043251},{"$f":"IF(A24=\"\",\"\",(IF(ISBLANK('Trust - Frontsheet'!F9),\"\",'Trust - Frontsheet'!F9)))","v":""}]
[{"$f":"IF('Trust - Frontsheet'!D37=0,\"\",IF('Trust - Frontsheet'!D37=\"\",\"\",'Trust - Frontsheet'!D37))","v":"RWG02"},{"$f":"IF(ISBLANK('Trust - Frontsheet'!E37),\"\",'Trust - Frontsheet'!E37)","v":"WATFORD GENERAL HOSPITAL"},{"$f":"IF(ISBLANK('Trust - Frontsheet'!F37),\"\",\"'\" & 'Trust - Frontsheet'!F37 & \"'\")","v":"'Langley'"},{"$f":"IF(ISBLANK('Trust - Frontsheet'!G37),\"\",'Trust - Frontsheet'!G37)","v":"110 - TRAUMA & ORTHOPAEDICS"},{"$f":"IF(ISBLANK('Trust - Frontsheet'!H37),\"\",'Trust - Frontsheet'!H37)","v":""},{"$f":"'Trust - Frontsheet'!I37","v":710.5},{"$f":"'Trust - Frontsheet'!J37","v":739.25},{"$f":"'Trust - Frontsheet'!K37","v":713},{"$f":"'Trust - Frontsheet'!L37","v":877.67},{"$f":"'Trust - Frontsheet'!M37","v":0},{"$f":"'Trust - Frontsheet'!N37","v":0},{"$f":"'Trust - Frontsheet'!O37","v":0},{"$f":"'Trust - Frontsheet'!P37","v":0},{"$f":"'Trust - Frontsheet'!Q37","v":713},{"$f":"'Trust - Frontsheet'!R37","v":713},{"$f":"'Trust - Frontsheet'!S37","v":356.5},{"$f":"'Trust - Frontsheet'!T37","v":575},{"$f":"'Trust - Frontsheet'!U37","v":0},{"$f":"'Trust - Frontsheet'!V37","v":0},{"$f":"'Trust - Frontsheet'!W37","v":0},{"$f":"'Trust - Frontsheet'!X37","v":0},{"$f":"'Trust - Frontsheet'!Y37","v":0},{"$f":"'Trust - Frontsheet'!Z37","v":0},{"$f":"'Trust - Frontsheet'!AA37","v":0},{"$f":"'Trust - Frontsheet'!AB37","v":0},{"$f":"IF(OR('Trust - Frontsheet'!AK37=\"\",'Trust - Frontsheet'!AK37=\"-\"),0,('Trust - Frontsheet'!AK37))","v":1.0404644616467276},{"$f":"IF(OR('Trust - Frontsheet'!AL37=\"\",'Trust - Frontsheet'!AL37=\"-\"),0,('Trust - Frontsheet'!AL37))","v":1.2309537166900419},{"$f":"IF(OR('Trust - Frontsheet'!AM37=\"\",'Trust - Frontsheet'!AM37=\"-\"),0,('Trust - Frontsheet'!AM37))","v":0},{"$f":"IF(OR('Trust - Frontsheet'!AN37=\"\",'Trust - Frontsheet'!AN37=\"-\"),0,('Trust - Frontsheet'!AN37))","v":0},{"$f":"IF(OR('Trust - Frontsheet'!AO37=\"\",'Trust - Frontsheet'!AO37=\"-\"),0,('Trust - Frontsheet'!AO37))","v":1},{"$f":"IF(OR('Trust - Frontsheet'!AP37=\"\",'Trust - Frontsheet'!AP37=\"-\"),0,('Trust - Frontsheet'!AP37))","v":1.6129032258064515},{"$f":"IF(OR('Trust - Frontsheet'!AQ37=\"\",'Trust - Frontsheet'!AQ37=\"-\"),0,('Trust - Frontsheet'!AQ37))","v":0},{"$f":"IF(OR('Trust - Frontsheet'!AR37=\"\",'Trust - Frontsheet'!AR37=\"-\"),0,('Trust - Frontsheet'!AR37))","v":0},{"$f":"IF(OR('Trust - Frontsheet'!AS37=\"\",'Trust - Frontsheet'!AS37=\"-\"),0,('Trust - Frontsheet'!AS37))","v":0},{"$f":"IF(OR('Trust - Frontsheet'!AT37=\"\",'Trust - Frontsheet'!AT37=\"-\"),0,('Trust - Frontsheet'!AT37))","v":0},{"$f":"'Trust - Frontsheet'!AC37","v":467},{"$f":"IF(OR('Trust - Frontsheet'!AD37=\"\",'Trust - Frontsheet'!AD37=\"-\"),0,('Trust - Frontsheet'!AD37))","v":3.1097430406852249},{"$f":"IF(OR('Trust - Frontsheet'!AE37=\"\",'Trust - Frontsheet'!AE37=\"-\"),0,('Trust - Frontsheet'!AE37))","v":3.110642398286938},{"$f":"IF(OR('Trust - Frontsheet'!AF37=\"\",'Trust - Frontsheet'!AF37=\"-\"),0,('Trust - Frontsheet'!AF37))","v":0},{"$f":"IF(OR('Trust - Frontsheet'!AG37=\"\",'Trust - Frontsheet'!AG37=\"-\"),0,('Trust - Frontsheet'!AG37))","v":0},{"$f":"IF(OR('Trust - Frontsheet'!AH37=\"\",'Trust - Frontsheet'!AH37=\"-\"),0,('Trust - Frontsheet'!AH37))","v":0},{"$f":"IF(OR('Trust - Frontsheet'!AI37=\"\",'Trust - Frontsheet'!AI37=\"-\"),0,('Trust - Frontsheet'!AI37))","v":0},{"$f":"IF(OR('Trust - Frontsheet'!AJ37=\"\",'Trust - Frontsheet'!AJ37=\"-\"),0,('Trust - Frontsheet'!AJ37))","v":6.2203854389721629},{"$f":"IF(A25=\"\",\"\",(IF(ISBLANK('Trust - Frontsheet'!F9),\"\",'Trust - Frontsheet'!F9)))","v":""}]
[{"$f":"IF('Trust - Frontsheet'!D38=0,\"\",IF('Trust - Frontsheet'!D38=\"\",\"\",'Trust - Frontsheet'!D38))","v":"RWG02"},{"$f":"IF(ISBLANK('Trust - Frontsheet'!E38),\"\",'Trust - Frontsheet'!E38)","v":"WATFORD GENERAL HOSPITAL"},{"$f":"IF(ISBLANK('Trust - Frontsheet'!F38),\"\",\"'\" & 'Trust - Frontsheet'!F38 & \"'\")","v":"'Letchmore'"},{"$f":"IF(ISBLANK('Trust - Frontsheet'!G38),\"\",'Trust - Frontsheet'!G38)","v":"100 - GENERAL SURGERY"},{"$f":"IF(ISBLANK('Trust - Frontsheet'!H38),\"\",'Trust - Frontsheet'!H38)","v":""},{"$f":"'Trust - Frontsheet'!I38","v":1167},{"$f":"'Trust - Frontsheet'!J38","v":1077.3333333333333},{"$f":"'Trust - Frontsheet'!K38","v":1069.5},{"$f":"'Trust - Frontsheet'!L38","v":798.25},{"$f":"'Trust - Frontsheet'!M38","v":0},{"$f":"'Trust - Frontsheet'!N38","v":0},{"$f":"'Trust - Frontsheet'!O38","v":0},{"$f":"'Trust - Frontsheet'!P38","v":138},{"$f":"'Trust - Frontsheet'!Q38","v":1069.5},{"$f":"'Trust - Frontsheet'!R38","v":1058},{"$f":"'Trust - Frontsheet'!S38","v":713},{"$f":"'Trust - Frontsheet'!T38","v":897},{"$f":"'Trust - Frontsheet'!U38","v":0},{"$f":"'Trust - Frontsheet'!V38","v":0},{"$f":"'Trust - Frontsheet'!W38","v":0},{"$f":"'Trust - Frontsheet'!X38","v":23},{"$f":"'Trust - Frontsheet'!Y38","v":0},{"$f":"'Trust - Frontsheet'!Z38","v":0},{"$f":"'Trust - Frontsheet'!AA38","v":0},{"$f":"'Trust - Frontsheet'!AB38","v":0},{"$f":"IF(OR('Trust - Frontsheet'!AK38=\"\",'Trust - Frontsheet'!AK38=\"-\"),0,('Trust - Frontsheet'!AK38))","v":0.92316481005427009},{"$f":"IF(OR('Trust - Frontsheet'!AL38=\"\",'Trust - Frontsheet'!AL38=\"-\"),0,('Trust - Frontsheet'!AL38))","v":0.74637681159420288},{"$f":"IF(OR('Trust - Frontsheet'!AM38=\"\",'Trust - Frontsheet'!AM38=\"-\"),0,('Trust - Frontsheet'!AM38))","v":0},{"$f":"IF(OR('Trust - Frontsheet'!AN38=\"\",'Trust - Frontsheet'!AN38=\"-\"),0,('Trust - Frontsheet'!AN38))","v":0},{"$f":"IF(OR('Trust - Frontsheet'!AO38=\"\",'Trust - Frontsheet'!AO38=\"-\"),0,('Trust - Frontsheet'!AO38))","v":0.989247311827957},{"$f":"IF(OR('Trust - Frontsheet'!AP38=\"\",'Trust - Frontsheet'!AP38=\"-\"),0,('Trust - Frontsheet'!AP38))","v":1.2580645161290323},{"$f":"IF(OR('Trust - Frontsheet'!AQ38=\"\",'Trust - Frontsheet'!AQ38=\"-\"),0,('Trust - Frontsheet'!AQ38))","v":0},{"$f":"IF(OR('Trust - Frontsheet'!AR38=\"\",'Trust - Frontsheet'!AR38=\"-\"),0,('Trust - Frontsheet'!AR38))","v":0},{"$f":"IF(OR('Trust - Frontsheet'!AS38=\"\",'Trust - Frontsheet'!AS38=\"-\"),0,('Trust - Frontsheet'!AS38))","v":0},{"$f":"IF(OR('Trust - Frontsheet'!AT38=\"\",'Trust - Frontsheet'!AT38=\"-\"),0,('Trust - Frontsheet'!AT38))","v":0},{"$f":"'Trust - Frontsheet'!AC38","v":670},{"$f":"IF(OR('Trust - Frontsheet'!AD38=\"\",'Trust - Frontsheet'!AD38=\"-\"),0,('Trust - Frontsheet'!AD38))","v":3.1870646766169148},{"$f":"IF(OR('Trust - Frontsheet'!AE38=\"\",'Trust - Frontsheet'!AE38=\"-\"),0,('Trust - Frontsheet'!AE38))","v":2.5302238805970148},{"$f":"IF(OR('Trust - Frontsheet'!AF38=\"\",'Trust - Frontsheet'!AF38=\"-\"),0,('Trust - Frontsheet'!AF38))","v":0},{"$f":"IF(OR('Trust - Frontsheet'!AG38=\"\",'Trust - Frontsheet'!AG38=\"-\"),0,('Trust - Frontsheet'!AG38))","v":0.24029850746268658},{"$f":"IF(OR('Trust - Frontsheet'!AH38=\"\",'Trust - Frontsheet'!AH38=\"-\"),0,('Trust - Frontsheet'!AH38))","v":0},{"$f":"IF(OR('Trust - Frontsheet'!AI38=\"\",'Trust - Frontsheet'!AI38=\"-\"),0,('Trust - Frontsheet'!AI38))","v":0},{"$f":"IF(OR('Trust - Frontsheet'!AJ38=\"\",'Trust - Frontsheet'!AJ38=\"-\"),0,('Trust - Frontsheet'!AJ38))","v":5.9575870646766163},{"$f":"IF(A26=\"\",\"\",(IF(ISBLANK('Trust - Frontsheet'!F9),\"\",'Trust - Frontsheet'!F9)))","v":""}]
[{"$f":"IF('Trust - Frontsheet'!D39=0,\"\",IF('Trust - Frontsheet'!D39=\"\",\"\",'Trust - Frontsheet'!D39))","v":"RWG02"},{"$f":"IF(ISBLANK('Trust - Frontsheet'!E39),\"\",'Trust - Frontsheet'!E39)","v":"WATFORD GENERAL HOSPITAL"},{"$f":"IF(ISBLANK('Trust - Frontsheet'!F39),\"\",\"'\" & 'Trust - Frontsheet'!F39 & \"'\")","v":"'Ridge'"},{"$f":"IF(ISBLANK('Trust - Frontsheet'!G39),\"\",'Trust - Frontsheet'!G39)","v":"110 - TRAUMA & ORTHOPAEDICS"},{"$f":"IF(ISBLANK('Trust - Frontsheet'!H39),\"\",'Trust - Frontsheet'!H39)","v":""},{"$f":"'Trust - Frontsheet'!I39","v":1421.75},{"$f":"'Trust - Frontsheet'!J39","v":1234},{"$f":"'Trust - Frontsheet'!K39","v":1426},{"$f":"'Trust - Frontsheet'!L39","v":1435.5},{"$f":"'Trust - Frontsheet'!M39","v":0},{"$f":"'Trust - Frontsheet'!N39","v":138},{"$f":"'Trust - Frontsheet'!O39","v":0},{"$f":"'Trust - Frontsheet'!P39","v":0},{"$f":"'Trust - Frontsheet'!Q39","v":1426},{"$f":"'Trust - Frontsheet'!R39","v":1403},{"$f":"'Trust - Frontsheet'!S39","v":1069.5},{"$f":"'Trust - Frontsheet'!T39","v":1184.5},{"$f":"'Trust - Frontsheet'!U39","v":0},{"$f":"'Trust - Frontsheet'!V39","v":0},{"$f":"'Trust - Frontsheet'!W39","v":0},{"$f":"'Trust - Frontsheet'!X39","v":0},{"$f":"'Trust - Frontsheet'!Y39","v":0},{"$f":"'Trust - Frontsheet'!Z39","v":0},{"$f":"'Trust - Frontsheet'!AA39","v":0},{"$f":"'Trust - Frontsheet'!AB39","v":0},{"$f":"IF(OR('Trust - Frontsheet'!AK39=\"\",'Trust - Frontsheet'!AK39=\"-\"),0,('Trust - Frontsheet'!AK39))","v":0.86794443467557592},{"$f":"IF(OR('Trust - Frontsheet'!AL39=\"\",'Trust - Frontsheet'!AL39=\"-\"),0,('Trust - Frontsheet'!AL39))","v":1.0066619915848527},{"$f":"IF(OR('Trust - Frontsheet'!AM39=\"\",'Trust - Frontsheet'!AM39=\"-\"),0,('Trust - Frontsheet'!AM39))","v":0},{"$f":"IF(OR('Trust - Frontsheet'!AN39=\"\",'Trust - Frontsheet'!AN39=\"-\"),0,('Trust - Frontsheet'!AN39))","v":0},{"$f":"IF(OR('Trust - Frontsheet'!AO39=\"\",'Trust - Frontsheet'!AO39=\"-\"),0,('Trust - Frontsheet'!AO39))","v":0.9838709677419355},{"$f":"IF(OR('Trust - Frontsheet'!AP39=\"\",'Trust - Frontsheet'!AP39=\"-\"),0,('Trust - Frontsheet'!AP39))","v":1.10752688172043},{"$f":"IF(OR('Trust - Frontsheet'!AQ39=\"\",'Trust - Frontsheet'!AQ39=\"-\"),0,('Trust - Frontsheet'!AQ39))","v":0},{"$f":"IF(OR('Trust - Frontsheet'!AR39=\"\",'Trust - Frontsheet'!AR39=\"-\"),0,('Trust - Frontsheet'!AR39))","v":0},{"$f":"IF(OR('Trust - Frontsheet'!AS39=\"\",'Trust - Frontsheet'!AS39=\"-\"),0,('Trust - Frontsheet'!AS39))","v":0},{"$f":"IF(OR('Trust - Frontsheet'!AT39=\"\",'Trust - Frontsheet'!AT39=\"-\"),0,('Trust - Frontsheet'!AT39))","v":0},{"$f":"'Trust - Frontsheet'!AC39","v":877},{"$f":"IF(OR('Trust - Frontsheet'!AD39=\"\",'Trust - Frontsheet'!AD39=\"-\"),0,('Trust - Frontsheet'!AD39))","v":3.006841505131129},{"$f":"IF(OR('Trust - Frontsheet'!AE39=\"\",'Trust - Frontsheet'!AE39=\"-\"),0,('Trust - Frontsheet'!AE39))","v":2.9874572405929305},{"$f":"IF(OR('Trust - Frontsheet'!AF39=\"\",'Trust - Frontsheet'!AF39=\"-\"),0,('Trust - Frontsheet'!AF39))","v":0.15735461801596351},{"$f":"IF(OR('Trust - Frontsheet'!AG39=\"\",'Trust - Frontsheet'!AG39=\"-\"),0,('Trust - Frontsheet'!AG39))","v":0},{"$f":"IF(OR('Trust - Frontsheet'!AH39=\"\",'Trust - Frontsheet'!AH39=\"-\"),0,('Trust - Frontsheet'!AH39))","v":0},{"$f":"IF(OR('Trust - Frontsheet'!AI39=\"\",'Trust - Frontsheet'!AI39=\"-\"),0,('Trust - Frontsheet'!AI39))","v":0},{"$f":"IF(OR('Trust - Frontsheet'!AJ39=\"\",'Trust - Frontsheet'!AJ39=\"-\"),0,('Trust - Frontsheet'!AJ39))","v":6.1516533637400226},{"$f":"IF(A27=\"\",\"\",(IF(ISBLANK('Trust - Frontsheet'!F9),\"\",'Trust - Frontsheet'!F9)))","v":""}]
[{"$f":"IF('Trust - Frontsheet'!D40=0,\"\",IF('Trust - Frontsheet'!D40=\"\",\"\",'Trust - Frontsheet'!D40))","v":"RWG02"},{"$f":"IF(ISBLANK('Trust - Frontsheet'!E40),\"\",'Trust - Frontsheet'!E40)","v":"WATFORD GENERAL HOSPITAL"},{"$f":"IF(ISBLANK('Trust - Frontsheet'!F40),\"\",\"'\" & 'Trust - Frontsheet'!F40 & \"'\")","v":"'ABC'"},{"$f":"IF(ISBLANK('Trust - Frontsheet'!G40),\"\",'Trust - Frontsheet'!G40)","v":"501 - OBSTETRICS"},{"$f":"IF(ISBLANK('Trust - Frontsheet'!H40),\"\",'Trust - Frontsheet'!H40)","v":""},{"$f":"'Trust - Frontsheet'!I40","v":1058.5},{"$f":"'Trust - Frontsheet'!J40","v":997.25},{"$f":"'Trust - Frontsheet'!K40","v":356.5},{"$f":"'Trust - Frontsheet'!L40","v":299},{"$f":"'Trust - Frontsheet'!M40","v":0},{"$f":"'Trust - Frontsheet'!N40","v":0},{"$f":"'Trust - Frontsheet'!O40","v":0},{"$f":"'Trust - Frontsheet'!P40","v":0},{"$f":"'Trust - Frontsheet'!Q40","v":1070},{"$f":"'Trust - Frontsheet'!R40","v":1005},{"$f":"'Trust - Frontsheet'!S40","v":356.5},{"$f":"'Trust - Frontsheet'!T40","v":345},{"$f":"'Trust - Frontsheet'!U40","v":0},{"$f":"'Trust - Frontsheet'!V40","v":0},{"$f":"'Trust - Frontsheet'!W40","v":0},{"$f":"'Trust - Frontsheet'!X40","v":0},{"$f":"'Trust - Frontsheet'!Y40","v":0},{"$f":"'Trust - Frontsheet'!Z40","v":0},{"$f":"'Trust - Frontsheet'!AA40","v":0},{"$f":"'Trust - Frontsheet'!AB40","v":0},{"$f":"IF(OR('Trust - Frontsheet'!AK40=\"\",'Trust - Frontsheet'!AK40=\"-\"),0,('Trust - Frontsheet'!AK40))","v":0.94213509683514407},{"$f":"IF(OR('Trust - Frontsheet'!AL40=\"\",'Trust - Frontsheet'!AL40=\"-\"),0,('Trust - Frontsheet'!AL40))","v":0.83870967741935487},{"$f":"IF(OR('Trust - Frontsheet'!AM40=\"\",'Trust - Frontsheet'!AM40=\"-\"),0,('Trust - Frontsheet'!AM40))","v":0},{"$f":"IF(OR('Trust - Frontsheet'!AN40=\"\",'Trust - Frontsheet'!AN40=\"-\"),0,('Trust - Frontsheet'!AN40))","v":0},{"$f":"IF(OR('Trust - Frontsheet'!AO40=\"\",'Trust - Frontsheet'!AO40=\"-\"),0,('Trust - Frontsheet'!AO40))","v":0.93925233644859818},{"$f":"IF(OR('Trust - Frontsheet'!AP40=\"\",'Trust - Frontsheet'!AP40=\"-\"),0,('Trust - Frontsheet'!AP40))","v":0.967741935483871},{"$f":"IF(OR('Trust - Frontsheet'!AQ40=\"\",'Trust - Frontsheet'!AQ40=\"-\"),0,('Trust - Frontsheet'!AQ40))","v":0},{"$f":"IF(OR('Trust - Frontsheet'!AR40=\"\",'Trust - Frontsheet'!AR40=\"-\"),0,('Trust - Frontsheet'!AR40))","v":0},{"$f":"IF(OR('Trust - Frontsheet'!AS40=\"\",'Trust - Frontsheet'!AS40=\"-\"),0,('Trust - Frontsheet'!AS40))","v":0},{"$f":"IF(OR('Trust - Frontsheet'!AT40=\"\",'Trust - Frontsheet'!AT40=\"-\"),0,('Trust - Frontsheet'!AT40))","v":0},{"$f":"'Trust - Frontsheet'!AC40","v":104},{"$f":"IF(OR('Trust - Frontsheet'!AD40=\"\",'Trust - Frontsheet'!AD40=\"-\"),0,('Trust - Frontsheet'!AD40))","v":19.252403846153847},{"$f":"IF(OR('Trust - Frontsheet'!AE40=\"\",'Trust - Frontsheet'!AE40=\"-\"),0,('Trust - Frontsheet'!AE40))","v":6.1923076923076925},{"$f":"IF(OR('Trust - Frontsheet'!AF40=\"\",'Trust - Frontsheet'!AF40=\"-\"),0,('Trust - Frontsheet'!AF40))","v":0},{"$f":"IF(OR('Trust - Frontsheet'!AG40=\"\",'Trust - Frontsheet'!AG40=\"-\"),0,('Trust - Frontsheet'!AG40))","v":0},{"$f":"IF(OR('Trust - Frontsheet'!AH40=\"\",'Trust - Frontsheet'!AH40=\"-\"),0,('Trust - Frontsheet'!AH40))","v":0},{"$f":"IF(OR('Trust - Frontsheet'!AI40=\"\",'Trust - Frontsheet'!AI40=\"-\"),0,('Trust - Frontsheet'!AI40))","v":0},{"$f":"IF(OR('Trust - Frontsheet'!AJ40=\"\",'Trust - Frontsheet'!AJ40=\"-\"),0,('Trust - Frontsheet'!AJ40))","v":25.44471153846154},{"$f":"IF(A28=\"\",\"\",(IF(ISBLANK('Trust - Frontsheet'!F9),\"\",'Trust - Frontsheet'!F9)))","v":""}]
[{"$f":"IF('Trust - Frontsheet'!D41=0,\"\",IF('Trust - Frontsheet'!D41=\"\",\"\",'Trust - Frontsheet'!D41))","v":"RWG02"},{"$f":"IF(ISBLANK('Trust - Frontsheet'!E41),\"\",'Trust - Frontsheet'!E41)","v":"WATFORD GENERAL HOSPITAL"},{"$f":"IF(ISBLANK('Trust - Frontsheet'!F41),\"\",\"'\" & 'Trust - Frontsheet'!F41 & \"'\")","v":"'Delivery Suite'"},{"$f":"IF(ISBLANK('Trust - Frontsheet'!G41),\"\",'Trust - Frontsheet'!G41)","v":"501 - OBSTETRICS"},{"$f":"IF(ISBLANK('Trust - Frontsheet'!H41),\"\",'Trust - Frontsheet'!H41)","v":""},{"$f":"'Trust - Frontsheet'!I41","v":2665.75},{"$f":"'Trust - Frontsheet'!J41","v":2528.5},{"$f":"'Trust - Frontsheet'!K41","v":713},{"$f":"'Trust - Frontsheet'!L41","v":598},{"$f":"'Trust - Frontsheet'!M41","v":0},{"$f":"'Trust - Frontsheet'!N41","v":0},{"$f":"'Trust - Frontsheet'!O41","v":0},{"$f":"'Trust - Frontsheet'!P41","v":0},{"$f":"'Trust - Frontsheet'!Q41","v":2501.3333333333298},{"$f":"'Trust - Frontsheet'!R41","v":2465.0833333333335},{"$f":"'Trust - Frontsheet'!S41","v":713},{"$f":"'Trust - Frontsheet'!T41","v":713},{"$f":"'Trust - Frontsheet'!U41","v":0},{"$f":"'Trust - Frontsheet'!V41","v":0},{"$f":"'Trust - Frontsheet'!W41","v":0},{"$f":"'Trust - Frontsheet'!X41","v":0},{"$f":"'Trust - Frontsheet'!Y41","v":0},{"$f":"'Trust - Frontsheet'!Z41","v":0},{"$f":"'Trust - Frontsheet'!AA41","v":0},{"$f":"'Trust - Frontsheet'!AB41","v":0},{"$f":"IF(OR('Trust - Frontsheet'!AK41=\"\",'Trust - Frontsheet'!AK41=\"-\"),0,('Trust - Frontsheet'!AK41))","v":0.94851355153333961},{"$f":"IF(OR('Trust - Frontsheet'!AL41=\"\",'Trust - Frontsheet'!AL41=\"-\"),0,('Trust - Frontsheet'!AL41))","v":0.83870967741935487},{"$f":"IF(OR('Trust - Frontsheet'!AM41=\"\",'Trust - Frontsheet'!AM41=\"-\"),0,('Trust - Frontsheet'!AM41))","v":0},{"$f":"IF(OR('Trust - Frontsheet'!AN41=\"\",'Trust - Frontsheet'!AN41=\"-\"),0,('Trust - Frontsheet'!AN41))","v":0},{"$f":"IF(OR('Trust - Frontsheet'!AO41=\"\",'Trust - Frontsheet'!AO41=\"-\"),0,('Trust - Frontsheet'!AO41))","v":0.98550772921108887},{"$f":"IF(OR('Trust - Frontsheet'!AP41=\"\",'Trust - Frontsheet'!AP41=\"-\"),0,('Trust - Frontsheet'!AP41))","v":1},{"$f":"IF(OR('Trust - Frontsheet'!AQ41=\"\",'Trust - Frontsheet'!AQ41=\"-\"),0,('Trust - Frontsheet'!AQ41))","v":0},{"$f":"IF(OR('Trust - Frontsheet'!AR41=\"\",'Trust - Frontsheet'!AR41=\"-\"),0,('Trust - Frontsheet'!AR41))","v":0},{"$f":"IF(OR('Trust - Frontsheet'!AS41=\"\",'Trust - Frontsheet'!AS41=\"-\"),0,('Trust - Frontsheet'!AS41))","v":0},{"$f":"IF(OR('Trust - Frontsheet'!AT41=\"\",'Trust - Frontsheet'!AT41=\"-\"),0,('Trust - Frontsheet'!AT41))","v":0},{"$f":"'Trust - Frontsheet'!AC41","v":273},{"$f":"IF(OR('Trust - Frontsheet'!AD41=\"\",'Trust - Frontsheet'!AD41=\"-\"),0,('Trust - Frontsheet'!AD41))","v":18.291514041514045},{"$f":"IF(OR('Trust - Frontsheet'!AE41=\"\",'Trust - Frontsheet'!AE41=\"-\"),0,('Trust - Frontsheet'!AE41))","v":4.802197802197802},{"$f":"IF(OR('Trust - Frontsheet'!AF41=\"\",'Trust - Frontsheet'!AF41=\"-\"),0,('Trust - Frontsheet'!AF41))","v":0},{"$f":"IF(OR('Trust - Frontsheet'!AG41=\"\",'Trust - Frontsheet'!AG41=\"-\"),0,('Trust - Frontsheet'!AG41))","v":0},{"$f":"IF(OR('Trust - Frontsheet'!AH41=\"\",'Trust - Frontsheet'!AH41=\"-\"),0,('Trust - Frontsheet'!AH41))","v":0},{"$f":"IF(OR('Trust - Frontsheet'!AI41=\"\",'Trust - Frontsheet'!AI41=\"-\"),0,('Trust - Frontsheet'!AI41))","v":0},{"$f":"IF(OR('Trust - Frontsheet'!AJ41=\"\",'Trust - Frontsheet'!AJ41=\"-\"),0,('Trust - Frontsheet'!AJ41))","v":23.093711843711844},{"$f":"IF(A29=\"\",\"\",(IF(ISBLANK('Trust - Frontsheet'!F9),\"\",'Trust - Frontsheet'!F9)))","v":""}]
[{"$f":"IF('Trust - Frontsheet'!D42=0,\"\",IF('Trust - Frontsheet'!D42=\"\",\"\",'Trust - Frontsheet'!D42))","v":"RWG02"},{"$f":"IF(ISBLANK('Trust - Frontsheet'!E42),\"\",'Trust - Frontsheet'!E42)","v":"WATFORD GENERAL HOSPITAL"},{"$f":"IF(ISBLANK('Trust - Frontsheet'!F42),\"\",\"'\" & 'Trust - Frontsheet'!F42 & \"'\")","v":"'Katherine'"},{"$f":"IF(ISBLANK('Trust - Frontsheet'!G42),\"\",'Trust - Frontsheet'!G42)","v":"501 - OBSTETRICS"},{"$f":"IF(ISBLANK('Trust - Frontsheet'!H42),\"\",'Trust - Frontsheet'!H42)","v":""},{"$f":"'Trust - Frontsheet'!I42","v":1454},{"$f":"'Trust - Frontsheet'!J42","v":1069.83},{"$f":"'Trust - Frontsheet'!K42","v":1427.5},{"$f":"'Trust - Frontsheet'!L42","v":853.5},{"$f":"'Trust - Frontsheet'!M42","v":0},{"$f":"'Trust - Frontsheet'!N42","v":281.5},{"$f":"'Trust - Frontsheet'!O42","v":0},{"$f":"'Trust - Frontsheet'!P42","v":92},{"$f":"'Trust - Frontsheet'!Q42","v":1069.5},{"$f":"'Trust - Frontsheet'!R42","v":1046.5},{"$f":"'Trust - Frontsheet'!S42","v":1426},{"$f":"'Trust - Frontsheet'!T42","v":1068.5},{"$f":"'Trust - Frontsheet'!U42","v":0},{"$f":"'Trust - Frontsheet'!V42","v":0},{"$f":"'Trust - Frontsheet'!W42","v":0},{"$f":"'Trust - Frontsheet'!X42","v":92},{"$f":"'Trust - Frontsheet'!Y42","v":0},{"$f":"'Trust - Frontsheet'!Z42","v":0},{"$f":"'Trust - Frontsheet'!AA42","v":0},{"$f":"'Trust - Frontsheet'!AB42","v":0},{"$f":"IF(OR('Trust - Frontsheet'!AK42=\"\",'Trust - Frontsheet'!AK42=\"-\"),0,('Trust - Frontsheet'!AK42))","v":0.7357840440165061},{"$f":"IF(OR('Trust - Frontsheet'!AL42=\"\",'Trust - Frontsheet'!AL42=\"-\"),0,('Trust - Frontsheet'!AL42))","v":0.5978984238178634},{"$f":"IF(OR('Trust - Frontsheet'!AM42=\"\",'Trust - Frontsheet'!AM42=\"-\"),0,('Trust - Frontsheet'!AM42))","v":0},{"$f":"IF(OR('Trust - Frontsheet'!AN42=\"\",'Trust - Frontsheet'!AN42=\"-\"),0,('Trust - Frontsheet'!AN42))","v":0},{"$f":"IF(OR('Trust - Frontsheet'!AO42=\"\",'Trust - Frontsheet'!AO42=\"-\"),0,('Trust - Frontsheet'!AO42))","v":0.978494623655914},{"$f":"IF(OR('Trust - Frontsheet'!AP42=\"\",'Trust - Frontsheet'!AP42=\"-\"),0,('Trust - Frontsheet'!AP42))","v":0.74929873772791022},{"$f":"IF(OR('Trust - Frontsheet'!AQ42=\"\",'Trust - Frontsheet'!AQ42=\"-\"),0,('Trust - Frontsheet'!AQ42))","v":0},{"$f":"IF(OR('Trust - Frontsheet'!AR42=\"\",'Trust - Frontsheet'!AR42=\"-\"),0,('Trust - Frontsheet'!AR42))","v":0},{"$f":"IF(OR('Trust - Frontsheet'!AS42=\"\",'Trust - Frontsheet'!AS42=\"-\"),0,('Trust - Frontsheet'!AS42))","v":0},{"$f":"IF(OR('Trust - Frontsheet'!AT42=\"\",'Trust - Frontsheet'!AT42=\"-\"),0,('Trust - Frontsheet'!AT42))","v":0},{"$f":"'Trust - Frontsheet'!AC42","v":1045},{"$f":"IF(OR('Trust - Frontsheet'!AD42=\"\",'Trust - Frontsheet'!AD42=\"-\"),0,('Trust - Frontsheet'!AD42))","v":2.0251961722488039},{"$f":"IF(OR('Trust - Frontsheet'!AE42=\"\",'Trust - Frontsheet'!AE42=\"-\"),0,('Trust - Frontsheet'!AE42))","v":1.8392344497607656},{"$f":"IF(OR('Trust - Frontsheet'!AF42=\"\",'Trust - Frontsheet'!AF42=\"-\"),0,('Trust - Frontsheet'!AF42))","v":0.26937799043062199},{"$f":"IF(OR('Trust - Frontsheet'!AG42=\"\",'Trust - Frontsheet'!AG42=\"-\"),0,('Trust - Frontsheet'!AG42))","v":0.17607655502392344},{"$f":"IF(OR('Trust - Frontsheet'!AH42=\"\",'Trust - Frontsheet'!AH42=\"-\"),0,('Trust - Frontsheet'!AH42))","v":0},{"$f":"IF(OR('Trust - Frontsheet'!AI42=\"\",'Trust - Frontsheet'!AI42=\"-\"),0,('Trust - Frontsheet'!AI42))","v":0},{"$f":"IF(OR('Trust - Frontsheet'!AJ42=\"\",'Trust - Frontsheet'!AJ42=\"-\"),0,('Trust - Frontsheet'!AJ42))","v":4.309885167464115},{"$f":"IF(A30=\"\",\"\",(IF(ISBLANK('Trust - Frontsheet'!F9),\"\",'Trust - Frontsheet'!F9)))","v":""}]
[{"$f":"IF('Trust - Frontsheet'!D43=0,\"\",IF('Trust - Frontsheet'!D43=\"\",\"\",'Trust - Frontsheet'!D43))","v":"RWG02"},{"$f":"IF(ISBLANK('Trust - Frontsheet'!E43),\"\",'Trust - Frontsheet'!E43)","v":"WATFORD GENERAL HOSPITAL"},{"$f":"IF(ISBLANK('Trust - Frontsheet'!F43),\"\",\"'\" & 'Trust - Frontsheet'!F43 & \"'\")","v":"'Victoria'"},{"$f":"IF(ISBLANK('Trust - Frontsheet'!G43),\"\",'Trust - Frontsheet'!G43)","v":"501 - OBSTETRICS"},{"$f":"IF(ISBLANK('Trust - Frontsheet'!H43),\"\",'Trust - Frontsheet'!H43)","v":""},{"$f":"'Trust - Frontsheet'!I43","v":713},{"$f":"'Trust - Frontsheet'!J43","v":713},{"$f":"'Trust - Frontsheet'!K43","v":356.5},{"$f":"'Trust - Frontsheet'!L43","v":299},{"$f":"'Trust - Frontsheet'!M43","v":0},{"$f":"'Trust - Frontsheet'!N43","v":0},{"$f":"'Trust - Frontsheet'!O43","v":0},{"$f":"'Trust - Frontsheet'!P43","v":0},{"$f":"'Trust - Frontsheet'!Q43","v":713},{"$f":"'Trust - Frontsheet'!R43","v":713},{"$f":"'Trust - Frontsheet'!S43","v":356.5},{"$f":"'Trust - Frontsheet'!T43","v":333.5},{"$f":"'Trust - Frontsheet'!U43","v":0},{"$f":"'Trust - Frontsheet'!V43","v":0},{"$f":"'Trust - Frontsheet'!W43","v":0},{"$f":"'Trust - Frontsheet'!X43","v":0},{"$f":"'Trust - Frontsheet'!Y43","v":0},{"$f":"'Trust - Frontsheet'!Z43","v":0},{"$f":"'Trust - Frontsheet'!AA43","v":0},{"$f":"'Trust - Frontsheet'!AB43","v":0},{"$f":"IF(OR('Trust - Frontsheet'!AK43=\"\",'Trust - Frontsheet'!AK43=\"-\"),0,('Trust - Frontsheet'!AK43))","v":1},{"$f":"IF(OR('Trust - Frontsheet'!AL43=\"\",'Trust - Frontsheet'!AL43=\"-\"),0,('Trust - Frontsheet'!AL43))","v":0.83870967741935487},{"$f":"IF(OR('Trust - Frontsheet'!AM43=\"\",'Trust - Frontsheet'!AM43=\"-\"),0,('Trust - Frontsheet'!AM43))","v":0},{"$f":"IF(OR('Trust - Frontsheet'!AN43=\"\",'Trust - Frontsheet'!AN43=\"-\"),0,('Trust - Frontsheet'!AN43))","v":0},{"$f":"IF(OR('Trust - Frontsheet'!AO43=\"\",'Trust - Frontsheet'!AO43=\"-\"),0,('Trust - Frontsheet'!AO43))","v":1},{"$f":"IF(OR('Trust - Frontsheet'!AP43=\"\",'Trust - Frontsheet'!AP43=\"-\"),0,('Trust - Frontsheet'!AP43))","v":0.93548387096774188},{"$f":"IF(OR('Trust - Frontsheet'!AQ43=\"\",'Trust - Frontsheet'!AQ43=\"-\"),0,('Trust - Frontsheet'!AQ43))","v":0},{"$f":"IF(OR('Trust - Frontsheet'!AR43=\"\",'Trust - Frontsheet'!AR43=\"-\"),0,('Trust - Frontsheet'!AR43))","v":0},{"$f":"IF(OR('Trust - Frontsheet'!AS43=\"\",'Trust - Frontsheet'!AS43=\"-\"),0,('Trust - Frontsheet'!AS43))","v":0},{"$f":"IF(OR('Trust - Frontsheet'!AT43=\"\",'Trust - Frontsheet'!AT43=\"-\"),0,('Trust - Frontsheet'!AT43))","v":0},{"$f":"'Trust - Frontsheet'!AC43","v":265},{"$f":"IF(OR('Trust - Frontsheet'!AD43=\"\",'Trust - Frontsheet'!AD43=\"-\"),0,('Trust - Frontsheet'!AD43))","v":5.3811320754716983},{"$f":"IF(OR('Trust - Frontsheet'!AE43=\"\",'Trust - Frontsheet'!AE43=\"-\"),0,('Trust - Frontsheet'!AE43))","v":2.3867924528301887},{"$f":"IF(OR('Trust - Frontsheet'!AF43=\"\",'Trust - Frontsheet'!AF43=\"-\"),0,('Trust - Frontsheet'!AF43))","v":0},{"$f":"IF(OR('Trust - Frontsheet'!AG43=\"\",'Trust - Frontsheet'!AG43=\"-\"),0,('Trust - Frontsheet'!AG43))","v":0},{"$f":"IF(OR('Trust - Frontsheet'!AH43=\"\",'Trust - Frontsheet'!AH43=\"-\"),0,('Trust - Frontsheet'!AH43))","v":0},{"$f":"IF(OR('Trust - Frontsheet'!AI43=\"\",'Trust - Frontsheet'!AI43=\"-\"),0,('Trust - Frontsheet'!AI43))","v":0},{"$f":"IF(OR('Trust - Frontsheet'!AJ43=\"\",'Trust - Frontsheet'!AJ43=\"-\"),0,('Trust - Frontsheet'!AJ43))","v":7.7679245283018865},{"$f":"IF(A31=\"\",\"\",(IF(ISBLANK('Trust - Frontsheet'!F9),\"\",'Trust - Frontsheet'!F9)))","v":""}]
[{"$f":"IF('Trust - Frontsheet'!D44=0,\"\",IF('Trust - Frontsheet'!D44=\"\",\"\",'Trust - Frontsheet'!D44))","v":"RWG02"},{"$f":"IF(ISBLANK('Trust - Frontsheet'!E44),\"\",'Trust - Frontsheet'!E44)","v":"WATFORD GENERAL HOSPITAL"},{"$f":"IF(ISBLANK('Trust - Frontsheet'!F44),\"\",\"'\" & 'Trust - Frontsheet'!F44 & \"'\")","v":"'SCBU'"},{"$f":"IF(ISBLANK('Trust - Frontsheet'!G44),\"\",'Trust - Frontsheet'!G44)","v":"501 - OBSTETRICS"},{"$f":"IF(ISBLANK('Trust - Frontsheet'!H44),\"\",'Trust - Frontsheet'!H44)","v":""},{"$f":"'Trust - Frontsheet'!I44","v":1529.5},{"$f":"'Trust - Frontsheet'!J44","v":1660.5833333333333},{"$f":"'Trust - Frontsheet'!K44","v":184},{"$f":"'Trust - Frontsheet'!L44","v":168.5},{"$f":"'Trust - Frontsheet'!M44","v":0},{"$f":"'Trust - Frontsheet'!N44","v":0},{"$f":"'Trust - Frontsheet'!O44","v":0},{"$f":"'Trust - Frontsheet'!P44","v":0},{"$f":"'Trust - Frontsheet'!Q44","v":1597.5},{"$f":"'Trust - Frontsheet'!R44","v":1631},{"$f":"'Trust - Frontsheet'!S44","v":149.5},{"$f":"'Trust - Frontsheet'!T44","v":149.5},{"$f":"'Trust - Frontsheet'!U44","v":0},{"$f":"'Trust - Frontsheet'!V44","v":0},{"$f":"'Trust - Frontsheet'!W44","v":0},{"$f":"'Trust - Frontsheet'!X44","v":0},{"$f":"'Trust - Frontsheet'!Y44","v":0},{"$f":"'Trust - Frontsheet'!Z44","v":0},{"$f":"'Trust - Frontsheet'!AA44","v":0},{"$f":"'Trust - Frontsheet'!AB44","v":0},{"$f":"IF(OR('Trust - Frontsheet'!AK44=\"\",'Trust - Frontsheet'!AK44=\"-\"),0,('Trust - Frontsheet'!AK44))","v":1.0857033889070502},{"$f":"IF(OR('Trust - Frontsheet'!AL44=\"\",'Trust - Frontsheet'!AL44=\"-\"),0,('Trust - Frontsheet'!AL44))","v":0.91576086956521741},{"$f":"IF(OR('Trust - Frontsheet'!AM44=\"\",'Trust - Frontsheet'!AM44=\"-\"),0,('Trust - Frontsheet'!AM44))","v":0},{"$f":"IF(OR('Trust - Frontsheet'!AN44=\"\",'Trust - Frontsheet'!AN44=\"-\"),0,('Trust - Frontsheet'!AN44))","v":0},{"$f":"IF(OR('Trust - Frontsheet'!AO44=\"\",'Trust - Frontsheet'!AO44=\"-\"),0,('Trust - Frontsheet'!AO44))","v":1.0209702660406885},{"$f":"IF(OR('Trust - Frontsheet'!AP44=\"\",'Trust - Frontsheet'!AP44=\"-\"),0,('Trust - Frontsheet'!AP44))","v":1},{"$f":"IF(OR('Trust - Frontsheet'!AQ44=\"\",'Trust - Frontsheet'!AQ44=\"-\"),0,('Trust - Frontsheet'!AQ44))","v":0},{"$f":"IF(OR('Trust - Frontsheet'!AR44=\"\",'Trust - Frontsheet'!AR44=\"-\"),0,('Trust - Frontsheet'!AR44))","v":0},{"$f":"IF(OR('Trust - Frontsheet'!AS44=\"\",'Trust - Frontsheet'!AS44=\"-\"),0,('Trust - Frontsheet'!AS44))","v":0},{"$f":"IF(OR('Trust - Frontsheet'!AT44=\"\",'Trust - Frontsheet'!AT44=\"-\"),0,('Trust - Frontsheet'!AT44))","v":0},{"$f":"'Trust - Frontsheet'!AC44","v":361},{"$f":"IF(OR('Trust - Frontsheet'!AD44=\"\",'Trust - Frontsheet'!AD44=\"-\"),0,('Trust - Frontsheet'!AD44))","v":9.1179593721144965},{"$f":"IF(OR('Trust - Frontsheet'!AE44=\"\",'Trust - Frontsheet'!AE44=\"-\"),0,('Trust - Frontsheet'!AE44))","v":0.88088642659279781},{"$f":"IF(OR('Trust - Frontsheet'!AF44=\"\",'Trust - Frontsheet'!AF44=\"-\"),0,('Trust - Frontsheet'!AF44))","v":0},{"$f":"IF(OR('Trust - Frontsheet'!AG44=\"\",'Trust - Frontsheet'!AG44=\"-\"),0,('Trust - Frontsheet'!AG44))","v":0},{"$f":"IF(OR('Trust - Frontsheet'!AH44=\"\",'Trust - Frontsheet'!AH44=\"-\"),0,('Trust - Frontsheet'!AH44))","v":0},{"$f":"IF(OR('Trust - Frontsheet'!AI44=\"\",'Trust - Frontsheet'!AI44=\"-\"),0,('Trust - Frontsheet'!AI44))","v":0},{"$f":"IF(OR('Trust - Frontsheet'!AJ44=\"\",'Trust - Frontsheet'!AJ44=\"-\"),0,('Trust - Frontsheet'!AJ44))","v":9.9988457987072934},{"$f":"IF(A32=\"\",\"\",(IF(ISBLANK('Trust - Frontsheet'!F9),\"\",'Trust - Frontsheet'!F9)))","v":""}]
[{"$f":"IF('Trust - Frontsheet'!D45=0,\"\",IF('Trust - Frontsheet'!D45=\"\",\"\",'Trust - Frontsheet'!D45))","v":"RWG02"},{"$f":"IF(ISBLANK('Trust - Frontsheet'!E45),\"\",'Trust - Frontsheet'!E45)","v":"WATFORD GENERAL HOSPITAL"},{"$f":"IF(ISBLANK('Trust - Frontsheet'!F45),\"\",\"'\" & 'Trust - Frontsheet'!F45 & \"'\")","v":"'Starfish'"},{"$f":"IF(ISBLANK('Trust - Frontsheet'!G45),\"\",'Trust - Frontsheet'!G45)","v":"420 - PAEDIATRICS"},{"$f":"IF(ISBLANK('Trust - Frontsheet'!H45),\"\",'Trust - Frontsheet'!H45)","v":""},{"$f":"'Trust - Frontsheet'!I45","v":1426},{"$f":"'Trust - Frontsheet'!J45","v":1316},{"$f":"'Trust - Frontsheet'!K45","v":356.5},{"$f":"'Trust - Frontsheet'!L45","v":345},{"$f":"'Trust - Frontsheet'!M45","v":0},{"$f":"'Trust - Frontsheet'!N45","v":0},{"$f":"'Trust - Frontsheet'!O45","v":0},{"$f":"'Trust - Frontsheet'!P45","v":0},{"$f":"'Trust - Frontsheet'!Q45","v":1069.5},{"$f":"'Trust - Frontsheet'!R45","v":1081},{"$f":"'Trust - Frontsheet'!S45","v":356.5},{"$f":"'Trust - Frontsheet'!T45","v":379.5},{"$f":"'Trust - Frontsheet'!U45","v":0},{"$f":"'Trust - Frontsheet'!V45","v":0},{"$f":"'Trust - Frontsheet'!W45","v":0},{"$f":"'Trust - Frontsheet'!X45","v":0},{"$f":"'Trust - Frontsheet'!Y45","v":0},{"$f":"'Trust - Frontsheet'!Z45","v":0},{"$f":"'Trust - Frontsheet'!AA45","v":0},{"$f":"'Trust - Frontsheet'!AB45","v":0},{"$f":"IF(OR('Trust - Frontsheet'!AK45=\"\",'Trust - Frontsheet'!AK45=\"-\"),0,('Trust - Frontsheet'!AK45))","v":0.92286115007012626},{"$f":"IF(OR('Trust - Frontsheet'!AL45=\"\",'Trust - Frontsheet'!AL45=\"-\"),0,('Trust - Frontsheet'!AL45))","v":0.967741935483871},{"$f":"IF(OR('Trust - Frontsheet'!AM45=\"\",'Trust - Frontsheet'!AM45=\"-\"),0,('Trust - Frontsheet'!AM45))","v":0},{"$f":"IF(OR('Trust - Frontsheet'!AN45=\"\",'Trust - Frontsheet'!AN45=\"-\"),0,('Trust - Frontsheet'!AN45))","v":0},{"$f":"IF(OR('Trust - Frontsheet'!AO45=\"\",'Trust - Frontsheet'!AO45=\"-\"),0,('Trust - Frontsheet'!AO45))","v":1.010752688172043},{"$f":"IF(OR('Trust - Frontsheet'!AP45=\"\",'Trust - Frontsheet'!AP45=\"-\"),0,('Trust - Frontsheet'!AP45))","v":1.064516129032258},{"$f":"IF(OR('Trust - Frontsheet'!AQ45=\"\",'Trust - Frontsheet'!AQ45=\"-\"),0,('Trust - Frontsheet'!AQ45))","v":0},{"$f":"IF(OR('Trust - Frontsheet'!AR45=\"\",'Trust - Frontsheet'!AR45=\"-\"),0,('Trust - Frontsheet'!AR45))","v":0},{"$f":"IF(OR('Trust - Frontsheet'!AS45=\"\",'Trust - Frontsheet'!AS45=\"-\"),0,('Trust - Frontsheet'!AS45))","v":0},{"$f":"IF(OR('Trust - Frontsheet'!AT45=\"\",'Trust - Frontsheet'!AT45=\"-\"),0,('Trust - Frontsheet'!AT45))","v":0},{"$f":"'Trust - Frontsheet'!AC45","v":283},{"$f":"IF(OR('Trust - Frontsheet'!AD45=\"\",'Trust - Frontsheet'!AD45=\"-\"),0,('Trust - Frontsheet'!AD45))","v":8.4699646643109539},{"$f":"IF(OR('Trust - Frontsheet'!AE45=\"\",'Trust - Frontsheet'!AE45=\"-\"),0,('Trust - Frontsheet'!AE45))","v":2.5600706713780919},{"$f":"IF(OR('Trust - Frontsheet'!AF45=\"\",'Trust - Frontsheet'!AF45=\"-\"),0,('Trust - Frontsheet'!AF45))","v":0},{"$f":"IF(OR('Trust - Frontsheet'!AG45=\"\",'Trust - Frontsheet'!AG45=\"-\"),0,('Trust - Frontsheet'!AG45))","v":0},{"$f":"IF(OR('Trust - Frontsheet'!AH45=\"\",'Trust - Frontsheet'!AH45=\"-\"),0,('Trust - Frontsheet'!AH45))","v":0},{"$f":"IF(OR('Trust - Frontsheet'!AI45=\"\",'Trust - Frontsheet'!AI45=\"-\"),0,('Trust - Frontsheet'!AI45))","v":0},{"$f":"IF(OR('Trust - Frontsheet'!AJ45=\"\",'Trust - Frontsheet'!AJ45=\"-\"),0,('Trust - Frontsheet'!AJ45))","v":11.030035335689046},{"$f":"IF(A33=\"\",\"\",(IF(ISBLANK('Trust - Frontsheet'!F9),\"\",'Trust - Frontsheet'!F9)))","v":""}]
[{"$f":"IF('Trust - Frontsheet'!D46=0,\"\",IF('Trust - Frontsheet'!D46=\"\",\"\",'Trust - Frontsheet'!D46))","v":""},{"$f":"IF(ISBLANK('Trust - Frontsheet'!E46),\"\",'Trust - Frontsheet'!E46)","v":""},{"$f":"IF(ISBLANK('Trust - Frontsheet'!F46),\"\",\"'\" & 'Trust - Frontsheet'!F46 & \"'\")","v":""},{"$f":"IF(ISBLANK('Trust - Frontsheet'!G46),\"\",'Trust - Frontsheet'!G46)","v":""},{"$f":"IF(ISBLANK('Trust - Frontsheet'!H46),\"\",'Trust - Frontsheet'!H46)","v":""},{"$f":"'Trust - Frontsheet'!I46","v":0},{"$f":"'Trust - Frontsheet'!J46","v":0},{"$f":"'Trust - Frontsheet'!K46","v":0},{"$f":"'Trust - Frontsheet'!L46","v":0},{"$f":"'Trust - Frontsheet'!M46","v":0},{"$f":"'Trust - Frontsheet'!N46","v":0},{"$f":"'Trust - Frontsheet'!O46","v":0},{"$f":"'Trust - Frontsheet'!P46","v":0},{"$f":"'Trust - Frontsheet'!Q46","v":0},{"$f":"'Trust - Frontsheet'!R46","v":0},{"$f":"'Trust - Frontsheet'!S46","v":0},{"$f":"'Trust - Frontsheet'!T46","v":0},{"$f":"'Trust - Frontsheet'!U46","v":0},{"$f":"'Trust - Frontsheet'!V46","v":0},{"$f":"'Trust - Frontsheet'!W46","v":0},{"$f":"'Trust - Frontsheet'!X46","v":0},{"$f":"'Trust - Frontsheet'!Y46","v":0},{"$f":"'Trust - Frontsheet'!Z46","v":0},{"$f":"'Trust - Frontsheet'!AA46","v":0},{"$f":"'Trust - Frontsheet'!AB46","v":0},{"$f":"IF(OR('Trust - Frontsheet'!AK46=\"\",'Trust - Frontsheet'!AK46=\"-\"),0,('Trust - Frontsheet'!AK46))","v":0},{"$f":"IF(OR('Trust - Frontsheet'!AL46=\"\",'Trust - Frontsheet'!AL46=\"-\"),0,('Trust - Frontsheet'!AL46))","v":0},{"$f":"IF(OR('Trust - Frontsheet'!AM46=\"\",'Trust - Frontsheet'!AM46=\"-\"),0,('Trust - Frontsheet'!AM46))","v":0},{"$f":"IF(OR('Trust - Frontsheet'!AN46=\"\",'Trust - Frontsheet'!AN46=\"-\"),0,('Trust - Frontsheet'!AN46))","v":0},{"$f":"IF(OR('Trust - Frontsheet'!AO46=\"\",'Trust - Frontsheet'!AO46=\"-\"),0,('Trust - Frontsheet'!AO46))","v":0},{"$f":"IF(OR('Trust - Frontsheet'!AP46=\"\",'Trust - Frontsheet'!AP46=\"-\"),0,('Trust - Frontsheet'!AP46))","v":0},{"$f":"IF(OR('Trust - Frontsheet'!AQ46=\"\",'Trust - Frontsheet'!AQ46=\"-\"),0,('Trust - Frontsheet'!AQ46))","v":0},{"$f":"IF(OR('Trust - Frontsheet'!AR46=\"\",'Trust - Frontsheet'!AR46=\"-\"),0,('Trust - Frontsheet'!AR46))","v":0},{"$f":"IF(OR('Trust - Frontsheet'!AS46=\"\",'Trust - Frontsheet'!AS46=\"-\"),0,('Trust - Frontsheet'!AS46))","v":0},{"$f":"IF(OR('Trust - Frontsheet'!AT46=\"\",'Trust - Frontsheet'!AT46=\"-\"),0,('Trust - Frontsheet'!AT46))","v":0},{"$f":"'Trust - Frontsheet'!AC46","v":0},{"$f":"IF(OR('Trust - Frontsheet'!AD46=\"\",'Trust - Frontsheet'!AD46=\"-\"),0,('Trust - Frontsheet'!AD46))","v":0},{"$f":"IF(OR('Trust - Frontsheet'!AE46=\"\",'Trust - Frontsheet'!AE46=\"-\"),0,('Trust - Frontsheet'!AE46))","v":0},{"$f":"IF(OR('Trust - Frontsheet'!AF46=\"\",'Trust - Frontsheet'!AF46=\"-\"),0,('Trust - Frontsheet'!AF46))","v":0},{"$f":"IF(OR('Trust - Frontsheet'!AG46=\"\",'Trust - Frontsheet'!AG46=\"-\"),0,('Trust - Frontsheet'!AG46))","v":0},{"$f":"IF(OR('Trust - Frontsheet'!AH46=\"\",'Trust - Frontsheet'!AH46=\"-\"),0,('Trust - Frontsheet'!AH46))","v":0},{"$f":"IF(OR('Trust - Frontsheet'!AI46=\"\",'Trust - Frontsheet'!AI46=\"-\"),0,('Trust - Frontsheet'!AI46))","v":0},{"$f":"IF(OR('Trust - Frontsheet'!AJ46=\"\",'Trust - Frontsheet'!AJ46=\"-\"),0,('Trust - Frontsheet'!AJ46))","v":0},{"$f":"IF(A34=\"\",\"\",(IF(ISBLANK('Trust - Frontsheet'!F9),\"\",'Trust - Frontsheet'!F9)))","v":""}]
[{"$f":"IF('Trust - Frontsheet'!D47=0,\"\",IF('Trust - Frontsheet'!D47=\"\",\"\",'Trust - Frontsheet'!D47))","v":""},{"$f":"IF(ISBLANK('Trust - Frontsheet'!E47),\"\",'Trust - Frontsheet'!E47)","v":""},{"$f":"IF(ISBLANK('Trust - Frontsheet'!F47),\"\",\"'\" & 'Trust - Frontsheet'!F47 & \"'\")","v":""},{"$f":"IF(ISBLANK('Trust - Frontsheet'!G47),\"\",'Trust - Frontsheet'!G47)","v":""},{"$f":"IF(ISBLANK('Trust - Frontsheet'!H47),\"\",'Trust - Frontsheet'!H47)","v":""},{"$f":"'Trust - Frontsheet'!I47","v":0},{"$f":"'Trust - Frontsheet'!J47","v":0},{"$f":"'Trust - Frontsheet'!K47","v":0},{"$f":"'Trust - Frontsheet'!L47","v":0},{"$f":"'Trust - Frontsheet'!M47","v":0},{"$f":"'Trust - Frontsheet'!N47","v":0},{"$f":"'Trust - Frontsheet'!O47","v":0},{"$f":"'Trust - Frontsheet'!P47","v":0},{"$f":"'Trust - Frontsheet'!Q47","v":0},{"$f":"'Trust - Frontsheet'!R47","v":0},{"$f":"'Trust - Frontsheet'!S47","v":0},{"$f":"'Trust - Frontsheet'!T47","v":0},{"$f":"'Trust - Frontsheet'!U47","v":0},{"$f":"'Trust - Frontsheet'!V47","v":0},{"$f":"'Trust - Frontsheet'!W47","v":0},{"$f":"'Trust - Frontsheet'!X47","v":0},{"$f":"'Trust - Frontsheet'!Y47","v":0},{"$f":"'Trust - Frontsheet'!Z47","v":0},{"$f":"'Trust - Frontsheet'!AA47","v":0},{"$f":"'Trust - Frontsheet'!AB47","v":0},{"$f":"IF(OR('Trust - Frontsheet'!AK47=\"\",'Trust - Frontsheet'!AK47=\"-\"),0,('Trust - Frontsheet'!AK47))","v":0},{"$f":"IF(OR('Trust - Frontsheet'!AL47=\"\",'Trust - Frontsheet'!AL47=\"-\"),0,('Trust - Frontsheet'!AL47))","v":0},{"$f":"IF(OR('Trust - Frontsheet'!AM47=\"\",'Trust - Frontsheet'!AM47=\"-\"),0,('Trust - Frontsheet'!AM47))","v":0},{"$f":"IF(OR('Trust - Frontsheet'!AN47=\"\",'Trust - Frontsheet'!AN47=\"-\"),0,('Trust - Frontsheet'!AN47))","v":0},{"$f":"IF(OR('Trust - Frontsheet'!AO47=\"\",'Trust - Frontsheet'!AO47=\"-\"),0,('Trust - Frontsheet'!AO47))","v":0},{"$f":"IF(OR('Trust - Frontsheet'!AP47=\"\",'Trust - Frontsheet'!AP47=\"-\"),0,('Trust - Frontsheet'!AP47))","v":0},{"$f":"IF(OR('Trust - Frontsheet'!AQ47=\"\",'Trust - Frontsheet'!AQ47=\"-\"),0,('Trust - Frontsheet'!AQ47))","v":0},{"$f":"IF(OR('Trust - Frontsheet'!AR47=\"\",'Trust - Frontsheet'!AR47=\"-\"),0,('Trust - Frontsheet'!AR47))","v":0},{"$f":"IF(OR('Trust - Frontsheet'!AS47=\"\",'Trust - Frontsheet'!AS47=\"-\"),0,('Trust - Frontsheet'!AS47))","v":0},{"$f":"IF(OR('Trust - Frontsheet'!AT47=\"\",'Trust - Frontsheet'!AT47=\"-\"),0,('Trust - Frontsheet'!AT47))","v":0},{"$f":"'Trust - Frontsheet'!AC47","v":0},{"$f":"IF(OR('Trust - Frontsheet'!AD47=\"\",'Trust - Frontsheet'!AD47=\"-\"),0,('Trust - Frontsheet'!AD47))","v":0},{"$f":"IF(OR('Trust - Frontsheet'!AE47=\"\",'Trust - Frontsheet'!AE47=\"-\"),0,('Trust - Frontsheet'!AE47))","v":0},{"$f":"IF(OR('Trust - Frontsheet'!AF47=\"\",'Trust - Frontsheet'!AF47=\"-\"),0,('Trust - Frontsheet'!AF47))","v":0},{"$f":"IF(OR('Trust - Frontsheet'!AG47=\"\",'Trust - Frontsheet'!AG47=\"-\"),0,('Trust - Frontsheet'!AG47))","v":0},{"$f":"IF(OR('Trust - Frontsheet'!AH47=\"\",'Trust - Frontsheet'!AH47=\"-\"),0,('Trust - Frontsheet'!AH47))","v":0},{"$f":"IF(OR('Trust - Frontsheet'!AI47=\"\",'Trust - Frontsheet'!AI47=\"-\"),0,('Trust - Frontsheet'!AI47))","v":0},{"$f":"IF(OR('Trust - Frontsheet'!AJ47=\"\",'Trust - Frontsheet'!AJ47=\"-\"),0,('Trust - Frontsheet'!AJ47))","v":0},{"$f":"IF(A35=\"\",\"\",(IF(ISBLANK('Trust - Frontsheet'!F9),\"\",'Trust - Frontsheet'!F9)))","v":""}]
[{"$f":"IF('Trust - Frontsheet'!D48=0,\"\",IF('Trust - Frontsheet'!D48=\"\",\"\",'Trust - Frontsheet'!D48))","v":""},{"$f":"IF(ISBLANK('Trust - Frontsheet'!E48),\"\",'Trust - Frontsheet'!E48)","v":""},{"$f":"IF(ISBLANK('Trust - Frontsheet'!F48),\"\",\"'\" & 'Trust - Frontsheet'!F48 & \"'\")","v":""},{"$f":"IF(ISBLANK('Trust - Frontsheet'!G48),\"\",'Trust - Frontsheet'!G48)","v":""},{"$f":"IF(ISBLANK('Trust - Frontsheet'!H48),\"\",'Trust - Frontsheet'!H48)","v":""},{"$f":"'Trust - Frontsheet'!I48","v":0},{"$f":"'Trust - Frontsheet'!J48","v":0},{"$f":"'Trust - Frontsheet'!K48","v":0},{"$f":"'Trust - Frontsheet'!L48","v":0},{"$f":"'Trust - Frontsheet'!M48","v":0},{"$f":"'Trust - Frontsheet'!N48","v":0},{"$f":"'Trust - Frontsheet'!O48","v":0},{"$f":"'Trust - Frontsheet'!P48","v":0},{"$f":"'Trust - Frontsheet'!Q48","v":0},{"$f":"'Trust - Frontsheet'!R48","v":0},{"$f":"'Trust - Frontsheet'!S48","v":0},{"$f":"'Trust - Frontsheet'!T48","v":0},{"$f":"'Trust - Frontsheet'!U48","v":0},{"$f":"'Trust - Frontsheet'!V48","v":0},{"$f":"'Trust - Frontsheet'!W48","v":0},{"$f":"'Trust - Frontsheet'!X48","v":0},{"$f":"'Trust - Frontsheet'!Y48","v":0},{"$f":"'Trust - Frontsheet'!Z48","v":0},{"$f":"'Trust - Frontsheet'!AA48","v":0},{"$f":"'Trust - Frontsheet'!AB48","v":0},{"$f":"IF(OR('Trust - Frontsheet'!AK48=\"\",'Trust - Frontsheet'!AK48=\"-\"),0,('Trust - Frontsheet'!AK48))","v":0},{"$f":"IF(OR('Trust - Frontsheet'!AL48=\"\",'Trust - Frontsheet'!AL48=\"-\"),0,('Trust - Frontsheet'!AL48))","v":0},{"$f":"IF(OR('Trust - Frontsheet'!AM48=\"\",'Trust - Frontsheet'!AM48=\"-\"),0,('Trust - Frontsheet'!AM48))","v":0},{"$f":"IF(OR('Trust - Frontsheet'!AN48=\"\",'Trust - Frontsheet'!AN48=\"-\"),0,('Trust - Frontsheet'!AN48))","v":0},{"$f":"IF(OR('Trust - Frontsheet'!AO48=\"\",'Trust - Frontsheet'!AO48=\"-\"),0,('Trust - Frontsheet'!AO48))","v":0},{"$f":"IF(OR('Trust - Frontsheet'!AP48=\"\",'Trust - Frontsheet'!AP48=\"-\"),0,('Trust - Frontsheet'!AP48))","v":0},{"$f":"IF(OR('Trust - Frontsheet'!AQ48=\"\",'Trust - Frontsheet'!AQ48=\"-\"),0,('Trust - Frontsheet'!AQ48))","v":0},{"$f":"IF(OR('Trust - Frontsheet'!AR48=\"\",'Trust - Frontsheet'!AR48=\"-\"),0,('Trust - Frontsheet'!AR48))","v":0},{"$f":"IF(OR('Trust - Frontsheet'!AS48=\"\",'Trust - Frontsheet'!AS48=\"-\"),0,('Trust - Frontsheet'!AS48))","v":0},{"$f":"IF(OR('Trust - Frontsheet'!AT48=\"\",'Trust - Frontsheet'!AT48=\"-\"),0,('Trust - Frontsheet'!AT48))","v":0},{"$f":"'Trust - Frontsheet'!AC48","v":0},{"$f":"IF(OR('Trust - Frontsheet'!AD48=\"\",'Trust - Frontsheet'!AD48=\"-\"),0,('Trust - Frontsheet'!AD48))","v":0},{"$f":"IF(OR('Trust - Frontsheet'!AE48=\"\",'Trust - Frontsheet'!AE48=\"-\"),0,('Trust - Frontsheet'!AE48))","v":0},{"$f":"IF(OR('Trust - Frontsheet'!AF48=\"\",'Trust - Frontsheet'!AF48=\"-\"),0,('Trust - Frontsheet'!AF48))","v":0},{"$f":"IF(OR('Trust - Frontsheet'!AG48=\"\",'Trust - Frontsheet'!AG48=\"-\"),0,('Trust - Frontsheet'!AG48))","v":0},{"$f":"IF(OR('Trust - Frontsheet'!AH48=\"\",'Trust - Frontsheet'!AH48=\"-\"),0,('Trust - Frontsheet'!AH48))","v":0},{"$f":"IF(OR('Trust - Frontsheet'!AI48=\"\",'Trust - Frontsheet'!AI48=\"-\"),0,('Trust - Frontsheet'!AI48))","v":0},{"$f":"IF(OR('Trust - Frontsheet'!AJ48=\"\",'Trust - Frontsheet'!AJ48=\"-\"),0,('Trust - Frontsheet'!AJ48))","v":0},{"$f":"IF(A36=\"\",\"\",(IF(ISBLANK('Trust - Frontsheet'!F9),\"\",'Trust - Frontsheet'!F9)))","v":""}]
[{"$f":"IF('Trust - Frontsheet'!D49=0,\"\",IF('Trust - Frontsheet'!D49=\"\",\"\",'Trust - Frontsheet'!D49))","v":""},{"$f":"IF(ISBLANK('Trust - Frontsheet'!E49),\"\",'Trust - Frontsheet'!E49)","v":""},{"$f":"IF(ISBLANK('Trust - Frontsheet'!F49),\"\",\"'\" & 'Trust - Frontsheet'!F49 & \"'\")","v":""},{"$f":"IF(ISBLANK('Trust - Frontsheet'!G49),\"\",'Trust - Frontsheet'!G49)","v":""},{"$f":"IF(ISBLANK('Trust - Frontsheet'!H49),\"\",'Trust - Frontsheet'!H49)","v":""},{"$f":"'Trust - Frontsheet'!I49","v":0},{"$f":"'Trust - Frontsheet'!J49","v":0},{"$f":"'Trust - Frontsheet'!K49","v":0},{"$f":"'Trust - Frontsheet'!L49","v":0},{"$f":"'Trust - Frontsheet'!M49","v":0},{"$f":"'Trust - Frontsheet'!N49","v":0},{"$f":"'Trust - Frontsheet'!O49","v":0},{"$f":"'Trust - Frontsheet'!P49","v":0},{"$f":"'Trust - Frontsheet'!Q49","v":0},{"$f":"'Trust - Frontsheet'!R49","v":0},{"$f":"'Trust - Frontsheet'!S49","v":0},{"$f":"'Trust - Frontsheet'!T49","v":0},{"$f":"'Trust - Frontsheet'!U49","v":0},{"$f":"'Trust - Frontsheet'!V49","v":0},{"$f":"'Trust - Frontsheet'!W49","v":0},{"$f":"'Trust - Frontsheet'!X49","v":0},{"$f":"'Trust - Frontsheet'!Y49","v":0},{"$f":"'Trust - Frontsheet'!Z49","v":0},{"$f":"'Trust - Frontsheet'!AA49","v":0},{"$f":"'Trust - Frontsheet'!AB49","v":0},{"$f":"IF(OR('Trust - Frontsheet'!AK49=\"\",'Trust - Frontsheet'!AK49=\"-\"),0,('Trust - Frontsheet'!AK49))","v":0},{"$f":"IF(OR('Trust - Frontsheet'!AL49=\"\",'Trust - Frontsheet'!AL49=\"-\"),0,('Trust - Frontsheet'!AL49))","v":0},{"$f":"IF(OR('Trust - Frontsheet'!AM49=\"\",'Trust - Frontsheet'!AM49=\"-\"),0,('Trust - Frontsheet'!AM49))","v":0},{"$f":"IF(OR('Trust - Frontsheet'!AN49=\"\",'Trust - Frontsheet'!AN49=\"-\"),0,('Trust - Frontsheet'!AN49))","v":0},{"$f":"IF(OR('Trust - Frontsheet'!AO49=\"\",'Trust - Frontsheet'!AO49=\"-\"),0,('Trust - Frontsheet'!AO49))","v":0},{"$f":"IF(OR('Trust - Frontsheet'!AP49=\"\",'Trust - Frontsheet'!AP49=\"-\"),0,('Trust - Frontsheet'!AP49))","v":0},{"$f":"IF(OR('Trust - Frontsheet'!AQ49=\"\",'Trust - Frontsheet'!AQ49=\"-\"),0,('Trust - Frontsheet'!AQ49))","v":0},{"$f":"IF(OR('Trust - Frontsheet'!AR49=\"\",'Trust - Frontsheet'!AR49=\"-\"),0,('Trust - Frontsheet'!AR49))","v":0},{"$f":"IF(OR('Trust - Frontsheet'!AS49=\"\",'Trust - Frontsheet'!AS49=\"-\"),0,('Trust - Frontsheet'!AS49))","v":0},{"$f":"IF(OR('Trust - Frontsheet'!AT49=\"\",'Trust - Frontsheet'!AT49=\"-\"),0,('Trust - Frontsheet'!AT49))","v":0},{"$f":"'Trust - Frontsheet'!AC49","v":0},{"$f":"IF(OR('Trust - Frontsheet'!AD49=\"\",'Trust - Frontsheet'!AD49=\"-\"),0,('Trust - Frontsheet'!AD49))","v":0},{"$f":"IF(OR('Trust - Frontsheet'!AE49=\"\",'Trust - Frontsheet'!AE49=\"-\"),0,('Trust - Frontsheet'!AE49))","v":0},{"$f":"IF(OR('Trust - Frontsheet'!AF49=\"\",'Trust - Frontsheet'!AF49=\"-\"),0,('Trust - Frontsheet'!AF49))","v":0},{"$f":"IF(OR('Trust - Frontsheet'!AG49=\"\",'Trust - Frontsheet'!AG49=\"-\"),0,('Trust - Frontsheet'!AG49))","v":0},{"$f":"IF(OR('Trust - Frontsheet'!AH49=\"\",'Trust - Frontsheet'!AH49=\"-\"),0,('Trust - Frontsheet'!AH49))","v":0},{"$f":"IF(OR('Trust - Frontsheet'!AI49=\"\",'Trust - Frontsheet'!AI49=\"-\"),0,('Trust - Frontsheet'!AI49))","v":0},{"$f":"IF(OR('Trust - Frontsheet'!AJ49=\"\",'Trust - Frontsheet'!AJ49=\"-\"),0,('Trust - Frontsheet'!AJ49))","v":0},{"$f":"IF(A37=\"\",\"\",(IF(ISBLANK('Trust - Frontsheet'!F9),\"\",'Trust - Frontsheet'!F9)))","v":""}]
[{"$f":"IF('Trust - Frontsheet'!D50=0,\"\",IF('Trust - Frontsheet'!D50=\"\",\"\",'Trust - Frontsheet'!D50))","v":""},{"$f":"IF(ISBLANK('Trust - Frontsheet'!E50),\"\",'Trust - Frontsheet'!E50)","v":""},{"$f":"IF(ISBLANK('Trust - Frontsheet'!F50),\"\",\"'\" & 'Trust - Frontsheet'!F50 & \"'\")","v":""},{"$f":"IF(ISBLANK('Trust - Frontsheet'!G50),\"\",'Trust - Frontsheet'!G50)","v":""},{"$f":"IF(ISBLANK('Trust - Frontsheet'!H50),\"\",'Trust - Frontsheet'!H50)","v":""},{"$f":"'Trust - Frontsheet'!I50","v":0},{"$f":"'Trust - Frontsheet'!J50","v":0},{"$f":"'Trust - Frontsheet'!K50","v":0},{"$f":"'Trust - Frontsheet'!L50","v":0},{"$f":"'Trust - Frontsheet'!M50","v":0},{"$f":"'Trust - Frontsheet'!N50","v":0},{"$f":"'Trust - Frontsheet'!O50","v":0},{"$f":"'Trust - Frontsheet'!P50","v":0},{"$f":"'Trust - Frontsheet'!Q50","v":0},{"$f":"'Trust - Frontsheet'!R50","v":0},{"$f":"'Trust - Frontsheet'!S50","v":0},{"$f":"'Trust - Frontsheet'!T50","v":0},{"$f":"'Trust - Frontsheet'!U50","v":0},{"$f":"'Trust - Frontsheet'!V50","v":0},{"$f":"'Trust - Frontsheet'!W50","v":0},{"$f":"'Trust - Frontsheet'!X50","v":0},{"$f":"'Trust - Frontsheet'!Y50","v":0},{"$f":"'Trust - Frontsheet'!Z50","v":0},{"$f":"'Trust - Frontsheet'!AA50","v":0},{"$f":"'Trust - Frontsheet'!AB50","v":0},{"$f":"IF(OR('Trust - Frontsheet'!AK50=\"\",'Trust - Frontsheet'!AK50=\"-\"),0,('Trust - Frontsheet'!AK50))","v":0},{"$f":"IF(OR('Trust - Frontsheet'!AL50=\"\",'Trust - Frontsheet'!AL50=\"-\"),0,('Trust - Frontsheet'!AL50))","v":0},{"$f":"IF(OR('Trust - Frontsheet'!AM50=\"\",'Trust - Frontsheet'!AM50=\"-\"),0,('Trust - Frontsheet'!AM50))","v":0},{"$f":"IF(OR('Trust - Frontsheet'!AN50=\"\",'Trust - Frontsheet'!AN50=\"-\"),0,('Trust - Frontsheet'!AN50))","v":0},{"$f":"IF(OR('Trust - Frontsheet'!AO50=\"\",'Trust - Frontsheet'!AO50=\"-\"),0,('Trust - Frontsheet'!AO50))","v":0},{"$f":"IF(OR('Trust - Frontsheet'!AP50=\"\",'Trust - Frontsheet'!AP50=\"-\"),0,('Trust - Frontsheet'!AP50))","v":0},{"$f":"IF(OR('Trust - Frontsheet'!AQ50=\"\",'Trust - Frontsheet'!AQ50=\"-\"),0,('Trust - Frontsheet'!AQ50))","v":0},{"$f":"IF(OR('Trust - Frontsheet'!AR50=\"\",'Trust - Frontsheet'!AR50=\"-\"),0,('Trust - Frontsheet'!AR50))","v":0},{"$f":"IF(OR('Trust - Frontsheet'!AS50=\"\",'Trust - Frontsheet'!AS50=\"-\"),0,('Trust - Frontsheet'!AS50))","v":0},{"$f":"IF(OR('Trust - Frontsheet'!AT50=\"\",'Trust - Frontsheet'!AT50=\"-\"),0,('Trust - Frontsheet'!AT50))","v":0},{"$f":"'Trust - Frontsheet'!AC50","v":0},{"$f":"IF(OR('Trust - Frontsheet'!AD50=\"\",'Trust - Frontsheet'!AD50=\"-\"),0,('Trust - Frontsheet'!AD50))","v":0},{"$f":"IF(OR('Trust - Frontsheet'!AE50=\"\",'Trust - Frontsheet'!AE50=\"-\"),0,('Trust - Frontsheet'!AE50))","v":0},{"$f":"IF(OR('Trust - Frontsheet'!AF50=\"\",'Trust - Frontsheet'!AF50=\"-\"),0,('Trust - Frontsheet'!AF50))","v":0},{"$f":"IF(OR('Trust - Frontsheet'!AG50=\"\",'Trust - Frontsheet'!AG50=\"-\"),0,('Trust - Frontsheet'!AG50))","v":0},{"$f":"IF(OR('Trust - Frontsheet'!AH50=\"\",'Trust - Frontsheet'!AH50=\"-\"),0,('Trust - Frontsheet'!AH50))","v":0},{"$f":"IF(OR('Trust - Frontsheet'!AI50=\"\",'Trust - Frontsheet'!AI50=\"-\"),0,('Trust - Frontsheet'!AI50))","v":0},{"$f":"IF(OR('Trust - Frontsheet'!AJ50=\"\",'Trust - Frontsheet'!AJ50=\"-\"),0,('Trust - Frontsheet'!AJ50))","v":0},{"$f":"IF(A38=\"\",\"\",(IF(ISBLANK('Trust - Frontsheet'!F9),\"\",'Trust - Frontsheet'!F9)))","v":""}]
[{"$f":"IF('Trust - Frontsheet'!D51=0,\"\",IF('Trust - Frontsheet'!D51=\"\",\"\",'Trust - Frontsheet'!D51))","v":""},{"$f":"IF(ISBLANK('Trust - Frontsheet'!E51),\"\",'Trust - Frontsheet'!E51)","v":""},{"$f":"IF(ISBLANK('Trust - Frontsheet'!F51),\"\",\"'\" & 'Trust - Frontsheet'!F51 & \"'\")","v":""},{"$f":"IF(ISBLANK('Trust - Frontsheet'!G51),\"\",'Trust - Frontsheet'!G51)","v":""},{"$f":"IF(ISBLANK('Trust - Frontsheet'!H51),\"\",'Trust - Frontsheet'!H51)","v":""},{"$f":"'Trust - Frontsheet'!I51","v":0},{"$f":"'Trust - Frontsheet'!J51","v":0},{"$f":"'Trust - Frontsheet'!K51","v":0},{"$f":"'Trust - Frontsheet'!L51","v":0},{"$f":"'Trust - Frontsheet'!M51","v":0},{"$f":"'Trust - Frontsheet'!N51","v":0},{"$f":"'Trust - Frontsheet'!O51","v":0},{"$f":"'Trust - Frontsheet'!P51","v":0},{"$f":"'Trust - Frontsheet'!Q51","v":0},{"$f":"'Trust - Frontsheet'!R51","v":0},{"$f":"'Trust - Frontsheet'!S51","v":0},{"$f":"'Trust - Frontsheet'!T51","v":0},{"$f":"'Trust - Frontsheet'!U51","v":0},{"$f":"'Trust - Frontsheet'!V51","v":0},{"$f":"'Trust - Frontsheet'!W51","v":0},{"$f":"'Trust - Frontsheet'!X51","v":0},{"$f":"'Trust - Frontsheet'!Y51","v":0},{"$f":"'Trust - Frontsheet'!Z51","v":0},{"$f":"'Trust - Frontsheet'!AA51","v":0},{"$f":"'Trust - Frontsheet'!AB51","v":0},{"$f":"IF(OR('Trust - Frontsheet'!AK51=\"\",'Trust - Frontsheet'!AK51=\"-\"),0,('Trust - Frontsheet'!AK51))","v":0},{"$f":"IF(OR('Trust - Frontsheet'!AL51=\"\",'Trust - Frontsheet'!AL51=\"-\"),0,('Trust - Frontsheet'!AL51))","v":0},{"$f":"IF(OR('Trust - Frontsheet'!AM51=\"\",'Trust - Frontsheet'!AM51=\"-\"),0,('Trust - Frontsheet'!AM51))","v":0},{"$f":"IF(OR('Trust - Frontsheet'!AN51=\"\",'Trust - Frontsheet'!AN51=\"-\"),0,('Trust - Frontsheet'!AN51))","v":0},{"$f":"IF(OR('Trust - Frontsheet'!AO51=\"\",'Trust - Frontsheet'!AO51=\"-\"),0,('Trust - Frontsheet'!AO51))","v":0},{"$f":"IF(OR('Trust - Frontsheet'!AP51=\"\",'Trust - Frontsheet'!AP51=\"-\"),0,('Trust - Frontsheet'!AP51))","v":0},{"$f":"IF(OR('Trust - Frontsheet'!AQ51=\"\",'Trust - Frontsheet'!AQ51=\"-\"),0,('Trust - Frontsheet'!AQ51))","v":0},{"$f":"IF(OR('Trust - Frontsheet'!AR51=\"\",'Trust - Frontsheet'!AR51=\"-\"),0,('Trust - Frontsheet'!AR51))","v":0},{"$f":"IF(OR('Trust - Frontsheet'!AS51=\"\",'Trust - Frontsheet'!AS51=\"-\"),0,('Trust - Frontsheet'!AS51))","v":0},{"$f":"IF(OR('Trust - Frontsheet'!AT51=\"\",'Trust - Frontsheet'!AT51=\"-\"),0,('Trust - Frontsheet'!AT51))","v":0},{"$f":"'Trust - Frontsheet'!AC51","v":0},{"$f":"IF(OR('Trust - Frontsheet'!AD51=\"\",'Trust - Frontsheet'!AD51=\"-\"),0,('Trust - Frontsheet'!AD51))","v":0},{"$f":"IF(OR('Trust - Frontsheet'!AE51=\"\",'Trust - Frontsheet'!AE51=\"-\"),0,('Trust - Frontsheet'!AE51))","v":0},{"$f":"IF(OR('Trust - Frontsheet'!AF51=\"\",'Trust - Frontsheet'!AF51=\"-\"),0,('Trust - Frontsheet'!AF51))","v":0},{"$f":"IF(OR('Trust - Frontsheet'!AG51=\"\",'Trust - Frontsheet'!AG51=\"-\"),0,('Trust - Frontsheet'!AG51))","v":0},{"$f":"IF(OR('Trust - Frontsheet'!AH51=\"\",'Trust - Frontsheet'!AH51=\"-\"),0,('Trust - Frontsheet'!AH51))","v":0},{"$f":"IF(OR('Trust - Frontsheet'!AI51=\"\",'Trust - Frontsheet'!AI51=\"-\"),0,('Trust - Frontsheet'!AI51))","v":0},{"$f":"IF(OR('Trust - Frontsheet'!AJ51=\"\",'Trust - Frontsheet'!AJ51=\"-\"),0,('Trust - Frontsheet'!AJ51))","v":0},{"$f":"IF(A39=\"\",\"\",(IF(ISBLANK('Trust - Frontsheet'!F9),\"\",'Trust - Frontsheet'!F9)))","v":""}]
[{"$f":"IF('Trust - Frontsheet'!D52=0,\"\",IF('Trust - Frontsheet'!D52=\"\",\"\",'Trust - Frontsheet'!D52))","v":""},{"$f":"IF(ISBLANK('Trust - Frontsheet'!E52),\"\",'Trust - Frontsheet'!E52)","v":""},{"$f":"IF(ISBLANK('Trust - Frontsheet'!F52),\"\",\"'\" & 'Trust - Frontsheet'!F52 & \"'\")","v":""},{"$f":"IF(ISBLANK('Trust - Frontsheet'!G52),\"\",'Trust - Frontsheet'!G52)","v":""},{"$f":"IF(ISBLANK('Trust - Frontsheet'!H52),\"\",'Trust - Frontsheet'!H52)","v":""},{"$f":"'Trust - Frontsheet'!I52","v":0},{"$f":"'Trust - Frontsheet'!J52","v":0},{"$f":"'Trust - Frontsheet'!K52","v":0},{"$f":"'Trust - Frontsheet'!L52","v":0},{"$f":"'Trust - Frontsheet'!M52","v":0},{"$f":"'Trust - Frontsheet'!N52","v":0},{"$f":"'Trust - Frontsheet'!O52","v":0},{"$f":"'Trust - Frontsheet'!P52","v":0},{"$f":"'Trust - Frontsheet'!Q52","v":0},{"$f":"'Trust - Frontsheet'!R52","v":0},{"$f":"'Trust - Frontsheet'!S52","v":0},{"$f":"'Trust - Frontsheet'!T52","v":0},{"$f":"'Trust - Frontsheet'!U52","v":0},{"$f":"'Trust - Frontsheet'!V52","v":0},{"$f":"'Trust - Frontsheet'!W52","v":0},{"$f":"'Trust - Frontsheet'!X52","v":0},{"$f":"'Trust - Frontsheet'!Y52","v":0},{"$f":"'Trust - Frontsheet'!Z52","v":0},{"$f":"'Trust - Frontsheet'!AA52","v":0},{"$f":"'Trust - Frontsheet'!AB52","v":0},{"$f":"IF(OR('Trust - Frontsheet'!AK52=\"\",'Trust - Frontsheet'!AK52=\"-\"),0,('Trust - Frontsheet'!AK52))","v":0},{"$f":"IF(OR('Trust - Frontsheet'!AL52=\"\",'Trust - Frontsheet'!AL52=\"-\"),0,('Trust - Frontsheet'!AL52))","v":0},{"$f":"IF(OR('Trust - Frontsheet'!AM52=\"\",'Trust - Frontsheet'!AM52=\"-\"),0,('Trust - Frontsheet'!AM52))","v":0},{"$f":"IF(OR('Trust - Frontsheet'!AN52=\"\",'Trust - Frontsheet'!AN52=\"-\"),0,('Trust - Frontsheet'!AN52))","v":0},{"$f":"IF(OR('Trust - Frontsheet'!AO52=\"\",'Trust - Frontsheet'!AO52=\"-\"),0,('Trust - Frontsheet'!AO52))","v":0},{"$f":"IF(OR('Trust - Frontsheet'!AP52=\"\",'Trust - Frontsheet'!AP52=\"-\"),0,('Trust - Frontsheet'!AP52))","v":0},{"$f":"IF(OR('Trust - Frontsheet'!AQ52=\"\",'Trust - Frontsheet'!AQ52=\"-\"),0,('Trust - Frontsheet'!AQ52))","v":0},{"$f":"IF(OR('Trust - Frontsheet'!AR52=\"\",'Trust - Frontsheet'!AR52=\"-\"),0,('Trust - Frontsheet'!AR52))","v":0},{"$f":"IF(OR('Trust - Frontsheet'!AS52=\"\",'Trust - Frontsheet'!AS52=\"-\"),0,('Trust - Frontsheet'!AS52))","v":0},{"$f":"IF(OR('Trust - Frontsheet'!AT52=\"\",'Trust - Frontsheet'!AT52=\"-\"),0,('Trust - Frontsheet'!AT52))","v":0},{"$f":"'Trust - Frontsheet'!AC52","v":0},{"$f":"IF(OR('Trust - Frontsheet'!AD52=\"\",'Trust - Frontsheet'!AD52=\"-\"),0,('Trust - Frontsheet'!AD52))","v":0},{"$f":"IF(OR('Trust - Frontsheet'!AE52=\"\",'Trust - Frontsheet'!AE52=\"-\"),0,('Trust - Frontsheet'!AE52))","v":0},{"$f":"IF(OR('Trust - Frontsheet'!AF52=\"\",'Trust - Frontsheet'!AF52=\"-\"),0,('Trust - Frontsheet'!AF52))","v":0},{"$f":"IF(OR('Trust - Frontsheet'!AG52=\"\",'Trust - Frontsheet'!AG52=\"-\"),0,('Trust - Frontsheet'!AG52))","v":0},{"$f":"IF(OR('Trust - Frontsheet'!AH52=\"\",'Trust - Frontsheet'!AH52=\"-\"),0,('Trust - Frontsheet'!AH52))","v":0},{"$f":"IF(OR('Trust - Frontsheet'!AI52=\"\",'Trust - Frontsheet'!AI52=\"-\"),0,('Trust - Frontsheet'!AI52))","v":0},{"$f":"IF(OR('Trust - Frontsheet'!AJ52=\"\",'Trust - Frontsheet'!AJ52=\"-\"),0,('Trust - Frontsheet'!AJ52))","v":0},{"$f":"IF(A40=\"\",\"\",(IF(ISBLANK('Trust - Frontsheet'!F9),\"\",'Trust - Frontsheet'!F9)))","v":""}]
[{"$f":"IF('Trust - Frontsheet'!D53=0,\"\",IF('Trust - Frontsheet'!D53=\"\",\"\",'Trust - Frontsheet'!D53))","v":""},{"$f":"IF(ISBLANK('Trust - Frontsheet'!E53),\"\",'Trust - Frontsheet'!E53)","v":""},{"$f":"IF(ISBLANK('Trust - Frontsheet'!F53),\"\",\"'\" & 'Trust - Frontsheet'!F53 & \"'\")","v":""},{"$f":"IF(ISBLANK('Trust - Frontsheet'!G53),\"\",'Trust - Frontsheet'!G53)","v":""},{"$f":"IF(ISBLANK('Trust - Frontsheet'!H53),\"\",'Trust - Frontsheet'!H53)","v":""},{"$f":"'Trust - Frontsheet'!I53","v":0},{"$f":"'Trust - Frontsheet'!J53","v":0},{"$f":"'Trust - Frontsheet'!K53","v":0},{"$f":"'Trust - Frontsheet'!L53","v":0},{"$f":"'Trust - Frontsheet'!M53","v":0},{"$f":"'Trust - Frontsheet'!N53","v":0},{"$f":"'Trust - Frontsheet'!O53","v":0},{"$f":"'Trust - Frontsheet'!P53","v":0},{"$f":"'Trust - Frontsheet'!Q53","v":0},{"$f":"'Trust - Frontsheet'!R53","v":0},{"$f":"'Trust - Frontsheet'!S53","v":0},{"$f":"'Trust - Frontsheet'!T53","v":0},{"$f":"'Trust - Frontsheet'!U53","v":0},{"$f":"'Trust - Frontsheet'!V53","v":0},{"$f":"'Trust - Frontsheet'!W53","v":0},{"$f":"'Trust - Frontsheet'!X53","v":0},{"$f":"'Trust - Frontsheet'!Y53","v":0},{"$f":"'Trust - Frontsheet'!Z53","v":0},{"$f":"'Trust - Frontsheet'!AA53","v":0},{"$f":"'Trust - Frontsheet'!AB53","v":0},{"$f":"IF(OR('Trust - Frontsheet'!AK53=\"\",'Trust - Frontsheet'!AK53=\"-\"),0,('Trust - Frontsheet'!AK53))","v":0},{"$f":"IF(OR('Trust - Frontsheet'!AL53=\"\",'Trust - Frontsheet'!AL53=\"-\"),0,('Trust - Frontsheet'!AL53))","v":0},{"$f":"IF(OR('Trust - Frontsheet'!AM53=\"\",'Trust - Frontsheet'!AM53=\"-\"),0,('Trust - Frontsheet'!AM53))","v":0},{"$f":"IF(OR('Trust - Frontsheet'!AN53=\"\",'Trust - Frontsheet'!AN53=\"-\"),0,('Trust - Frontsheet'!AN53))","v":0},{"$f":"IF(OR('Trust - Frontsheet'!AO53=\"\",'Trust - Frontsheet'!AO53=\"-\"),0,('Trust - Frontsheet'!AO53))","v":0},{"$f":"IF(OR('Trust - Frontsheet'!AP53=\"\",'Trust - Frontsheet'!AP53=\"-\"),0,('Trust - Frontsheet'!AP53))","v":0},{"$f":"IF(OR('Trust - Frontsheet'!AQ53=\"\",'Trust - Frontsheet'!AQ53=\"-\"),0,('Trust - Frontsheet'!AQ53))","v":0},{"$f":"IF(OR('Trust - Frontsheet'!AR53=\"\",'Trust - Frontsheet'!AR53=\"-\"),0,('Trust - Frontsheet'!AR53))","v":0},{"$f":"IF(OR('Trust - Frontsheet'!AS53=\"\",'Trust - Frontsheet'!AS53=\"-\"),0,('Trust - Frontsheet'!AS53))","v":0},{"$f":"IF(OR('Trust - Frontsheet'!AT53=\"\",'Trust - Frontsheet'!AT53=\"-\"),0,('Trust - Frontsheet'!AT53))","v":0},{"$f":"'Trust - Frontsheet'!AC53","v":0},{"$f":"IF(OR('Trust - Frontsheet'!AD53=\"\",'Trust - Frontsheet'!AD53=\"-\"),0,('Trust - Frontsheet'!AD53))","v":0},{"$f":"IF(OR('Trust - Frontsheet'!AE53=\"\",'Trust - Frontsheet'!AE53=\"-\"),0,('Trust - Frontsheet'!AE53))","v":0},{"$f":"IF(OR('Trust - Frontsheet'!AF53=\"\",'Trust - Frontsheet'!AF53=\"-\"),0,('Trust - Frontsheet'!AF53))","v":0},{"$f":"IF(OR('Trust - Frontsheet'!AG53=\"\",'Trust - Frontsheet'!AG53=\"-\"),0,('Trust - Frontsheet'!AG53))","v":0},{"$f":"IF(OR('Trust - Frontsheet'!AH53=\"\",'Trust - Frontsheet'!AH53=\"-\"),0,('Trust - Frontsheet'!AH53))","v":0},{"$f":"IF(OR('Trust - Frontsheet'!AI53=\"\",'Trust - Frontsheet'!AI53=\"-\"),0,('Trust - Frontsheet'!AI53))","v":0},{"$f":"IF(OR('Trust - Frontsheet'!AJ53=\"\",'Trust - Frontsheet'!AJ53=\"-\"),0,('Trust - Frontsheet'!AJ53))","v":0},{"$f":"IF(A41=\"\",\"\",(IF(ISBLANK('Trust - Frontsheet'!F9),\"\",'Trust - Frontsheet'!F9)))","v":""}]
[{"$f":"IF('Trust - Frontsheet'!D54=0,\"\",IF('Trust - Frontsheet'!D54=\"\",\"\",'Trust - Frontsheet'!D54))","v":""},{"$f":"IF(ISBLANK('Trust - Frontsheet'!E54),\"\",'Trust - Frontsheet'!E54)","v":""},{"$f":"IF(ISBLANK('Trust - Frontsheet'!F54),\"\",\"'\" & 'Trust - Frontsheet'!F54 & \"'\")","v":""},{"$f":"IF(ISBLANK('Trust - Frontsheet'!G54),\"\",'Trust - Frontsheet'!G54)","v":""},{"$f":"IF(ISBLANK('Trust - Frontsheet'!H54),\"\",'Trust - Frontsheet'!H54)","v":""},{"$f":"'Trust - Frontsheet'!I54","v":0},{"$f":"'Trust - Frontsheet'!J54","v":0},{"$f":"'Trust - Frontsheet'!K54","v":0},{"$f":"'Trust - Frontsheet'!L54","v":0},{"$f":"'Trust - Frontsheet'!M54","v":0},{"$f":"'Trust - Frontsheet'!N54","v":0},{"$f":"'Trust - Frontsheet'!O54","v":0},{"$f":"'Trust - Frontsheet'!P54","v":0},{"$f":"'Trust - Frontsheet'!Q54","v":0},{"$f":"'Trust - Frontsheet'!R54","v":0},{"$f":"'Trust - Frontsheet'!S54","v":0},{"$f":"'Trust - Frontsheet'!T54","v":0},{"$f":"'Trust - Frontsheet'!U54","v":0},{"$f":"'Trust - Frontsheet'!V54","v":0},{"$f":"'Trust - Frontsheet'!W54","v":0},{"$f":"'Trust - Frontsheet'!X54","v":0},{"$f":"'Trust - Frontsheet'!Y54","v":0},{"$f":"'Trust - Frontsheet'!Z54","v":0},{"$f":"'Trust - Frontsheet'!AA54","v":0},{"$f":"'Trust - Frontsheet'!AB54","v":0},{"$f":"IF(OR('Trust - Frontsheet'!AK54=\"\",'Trust - Frontsheet'!AK54=\"-\"),0,('Trust - Frontsheet'!AK54))","v":0},{"$f":"IF(OR('Trust - Frontsheet'!AL54=\"\",'Trust - Frontsheet'!AL54=\"-\"),0,('Trust - Frontsheet'!AL54))","v":0},{"$f":"IF(OR('Trust - Frontsheet'!AM54=\"\",'Trust - Frontsheet'!AM54=\"-\"),0,('Trust - Frontsheet'!AM54))","v":0},{"$f":"IF(OR('Trust - Frontsheet'!AN54=\"\",'Trust - Frontsheet'!AN54=\"-\"),0,('Trust - Frontsheet'!AN54))","v":0},{"$f":"IF(OR('Trust - Frontsheet'!AO54=\"\",'Trust - Frontsheet'!AO54=\"-\"),0,('Trust - Frontsheet'!AO54))","v":0},{"$f":"IF(OR('Trust - Frontsheet'!AP54=\"\",'Trust - Frontsheet'!AP54=\"-\"),0,('Trust - Frontsheet'!AP54))","v":0},{"$f":"IF(OR('Trust - Frontsheet'!AQ54=\"\",'Trust - Frontsheet'!AQ54=\"-\"),0,('Trust - Frontsheet'!AQ54))","v":0},{"$f":"IF(OR('Trust - Frontsheet'!AR54=\"\",'Trust - Frontsheet'!AR54=\"-\"),0,('Trust - Frontsheet'!AR54))","v":0},{"$f":"IF(OR('Trust - Frontsheet'!AS54=\"\",'Trust - Frontsheet'!AS54=\"-\"),0,('Trust - Frontsheet'!AS54))","v":0},{"$f":"IF(OR('Trust - Frontsheet'!AT54=\"\",'Trust - Frontsheet'!AT54=\"-\"),0,('Trust - Frontsheet'!AT54))","v":0},{"$f":"'Trust - Frontsheet'!AC54","v":0},{"$f":"IF(OR('Trust - Frontsheet'!AD54=\"\",'Trust - Frontsheet'!AD54=\"-\"),0,('Trust - Frontsheet'!AD54))","v":0},{"$f":"IF(OR('Trust - Frontsheet'!AE54=\"\",'Trust - Frontsheet'!AE54=\"-\"),0,('Trust - Frontsheet'!AE54))","v":0},{"$f":"IF(OR('Trust - Frontsheet'!AF54=\"\",'Trust - Frontsheet'!AF54=\"-\"),0,('Trust - Frontsheet'!AF54))","v":0},{"$f":"IF(OR('Trust - Frontsheet'!AG54=\"\",'Trust - Frontsheet'!AG54=\"-\"),0,('Trust - Frontsheet'!AG54))","v":0},{"$f":"IF(OR('Trust - Frontsheet'!AH54=\"\",'Trust - Frontsheet'!AH54=\"-\"),0,('Trust - Frontsheet'!AH54))","v":0},{"$f":"IF(OR('Trust - Frontsheet'!AI54=\"\",'Trust - Frontsheet'!AI54=\"-\"),0,('Trust - Frontsheet'!AI54))","v":0},{"$f":"IF(OR('Trust - Frontsheet'!AJ54=\"\",'Trust - Frontsheet'!AJ54=\"-\"),0,('Trust - Frontsheet'!AJ54))","v":0},{"$f":"IF(A42=\"\",\"\",(IF(ISBLANK('Trust - Frontsheet'!F9),\"\",'Trust - Frontsheet'!F9)))","v":""}]
[{"$f":"IF('Trust - Frontsheet'!D55=0,\"\",IF('Trust - Frontsheet'!D55=\"\",\"\",'Trust - Frontsheet'!D55))","v":""},{"$f":"IF(ISBLANK('Trust - Frontsheet'!E55),\"\",'Trust - Frontsheet'!E55)","v":""},{"$f":"IF(ISBLANK('Trust - Frontsheet'!F55),\"\",\"'\" & 'Trust - Frontsheet'!F55 & \"'\")","v":""},{"$f":"IF(ISBLANK('Trust - Frontsheet'!G55),\"\",'Trust - Frontsheet'!G55)","v":""},{"$f":"IF(ISBLANK('Trust - Frontsheet'!H55),\"\",'Trust - Frontsheet'!H55)","v":""},{"$f":"'Trust - Frontsheet'!I55","v":0},{"$f":"'Trust - Frontsheet'!J55","v":0},{"$f":"'Trust - Frontsheet'!K55","v":0},{"$f":"'Trust - Frontsheet'!L55","v":0},{"$f":"'Trust - Frontsheet'!M55","v":0},{"$f":"'Trust - Frontsheet'!N55","v":0},{"$f":"'Trust - Frontsheet'!O55","v":0},{"$f":"'Trust - Frontsheet'!P55","v":0},{"$f":"'Trust - Frontsheet'!Q55","v":0},{"$f":"'Trust - Frontsheet'!R55","v":0},{"$f":"'Trust - Frontsheet'!S55","v":0},{"$f":"'Trust - Frontsheet'!T55","v":0},{"$f":"'Trust - Frontsheet'!U55","v":0},{"$f":"'Trust - Frontsheet'!V55","v":0},{"$f":"'Trust - Frontsheet'!W55","v":0},{"$f":"'Trust - Frontsheet'!X55","v":0},{"$f":"'Trust - Frontsheet'!Y55","v":0},{"$f":"'Trust - Frontsheet'!Z55","v":0},{"$f":"'Trust - Frontsheet'!AA55","v":0},{"$f":"'Trust - Frontsheet'!AB55","v":0},{"$f":"IF(OR('Trust - Frontsheet'!AK55=\"\",'Trust - Frontsheet'!AK55=\"-\"),0,('Trust - Frontsheet'!AK55))","v":0},{"$f":"IF(OR('Trust - Frontsheet'!AL55=\"\",'Trust - Frontsheet'!AL55=\"-\"),0,('Trust - Frontsheet'!AL55))","v":0},{"$f":"IF(OR('Trust - Frontsheet'!AM55=\"\",'Trust - Frontsheet'!AM55=\"-\"),0,('Trust - Frontsheet'!AM55))","v":0},{"$f":"IF(OR('Trust - Frontsheet'!AN55=\"\",'Trust - Frontsheet'!AN55=\"-\"),0,('Trust - Frontsheet'!AN55))","v":0},{"$f":"IF(OR('Trust - Frontsheet'!AO55=\"\",'Trust - Frontsheet'!AO55=\"-\"),0,('Trust - Frontsheet'!AO55))","v":0},{"$f":"IF(OR('Trust - Frontsheet'!AP55=\"\",'Trust - Frontsheet'!AP55=\"-\"),0,('Trust - Frontsheet'!AP55))","v":0},{"$f":"IF(OR('Trust - Frontsheet'!AQ55=\"\",'Trust - Frontsheet'!AQ55=\"-\"),0,('Trust - Frontsheet'!AQ55))","v":0},{"$f":"IF(OR('Trust - Frontsheet'!AR55=\"\",'Trust - Frontsheet'!AR55=\"-\"),0,('Trust - Frontsheet'!AR55))","v":0},{"$f":"IF(OR('Trust - Frontsheet'!AS55=\"\",'Trust - Frontsheet'!AS55=\"-\"),0,('Trust - Frontsheet'!AS55))","v":0},{"$f":"IF(OR('Trust - Frontsheet'!AT55=\"\",'Trust - Frontsheet'!AT55=\"-\"),0,('Trust - Frontsheet'!AT55))","v":0},{"$f":"'Trust - Frontsheet'!AC55","v":0},{"$f":"IF(OR('Trust - Frontsheet'!AD55=\"\",'Trust - Frontsheet'!AD55=\"-\"),0,('Trust - Frontsheet'!AD55))","v":0},{"$f":"IF(OR('Trust - Frontsheet'!AE55=\"\",'Trust - Frontsheet'!AE55=\"-\"),0,('Trust - Frontsheet'!AE55))","v":0},{"$f":"IF(OR('Trust - Frontsheet'!AF55=\"\",'Trust - Frontsheet'!AF55=\"-\"),0,('Trust - Frontsheet'!AF55))","v":0},{"$f":"IF(OR('Trust - Frontsheet'!AG55=\"\",'Trust - Frontsheet'!AG55=\"-\"),0,('Trust - Frontsheet'!AG55))","v":0},{"$f":"IF(OR('Trust - Frontsheet'!AH55=\"\",'Trust - Frontsheet'!AH55=\"-\"),0,('Trust - Frontsheet'!AH55))","v":0},{"$f":"IF(OR('Trust - Frontsheet'!AI55=\"\",'Trust - Frontsheet'!AI55=\"-\"),0,('Trust - Frontsheet'!AI55))","v":0},{"$f":"IF(OR('Trust - Frontsheet'!AJ55=\"\",'Trust - Frontsheet'!AJ55=\"-\"),0,('Trust - Frontsheet'!AJ55))","v":0},{"$f":"IF(A43=\"\",\"\",(IF(ISBLANK('Trust - Frontsheet'!F9),\"\",'Trust - Frontsheet'!F9)))","v":""}]
[{"$f":"IF('Trust - Frontsheet'!D56=0,\"\",IF('Trust - Frontsheet'!D56=\"\",\"\",'Trust - Frontsheet'!D56))","v":""},{"$f":"IF(ISBLANK('Trust - Frontsheet'!E56),\"\",'Trust - Frontsheet'!E56)","v":""},{"$f":"IF(ISBLANK('Trust - Frontsheet'!F56),\"\",\"'\" & 'Trust - Frontsheet'!F56 & \"'\")","v":""},{"$f":"IF(ISBLANK('Trust - Frontsheet'!G56),\"\",'Trust - Frontsheet'!G56)","v":""},{"$f":"IF(ISBLANK('Trust - Frontsheet'!H56),\"\",'Trust - Frontsheet'!H56)","v":""},{"$f":"'Trust - Frontsheet'!I56","v":0},{"$f":"'Trust - Frontsheet'!J56","v":0},{"$f":"'Trust - Frontsheet'!K56","v":0},{"$f":"'Trust - Frontsheet'!L56","v":0},{"$f":"'Trust - Frontsheet'!M56","v":0},{"$f":"'Trust - Frontsheet'!N56","v":0},{"$f":"'Trust - Frontsheet'!O56","v":0},{"$f":"'Trust - Frontsheet'!P56","v":0},{"$f":"'Trust - Frontsheet'!Q56","v":0},{"$f":"'Trust - Frontsheet'!R56","v":0},{"$f":"'Trust - Frontsheet'!S56","v":0},{"$f":"'Trust - Frontsheet'!T56","v":0},{"$f":"'Trust - Frontsheet'!U56","v":0},{"$f":"'Trust - Frontsheet'!V56","v":0},{"$f":"'Trust - Frontsheet'!W56","v":0},{"$f":"'Trust - Frontsheet'!X56","v":0},{"$f":"'Trust - Frontsheet'!Y56","v":0},{"$f":"'Trust - Frontsheet'!Z56","v":0},{"$f":"'Trust - Frontsheet'!AA56","v":0},{"$f":"'Trust - Frontsheet'!AB56","v":0},{"$f":"IF(OR('Trust - Frontsheet'!AK56=\"\",'Trust - Frontsheet'!AK56=\"-\"),0,('Trust - Frontsheet'!AK56))","v":0},{"$f":"IF(OR('Trust - Frontsheet'!AL56=\"\",'Trust - Frontsheet'!AL56=\"-\"),0,('Trust - Frontsheet'!AL56))","v":0},{"$f":"IF(OR('Trust - Frontsheet'!AM56=\"\",'Trust - Frontsheet'!AM56=\"-\"),0,('Trust - Frontsheet'!AM56))","v":0},{"$f":"IF(OR('Trust - Frontsheet'!AN56=\"\",'Trust - Frontsheet'!AN56=\"-\"),0,('Trust - Frontsheet'!AN56))","v":0},{"$f":"IF(OR('Trust - Frontsheet'!AO56=\"\",'Trust - Frontsheet'!AO56=\"-\"),0,('Trust - Frontsheet'!AO56))","v":0},{"$f":"IF(OR('Trust - Frontsheet'!AP56=\"\",'Trust - Frontsheet'!AP56=\"-\"),0,('Trust - Frontsheet'!AP56))","v":0},{"$f":"IF(OR('Trust - Frontsheet'!AQ56=\"\",'Trust - Frontsheet'!AQ56=\"-\"),0,('Trust - Frontsheet'!AQ56))","v":0},{"$f":"IF(OR('Trust - Frontsheet'!AR56=\"\",'Trust - Frontsheet'!AR56=\"-\"),0,('Trust - Frontsheet'!AR56))","v":0},{"$f":"IF(OR('Trust - Frontsheet'!AS56=\"\",'Trust - Frontsheet'!AS56=\"-\"),0,('Trust - Frontsheet'!AS56))","v":0},{"$f":"IF(OR('Trust - Frontsheet'!AT56=\"\",'Trust - Frontsheet'!AT56=\"-\"),0,('Trust - Frontsheet'!AT56))","v":0},{"$f":"'Trust - Frontsheet'!AC56","v":0},{"$f":"IF(OR('Trust - Frontsheet'!AD56=\"\",'Trust - Frontsheet'!AD56=\"-\"),0,('Trust - Frontsheet'!AD56))","v":0},{"$f":"IF(OR('Trust - Frontsheet'!AE56=\"\",'Trust - Frontsheet'!AE56=\"-\"),0,('Trust - Frontsheet'!AE56))","v":0},{"$f":"IF(OR('Trust - Frontsheet'!AF56=\"\",'Trust - Frontsheet'!AF56=\"-\"),0,('Trust - Frontsheet'!AF56))","v":0},{"$f":"IF(OR('Trust - Frontsheet'!AG56=\"\",'Trust - Frontsheet'!AG56=\"-\"),0,('Trust - Frontsheet'!AG56))","v":0},{"$f":"IF(OR('Trust - Frontsheet'!AH56=\"\",'Trust - Frontsheet'!AH56=\"-\"),0,('Trust - Frontsheet'!AH56))","v":0},{"$f":"IF(OR('Trust - Frontsheet'!AI56=\"\",'Trust - Frontsheet'!AI56=\"-\"),0,('Trust - Frontsheet'!AI56))","v":0},{"$f":"IF(OR('Trust - Frontsheet'!AJ56=\"\",'Trust - Frontsheet'!AJ56=\"-\"),0,('Trust - Frontsheet'!AJ56))","v":0},{"$f":"IF(A44=\"\",\"\",(IF(ISBLANK('Trust - Frontsheet'!F9),\"\",'Trust - Frontsheet'!F9)))","v":""}]
[{"$f":"IF('Trust - Frontsheet'!D57=0,\"\",IF('Trust - Frontsheet'!D57=\"\",\"\",'Trust - Frontsheet'!D57))","v":""},{"$f":"IF(ISBLANK('Trust - Frontsheet'!E57),\"\",'Trust - Frontsheet'!E57)","v":""},{"$f":"IF(ISBLANK('Trust - Frontsheet'!F57),\"\",\"'\" & 'Trust - Frontsheet'!F57 & \"'\")","v":""},{"$f":"IF(ISBLANK('Trust - Frontsheet'!G57),\"\",'Trust - Frontsheet'!G57)","v":""},{"$f":"IF(ISBLANK('Trust - Frontsheet'!H57),\"\",'Trust - Frontsheet'!H57)","v":""},{"$f":"'Trust - Frontsheet'!I57","v":0},{"$f":"'Trust - Frontsheet'!J57","v":0},{"$f":"'Trust - Frontsheet'!K57","v":0},{"$f":"'Trust - Frontsheet'!L57","v":0},{"$f":"'Trust - Frontsheet'!M57","v":0},{"$f":"'Trust - Frontsheet'!N57","v":0},{"$f":"'Trust - Frontsheet'!O57","v":0},{"$f":"'Trust - Frontsheet'!P57","v":0},{"$f":"'Trust - Frontsheet'!Q57","v":0},{"$f":"'Trust - Frontsheet'!R57","v":0},{"$f":"'Trust - Frontsheet'!S57","v":0},{"$f":"'Trust - Frontsheet'!T57","v":0},{"$f":"'Trust - Frontsheet'!U57","v":0},{"$f":"'Trust - Frontsheet'!V57","v":0},{"$f":"'Trust - Frontsheet'!W57","v":0},{"$f":"'Trust - Frontsheet'!X57","v":0},{"$f":"'Trust - Frontsheet'!Y57","v":0},{"$f":"'Trust - Frontsheet'!Z57","v":0},{"$f":"'Trust - Frontsheet'!AA57","v":0},{"$f":"'Trust - Frontsheet'!AB57","v":0},{"$f":"IF(OR('Trust - Frontsheet'!AK57=\"\",'Trust - Frontsheet'!AK57=\"-\"),0,('Trust - Frontsheet'!AK57))","v":0},{"$f":"IF(OR('Trust - Frontsheet'!AL57=\"\",'Trust - Frontsheet'!AL57=\"-\"),0,('Trust - Frontsheet'!AL57))","v":0},{"$f":"IF(OR('Trust - Frontsheet'!AM57=\"\",'Trust - Frontsheet'!AM57=\"-\"),0,('Trust - Frontsheet'!AM57))","v":0},{"$f":"IF(OR('Trust - Frontsheet'!AN57=\"\",'Trust - Frontsheet'!AN57=\"-\"),0,('Trust - Frontsheet'!AN57))","v":0},{"$f":"IF(OR('Trust - Frontsheet'!AO57=\"\",'Trust - Frontsheet'!AO57=\"-\"),0,('Trust - Frontsheet'!AO57))","v":0},{"$f":"IF(OR('Trust - Frontsheet'!AP57=\"\",'Trust - Frontsheet'!AP57=\"-\"),0,('Trust - Frontsheet'!AP57))","v":0},{"$f":"IF(OR('Trust - Frontsheet'!AQ57=\"\",'Trust - Frontsheet'!AQ57=\"-\"),0,('Trust - Frontsheet'!AQ57))","v":0},{"$f":"IF(OR('Trust - Frontsheet'!AR57=\"\",'Trust - Frontsheet'!AR57=\"-\"),0,('Trust - Frontsheet'!AR57))","v":0},{"$f":"IF(OR('Trust - Frontsheet'!AS57=\"\",'Trust - Frontsheet'!AS57=\"-\"),0,('Trust - Frontsheet'!AS57))","v":0},{"$f":"IF(OR('Trust - Frontsheet'!AT57=\"\",'Trust - Frontsheet'!AT57=\"-\"),0,('Trust - Frontsheet'!AT57))","v":0},{"$f":"'Trust - Frontsheet'!AC57","v":0},{"$f":"IF(OR('Trust - Frontsheet'!AD57=\"\",'Trust - Frontsheet'!AD57=\"-\"),0,('Trust - Frontsheet'!AD57))","v":0},{"$f":"IF(OR('Trust - Frontsheet'!AE57=\"\",'Trust - Frontsheet'!AE57=\"-\"),0,('Trust - Frontsheet'!AE57))","v":0},{"$f":"IF(OR('Trust - Frontsheet'!AF57=\"\",'Trust - Frontsheet'!AF57=\"-\"),0,('Trust - Frontsheet'!AF57))","v":0},{"$f":"IF(OR('Trust - Frontsheet'!AG57=\"\",'Trust - Frontsheet'!AG57=\"-\"),0,('Trust - Frontsheet'!AG57))","v":0},{"$f":"IF(OR('Trust - Frontsheet'!AH57=\"\",'Trust - Frontsheet'!AH57=\"-\"),0,('Trust - Frontsheet'!AH57))","v":0},{"$f":"IF(OR('Trust - Frontsheet'!AI57=\"\",'Trust - Frontsheet'!AI57=\"-\"),0,('Trust - Frontsheet'!AI57))","v":0},{"$f":"IF(OR('Trust - Frontsheet'!AJ57=\"\",'Trust - Frontsheet'!AJ57=\"-\"),0,('Trust - Frontsheet'!AJ57))","v":0},{"$f":"IF(A45=\"\",\"\",(IF(ISBLANK('Trust - Frontsheet'!F9),\"\",'Trust - Frontsheet'!F9)))","v":""}]
[{"$f":"IF('Trust - Frontsheet'!D58=0,\"\",IF('Trust - Frontsheet'!D58=\"\",\"\",'Trust - Frontsheet'!D58))","v":""},{"$f":"IF(ISBLANK('Trust - Frontsheet'!E58),\"\",'Trust - Frontsheet'!E58)","v":""},{"$f":"IF(ISBLANK('Trust - Frontsheet'!F58),\"\",\"'\" & 'Trust - Frontsheet'!F58 & \"'\")","v":""},{"$f":"IF(ISBLANK('Trust - Frontsheet'!G58),\"\",'Trust - Frontsheet'!G58)","v":""},{"$f":"IF(ISBLANK('Trust - Frontsheet'!H58),\"\",'Trust - Frontsheet'!H58)","v":""},{"$f":"'Trust - Frontsheet'!I58","v":0},{"$f":"'Trust - Frontsheet'!J58","v":0},{"$f":"'Trust - Frontsheet'!K58","v":0},{"$f":"'Trust - Frontsheet'!L58","v":0},{"$f":"'Trust - Frontsheet'!M58","v":0},{"$f":"'Trust - Frontsheet'!N58","v":0},{"$f":"'Trust - Frontsheet'!O58","v":0},{"$f":"'Trust - Frontsheet'!P58","v":0},{"$f":"'Trust - Frontsheet'!Q58","v":0},{"$f":"'Trust - Frontsheet'!R58","v":0},{"$f":"'Trust - Frontsheet'!S58","v":0},{"$f":"'Trust - Frontsheet'!T58","v":0},{"$f":"'Trust - Frontsheet'!U58","v":0},{"$f":"'Trust - Frontsheet'!V58","v":0},{"$f":"'Trust - Frontsheet'!W58","v":0},{"$f":"'Trust - Frontsheet'!X58","v":0},{"$f":"'Trust - Frontsheet'!Y58","v":0},{"$f":"'Trust - Frontsheet'!Z58","v":0},{"$f":"'Trust - Frontsheet'!AA58","v":0},{"$f":"'Trust - Frontsheet'!AB58","v":0},{"$f":"IF(OR('Trust - Frontsheet'!AK58=\"\",'Trust - Frontsheet'!AK58=\"-\"),0,('Trust - Frontsheet'!AK58))","v":0},{"$f":"IF(OR('Trust - Frontsheet'!AL58=\"\",'Trust - Frontsheet'!AL58=\"-\"),0,('Trust - Frontsheet'!AL58))","v":0},{"$f":"IF(OR('Trust - Frontsheet'!AM58=\"\",'Trust - Frontsheet'!AM58=\"-\"),0,('Trust - Frontsheet'!AM58))","v":0},{"$f":"IF(OR('Trust - Frontsheet'!AN58=\"\",'Trust - Frontsheet'!AN58=\"-\"),0,('Trust - Frontsheet'!AN58))","v":0},{"$f":"IF(OR('Trust - Frontsheet'!AO58=\"\",'Trust - Frontsheet'!AO58=\"-\"),0,('Trust - Frontsheet'!AO58))","v":0},{"$f":"IF(OR('Trust - Frontsheet'!AP58=\"\",'Trust - Frontsheet'!AP58=\"-\"),0,('Trust - Frontsheet'!AP58))","v":0},{"$f":"IF(OR('Trust - Frontsheet'!AQ58=\"\",'Trust - Frontsheet'!AQ58=\"-\"),0,('Trust - Frontsheet'!AQ58))","v":0},{"$f":"IF(OR('Trust - Frontsheet'!AR58=\"\",'Trust - Frontsheet'!AR58=\"-\"),0,('Trust - Frontsheet'!AR58))","v":0},{"$f":"IF(OR('Trust - Frontsheet'!AS58=\"\",'Trust - Frontsheet'!AS58=\"-\"),0,('Trust - Frontsheet'!AS58))","v":0},{"$f":"IF(OR('Trust - Frontsheet'!AT58=\"\",'Trust - Frontsheet'!AT58=\"-\"),0,('Trust - Frontsheet'!AT58))","v":0},{"$f":"'Trust - Frontsheet'!AC58","v":0},{"$f":"IF(OR('Trust - Frontsheet'!AD58=\"\",'Trust - Frontsheet'!AD58=\"-\"),0,('Trust - Frontsheet'!AD58))","v":0},{"$f":"IF(OR('Trust - Frontsheet'!AE58=\"\",'Trust - Frontsheet'!AE58=\"-\"),0,('Trust - Frontsheet'!AE58))","v":0},{"$f":"IF(OR('Trust - Frontsheet'!AF58=\"\",'Trust - Frontsheet'!AF58=\"-\"),0,('Trust - Frontsheet'!AF58))","v":0},{"$f":"IF(OR('Trust - Frontsheet'!AG58=\"\",'Trust - Frontsheet'!AG58=\"-\"),0,('Trust - Frontsheet'!AG58))","v":0},{"$f":"IF(OR('Trust - Frontsheet'!AH58=\"\",'Trust - Frontsheet'!AH58=\"-\"),0,('Trust - Frontsheet'!AH58))","v":0},{"$f":"IF(OR('Trust - Frontsheet'!AI58=\"\",'Trust - Frontsheet'!AI58=\"-\"),0,('Trust - Frontsheet'!AI58))","v":0},{"$f":"IF(OR('Trust - Frontsheet'!AJ58=\"\",'Trust - Frontsheet'!AJ58=\"-\"),0,('Trust - Frontsheet'!AJ58))","v":0},{"$f":"IF(A46=\"\",\"\",(IF(ISBLANK('Trust - Frontsheet'!F9),\"\",'Trust - Frontsheet'!F9)))","v":""}]
[{"$f":"IF('Trust - Frontsheet'!D59=0,\"\",IF('Trust - Frontsheet'!D59=\"\",\"\",'Trust - Frontsheet'!D59))","v":""},{"$f":"IF(ISBLANK('Trust - Frontsheet'!E59),\"\",'Trust - Frontsheet'!E59)","v":""},{"$f":"IF(ISBLANK('Trust - Frontsheet'!F59),\"\",\"'\" & 'Trust - Frontsheet'!F59 & \"'\")","v":""},{"$f":"IF(ISBLANK('Trust - Frontsheet'!G59),\"\",'Trust - Frontsheet'!G59)","v":""},{"$f":"IF(ISBLANK('Trust - Frontsheet'!H59),\"\",'Trust - Frontsheet'!H59)","v":""},{"$f":"'Trust - Frontsheet'!I59","v":0},{"$f":"'Trust - Frontsheet'!J59","v":0},{"$f":"'Trust - Frontsheet'!K59","v":0},{"$f":"'Trust - Frontsheet'!L59","v":0},{"$f":"'Trust - Frontsheet'!M59","v":0},{"$f":"'Trust - Frontsheet'!N59","v":0},{"$f":"'Trust - Frontsheet'!O59","v":0},{"$f":"'Trust - Frontsheet'!P59","v":0},{"$f":"'Trust - Frontsheet'!Q59","v":0},{"$f":"'Trust - Frontsheet'!R59","v":0},{"$f":"'Trust - Frontsheet'!S59","v":0},{"$f":"'Trust - Frontsheet'!T59","v":0},{"$f":"'Trust - Frontsheet'!U59","v":0},{"$f":"'Trust - Frontsheet'!V59","v":0},{"$f":"'Trust - Frontsheet'!W59","v":0},{"$f":"'Trust - Frontsheet'!X59","v":0},{"$f":"'Trust - Frontsheet'!Y59","v":0},{"$f":"'Trust - Frontsheet'!Z59","v":0},{"$f":"'Trust - Frontsheet'!AA59","v":0},{"$f":"'Trust - Frontsheet'!AB59","v":0},{"$f":"IF(OR('Trust - Frontsheet'!AK59=\"\",'Trust - Frontsheet'!AK59=\"-\"),0,('Trust - Frontsheet'!AK59))","v":0},{"$f":"IF(OR('Trust - Frontsheet'!AL59=\"\",'Trust - Frontsheet'!AL59=\"-\"),0,('Trust - Frontsheet'!AL59))","v":0},{"$f":"IF(OR('Trust - Frontsheet'!AM59=\"\",'Trust - Frontsheet'!AM59=\"-\"),0,('Trust - Frontsheet'!AM59))","v":0},{"$f":"IF(OR('Trust - Frontsheet'!AN59=\"\",'Trust - Frontsheet'!AN59=\"-\"),0,('Trust - Frontsheet'!AN59))","v":0},{"$f":"IF(OR('Trust - Frontsheet'!AO59=\"\",'Trust - Frontsheet'!AO59=\"-\"),0,('Trust - Frontsheet'!AO59))","v":0},{"$f":"IF(OR('Trust - Frontsheet'!AP59=\"\",'Trust - Frontsheet'!AP59=\"-\"),0,('Trust - Frontsheet'!AP59))","v":0},{"$f":"IF(OR('Trust - Frontsheet'!AQ59=\"\",'Trust - Frontsheet'!AQ59=\"-\"),0,('Trust - Frontsheet'!AQ59))","v":0},{"$f":"IF(OR('Trust - Frontsheet'!AR59=\"\",'Trust - Frontsheet'!AR59=\"-\"),0,('Trust - Frontsheet'!AR59))","v":0},{"$f":"IF(OR('Trust - Frontsheet'!AS59=\"\",'Trust - Frontsheet'!AS59=\"-\"),0,('Trust - Frontsheet'!AS59))","v":0},{"$f":"IF(OR('Trust - Frontsheet'!AT59=\"\",'Trust - Frontsheet'!AT59=\"-\"),0,('Trust - Frontsheet'!AT59))","v":0},{"$f":"'Trust - Frontsheet'!AC59","v":0},{"$f":"IF(OR('Trust - Frontsheet'!AD59=\"\",'Trust - Frontsheet'!AD59=\"-\"),0,('Trust - Frontsheet'!AD59))","v":0},{"$f":"IF(OR('Trust - Frontsheet'!AE59=\"\",'Trust - Frontsheet'!AE59=\"-\"),0,('Trust - Frontsheet'!AE59))","v":0},{"$f":"IF(OR('Trust - Frontsheet'!AF59=\"\",'Trust - Frontsheet'!AF59=\"-\"),0,('Trust - Frontsheet'!AF59))","v":0},{"$f":"IF(OR('Trust - Frontsheet'!AG59=\"\",'Trust - Frontsheet'!AG59=\"-\"),0,('Trust - Frontsheet'!AG59))","v":0},{"$f":"IF(OR('Trust - Frontsheet'!AH59=\"\",'Trust - Frontsheet'!AH59=\"-\"),0,('Trust - Frontsheet'!AH59))","v":0},{"$f":"IF(OR('Trust - Frontsheet'!AI59=\"\",'Trust - Frontsheet'!AI59=\"-\"),0,('Trust - Frontsheet'!AI59))","v":0},{"$f":"IF(OR('Trust - Frontsheet'!AJ59=\"\",'Trust - Frontsheet'!AJ59=\"-\"),0,('Trust - Frontsheet'!AJ59))","v":0},{"$f":"IF(A47=\"\",\"\",(IF(ISBLANK('Trust - Frontsheet'!F9),\"\",'Trust - Frontsheet'!F9)))","v":""}]
[{"$f":"IF('Trust - Frontsheet'!D60=0,\"\",IF('Trust - Frontsheet'!D60=\"\",\"\",'Trust - Frontsheet'!D60))","v":""},{"$f":"IF(ISBLANK('Trust - Frontsheet'!E60),\"\",'Trust - Frontsheet'!E60)","v":""},{"$f":"IF(ISBLANK('Trust - Frontsheet'!F60),\"\",\"'\" & 'Trust - Frontsheet'!F60 & \"'\")","v":""},{"$f":"IF(ISBLANK('Trust - Frontsheet'!G60),\"\",'Trust - Frontsheet'!G60)","v":""},{"$f":"IF(ISBLANK('Trust - Frontsheet'!H60),\"\",'Trust - Frontsheet'!H60)","v":""},{"$f":"'Trust - Frontsheet'!I60","v":0},{"$f":"'Trust - Frontsheet'!J60","v":0},{"$f":"'Trust - Frontsheet'!K60","v":0},{"$f":"'Trust - Frontsheet'!L60","v":0},{"$f":"'Trust - Frontsheet'!M60","v":0},{"$f":"'Trust - Frontsheet'!N60","v":0},{"$f":"'Trust - Frontsheet'!O60","v":0},{"$f":"'Trust - Frontsheet'!P60","v":0},{"$f":"'Trust - Frontsheet'!Q60","v":0},{"$f":"'Trust - Frontsheet'!R60","v":0},{"$f":"'Trust - Frontsheet'!S60","v":0},{"$f":"'Trust - Frontsheet'!T60","v":0},{"$f":"'Trust - Frontsheet'!U60","v":0},{"$f":"'Trust - Frontsheet'!V60","v":0},{"$f":"'Trust - Frontsheet'!W60","v":0},{"$f":"'Trust - Frontsheet'!X60","v":0},{"$f":"'Trust - Frontsheet'!Y60","v":0},{"$f":"'Trust - Frontsheet'!Z60","v":0},{"$f":"'Trust - Frontsheet'!AA60","v":0},{"$f":"'Trust - Frontsheet'!AB60","v":0},{"$f":"IF(OR('Trust - Frontsheet'!AK60=\"\",'Trust - Frontsheet'!AK60=\"-\"),0,('Trust - Frontsheet'!AK60))","v":0},{"$f":"IF(OR('Trust - Frontsheet'!AL60=\"\",'Trust - Frontsheet'!AL60=\"-\"),0,('Trust - Frontsheet'!AL60))","v":0},{"$f":"IF(OR('Trust - Frontsheet'!AM60=\"\",'Trust - Frontsheet'!AM60=\"-\"),0,('Trust - Frontsheet'!AM60))","v":0},{"$f":"IF(OR('Trust - Frontsheet'!AN60=\"\",'Trust - Frontsheet'!AN60=\"-\"),0,('Trust - Frontsheet'!AN60))","v":0},{"$f":"IF(OR('Trust - Frontsheet'!AO60=\"\",'Trust - Frontsheet'!AO60=\"-\"),0,('Trust - Frontsheet'!AO60))","v":0},{"$f":"IF(OR('Trust - Frontsheet'!AP60=\"\",'Trust - Frontsheet'!AP60=\"-\"),0,('Trust - Frontsheet'!AP60))","v":0},{"$f":"IF(OR('Trust - Frontsheet'!AQ60=\"\",'Trust - Frontsheet'!AQ60=\"-\"),0,('Trust - Frontsheet'!AQ60))","v":0},{"$f":"IF(OR('Trust - Frontsheet'!AR60=\"\",'Trust - Frontsheet'!AR60=\"-\"),0,('Trust - Frontsheet'!AR60))","v":0},{"$f":"IF(OR('Trust - Frontsheet'!AS60=\"\",'Trust - Frontsheet'!AS60=\"-\"),0,('Trust - Frontsheet'!AS60))","v":0},{"$f":"IF(OR('Trust - Frontsheet'!AT60=\"\",'Trust - Frontsheet'!AT60=\"-\"),0,('Trust - Frontsheet'!AT60))","v":0},{"$f":"'Trust - Frontsheet'!AC60","v":0},{"$f":"IF(OR('Trust - Frontsheet'!AD60=\"\",'Trust - Frontsheet'!AD60=\"-\"),0,('Trust - Frontsheet'!AD60))","v":0},{"$f":"IF(OR('Trust - Frontsheet'!AE60=\"\",'Trust - Frontsheet'!AE60=\"-\"),0,('Trust - Frontsheet'!AE60))","v":0},{"$f":"IF(OR('Trust - Frontsheet'!AF60=\"\",'Trust - Frontsheet'!AF60=\"-\"),0,('Trust - Frontsheet'!AF60))","v":0},{"$f":"IF(OR('Trust - Frontsheet'!AG60=\"\",'Trust - Frontsheet'!AG60=\"-\"),0,('Trust - Frontsheet'!AG60))","v":0},{"$f":"IF(OR('Trust - Frontsheet'!AH60=\"\",'Trust - Frontsheet'!AH60=\"-\"),0,('Trust - Frontsheet'!AH60))","v":0},{"$f":"IF(OR('Trust - Frontsheet'!AI60=\"\",'Trust - Frontsheet'!AI60=\"-\"),0,('Trust - Frontsheet'!AI60))","v":0},{"$f":"IF(OR('Trust - Frontsheet'!AJ60=\"\",'Trust - Frontsheet'!AJ60=\"-\"),0,('Trust - Frontsheet'!AJ60))","v":0},{"$f":"IF(A48=\"\",\"\",(IF(ISBLANK('Trust - Frontsheet'!F9),\"\",'Trust - Frontsheet'!F9)))","v":""}]
[{"$f":"IF('Trust - Frontsheet'!D61=0,\"\",IF('Trust - Frontsheet'!D61=\"\",\"\",'Trust - Frontsheet'!D61))","v":""},{"$f":"IF(ISBLANK('Trust - Frontsheet'!E61),\"\",'Trust - Frontsheet'!E61)","v":""},{"$f":"IF(ISBLANK('Trust - Frontsheet'!F61),\"\",\"'\" & 'Trust - Frontsheet'!F61 & \"'\")","v":""},{"$f":"IF(ISBLANK('Trust - Frontsheet'!G61),\"\",'Trust - Frontsheet'!G61)","v":""},{"$f":"IF(ISBLANK('Trust - Frontsheet'!H61),\"\",'Trust - Frontsheet'!H61)","v":""},{"$f":"'Trust - Frontsheet'!I61","v":0},{"$f":"'Trust - Frontsheet'!J61","v":0},{"$f":"'Trust - Frontsheet'!K61","v":0},{"$f":"'Trust - Frontsheet'!L61","v":0},{"$f":"'Trust - Frontsheet'!M61","v":0},{"$f":"'Trust - Frontsheet'!N61","v":0},{"$f":"'Trust - Frontsheet'!O61","v":0},{"$f":"'Trust - Frontsheet'!P61","v":0},{"$f":"'Trust - Frontsheet'!Q61","v":0},{"$f":"'Trust - Frontsheet'!R61","v":0},{"$f":"'Trust - Frontsheet'!S61","v":0},{"$f":"'Trust - Frontsheet'!T61","v":0},{"$f":"'Trust - Frontsheet'!U61","v":0},{"$f":"'Trust - Frontsheet'!V61","v":0},{"$f":"'Trust - Frontsheet'!W61","v":0},{"$f":"'Trust - Frontsheet'!X61","v":0},{"$f":"'Trust - Frontsheet'!Y61","v":0},{"$f":"'Trust - Frontsheet'!Z61","v":0},{"$f":"'Trust - Frontsheet'!AA61","v":0},{"$f":"'Trust - Frontsheet'!AB61","v":0},{"$f":"IF(OR('Trust - Frontsheet'!AK61=\"\",'Trust - Frontsheet'!AK61=\"-\"),0,('Trust - Frontsheet'!AK61))","v":0},{"$f":"IF(OR('Trust - Frontsheet'!AL61=\"\",'Trust - Frontsheet'!AL61=\"-\"),0,('Trust - Frontsheet'!AL61))","v":0},{"$f":"IF(OR('Trust - Frontsheet'!AM61=\"\",'Trust - Frontsheet'!AM61=\"-\"),0,('Trust - Frontsheet'!AM61))","v":0},{"$f":"IF(OR('Trust - Frontsheet'!AN61=\"\",'Trust - Frontsheet'!AN61=\"-\"),0,('Trust - Frontsheet'!AN61))","v":0},{"$f":"IF(OR('Trust - Frontsheet'!AO61=\"\",'Trust - Frontsheet'!AO61=\"-\"),0,('Trust - Frontsheet'!AO61))","v":0},{"$f":"IF(OR('Trust - Frontsheet'!AP61=\"\",'Trust - Frontsheet'!AP61=\"-\"),0,('Trust - Frontsheet'!AP61))","v":0},{"$f":"IF(OR('Trust - Frontsheet'!AQ61=\"\",'Trust - Frontsheet'!AQ61=\"-\"),0,('Trust - Frontsheet'!AQ61))","v":0},{"$f":"IF(OR('Trust - Frontsheet'!AR61=\"\",'Trust - Frontsheet'!AR61=\"-\"),0,('Trust - Frontsheet'!AR61))","v":0},{"$f":"IF(OR('Trust - Frontsheet'!AS61=\"\",'Trust - Frontsheet'!AS61=\"-\"),0,('Trust - Frontsheet'!AS61))","v":0},{"$f":"IF(OR('Trust - Frontsheet'!AT61=\"\",'Trust - Frontsheet'!AT61=\"-\"),0,('Trust - Frontsheet'!AT61))","v":0},{"$f":"'Trust - Frontsheet'!AC61","v":0},{"$f":"IF(OR('Trust - Frontsheet'!AD61=\"\",'Trust - Frontsheet'!AD61=\"-\"),0,('Trust - Frontsheet'!AD61))","v":0},{"$f":"IF(OR('Trust - Frontsheet'!AE61=\"\",'Trust - Frontsheet'!AE61=\"-\"),0,('Trust - Frontsheet'!AE61))","v":0},{"$f":"IF(OR('Trust - Frontsheet'!AF61=\"\",'Trust - Frontsheet'!AF61=\"-\"),0,('Trust - Frontsheet'!AF61))","v":0},{"$f":"IF(OR('Trust - Frontsheet'!AG61=\"\",'Trust - Frontsheet'!AG61=\"-\"),0,('Trust - Frontsheet'!AG61))","v":0},{"$f":"IF(OR('Trust - Frontsheet'!AH61=\"\",'Trust - Frontsheet'!AH61=\"-\"),0,('Trust - Frontsheet'!AH61))","v":0},{"$f":"IF(OR('Trust - Frontsheet'!AI61=\"\",'Trust - Frontsheet'!AI61=\"-\"),0,('Trust - Frontsheet'!AI61))","v":0},{"$f":"IF(OR('Trust - Frontsheet'!AJ61=\"\",'Trust - Frontsheet'!AJ61=\"-\"),0,('Trust - Frontsheet'!AJ61))","v":0},{"$f":"IF(A49=\"\",\"\",(IF(ISBLANK('Trust - Frontsheet'!F9),\"\",'Trust - Frontsheet'!F9)))","v":""}]
[{"$f":"IF('Trust - Frontsheet'!D62=0,\"\",IF('Trust - Frontsheet'!D62=\"\",\"\",'Trust - Frontsheet'!D62))","v":""},{"$f":"IF(ISBLANK('Trust - Frontsheet'!E62),\"\",'Trust - Frontsheet'!E62)","v":""},{"$f":"IF(ISBLANK('Trust - Frontsheet'!F62),\"\",\"'\" & 'Trust - Frontsheet'!F62 & \"'\")","v":""},{"$f":"IF(ISBLANK('Trust - Frontsheet'!G62),\"\",'Trust - Frontsheet'!G62)","v":""},{"$f":"IF(ISBLANK('Trust - Frontsheet'!H62),\"\",'Trust - Frontsheet'!H62)","v":""},{"$f":"'Trust - Frontsheet'!I62","v":0},{"$f":"'Trust - Frontsheet'!J62","v":0},{"$f":"'Trust - Frontsheet'!K62","v":0},{"$f":"'Trust - Frontsheet'!L62","v":0},{"$f":"'Trust - Frontsheet'!M62","v":0},{"$f":"'Trust - Frontsheet'!N62","v":0},{"$f":"'Trust - Frontsheet'!O62","v":0},{"$f":"'Trust - Frontsheet'!P62","v":0},{"$f":"'Trust - Frontsheet'!Q62","v":0},{"$f":"'Trust - Frontsheet'!R62","v":0},{"$f":"'Trust - Frontsheet'!S62","v":0},{"$f":"'Trust - Frontsheet'!T62","v":0},{"$f":"'Trust - Frontsheet'!U62","v":0},{"$f":"'Trust - Frontsheet'!V62","v":0},{"$f":"'Trust - Frontsheet'!W62","v":0},{"$f":"'Trust - Frontsheet'!X62","v":0},{"$f":"'Trust - Frontsheet'!Y62","v":0},{"$f":"'Trust - Frontsheet'!Z62","v":0},{"$f":"'Trust - Frontsheet'!AA62","v":0},{"$f":"'Trust - Frontsheet'!AB62","v":0},{"$f":"IF(OR('Trust - Frontsheet'!AK62=\"\",'Trust - Frontsheet'!AK62=\"-\"),0,('Trust - Frontsheet'!AK62))","v":0},{"$f":"IF(OR('Trust - Frontsheet'!AL62=\"\",'Trust - Frontsheet'!AL62=\"-\"),0,('Trust - Frontsheet'!AL62))","v":0},{"$f":"IF(OR('Trust - Frontsheet'!AM62=\"\",'Trust - Frontsheet'!AM62=\"-\"),0,('Trust - Frontsheet'!AM62))","v":0},{"$f":"IF(OR('Trust - Frontsheet'!AN62=\"\",'Trust - Frontsheet'!AN62=\"-\"),0,('Trust - Frontsheet'!AN62))","v":0},{"$f":"IF(OR('Trust - Frontsheet'!AO62=\"\",'Trust - Frontsheet'!AO62=\"-\"),0,('Trust - Frontsheet'!AO62))","v":0},{"$f":"IF(OR('Trust - Frontsheet'!AP62=\"\",'Trust - Frontsheet'!AP62=\"-\"),0,('Trust - Frontsheet'!AP62))","v":0},{"$f":"IF(OR('Trust - Frontsheet'!AQ62=\"\",'Trust - Frontsheet'!AQ62=\"-\"),0,('Trust - Frontsheet'!AQ62))","v":0},{"$f":"IF(OR('Trust - Frontsheet'!AR62=\"\",'Trust - Frontsheet'!AR62=\"-\"),0,('Trust - Frontsheet'!AR62))","v":0},{"$f":"IF(OR('Trust - Frontsheet'!AS62=\"\",'Trust - Frontsheet'!AS62=\"-\"),0,('Trust - Frontsheet'!AS62))","v":0},{"$f":"IF(OR('Trust - Frontsheet'!AT62=\"\",'Trust - Frontsheet'!AT62=\"-\"),0,('Trust - Frontsheet'!AT62))","v":0},{"$f":"'Trust - Frontsheet'!AC62","v":0},{"$f":"IF(OR('Trust - Frontsheet'!AD62=\"\",'Trust - Frontsheet'!AD62=\"-\"),0,('Trust - Frontsheet'!AD62))","v":0},{"$f":"IF(OR('Trust - Frontsheet'!AE62=\"\",'Trust - Frontsheet'!AE62=\"-\"),0,('Trust - Frontsheet'!AE62))","v":0},{"$f":"IF(OR('Trust - Frontsheet'!AF62=\"\",'Trust - Frontsheet'!AF62=\"-\"),0,('Trust - Frontsheet'!AF62))","v":0},{"$f":"IF(OR('Trust - Frontsheet'!AG62=\"\",'Trust - Frontsheet'!AG62=\"-\"),0,('Trust - Frontsheet'!AG62))","v":0},{"$f":"IF(OR('Trust - Frontsheet'!AH62=\"\",'Trust - Frontsheet'!AH62=\"-\"),0,('Trust - Frontsheet'!AH62))","v":0},{"$f":"IF(OR('Trust - Frontsheet'!AI62=\"\",'Trust - Frontsheet'!AI62=\"-\"),0,('Trust - Frontsheet'!AI62))","v":0},{"$f":"IF(OR('Trust - Frontsheet'!AJ62=\"\",'Trust - Frontsheet'!AJ62=\"-\"),0,('Trust - Frontsheet'!AJ62))","v":0},{"$f":"IF(A50=\"\",\"\",(IF(ISBLANK('Trust - Frontsheet'!F9),\"\",'Trust - Frontsheet'!F9)))","v":""}]
[{"$f":"IF('Trust - Frontsheet'!D63=0,\"\",IF('Trust - Frontsheet'!D63=\"\",\"\",'Trust - Frontsheet'!D63))","v":""},{"$f":"IF(ISBLANK('Trust - Frontsheet'!E63),\"\",'Trust - Frontsheet'!E63)","v":""},{"$f":"IF(ISBLANK('Trust - Frontsheet'!F63),\"\",\"'\" & 'Trust - Frontsheet'!F63 & \"'\")","v":""},{"$f":"IF(ISBLANK('Trust - Frontsheet'!G63),\"\",'Trust - Frontsheet'!G63)","v":""},{"$f":"IF(ISBLANK('Trust - Frontsheet'!H63),\"\",'Trust - Frontsheet'!H63)","v":""},{"$f":"'Trust - Frontsheet'!I63","v":0},{"$f":"'Trust - Frontsheet'!J63","v":0},{"$f":"'Trust - Frontsheet'!K63","v":0},{"$f":"'Trust - Frontsheet'!L63","v":0},{"$f":"'Trust - Frontsheet'!M63","v":0},{"$f":"'Trust - Frontsheet'!N63","v":0},{"$f":"'Trust - Frontsheet'!O63","v":0},{"$f":"'Trust - Frontsheet'!P63","v":0},{"$f":"'Trust - Frontsheet'!Q63","v":0},{"$f":"'Trust - Frontsheet'!R63","v":0},{"$f":"'Trust - Frontsheet'!S63","v":0},{"$f":"'Trust - Frontsheet'!T63","v":0},{"$f":"'Trust - Frontsheet'!U63","v":0},{"$f":"'Trust - Frontsheet'!V63","v":0},{"$f":"'Trust - Frontsheet'!W63","v":0},{"$f":"'Trust - Frontsheet'!X63","v":0},{"$f":"'Trust - Frontsheet'!Y63","v":0},{"$f":"'Trust - Frontsheet'!Z63","v":0},{"$f":"'Trust - Frontsheet'!AA63","v":0},{"$f":"'Trust - Frontsheet'!AB63","v":0},{"$f":"IF(OR('Trust - Frontsheet'!AK63=\"\",'Trust - Frontsheet'!AK63=\"-\"),0,('Trust - Frontsheet'!AK63))","v":0},{"$f":"IF(OR('Trust - Frontsheet'!AL63=\"\",'Trust - Frontsheet'!AL63=\"-\"),0,('Trust - Frontsheet'!AL63))","v":0},{"$f":"IF(OR('Trust - Frontsheet'!AM63=\"\",'Trust - Frontsheet'!AM63=\"-\"),0,('Trust - Frontsheet'!AM63))","v":0},{"$f":"IF(OR('Trust - Frontsheet'!AN63=\"\",'Trust - Frontsheet'!AN63=\"-\"),0,('Trust - Frontsheet'!AN63))","v":0},{"$f":"IF(OR('Trust - Frontsheet'!AO63=\"\",'Trust - Frontsheet'!AO63=\"-\"),0,('Trust - Frontsheet'!AO63))","v":0},{"$f":"IF(OR('Trust - Frontsheet'!AP63=\"\",'Trust - Frontsheet'!AP63=\"-\"),0,('Trust - Frontsheet'!AP63))","v":0},{"$f":"IF(OR('Trust - Frontsheet'!AQ63=\"\",'Trust - Frontsheet'!AQ63=\"-\"),0,('Trust - Frontsheet'!AQ63))","v":0},{"$f":"IF(OR('Trust - Frontsheet'!AR63=\"\",'Trust - Frontsheet'!AR63=\"-\"),0,('Trust - Frontsheet'!AR63))","v":0},{"$f":"IF(OR('Trust - Frontsheet'!AS63=\"\",'Trust - Frontsheet'!AS63=\"-\"),0,('Trust - Frontsheet'!AS63))","v":0},{"$f":"IF(OR('Trust - Frontsheet'!AT63=\"\",'Trust - Frontsheet'!AT63=\"-\"),0,('Trust - Frontsheet'!AT63))","v":0},{"$f":"'Trust - Frontsheet'!AC63","v":0},{"$f":"IF(OR('Trust - Frontsheet'!AD63=\"\",'Trust - Frontsheet'!AD63=\"-\"),0,('Trust - Frontsheet'!AD63))","v":0},{"$f":"IF(OR('Trust - Frontsheet'!AE63=\"\",'Trust - Frontsheet'!AE63=\"-\"),0,('Trust - Frontsheet'!AE63))","v":0},{"$f":"IF(OR('Trust - Frontsheet'!AF63=\"\",'Trust - Frontsheet'!AF63=\"-\"),0,('Trust - Frontsheet'!AF63))","v":0},{"$f":"IF(OR('Trust - Frontsheet'!AG63=\"\",'Trust - Frontsheet'!AG63=\"-\"),0,('Trust - Frontsheet'!AG63))","v":0},{"$f":"IF(OR('Trust - Frontsheet'!AH63=\"\",'Trust - Frontsheet'!AH63=\"-\"),0,('Trust - Frontsheet'!AH63))","v":0},{"$f":"IF(OR('Trust - Frontsheet'!AI63=\"\",'Trust - Frontsheet'!AI63=\"-\"),0,('Trust - Frontsheet'!AI63))","v":0},{"$f":"IF(OR('Trust - Frontsheet'!AJ63=\"\",'Trust - Frontsheet'!AJ63=\"-\"),0,('Trust - Frontsheet'!AJ63))","v":0},{"$f":"IF(A51=\"\",\"\",(IF(ISBLANK('Trust - Frontsheet'!F9),\"\",'Trust - Frontsheet'!F9)))","v":""}]
[{"$f":"IF('Trust - Frontsheet'!D64=0,\"\",IF('Trust - Frontsheet'!D64=\"\",\"\",'Trust - Frontsheet'!D64))","v":""},{"$f":"IF(ISBLANK('Trust - Frontsheet'!E64),\"\",'Trust - Frontsheet'!E64)","v":""},{"$f":"IF(ISBLANK('Trust - Frontsheet'!F64),\"\",\"'\" & 'Trust - Frontsheet'!F64 & \"'\")","v":""},{"$f":"IF(ISBLANK('Trust - Frontsheet'!G64),\"\",'Trust - Frontsheet'!G64)","v":""},{"$f":"IF(ISBLANK('Trust - Frontsheet'!H64),\"\",'Trust - Frontsheet'!H64)","v":""},{"$f":"'Trust - Frontsheet'!I64","v":0},{"$f":"'Trust - Frontsheet'!J64","v":0},{"$f":"'Trust - Frontsheet'!K64","v":0},{"$f":"'Trust - Frontsheet'!L64","v":0},{"$f":"'Trust - Frontsheet'!M64","v":0},{"$f":"'Trust - Frontsheet'!N64","v":0},{"$f":"'Trust - Frontsheet'!O64","v":0},{"$f":"'Trust - Frontsheet'!P64","v":0},{"$f":"'Trust - Frontsheet'!Q64","v":0},{"$f":"'Trust - Frontsheet'!R64","v":0},{"$f":"'Trust - Frontsheet'!S64","v":0},{"$f":"'Trust - Frontsheet'!T64","v":0},{"$f":"'Trust - Frontsheet'!U64","v":0},{"$f":"'Trust - Frontsheet'!V64","v":0},{"$f":"'Trust - Frontsheet'!W64","v":0},{"$f":"'Trust - Frontsheet'!X64","v":0},{"$f":"'Trust - Frontsheet'!Y64","v":0},{"$f":"'Trust - Frontsheet'!Z64","v":0},{"$f":"'Trust - Frontsheet'!AA64","v":0},{"$f":"'Trust - Frontsheet'!AB64","v":0},{"$f":"IF(OR('Trust - Frontsheet'!AK64=\"\",'Trust - Frontsheet'!AK64=\"-\"),0,('Trust - Frontsheet'!AK64))","v":0},{"$f":"IF(OR('Trust - Frontsheet'!AL64=\"\",'Trust - Frontsheet'!AL64=\"-\"),0,('Trust - Frontsheet'!AL64))","v":0},{"$f":"IF(OR('Trust - Frontsheet'!AM64=\"\",'Trust - Frontsheet'!AM64=\"-\"),0,('Trust - Frontsheet'!AM64))","v":0},{"$f":"IF(OR('Trust - Frontsheet'!AN64=\"\",'Trust - Frontsheet'!AN64=\"-\"),0,('Trust - Frontsheet'!AN64))","v":0},{"$f":"IF(OR('Trust - Frontsheet'!AO64=\"\",'Trust - Frontsheet'!AO64=\"-\"),0,('Trust - Frontsheet'!AO64))","v":0},{"$f":"IF(OR('Trust - Frontsheet'!AP64=\"\",'Trust - Frontsheet'!AP64=\"-\"),0,('Trust - Frontsheet'!AP64))","v":0},{"$f":"IF(OR('Trust - Frontsheet'!AQ64=\"\",'Trust - Frontsheet'!AQ64=\"-\"),0,('Trust - Frontsheet'!AQ64))","v":0},{"$f":"IF(OR('Trust - Frontsheet'!AR64=\"\",'Trust - Frontsheet'!AR64=\"-\"),0,('Trust - Frontsheet'!AR64))","v":0},{"$f":"IF(OR('Trust - Frontsheet'!AS64=\"\",'Trust - Frontsheet'!AS64=\"-\"),0,('Trust - Frontsheet'!AS64))","v":0},{"$f":"IF(OR('Trust - Frontsheet'!AT64=\"\",'Trust - Frontsheet'!AT64=\"-\"),0,('Trust - Frontsheet'!AT64))","v":0},{"$f":"'Trust - Frontsheet'!AC64","v":0},{"$f":"IF(OR('Trust - Frontsheet'!AD64=\"\",'Trust - Frontsheet'!AD64=\"-\"),0,('Trust - Frontsheet'!AD64))","v":0},{"$f":"IF(OR('Trust - Frontsheet'!AE64=\"\",'Trust - Frontsheet'!AE64=\"-\"),0,('Trust - Frontsheet'!AE64))","v":0},{"$f":"IF(OR('Trust - Frontsheet'!AF64=\"\",'Trust - Frontsheet'!AF64=\"-\"),0,('Trust - Frontsheet'!AF64))","v":0},{"$f":"IF(OR('Trust - Frontsheet'!AG64=\"\",'Trust - Frontsheet'!AG64=\"-\"),0,('Trust - Frontsheet'!AG64))","v":0},{"$f":"IF(OR('Trust - Frontsheet'!AH64=\"\",'Trust - Frontsheet'!AH64=\"-\"),0,('Trust - Frontsheet'!AH64))","v":0},{"$f":"IF(OR('Trust - Frontsheet'!AI64=\"\",'Trust - Frontsheet'!AI64=\"-\"),0,('Trust - Frontsheet'!AI64))","v":0},{"$f":"IF(OR('Trust - Frontsheet'!AJ64=\"\",'Trust - Frontsheet'!AJ64=\"-\"),0,('Trust - Frontsheet'!AJ64))","v":0},{"$f":"IF(A52=\"\",\"\",(IF(ISBLANK('Trust - Frontsheet'!F9),\"\",'Trust - Frontsheet'!F9)))","v":""}]
[{"$f":"IF('Trust - Frontsheet'!D65=0,\"\",IF('Trust - Frontsheet'!D65=\"\",\"\",'Trust - Frontsheet'!D65))","v":""},{"$f":"IF(ISBLANK('Trust - Frontsheet'!E65),\"\",'Trust - Frontsheet'!E65)","v":""},{"$f":"IF(ISBLANK('Trust - Frontsheet'!F65),\"\",\"'\" & 'Trust - Frontsheet'!F65 & \"'\")","v":""},{"$f":"IF(ISBLANK('Trust - Frontsheet'!G65),\"\",'Trust - Frontsheet'!G65)","v":""},{"$f":"IF(ISBLANK('Trust - Frontsheet'!H65),\"\",'Trust - Frontsheet'!H65)","v":""},{"$f":"'Trust - Frontsheet'!I65","v":0},{"$f":"'Trust - Frontsheet'!J65","v":0},{"$f":"'Trust - Frontsheet'!K65","v":0},{"$f":"'Trust - Frontsheet'!L65","v":0},{"$f":"'Trust - Frontsheet'!M65","v":0},{"$f":"'Trust - Frontsheet'!N65","v":0},{"$f":"'Trust - Frontsheet'!O65","v":0},{"$f":"'Trust - Frontsheet'!P65","v":0},{"$f":"'Trust - Frontsheet'!Q65","v":0},{"$f":"'Trust - Frontsheet'!R65","v":0},{"$f":"'Trust - Frontsheet'!S65","v":0},{"$f":"'Trust - Frontsheet'!T65","v":0},{"$f":"'Trust - Frontsheet'!U65","v":0},{"$f":"'Trust - Frontsheet'!V65","v":0},{"$f":"'Trust - Frontsheet'!W65","v":0},{"$f":"'Trust - Frontsheet'!X65","v":0},{"$f":"'Trust - Frontsheet'!Y65","v":0},{"$f":"'Trust - Frontsheet'!Z65","v":0},{"$f":"'Trust - Frontsheet'!AA65","v":0},{"$f":"'Trust - Frontsheet'!AB65","v":0},{"$f":"IF(OR('Trust - Frontsheet'!AK65=\"\",'Trust - Frontsheet'!AK65=\"-\"),0,('Trust - Frontsheet'!AK65))","v":0},{"$f":"IF(OR('Trust - Frontsheet'!AL65=\"\",'Trust - Frontsheet'!AL65=\"-\"),0,('Trust - Frontsheet'!AL65))","v":0},{"$f":"IF(OR('Trust - Frontsheet'!AM65=\"\",'Trust - Frontsheet'!AM65=\"-\"),0,('Trust - Frontsheet'!AM65))","v":0},{"$f":"IF(OR('Trust - Frontsheet'!AN65=\"\",'Trust - Frontsheet'!AN65=\"-\"),0,('Trust - Frontsheet'!AN65))","v":0},{"$f":"IF(OR('Trust - Frontsheet'!AO65=\"\",'Trust - Frontsheet'!AO65=\"-\"),0,('Trust - Frontsheet'!AO65))","v":0},{"$f":"IF(OR('Trust - Frontsheet'!AP65=\"\",'Trust - Frontsheet'!AP65=\"-\"),0,('Trust - Frontsheet'!AP65))","v":0},{"$f":"IF(OR('Trust - Frontsheet'!AQ65=\"\",'Trust - Frontsheet'!AQ65=\"-\"),0,('Trust - Frontsheet'!AQ65))","v":0},{"$f":"IF(OR('Trust - Frontsheet'!AR65=\"\",'Trust - Frontsheet'!AR65=\"-\"),0,('Trust - Frontsheet'!AR65))","v":0},{"$f":"IF(OR('Trust - Frontsheet'!AS65=\"\",'Trust - Frontsheet'!AS65=\"-\"),0,('Trust - Frontsheet'!AS65))","v":0},{"$f":"IF(OR('Trust - Frontsheet'!AT65=\"\",'Trust - Frontsheet'!AT65=\"-\"),0,('Trust - Frontsheet'!AT65))","v":0},{"$f":"'Trust - Frontsheet'!AC65","v":0},{"$f":"IF(OR('Trust - Frontsheet'!AD65=\"\",'Trust - Frontsheet'!AD65=\"-\"),0,('Trust - Frontsheet'!AD65))","v":0},{"$f":"IF(OR('Trust - Frontsheet'!AE65=\"\",'Trust - Frontsheet'!AE65=\"-\"),0,('Trust - Frontsheet'!AE65))","v":0},{"$f":"IF(OR('Trust - Frontsheet'!AF65=\"\",'Trust - Frontsheet'!AF65=\"-\"),0,('Trust - Frontsheet'!AF65))","v":0},{"$f":"IF(OR('Trust - Frontsheet'!AG65=\"\",'Trust - Frontsheet'!AG65=\"-\"),0,('Trust - Frontsheet'!AG65))","v":0},{"$f":"IF(OR('Trust - Frontsheet'!AH65=\"\",'Trust - Frontsheet'!AH65=\"-\"),0,('Trust - Frontsheet'!AH65))","v":0},{"$f":"IF(OR('Trust - Frontsheet'!AI65=\"\",'Trust - Frontsheet'!AI65=\"-\"),0,('Trust - Frontsheet'!AI65))","v":0},{"$f":"IF(OR('Trust - Frontsheet'!AJ65=\"\",'Trust - Frontsheet'!AJ65=\"-\"),0,('Trust - Frontsheet'!AJ65))","v":0},{"$f":"IF(A53=\"\",\"\",(IF(ISBLANK('Trust - Frontsheet'!F9),\"\",'Trust - Frontsheet'!F9)))","v":""}]
[{"$f":"IF('Trust - Frontsheet'!D66=0,\"\",IF('Trust - Frontsheet'!D66=\"\",\"\",'Trust - Frontsheet'!D66))","v":""},{"$f":"IF(ISBLANK('Trust - Frontsheet'!E66),\"\",'Trust - Frontsheet'!E66)","v":""},{"$f":"IF(ISBLANK('Trust - Frontsheet'!F66),\"\",\"'\" & 'Trust - Frontsheet'!F66 & \"'\")","v":""},{"$f":"IF(ISBLANK('Trust - Frontsheet'!G66),\"\",'Trust - Frontsheet'!G66)","v":""},{"$f":"IF(ISBLANK('Trust - Frontsheet'!H66),\"\",'Trust - Frontsheet'!H66)","v":""},{"$f":"'Trust - Frontsheet'!I66","v":0},{"$f":"'Trust - Frontsheet'!J66","v":0},{"$f":"'Trust - Frontsheet'!K66","v":0},{"$f":"'Trust - Frontsheet'!L66","v":0},{"$f":"'Trust - Frontsheet'!M66","v":0},{"$f":"'Trust - Frontsheet'!N66","v":0},{"$f":"'Trust - Frontsheet'!O66","v":0},{"$f":"'Trust - Frontsheet'!P66","v":0},{"$f":"'Trust - Frontsheet'!Q66","v":0},{"$f":"'Trust - Frontsheet'!R66","v":0},{"$f":"'Trust - Frontsheet'!S66","v":0},{"$f":"'Trust - Frontsheet'!T66","v":0},{"$f":"'Trust - Frontsheet'!U66","v":0},{"$f":"'Trust - Frontsheet'!V66","v":0},{"$f":"'Trust - Frontsheet'!W66","v":0},{"$f":"'Trust - Frontsheet'!X66","v":0},{"$f":"'Trust - Frontsheet'!Y66","v":0},{"$f":"'Trust - Frontsheet'!Z66","v":0},{"$f":"'Trust - Frontsheet'!AA66","v":0},{"$f":"'Trust - Frontsheet'!AB66","v":0},{"$f":"IF(OR('Trust - Frontsheet'!AK66=\"\",'Trust - Frontsheet'!AK66=\"-\"),0,('Trust - Frontsheet'!AK66))","v":0},{"$f":"IF(OR('Trust - Frontsheet'!AL66=\"\",'Trust - Frontsheet'!AL66=\"-\"),0,('Trust - Frontsheet'!AL66))","v":0},{"$f":"IF(OR('Trust - Frontsheet'!AM66=\"\",'Trust - Frontsheet'!AM66=\"-\"),0,('Trust - Frontsheet'!AM66))","v":0},{"$f":"IF(OR('Trust - Frontsheet'!AN66=\"\",'Trust - Frontsheet'!AN66=\"-\"),0,('Trust - Frontsheet'!AN66))","v":0},{"$f":"IF(OR('Trust - Frontsheet'!AO66=\"\",'Trust - Frontsheet'!AO66=\"-\"),0,('Trust - Frontsheet'!AO66))","v":0},{"$f":"IF(OR('Trust - Frontsheet'!AP66=\"\",'Trust - Frontsheet'!AP66=\"-\"),0,('Trust - Frontsheet'!AP66))","v":0},{"$f":"IF(OR('Trust - Frontsheet'!AQ66=\"\",'Trust - Frontsheet'!AQ66=\"-\"),0,('Trust - Frontsheet'!AQ66))","v":0},{"$f":"IF(OR('Trust - Frontsheet'!AR66=\"\",'Trust - Frontsheet'!AR66=\"-\"),0,('Trust - Frontsheet'!AR66))","v":0},{"$f":"IF(OR('Trust - Frontsheet'!AS66=\"\",'Trust - Frontsheet'!AS66=\"-\"),0,('Trust - Frontsheet'!AS66))","v":0},{"$f":"IF(OR('Trust - Frontsheet'!AT66=\"\",'Trust - Frontsheet'!AT66=\"-\"),0,('Trust - Frontsheet'!AT66))","v":0},{"$f":"'Trust - Frontsheet'!AC66","v":0},{"$f":"IF(OR('Trust - Frontsheet'!AD66=\"\",'Trust - Frontsheet'!AD66=\"-\"),0,('Trust - Frontsheet'!AD66))","v":0},{"$f":"IF(OR('Trust - Frontsheet'!AE66=\"\",'Trust - Frontsheet'!AE66=\"-\"),0,('Trust - Frontsheet'!AE66))","v":0},{"$f":"IF(OR('Trust - Frontsheet'!AF66=\"\",'Trust - Frontsheet'!AF66=\"-\"),0,('Trust - Frontsheet'!AF66))","v":0},{"$f":"IF(OR('Trust - Frontsheet'!AG66=\"\",'Trust - Frontsheet'!AG66=\"-\"),0,('Trust - Frontsheet'!AG66))","v":0},{"$f":"IF(OR('Trust - Frontsheet'!AH66=\"\",'Trust - Frontsheet'!AH66=\"-\"),0,('Trust - Frontsheet'!AH66))","v":0},{"$f":"IF(OR('Trust - Frontsheet'!AI66=\"\",'Trust - Frontsheet'!AI66=\"-\"),0,('Trust - Frontsheet'!AI66))","v":0},{"$f":"IF(OR('Trust - Frontsheet'!AJ66=\"\",'Trust - Frontsheet'!AJ66=\"-\"),0,('Trust - Frontsheet'!AJ66))","v":0},{"$f":"IF(A54=\"\",\"\",(IF(ISBLANK('Trust - Frontsheet'!F9),\"\",'Trust - Frontsheet'!F9)))","v":""}]
[{"$f":"IF('Trust - Frontsheet'!D67=0,\"\",IF('Trust - Frontsheet'!D67=\"\",\"\",'Trust - Frontsheet'!D67))","v":""},{"$f":"IF(ISBLANK('Trust - Frontsheet'!E67),\"\",'Trust - Frontsheet'!E67)","v":""},{"$f":"IF(ISBLANK('Trust - Frontsheet'!F67),\"\",\"'\" & 'Trust - Frontsheet'!F67 & \"'\")","v":""},{"$f":"IF(ISBLANK('Trust - Frontsheet'!G67),\"\",'Trust - Frontsheet'!G67)","v":""},{"$f":"IF(ISBLANK('Trust - Frontsheet'!H67),\"\",'Trust - Frontsheet'!H67)","v":""},{"$f":"'Trust - Frontsheet'!I67","v":0},{"$f":"'Trust - Frontsheet'!J67","v":0},{"$f":"'Trust - Frontsheet'!K67","v":0},{"$f":"'Trust - Frontsheet'!L67","v":0},{"$f":"'Trust - Frontsheet'!M67","v":0},{"$f":"'Trust - Frontsheet'!N67","v":0},{"$f":"'Trust - Frontsheet'!O67","v":0},{"$f":"'Trust - Frontsheet'!P67","v":0},{"$f":"'Trust - Frontsheet'!Q67","v":0},{"$f":"'Trust - Frontsheet'!R67","v":0},{"$f":"'Trust - Frontsheet'!S67","v":0},{"$f":"'Trust - Frontsheet'!T67","v":0},{"$f":"'Trust - Frontsheet'!U67","v":0},{"$f":"'Trust - Frontsheet'!V67","v":0},{"$f":"'Trust - Frontsheet'!W67","v":0},{"$f":"'Trust - Frontsheet'!X67","v":0},{"$f":"'Trust - Frontsheet'!Y67","v":0},{"$f":"'Trust - Frontsheet'!Z67","v":0},{"$f":"'Trust - Frontsheet'!AA67","v":0},{"$f":"'Trust - Frontsheet'!AB67","v":0},{"$f":"IF(OR('Trust - Frontsheet'!AK67=\"\",'Trust - Frontsheet'!AK67=\"-\"),0,('Trust - Frontsheet'!AK67))","v":0},{"$f":"IF(OR('Trust - Frontsheet'!AL67=\"\",'Trust - Frontsheet'!AL67=\"-\"),0,('Trust - Frontsheet'!AL67))","v":0},{"$f":"IF(OR('Trust - Frontsheet'!AM67=\"\",'Trust - Frontsheet'!AM67=\"-\"),0,('Trust - Frontsheet'!AM67))","v":0},{"$f":"IF(OR('Trust - Frontsheet'!AN67=\"\",'Trust - Frontsheet'!AN67=\"-\"),0,('Trust - Frontsheet'!AN67))","v":0},{"$f":"IF(OR('Trust - Frontsheet'!AO67=\"\",'Trust - Frontsheet'!AO67=\"-\"),0,('Trust - Frontsheet'!AO67))","v":0},{"$f":"IF(OR('Trust - Frontsheet'!AP67=\"\",'Trust - Frontsheet'!AP67=\"-\"),0,('Trust - Frontsheet'!AP67))","v":0},{"$f":"IF(OR('Trust - Frontsheet'!AQ67=\"\",'Trust - Frontsheet'!AQ67=\"-\"),0,('Trust - Frontsheet'!AQ67))","v":0},{"$f":"IF(OR('Trust - Frontsheet'!AR67=\"\",'Trust - Frontsheet'!AR67=\"-\"),0,('Trust - Frontsheet'!AR67))","v":0},{"$f":"IF(OR('Trust - Frontsheet'!AS67=\"\",'Trust - Frontsheet'!AS67=\"-\"),0,('Trust - Frontsheet'!AS67))","v":0},{"$f":"IF(OR('Trust - Frontsheet'!AT67=\"\",'Trust - Frontsheet'!AT67=\"-\"),0,('Trust - Frontsheet'!AT67))","v":0},{"$f":"'Trust - Frontsheet'!AC67","v":0},{"$f":"IF(OR('Trust - Frontsheet'!AD67=\"\",'Trust - Frontsheet'!AD67=\"-\"),0,('Trust - Frontsheet'!AD67))","v":0},{"$f":"IF(OR('Trust - Frontsheet'!AE67=\"\",'Trust - Frontsheet'!AE67=\"-\"),0,('Trust - Frontsheet'!AE67))","v":0},{"$f":"IF(OR('Trust - Frontsheet'!AF67=\"\",'Trust - Frontsheet'!AF67=\"-\"),0,('Trust - Frontsheet'!AF67))","v":0},{"$f":"IF(OR('Trust - Frontsheet'!AG67=\"\",'Trust - Frontsheet'!AG67=\"-\"),0,('Trust - Frontsheet'!AG67))","v":0},{"$f":"IF(OR('Trust - Frontsheet'!AH67=\"\",'Trust - Frontsheet'!AH67=\"-\"),0,('Trust - Frontsheet'!AH67))","v":0},{"$f":"IF(OR('Trust - Frontsheet'!AI67=\"\",'Trust - Frontsheet'!AI67=\"-\"),0,('Trust - Frontsheet'!AI67))","v":0},{"$f":"IF(OR('Trust - Frontsheet'!AJ67=\"\",'Trust - Frontsheet'!AJ67=\"-\"),0,('Trust - Frontsheet'!AJ67))","v":0},{"$f":"IF(A55=\"\",\"\",(IF(ISBLANK('Trust - Frontsheet'!F9),\"\",'Trust - Frontsheet'!F9)))","v":""}]
[{"$f":"IF('Trust - Frontsheet'!D68=0,\"\",IF('Trust - Frontsheet'!D68=\"\",\"\",'Trust - Frontsheet'!D68))","v":""},{"$f":"IF(ISBLANK('Trust - Frontsheet'!E68),\"\",'Trust - Frontsheet'!E68)","v":""},{"$f":"IF(ISBLANK('Trust - Frontsheet'!F68),\"\",\"'\" & 'Trust - Frontsheet'!F68 & \"'\")","v":""},{"$f":"IF(ISBLANK('Trust - Frontsheet'!G68),\"\",'Trust - Frontsheet'!G68)","v":""},{"$f":"IF(ISBLANK('Trust - Frontsheet'!H68),\"\",'Trust - Frontsheet'!H68)","v":""},{"$f":"'Trust - Frontsheet'!I68","v":0},{"$f":"'Trust - Frontsheet'!J68","v":0},{"$f":"'Trust - Frontsheet'!K68","v":0},{"$f":"'Trust - Frontsheet'!L68","v":0},{"$f":"'Trust - Frontsheet'!M68","v":0},{"$f":"'Trust - Frontsheet'!N68","v":0},{"$f":"'Trust - Frontsheet'!O68","v":0},{"$f":"'Trust - Frontsheet'!P68","v":0},{"$f":"'Trust - Frontsheet'!Q68","v":0},{"$f":"'Trust - Frontsheet'!R68","v":0},{"$f":"'Trust - Frontsheet'!S68","v":0},{"$f":"'Trust - Frontsheet'!T68","v":0},{"$f":"'Trust - Frontsheet'!U68","v":0},{"$f":"'Trust - Frontsheet'!V68","v":0},{"$f":"'Trust - Frontsheet'!W68","v":0},{"$f":"'Trust - Frontsheet'!X68","v":0},{"$f":"'Trust - Frontsheet'!Y68","v":0},{"$f":"'Trust - Frontsheet'!Z68","v":0},{"$f":"'Trust - Frontsheet'!AA68","v":0},{"$f":"'Trust - Frontsheet'!AB68","v":0},{"$f":"IF(OR('Trust - Frontsheet'!AK68=\"\",'Trust - Frontsheet'!AK68=\"-\"),0,('Trust - Frontsheet'!AK68))","v":0},{"$f":"IF(OR('Trust - Frontsheet'!AL68=\"\",'Trust - Frontsheet'!AL68=\"-\"),0,('Trust - Frontsheet'!AL68))","v":0},{"$f":"IF(OR('Trust - Frontsheet'!AM68=\"\",'Trust - Frontsheet'!AM68=\"-\"),0,('Trust - Frontsheet'!AM68))","v":0},{"$f":"IF(OR('Trust - Frontsheet'!AN68=\"\",'Trust - Frontsheet'!AN68=\"-\"),0,('Trust - Frontsheet'!AN68))","v":0},{"$f":"IF(OR('Trust - Frontsheet'!AO68=\"\",'Trust - Frontsheet'!AO68=\"-\"),0,('Trust - Frontsheet'!AO68))","v":0},{"$f":"IF(OR('Trust - Frontsheet'!AP68=\"\",'Trust - Frontsheet'!AP68=\"-\"),0,('Trust - Frontsheet'!AP68))","v":0},{"$f":"IF(OR('Trust - Frontsheet'!AQ68=\"\",'Trust - Frontsheet'!AQ68=\"-\"),0,('Trust - Frontsheet'!AQ68))","v":0},{"$f":"IF(OR('Trust - Frontsheet'!AR68=\"\",'Trust - Frontsheet'!AR68=\"-\"),0,('Trust - Frontsheet'!AR68))","v":0},{"$f":"IF(OR('Trust - Frontsheet'!AS68=\"\",'Trust - Frontsheet'!AS68=\"-\"),0,('Trust - Frontsheet'!AS68))","v":0},{"$f":"IF(OR('Trust - Frontsheet'!AT68=\"\",'Trust - Frontsheet'!AT68=\"-\"),0,('Trust - Frontsheet'!AT68))","v":0},{"$f":"'Trust - Frontsheet'!AC68","v":0},{"$f":"IF(OR('Trust - Frontsheet'!AD68=\"\",'Trust - Frontsheet'!AD68=\"-\"),0,('Trust - Frontsheet'!AD68))","v":0},{"$f":"IF(OR('Trust - Frontsheet'!AE68=\"\",'Trust - Frontsheet'!AE68=\"-\"),0,('Trust - Frontsheet'!AE68))","v":0},{"$f":"IF(OR('Trust - Frontsheet'!AF68=\"\",'Trust - Frontsheet'!AF68=\"-\"),0,('Trust - Frontsheet'!AF68))","v":0},{"$f":"IF(OR('Trust - Frontsheet'!AG68=\"\",'Trust - Frontsheet'!AG68=\"-\"),0,('Trust - Frontsheet'!AG68))","v":0},{"$f":"IF(OR('Trust - Frontsheet'!AH68=\"\",'Trust - Frontsheet'!AH68=\"-\"),0,('Trust - Frontsheet'!AH68))","v":0},{"$f":"IF(OR('Trust - Frontsheet'!AI68=\"\",'Trust - Frontsheet'!AI68=\"-\"),0,('Trust - Frontsheet'!AI68))","v":0},{"$f":"IF(OR('Trust - Frontsheet'!AJ68=\"\",'Trust - Frontsheet'!AJ68=\"-\"),0,('Trust - Frontsheet'!AJ68))","v":0},{"$f":"IF(A56=\"\",\"\",(IF(ISBLANK('Trust - Frontsheet'!F9),\"\",'Trust - Frontsheet'!F9)))","v":""}]
[{"$f":"IF('Trust - Frontsheet'!D69=0,\"\",IF('Trust - Frontsheet'!D69=\"\",\"\",'Trust - Frontsheet'!D69))","v":""},{"$f":"IF(ISBLANK('Trust - Frontsheet'!E69),\"\",'Trust - Frontsheet'!E69)","v":""},{"$f":"IF(ISBLANK('Trust - Frontsheet'!F69),\"\",\"'\" & 'Trust - Frontsheet'!F69 & \"'\")","v":""},{"$f":"IF(ISBLANK('Trust - Frontsheet'!G69),\"\",'Trust - Frontsheet'!G69)","v":""},{"$f":"IF(ISBLANK('Trust - Frontsheet'!H69),\"\",'Trust - Frontsheet'!H69)","v":""},{"$f":"'Trust - Frontsheet'!I69","v":0},{"$f":"'Trust - Frontsheet'!J69","v":0},{"$f":"'Trust - Frontsheet'!K69","v":0},{"$f":"'Trust - Frontsheet'!L69","v":0},{"$f":"'Trust - Frontsheet'!M69","v":0},{"$f":"'Trust - Frontsheet'!N69","v":0},{"$f":"'Trust - Frontsheet'!O69","v":0},{"$f":"'Trust - Frontsheet'!P69","v":0},{"$f":"'Trust - Frontsheet'!Q69","v":0},{"$f":"'Trust - Frontsheet'!R69","v":0},{"$f":"'Trust - Frontsheet'!S69","v":0},{"$f":"'Trust - Frontsheet'!T69","v":0},{"$f":"'Trust - Frontsheet'!U69","v":0},{"$f":"'Trust - Frontsheet'!V69","v":0},{"$f":"'Trust - Frontsheet'!W69","v":0},{"$f":"'Trust - Frontsheet'!X69","v":0},{"$f":"'Trust - Frontsheet'!Y69","v":0},{"$f":"'Trust - Frontsheet'!Z69","v":0},{"$f":"'Trust - Frontsheet'!AA69","v":0},{"$f":"'Trust - Frontsheet'!AB69","v":0},{"$f":"IF(OR('Trust - Frontsheet'!AK69=\"\",'Trust - Frontsheet'!AK69=\"-\"),0,('Trust - Frontsheet'!AK69))","v":0},{"$f":"IF(OR('Trust - Frontsheet'!AL69=\"\",'Trust - Frontsheet'!AL69=\"-\"),0,('Trust - Frontsheet'!AL69))","v":0},{"$f":"IF(OR('Trust - Frontsheet'!AM69=\"\",'Trust - Frontsheet'!AM69=\"-\"),0,('Trust - Frontsheet'!AM69))","v":0},{"$f":"IF(OR('Trust - Frontsheet'!AN69=\"\",'Trust - Frontsheet'!AN69=\"-\"),0,('Trust - Frontsheet'!AN69))","v":0},{"$f":"IF(OR('Trust - Frontsheet'!AO69=\"\",'Trust - Frontsheet'!AO69=\"-\"),0,('Trust - Frontsheet'!AO69))","v":0},{"$f":"IF(OR('Trust - Frontsheet'!AP69=\"\",'Trust - Frontsheet'!AP69=\"-\"),0,('Trust - Frontsheet'!AP69))","v":0},{"$f":"IF(OR('Trust - Frontsheet'!AQ69=\"\",'Trust - Frontsheet'!AQ69=\"-\"),0,('Trust - Frontsheet'!AQ69))","v":0},{"$f":"IF(OR('Trust - Frontsheet'!AR69=\"\",'Trust - Frontsheet'!AR69=\"-\"),0,('Trust - Frontsheet'!AR69))","v":0},{"$f":"IF(OR('Trust - Frontsheet'!AS69=\"\",'Trust - Frontsheet'!AS69=\"-\"),0,('Trust - Frontsheet'!AS69))","v":0},{"$f":"IF(OR('Trust - Frontsheet'!AT69=\"\",'Trust - Frontsheet'!AT69=\"-\"),0,('Trust - Frontsheet'!AT69))","v":0},{"$f":"'Trust - Frontsheet'!AC69","v":0},{"$f":"IF(OR('Trust - Frontsheet'!AD69=\"\",'Trust - Frontsheet'!AD69=\"-\"),0,('Trust - Frontsheet'!AD69))","v":0},{"$f":"IF(OR('Trust - Frontsheet'!AE69=\"\",'Trust - Frontsheet'!AE69=\"-\"),0,('Trust - Frontsheet'!AE69))","v":0},{"$f":"IF(OR('Trust - Frontsheet'!AF69=\"\",'Trust - Frontsheet'!AF69=\"-\"),0,('Trust - Frontsheet'!AF69))","v":0},{"$f":"IF(OR('Trust - Frontsheet'!AG69=\"\",'Trust - Frontsheet'!AG69=\"-\"),0,('Trust - Frontsheet'!AG69))","v":0},{"$f":"IF(OR('Trust - Frontsheet'!AH69=\"\",'Trust - Frontsheet'!AH69=\"-\"),0,('Trust - Frontsheet'!AH69))","v":0},{"$f":"IF(OR('Trust - Frontsheet'!AI69=\"\",'Trust - Frontsheet'!AI69=\"-\"),0,('Trust - Frontsheet'!AI69))","v":0},{"$f":"IF(OR('Trust - Frontsheet'!AJ69=\"\",'Trust - Frontsheet'!AJ69=\"-\"),0,('Trust - Frontsheet'!AJ69))","v":0},{"$f":"IF(A57=\"\",\"\",(IF(ISBLANK('Trust - Frontsheet'!F9),\"\",'Trust - Frontsheet'!F9)))","v":""}]
[{"$f":"IF('Trust - Frontsheet'!D70=0,\"\",IF('Trust - Frontsheet'!D70=\"\",\"\",'Trust - Frontsheet'!D70))","v":""},{"$f":"IF(ISBLANK('Trust - Frontsheet'!E70),\"\",'Trust - Frontsheet'!E70)","v":""},{"$f":"IF(ISBLANK('Trust - Frontsheet'!F70),\"\",\"'\" & 'Trust - Frontsheet'!F70 & \"'\")","v":""},{"$f":"IF(ISBLANK('Trust - Frontsheet'!G70),\"\",'Trust - Frontsheet'!G70)","v":""},{"$f":"IF(ISBLANK('Trust - Frontsheet'!H70),\"\",'Trust - Frontsheet'!H70)","v":""},{"$f":"'Trust - Frontsheet'!I70","v":0},{"$f":"'Trust - Frontsheet'!J70","v":0},{"$f":"'Trust - Frontsheet'!K70","v":0},{"$f":"'Trust - Frontsheet'!L70","v":0},{"$f":"'Trust - Frontsheet'!M70","v":0},{"$f":"'Trust - Frontsheet'!N70","v":0},{"$f":"'Trust - Frontsheet'!O70","v":0},{"$f":"'Trust - Frontsheet'!P70","v":0},{"$f":"'Trust - Frontsheet'!Q70","v":0},{"$f":"'Trust - Frontsheet'!R70","v":0},{"$f":"'Trust - Frontsheet'!S70","v":0},{"$f":"'Trust - Frontsheet'!T70","v":0},{"$f":"'Trust - Frontsheet'!U70","v":0},{"$f":"'Trust - Frontsheet'!V70","v":0},{"$f":"'Trust - Frontsheet'!W70","v":0},{"$f":"'Trust - Frontsheet'!X70","v":0},{"$f":"'Trust - Frontsheet'!Y70","v":0},{"$f":"'Trust - Frontsheet'!Z70","v":0},{"$f":"'Trust - Frontsheet'!AA70","v":0},{"$f":"'Trust - Frontsheet'!AB70","v":0},{"$f":"IF(OR('Trust - Frontsheet'!AK70=\"\",'Trust - Frontsheet'!AK70=\"-\"),0,('Trust - Frontsheet'!AK70))","v":0},{"$f":"IF(OR('Trust - Frontsheet'!AL70=\"\",'Trust - Frontsheet'!AL70=\"-\"),0,('Trust - Frontsheet'!AL70))","v":0},{"$f":"IF(OR('Trust - Frontsheet'!AM70=\"\",'Trust - Frontsheet'!AM70=\"-\"),0,('Trust - Frontsheet'!AM70))","v":0},{"$f":"IF(OR('Trust - Frontsheet'!AN70=\"\",'Trust - Frontsheet'!AN70=\"-\"),0,('Trust - Frontsheet'!AN70))","v":0},{"$f":"IF(OR('Trust - Frontsheet'!AO70=\"\",'Trust - Frontsheet'!AO70=\"-\"),0,('Trust - Frontsheet'!AO70))","v":0},{"$f":"IF(OR('Trust - Frontsheet'!AP70=\"\",'Trust - Frontsheet'!AP70=\"-\"),0,('Trust - Frontsheet'!AP70))","v":0},{"$f":"IF(OR('Trust - Frontsheet'!AQ70=\"\",'Trust - Frontsheet'!AQ70=\"-\"),0,('Trust - Frontsheet'!AQ70))","v":0},{"$f":"IF(OR('Trust - Frontsheet'!AR70=\"\",'Trust - Frontsheet'!AR70=\"-\"),0,('Trust - Frontsheet'!AR70))","v":0},{"$f":"IF(OR('Trust - Frontsheet'!AS70=\"\",'Trust - Frontsheet'!AS70=\"-\"),0,('Trust - Frontsheet'!AS70))","v":0},{"$f":"IF(OR('Trust - Frontsheet'!AT70=\"\",'Trust - Frontsheet'!AT70=\"-\"),0,('Trust - Frontsheet'!AT70))","v":0},{"$f":"'Trust - Frontsheet'!AC70","v":0},{"$f":"IF(OR('Trust - Frontsheet'!AD70=\"\",'Trust - Frontsheet'!AD70=\"-\"),0,('Trust - Frontsheet'!AD70))","v":0},{"$f":"IF(OR('Trust - Frontsheet'!AE70=\"\",'Trust - Frontsheet'!AE70=\"-\"),0,('Trust - Frontsheet'!AE70))","v":0},{"$f":"IF(OR('Trust - Frontsheet'!AF70=\"\",'Trust - Frontsheet'!AF70=\"-\"),0,('Trust - Frontsheet'!AF70))","v":0},{"$f":"IF(OR('Trust - Frontsheet'!AG70=\"\",'Trust - Frontsheet'!AG70=\"-\"),0,('Trust - Frontsheet'!AG70))","v":0},{"$f":"IF(OR('Trust - Frontsheet'!AH70=\"\",'Trust - Frontsheet'!AH70=\"-\"),0,('Trust - Frontsheet'!AH70))","v":0},{"$f":"IF(OR('Trust - Frontsheet'!AI70=\"\",'Trust - Frontsheet'!AI70=\"-\"),0,('Trust - Frontsheet'!AI70))","v":0},{"$f":"IF(OR('Trust - Frontsheet'!AJ70=\"\",'Trust - Frontsheet'!AJ70=\"-\"),0,('Trust - Frontsheet'!AJ70))","v":0},{"$f":"IF(A58=\"\",\"\",(IF(ISBLANK('Trust - Frontsheet'!F9),\"\",'Trust - Frontsheet'!F9)))","v":""}]
[{"$f":"IF('Trust - Frontsheet'!D71=0,\"\",IF('Trust - Frontsheet'!D71=\"\",\"\",'Trust - Frontsheet'!D71))","v":""},{"$f":"IF(ISBLANK('Trust - Frontsheet'!E71),\"\",'Trust - Frontsheet'!E71)","v":""},{"$f":"IF(ISBLANK('Trust - Frontsheet'!F71),\"\",\"'\" & 'Trust - Frontsheet'!F71 & \"'\")","v":""},{"$f":"IF(ISBLANK('Trust - Frontsheet'!G71),\"\",'Trust - Frontsheet'!G71)","v":""},{"$f":"IF(ISBLANK('Trust - Frontsheet'!H71),\"\",'Trust - Frontsheet'!H71)","v":""},{"$f":"'Trust - Frontsheet'!I71","v":0},{"$f":"'Trust - Frontsheet'!J71","v":0},{"$f":"'Trust - Frontsheet'!K71","v":0},{"$f":"'Trust - Frontsheet'!L71","v":0},{"$f":"'Trust - Frontsheet'!M71","v":0},{"$f":"'Trust - Frontsheet'!N71","v":0},{"$f":"'Trust - Frontsheet'!O71","v":0},{"$f":"'Trust - Frontsheet'!P71","v":0},{"$f":"'Trust - Frontsheet'!Q71","v":0},{"$f":"'Trust - Frontsheet'!R71","v":0},{"$f":"'Trust - Frontsheet'!S71","v":0},{"$f":"'Trust - Frontsheet'!T71","v":0},{"$f":"'Trust - Frontsheet'!U71","v":0},{"$f":"'Trust - Frontsheet'!V71","v":0},{"$f":"'Trust - Frontsheet'!W71","v":0},{"$f":"'Trust - Frontsheet'!X71","v":0},{"$f":"'Trust - Frontsheet'!Y71","v":0},{"$f":"'Trust - Frontsheet'!Z71","v":0},{"$f":"'Trust - Frontsheet'!AA71","v":0},{"$f":"'Trust - Frontsheet'!AB71","v":0},{"$f":"IF(OR('Trust - Frontsheet'!AK71=\"\",'Trust - Frontsheet'!AK71=\"-\"),0,('Trust - Frontsheet'!AK71))","v":0},{"$f":"IF(OR('Trust - Frontsheet'!AL71=\"\",'Trust - Frontsheet'!AL71=\"-\"),0,('Trust - Frontsheet'!AL71))","v":0},{"$f":"IF(OR('Trust - Frontsheet'!AM71=\"\",'Trust - Frontsheet'!AM71=\"-\"),0,('Trust - Frontsheet'!AM71))","v":0},{"$f":"IF(OR('Trust - Frontsheet'!AN71=\"\",'Trust - Frontsheet'!AN71=\"-\"),0,('Trust - Frontsheet'!AN71))","v":0},{"$f":"IF(OR('Trust - Frontsheet'!AO71=\"\",'Trust - Frontsheet'!AO71=\"-\"),0,('Trust - Frontsheet'!AO71))","v":0},{"$f":"IF(OR('Trust - Frontsheet'!AP71=\"\",'Trust - Frontsheet'!AP71=\"-\"),0,('Trust - Frontsheet'!AP71))","v":0},{"$f":"IF(OR('Trust - Frontsheet'!AQ71=\"\",'Trust - Frontsheet'!AQ71=\"-\"),0,('Trust - Frontsheet'!AQ71))","v":0},{"$f":"IF(OR('Trust - Frontsheet'!AR71=\"\",'Trust - Frontsheet'!AR71=\"-\"),0,('Trust - Frontsheet'!AR71))","v":0},{"$f":"IF(OR('Trust - Frontsheet'!AS71=\"\",'Trust - Frontsheet'!AS71=\"-\"),0,('Trust - Frontsheet'!AS71))","v":0},{"$f":"IF(OR('Trust - Frontsheet'!AT71=\"\",'Trust - Frontsheet'!AT71=\"-\"),0,('Trust - Frontsheet'!AT71))","v":0},{"$f":"'Trust - Frontsheet'!AC71","v":0},{"$f":"IF(OR('Trust - Frontsheet'!AD71=\"\",'Trust - Frontsheet'!AD71=\"-\"),0,('Trust - Frontsheet'!AD71))","v":0},{"$f":"IF(OR('Trust - Frontsheet'!AE71=\"\",'Trust - Frontsheet'!AE71=\"-\"),0,('Trust - Frontsheet'!AE71))","v":0},{"$f":"IF(OR('Trust - Frontsheet'!AF71=\"\",'Trust - Frontsheet'!AF71=\"-\"),0,('Trust - Frontsheet'!AF71))","v":0},{"$f":"IF(OR('Trust - Frontsheet'!AG71=\"\",'Trust - Frontsheet'!AG71=\"-\"),0,('Trust - Frontsheet'!AG71))","v":0},{"$f":"IF(OR('Trust - Frontsheet'!AH71=\"\",'Trust - Frontsheet'!AH71=\"-\"),0,('Trust - Frontsheet'!AH71))","v":0},{"$f":"IF(OR('Trust - Frontsheet'!AI71=\"\",'Trust - Frontsheet'!AI71=\"-\"),0,('Trust - Frontsheet'!AI71))","v":0},{"$f":"IF(OR('Trust - Frontsheet'!AJ71=\"\",'Trust - Frontsheet'!AJ71=\"-\"),0,('Trust - Frontsheet'!AJ71))","v":0},{"$f":"IF(A59=\"\",\"\",(IF(ISBLANK('Trust - Frontsheet'!F9),\"\",'Trust - Frontsheet'!F9)))","v":""}]
[{"$f":"IF('Trust - Frontsheet'!D72=0,\"\",IF('Trust - Frontsheet'!D72=\"\",\"\",'Trust - Frontsheet'!D72))","v":""},{"$f":"IF(ISBLANK('Trust - Frontsheet'!E72),\"\",'Trust - Frontsheet'!E72)","v":""},{"$f":"IF(ISBLANK('Trust - Frontsheet'!F72),\"\",\"'\" & 'Trust - Frontsheet'!F72 & \"'\")","v":""},{"$f":"IF(ISBLANK('Trust - Frontsheet'!G72),\"\",'Trust - Frontsheet'!G72)","v":""},{"$f":"IF(ISBLANK('Trust - Frontsheet'!H72),\"\",'Trust - Frontsheet'!H72)","v":""},{"$f":"'Trust - Frontsheet'!I72","v":0},{"$f":"'Trust - Frontsheet'!J72","v":0},{"$f":"'Trust - Frontsheet'!K72","v":0},{"$f":"'Trust - Frontsheet'!L72","v":0},{"$f":"'Trust - Frontsheet'!M72","v":0},{"$f":"'Trust - Frontsheet'!N72","v":0},{"$f":"'Trust - Frontsheet'!O72","v":0},{"$f":"'Trust - Frontsheet'!P72","v":0},{"$f":"'Trust - Frontsheet'!Q72","v":0},{"$f":"'Trust - Frontsheet'!R72","v":0},{"$f":"'Trust - Frontsheet'!S72","v":0},{"$f":"'Trust - Frontsheet'!T72","v":0},{"$f":"'Trust - Frontsheet'!U72","v":0},{"$f":"'Trust - Frontsheet'!V72","v":0},{"$f":"'Trust - Frontsheet'!W72","v":0},{"$f":"'Trust - Frontsheet'!X72","v":0},{"$f":"'Trust - Frontsheet'!Y72","v":0},{"$f":"'Trust - Frontsheet'!Z72","v":0},{"$f":"'Trust - Frontsheet'!AA72","v":0},{"$f":"'Trust - Frontsheet'!AB72","v":0},{"$f":"IF(OR('Trust - Frontsheet'!AK72=\"\",'Trust - Frontsheet'!AK72=\"-\"),0,('Trust - Frontsheet'!AK72))","v":0},{"$f":"IF(OR('Trust - Frontsheet'!AL72=\"\",'Trust - Frontsheet'!AL72=\"-\"),0,('Trust - Frontsheet'!AL72))","v":0},{"$f":"IF(OR('Trust - Frontsheet'!AM72=\"\",'Trust - Frontsheet'!AM72=\"-\"),0,('Trust - Frontsheet'!AM72))","v":0},{"$f":"IF(OR('Trust - Frontsheet'!AN72=\"\",'Trust - Frontsheet'!AN72=\"-\"),0,('Trust - Frontsheet'!AN72))","v":0},{"$f":"IF(OR('Trust - Frontsheet'!AO72=\"\",'Trust - Frontsheet'!AO72=\"-\"),0,('Trust - Frontsheet'!AO72))","v":0},{"$f":"IF(OR('Trust - Frontsheet'!AP72=\"\",'Trust - Frontsheet'!AP72=\"-\"),0,('Trust - Frontsheet'!AP72))","v":0},{"$f":"IF(OR('Trust - Frontsheet'!AQ72=\"\",'Trust - Frontsheet'!AQ72=\"-\"),0,('Trust - Frontsheet'!AQ72))","v":0},{"$f":"IF(OR('Trust - Frontsheet'!AR72=\"\",'Trust - Frontsheet'!AR72=\"-\"),0,('Trust - Frontsheet'!AR72))","v":0},{"$f":"IF(OR('Trust - Frontsheet'!AS72=\"\",'Trust - Frontsheet'!AS72=\"-\"),0,('Trust - Frontsheet'!AS72))","v":0},{"$f":"IF(OR('Trust - Frontsheet'!AT72=\"\",'Trust - Frontsheet'!AT72=\"-\"),0,('Trust - Frontsheet'!AT72))","v":0},{"$f":"'Trust - Frontsheet'!AC72","v":0},{"$f":"IF(OR('Trust - Frontsheet'!AD72=\"\",'Trust - Frontsheet'!AD72=\"-\"),0,('Trust - Frontsheet'!AD72))","v":0},{"$f":"IF(OR('Trust - Frontsheet'!AE72=\"\",'Trust - Frontsheet'!AE72=\"-\"),0,('Trust - Frontsheet'!AE72))","v":0},{"$f":"IF(OR('Trust - Frontsheet'!AF72=\"\",'Trust - Frontsheet'!AF72=\"-\"),0,('Trust - Frontsheet'!AF72))","v":0},{"$f":"IF(OR('Trust - Frontsheet'!AG72=\"\",'Trust - Frontsheet'!AG72=\"-\"),0,('Trust - Frontsheet'!AG72))","v":0},{"$f":"IF(OR('Trust - Frontsheet'!AH72=\"\",'Trust - Frontsheet'!AH72=\"-\"),0,('Trust - Frontsheet'!AH72))","v":0},{"$f":"IF(OR('Trust - Frontsheet'!AI72=\"\",'Trust - Frontsheet'!AI72=\"-\"),0,('Trust - Frontsheet'!AI72))","v":0},{"$f":"IF(OR('Trust - Frontsheet'!AJ72=\"\",'Trust - Frontsheet'!AJ72=\"-\"),0,('Trust - Frontsheet'!AJ72))","v":0},{"$f":"IF(A60=\"\",\"\",(IF(ISBLANK('Trust - Frontsheet'!F9),\"\",'Trust - Frontsheet'!F9)))","v":""}]
[{"$f":"IF('Trust - Frontsheet'!D73=0,\"\",IF('Trust - Frontsheet'!D73=\"\",\"\",'Trust - Frontsheet'!D73))","v":""},{"$f":"IF(ISBLANK('Trust - Frontsheet'!E73),\"\",'Trust - Frontsheet'!E73)","v":""},{"$f":"IF(ISBLANK('Trust - Frontsheet'!F73),\"\",\"'\" & 'Trust - Frontsheet'!F73 & \"'\")","v":""},{"$f":"IF(ISBLANK('Trust - Frontsheet'!G73),\"\",'Trust - Frontsheet'!G73)","v":""},{"$f":"IF(ISBLANK('Trust - Frontsheet'!H73),\"\",'Trust - Frontsheet'!H73)","v":""},{"$f":"'Trust - Frontsheet'!I73","v":0},{"$f":"'Trust - Frontsheet'!J73","v":0},{"$f":"'Trust - Frontsheet'!K73","v":0},{"$f":"'Trust - Frontsheet'!L73","v":0},{"$f":"'Trust - Frontsheet'!M73","v":0},{"$f":"'Trust - Frontsheet'!N73","v":0},{"$f":"'Trust - Frontsheet'!O73","v":0},{"$f":"'Trust - Frontsheet'!P73","v":0},{"$f":"'Trust - Frontsheet'!Q73","v":0},{"$f":"'Trust - Frontsheet'!R73","v":0},{"$f":"'Trust - Frontsheet'!S73","v":0},{"$f":"'Trust - Frontsheet'!T73","v":0},{"$f":"'Trust - Frontsheet'!U73","v":0},{"$f":"'Trust - Frontsheet'!V73","v":0},{"$f":"'Trust - Frontsheet'!W73","v":0},{"$f":"'Trust - Frontsheet'!X73","v":0},{"$f":"'Trust - Frontsheet'!Y73","v":0},{"$f":"'Trust - Frontsheet'!Z73","v":0},{"$f":"'Trust - Frontsheet'!AA73","v":0},{"$f":"'Trust - Frontsheet'!AB73","v":0},{"$f":"IF(OR('Trust - Frontsheet'!AK73=\"\",'Trust - Frontsheet'!AK73=\"-\"),0,('Trust - Frontsheet'!AK73))","v":0},{"$f":"IF(OR('Trust - Frontsheet'!AL73=\"\",'Trust - Frontsheet'!AL73=\"-\"),0,('Trust - Frontsheet'!AL73))","v":0},{"$f":"IF(OR('Trust - Frontsheet'!AM73=\"\",'Trust - Frontsheet'!AM73=\"-\"),0,('Trust - Frontsheet'!AM73))","v":0},{"$f":"IF(OR('Trust - Frontsheet'!AN73=\"\",'Trust - Frontsheet'!AN73=\"-\"),0,('Trust - Frontsheet'!AN73))","v":0},{"$f":"IF(OR('Trust - Frontsheet'!AO73=\"\",'Trust - Frontsheet'!AO73=\"-\"),0,('Trust - Frontsheet'!AO73))","v":0},{"$f":"IF(OR('Trust - Frontsheet'!AP73=\"\",'Trust - Frontsheet'!AP73=\"-\"),0,('Trust - Frontsheet'!AP73))","v":0},{"$f":"IF(OR('Trust - Frontsheet'!AQ73=\"\",'Trust - Frontsheet'!AQ73=\"-\"),0,('Trust - Frontsheet'!AQ73))","v":0},{"$f":"IF(OR('Trust - Frontsheet'!AR73=\"\",'Trust - Frontsheet'!AR73=\"-\"),0,('Trust - Frontsheet'!AR73))","v":0},{"$f":"IF(OR('Trust - Frontsheet'!AS73=\"\",'Trust - Frontsheet'!AS73=\"-\"),0,('Trust - Frontsheet'!AS73))","v":0},{"$f":"IF(OR('Trust - Frontsheet'!AT73=\"\",'Trust - Frontsheet'!AT73=\"-\"),0,('Trust - Frontsheet'!AT73))","v":0},{"$f":"'Trust - Frontsheet'!AC73","v":0},{"$f":"IF(OR('Trust - Frontsheet'!AD73=\"\",'Trust - Frontsheet'!AD73=\"-\"),0,('Trust - Frontsheet'!AD73))","v":0},{"$f":"IF(OR('Trust - Frontsheet'!AE73=\"\",'Trust - Frontsheet'!AE73=\"-\"),0,('Trust - Frontsheet'!AE73))","v":0},{"$f":"IF(OR('Trust - Frontsheet'!AF73=\"\",'Trust - Frontsheet'!AF73=\"-\"),0,('Trust - Frontsheet'!AF73))","v":0},{"$f":"IF(OR('Trust - Frontsheet'!AG73=\"\",'Trust - Frontsheet'!AG73=\"-\"),0,('Trust - Frontsheet'!AG73))","v":0},{"$f":"IF(OR('Trust - Frontsheet'!AH73=\"\",'Trust - Frontsheet'!AH73=\"-\"),0,('Trust - Frontsheet'!AH73))","v":0},{"$f":"IF(OR('Trust - Frontsheet'!AI73=\"\",'Trust - Frontsheet'!AI73=\"-\"),0,('Trust - Frontsheet'!AI73))","v":0},{"$f":"IF(OR('Trust - Frontsheet'!AJ73=\"\",'Trust - Frontsheet'!AJ73=\"-\"),0,('Trust - Frontsheet'!AJ73))","v":0},{"$f":"IF(A61=\"\",\"\",(IF(ISBLANK('Trust - Frontsheet'!F9),\"\",'Trust - Frontsheet'!F9)))","v":""}]
[{"$f":"IF('Trust - Frontsheet'!D74=0,\"\",IF('Trust - Frontsheet'!D74=\"\",\"\",'Trust - Frontsheet'!D74))","v":""},{"$f":"IF(ISBLANK('Trust - Frontsheet'!E74),\"\",'Trust - Frontsheet'!E74)","v":""},{"$f":"IF(ISBLANK('Trust - Frontsheet'!F74),\"\",\"'\" & 'Trust - Frontsheet'!F74 & \"'\")","v":""},{"$f":"IF(ISBLANK('Trust - Frontsheet'!G74),\"\",'Trust - Frontsheet'!G74)","v":""},{"$f":"IF(ISBLANK('Trust - Frontsheet'!H74),\"\",'Trust - Frontsheet'!H74)","v":""},{"$f":"'Trust - Frontsheet'!I74","v":0},{"$f":"'Trust - Frontsheet'!J74","v":0},{"$f":"'Trust - Frontsheet'!K74","v":0},{"$f":"'Trust - Frontsheet'!L74","v":0},{"$f":"'Trust - Frontsheet'!M74","v":0},{"$f":"'Trust - Frontsheet'!N74","v":0},{"$f":"'Trust - Frontsheet'!O74","v":0},{"$f":"'Trust - Frontsheet'!P74","v":0},{"$f":"'Trust - Frontsheet'!Q74","v":0},{"$f":"'Trust - Frontsheet'!R74","v":0},{"$f":"'Trust - Frontsheet'!S74","v":0},{"$f":"'Trust - Frontsheet'!T74","v":0},{"$f":"'Trust - Frontsheet'!U74","v":0},{"$f":"'Trust - Frontsheet'!V74","v":0},{"$f":"'Trust - Frontsheet'!W74","v":0},{"$f":"'Trust - Frontsheet'!X74","v":0},{"$f":"'Trust - Frontsheet'!Y74","v":0},{"$f":"'Trust - Frontsheet'!Z74","v":0},{"$f":"'Trust - Frontsheet'!AA74","v":0},{"$f":"'Trust - Frontsheet'!AB74","v":0},{"$f":"IF(OR('Trust - Frontsheet'!AK74=\"\",'Trust - Frontsheet'!AK74=\"-\"),0,('Trust - Frontsheet'!AK74))","v":0},{"$f":"IF(OR('Trust - Frontsheet'!AL74=\"\",'Trust - Frontsheet'!AL74=\"-\"),0,('Trust - Frontsheet'!AL74))","v":0},{"$f":"IF(OR('Trust - Frontsheet'!AM74=\"\",'Trust - Frontsheet'!AM74=\"-\"),0,('Trust - Frontsheet'!AM74))","v":0},{"$f":"IF(OR('Trust - Frontsheet'!AN74=\"\",'Trust - Frontsheet'!AN74=\"-\"),0,('Trust - Frontsheet'!AN74))","v":0},{"$f":"IF(OR('Trust - Frontsheet'!AO74=\"\",'Trust - Frontsheet'!AO74=\"-\"),0,('Trust - Frontsheet'!AO74))","v":0},{"$f":"IF(OR('Trust - Frontsheet'!AP74=\"\",'Trust - Frontsheet'!AP74=\"-\"),0,('Trust - Frontsheet'!AP74))","v":0},{"$f":"IF(OR('Trust - Frontsheet'!AQ74=\"\",'Trust - Frontsheet'!AQ74=\"-\"),0,('Trust - Frontsheet'!AQ74))","v":0},{"$f":"IF(OR('Trust - Frontsheet'!AR74=\"\",'Trust - Frontsheet'!AR74=\"-\"),0,('Trust - Frontsheet'!AR74))","v":0},{"$f":"IF(OR('Trust - Frontsheet'!AS74=\"\",'Trust - Frontsheet'!AS74=\"-\"),0,('Trust - Frontsheet'!AS74))","v":0},{"$f":"IF(OR('Trust - Frontsheet'!AT74=\"\",'Trust - Frontsheet'!AT74=\"-\"),0,('Trust - Frontsheet'!AT74))","v":0},{"$f":"'Trust - Frontsheet'!AC74","v":0},{"$f":"IF(OR('Trust - Frontsheet'!AD74=\"\",'Trust - Frontsheet'!AD74=\"-\"),0,('Trust - Frontsheet'!AD74))","v":0},{"$f":"IF(OR('Trust - Frontsheet'!AE74=\"\",'Trust - Frontsheet'!AE74=\"-\"),0,('Trust - Frontsheet'!AE74))","v":0},{"$f":"IF(OR('Trust - Frontsheet'!AF74=\"\",'Trust - Frontsheet'!AF74=\"-\"),0,('Trust - Frontsheet'!AF74))","v":0},{"$f":"IF(OR('Trust - Frontsheet'!AG74=\"\",'Trust - Frontsheet'!AG74=\"-\"),0,('Trust - Frontsheet'!AG74))","v":0},{"$f":"IF(OR('Trust - Frontsheet'!AH74=\"\",'Trust - Frontsheet'!AH74=\"-\"),0,('Trust - Frontsheet'!AH74))","v":0},{"$f":"IF(OR('Trust - Frontsheet'!AI74=\"\",'Trust - Frontsheet'!AI74=\"-\"),0,('Trust - Frontsheet'!AI74))","v":0},{"$f":"IF(OR('Trust - Frontsheet'!AJ74=\"\",'Trust - Frontsheet'!AJ74=\"-\"),0,('Trust - Frontsheet'!AJ74))","v":0},{"$f":"IF(A62=\"\",\"\",(IF(ISBLANK('Trust - Frontsheet'!F9),\"\",'Trust - Frontsheet'!F9)))","v":""}]
[{"$f":"IF('Trust - Frontsheet'!D75=0,\"\",IF('Trust - Frontsheet'!D75=\"\",\"\",'Trust - Frontsheet'!D75))","v":""},{"$f":"IF(ISBLANK('Trust - Frontsheet'!E75),\"\",'Trust - Frontsheet'!E75)","v":""},{"$f":"IF(ISBLANK('Trust - Frontsheet'!F75),\"\",\"'\" & 'Trust - Frontsheet'!F75 & \"'\")","v":""},{"$f":"IF(ISBLANK('Trust - Frontsheet'!G75),\"\",'Trust - Frontsheet'!G75)","v":""},{"$f":"IF(ISBLANK('Trust - Frontsheet'!H75),\"\",'Trust - Frontsheet'!H75)","v":""},{"$f":"'Trust - Frontsheet'!I75","v":0},{"$f":"'Trust - Frontsheet'!J75","v":0},{"$f":"'Trust - Frontsheet'!K75","v":0},{"$f":"'Trust - Frontsheet'!L75","v":0},{"$f":"'Trust - Frontsheet'!M75","v":0},{"$f":"'Trust - Frontsheet'!N75","v":0},{"$f":"'Trust - Frontsheet'!O75","v":0},{"$f":"'Trust - Frontsheet'!P75","v":0},{"$f":"'Trust - Frontsheet'!Q75","v":0},{"$f":"'Trust - Frontsheet'!R75","v":0},{"$f":"'Trust - Frontsheet'!S75","v":0},{"$f":"'Trust - Frontsheet'!T75","v":0},{"$f":"'Trust - Frontsheet'!U75","v":0},{"$f":"'Trust - Frontsheet'!V75","v":0},{"$f":"'Trust - Frontsheet'!W75","v":0},{"$f":"'Trust - Frontsheet'!X75","v":0},{"$f":"'Trust - Frontsheet'!Y75","v":0},{"$f":"'Trust - Frontsheet'!Z75","v":0},{"$f":"'Trust - Frontsheet'!AA75","v":0},{"$f":"'Trust - Frontsheet'!AB75","v":0},{"$f":"IF(OR('Trust - Frontsheet'!AK75=\"\",'Trust - Frontsheet'!AK75=\"-\"),0,('Trust - Frontsheet'!AK75))","v":0},{"$f":"IF(OR('Trust - Frontsheet'!AL75=\"\",'Trust - Frontsheet'!AL75=\"-\"),0,('Trust - Frontsheet'!AL75))","v":0},{"$f":"IF(OR('Trust - Frontsheet'!AM75=\"\",'Trust - Frontsheet'!AM75=\"-\"),0,('Trust - Frontsheet'!AM75))","v":0},{"$f":"IF(OR('Trust - Frontsheet'!AN75=\"\",'Trust - Frontsheet'!AN75=\"-\"),0,('Trust - Frontsheet'!AN75))","v":0},{"$f":"IF(OR('Trust - Frontsheet'!AO75=\"\",'Trust - Frontsheet'!AO75=\"-\"),0,('Trust - Frontsheet'!AO75))","v":0},{"$f":"IF(OR('Trust - Frontsheet'!AP75=\"\",'Trust - Frontsheet'!AP75=\"-\"),0,('Trust - Frontsheet'!AP75))","v":0},{"$f":"IF(OR('Trust - Frontsheet'!AQ75=\"\",'Trust - Frontsheet'!AQ75=\"-\"),0,('Trust - Frontsheet'!AQ75))","v":0},{"$f":"IF(OR('Trust - Frontsheet'!AR75=\"\",'Trust - Frontsheet'!AR75=\"-\"),0,('Trust - Frontsheet'!AR75))","v":0},{"$f":"IF(OR('Trust - Frontsheet'!AS75=\"\",'Trust - Frontsheet'!AS75=\"-\"),0,('Trust - Frontsheet'!AS75))","v":0},{"$f":"IF(OR('Trust - Frontsheet'!AT75=\"\",'Trust - Frontsheet'!AT75=\"-\"),0,('Trust - Frontsheet'!AT75))","v":0},{"$f":"'Trust - Frontsheet'!AC75","v":0},{"$f":"IF(OR('Trust - Frontsheet'!AD75=\"\",'Trust - Frontsheet'!AD75=\"-\"),0,('Trust - Frontsheet'!AD75))","v":0},{"$f":"IF(OR('Trust - Frontsheet'!AE75=\"\",'Trust - Frontsheet'!AE75=\"-\"),0,('Trust - Frontsheet'!AE75))","v":0},{"$f":"IF(OR('Trust - Frontsheet'!AF75=\"\",'Trust - Frontsheet'!AF75=\"-\"),0,('Trust - Frontsheet'!AF75))","v":0},{"$f":"IF(OR('Trust - Frontsheet'!AG75=\"\",'Trust - Frontsheet'!AG75=\"-\"),0,('Trust - Frontsheet'!AG75))","v":0},{"$f":"IF(OR('Trust - Frontsheet'!AH75=\"\",'Trust - Frontsheet'!AH75=\"-\"),0,('Trust - Frontsheet'!AH75))","v":0},{"$f":"IF(OR('Trust - Frontsheet'!AI75=\"\",'Trust - Frontsheet'!AI75=\"-\"),0,('Trust - Frontsheet'!AI75))","v":0},{"$f":"IF(OR('Trust - Frontsheet'!AJ75=\"\",'Trust - Frontsheet'!AJ75=\"-\"),0,('Trust - Frontsheet'!AJ75))","v":0},{"$f":"IF(A63=\"\",\"\",(IF(ISBLANK('Trust - Frontsheet'!F9),\"\",'Trust - Frontsheet'!F9)))","v":""}]
[{"$f":"IF('Trust - Frontsheet'!D76=0,\"\",IF('Trust - Frontsheet'!D76=\"\",\"\",'Trust - Frontsheet'!D76))","v":""},{"$f":"IF(ISBLANK('Trust - Frontsheet'!E76),\"\",'Trust - Frontsheet'!E76)","v":""},{"$f":"IF(ISBLANK('Trust - Frontsheet'!F76),\"\",\"'\" & 'Trust - Frontsheet'!F76 & \"'\")","v":""},{"$f":"IF(ISBLANK('Trust - Frontsheet'!G76),\"\",'Trust - Frontsheet'!G76)","v":""},{"$f":"IF(ISBLANK('Trust - Frontsheet'!H76),\"\",'Trust - Frontsheet'!H76)","v":""},{"$f":"'Trust - Frontsheet'!I76","v":0},{"$f":"'Trust - Frontsheet'!J76","v":0},{"$f":"'Trust - Frontsheet'!K76","v":0},{"$f":"'Trust - Frontsheet'!L76","v":0},{"$f":"'Trust - Frontsheet'!M76","v":0},{"$f":"'Trust - Frontsheet'!N76","v":0},{"$f":"'Trust - Frontsheet'!O76","v":0},{"$f":"'Trust - Frontsheet'!P76","v":0},{"$f":"'Trust - Frontsheet'!Q76","v":0},{"$f":"'Trust - Frontsheet'!R76","v":0},{"$f":"'Trust - Frontsheet'!S76","v":0},{"$f":"'Trust - Frontsheet'!T76","v":0},{"$f":"'Trust - Frontsheet'!U76","v":0},{"$f":"'Trust - Frontsheet'!V76","v":0},{"$f":"'Trust - Frontsheet'!W76","v":0},{"$f":"'Trust - Frontsheet'!X76","v":0},{"$f":"'Trust - Frontsheet'!Y76","v":0},{"$f":"'Trust - Frontsheet'!Z76","v":0},{"$f":"'Trust - Frontsheet'!AA76","v":0},{"$f":"'Trust - Frontsheet'!AB76","v":0},{"$f":"IF(OR('Trust - Frontsheet'!AK76=\"\",'Trust - Frontsheet'!AK76=\"-\"),0,('Trust - Frontsheet'!AK76))","v":0},{"$f":"IF(OR('Trust - Frontsheet'!AL76=\"\",'Trust - Frontsheet'!AL76=\"-\"),0,('Trust - Frontsheet'!AL76))","v":0},{"$f":"IF(OR('Trust - Frontsheet'!AM76=\"\",'Trust - Frontsheet'!AM76=\"-\"),0,('Trust - Frontsheet'!AM76))","v":0},{"$f":"IF(OR('Trust - Frontsheet'!AN76=\"\",'Trust - Frontsheet'!AN76=\"-\"),0,('Trust - Frontsheet'!AN76))","v":0},{"$f":"IF(OR('Trust - Frontsheet'!AO76=\"\",'Trust - Frontsheet'!AO76=\"-\"),0,('Trust - Frontsheet'!AO76))","v":0},{"$f":"IF(OR('Trust - Frontsheet'!AP76=\"\",'Trust - Frontsheet'!AP76=\"-\"),0,('Trust - Frontsheet'!AP76))","v":0},{"$f":"IF(OR('Trust - Frontsheet'!AQ76=\"\",'Trust - Frontsheet'!AQ76=\"-\"),0,('Trust - Frontsheet'!AQ76))","v":0},{"$f":"IF(OR('Trust - Frontsheet'!AR76=\"\",'Trust - Frontsheet'!AR76=\"-\"),0,('Trust - Frontsheet'!AR76))","v":0},{"$f":"IF(OR('Trust - Frontsheet'!AS76=\"\",'Trust - Frontsheet'!AS76=\"-\"),0,('Trust - Frontsheet'!AS76))","v":0},{"$f":"IF(OR('Trust - Frontsheet'!AT76=\"\",'Trust - Frontsheet'!AT76=\"-\"),0,('Trust - Frontsheet'!AT76))","v":0},{"$f":"'Trust - Frontsheet'!AC76","v":0},{"$f":"IF(OR('Trust - Frontsheet'!AD76=\"\",'Trust - Frontsheet'!AD76=\"-\"),0,('Trust - Frontsheet'!AD76))","v":0},{"$f":"IF(OR('Trust - Frontsheet'!AE76=\"\",'Trust - Frontsheet'!AE76=\"-\"),0,('Trust - Frontsheet'!AE76))","v":0},{"$f":"IF(OR('Trust - Frontsheet'!AF76=\"\",'Trust - Frontsheet'!AF76=\"-\"),0,('Trust - Frontsheet'!AF76))","v":0},{"$f":"IF(OR('Trust - Frontsheet'!AG76=\"\",'Trust - Frontsheet'!AG76=\"-\"),0,('Trust - Frontsheet'!AG76))","v":0},{"$f":"IF(OR('Trust - Frontsheet'!AH76=\"\",'Trust - Frontsheet'!AH76=\"-\"),0,('Trust - Frontsheet'!AH76))","v":0},{"$f":"IF(OR('Trust - Frontsheet'!AI76=\"\",'Trust - Frontsheet'!AI76=\"-\"),0,('Trust - Frontsheet'!AI76))","v":0},{"$f":"IF(OR('Trust - Frontsheet'!AJ76=\"\",'Trust - Frontsheet'!AJ76=\"-\"),0,('Trust - Frontsheet'!AJ76))","v":0},{"$f":"IF(A64=\"\",\"\",(IF(ISBLANK('Trust - Frontsheet'!F9),\"\",'Trust - Frontsheet'!F9)))","v":""}]
[{"$f":"IF('Trust - Frontsheet'!D77=0,\"\",IF('Trust - Frontsheet'!D77=\"\",\"\",'Trust - Frontsheet'!D77))","v":""},{"$f":"IF(ISBLANK('Trust - Frontsheet'!E77),\"\",'Trust - Frontsheet'!E77)","v":""},{"$f":"IF(ISBLANK('Trust - Frontsheet'!F77),\"\",\"'\" & 'Trust - Frontsheet'!F77 & \"'\")","v":""},{"$f":"IF(ISBLANK('Trust - Frontsheet'!G77),\"\",'Trust - Frontsheet'!G77)","v":""},{"$f":"IF(ISBLANK('Trust - Frontsheet'!H77),\"\",'Trust - Frontsheet'!H77)","v":""},{"$f":"'Trust - Frontsheet'!I77","v":0},{"$f":"'Trust - Frontsheet'!J77","v":0},{"$f":"'Trust - Frontsheet'!K77","v":0},{"$f":"'Trust - Frontsheet'!L77","v":0},{"$f":"'Trust - Frontsheet'!M77","v":0},{"$f":"'Trust - Frontsheet'!N77","v":0},{"$f":"'Trust - Frontsheet'!O77","v":0},{"$f":"'Trust - Frontsheet'!P77","v":0},{"$f":"'Trust - Frontsheet'!Q77","v":0},{"$f":"'Trust - Frontsheet'!R77","v":0},{"$f":"'Trust - Frontsheet'!S77","v":0},{"$f":"'Trust - Frontsheet'!T77","v":0},{"$f":"'Trust - Frontsheet'!U77","v":0},{"$f":"'Trust - Frontsheet'!V77","v":0},{"$f":"'Trust - Frontsheet'!W77","v":0},{"$f":"'Trust - Frontsheet'!X77","v":0},{"$f":"'Trust - Frontsheet'!Y77","v":0},{"$f":"'Trust - Frontsheet'!Z77","v":0},{"$f":"'Trust - Frontsheet'!AA77","v":0},{"$f":"'Trust - Frontsheet'!AB77","v":0},{"$f":"IF(OR('Trust - Frontsheet'!AK77=\"\",'Trust - Frontsheet'!AK77=\"-\"),0,('Trust - Frontsheet'!AK77))","v":0},{"$f":"IF(OR('Trust - Frontsheet'!AL77=\"\",'Trust - Frontsheet'!AL77=\"-\"),0,('Trust - Frontsheet'!AL77))","v":0},{"$f":"IF(OR('Trust - Frontsheet'!AM77=\"\",'Trust - Frontsheet'!AM77=\"-\"),0,('Trust - Frontsheet'!AM77))","v":0},{"$f":"IF(OR('Trust - Frontsheet'!AN77=\"\",'Trust - Frontsheet'!AN77=\"-\"),0,('Trust - Frontsheet'!AN77))","v":0},{"$f":"IF(OR('Trust - Frontsheet'!AO77=\"\",'Trust - Frontsheet'!AO77=\"-\"),0,('Trust - Frontsheet'!AO77))","v":0},{"$f":"IF(OR('Trust - Frontsheet'!AP77=\"\",'Trust - Frontsheet'!AP77=\"-\"),0,('Trust - Frontsheet'!AP77))","v":0},{"$f":"IF(OR('Trust - Frontsheet'!AQ77=\"\",'Trust - Frontsheet'!AQ77=\"-\"),0,('Trust - Frontsheet'!AQ77))","v":0},{"$f":"IF(OR('Trust - Frontsheet'!AR77=\"\",'Trust - Frontsheet'!AR77=\"-\"),0,('Trust - Frontsheet'!AR77))","v":0},{"$f":"IF(OR('Trust - Frontsheet'!AS77=\"\",'Trust - Frontsheet'!AS77=\"-\"),0,('Trust - Frontsheet'!AS77))","v":0},{"$f":"IF(OR('Trust - Frontsheet'!AT77=\"\",'Trust - Frontsheet'!AT77=\"-\"),0,('Trust - Frontsheet'!AT77))","v":0},{"$f":"'Trust - Frontsheet'!AC77","v":0},{"$f":"IF(OR('Trust - Frontsheet'!AD77=\"\",'Trust - Frontsheet'!AD77=\"-\"),0,('Trust - Frontsheet'!AD77))","v":0},{"$f":"IF(OR('Trust - Frontsheet'!AE77=\"\",'Trust - Frontsheet'!AE77=\"-\"),0,('Trust - Frontsheet'!AE77))","v":0},{"$f":"IF(OR('Trust - Frontsheet'!AF77=\"\",'Trust - Frontsheet'!AF77=\"-\"),0,('Trust - Frontsheet'!AF77))","v":0},{"$f":"IF(OR('Trust - Frontsheet'!AG77=\"\",'Trust - Frontsheet'!AG77=\"-\"),0,('Trust - Frontsheet'!AG77))","v":0},{"$f":"IF(OR('Trust - Frontsheet'!AH77=\"\",'Trust - Frontsheet'!AH77=\"-\"),0,('Trust - Frontsheet'!AH77))","v":0},{"$f":"IF(OR('Trust - Frontsheet'!AI77=\"\",'Trust - Frontsheet'!AI77=\"-\"),0,('Trust - Frontsheet'!AI77))","v":0},{"$f":"IF(OR('Trust - Frontsheet'!AJ77=\"\",'Trust - Frontsheet'!AJ77=\"-\"),0,('Trust - Frontsheet'!AJ77))","v":0},{"$f":"IF(A65=\"\",\"\",(IF(ISBLANK('Trust - Frontsheet'!F9),\"\",'Trust - Frontsheet'!F9)))","v":""}]
[{"$f":"IF('Trust - Frontsheet'!D78=0,\"\",IF('Trust - Frontsheet'!D78=\"\",\"\",'Trust - Frontsheet'!D78))","v":""},{"$f":"IF(ISBLANK('Trust - Frontsheet'!E78),\"\",'Trust - Frontsheet'!E78)","v":""},{"$f":"IF(ISBLANK('Trust - Frontsheet'!F78),\"\",\"'\" & 'Trust - Frontsheet'!F78 & \"'\")","v":""},{"$f":"IF(ISBLANK('Trust - Frontsheet'!G78),\"\",'Trust - Frontsheet'!G78)","v":""},{"$f":"IF(ISBLANK('Trust - Frontsheet'!H78),\"\",'Trust - Frontsheet'!H78)","v":""},{"$f":"'Trust - Frontsheet'!I78","v":0},{"$f":"'Trust - Frontsheet'!J78","v":0},{"$f":"'Trust - Frontsheet'!K78","v":0},{"$f":"'Trust - Frontsheet'!L78","v":0},{"$f":"'Trust - Frontsheet'!M78","v":0},{"$f":"'Trust - Frontsheet'!N78","v":0},{"$f":"'Trust - Frontsheet'!O78","v":0},{"$f":"'Trust - Frontsheet'!P78","v":0},{"$f":"'Trust - Frontsheet'!Q78","v":0},{"$f":"'Trust - Frontsheet'!R78","v":0},{"$f":"'Trust - Frontsheet'!S78","v":0},{"$f":"'Trust - Frontsheet'!T78","v":0},{"$f":"'Trust - Frontsheet'!U78","v":0},{"$f":"'Trust - Frontsheet'!V78","v":0},{"$f":"'Trust - Frontsheet'!W78","v":0},{"$f":"'Trust - Frontsheet'!X78","v":0},{"$f":"'Trust - Frontsheet'!Y78","v":0},{"$f":"'Trust - Frontsheet'!Z78","v":0},{"$f":"'Trust - Frontsheet'!AA78","v":0},{"$f":"'Trust - Frontsheet'!AB78","v":0},{"$f":"IF(OR('Trust - Frontsheet'!AK78=\"\",'Trust - Frontsheet'!AK78=\"-\"),0,('Trust - Frontsheet'!AK78))","v":0},{"$f":"IF(OR('Trust - Frontsheet'!AL78=\"\",'Trust - Frontsheet'!AL78=\"-\"),0,('Trust - Frontsheet'!AL78))","v":0},{"$f":"IF(OR('Trust - Frontsheet'!AM78=\"\",'Trust - Frontsheet'!AM78=\"-\"),0,('Trust - Frontsheet'!AM78))","v":0},{"$f":"IF(OR('Trust - Frontsheet'!AN78=\"\",'Trust - Frontsheet'!AN78=\"-\"),0,('Trust - Frontsheet'!AN78))","v":0},{"$f":"IF(OR('Trust - Frontsheet'!AO78=\"\",'Trust - Frontsheet'!AO78=\"-\"),0,('Trust - Frontsheet'!AO78))","v":0},{"$f":"IF(OR('Trust - Frontsheet'!AP78=\"\",'Trust - Frontsheet'!AP78=\"-\"),0,('Trust - Frontsheet'!AP78))","v":0},{"$f":"IF(OR('Trust - Frontsheet'!AQ78=\"\",'Trust - Frontsheet'!AQ78=\"-\"),0,('Trust - Frontsheet'!AQ78))","v":0},{"$f":"IF(OR('Trust - Frontsheet'!AR78=\"\",'Trust - Frontsheet'!AR78=\"-\"),0,('Trust - Frontsheet'!AR78))","v":0},{"$f":"IF(OR('Trust - Frontsheet'!AS78=\"\",'Trust - Frontsheet'!AS78=\"-\"),0,('Trust - Frontsheet'!AS78))","v":0},{"$f":"IF(OR('Trust - Frontsheet'!AT78=\"\",'Trust - Frontsheet'!AT78=\"-\"),0,('Trust - Frontsheet'!AT78))","v":0},{"$f":"'Trust - Frontsheet'!AC78","v":0},{"$f":"IF(OR('Trust - Frontsheet'!AD78=\"\",'Trust - Frontsheet'!AD78=\"-\"),0,('Trust - Frontsheet'!AD78))","v":0},{"$f":"IF(OR('Trust - Frontsheet'!AE78=\"\",'Trust - Frontsheet'!AE78=\"-\"),0,('Trust - Frontsheet'!AE78))","v":0},{"$f":"IF(OR('Trust - Frontsheet'!AF78=\"\",'Trust - Frontsheet'!AF78=\"-\"),0,('Trust - Frontsheet'!AF78))","v":0},{"$f":"IF(OR('Trust - Frontsheet'!AG78=\"\",'Trust - Frontsheet'!AG78=\"-\"),0,('Trust - Frontsheet'!AG78))","v":0},{"$f":"IF(OR('Trust - Frontsheet'!AH78=\"\",'Trust - Frontsheet'!AH78=\"-\"),0,('Trust - Frontsheet'!AH78))","v":0},{"$f":"IF(OR('Trust - Frontsheet'!AI78=\"\",'Trust - Frontsheet'!AI78=\"-\"),0,('Trust - Frontsheet'!AI78))","v":0},{"$f":"IF(OR('Trust - Frontsheet'!AJ78=\"\",'Trust - Frontsheet'!AJ78=\"-\"),0,('Trust - Frontsheet'!AJ78))","v":0},{"$f":"IF(A66=\"\",\"\",(IF(ISBLANK('Trust - Frontsheet'!F9),\"\",'Trust - Frontsheet'!F9)))","v":""}]
[{"$f":"IF('Trust - Frontsheet'!D79=0,\"\",IF('Trust - Frontsheet'!D79=\"\",\"\",'Trust - Frontsheet'!D79))","v":""},{"$f":"IF(ISBLANK('Trust - Frontsheet'!E79),\"\",'Trust - Frontsheet'!E79)","v":""},{"$f":"IF(ISBLANK('Trust - Frontsheet'!F79),\"\",\"'\" & 'Trust - Frontsheet'!F79 & \"'\")","v":""},{"$f":"IF(ISBLANK('Trust - Frontsheet'!G79),\"\",'Trust - Frontsheet'!G79)","v":""},{"$f":"IF(ISBLANK('Trust - Frontsheet'!H79),\"\",'Trust - Frontsheet'!H79)","v":""},{"$f":"'Trust - Frontsheet'!I79","v":0},{"$f":"'Trust - Frontsheet'!J79","v":0},{"$f":"'Trust - Frontsheet'!K79","v":0},{"$f":"'Trust - Frontsheet'!L79","v":0},{"$f":"'Trust - Frontsheet'!M79","v":0},{"$f":"'Trust - Frontsheet'!N79","v":0},{"$f":"'Trust - Frontsheet'!O79","v":0},{"$f":"'Trust - Frontsheet'!P79","v":0},{"$f":"'Trust - Frontsheet'!Q79","v":0},{"$f":"'Trust - Frontsheet'!R79","v":0},{"$f":"'Trust - Frontsheet'!S79","v":0},{"$f":"'Trust - Frontsheet'!T79","v":0},{"$f":"'Trust - Frontsheet'!U79","v":0},{"$f":"'Trust - Frontsheet'!V79","v":0},{"$f":"'Trust - Frontsheet'!W79","v":0},{"$f":"'Trust - Frontsheet'!X79","v":0},{"$f":"'Trust - Frontsheet'!Y79","v":0},{"$f":"'Trust - Frontsheet'!Z79","v":0},{"$f":"'Trust - Frontsheet'!AA79","v":0},{"$f":"'Trust - Frontsheet'!AB79","v":0},{"$f":"IF(OR('Trust - Frontsheet'!AK79=\"\",'Trust - Frontsheet'!AK79=\"-\"),0,('Trust - Frontsheet'!AK79))","v":0},{"$f":"IF(OR('Trust - Frontsheet'!AL79=\"\",'Trust - Frontsheet'!AL79=\"-\"),0,('Trust - Frontsheet'!AL79))","v":0},{"$f":"IF(OR('Trust - Frontsheet'!AM79=\"\",'Trust - Frontsheet'!AM79=\"-\"),0,('Trust - Frontsheet'!AM79))","v":0},{"$f":"IF(OR('Trust - Frontsheet'!AN79=\"\",'Trust - Frontsheet'!AN79=\"-\"),0,('Trust - Frontsheet'!AN79))","v":0},{"$f":"IF(OR('Trust - Frontsheet'!AO79=\"\",'Trust - Frontsheet'!AO79=\"-\"),0,('Trust - Frontsheet'!AO79))","v":0},{"$f":"IF(OR('Trust - Frontsheet'!AP79=\"\",'Trust - Frontsheet'!AP79=\"-\"),0,('Trust - Frontsheet'!AP79))","v":0},{"$f":"IF(OR('Trust - Frontsheet'!AQ79=\"\",'Trust - Frontsheet'!AQ79=\"-\"),0,('Trust - Frontsheet'!AQ79))","v":0},{"$f":"IF(OR('Trust - Frontsheet'!AR79=\"\",'Trust - Frontsheet'!AR79=\"-\"),0,('Trust - Frontsheet'!AR79))","v":0},{"$f":"IF(OR('Trust - Frontsheet'!AS79=\"\",'Trust - Frontsheet'!AS79=\"-\"),0,('Trust - Frontsheet'!AS79))","v":0},{"$f":"IF(OR('Trust - Frontsheet'!AT79=\"\",'Trust - Frontsheet'!AT79=\"-\"),0,('Trust - Frontsheet'!AT79))","v":0},{"$f":"'Trust - Frontsheet'!AC79","v":0},{"$f":"IF(OR('Trust - Frontsheet'!AD79=\"\",'Trust - Frontsheet'!AD79=\"-\"),0,('Trust - Frontsheet'!AD79))","v":0},{"$f":"IF(OR('Trust - Frontsheet'!AE79=\"\",'Trust - Frontsheet'!AE79=\"-\"),0,('Trust - Frontsheet'!AE79))","v":0},{"$f":"IF(OR('Trust - Frontsheet'!AF79=\"\",'Trust - Frontsheet'!AF79=\"-\"),0,('Trust - Frontsheet'!AF79))","v":0},{"$f":"IF(OR('Trust - Frontsheet'!AG79=\"\",'Trust - Frontsheet'!AG79=\"-\"),0,('Trust - Frontsheet'!AG79))","v":0},{"$f":"IF(OR('Trust - Frontsheet'!AH79=\"\",'Trust - Frontsheet'!AH79=\"-\"),0,('Trust - Frontsheet'!AH79))","v":0},{"$f":"IF(OR('Trust - Frontsheet'!AI79=\"\",'Trust - Frontsheet'!AI79=\"-\"),0,('Trust - Frontsheet'!AI79))","v":0},{"$f":"IF(OR('Trust - Frontsheet'!AJ79=\"\",'Trust - Frontsheet'!AJ79=\"-\"),0,('Trust - Frontsheet'!AJ79))","v":0},{"$f":"IF(A67=\"\",\"\",(IF(ISBLANK('Trust - Frontsheet'!F9),\"\",'Trust - Frontsheet'!F9)))","v":""}]
[{"$f":"IF('Trust - Frontsheet'!D80=0,\"\",IF('Trust - Frontsheet'!D80=\"\",\"\",'Trust - Frontsheet'!D80))","v":""},{"$f":"IF(ISBLANK('Trust - Frontsheet'!E80),\"\",'Trust - Frontsheet'!E80)","v":""},{"$f":"IF(ISBLANK('Trust - Frontsheet'!F80),\"\",\"'\" & 'Trust - Frontsheet'!F80 & \"'\")","v":""},{"$f":"IF(ISBLANK('Trust - Frontsheet'!G80),\"\",'Trust - Frontsheet'!G80)","v":""},{"$f":"IF(ISBLANK('Trust - Frontsheet'!H80),\"\",'Trust - Frontsheet'!H80)","v":""},{"$f":"'Trust - Frontsheet'!I80","v":0},{"$f":"'Trust - Frontsheet'!J80","v":0},{"$f":"'Trust - Frontsheet'!K80","v":0},{"$f":"'Trust - Frontsheet'!L80","v":0},{"$f":"'Trust - Frontsheet'!M80","v":0},{"$f":"'Trust - Frontsheet'!N80","v":0},{"$f":"'Trust - Frontsheet'!O80","v":0},{"$f":"'Trust - Frontsheet'!P80","v":0},{"$f":"'Trust - Frontsheet'!Q80","v":0},{"$f":"'Trust - Frontsheet'!R80","v":0},{"$f":"'Trust - Frontsheet'!S80","v":0},{"$f":"'Trust - Frontsheet'!T80","v":0},{"$f":"'Trust - Frontsheet'!U80","v":0},{"$f":"'Trust - Frontsheet'!V80","v":0},{"$f":"'Trust - Frontsheet'!W80","v":0},{"$f":"'Trust - Frontsheet'!X80","v":0},{"$f":"'Trust - Frontsheet'!Y80","v":0},{"$f":"'Trust - Frontsheet'!Z80","v":0},{"$f":"'Trust - Frontsheet'!AA80","v":0},{"$f":"'Trust - Frontsheet'!AB80","v":0},{"$f":"IF(OR('Trust - Frontsheet'!AK80=\"\",'Trust - Frontsheet'!AK80=\"-\"),0,('Trust - Frontsheet'!AK80))","v":0},{"$f":"IF(OR('Trust - Frontsheet'!AL80=\"\",'Trust - Frontsheet'!AL80=\"-\"),0,('Trust - Frontsheet'!AL80))","v":0},{"$f":"IF(OR('Trust - Frontsheet'!AM80=\"\",'Trust - Frontsheet'!AM80=\"-\"),0,('Trust - Frontsheet'!AM80))","v":0},{"$f":"IF(OR('Trust - Frontsheet'!AN80=\"\",'Trust - Frontsheet'!AN80=\"-\"),0,('Trust - Frontsheet'!AN80))","v":0},{"$f":"IF(OR('Trust - Frontsheet'!AO80=\"\",'Trust - Frontsheet'!AO80=\"-\"),0,('Trust - Frontsheet'!AO80))","v":0},{"$f":"IF(OR('Trust - Frontsheet'!AP80=\"\",'Trust - Frontsheet'!AP80=\"-\"),0,('Trust - Frontsheet'!AP80))","v":0},{"$f":"IF(OR('Trust - Frontsheet'!AQ80=\"\",'Trust - Frontsheet'!AQ80=\"-\"),0,('Trust - Frontsheet'!AQ80))","v":0},{"$f":"IF(OR('Trust - Frontsheet'!AR80=\"\",'Trust - Frontsheet'!AR80=\"-\"),0,('Trust - Frontsheet'!AR80))","v":0},{"$f":"IF(OR('Trust - Frontsheet'!AS80=\"\",'Trust - Frontsheet'!AS80=\"-\"),0,('Trust - Frontsheet'!AS80))","v":0},{"$f":"IF(OR('Trust - Frontsheet'!AT80=\"\",'Trust - Frontsheet'!AT80=\"-\"),0,('Trust - Frontsheet'!AT80))","v":0},{"$f":"'Trust - Frontsheet'!AC80","v":0},{"$f":"IF(OR('Trust - Frontsheet'!AD80=\"\",'Trust - Frontsheet'!AD80=\"-\"),0,('Trust - Frontsheet'!AD80))","v":0},{"$f":"IF(OR('Trust - Frontsheet'!AE80=\"\",'Trust - Frontsheet'!AE80=\"-\"),0,('Trust - Frontsheet'!AE80))","v":0},{"$f":"IF(OR('Trust - Frontsheet'!AF80=\"\",'Trust - Frontsheet'!AF80=\"-\"),0,('Trust - Frontsheet'!AF80))","v":0},{"$f":"IF(OR('Trust - Frontsheet'!AG80=\"\",'Trust - Frontsheet'!AG80=\"-\"),0,('Trust - Frontsheet'!AG80))","v":0},{"$f":"IF(OR('Trust - Frontsheet'!AH80=\"\",'Trust - Frontsheet'!AH80=\"-\"),0,('Trust - Frontsheet'!AH80))","v":0},{"$f":"IF(OR('Trust - Frontsheet'!AI80=\"\",'Trust - Frontsheet'!AI80=\"-\"),0,('Trust - Frontsheet'!AI80))","v":0},{"$f":"IF(OR('Trust - Frontsheet'!AJ80=\"\",'Trust - Frontsheet'!AJ80=\"-\"),0,('Trust - Frontsheet'!AJ80))","v":0},{"$f":"IF(A68=\"\",\"\",(IF(ISBLANK('Trust - Frontsheet'!F9),\"\",'Trust - Frontsheet'!F9)))","v":""}]
[{"$f":"IF('Trust - Frontsheet'!D81=0,\"\",IF('Trust - Frontsheet'!D81=\"\",\"\",'Trust - Frontsheet'!D81))","v":""},{"$f":"IF(ISBLANK('Trust - Frontsheet'!E81),\"\",'Trust - Frontsheet'!E81)","v":""},{"$f":"IF(ISBLANK('Trust - Frontsheet'!F81),\"\",\"'\" & 'Trust - Frontsheet'!F81 & \"'\")","v":""},{"$f":"IF(ISBLANK('Trust - Frontsheet'!G81),\"\",'Trust - Frontsheet'!G81)","v":""},{"$f":"IF(ISBLANK('Trust - Frontsheet'!H81),\"\",'Trust - Frontsheet'!H81)","v":""},{"$f":"'Trust - Frontsheet'!I81","v":0},{"$f":"'Trust - Frontsheet'!J81","v":0},{"$f":"'Trust - Frontsheet'!K81","v":0},{"$f":"'Trust - Frontsheet'!L81","v":0},{"$f":"'Trust - Frontsheet'!M81","v":0},{"$f":"'Trust - Frontsheet'!N81","v":0},{"$f":"'Trust - Frontsheet'!O81","v":0},{"$f":"'Trust - Frontsheet'!P81","v":0},{"$f":"'Trust - Frontsheet'!Q81","v":0},{"$f":"'Trust - Frontsheet'!R81","v":0},{"$f":"'Trust - Frontsheet'!S81","v":0},{"$f":"'Trust - Frontsheet'!T81","v":0},{"$f":"'Trust - Frontsheet'!U81","v":0},{"$f":"'Trust - Frontsheet'!V81","v":0},{"$f":"'Trust - Frontsheet'!W81","v":0},{"$f":"'Trust - Frontsheet'!X81","v":0},{"$f":"'Trust - Frontsheet'!Y81","v":0},{"$f":"'Trust - Frontsheet'!Z81","v":0},{"$f":"'Trust - Frontsheet'!AA81","v":0},{"$f":"'Trust - Frontsheet'!AB81","v":0},{"$f":"IF(OR('Trust - Frontsheet'!AK81=\"\",'Trust - Frontsheet'!AK81=\"-\"),0,('Trust - Frontsheet'!AK81))","v":0},{"$f":"IF(OR('Trust - Frontsheet'!AL81=\"\",'Trust - Frontsheet'!AL81=\"-\"),0,('Trust - Frontsheet'!AL81))","v":0},{"$f":"IF(OR('Trust - Frontsheet'!AM81=\"\",'Trust - Frontsheet'!AM81=\"-\"),0,('Trust - Frontsheet'!AM81))","v":0},{"$f":"IF(OR('Trust - Frontsheet'!AN81=\"\",'Trust - Frontsheet'!AN81=\"-\"),0,('Trust - Frontsheet'!AN81))","v":0},{"$f":"IF(OR('Trust - Frontsheet'!AO81=\"\",'Trust - Frontsheet'!AO81=\"-\"),0,('Trust - Frontsheet'!AO81))","v":0},{"$f":"IF(OR('Trust - Frontsheet'!AP81=\"\",'Trust - Frontsheet'!AP81=\"-\"),0,('Trust - Frontsheet'!AP81))","v":0},{"$f":"IF(OR('Trust - Frontsheet'!AQ81=\"\",'Trust - Frontsheet'!AQ81=\"-\"),0,('Trust - Frontsheet'!AQ81))","v":0},{"$f":"IF(OR('Trust - Frontsheet'!AR81=\"\",'Trust - Frontsheet'!AR81=\"-\"),0,('Trust - Frontsheet'!AR81))","v":0},{"$f":"IF(OR('Trust - Frontsheet'!AS81=\"\",'Trust - Frontsheet'!AS81=\"-\"),0,('Trust - Frontsheet'!AS81))","v":0},{"$f":"IF(OR('Trust - Frontsheet'!AT81=\"\",'Trust - Frontsheet'!AT81=\"-\"),0,('Trust - Frontsheet'!AT81))","v":0},{"$f":"'Trust - Frontsheet'!AC81","v":0},{"$f":"IF(OR('Trust - Frontsheet'!AD81=\"\",'Trust - Frontsheet'!AD81=\"-\"),0,('Trust - Frontsheet'!AD81))","v":0},{"$f":"IF(OR('Trust - Frontsheet'!AE81=\"\",'Trust - Frontsheet'!AE81=\"-\"),0,('Trust - Frontsheet'!AE81))","v":0},{"$f":"IF(OR('Trust - Frontsheet'!AF81=\"\",'Trust - Frontsheet'!AF81=\"-\"),0,('Trust - Frontsheet'!AF81))","v":0},{"$f":"IF(OR('Trust - Frontsheet'!AG81=\"\",'Trust - Frontsheet'!AG81=\"-\"),0,('Trust - Frontsheet'!AG81))","v":0},{"$f":"IF(OR('Trust - Frontsheet'!AH81=\"\",'Trust - Frontsheet'!AH81=\"-\"),0,('Trust - Frontsheet'!AH81))","v":0},{"$f":"IF(OR('Trust - Frontsheet'!AI81=\"\",'Trust - Frontsheet'!AI81=\"-\"),0,('Trust - Frontsheet'!AI81))","v":0},{"$f":"IF(OR('Trust - Frontsheet'!AJ81=\"\",'Trust - Frontsheet'!AJ81=\"-\"),0,('Trust - Frontsheet'!AJ81))","v":0},{"$f":"IF(A69=\"\",\"\",(IF(ISBLANK('Trust - Frontsheet'!F9),\"\",'Trust - Frontsheet'!F9)))","v":""}]
[{"$f":"IF('Trust - Frontsheet'!D82=0,\"\",IF('Trust - Frontsheet'!D82=\"\",\"\",'Trust - Frontsheet'!D82))","v":""},{"$f":"IF(ISBLANK('Trust - Frontsheet'!E82),\"\",'Trust - Frontsheet'!E82)","v":""},{"$f":"IF(ISBLANK('Trust - Frontsheet'!F82),\"\",\"'\" & 'Trust - Frontsheet'!F82 & \"'\")","v":""},{"$f":"IF(ISBLANK('Trust - Frontsheet'!G82),\"\",'Trust - Frontsheet'!G82)","v":""},{"$f":"IF(ISBLANK('Trust - Frontsheet'!H82),\"\",'Trust - Frontsheet'!H82)","v":""},{"$f":"'Trust - Frontsheet'!I82","v":0},{"$f":"'Trust - Frontsheet'!J82","v":0},{"$f":"'Trust - Frontsheet'!K82","v":0},{"$f":"'Trust - Frontsheet'!L82","v":0},{"$f":"'Trust - Frontsheet'!M82","v":0},{"$f":"'Trust - Frontsheet'!N82","v":0},{"$f":"'Trust - Frontsheet'!O82","v":0},{"$f":"'Trust - Frontsheet'!P82","v":0},{"$f":"'Trust - Frontsheet'!Q82","v":0},{"$f":"'Trust - Frontsheet'!R82","v":0},{"$f":"'Trust - Frontsheet'!S82","v":0},{"$f":"'Trust - Frontsheet'!T82","v":0},{"$f":"'Trust - Frontsheet'!U82","v":0},{"$f":"'Trust - Frontsheet'!V82","v":0},{"$f":"'Trust - Frontsheet'!W82","v":0},{"$f":"'Trust - Frontsheet'!X82","v":0},{"$f":"'Trust - Frontsheet'!Y82","v":0},{"$f":"'Trust - Frontsheet'!Z82","v":0},{"$f":"'Trust - Frontsheet'!AA82","v":0},{"$f":"'Trust - Frontsheet'!AB82","v":0},{"$f":"IF(OR('Trust - Frontsheet'!AK82=\"\",'Trust - Frontsheet'!AK82=\"-\"),0,('Trust - Frontsheet'!AK82))","v":0},{"$f":"IF(OR('Trust - Frontsheet'!AL82=\"\",'Trust - Frontsheet'!AL82=\"-\"),0,('Trust - Frontsheet'!AL82))","v":0},{"$f":"IF(OR('Trust - Frontsheet'!AM82=\"\",'Trust - Frontsheet'!AM82=\"-\"),0,('Trust - Frontsheet'!AM82))","v":0},{"$f":"IF(OR('Trust - Frontsheet'!AN82=\"\",'Trust - Frontsheet'!AN82=\"-\"),0,('Trust - Frontsheet'!AN82))","v":0},{"$f":"IF(OR('Trust - Frontsheet'!AO82=\"\",'Trust - Frontsheet'!AO82=\"-\"),0,('Trust - Frontsheet'!AO82))","v":0},{"$f":"IF(OR('Trust - Frontsheet'!AP82=\"\",'Trust - Frontsheet'!AP82=\"-\"),0,('Trust - Frontsheet'!AP82))","v":0},{"$f":"IF(OR('Trust - Frontsheet'!AQ82=\"\",'Trust - Frontsheet'!AQ82=\"-\"),0,('Trust - Frontsheet'!AQ82))","v":0},{"$f":"IF(OR('Trust - Frontsheet'!AR82=\"\",'Trust - Frontsheet'!AR82=\"-\"),0,('Trust - Frontsheet'!AR82))","v":0},{"$f":"IF(OR('Trust - Frontsheet'!AS82=\"\",'Trust - Frontsheet'!AS82=\"-\"),0,('Trust - Frontsheet'!AS82))","v":0},{"$f":"IF(OR('Trust - Frontsheet'!AT82=\"\",'Trust - Frontsheet'!AT82=\"-\"),0,('Trust - Frontsheet'!AT82))","v":0},{"$f":"'Trust - Frontsheet'!AC82","v":0},{"$f":"IF(OR('Trust - Frontsheet'!AD82=\"\",'Trust - Frontsheet'!AD82=\"-\"),0,('Trust - Frontsheet'!AD82))","v":0},{"$f":"IF(OR('Trust - Frontsheet'!AE82=\"\",'Trust - Frontsheet'!AE82=\"-\"),0,('Trust - Frontsheet'!AE82))","v":0},{"$f":"IF(OR('Trust - Frontsheet'!AF82=\"\",'Trust - Frontsheet'!AF82=\"-\"),0,('Trust - Frontsheet'!AF82))","v":0},{"$f":"IF(OR('Trust - Frontsheet'!AG82=\"\",'Trust - Frontsheet'!AG82=\"-\"),0,('Trust - Frontsheet'!AG82))","v":0},{"$f":"IF(OR('Trust - Frontsheet'!AH82=\"\",'Trust - Frontsheet'!AH82=\"-\"),0,('Trust - Frontsheet'!AH82))","v":0},{"$f":"IF(OR('Trust - Frontsheet'!AI82=\"\",'Trust - Frontsheet'!AI82=\"-\"),0,('Trust - Frontsheet'!AI82))","v":0},{"$f":"IF(OR('Trust - Frontsheet'!AJ82=\"\",'Trust - Frontsheet'!AJ82=\"-\"),0,('Trust - Frontsheet'!AJ82))","v":0},{"$f":"IF(A70=\"\",\"\",(IF(ISBLANK('Trust - Frontsheet'!F9),\"\",'Trust - Frontsheet'!F9)))","v":""}]
[{"$f":"IF('Trust - Frontsheet'!D83=0,\"\",IF('Trust - Frontsheet'!D83=\"\",\"\",'Trust - Frontsheet'!D83))","v":""},{"$f":"IF(ISBLANK('Trust - Frontsheet'!E83),\"\",'Trust - Frontsheet'!E83)","v":""},{"$f":"IF(ISBLANK('Trust - Frontsheet'!F83),\"\",\"'\" & 'Trust - Frontsheet'!F83 & \"'\")","v":""},{"$f":"IF(ISBLANK('Trust - Frontsheet'!G83),\"\",'Trust - Frontsheet'!G83)","v":""},{"$f":"IF(ISBLANK('Trust - Frontsheet'!H83),\"\",'Trust - Frontsheet'!H83)","v":""},{"$f":"'Trust - Frontsheet'!I83","v":0},{"$f":"'Trust - Frontsheet'!J83","v":0},{"$f":"'Trust - Frontsheet'!K83","v":0},{"$f":"'Trust - Frontsheet'!L83","v":0},{"$f":"'Trust - Frontsheet'!M83","v":0},{"$f":"'Trust - Frontsheet'!N83","v":0},{"$f":"'Trust - Frontsheet'!O83","v":0},{"$f":"'Trust - Frontsheet'!P83","v":0},{"$f":"'Trust - Frontsheet'!Q83","v":0},{"$f":"'Trust - Frontsheet'!R83","v":0},{"$f":"'Trust - Frontsheet'!S83","v":0},{"$f":"'Trust - Frontsheet'!T83","v":0},{"$f":"'Trust - Frontsheet'!U83","v":0},{"$f":"'Trust - Frontsheet'!V83","v":0},{"$f":"'Trust - Frontsheet'!W83","v":0},{"$f":"'Trust - Frontsheet'!X83","v":0},{"$f":"'Trust - Frontsheet'!Y83","v":0},{"$f":"'Trust - Frontsheet'!Z83","v":0},{"$f":"'Trust - Frontsheet'!AA83","v":0},{"$f":"'Trust - Frontsheet'!AB83","v":0},{"$f":"IF(OR('Trust - Frontsheet'!AK83=\"\",'Trust - Frontsheet'!AK83=\"-\"),0,('Trust - Frontsheet'!AK83))","v":0},{"$f":"IF(OR('Trust - Frontsheet'!AL83=\"\",'Trust - Frontsheet'!AL83=\"-\"),0,('Trust - Frontsheet'!AL83))","v":0},{"$f":"IF(OR('Trust - Frontsheet'!AM83=\"\",'Trust - Frontsheet'!AM83=\"-\"),0,('Trust - Frontsheet'!AM83))","v":0},{"$f":"IF(OR('Trust - Frontsheet'!AN83=\"\",'Trust - Frontsheet'!AN83=\"-\"),0,('Trust - Frontsheet'!AN83))","v":0},{"$f":"IF(OR('Trust - Frontsheet'!AO83=\"\",'Trust - Frontsheet'!AO83=\"-\"),0,('Trust - Frontsheet'!AO83))","v":0},{"$f":"IF(OR('Trust - Frontsheet'!AP83=\"\",'Trust - Frontsheet'!AP83=\"-\"),0,('Trust - Frontsheet'!AP83))","v":0},{"$f":"IF(OR('Trust - Frontsheet'!AQ83=\"\",'Trust - Frontsheet'!AQ83=\"-\"),0,('Trust - Frontsheet'!AQ83))","v":0},{"$f":"IF(OR('Trust - Frontsheet'!AR83=\"\",'Trust - Frontsheet'!AR83=\"-\"),0,('Trust - Frontsheet'!AR83))","v":0},{"$f":"IF(OR('Trust - Frontsheet'!AS83=\"\",'Trust - Frontsheet'!AS83=\"-\"),0,('Trust - Frontsheet'!AS83))","v":0},{"$f":"IF(OR('Trust - Frontsheet'!AT83=\"\",'Trust - Frontsheet'!AT83=\"-\"),0,('Trust - Frontsheet'!AT83))","v":0},{"$f":"'Trust - Frontsheet'!AC83","v":0},{"$f":"IF(OR('Trust - Frontsheet'!AD83=\"\",'Trust - Frontsheet'!AD83=\"-\"),0,('Trust - Frontsheet'!AD83))","v":0},{"$f":"IF(OR('Trust - Frontsheet'!AE83=\"\",'Trust - Frontsheet'!AE83=\"-\"),0,('Trust - Frontsheet'!AE83))","v":0},{"$f":"IF(OR('Trust - Frontsheet'!AF83=\"\",'Trust - Frontsheet'!AF83=\"-\"),0,('Trust - Frontsheet'!AF83))","v":0},{"$f":"IF(OR('Trust - Frontsheet'!AG83=\"\",'Trust - Frontsheet'!AG83=\"-\"),0,('Trust - Frontsheet'!AG83))","v":0},{"$f":"IF(OR('Trust - Frontsheet'!AH83=\"\",'Trust - Frontsheet'!AH83=\"-\"),0,('Trust - Frontsheet'!AH83))","v":0},{"$f":"IF(OR('Trust - Frontsheet'!AI83=\"\",'Trust - Frontsheet'!AI83=\"-\"),0,('Trust - Frontsheet'!AI83))","v":0},{"$f":"IF(OR('Trust - Frontsheet'!AJ83=\"\",'Trust - Frontsheet'!AJ83=\"-\"),0,('Trust - Frontsheet'!AJ83))","v":0},{"$f":"IF(A71=\"\",\"\",(IF(ISBLANK('Trust - Frontsheet'!F9),\"\",'Trust - Frontsheet'!F9)))","v":""}]
[{"$f":"IF('Trust - Frontsheet'!D84=0,\"\",IF('Trust - Frontsheet'!D84=\"\",\"\",'Trust - Frontsheet'!D84))","v":""},{"$f":"IF(ISBLANK('Trust - Frontsheet'!E84),\"\",'Trust - Frontsheet'!E84)","v":""},{"$f":"IF(ISBLANK('Trust - Frontsheet'!F84),\"\",\"'\" & 'Trust - Frontsheet'!F84 & \"'\")","v":""},{"$f":"IF(ISBLANK('Trust - Frontsheet'!G84),\"\",'Trust - Frontsheet'!G84)","v":""},{"$f":"IF(ISBLANK('Trust - Frontsheet'!H84),\"\",'Trust - Frontsheet'!H84)","v":""},{"$f":"'Trust - Frontsheet'!I84","v":0},{"$f":"'Trust - Frontsheet'!J84","v":0},{"$f":"'Trust - Frontsheet'!K84","v":0},{"$f":"'Trust - Frontsheet'!L84","v":0},{"$f":"'Trust - Frontsheet'!M84","v":0},{"$f":"'Trust - Frontsheet'!N84","v":0},{"$f":"'Trust - Frontsheet'!O84","v":0},{"$f":"'Trust - Frontsheet'!P84","v":0},{"$f":"'Trust - Frontsheet'!Q84","v":0},{"$f":"'Trust - Frontsheet'!R84","v":0},{"$f":"'Trust - Frontsheet'!S84","v":0},{"$f":"'Trust - Frontsheet'!T84","v":0},{"$f":"'Trust - Frontsheet'!U84","v":0},{"$f":"'Trust - Frontsheet'!V84","v":0},{"$f":"'Trust - Frontsheet'!W84","v":0},{"$f":"'Trust - Frontsheet'!X84","v":0},{"$f":"'Trust - Frontsheet'!Y84","v":0},{"$f":"'Trust - Frontsheet'!Z84","v":0},{"$f":"'Trust - Frontsheet'!AA84","v":0},{"$f":"'Trust - Frontsheet'!AB84","v":0},{"$f":"IF(OR('Trust - Frontsheet'!AK84=\"\",'Trust - Frontsheet'!AK84=\"-\"),0,('Trust - Frontsheet'!AK84))","v":0},{"$f":"IF(OR('Trust - Frontsheet'!AL84=\"\",'Trust - Frontsheet'!AL84=\"-\"),0,('Trust - Frontsheet'!AL84))","v":0},{"$f":"IF(OR('Trust - Frontsheet'!AM84=\"\",'Trust - Frontsheet'!AM84=\"-\"),0,('Trust - Frontsheet'!AM84))","v":0},{"$f":"IF(OR('Trust - Frontsheet'!AN84=\"\",'Trust - Frontsheet'!AN84=\"-\"),0,('Trust - Frontsheet'!AN84))","v":0},{"$f":"IF(OR('Trust - Frontsheet'!AO84=\"\",'Trust - Frontsheet'!AO84=\"-\"),0,('Trust - Frontsheet'!AO84))","v":0},{"$f":"IF(OR('Trust - Frontsheet'!AP84=\"\",'Trust - Frontsheet'!AP84=\"-\"),0,('Trust - Frontsheet'!AP84))","v":0},{"$f":"IF(OR('Trust - Frontsheet'!AQ84=\"\",'Trust - Frontsheet'!AQ84=\"-\"),0,('Trust - Frontsheet'!AQ84))","v":0},{"$f":"IF(OR('Trust - Frontsheet'!AR84=\"\",'Trust - Frontsheet'!AR84=\"-\"),0,('Trust - Frontsheet'!AR84))","v":0},{"$f":"IF(OR('Trust - Frontsheet'!AS84=\"\",'Trust - Frontsheet'!AS84=\"-\"),0,('Trust - Frontsheet'!AS84))","v":0},{"$f":"IF(OR('Trust - Frontsheet'!AT84=\"\",'Trust - Frontsheet'!AT84=\"-\"),0,('Trust - Frontsheet'!AT84))","v":0},{"$f":"'Trust - Frontsheet'!AC84","v":0},{"$f":"IF(OR('Trust - Frontsheet'!AD84=\"\",'Trust - Frontsheet'!AD84=\"-\"),0,('Trust - Frontsheet'!AD84))","v":0},{"$f":"IF(OR('Trust - Frontsheet'!AE84=\"\",'Trust - Frontsheet'!AE84=\"-\"),0,('Trust - Frontsheet'!AE84))","v":0},{"$f":"IF(OR('Trust - Frontsheet'!AF84=\"\",'Trust - Frontsheet'!AF84=\"-\"),0,('Trust - Frontsheet'!AF84))","v":0},{"$f":"IF(OR('Trust - Frontsheet'!AG84=\"\",'Trust - Frontsheet'!AG84=\"-\"),0,('Trust - Frontsheet'!AG84))","v":0},{"$f":"IF(OR('Trust - Frontsheet'!AH84=\"\",'Trust - Frontsheet'!AH84=\"-\"),0,('Trust - Frontsheet'!AH84))","v":0},{"$f":"IF(OR('Trust - Frontsheet'!AI84=\"\",'Trust - Frontsheet'!AI84=\"-\"),0,('Trust - Frontsheet'!AI84))","v":0},{"$f":"IF(OR('Trust - Frontsheet'!AJ84=\"\",'Trust - Frontsheet'!AJ84=\"-\"),0,('Trust - Frontsheet'!AJ84))","v":0},{"$f":"IF(A72=\"\",\"\",(IF(ISBLANK('Trust - Frontsheet'!F9),\"\",'Trust - Frontsheet'!F9)))","v":""}]
[{"$f":"IF('Trust - Frontsheet'!D85=0,\"\",IF('Trust - Frontsheet'!D85=\"\",\"\",'Trust - Frontsheet'!D85))","v":""},{"$f":"IF(ISBLANK('Trust - Frontsheet'!E85),\"\",'Trust - Frontsheet'!E85)","v":""},{"$f":"IF(ISBLANK('Trust - Frontsheet'!F85),\"\",\"'\" & 'Trust - Frontsheet'!F85 & \"'\")","v":""},{"$f":"IF(ISBLANK('Trust - Frontsheet'!G85),\"\",'Trust - Frontsheet'!G85)","v":""},{"$f":"IF(ISBLANK('Trust - Frontsheet'!H85),\"\",'Trust - Frontsheet'!H85)","v":""},{"$f":"'Trust - Frontsheet'!I85","v":0},{"$f":"'Trust - Frontsheet'!J85","v":0},{"$f":"'Trust - Frontsheet'!K85","v":0},{"$f":"'Trust - Frontsheet'!L85","v":0},{"$f":"'Trust - Frontsheet'!M85","v":0},{"$f":"'Trust - Frontsheet'!N85","v":0},{"$f":"'Trust - Frontsheet'!O85","v":0},{"$f":"'Trust - Frontsheet'!P85","v":0},{"$f":"'Trust - Frontsheet'!Q85","v":0},{"$f":"'Trust - Frontsheet'!R85","v":0},{"$f":"'Trust - Frontsheet'!S85","v":0},{"$f":"'Trust - Frontsheet'!T85","v":0},{"$f":"'Trust - Frontsheet'!U85","v":0},{"$f":"'Trust - Frontsheet'!V85","v":0},{"$f":"'Trust - Frontsheet'!W85","v":0},{"$f":"'Trust - Frontsheet'!X85","v":0},{"$f":"'Trust - Frontsheet'!Y85","v":0},{"$f":"'Trust - Frontsheet'!Z85","v":0},{"$f":"'Trust - Frontsheet'!AA85","v":0},{"$f":"'Trust - Frontsheet'!AB85","v":0},{"$f":"IF(OR('Trust - Frontsheet'!AK85=\"\",'Trust - Frontsheet'!AK85=\"-\"),0,('Trust - Frontsheet'!AK85))","v":0},{"$f":"IF(OR('Trust - Frontsheet'!AL85=\"\",'Trust - Frontsheet'!AL85=\"-\"),0,('Trust - Frontsheet'!AL85))","v":0},{"$f":"IF(OR('Trust - Frontsheet'!AM85=\"\",'Trust - Frontsheet'!AM85=\"-\"),0,('Trust - Frontsheet'!AM85))","v":0},{"$f":"IF(OR('Trust - Frontsheet'!AN85=\"\",'Trust - Frontsheet'!AN85=\"-\"),0,('Trust - Frontsheet'!AN85))","v":0},{"$f":"IF(OR('Trust - Frontsheet'!AO85=\"\",'Trust - Frontsheet'!AO85=\"-\"),0,('Trust - Frontsheet'!AO85))","v":0},{"$f":"IF(OR('Trust - Frontsheet'!AP85=\"\",'Trust - Frontsheet'!AP85=\"-\"),0,('Trust - Frontsheet'!AP85))","v":0},{"$f":"IF(OR('Trust - Frontsheet'!AQ85=\"\",'Trust - Frontsheet'!AQ85=\"-\"),0,('Trust - Frontsheet'!AQ85))","v":0},{"$f":"IF(OR('Trust - Frontsheet'!AR85=\"\",'Trust - Frontsheet'!AR85=\"-\"),0,('Trust - Frontsheet'!AR85))","v":0},{"$f":"IF(OR('Trust - Frontsheet'!AS85=\"\",'Trust - Frontsheet'!AS85=\"-\"),0,('Trust - Frontsheet'!AS85))","v":0},{"$f":"IF(OR('Trust - Frontsheet'!AT85=\"\",'Trust - Frontsheet'!AT85=\"-\"),0,('Trust - Frontsheet'!AT85))","v":0},{"$f":"'Trust - Frontsheet'!AC85","v":0},{"$f":"IF(OR('Trust - Frontsheet'!AD85=\"\",'Trust - Frontsheet'!AD85=\"-\"),0,('Trust - Frontsheet'!AD85))","v":0},{"$f":"IF(OR('Trust - Frontsheet'!AE85=\"\",'Trust - Frontsheet'!AE85=\"-\"),0,('Trust - Frontsheet'!AE85))","v":0},{"$f":"IF(OR('Trust - Frontsheet'!AF85=\"\",'Trust - Frontsheet'!AF85=\"-\"),0,('Trust - Frontsheet'!AF85))","v":0},{"$f":"IF(OR('Trust - Frontsheet'!AG85=\"\",'Trust - Frontsheet'!AG85=\"-\"),0,('Trust - Frontsheet'!AG85))","v":0},{"$f":"IF(OR('Trust - Frontsheet'!AH85=\"\",'Trust - Frontsheet'!AH85=\"-\"),0,('Trust - Frontsheet'!AH85))","v":0},{"$f":"IF(OR('Trust - Frontsheet'!AI85=\"\",'Trust - Frontsheet'!AI85=\"-\"),0,('Trust - Frontsheet'!AI85))","v":0},{"$f":"IF(OR('Trust - Frontsheet'!AJ85=\"\",'Trust - Frontsheet'!AJ85=\"-\"),0,('Trust - Frontsheet'!AJ85))","v":0},{"$f":"IF(A73=\"\",\"\",(IF(ISBLANK('Trust - Frontsheet'!F9),\"\",'Trust - Frontsheet'!F9)))","v":""}]
[{"$f":"IF('Trust - Frontsheet'!D86=0,\"\",IF('Trust - Frontsheet'!D86=\"\",\"\",'Trust - Frontsheet'!D86))","v":""},{"$f":"IF(ISBLANK('Trust - Frontsheet'!E86),\"\",'Trust - Frontsheet'!E86)","v":""},{"$f":"IF(ISBLANK('Trust - Frontsheet'!F86),\"\",\"'\" & 'Trust - Frontsheet'!F86 & \"'\")","v":""},{"$f":"IF(ISBLANK('Trust - Frontsheet'!G86),\"\",'Trust - Frontsheet'!G86)","v":""},{"$f":"IF(ISBLANK('Trust - Frontsheet'!H86),\"\",'Trust - Frontsheet'!H86)","v":""},{"$f":"'Trust - Frontsheet'!I86","v":0},{"$f":"'Trust - Frontsheet'!J86","v":0},{"$f":"'Trust - Frontsheet'!K86","v":0},{"$f":"'Trust - Frontsheet'!L86","v":0},{"$f":"'Trust - Frontsheet'!M86","v":0},{"$f":"'Trust - Frontsheet'!N86","v":0},{"$f":"'Trust - Frontsheet'!O86","v":0},{"$f":"'Trust - Frontsheet'!P86","v":0},{"$f":"'Trust - Frontsheet'!Q86","v":0},{"$f":"'Trust - Frontsheet'!R86","v":0},{"$f":"'Trust - Frontsheet'!S86","v":0},{"$f":"'Trust - Frontsheet'!T86","v":0},{"$f":"'Trust - Frontsheet'!U86","v":0},{"$f":"'Trust - Frontsheet'!V86","v":0},{"$f":"'Trust - Frontsheet'!W86","v":0},{"$f":"'Trust - Frontsheet'!X86","v":0},{"$f":"'Trust - Frontsheet'!Y86","v":0},{"$f":"'Trust - Frontsheet'!Z86","v":0},{"$f":"'Trust - Frontsheet'!AA86","v":0},{"$f":"'Trust - Frontsheet'!AB86","v":0},{"$f":"IF(OR('Trust - Frontsheet'!AK86=\"\",'Trust - Frontsheet'!AK86=\"-\"),0,('Trust - Frontsheet'!AK86))","v":0},{"$f":"IF(OR('Trust - Frontsheet'!AL86=\"\",'Trust - Frontsheet'!AL86=\"-\"),0,('Trust - Frontsheet'!AL86))","v":0},{"$f":"IF(OR('Trust - Frontsheet'!AM86=\"\",'Trust - Frontsheet'!AM86=\"-\"),0,('Trust - Frontsheet'!AM86))","v":0},{"$f":"IF(OR('Trust - Frontsheet'!AN86=\"\",'Trust - Frontsheet'!AN86=\"-\"),0,('Trust - Frontsheet'!AN86))","v":0},{"$f":"IF(OR('Trust - Frontsheet'!AO86=\"\",'Trust - Frontsheet'!AO86=\"-\"),0,('Trust - Frontsheet'!AO86))","v":0},{"$f":"IF(OR('Trust - Frontsheet'!AP86=\"\",'Trust - Frontsheet'!AP86=\"-\"),0,('Trust - Frontsheet'!AP86))","v":0},{"$f":"IF(OR('Trust - Frontsheet'!AQ86=\"\",'Trust - Frontsheet'!AQ86=\"-\"),0,('Trust - Frontsheet'!AQ86))","v":0},{"$f":"IF(OR('Trust - Frontsheet'!AR86=\"\",'Trust - Frontsheet'!AR86=\"-\"),0,('Trust - Frontsheet'!AR86))","v":0},{"$f":"IF(OR('Trust - Frontsheet'!AS86=\"\",'Trust - Frontsheet'!AS86=\"-\"),0,('Trust - Frontsheet'!AS86))","v":0},{"$f":"IF(OR('Trust - Frontsheet'!AT86=\"\",'Trust - Frontsheet'!AT86=\"-\"),0,('Trust - Frontsheet'!AT86))","v":0},{"$f":"'Trust - Frontsheet'!AC86","v":0},{"$f":"IF(OR('Trust - Frontsheet'!AD86=\"\",'Trust - Frontsheet'!AD86=\"-\"),0,('Trust - Frontsheet'!AD86))","v":0},{"$f":"IF(OR('Trust - Frontsheet'!AE86=\"\",'Trust - Frontsheet'!AE86=\"-\"),0,('Trust - Frontsheet'!AE86))","v":0},{"$f":"IF(OR('Trust - Frontsheet'!AF86=\"\",'Trust - Frontsheet'!AF86=\"-\"),0,('Trust - Frontsheet'!AF86))","v":0},{"$f":"IF(OR('Trust - Frontsheet'!AG86=\"\",'Trust - Frontsheet'!AG86=\"-\"),0,('Trust - Frontsheet'!AG86))","v":0},{"$f":"IF(OR('Trust - Frontsheet'!AH86=\"\",'Trust - Frontsheet'!AH86=\"-\"),0,('Trust - Frontsheet'!AH86))","v":0},{"$f":"IF(OR('Trust - Frontsheet'!AI86=\"\",'Trust - Frontsheet'!AI86=\"-\"),0,('Trust - Frontsheet'!AI86))","v":0},{"$f":"IF(OR('Trust - Frontsheet'!AJ86=\"\",'Trust - Frontsheet'!AJ86=\"-\"),0,('Trust - Frontsheet'!AJ86))","v":0},{"$f":"IF(A74=\"\",\"\",(IF(ISBLANK('Trust - Frontsheet'!F9),\"\",'Trust - Frontsheet'!F9)))","v":""}]
[{"$f":"IF('Trust - Frontsheet'!D87=0,\"\",IF('Trust - Frontsheet'!D87=\"\",\"\",'Trust - Frontsheet'!D87))","v":""},{"$f":"IF(ISBLANK('Trust - Frontsheet'!E87),\"\",'Trust - Frontsheet'!E87)","v":""},{"$f":"IF(ISBLANK('Trust - Frontsheet'!F87),\"\",\"'\" & 'Trust - Frontsheet'!F87 & \"'\")","v":""},{"$f":"IF(ISBLANK('Trust - Frontsheet'!G87),\"\",'Trust - Frontsheet'!G87)","v":""},{"$f":"IF(ISBLANK('Trust - Frontsheet'!H87),\"\",'Trust - Frontsheet'!H87)","v":""},{"$f":"'Trust - Frontsheet'!I87","v":0},{"$f":"'Trust - Frontsheet'!J87","v":0},{"$f":"'Trust - Frontsheet'!K87","v":0},{"$f":"'Trust - Frontsheet'!L87","v":0},{"$f":"'Trust - Frontsheet'!M87","v":0},{"$f":"'Trust - Frontsheet'!N87","v":0},{"$f":"'Trust - Frontsheet'!O87","v":0},{"$f":"'Trust - Frontsheet'!P87","v":0},{"$f":"'Trust - Frontsheet'!Q87","v":0},{"$f":"'Trust - Frontsheet'!R87","v":0},{"$f":"'Trust - Frontsheet'!S87","v":0},{"$f":"'Trust - Frontsheet'!T87","v":0},{"$f":"'Trust - Frontsheet'!U87","v":0},{"$f":"'Trust - Frontsheet'!V87","v":0},{"$f":"'Trust - Frontsheet'!W87","v":0},{"$f":"'Trust - Frontsheet'!X87","v":0},{"$f":"'Trust - Frontsheet'!Y87","v":0},{"$f":"'Trust - Frontsheet'!Z87","v":0},{"$f":"'Trust - Frontsheet'!AA87","v":0},{"$f":"'Trust - Frontsheet'!AB87","v":0},{"$f":"IF(OR('Trust - Frontsheet'!AK87=\"\",'Trust - Frontsheet'!AK87=\"-\"),0,('Trust - Frontsheet'!AK87))","v":0},{"$f":"IF(OR('Trust - Frontsheet'!AL87=\"\",'Trust - Frontsheet'!AL87=\"-\"),0,('Trust - Frontsheet'!AL87))","v":0},{"$f":"IF(OR('Trust - Frontsheet'!AM87=\"\",'Trust - Frontsheet'!AM87=\"-\"),0,('Trust - Frontsheet'!AM87))","v":0},{"$f":"IF(OR('Trust - Frontsheet'!AN87=\"\",'Trust - Frontsheet'!AN87=\"-\"),0,('Trust - Frontsheet'!AN87))","v":0},{"$f":"IF(OR('Trust - Frontsheet'!AO87=\"\",'Trust - Frontsheet'!AO87=\"-\"),0,('Trust - Frontsheet'!AO87))","v":0},{"$f":"IF(OR('Trust - Frontsheet'!AP87=\"\",'Trust - Frontsheet'!AP87=\"-\"),0,('Trust - Frontsheet'!AP87))","v":0},{"$f":"IF(OR('Trust - Frontsheet'!AQ87=\"\",'Trust - Frontsheet'!AQ87=\"-\"),0,('Trust - Frontsheet'!AQ87))","v":0},{"$f":"IF(OR('Trust - Frontsheet'!AR87=\"\",'Trust - Frontsheet'!AR87=\"-\"),0,('Trust - Frontsheet'!AR87))","v":0},{"$f":"IF(OR('Trust - Frontsheet'!AS87=\"\",'Trust - Frontsheet'!AS87=\"-\"),0,('Trust - Frontsheet'!AS87))","v":0},{"$f":"IF(OR('Trust - Frontsheet'!AT87=\"\",'Trust - Frontsheet'!AT87=\"-\"),0,('Trust - Frontsheet'!AT87))","v":0},{"$f":"'Trust - Frontsheet'!AC87","v":0},{"$f":"IF(OR('Trust - Frontsheet'!AD87=\"\",'Trust - Frontsheet'!AD87=\"-\"),0,('Trust - Frontsheet'!AD87))","v":0},{"$f":"IF(OR('Trust - Frontsheet'!AE87=\"\",'Trust - Frontsheet'!AE87=\"-\"),0,('Trust - Frontsheet'!AE87))","v":0},{"$f":"IF(OR('Trust - Frontsheet'!AF87=\"\",'Trust - Frontsheet'!AF87=\"-\"),0,('Trust - Frontsheet'!AF87))","v":0},{"$f":"IF(OR('Trust - Frontsheet'!AG87=\"\",'Trust - Frontsheet'!AG87=\"-\"),0,('Trust - Frontsheet'!AG87))","v":0},{"$f":"IF(OR('Trust - Frontsheet'!AH87=\"\",'Trust - Frontsheet'!AH87=\"-\"),0,('Trust - Frontsheet'!AH87))","v":0},{"$f":"IF(OR('Trust - Frontsheet'!AI87=\"\",'Trust - Frontsheet'!AI87=\"-\"),0,('Trust - Frontsheet'!AI87))","v":0},{"$f":"IF(OR('Trust - Frontsheet'!AJ87=\"\",'Trust - Frontsheet'!AJ87=\"-\"),0,('Trust - Frontsheet'!AJ87))","v":0},{"$f":"IF(A75=\"\",\"\",(IF(ISBLANK('Trust - Frontsheet'!F9),\"\",'Trust - Frontsheet'!F9)))","v":""}]
[{"$f":"IF('Trust - Frontsheet'!D88=0,\"\",IF('Trust - Frontsheet'!D88=\"\",\"\",'Trust - Frontsheet'!D88))","v":""},{"$f":"IF(ISBLANK('Trust - Frontsheet'!E88),\"\",'Trust - Frontsheet'!E88)","v":""},{"$f":"IF(ISBLANK('Trust - Frontsheet'!F88),\"\",\"'\" & 'Trust - Frontsheet'!F88 & \"'\")","v":""},{"$f":"IF(ISBLANK('Trust - Frontsheet'!G88),\"\",'Trust - Frontsheet'!G88)","v":""},{"$f":"IF(ISBLANK('Trust - Frontsheet'!H88),\"\",'Trust - Frontsheet'!H88)","v":""},{"$f":"'Trust - Frontsheet'!I88","v":0},{"$f":"'Trust - Frontsheet'!J88","v":0},{"$f":"'Trust - Frontsheet'!K88","v":0},{"$f":"'Trust - Frontsheet'!L88","v":0},{"$f":"'Trust - Frontsheet'!M88","v":0},{"$f":"'Trust - Frontsheet'!N88","v":0},{"$f":"'Trust - Frontsheet'!O88","v":0},{"$f":"'Trust - Frontsheet'!P88","v":0},{"$f":"'Trust - Frontsheet'!Q88","v":0},{"$f":"'Trust - Frontsheet'!R88","v":0},{"$f":"'Trust - Frontsheet'!S88","v":0},{"$f":"'Trust - Frontsheet'!T88","v":0},{"$f":"'Trust - Frontsheet'!U88","v":0},{"$f":"'Trust - Frontsheet'!V88","v":0},{"$f":"'Trust - Frontsheet'!W88","v":0},{"$f":"'Trust - Frontsheet'!X88","v":0},{"$f":"'Trust - Frontsheet'!Y88","v":0},{"$f":"'Trust - Frontsheet'!Z88","v":0},{"$f":"'Trust - Frontsheet'!AA88","v":0},{"$f":"'Trust - Frontsheet'!AB88","v":0},{"$f":"IF(OR('Trust - Frontsheet'!AK88=\"\",'Trust - Frontsheet'!AK88=\"-\"),0,('Trust - Frontsheet'!AK88))","v":0},{"$f":"IF(OR('Trust - Frontsheet'!AL88=\"\",'Trust - Frontsheet'!AL88=\"-\"),0,('Trust - Frontsheet'!AL88))","v":0},{"$f":"IF(OR('Trust - Frontsheet'!AM88=\"\",'Trust - Frontsheet'!AM88=\"-\"),0,('Trust - Frontsheet'!AM88))","v":0},{"$f":"IF(OR('Trust - Frontsheet'!AN88=\"\",'Trust - Frontsheet'!AN88=\"-\"),0,('Trust - Frontsheet'!AN88))","v":0},{"$f":"IF(OR('Trust - Frontsheet'!AO88=\"\",'Trust - Frontsheet'!AO88=\"-\"),0,('Trust - Frontsheet'!AO88))","v":0},{"$f":"IF(OR('Trust - Frontsheet'!AP88=\"\",'Trust - Frontsheet'!AP88=\"-\"),0,('Trust - Frontsheet'!AP88))","v":0},{"$f":"IF(OR('Trust - Frontsheet'!AQ88=\"\",'Trust - Frontsheet'!AQ88=\"-\"),0,('Trust - Frontsheet'!AQ88))","v":0},{"$f":"IF(OR('Trust - Frontsheet'!AR88=\"\",'Trust - Frontsheet'!AR88=\"-\"),0,('Trust - Frontsheet'!AR88))","v":0},{"$f":"IF(OR('Trust - Frontsheet'!AS88=\"\",'Trust - Frontsheet'!AS88=\"-\"),0,('Trust - Frontsheet'!AS88))","v":0},{"$f":"IF(OR('Trust - Frontsheet'!AT88=\"\",'Trust - Frontsheet'!AT88=\"-\"),0,('Trust - Frontsheet'!AT88))","v":0},{"$f":"'Trust - Frontsheet'!AC88","v":0},{"$f":"IF(OR('Trust - Frontsheet'!AD88=\"\",'Trust - Frontsheet'!AD88=\"-\"),0,('Trust - Frontsheet'!AD88))","v":0},{"$f":"IF(OR('Trust - Frontsheet'!AE88=\"\",'Trust - Frontsheet'!AE88=\"-\"),0,('Trust - Frontsheet'!AE88))","v":0},{"$f":"IF(OR('Trust - Frontsheet'!AF88=\"\",'Trust - Frontsheet'!AF88=\"-\"),0,('Trust - Frontsheet'!AF88))","v":0},{"$f":"IF(OR('Trust - Frontsheet'!AG88=\"\",'Trust - Frontsheet'!AG88=\"-\"),0,('Trust - Frontsheet'!AG88))","v":0},{"$f":"IF(OR('Trust - Frontsheet'!AH88=\"\",'Trust - Frontsheet'!AH88=\"-\"),0,('Trust - Frontsheet'!AH88))","v":0},{"$f":"IF(OR('Trust - Frontsheet'!AI88=\"\",'Trust - Frontsheet'!AI88=\"-\"),0,('Trust - Frontsheet'!AI88))","v":0},{"$f":"IF(OR('Trust - Frontsheet'!AJ88=\"\",'Trust - Frontsheet'!AJ88=\"-\"),0,('Trust - Frontsheet'!AJ88))","v":0},{"$f":"IF(A76=\"\",\"\",(IF(ISBLANK('Trust - Frontsheet'!F9),\"\",'Trust - Frontsheet'!F9)))","v":""}]
[{"$f":"IF('Trust - Frontsheet'!D89=0,\"\",IF('Trust - Frontsheet'!D89=\"\",\"\",'Trust - Frontsheet'!D89))","v":""},{"$f":"IF(ISBLANK('Trust - Frontsheet'!E89),\"\",'Trust - Frontsheet'!E89)","v":""},{"$f":"IF(ISBLANK('Trust - Frontsheet'!F89),\"\",\"'\" & 'Trust - Frontsheet'!F89 & \"'\")","v":""},{"$f":"IF(ISBLANK('Trust - Frontsheet'!G89),\"\",'Trust - Frontsheet'!G89)","v":""},{"$f":"IF(ISBLANK('Trust - Frontsheet'!H89),\"\",'Trust - Frontsheet'!H89)","v":""},{"$f":"'Trust - Frontsheet'!I89","v":0},{"$f":"'Trust - Frontsheet'!J89","v":0},{"$f":"'Trust - Frontsheet'!K89","v":0},{"$f":"'Trust - Frontsheet'!L89","v":0},{"$f":"'Trust - Frontsheet'!M89","v":0},{"$f":"'Trust - Frontsheet'!N89","v":0},{"$f":"'Trust - Frontsheet'!O89","v":0},{"$f":"'Trust - Frontsheet'!P89","v":0},{"$f":"'Trust - Frontsheet'!Q89","v":0},{"$f":"'Trust - Frontsheet'!R89","v":0},{"$f":"'Trust - Frontsheet'!S89","v":0},{"$f":"'Trust - Frontsheet'!T89","v":0},{"$f":"'Trust - Frontsheet'!U89","v":0},{"$f":"'Trust - Frontsheet'!V89","v":0},{"$f":"'Trust - Frontsheet'!W89","v":0},{"$f":"'Trust - Frontsheet'!X89","v":0},{"$f":"'Trust - Frontsheet'!Y89","v":0},{"$f":"'Trust - Frontsheet'!Z89","v":0},{"$f":"'Trust - Frontsheet'!AA89","v":0},{"$f":"'Trust - Frontsheet'!AB89","v":0},{"$f":"IF(OR('Trust - Frontsheet'!AK89=\"\",'Trust - Frontsheet'!AK89=\"-\"),0,('Trust - Frontsheet'!AK89))","v":0},{"$f":"IF(OR('Trust - Frontsheet'!AL89=\"\",'Trust - Frontsheet'!AL89=\"-\"),0,('Trust - Frontsheet'!AL89))","v":0},{"$f":"IF(OR('Trust - Frontsheet'!AM89=\"\",'Trust - Frontsheet'!AM89=\"-\"),0,('Trust - Frontsheet'!AM89))","v":0},{"$f":"IF(OR('Trust - Frontsheet'!AN89=\"\",'Trust - Frontsheet'!AN89=\"-\"),0,('Trust - Frontsheet'!AN89))","v":0},{"$f":"IF(OR('Trust - Frontsheet'!AO89=\"\",'Trust - Frontsheet'!AO89=\"-\"),0,('Trust - Frontsheet'!AO89))","v":0},{"$f":"IF(OR('Trust - Frontsheet'!AP89=\"\",'Trust - Frontsheet'!AP89=\"-\"),0,('Trust - Frontsheet'!AP89))","v":0},{"$f":"IF(OR('Trust - Frontsheet'!AQ89=\"\",'Trust - Frontsheet'!AQ89=\"-\"),0,('Trust - Frontsheet'!AQ89))","v":0},{"$f":"IF(OR('Trust - Frontsheet'!AR89=\"\",'Trust - Frontsheet'!AR89=\"-\"),0,('Trust - Frontsheet'!AR89))","v":0},{"$f":"IF(OR('Trust - Frontsheet'!AS89=\"\",'Trust - Frontsheet'!AS89=\"-\"),0,('Trust - Frontsheet'!AS89))","v":0},{"$f":"IF(OR('Trust - Frontsheet'!AT89=\"\",'Trust - Frontsheet'!AT89=\"-\"),0,('Trust - Frontsheet'!AT89))","v":0},{"$f":"'Trust - Frontsheet'!AC89","v":0},{"$f":"IF(OR('Trust - Frontsheet'!AD89=\"\",'Trust - Frontsheet'!AD89=\"-\"),0,('Trust - Frontsheet'!AD89))","v":0},{"$f":"IF(OR('Trust - Frontsheet'!AE89=\"\",'Trust - Frontsheet'!AE89=\"-\"),0,('Trust - Frontsheet'!AE89))","v":0},{"$f":"IF(OR('Trust - Frontsheet'!AF89=\"\",'Trust - Frontsheet'!AF89=\"-\"),0,('Trust - Frontsheet'!AF89))","v":0},{"$f":"IF(OR('Trust - Frontsheet'!AG89=\"\",'Trust - Frontsheet'!AG89=\"-\"),0,('Trust - Frontsheet'!AG89))","v":0},{"$f":"IF(OR('Trust - Frontsheet'!AH89=\"\",'Trust - Frontsheet'!AH89=\"-\"),0,('Trust - Frontsheet'!AH89))","v":0},{"$f":"IF(OR('Trust - Frontsheet'!AI89=\"\",'Trust - Frontsheet'!AI89=\"-\"),0,('Trust - Frontsheet'!AI89))","v":0},{"$f":"IF(OR('Trust - Frontsheet'!AJ89=\"\",'Trust - Frontsheet'!AJ89=\"-\"),0,('Trust - Frontsheet'!AJ89))","v":0},{"$f":"IF(A77=\"\",\"\",(IF(ISBLANK('Trust - Frontsheet'!F9),\"\",'Trust - Frontsheet'!F9)))","v":""}]
[{"$f":"IF('Trust - Frontsheet'!D90=0,\"\",IF('Trust - Frontsheet'!D90=\"\",\"\",'Trust - Frontsheet'!D90))","v":""},{"$f":"IF(ISBLANK('Trust - Frontsheet'!E90),\"\",'Trust - Frontsheet'!E90)","v":""},{"$f":"IF(ISBLANK('Trust - Frontsheet'!F90),\"\",\"'\" & 'Trust - Frontsheet'!F90 & \"'\")","v":""},{"$f":"IF(ISBLANK('Trust - Frontsheet'!G90),\"\",'Trust - Frontsheet'!G90)","v":""},{"$f":"IF(ISBLANK('Trust - Frontsheet'!H90),\"\",'Trust - Frontsheet'!H90)","v":""},{"$f":"'Trust - Frontsheet'!I90","v":0},{"$f":"'Trust - Frontsheet'!J90","v":0},{"$f":"'Trust - Frontsheet'!K90","v":0},{"$f":"'Trust - Frontsheet'!L90","v":0},{"$f":"'Trust - Frontsheet'!M90","v":0},{"$f":"'Trust - Frontsheet'!N90","v":0},{"$f":"'Trust - Frontsheet'!O90","v":0},{"$f":"'Trust - Frontsheet'!P90","v":0},{"$f":"'Trust - Frontsheet'!Q90","v":0},{"$f":"'Trust - Frontsheet'!R90","v":0},{"$f":"'Trust - Frontsheet'!S90","v":0},{"$f":"'Trust - Frontsheet'!T90","v":0},{"$f":"'Trust - Frontsheet'!U90","v":0},{"$f":"'Trust - Frontsheet'!V90","v":0},{"$f":"'Trust - Frontsheet'!W90","v":0},{"$f":"'Trust - Frontsheet'!X90","v":0},{"$f":"'Trust - Frontsheet'!Y90","v":0},{"$f":"'Trust - Frontsheet'!Z90","v":0},{"$f":"'Trust - Frontsheet'!AA90","v":0},{"$f":"'Trust - Frontsheet'!AB90","v":0},{"$f":"IF(OR('Trust - Frontsheet'!AK90=\"\",'Trust - Frontsheet'!AK90=\"-\"),0,('Trust - Frontsheet'!AK90))","v":0},{"$f":"IF(OR('Trust - Frontsheet'!AL90=\"\",'Trust - Frontsheet'!AL90=\"-\"),0,('Trust - Frontsheet'!AL90))","v":0},{"$f":"IF(OR('Trust - Frontsheet'!AM90=\"\",'Trust - Frontsheet'!AM90=\"-\"),0,('Trust - Frontsheet'!AM90))","v":0},{"$f":"IF(OR('Trust - Frontsheet'!AN90=\"\",'Trust - Frontsheet'!AN90=\"-\"),0,('Trust - Frontsheet'!AN90))","v":0},{"$f":"IF(OR('Trust - Frontsheet'!AO90=\"\",'Trust - Frontsheet'!AO90=\"-\"),0,('Trust - Frontsheet'!AO90))","v":0},{"$f":"IF(OR('Trust - Frontsheet'!AP90=\"\",'Trust - Frontsheet'!AP90=\"-\"),0,('Trust - Frontsheet'!AP90))","v":0},{"$f":"IF(OR('Trust - Frontsheet'!AQ90=\"\",'Trust - Frontsheet'!AQ90=\"-\"),0,('Trust - Frontsheet'!AQ90))","v":0},{"$f":"IF(OR('Trust - Frontsheet'!AR90=\"\",'Trust - Frontsheet'!AR90=\"-\"),0,('Trust - Frontsheet'!AR90))","v":0},{"$f":"IF(OR('Trust - Frontsheet'!AS90=\"\",'Trust - Frontsheet'!AS90=\"-\"),0,('Trust - Frontsheet'!AS90))","v":0},{"$f":"IF(OR('Trust - Frontsheet'!AT90=\"\",'Trust - Frontsheet'!AT90=\"-\"),0,('Trust - Frontsheet'!AT90))","v":0},{"$f":"'Trust - Frontsheet'!AC90","v":0},{"$f":"IF(OR('Trust - Frontsheet'!AD90=\"\",'Trust - Frontsheet'!AD90=\"-\"),0,('Trust - Frontsheet'!AD90))","v":0},{"$f":"IF(OR('Trust - Frontsheet'!AE90=\"\",'Trust - Frontsheet'!AE90=\"-\"),0,('Trust - Frontsheet'!AE90))","v":0},{"$f":"IF(OR('Trust - Frontsheet'!AF90=\"\",'Trust - Frontsheet'!AF90=\"-\"),0,('Trust - Frontsheet'!AF90))","v":0},{"$f":"IF(OR('Trust - Frontsheet'!AG90=\"\",'Trust - Frontsheet'!AG90=\"-\"),0,('Trust - Frontsheet'!AG90))","v":0},{"$f":"IF(OR('Trust - Frontsheet'!AH90=\"\",'Trust - Frontsheet'!AH90=\"-\"),0,('Trust - Frontsheet'!AH90))","v":0},{"$f":"IF(OR('Trust - Frontsheet'!AI90=\"\",'Trust - Frontsheet'!AI90=\"-\"),0,('Trust - Frontsheet'!AI90))","v":0},{"$f":"IF(OR('Trust - Frontsheet'!AJ90=\"\",'Trust - Frontsheet'!AJ90=\"-\"),0,('Trust - Frontsheet'!AJ90))","v":0},{"$f":"IF(A78=\"\",\"\",(IF(ISBLANK('Trust - Frontsheet'!F9),\"\",'Trust - Frontsheet'!F9)))","v":""}]
[{"$f":"IF('Trust - Frontsheet'!D91=0,\"\",IF('Trust - Frontsheet'!D91=\"\",\"\",'Trust - Frontsheet'!D91))","v":""},{"$f":"IF(ISBLANK('Trust - Frontsheet'!E91),\"\",'Trust - Frontsheet'!E91)","v":""},{"$f":"IF(ISBLANK('Trust - Frontsheet'!F91),\"\",\"'\" & 'Trust - Frontsheet'!F91 & \"'\")","v":""},{"$f":"IF(ISBLANK('Trust - Frontsheet'!G91),\"\",'Trust - Frontsheet'!G91)","v":""},{"$f":"IF(ISBLANK('Trust - Frontsheet'!H91),\"\",'Trust - Frontsheet'!H91)","v":""},{"$f":"'Trust - Frontsheet'!I91","v":0},{"$f":"'Trust - Frontsheet'!J91","v":0},{"$f":"'Trust - Frontsheet'!K91","v":0},{"$f":"'Trust - Frontsheet'!L91","v":0},{"$f":"'Trust - Frontsheet'!M91","v":0},{"$f":"'Trust - Frontsheet'!N91","v":0},{"$f":"'Trust - Frontsheet'!O91","v":0},{"$f":"'Trust - Frontsheet'!P91","v":0},{"$f":"'Trust - Frontsheet'!Q91","v":0},{"$f":"'Trust - Frontsheet'!R91","v":0},{"$f":"'Trust - Frontsheet'!S91","v":0},{"$f":"'Trust - Frontsheet'!T91","v":0},{"$f":"'Trust - Frontsheet'!U91","v":0},{"$f":"'Trust - Frontsheet'!V91","v":0},{"$f":"'Trust - Frontsheet'!W91","v":0},{"$f":"'Trust - Frontsheet'!X91","v":0},{"$f":"'Trust - Frontsheet'!Y91","v":0},{"$f":"'Trust - Frontsheet'!Z91","v":0},{"$f":"'Trust - Frontsheet'!AA91","v":0},{"$f":"'Trust - Frontsheet'!AB91","v":0},{"$f":"IF(OR('Trust - Frontsheet'!AK91=\"\",'Trust - Frontsheet'!AK91=\"-\"),0,('Trust - Frontsheet'!AK91))","v":0},{"$f":"IF(OR('Trust - Frontsheet'!AL91=\"\",'Trust - Frontsheet'!AL91=\"-\"),0,('Trust - Frontsheet'!AL91))","v":0},{"$f":"IF(OR('Trust - Frontsheet'!AM91=\"\",'Trust - Frontsheet'!AM91=\"-\"),0,('Trust - Frontsheet'!AM91))","v":0},{"$f":"IF(OR('Trust - Frontsheet'!AN91=\"\",'Trust - Frontsheet'!AN91=\"-\"),0,('Trust - Frontsheet'!AN91))","v":0},{"$f":"IF(OR('Trust - Frontsheet'!AO91=\"\",'Trust - Frontsheet'!AO91=\"-\"),0,('Trust - Frontsheet'!AO91))","v":0},{"$f":"IF(OR('Trust - Frontsheet'!AP91=\"\",'Trust - Frontsheet'!AP91=\"-\"),0,('Trust - Frontsheet'!AP91))","v":0},{"$f":"IF(OR('Trust - Frontsheet'!AQ91=\"\",'Trust - Frontsheet'!AQ91=\"-\"),0,('Trust - Frontsheet'!AQ91))","v":0},{"$f":"IF(OR('Trust - Frontsheet'!AR91=\"\",'Trust - Frontsheet'!AR91=\"-\"),0,('Trust - Frontsheet'!AR91))","v":0},{"$f":"IF(OR('Trust - Frontsheet'!AS91=\"\",'Trust - Frontsheet'!AS91=\"-\"),0,('Trust - Frontsheet'!AS91))","v":0},{"$f":"IF(OR('Trust - Frontsheet'!AT91=\"\",'Trust - Frontsheet'!AT91=\"-\"),0,('Trust - Frontsheet'!AT91))","v":0},{"$f":"'Trust - Frontsheet'!AC91","v":0},{"$f":"IF(OR('Trust - Frontsheet'!AD91=\"\",'Trust - Frontsheet'!AD91=\"-\"),0,('Trust - Frontsheet'!AD91))","v":0},{"$f":"IF(OR('Trust - Frontsheet'!AE91=\"\",'Trust - Frontsheet'!AE91=\"-\"),0,('Trust - Frontsheet'!AE91))","v":0},{"$f":"IF(OR('Trust - Frontsheet'!AF91=\"\",'Trust - Frontsheet'!AF91=\"-\"),0,('Trust - Frontsheet'!AF91))","v":0},{"$f":"IF(OR('Trust - Frontsheet'!AG91=\"\",'Trust - Frontsheet'!AG91=\"-\"),0,('Trust - Frontsheet'!AG91))","v":0},{"$f":"IF(OR('Trust - Frontsheet'!AH91=\"\",'Trust - Frontsheet'!AH91=\"-\"),0,('Trust - Frontsheet'!AH91))","v":0},{"$f":"IF(OR('Trust - Frontsheet'!AI91=\"\",'Trust - Frontsheet'!AI91=\"-\"),0,('Trust - Frontsheet'!AI91))","v":0},{"$f":"IF(OR('Trust - Frontsheet'!AJ91=\"\",'Trust - Frontsheet'!AJ91=\"-\"),0,('Trust - Frontsheet'!AJ91))","v":0},{"$f":"IF(A79=\"\",\"\",(IF(ISBLANK('Trust - Frontsheet'!F9),\"\",'Trust - Frontsheet'!F9)))","v":""}]
[{"$f":"IF('Trust - Frontsheet'!D92=0,\"\",IF('Trust - Frontsheet'!D92=\"\",\"\",'Trust - Frontsheet'!D92))","v":""},{"$f":"IF(ISBLANK('Trust - Frontsheet'!E92),\"\",'Trust - Frontsheet'!E92)","v":""},{"$f":"IF(ISBLANK('Trust - Frontsheet'!F92),\"\",\"'\" & 'Trust - Frontsheet'!F92 & \"'\")","v":""},{"$f":"IF(ISBLANK('Trust - Frontsheet'!G92),\"\",'Trust - Frontsheet'!G92)","v":""},{"$f":"IF(ISBLANK('Trust - Frontsheet'!H92),\"\",'Trust - Frontsheet'!H92)","v":""},{"$f":"'Trust - Frontsheet'!I92","v":0},{"$f":"'Trust - Frontsheet'!J92","v":0},{"$f":"'Trust - Frontsheet'!K92","v":0},{"$f":"'Trust - Frontsheet'!L92","v":0},{"$f":"'Trust - Frontsheet'!M92","v":0},{"$f":"'Trust - Frontsheet'!N92","v":0},{"$f":"'Trust - Frontsheet'!O92","v":0},{"$f":"'Trust - Frontsheet'!P92","v":0},{"$f":"'Trust - Frontsheet'!Q92","v":0},{"$f":"'Trust - Frontsheet'!R92","v":0},{"$f":"'Trust - Frontsheet'!S92","v":0},{"$f":"'Trust - Frontsheet'!T92","v":0},{"$f":"'Trust - Frontsheet'!U92","v":0},{"$f":"'Trust - Frontsheet'!V92","v":0},{"$f":"'Trust - Frontsheet'!W92","v":0},{"$f":"'Trust - Frontsheet'!X92","v":0},{"$f":"'Trust - Frontsheet'!Y92","v":0},{"$f":"'Trust - Frontsheet'!Z92","v":0},{"$f":"'Trust - Frontsheet'!AA92","v":0},{"$f":"'Trust - Frontsheet'!AB92","v":0},{"$f":"IF(OR('Trust - Frontsheet'!AK92=\"\",'Trust - Frontsheet'!AK92=\"-\"),0,('Trust - Frontsheet'!AK92))","v":0},{"$f":"IF(OR('Trust - Frontsheet'!AL92=\"\",'Trust - Frontsheet'!AL92=\"-\"),0,('Trust - Frontsheet'!AL92))","v":0},{"$f":"IF(OR('Trust - Frontsheet'!AM92=\"\",'Trust - Frontsheet'!AM92=\"-\"),0,('Trust - Frontsheet'!AM92))","v":0},{"$f":"IF(OR('Trust - Frontsheet'!AN92=\"\",'Trust - Frontsheet'!AN92=\"-\"),0,('Trust - Frontsheet'!AN92))","v":0},{"$f":"IF(OR('Trust - Frontsheet'!AO92=\"\",'Trust - Frontsheet'!AO92=\"-\"),0,('Trust - Frontsheet'!AO92))","v":0},{"$f":"IF(OR('Trust - Frontsheet'!AP92=\"\",'Trust - Frontsheet'!AP92=\"-\"),0,('Trust - Frontsheet'!AP92))","v":0},{"$f":"IF(OR('Trust - Frontsheet'!AQ92=\"\",'Trust - Frontsheet'!AQ92=\"-\"),0,('Trust - Frontsheet'!AQ92))","v":0},{"$f":"IF(OR('Trust - Frontsheet'!AR92=\"\",'Trust - Frontsheet'!AR92=\"-\"),0,('Trust - Frontsheet'!AR92))","v":0},{"$f":"IF(OR('Trust - Frontsheet'!AS92=\"\",'Trust - Frontsheet'!AS92=\"-\"),0,('Trust - Frontsheet'!AS92))","v":0},{"$f":"IF(OR('Trust - Frontsheet'!AT92=\"\",'Trust - Frontsheet'!AT92=\"-\"),0,('Trust - Frontsheet'!AT92))","v":0},{"$f":"'Trust - Frontsheet'!AC92","v":0},{"$f":"IF(OR('Trust - Frontsheet'!AD92=\"\",'Trust - Frontsheet'!AD92=\"-\"),0,('Trust - Frontsheet'!AD92))","v":0},{"$f":"IF(OR('Trust - Frontsheet'!AE92=\"\",'Trust - Frontsheet'!AE92=\"-\"),0,('Trust - Frontsheet'!AE92))","v":0},{"$f":"IF(OR('Trust - Frontsheet'!AF92=\"\",'Trust - Frontsheet'!AF92=\"-\"),0,('Trust - Frontsheet'!AF92))","v":0},{"$f":"IF(OR('Trust - Frontsheet'!AG92=\"\",'Trust - Frontsheet'!AG92=\"-\"),0,('Trust - Frontsheet'!AG92))","v":0},{"$f":"IF(OR('Trust - Frontsheet'!AH92=\"\",'Trust - Frontsheet'!AH92=\"-\"),0,('Trust - Frontsheet'!AH92))","v":0},{"$f":"IF(OR('Trust - Frontsheet'!AI92=\"\",'Trust - Frontsheet'!AI92=\"-\"),0,('Trust - Frontsheet'!AI92))","v":0},{"$f":"IF(OR('Trust - Frontsheet'!AJ92=\"\",'Trust - Frontsheet'!AJ92=\"-\"),0,('Trust - Frontsheet'!AJ92))","v":0},{"$f":"IF(A80=\"\",\"\",(IF(ISBLANK('Trust - Frontsheet'!F9),\"\",'Trust - Frontsheet'!F9)))","v":""}]
[{"$f":"IF('Trust - Frontsheet'!D93=0,\"\",IF('Trust - Frontsheet'!D93=\"\",\"\",'Trust - Frontsheet'!D93))","v":""},{"$f":"IF(ISBLANK('Trust - Frontsheet'!E93),\"\",'Trust - Frontsheet'!E93)","v":""},{"$f":"IF(ISBLANK('Trust - Frontsheet'!F93),\"\",\"'\" & 'Trust - Frontsheet'!F93 & \"'\")","v":""},{"$f":"IF(ISBLANK('Trust - Frontsheet'!G93),\"\",'Trust - Frontsheet'!G93)","v":""},{"$f":"IF(ISBLANK('Trust - Frontsheet'!H93),\"\",'Trust - Frontsheet'!H93)","v":""},{"$f":"'Trust - Frontsheet'!I93","v":0},{"$f":"'Trust - Frontsheet'!J93","v":0},{"$f":"'Trust - Frontsheet'!K93","v":0},{"$f":"'Trust - Frontsheet'!L93","v":0},{"$f":"'Trust - Frontsheet'!M93","v":0},{"$f":"'Trust - Frontsheet'!N93","v":0},{"$f":"'Trust - Frontsheet'!O93","v":0},{"$f":"'Trust - Frontsheet'!P93","v":0},{"$f":"'Trust - Frontsheet'!Q93","v":0},{"$f":"'Trust - Frontsheet'!R93","v":0},{"$f":"'Trust - Frontsheet'!S93","v":0},{"$f":"'Trust - Frontsheet'!T93","v":0},{"$f":"'Trust - Frontsheet'!U93","v":0},{"$f":"'Trust - Frontsheet'!V93","v":0},{"$f":"'Trust - Frontsheet'!W93","v":0},{"$f":"'Trust - Frontsheet'!X93","v":0},{"$f":"'Trust - Frontsheet'!Y93","v":0},{"$f":"'Trust - Frontsheet'!Z93","v":0},{"$f":"'Trust - Frontsheet'!AA93","v":0},{"$f":"'Trust - Frontsheet'!AB93","v":0},{"$f":"IF(OR('Trust - Frontsheet'!AK93=\"\",'Trust - Frontsheet'!AK93=\"-\"),0,('Trust - Frontsheet'!AK93))","v":0},{"$f":"IF(OR('Trust - Frontsheet'!AL93=\"\",'Trust - Frontsheet'!AL93=\"-\"),0,('Trust - Frontsheet'!AL93))","v":0},{"$f":"IF(OR('Trust - Frontsheet'!AM93=\"\",'Trust - Frontsheet'!AM93=\"-\"),0,('Trust - Frontsheet'!AM93))","v":0},{"$f":"IF(OR('Trust - Frontsheet'!AN93=\"\",'Trust - Frontsheet'!AN93=\"-\"),0,('Trust - Frontsheet'!AN93))","v":0},{"$f":"IF(OR('Trust - Frontsheet'!AO93=\"\",'Trust - Frontsheet'!AO93=\"-\"),0,('Trust - Frontsheet'!AO93))","v":0},{"$f":"IF(OR('Trust - Frontsheet'!AP93=\"\",'Trust - Frontsheet'!AP93=\"-\"),0,('Trust - Frontsheet'!AP93))","v":0},{"$f":"IF(OR('Trust - Frontsheet'!AQ93=\"\",'Trust - Frontsheet'!AQ93=\"-\"),0,('Trust - Frontsheet'!AQ93))","v":0},{"$f":"IF(OR('Trust - Frontsheet'!AR93=\"\",'Trust - Frontsheet'!AR93=\"-\"),0,('Trust - Frontsheet'!AR93))","v":0},{"$f":"IF(OR('Trust - Frontsheet'!AS93=\"\",'Trust - Frontsheet'!AS93=\"-\"),0,('Trust - Frontsheet'!AS93))","v":0},{"$f":"IF(OR('Trust - Frontsheet'!AT93=\"\",'Trust - Frontsheet'!AT93=\"-\"),0,('Trust - Frontsheet'!AT93))","v":0},{"$f":"'Trust - Frontsheet'!AC93","v":0},{"$f":"IF(OR('Trust - Frontsheet'!AD93=\"\",'Trust - Frontsheet'!AD93=\"-\"),0,('Trust - Frontsheet'!AD93))","v":0},{"$f":"IF(OR('Trust - Frontsheet'!AE93=\"\",'Trust - Frontsheet'!AE93=\"-\"),0,('Trust - Frontsheet'!AE93))","v":0},{"$f":"IF(OR('Trust - Frontsheet'!AF93=\"\",'Trust - Frontsheet'!AF93=\"-\"),0,('Trust - Frontsheet'!AF93))","v":0},{"$f":"IF(OR('Trust - Frontsheet'!AG93=\"\",'Trust - Frontsheet'!AG93=\"-\"),0,('Trust - Frontsheet'!AG93))","v":0},{"$f":"IF(OR('Trust - Frontsheet'!AH93=\"\",'Trust - Frontsheet'!AH93=\"-\"),0,('Trust - Frontsheet'!AH93))","v":0},{"$f":"IF(OR('Trust - Frontsheet'!AI93=\"\",'Trust - Frontsheet'!AI93=\"-\"),0,('Trust - Frontsheet'!AI93))","v":0},{"$f":"IF(OR('Trust - Frontsheet'!AJ93=\"\",'Trust - Frontsheet'!AJ93=\"-\"),0,('Trust - Frontsheet'!AJ93))","v":0},{"$f":"IF(A81=\"\",\"\",(IF(ISBLANK('Trust - Frontsheet'!F9),\"\",'Trust - Frontsheet'!F9)))","v":""}]
[{"$f":"IF('Trust - Frontsheet'!D94=0,\"\",IF('Trust - Frontsheet'!D94=\"\",\"\",'Trust - Frontsheet'!D94))","v":""},{"$f":"IF(ISBLANK('Trust - Frontsheet'!E94),\"\",'Trust - Frontsheet'!E94)","v":""},{"$f":"IF(ISBLANK('Trust - Frontsheet'!F94),\"\",\"'\" & 'Trust - Frontsheet'!F94 & \"'\")","v":""},{"$f":"IF(ISBLANK('Trust - Frontsheet'!G94),\"\",'Trust - Frontsheet'!G94)","v":""},{"$f":"IF(ISBLANK('Trust - Frontsheet'!H94),\"\",'Trust - Frontsheet'!H94)","v":""},{"$f":"'Trust - Frontsheet'!I94","v":0},{"$f":"'Trust - Frontsheet'!J94","v":0},{"$f":"'Trust - Frontsheet'!K94","v":0},{"$f":"'Trust - Frontsheet'!L94","v":0},{"$f":"'Trust - Frontsheet'!M94","v":0},{"$f":"'Trust - Frontsheet'!N94","v":0},{"$f":"'Trust - Frontsheet'!O94","v":0},{"$f":"'Trust - Frontsheet'!P94","v":0},{"$f":"'Trust - Frontsheet'!Q94","v":0},{"$f":"'Trust - Frontsheet'!R94","v":0},{"$f":"'Trust - Frontsheet'!S94","v":0},{"$f":"'Trust - Frontsheet'!T94","v":0},{"$f":"'Trust - Frontsheet'!U94","v":0},{"$f":"'Trust - Frontsheet'!V94","v":0},{"$f":"'Trust - Frontsheet'!W94","v":0},{"$f":"'Trust - Frontsheet'!X94","v":0},{"$f":"'Trust - Frontsheet'!Y94","v":0},{"$f":"'Trust - Frontsheet'!Z94","v":0},{"$f":"'Trust - Frontsheet'!AA94","v":0},{"$f":"'Trust - Frontsheet'!AB94","v":0},{"$f":"IF(OR('Trust - Frontsheet'!AK94=\"\",'Trust - Frontsheet'!AK94=\"-\"),0,('Trust - Frontsheet'!AK94))","v":0},{"$f":"IF(OR('Trust - Frontsheet'!AL94=\"\",'Trust - Frontsheet'!AL94=\"-\"),0,('Trust - Frontsheet'!AL94))","v":0},{"$f":"IF(OR('Trust - Frontsheet'!AM94=\"\",'Trust - Frontsheet'!AM94=\"-\"),0,('Trust - Frontsheet'!AM94))","v":0},{"$f":"IF(OR('Trust - Frontsheet'!AN94=\"\",'Trust - Frontsheet'!AN94=\"-\"),0,('Trust - Frontsheet'!AN94))","v":0},{"$f":"IF(OR('Trust - Frontsheet'!AO94=\"\",'Trust - Frontsheet'!AO94=\"-\"),0,('Trust - Frontsheet'!AO94))","v":0},{"$f":"IF(OR('Trust - Frontsheet'!AP94=\"\",'Trust - Frontsheet'!AP94=\"-\"),0,('Trust - Frontsheet'!AP94))","v":0},{"$f":"IF(OR('Trust - Frontsheet'!AQ94=\"\",'Trust - Frontsheet'!AQ94=\"-\"),0,('Trust - Frontsheet'!AQ94))","v":0},{"$f":"IF(OR('Trust - Frontsheet'!AR94=\"\",'Trust - Frontsheet'!AR94=\"-\"),0,('Trust - Frontsheet'!AR94))","v":0},{"$f":"IF(OR('Trust - Frontsheet'!AS94=\"\",'Trust - Frontsheet'!AS94=\"-\"),0,('Trust - Frontsheet'!AS94))","v":0},{"$f":"IF(OR('Trust - Frontsheet'!AT94=\"\",'Trust - Frontsheet'!AT94=\"-\"),0,('Trust - Frontsheet'!AT94))","v":0},{"$f":"'Trust - Frontsheet'!AC94","v":0},{"$f":"IF(OR('Trust - Frontsheet'!AD94=\"\",'Trust - Frontsheet'!AD94=\"-\"),0,('Trust - Frontsheet'!AD94))","v":0},{"$f":"IF(OR('Trust - Frontsheet'!AE94=\"\",'Trust - Frontsheet'!AE94=\"-\"),0,('Trust - Frontsheet'!AE94))","v":0},{"$f":"IF(OR('Trust - Frontsheet'!AF94=\"\",'Trust - Frontsheet'!AF94=\"-\"),0,('Trust - Frontsheet'!AF94))","v":0},{"$f":"IF(OR('Trust - Frontsheet'!AG94=\"\",'Trust - Frontsheet'!AG94=\"-\"),0,('Trust - Frontsheet'!AG94))","v":0},{"$f":"IF(OR('Trust - Frontsheet'!AH94=\"\",'Trust - Frontsheet'!AH94=\"-\"),0,('Trust - Frontsheet'!AH94))","v":0},{"$f":"IF(OR('Trust - Frontsheet'!AI94=\"\",'Trust - Frontsheet'!AI94=\"-\"),0,('Trust - Frontsheet'!AI94))","v":0},{"$f":"IF(OR('Trust - Frontsheet'!AJ94=\"\",'Trust - Frontsheet'!AJ94=\"-\"),0,('Trust - Frontsheet'!AJ94))","v":0},{"$f":"IF(A82=\"\",\"\",(IF(ISBLANK('Trust - Frontsheet'!F9),\"\",'Trust - Frontsheet'!F9)))","v":""}]
[{"$f":"IF('Trust - Frontsheet'!D95=0,\"\",IF('Trust - Frontsheet'!D95=\"\",\"\",'Trust - Frontsheet'!D95))","v":""},{"$f":"IF(ISBLANK('Trust - Frontsheet'!E95),\"\",'Trust - Frontsheet'!E95)","v":""},{"$f":"IF(ISBLANK('Trust - Frontsheet'!F95),\"\",\"'\" & 'Trust - Frontsheet'!F95 & \"'\")","v":""},{"$f":"IF(ISBLANK('Trust - Frontsheet'!G95),\"\",'Trust - Frontsheet'!G95)","v":""},{"$f":"IF(ISBLANK('Trust - Frontsheet'!H95),\"\",'Trust - Frontsheet'!H95)","v":""},{"$f":"'Trust - Frontsheet'!I95","v":0},{"$f":"'Trust - Frontsheet'!J95","v":0},{"$f":"'Trust - Frontsheet'!K95","v":0},{"$f":"'Trust - Frontsheet'!L95","v":0},{"$f":"'Trust - Frontsheet'!M95","v":0},{"$f":"'Trust - Frontsheet'!N95","v":0},{"$f":"'Trust - Frontsheet'!O95","v":0},{"$f":"'Trust - Frontsheet'!P95","v":0},{"$f":"'Trust - Frontsheet'!Q95","v":0},{"$f":"'Trust - Frontsheet'!R95","v":0},{"$f":"'Trust - Frontsheet'!S95","v":0},{"$f":"'Trust - Frontsheet'!T95","v":0},{"$f":"'Trust - Frontsheet'!U95","v":0},{"$f":"'Trust - Frontsheet'!V95","v":0},{"$f":"'Trust - Frontsheet'!W95","v":0},{"$f":"'Trust - Frontsheet'!X95","v":0},{"$f":"'Trust - Frontsheet'!Y95","v":0},{"$f":"'Trust - Frontsheet'!Z95","v":0},{"$f":"'Trust - Frontsheet'!AA95","v":0},{"$f":"'Trust - Frontsheet'!AB95","v":0},{"$f":"IF(OR('Trust - Frontsheet'!AK95=\"\",'Trust - Frontsheet'!AK95=\"-\"),0,('Trust - Frontsheet'!AK95))","v":0},{"$f":"IF(OR('Trust - Frontsheet'!AL95=\"\",'Trust - Frontsheet'!AL95=\"-\"),0,('Trust - Frontsheet'!AL95))","v":0},{"$f":"IF(OR('Trust - Frontsheet'!AM95=\"\",'Trust - Frontsheet'!AM95=\"-\"),0,('Trust - Frontsheet'!AM95))","v":0},{"$f":"IF(OR('Trust - Frontsheet'!AN95=\"\",'Trust - Frontsheet'!AN95=\"-\"),0,('Trust - Frontsheet'!AN95))","v":0},{"$f":"IF(OR('Trust - Frontsheet'!AO95=\"\",'Trust - Frontsheet'!AO95=\"-\"),0,('Trust - Frontsheet'!AO95))","v":0},{"$f":"IF(OR('Trust - Frontsheet'!AP95=\"\",'Trust - Frontsheet'!AP95=\"-\"),0,('Trust - Frontsheet'!AP95))","v":0},{"$f":"IF(OR('Trust - Frontsheet'!AQ95=\"\",'Trust - Frontsheet'!AQ95=\"-\"),0,('Trust - Frontsheet'!AQ95))","v":0},{"$f":"IF(OR('Trust - Frontsheet'!AR95=\"\",'Trust - Frontsheet'!AR95=\"-\"),0,('Trust - Frontsheet'!AR95))","v":0},{"$f":"IF(OR('Trust - Frontsheet'!AS95=\"\",'Trust - Frontsheet'!AS95=\"-\"),0,('Trust - Frontsheet'!AS95))","v":0},{"$f":"IF(OR('Trust - Frontsheet'!AT95=\"\",'Trust - Frontsheet'!AT95=\"-\"),0,('Trust - Frontsheet'!AT95))","v":0},{"$f":"'Trust - Frontsheet'!AC95","v":0},{"$f":"IF(OR('Trust - Frontsheet'!AD95=\"\",'Trust - Frontsheet'!AD95=\"-\"),0,('Trust - Frontsheet'!AD95))","v":0},{"$f":"IF(OR('Trust - Frontsheet'!AE95=\"\",'Trust - Frontsheet'!AE95=\"-\"),0,('Trust - Frontsheet'!AE95))","v":0},{"$f":"IF(OR('Trust - Frontsheet'!AF95=\"\",'Trust - Frontsheet'!AF95=\"-\"),0,('Trust - Frontsheet'!AF95))","v":0},{"$f":"IF(OR('Trust - Frontsheet'!AG95=\"\",'Trust - Frontsheet'!AG95=\"-\"),0,('Trust - Frontsheet'!AG95))","v":0},{"$f":"IF(OR('Trust - Frontsheet'!AH95=\"\",'Trust - Frontsheet'!AH95=\"-\"),0,('Trust - Frontsheet'!AH95))","v":0},{"$f":"IF(OR('Trust - Frontsheet'!AI95=\"\",'Trust - Frontsheet'!AI95=\"-\"),0,('Trust - Frontsheet'!AI95))","v":0},{"$f":"IF(OR('Trust - Frontsheet'!AJ95=\"\",'Trust - Frontsheet'!AJ95=\"-\"),0,('Trust - Frontsheet'!AJ95))","v":0},{"$f":"IF(A83=\"\",\"\",(IF(ISBLANK('Trust - Frontsheet'!F9),\"\",'Trust - Frontsheet'!F9)))","v":""}]
[{"$f":"IF('Trust - Frontsheet'!D96=0,\"\",IF('Trust - Frontsheet'!D96=\"\",\"\",'Trust - Frontsheet'!D96))","v":""},{"$f":"IF(ISBLANK('Trust - Frontsheet'!E96),\"\",'Trust - Frontsheet'!E96)","v":""},{"$f":"IF(ISBLANK('Trust - Frontsheet'!F96),\"\",\"'\" & 'Trust - Frontsheet'!F96 & \"'\")","v":""},{"$f":"IF(ISBLANK('Trust - Frontsheet'!G96),\"\",'Trust - Frontsheet'!G96)","v":""},{"$f":"IF(ISBLANK('Trust - Frontsheet'!H96),\"\",'Trust - Frontsheet'!H96)","v":""},{"$f":"'Trust - Frontsheet'!I96","v":0},{"$f":"'Trust - Frontsheet'!J96","v":0},{"$f":"'Trust - Frontsheet'!K96","v":0},{"$f":"'Trust - Frontsheet'!L96","v":0},{"$f":"'Trust - Frontsheet'!M96","v":0},{"$f":"'Trust - Frontsheet'!N96","v":0},{"$f":"'Trust - Frontsheet'!O96","v":0},{"$f":"'Trust - Frontsheet'!P96","v":0},{"$f":"'Trust - Frontsheet'!Q96","v":0},{"$f":"'Trust - Frontsheet'!R96","v":0},{"$f":"'Trust - Frontsheet'!S96","v":0},{"$f":"'Trust - Frontsheet'!T96","v":0},{"$f":"'Trust - Frontsheet'!U96","v":0},{"$f":"'Trust - Frontsheet'!V96","v":0},{"$f":"'Trust - Frontsheet'!W96","v":0},{"$f":"'Trust - Frontsheet'!X96","v":0},{"$f":"'Trust - Frontsheet'!Y96","v":0},{"$f":"'Trust - Frontsheet'!Z96","v":0},{"$f":"'Trust - Frontsheet'!AA96","v":0},{"$f":"'Trust - Frontsheet'!AB96","v":0},{"$f":"IF(OR('Trust - Frontsheet'!AK96=\"\",'Trust - Frontsheet'!AK96=\"-\"),0,('Trust - Frontsheet'!AK96))","v":0},{"$f":"IF(OR('Trust - Frontsheet'!AL96=\"\",'Trust - Frontsheet'!AL96=\"-\"),0,('Trust - Frontsheet'!AL96))","v":0},{"$f":"IF(OR('Trust - Frontsheet'!AM96=\"\",'Trust - Frontsheet'!AM96=\"-\"),0,('Trust - Frontsheet'!AM96))","v":0},{"$f":"IF(OR('Trust - Frontsheet'!AN96=\"\",'Trust - Frontsheet'!AN96=\"-\"),0,('Trust - Frontsheet'!AN96))","v":0},{"$f":"IF(OR('Trust - Frontsheet'!AO96=\"\",'Trust - Frontsheet'!AO96=\"-\"),0,('Trust - Frontsheet'!AO96))","v":0},{"$f":"IF(OR('Trust - Frontsheet'!AP96=\"\",'Trust - Frontsheet'!AP96=\"-\"),0,('Trust - Frontsheet'!AP96))","v":0},{"$f":"IF(OR('Trust - Frontsheet'!AQ96=\"\",'Trust - Frontsheet'!AQ96=\"-\"),0,('Trust - Frontsheet'!AQ96))","v":0},{"$f":"IF(OR('Trust - Frontsheet'!AR96=\"\",'Trust - Frontsheet'!AR96=\"-\"),0,('Trust - Frontsheet'!AR96))","v":0},{"$f":"IF(OR('Trust - Frontsheet'!AS96=\"\",'Trust - Frontsheet'!AS96=\"-\"),0,('Trust - Frontsheet'!AS96))","v":0},{"$f":"IF(OR('Trust - Frontsheet'!AT96=\"\",'Trust - Frontsheet'!AT96=\"-\"),0,('Trust - Frontsheet'!AT96))","v":0},{"$f":"'Trust - Frontsheet'!AC96","v":0},{"$f":"IF(OR('Trust - Frontsheet'!AD96=\"\",'Trust - Frontsheet'!AD96=\"-\"),0,('Trust - Frontsheet'!AD96))","v":0},{"$f":"IF(OR('Trust - Frontsheet'!AE96=\"\",'Trust - Frontsheet'!AE96=\"-\"),0,('Trust - Frontsheet'!AE96))","v":0},{"$f":"IF(OR('Trust - Frontsheet'!AF96=\"\",'Trust - Frontsheet'!AF96=\"-\"),0,('Trust - Frontsheet'!AF96))","v":0},{"$f":"IF(OR('Trust - Frontsheet'!AG96=\"\",'Trust - Frontsheet'!AG96=\"-\"),0,('Trust - Frontsheet'!AG96))","v":0},{"$f":"IF(OR('Trust - Frontsheet'!AH96=\"\",'Trust - Frontsheet'!AH96=\"-\"),0,('Trust - Frontsheet'!AH96))","v":0},{"$f":"IF(OR('Trust - Frontsheet'!AI96=\"\",'Trust - Frontsheet'!AI96=\"-\"),0,('Trust - Frontsheet'!AI96))","v":0},{"$f":"IF(OR('Trust - Frontsheet'!AJ96=\"\",'Trust - Frontsheet'!AJ96=\"-\"),0,('Trust - Frontsheet'!AJ96))","v":0},{"$f":"IF(A84=\"\",\"\",(IF(ISBLANK('Trust - Frontsheet'!F9),\"\",'Trust - Frontsheet'!F9)))","v":""}]
[{"$f":"IF('Trust - Frontsheet'!D97=0,\"\",IF('Trust - Frontsheet'!D97=\"\",\"\",'Trust - Frontsheet'!D97))","v":""},{"$f":"IF(ISBLANK('Trust - Frontsheet'!E97),\"\",'Trust - Frontsheet'!E97)","v":""},{"$f":"IF(ISBLANK('Trust - Frontsheet'!F97),\"\",\"'\" & 'Trust - Frontsheet'!F97 & \"'\")","v":""},{"$f":"IF(ISBLANK('Trust - Frontsheet'!G97),\"\",'Trust - Frontsheet'!G97)","v":""},{"$f":"IF(ISBLANK('Trust - Frontsheet'!H97),\"\",'Trust - Frontsheet'!H97)","v":""},{"$f":"'Trust - Frontsheet'!I97","v":0},{"$f":"'Trust - Frontsheet'!J97","v":0},{"$f":"'Trust - Frontsheet'!K97","v":0},{"$f":"'Trust - Frontsheet'!L97","v":0},{"$f":"'Trust - Frontsheet'!M97","v":0},{"$f":"'Trust - Frontsheet'!N97","v":0},{"$f":"'Trust - Frontsheet'!O97","v":0},{"$f":"'Trust - Frontsheet'!P97","v":0},{"$f":"'Trust - Frontsheet'!Q97","v":0},{"$f":"'Trust - Frontsheet'!R97","v":0},{"$f":"'Trust - Frontsheet'!S97","v":0},{"$f":"'Trust - Frontsheet'!T97","v":0},{"$f":"'Trust - Frontsheet'!U97","v":0},{"$f":"'Trust - Frontsheet'!V97","v":0},{"$f":"'Trust - Frontsheet'!W97","v":0},{"$f":"'Trust - Frontsheet'!X97","v":0},{"$f":"'Trust - Frontsheet'!Y97","v":0},{"$f":"'Trust - Frontsheet'!Z97","v":0},{"$f":"'Trust - Frontsheet'!AA97","v":0},{"$f":"'Trust - Frontsheet'!AB97","v":0},{"$f":"IF(OR('Trust - Frontsheet'!AK97=\"\",'Trust - Frontsheet'!AK97=\"-\"),0,('Trust - Frontsheet'!AK97))","v":0},{"$f":"IF(OR('Trust - Frontsheet'!AL97=\"\",'Trust - Frontsheet'!AL97=\"-\"),0,('Trust - Frontsheet'!AL97))","v":0},{"$f":"IF(OR('Trust - Frontsheet'!AM97=\"\",'Trust - Frontsheet'!AM97=\"-\"),0,('Trust - Frontsheet'!AM97))","v":0},{"$f":"IF(OR('Trust - Frontsheet'!AN97=\"\",'Trust - Frontsheet'!AN97=\"-\"),0,('Trust - Frontsheet'!AN97))","v":0},{"$f":"IF(OR('Trust - Frontsheet'!AO97=\"\",'Trust - Frontsheet'!AO97=\"-\"),0,('Trust - Frontsheet'!AO97))","v":0},{"$f":"IF(OR('Trust - Frontsheet'!AP97=\"\",'Trust - Frontsheet'!AP97=\"-\"),0,('Trust - Frontsheet'!AP97))","v":0},{"$f":"IF(OR('Trust - Frontsheet'!AQ97=\"\",'Trust - Frontsheet'!AQ97=\"-\"),0,('Trust - Frontsheet'!AQ97))","v":0},{"$f":"IF(OR('Trust - Frontsheet'!AR97=\"\",'Trust - Frontsheet'!AR97=\"-\"),0,('Trust - Frontsheet'!AR97))","v":0},{"$f":"IF(OR('Trust - Frontsheet'!AS97=\"\",'Trust - Frontsheet'!AS97=\"-\"),0,('Trust - Frontsheet'!AS97))","v":0},{"$f":"IF(OR('Trust - Frontsheet'!AT97=\"\",'Trust - Frontsheet'!AT97=\"-\"),0,('Trust - Frontsheet'!AT97))","v":0},{"$f":"'Trust - Frontsheet'!AC97","v":0},{"$f":"IF(OR('Trust - Frontsheet'!AD97=\"\",'Trust - Frontsheet'!AD97=\"-\"),0,('Trust - Frontsheet'!AD97))","v":0},{"$f":"IF(OR('Trust - Frontsheet'!AE97=\"\",'Trust - Frontsheet'!AE97=\"-\"),0,('Trust - Frontsheet'!AE97))","v":0},{"$f":"IF(OR('Trust - Frontsheet'!AF97=\"\",'Trust - Frontsheet'!AF97=\"-\"),0,('Trust - Frontsheet'!AF97))","v":0},{"$f":"IF(OR('Trust - Frontsheet'!AG97=\"\",'Trust - Frontsheet'!AG97=\"-\"),0,('Trust - Frontsheet'!AG97))","v":0},{"$f":"IF(OR('Trust - Frontsheet'!AH97=\"\",'Trust - Frontsheet'!AH97=\"-\"),0,('Trust - Frontsheet'!AH97))","v":0},{"$f":"IF(OR('Trust - Frontsheet'!AI97=\"\",'Trust - Frontsheet'!AI97=\"-\"),0,('Trust - Frontsheet'!AI97))","v":0},{"$f":"IF(OR('Trust - Frontsheet'!AJ97=\"\",'Trust - Frontsheet'!AJ97=\"-\"),0,('Trust - Frontsheet'!AJ97))","v":0},{"$f":"IF(A85=\"\",\"\",(IF(ISBLANK('Trust - Frontsheet'!F9),\"\",'Trust - Frontsheet'!F9)))","v":""}]
[{"$f":"IF('Trust - Frontsheet'!D98=0,\"\",IF('Trust - Frontsheet'!D98=\"\",\"\",'Trust - Frontsheet'!D98))","v":""},{"$f":"IF(ISBLANK('Trust - Frontsheet'!E98),\"\",'Trust - Frontsheet'!E98)","v":""},{"$f":"IF(ISBLANK('Trust - Frontsheet'!F98),\"\",\"'\" & 'Trust - Frontsheet'!F98 & \"'\")","v":""},{"$f":"IF(ISBLANK('Trust - Frontsheet'!G98),\"\",'Trust - Frontsheet'!G98)","v":""},{"$f":"IF(ISBLANK('Trust - Frontsheet'!H98),\"\",'Trust - Frontsheet'!H98)","v":""},{"$f":"'Trust - Frontsheet'!I98","v":0},{"$f":"'Trust - Frontsheet'!J98","v":0},{"$f":"'Trust - Frontsheet'!K98","v":0},{"$f":"'Trust - Frontsheet'!L98","v":0},{"$f":"'Trust - Frontsheet'!M98","v":0},{"$f":"'Trust - Frontsheet'!N98","v":0},{"$f":"'Trust - Frontsheet'!O98","v":0},{"$f":"'Trust - Frontsheet'!P98","v":0},{"$f":"'Trust - Frontsheet'!Q98","v":0},{"$f":"'Trust - Frontsheet'!R98","v":0},{"$f":"'Trust - Frontsheet'!S98","v":0},{"$f":"'Trust - Frontsheet'!T98","v":0},{"$f":"'Trust - Frontsheet'!U98","v":0},{"$f":"'Trust - Frontsheet'!V98","v":0},{"$f":"'Trust - Frontsheet'!W98","v":0},{"$f":"'Trust - Frontsheet'!X98","v":0},{"$f":"'Trust - Frontsheet'!Y98","v":0},{"$f":"'Trust - Frontsheet'!Z98","v":0},{"$f":"'Trust - Frontsheet'!AA98","v":0},{"$f":"'Trust - Frontsheet'!AB98","v":0},{"$f":"IF(OR('Trust - Frontsheet'!AK98=\"\",'Trust - Frontsheet'!AK98=\"-\"),0,('Trust - Frontsheet'!AK98))","v":0},{"$f":"IF(OR('Trust - Frontsheet'!AL98=\"\",'Trust - Frontsheet'!AL98=\"-\"),0,('Trust - Frontsheet'!AL98))","v":0},{"$f":"IF(OR('Trust - Frontsheet'!AM98=\"\",'Trust - Frontsheet'!AM98=\"-\"),0,('Trust - Frontsheet'!AM98))","v":0},{"$f":"IF(OR('Trust - Frontsheet'!AN98=\"\",'Trust - Frontsheet'!AN98=\"-\"),0,('Trust - Frontsheet'!AN98))","v":0},{"$f":"IF(OR('Trust - Frontsheet'!AO98=\"\",'Trust - Frontsheet'!AO98=\"-\"),0,('Trust - Frontsheet'!AO98))","v":0},{"$f":"IF(OR('Trust - Frontsheet'!AP98=\"\",'Trust - Frontsheet'!AP98=\"-\"),0,('Trust - Frontsheet'!AP98))","v":0},{"$f":"IF(OR('Trust - Frontsheet'!AQ98=\"\",'Trust - Frontsheet'!AQ98=\"-\"),0,('Trust - Frontsheet'!AQ98))","v":0},{"$f":"IF(OR('Trust - Frontsheet'!AR98=\"\",'Trust - Frontsheet'!AR98=\"-\"),0,('Trust - Frontsheet'!AR98))","v":0},{"$f":"IF(OR('Trust - Frontsheet'!AS98=\"\",'Trust - Frontsheet'!AS98=\"-\"),0,('Trust - Frontsheet'!AS98))","v":0},{"$f":"IF(OR('Trust - Frontsheet'!AT98=\"\",'Trust - Frontsheet'!AT98=\"-\"),0,('Trust - Frontsheet'!AT98))","v":0},{"$f":"'Trust - Frontsheet'!AC98","v":0},{"$f":"IF(OR('Trust - Frontsheet'!AD98=\"\",'Trust - Frontsheet'!AD98=\"-\"),0,('Trust - Frontsheet'!AD98))","v":0},{"$f":"IF(OR('Trust - Frontsheet'!AE98=\"\",'Trust - Frontsheet'!AE98=\"-\"),0,('Trust - Frontsheet'!AE98))","v":0},{"$f":"IF(OR('Trust - Frontsheet'!AF98=\"\",'Trust - Frontsheet'!AF98=\"-\"),0,('Trust - Frontsheet'!AF98))","v":0},{"$f":"IF(OR('Trust - Frontsheet'!AG98=\"\",'Trust - Frontsheet'!AG98=\"-\"),0,('Trust - Frontsheet'!AG98))","v":0},{"$f":"IF(OR('Trust - Frontsheet'!AH98=\"\",'Trust - Frontsheet'!AH98=\"-\"),0,('Trust - Frontsheet'!AH98))","v":0},{"$f":"IF(OR('Trust - Frontsheet'!AI98=\"\",'Trust - Frontsheet'!AI98=\"-\"),0,('Trust - Frontsheet'!AI98))","v":0},{"$f":"IF(OR('Trust - Frontsheet'!AJ98=\"\",'Trust - Frontsheet'!AJ98=\"-\"),0,('Trust - Frontsheet'!AJ98))","v":0},{"$f":"IF(A86=\"\",\"\",(IF(ISBLANK('Trust - Frontsheet'!F9),\"\",'Trust - Frontsheet'!F9)))","v":""}]
[{"$f":"IF('Trust - Frontsheet'!D99=0,\"\",IF('Trust - Frontsheet'!D99=\"\",\"\",'Trust - Frontsheet'!D99))","v":""},{"$f":"IF(ISBLANK('Trust - Frontsheet'!E99),\"\",'Trust - Frontsheet'!E99)","v":""},{"$f":"IF(ISBLANK('Trust - Frontsheet'!F99),\"\",\"'\" & 'Trust - Frontsheet'!F99 & \"'\")","v":""},{"$f":"IF(ISBLANK('Trust - Frontsheet'!G99),\"\",'Trust - Frontsheet'!G99)","v":""},{"$f":"IF(ISBLANK('Trust - Frontsheet'!H99),\"\",'Trust - Frontsheet'!H99)","v":""},{"$f":"'Trust - Frontsheet'!I99","v":0},{"$f":"'Trust - Frontsheet'!J99","v":0},{"$f":"'Trust - Frontsheet'!K99","v":0},{"$f":"'Trust - Frontsheet'!L99","v":0},{"$f":"'Trust - Frontsheet'!M99","v":0},{"$f":"'Trust - Frontsheet'!N99","v":0},{"$f":"'Trust - Frontsheet'!O99","v":0},{"$f":"'Trust - Frontsheet'!P99","v":0},{"$f":"'Trust - Frontsheet'!Q99","v":0},{"$f":"'Trust - Frontsheet'!R99","v":0},{"$f":"'Trust - Frontsheet'!S99","v":0},{"$f":"'Trust - Frontsheet'!T99","v":0},{"$f":"'Trust - Frontsheet'!U99","v":0},{"$f":"'Trust - Frontsheet'!V99","v":0},{"$f":"'Trust - Frontsheet'!W99","v":0},{"$f":"'Trust - Frontsheet'!X99","v":0},{"$f":"'Trust - Frontsheet'!Y99","v":0},{"$f":"'Trust - Frontsheet'!Z99","v":0},{"$f":"'Trust - Frontsheet'!AA99","v":0},{"$f":"'Trust - Frontsheet'!AB99","v":0},{"$f":"IF(OR('Trust - Frontsheet'!AK99=\"\",'Trust - Frontsheet'!AK99=\"-\"),0,('Trust - Frontsheet'!AK99))","v":0},{"$f":"IF(OR('Trust - Frontsheet'!AL99=\"\",'Trust - Frontsheet'!AL99=\"-\"),0,('Trust - Frontsheet'!AL99))","v":0},{"$f":"IF(OR('Trust - Frontsheet'!AM99=\"\",'Trust - Frontsheet'!AM99=\"-\"),0,('Trust - Frontsheet'!AM99))","v":0},{"$f":"IF(OR('Trust - Frontsheet'!AN99=\"\",'Trust - Frontsheet'!AN99=\"-\"),0,('Trust - Frontsheet'!AN99))","v":0},{"$f":"IF(OR('Trust - Frontsheet'!AO99=\"\",'Trust - Frontsheet'!AO99=\"-\"),0,('Trust - Frontsheet'!AO99))","v":0},{"$f":"IF(OR('Trust - Frontsheet'!AP99=\"\",'Trust - Frontsheet'!AP99=\"-\"),0,('Trust - Frontsheet'!AP99))","v":0},{"$f":"IF(OR('Trust - Frontsheet'!AQ99=\"\",'Trust - Frontsheet'!AQ99=\"-\"),0,('Trust - Frontsheet'!AQ99))","v":0},{"$f":"IF(OR('Trust - Frontsheet'!AR99=\"\",'Trust - Frontsheet'!AR99=\"-\"),0,('Trust - Frontsheet'!AR99))","v":0},{"$f":"IF(OR('Trust - Frontsheet'!AS99=\"\",'Trust - Frontsheet'!AS99=\"-\"),0,('Trust - Frontsheet'!AS99))","v":0},{"$f":"IF(OR('Trust - Frontsheet'!AT99=\"\",'Trust - Frontsheet'!AT99=\"-\"),0,('Trust - Frontsheet'!AT99))","v":0},{"$f":"'Trust - Frontsheet'!AC99","v":0},{"$f":"IF(OR('Trust - Frontsheet'!AD99=\"\",'Trust - Frontsheet'!AD99=\"-\"),0,('Trust - Frontsheet'!AD99))","v":0},{"$f":"IF(OR('Trust - Frontsheet'!AE99=\"\",'Trust - Frontsheet'!AE99=\"-\"),0,('Trust - Frontsheet'!AE99))","v":0},{"$f":"IF(OR('Trust - Frontsheet'!AF99=\"\",'Trust - Frontsheet'!AF99=\"-\"),0,('Trust - Frontsheet'!AF99))","v":0},{"$f":"IF(OR('Trust - Frontsheet'!AG99=\"\",'Trust - Frontsheet'!AG99=\"-\"),0,('Trust - Frontsheet'!AG99))","v":0},{"$f":"IF(OR('Trust - Frontsheet'!AH99=\"\",'Trust - Frontsheet'!AH99=\"-\"),0,('Trust - Frontsheet'!AH99))","v":0},{"$f":"IF(OR('Trust - Frontsheet'!AI99=\"\",'Trust - Frontsheet'!AI99=\"-\"),0,('Trust - Frontsheet'!AI99))","v":0},{"$f":"IF(OR('Trust - Frontsheet'!AJ99=\"\",'Trust - Frontsheet'!AJ99=\"-\"),0,('Trust - Frontsheet'!AJ99))","v":0},{"$f":"IF(A87=\"\",\"\",(IF(ISBLANK('Trust - Frontsheet'!F9),\"\",'Trust - Frontsheet'!F9)))","v":""}]
[{"$f":"IF('Trust - Frontsheet'!D100=0,\"\",IF('Trust - Frontsheet'!D100=\"\",\"\",'Trust - Frontsheet'!D100))","v":""},{"$f":"IF(ISBLANK('Trust - Frontsheet'!E100),\"\",'Trust - Frontsheet'!E100)","v":""},{"$f":"IF(ISBLANK('Trust - Frontsheet'!F100),\"\",\"'\" & 'Trust - Frontsheet'!F100 & \"'\")","v":""},{"$f":"IF(ISBLANK('Trust - Frontsheet'!G100),\"\",'Trust - Frontsheet'!G100)","v":""},{"$f":"IF(ISBLANK('Trust - Frontsheet'!H100),\"\",'Trust - Frontsheet'!H100)","v":""},{"$f":"'Trust - Frontsheet'!I100","v":0},{"$f":"'Trust - Frontsheet'!J100","v":0},{"$f":"'Trust - Frontsheet'!K100","v":0},{"$f":"'Trust - Frontsheet'!L100","v":0},{"$f":"'Trust - Frontsheet'!M100","v":0},{"$f":"'Trust - Frontsheet'!N100","v":0},{"$f":"'Trust - Frontsheet'!O100","v":0},{"$f":"'Trust - Frontsheet'!P100","v":0},{"$f":"'Trust - Frontsheet'!Q100","v":0},{"$f":"'Trust - Frontsheet'!R100","v":0},{"$f":"'Trust - Frontsheet'!S100","v":0},{"$f":"'Trust - Frontsheet'!T100","v":0},{"$f":"'Trust - Frontsheet'!U100","v":0},{"$f":"'Trust - Frontsheet'!V100","v":0},{"$f":"'Trust - Frontsheet'!W100","v":0},{"$f":"'Trust - Frontsheet'!X100","v":0},{"$f":"'Trust - Frontsheet'!Y100","v":0},{"$f":"'Trust - Frontsheet'!Z100","v":0},{"$f":"'Trust - Frontsheet'!AA100","v":0},{"$f":"'Trust - Frontsheet'!AB100","v":0},{"$f":"IF(OR('Trust - Frontsheet'!AK100=\"\",'Trust - Frontsheet'!AK100=\"-\"),0,('Trust - Frontsheet'!AK100))","v":0},{"$f":"IF(OR('Trust - Frontsheet'!AL100=\"\",'Trust - Frontsheet'!AL100=\"-\"),0,('Trust - Frontsheet'!AL100))","v":0},{"$f":"IF(OR('Trust - Frontsheet'!AM100=\"\",'Trust - Frontsheet'!AM100=\"-\"),0,('Trust - Frontsheet'!AM100))","v":0},{"$f":"IF(OR('Trust - Frontsheet'!AN100=\"\",'Trust - Frontsheet'!AN100=\"-\"),0,('Trust - Frontsheet'!AN100))","v":0},{"$f":"IF(OR('Trust - Frontsheet'!AO100=\"\",'Trust - Frontsheet'!AO100=\"-\"),0,('Trust - Frontsheet'!AO100))","v":0},{"$f":"IF(OR('Trust - Frontsheet'!AP100=\"\",'Trust - Frontsheet'!AP100=\"-\"),0,('Trust - Frontsheet'!AP100))","v":0},{"$f":"IF(OR('Trust - Frontsheet'!AQ100=\"\",'Trust - Frontsheet'!AQ100=\"-\"),0,('Trust - Frontsheet'!AQ100))","v":0},{"$f":"IF(OR('Trust - Frontsheet'!AR100=\"\",'Trust - Frontsheet'!AR100=\"-\"),0,('Trust - Frontsheet'!AR100))","v":0},{"$f":"IF(OR('Trust - Frontsheet'!AS100=\"\",'Trust - Frontsheet'!AS100=\"-\"),0,('Trust - Frontsheet'!AS100))","v":0},{"$f":"IF(OR('Trust - Frontsheet'!AT100=\"\",'Trust - Frontsheet'!AT100=\"-\"),0,('Trust - Frontsheet'!AT100))","v":0},{"$f":"'Trust - Frontsheet'!AC100","v":0},{"$f":"IF(OR('Trust - Frontsheet'!AD100=\"\",'Trust - Frontsheet'!AD100=\"-\"),0,('Trust - Frontsheet'!AD100))","v":0},{"$f":"IF(OR('Trust - Frontsheet'!AE100=\"\",'Trust - Frontsheet'!AE100=\"-\"),0,('Trust - Frontsheet'!AE100))","v":0},{"$f":"IF(OR('Trust - Frontsheet'!AF100=\"\",'Trust - Frontsheet'!AF100=\"-\"),0,('Trust - Frontsheet'!AF100))","v":0},{"$f":"IF(OR('Trust - Frontsheet'!AG100=\"\",'Trust - Frontsheet'!AG100=\"-\"),0,('Trust - Frontsheet'!AG100))","v":0},{"$f":"IF(OR('Trust - Frontsheet'!AH100=\"\",'Trust - Frontsheet'!AH100=\"-\"),0,('Trust - Frontsheet'!AH100))","v":0},{"$f":"IF(OR('Trust - Frontsheet'!AI100=\"\",'Trust - Frontsheet'!AI100=\"-\"),0,('Trust - Frontsheet'!AI100))","v":0},{"$f":"IF(OR('Trust - Frontsheet'!AJ100=\"\",'Trust - Frontsheet'!AJ100=\"-\"),0,('Trust - Frontsheet'!AJ100))","v":0},{"$f":"IF(A88=\"\",\"\",(IF(ISBLANK('Trust - Frontsheet'!F9),\"\",'Trust - Frontsheet'!F9)))","v":""}]
[{"$f":"IF('Trust - Frontsheet'!D101=0,\"\",IF('Trust - Frontsheet'!D101=\"\",\"\",'Trust - Frontsheet'!D101))","v":""},{"$f":"IF(ISBLANK('Trust - Frontsheet'!E101),\"\",'Trust - Frontsheet'!E101)","v":""},{"$f":"IF(ISBLANK('Trust - Frontsheet'!F101),\"\",\"'\" & 'Trust - Frontsheet'!F101 & \"'\")","v":""},{"$f":"IF(ISBLANK('Trust - Frontsheet'!G101),\"\",'Trust - Frontsheet'!G101)","v":""},{"$f":"IF(ISBLANK('Trust - Frontsheet'!H101),\"\",'Trust - Frontsheet'!H101)","v":""},{"$f":"'Trust - Frontsheet'!I101","v":0},{"$f":"'Trust - Frontsheet'!J101","v":0},{"$f":"'Trust - Frontsheet'!K101","v":0},{"$f":"'Trust - Frontsheet'!L101","v":0},{"$f":"'Trust - Frontsheet'!M101","v":0},{"$f":"'Trust - Frontsheet'!N101","v":0},{"$f":"'Trust - Frontsheet'!O101","v":0},{"$f":"'Trust - Frontsheet'!P101","v":0},{"$f":"'Trust - Frontsheet'!Q101","v":0},{"$f":"'Trust - Frontsheet'!R101","v":0},{"$f":"'Trust - Frontsheet'!S101","v":0},{"$f":"'Trust - Frontsheet'!T101","v":0},{"$f":"'Trust - Frontsheet'!U101","v":0},{"$f":"'Trust - Frontsheet'!V101","v":0},{"$f":"'Trust - Frontsheet'!W101","v":0},{"$f":"'Trust - Frontsheet'!X101","v":0},{"$f":"'Trust - Frontsheet'!Y101","v":0},{"$f":"'Trust - Frontsheet'!Z101","v":0},{"$f":"'Trust - Frontsheet'!AA101","v":0},{"$f":"'Trust - Frontsheet'!AB101","v":0},{"$f":"IF(OR('Trust - Frontsheet'!AK101=\"\",'Trust - Frontsheet'!AK101=\"-\"),0,('Trust - Frontsheet'!AK101))","v":0},{"$f":"IF(OR('Trust - Frontsheet'!AL101=\"\",'Trust - Frontsheet'!AL101=\"-\"),0,('Trust - Frontsheet'!AL101))","v":0},{"$f":"IF(OR('Trust - Frontsheet'!AM101=\"\",'Trust - Frontsheet'!AM101=\"-\"),0,('Trust - Frontsheet'!AM101))","v":0},{"$f":"IF(OR('Trust - Frontsheet'!AN101=\"\",'Trust - Frontsheet'!AN101=\"-\"),0,('Trust - Frontsheet'!AN101))","v":0},{"$f":"IF(OR('Trust - Frontsheet'!AO101=\"\",'Trust - Frontsheet'!AO101=\"-\"),0,('Trust - Frontsheet'!AO101))","v":0},{"$f":"IF(OR('Trust - Frontsheet'!AP101=\"\",'Trust - Frontsheet'!AP101=\"-\"),0,('Trust - Frontsheet'!AP101))","v":0},{"$f":"IF(OR('Trust - Frontsheet'!AQ101=\"\",'Trust - Frontsheet'!AQ101=\"-\"),0,('Trust - Frontsheet'!AQ101))","v":0},{"$f":"IF(OR('Trust - Frontsheet'!AR101=\"\",'Trust - Frontsheet'!AR101=\"-\"),0,('Trust - Frontsheet'!AR101))","v":0},{"$f":"IF(OR('Trust - Frontsheet'!AS101=\"\",'Trust - Frontsheet'!AS101=\"-\"),0,('Trust - Frontsheet'!AS101))","v":0},{"$f":"IF(OR('Trust - Frontsheet'!AT101=\"\",'Trust - Frontsheet'!AT101=\"-\"),0,('Trust - Frontsheet'!AT101))","v":0},{"$f":"'Trust - Frontsheet'!AC101","v":0},{"$f":"IF(OR('Trust - Frontsheet'!AD101=\"\",'Trust - Frontsheet'!AD101=\"-\"),0,('Trust - Frontsheet'!AD101))","v":0},{"$f":"IF(OR('Trust - Frontsheet'!AE101=\"\",'Trust - Frontsheet'!AE101=\"-\"),0,('Trust - Frontsheet'!AE101))","v":0},{"$f":"IF(OR('Trust - Frontsheet'!AF101=\"\",'Trust - Frontsheet'!AF101=\"-\"),0,('Trust - Frontsheet'!AF101))","v":0},{"$f":"IF(OR('Trust - Frontsheet'!AG101=\"\",'Trust - Frontsheet'!AG101=\"-\"),0,('Trust - Frontsheet'!AG101))","v":0},{"$f":"IF(OR('Trust - Frontsheet'!AH101=\"\",'Trust - Frontsheet'!AH101=\"-\"),0,('Trust - Frontsheet'!AH101))","v":0},{"$f":"IF(OR('Trust - Frontsheet'!AI101=\"\",'Trust - Frontsheet'!AI101=\"-\"),0,('Trust - Frontsheet'!AI101))","v":0},{"$f":"IF(OR('Trust - Frontsheet'!AJ101=\"\",'Trust - Frontsheet'!AJ101=\"-\"),0,('Trust - Frontsheet'!AJ101))","v":0},{"$f":"IF(A89=\"\",\"\",(IF(ISBLANK('Trust - Frontsheet'!F9),\"\",'Trust - Frontsheet'!F9)))","v":""}]
[{"$f":"IF('Trust - Frontsheet'!D102=0,\"\",IF('Trust - Frontsheet'!D102=\"\",\"\",'Trust - Frontsheet'!D102))","v":""},{"$f":"IF(ISBLANK('Trust - Frontsheet'!E102),\"\",'Trust - Frontsheet'!E102)","v":""},{"$f":"IF(ISBLANK('Trust - Frontsheet'!F102),\"\",\"'\" & 'Trust - Frontsheet'!F102 & \"'\")","v":""},{"$f":"IF(ISBLANK('Trust - Frontsheet'!G102),\"\",'Trust - Frontsheet'!G102)","v":""},{"$f":"IF(ISBLANK('Trust - Frontsheet'!H102),\"\",'Trust - Frontsheet'!H102)","v":""},{"$f":"'Trust - Frontsheet'!I102","v":0},{"$f":"'Trust - Frontsheet'!J102","v":0},{"$f":"'Trust - Frontsheet'!K102","v":0},{"$f":"'Trust - Frontsheet'!L102","v":0},{"$f":"'Trust - Frontsheet'!M102","v":0},{"$f":"'Trust - Frontsheet'!N102","v":0},{"$f":"'Trust - Frontsheet'!O102","v":0},{"$f":"'Trust - Frontsheet'!P102","v":0},{"$f":"'Trust - Frontsheet'!Q102","v":0},{"$f":"'Trust - Frontsheet'!R102","v":0},{"$f":"'Trust - Frontsheet'!S102","v":0},{"$f":"'Trust - Frontsheet'!T102","v":0},{"$f":"'Trust - Frontsheet'!U102","v":0},{"$f":"'Trust - Frontsheet'!V102","v":0},{"$f":"'Trust - Frontsheet'!W102","v":0},{"$f":"'Trust - Frontsheet'!X102","v":0},{"$f":"'Trust - Frontsheet'!Y102","v":0},{"$f":"'Trust - Frontsheet'!Z102","v":0},{"$f":"'Trust - Frontsheet'!AA102","v":0},{"$f":"'Trust - Frontsheet'!AB102","v":0},{"$f":"IF(OR('Trust - Frontsheet'!AK102=\"\",'Trust - Frontsheet'!AK102=\"-\"),0,('Trust - Frontsheet'!AK102))","v":0},{"$f":"IF(OR('Trust - Frontsheet'!AL102=\"\",'Trust - Frontsheet'!AL102=\"-\"),0,('Trust - Frontsheet'!AL102))","v":0},{"$f":"IF(OR('Trust - Frontsheet'!AM102=\"\",'Trust - Frontsheet'!AM102=\"-\"),0,('Trust - Frontsheet'!AM102))","v":0},{"$f":"IF(OR('Trust - Frontsheet'!AN102=\"\",'Trust - Frontsheet'!AN102=\"-\"),0,('Trust - Frontsheet'!AN102))","v":0},{"$f":"IF(OR('Trust - Frontsheet'!AO102=\"\",'Trust - Frontsheet'!AO102=\"-\"),0,('Trust - Frontsheet'!AO102))","v":0},{"$f":"IF(OR('Trust - Frontsheet'!AP102=\"\",'Trust - Frontsheet'!AP102=\"-\"),0,('Trust - Frontsheet'!AP102))","v":0},{"$f":"IF(OR('Trust - Frontsheet'!AQ102=\"\",'Trust - Frontsheet'!AQ102=\"-\"),0,('Trust - Frontsheet'!AQ102))","v":0},{"$f":"IF(OR('Trust - Frontsheet'!AR102=\"\",'Trust - Frontsheet'!AR102=\"-\"),0,('Trust - Frontsheet'!AR102))","v":0},{"$f":"IF(OR('Trust - Frontsheet'!AS102=\"\",'Trust - Frontsheet'!AS102=\"-\"),0,('Trust - Frontsheet'!AS102))","v":0},{"$f":"IF(OR('Trust - Frontsheet'!AT102=\"\",'Trust - Frontsheet'!AT102=\"-\"),0,('Trust - Frontsheet'!AT102))","v":0},{"$f":"'Trust - Frontsheet'!AC102","v":0},{"$f":"IF(OR('Trust - Frontsheet'!AD102=\"\",'Trust - Frontsheet'!AD102=\"-\"),0,('Trust - Frontsheet'!AD102))","v":0},{"$f":"IF(OR('Trust - Frontsheet'!AE102=\"\",'Trust - Frontsheet'!AE102=\"-\"),0,('Trust - Frontsheet'!AE102))","v":0},{"$f":"IF(OR('Trust - Frontsheet'!AF102=\"\",'Trust - Frontsheet'!AF102=\"-\"),0,('Trust - Frontsheet'!AF102))","v":0},{"$f":"IF(OR('Trust - Frontsheet'!AG102=\"\",'Trust - Frontsheet'!AG102=\"-\"),0,('Trust - Frontsheet'!AG102))","v":0},{"$f":"IF(OR('Trust - Frontsheet'!AH102=\"\",'Trust - Frontsheet'!AH102=\"-\"),0,('Trust - Frontsheet'!AH102))","v":0},{"$f":"IF(OR('Trust - Frontsheet'!AI102=\"\",'Trust - Frontsheet'!AI102=\"-\"),0,('Trust - Frontsheet'!AI102))","v":0},{"$f":"IF(OR('Trust - Frontsheet'!AJ102=\"\",'Trust - Frontsheet'!AJ102=\"-\"),0,('Trust - Frontsheet'!AJ102))","v":0},{"$f":"IF(A90=\"\",\"\",(IF(ISBLANK('Trust - Frontsheet'!F9),\"\",'Trust - Frontsheet'!F9)))","v":""}]
[{"$f":"IF('Trust - Frontsheet'!D103=0,\"\",IF('Trust - Frontsheet'!D103=\"\",\"\",'Trust - Frontsheet'!D103))","v":""},{"$f":"IF(ISBLANK('Trust - Frontsheet'!E103),\"\",'Trust - Frontsheet'!E103)","v":""},{"$f":"IF(ISBLANK('Trust - Frontsheet'!F103),\"\",\"'\" & 'Trust - Frontsheet'!F103 & \"'\")","v":""},{"$f":"IF(ISBLANK('Trust - Frontsheet'!G103),\"\",'Trust - Frontsheet'!G103)","v":""},{"$f":"IF(ISBLANK('Trust - Frontsheet'!H103),\"\",'Trust - Frontsheet'!H103)","v":""},{"$f":"'Trust - Frontsheet'!I103","v":0},{"$f":"'Trust - Frontsheet'!J103","v":0},{"$f":"'Trust - Frontsheet'!K103","v":0},{"$f":"'Trust - Frontsheet'!L103","v":0},{"$f":"'Trust - Frontsheet'!M103","v":0},{"$f":"'Trust - Frontsheet'!N103","v":0},{"$f":"'Trust - Frontsheet'!O103","v":0},{"$f":"'Trust - Frontsheet'!P103","v":0},{"$f":"'Trust - Frontsheet'!Q103","v":0},{"$f":"'Trust - Frontsheet'!R103","v":0},{"$f":"'Trust - Frontsheet'!S103","v":0},{"$f":"'Trust - Frontsheet'!T103","v":0},{"$f":"'Trust - Frontsheet'!U103","v":0},{"$f":"'Trust - Frontsheet'!V103","v":0},{"$f":"'Trust - Frontsheet'!W103","v":0},{"$f":"'Trust - Frontsheet'!X103","v":0},{"$f":"'Trust - Frontsheet'!Y103","v":0},{"$f":"'Trust - Frontsheet'!Z103","v":0},{"$f":"'Trust - Frontsheet'!AA103","v":0},{"$f":"'Trust - Frontsheet'!AB103","v":0},{"$f":"IF(OR('Trust - Frontsheet'!AK103=\"\",'Trust - Frontsheet'!AK103=\"-\"),0,('Trust - Frontsheet'!AK103))","v":0},{"$f":"IF(OR('Trust - Frontsheet'!AL103=\"\",'Trust - Frontsheet'!AL103=\"-\"),0,('Trust - Frontsheet'!AL103))","v":0},{"$f":"IF(OR('Trust - Frontsheet'!AM103=\"\",'Trust - Frontsheet'!AM103=\"-\"),0,('Trust - Frontsheet'!AM103))","v":0},{"$f":"IF(OR('Trust - Frontsheet'!AN103=\"\",'Trust - Frontsheet'!AN103=\"-\"),0,('Trust - Frontsheet'!AN103))","v":0},{"$f":"IF(OR('Trust - Frontsheet'!AO103=\"\",'Trust - Frontsheet'!AO103=\"-\"),0,('Trust - Frontsheet'!AO103))","v":0},{"$f":"IF(OR('Trust - Frontsheet'!AP103=\"\",'Trust - Frontsheet'!AP103=\"-\"),0,('Trust - Frontsheet'!AP103))","v":0},{"$f":"IF(OR('Trust - Frontsheet'!AQ103=\"\",'Trust - Frontsheet'!AQ103=\"-\"),0,('Trust - Frontsheet'!AQ103))","v":0},{"$f":"IF(OR('Trust - Frontsheet'!AR103=\"\",'Trust - Frontsheet'!AR103=\"-\"),0,('Trust - Frontsheet'!AR103))","v":0},{"$f":"IF(OR('Trust - Frontsheet'!AS103=\"\",'Trust - Frontsheet'!AS103=\"-\"),0,('Trust - Frontsheet'!AS103))","v":0},{"$f":"IF(OR('Trust - Frontsheet'!AT103=\"\",'Trust - Frontsheet'!AT103=\"-\"),0,('Trust - Frontsheet'!AT103))","v":0},{"$f":"'Trust - Frontsheet'!AC103","v":0},{"$f":"IF(OR('Trust - Frontsheet'!AD103=\"\",'Trust - Frontsheet'!AD103=\"-\"),0,('Trust - Frontsheet'!AD103))","v":0},{"$f":"IF(OR('Trust - Frontsheet'!AE103=\"\",'Trust - Frontsheet'!AE103=\"-\"),0,('Trust - Frontsheet'!AE103))","v":0},{"$f":"IF(OR('Trust - Frontsheet'!AF103=\"\",'Trust - Frontsheet'!AF103=\"-\"),0,('Trust - Frontsheet'!AF103))","v":0},{"$f":"IF(OR('Trust - Frontsheet'!AG103=\"\",'Trust - Frontsheet'!AG103=\"-\"),0,('Trust - Frontsheet'!AG103))","v":0},{"$f":"IF(OR('Trust - Frontsheet'!AH103=\"\",'Trust - Frontsheet'!AH103=\"-\"),0,('Trust - Frontsheet'!AH103))","v":0},{"$f":"IF(OR('Trust - Frontsheet'!AI103=\"\",'Trust - Frontsheet'!AI103=\"-\"),0,('Trust - Frontsheet'!AI103))","v":0},{"$f":"IF(OR('Trust - Frontsheet'!AJ103=\"\",'Trust - Frontsheet'!AJ103=\"-\"),0,('Trust - Frontsheet'!AJ103))","v":0},{"$f":"IF(A91=\"\",\"\",(IF(ISBLANK('Trust - Frontsheet'!F9),\"\",'Trust - Frontsheet'!F9)))","v":""}]
[{"$f":"IF('Trust - Frontsheet'!D104=0,\"\",IF('Trust - Frontsheet'!D104=\"\",\"\",'Trust - Frontsheet'!D104))","v":""},{"$f":"IF(ISBLANK('Trust - Frontsheet'!E104),\"\",'Trust - Frontsheet'!E104)","v":""},{"$f":"IF(ISBLANK('Trust - Frontsheet'!F104),\"\",\"'\" & 'Trust - Frontsheet'!F104 & \"'\")","v":""},{"$f":"IF(ISBLANK('Trust - Frontsheet'!G104),\"\",'Trust - Frontsheet'!G104)","v":""},{"$f":"IF(ISBLANK('Trust - Frontsheet'!H104),\"\",'Trust - Frontsheet'!H104)","v":""},{"$f":"'Trust - Frontsheet'!I104","v":0},{"$f":"'Trust - Frontsheet'!J104","v":0},{"$f":"'Trust - Frontsheet'!K104","v":0},{"$f":"'Trust - Frontsheet'!L104","v":0},{"$f":"'Trust - Frontsheet'!M104","v":0},{"$f":"'Trust - Frontsheet'!N104","v":0},{"$f":"'Trust - Frontsheet'!O104","v":0},{"$f":"'Trust - Frontsheet'!P104","v":0},{"$f":"'Trust - Frontsheet'!Q104","v":0},{"$f":"'Trust - Frontsheet'!R104","v":0},{"$f":"'Trust - Frontsheet'!S104","v":0},{"$f":"'Trust - Frontsheet'!T104","v":0},{"$f":"'Trust - Frontsheet'!U104","v":0},{"$f":"'Trust - Frontsheet'!V104","v":0},{"$f":"'Trust - Frontsheet'!W104","v":0},{"$f":"'Trust - Frontsheet'!X104","v":0},{"$f":"'Trust - Frontsheet'!Y104","v":0},{"$f":"'Trust - Frontsheet'!Z104","v":0},{"$f":"'Trust - Frontsheet'!AA104","v":0},{"$f":"'Trust - Frontsheet'!AB104","v":0},{"$f":"IF(OR('Trust - Frontsheet'!AK104=\"\",'Trust - Frontsheet'!AK104=\"-\"),0,('Trust - Frontsheet'!AK104))","v":0},{"$f":"IF(OR('Trust - Frontsheet'!AL104=\"\",'Trust - Frontsheet'!AL104=\"-\"),0,('Trust - Frontsheet'!AL104))","v":0},{"$f":"IF(OR('Trust - Frontsheet'!AM104=\"\",'Trust - Frontsheet'!AM104=\"-\"),0,('Trust - Frontsheet'!AM104))","v":0},{"$f":"IF(OR('Trust - Frontsheet'!AN104=\"\",'Trust - Frontsheet'!AN104=\"-\"),0,('Trust - Frontsheet'!AN104))","v":0},{"$f":"IF(OR('Trust - Frontsheet'!AO104=\"\",'Trust - Frontsheet'!AO104=\"-\"),0,('Trust - Frontsheet'!AO104))","v":0},{"$f":"IF(OR('Trust - Frontsheet'!AP104=\"\",'Trust - Frontsheet'!AP104=\"-\"),0,('Trust - Frontsheet'!AP104))","v":0},{"$f":"IF(OR('Trust - Frontsheet'!AQ104=\"\",'Trust - Frontsheet'!AQ104=\"-\"),0,('Trust - Frontsheet'!AQ104))","v":0},{"$f":"IF(OR('Trust - Frontsheet'!AR104=\"\",'Trust - Frontsheet'!AR104=\"-\"),0,('Trust - Frontsheet'!AR104))","v":0},{"$f":"IF(OR('Trust - Frontsheet'!AS104=\"\",'Trust - Frontsheet'!AS104=\"-\"),0,('Trust - Frontsheet'!AS104))","v":0},{"$f":"IF(OR('Trust - Frontsheet'!AT104=\"\",'Trust - Frontsheet'!AT104=\"-\"),0,('Trust - Frontsheet'!AT104))","v":0},{"$f":"'Trust - Frontsheet'!AC104","v":0},{"$f":"IF(OR('Trust - Frontsheet'!AD104=\"\",'Trust - Frontsheet'!AD104=\"-\"),0,('Trust - Frontsheet'!AD104))","v":0},{"$f":"IF(OR('Trust - Frontsheet'!AE104=\"\",'Trust - Frontsheet'!AE104=\"-\"),0,('Trust - Frontsheet'!AE104))","v":0},{"$f":"IF(OR('Trust - Frontsheet'!AF104=\"\",'Trust - Frontsheet'!AF104=\"-\"),0,('Trust - Frontsheet'!AF104))","v":0},{"$f":"IF(OR('Trust - Frontsheet'!AG104=\"\",'Trust - Frontsheet'!AG104=\"-\"),0,('Trust - Frontsheet'!AG104))","v":0},{"$f":"IF(OR('Trust - Frontsheet'!AH104=\"\",'Trust - Frontsheet'!AH104=\"-\"),0,('Trust - Frontsheet'!AH104))","v":0},{"$f":"IF(OR('Trust - Frontsheet'!AI104=\"\",'Trust - Frontsheet'!AI104=\"-\"),0,('Trust - Frontsheet'!AI104))","v":0},{"$f":"IF(OR('Trust - Frontsheet'!AJ104=\"\",'Trust - Frontsheet'!AJ104=\"-\"),0,('Trust - Frontsheet'!AJ104))","v":0},{"$f":"IF(A92=\"\",\"\",(IF(ISBLANK('Trust - Frontsheet'!F9),\"\",'Trust - Frontsheet'!F9)))","v":""}]
[{"$f":"IF('Trust - Frontsheet'!D105=0,\"\",IF('Trust - Frontsheet'!D105=\"\",\"\",'Trust - Frontsheet'!D105))","v":""},{"$f":"IF(ISBLANK('Trust - Frontsheet'!E105),\"\",'Trust - Frontsheet'!E105)","v":""},{"$f":"IF(ISBLANK('Trust - Frontsheet'!F105),\"\",\"'\" & 'Trust - Frontsheet'!F105 & \"'\")","v":""},{"$f":"IF(ISBLANK('Trust - Frontsheet'!G105),\"\",'Trust - Frontsheet'!G105)","v":""},{"$f":"IF(ISBLANK('Trust - Frontsheet'!H105),\"\",'Trust - Frontsheet'!H105)","v":""},{"$f":"'Trust - Frontsheet'!I105","v":0},{"$f":"'Trust - Frontsheet'!J105","v":0},{"$f":"'Trust - Frontsheet'!K105","v":0},{"$f":"'Trust - Frontsheet'!L105","v":0},{"$f":"'Trust - Frontsheet'!M105","v":0},{"$f":"'Trust - Frontsheet'!N105","v":0},{"$f":"'Trust - Frontsheet'!O105","v":0},{"$f":"'Trust - Frontsheet'!P105","v":0},{"$f":"'Trust - Frontsheet'!Q105","v":0},{"$f":"'Trust - Frontsheet'!R105","v":0},{"$f":"'Trust - Frontsheet'!S105","v":0},{"$f":"'Trust - Frontsheet'!T105","v":0},{"$f":"'Trust - Frontsheet'!U105","v":0},{"$f":"'Trust - Frontsheet'!V105","v":0},{"$f":"'Trust - Frontsheet'!W105","v":0},{"$f":"'Trust - Frontsheet'!X105","v":0},{"$f":"'Trust - Frontsheet'!Y105","v":0},{"$f":"'Trust - Frontsheet'!Z105","v":0},{"$f":"'Trust - Frontsheet'!AA105","v":0},{"$f":"'Trust - Frontsheet'!AB105","v":0},{"$f":"IF(OR('Trust - Frontsheet'!AK105=\"\",'Trust - Frontsheet'!AK105=\"-\"),0,('Trust - Frontsheet'!AK105))","v":0},{"$f":"IF(OR('Trust - Frontsheet'!AL105=\"\",'Trust - Frontsheet'!AL105=\"-\"),0,('Trust - Frontsheet'!AL105))","v":0},{"$f":"IF(OR('Trust - Frontsheet'!AM105=\"\",'Trust - Frontsheet'!AM105=\"-\"),0,('Trust - Frontsheet'!AM105))","v":0},{"$f":"IF(OR('Trust - Frontsheet'!AN105=\"\",'Trust - Frontsheet'!AN105=\"-\"),0,('Trust - Frontsheet'!AN105))","v":0},{"$f":"IF(OR('Trust - Frontsheet'!AO105=\"\",'Trust - Frontsheet'!AO105=\"-\"),0,('Trust - Frontsheet'!AO105))","v":0},{"$f":"IF(OR('Trust - Frontsheet'!AP105=\"\",'Trust - Frontsheet'!AP105=\"-\"),0,('Trust - Frontsheet'!AP105))","v":0},{"$f":"IF(OR('Trust - Frontsheet'!AQ105=\"\",'Trust - Frontsheet'!AQ105=\"-\"),0,('Trust - Frontsheet'!AQ105))","v":0},{"$f":"IF(OR('Trust - Frontsheet'!AR105=\"\",'Trust - Frontsheet'!AR105=\"-\"),0,('Trust - Frontsheet'!AR105))","v":0},{"$f":"IF(OR('Trust - Frontsheet'!AS105=\"\",'Trust - Frontsheet'!AS105=\"-\"),0,('Trust - Frontsheet'!AS105))","v":0},{"$f":"IF(OR('Trust - Frontsheet'!AT105=\"\",'Trust - Frontsheet'!AT105=\"-\"),0,('Trust - Frontsheet'!AT105))","v":0},{"$f":"'Trust - Frontsheet'!AC105","v":0},{"$f":"IF(OR('Trust - Frontsheet'!AD105=\"\",'Trust - Frontsheet'!AD105=\"-\"),0,('Trust - Frontsheet'!AD105))","v":0},{"$f":"IF(OR('Trust - Frontsheet'!AE105=\"\",'Trust - Frontsheet'!AE105=\"-\"),0,('Trust - Frontsheet'!AE105))","v":0},{"$f":"IF(OR('Trust - Frontsheet'!AF105=\"\",'Trust - Frontsheet'!AF105=\"-\"),0,('Trust - Frontsheet'!AF105))","v":0},{"$f":"IF(OR('Trust - Frontsheet'!AG105=\"\",'Trust - Frontsheet'!AG105=\"-\"),0,('Trust - Frontsheet'!AG105))","v":0},{"$f":"IF(OR('Trust - Frontsheet'!AH105=\"\",'Trust - Frontsheet'!AH105=\"-\"),0,('Trust - Frontsheet'!AH105))","v":0},{"$f":"IF(OR('Trust - Frontsheet'!AI105=\"\",'Trust - Frontsheet'!AI105=\"-\"),0,('Trust - Frontsheet'!AI105))","v":0},{"$f":"IF(OR('Trust - Frontsheet'!AJ105=\"\",'Trust - Frontsheet'!AJ105=\"-\"),0,('Trust - Frontsheet'!AJ105))","v":0},{"$f":"IF(A93=\"\",\"\",(IF(ISBLANK('Trust - Frontsheet'!F9),\"\",'Trust - Frontsheet'!F9)))","v":""}]
[{"$f":"IF('Trust - Frontsheet'!D106=0,\"\",IF('Trust - Frontsheet'!D106=\"\",\"\",'Trust - Frontsheet'!D106))","v":""},{"$f":"IF(ISBLANK('Trust - Frontsheet'!E106),\"\",'Trust - Frontsheet'!E106)","v":""},{"$f":"IF(ISBLANK('Trust - Frontsheet'!F106),\"\",\"'\" & 'Trust - Frontsheet'!F106 & \"'\")","v":""},{"$f":"IF(ISBLANK('Trust - Frontsheet'!G106),\"\",'Trust - Frontsheet'!G106)","v":""},{"$f":"IF(ISBLANK('Trust - Frontsheet'!H106),\"\",'Trust - Frontsheet'!H106)","v":""},{"$f":"'Trust - Frontsheet'!I106","v":0},{"$f":"'Trust - Frontsheet'!J106","v":0},{"$f":"'Trust - Frontsheet'!K106","v":0},{"$f":"'Trust - Frontsheet'!L106","v":0},{"$f":"'Trust - Frontsheet'!M106","v":0},{"$f":"'Trust - Frontsheet'!N106","v":0},{"$f":"'Trust - Frontsheet'!O106","v":0},{"$f":"'Trust - Frontsheet'!P106","v":0},{"$f":"'Trust - Frontsheet'!Q106","v":0},{"$f":"'Trust - Frontsheet'!R106","v":0},{"$f":"'Trust - Frontsheet'!S106","v":0},{"$f":"'Trust - Frontsheet'!T106","v":0},{"$f":"'Trust - Frontsheet'!U106","v":0},{"$f":"'Trust - Frontsheet'!V106","v":0},{"$f":"'Trust - Frontsheet'!W106","v":0},{"$f":"'Trust - Frontsheet'!X106","v":0},{"$f":"'Trust - Frontsheet'!Y106","v":0},{"$f":"'Trust - Frontsheet'!Z106","v":0},{"$f":"'Trust - Frontsheet'!AA106","v":0},{"$f":"'Trust - Frontsheet'!AB106","v":0},{"$f":"IF(OR('Trust - Frontsheet'!AK106=\"\",'Trust - Frontsheet'!AK106=\"-\"),0,('Trust - Frontsheet'!AK106))","v":0},{"$f":"IF(OR('Trust - Frontsheet'!AL106=\"\",'Trust - Frontsheet'!AL106=\"-\"),0,('Trust - Frontsheet'!AL106))","v":0},{"$f":"IF(OR('Trust - Frontsheet'!AM106=\"\",'Trust - Frontsheet'!AM106=\"-\"),0,('Trust - Frontsheet'!AM106))","v":0},{"$f":"IF(OR('Trust - Frontsheet'!AN106=\"\",'Trust - Frontsheet'!AN106=\"-\"),0,('Trust - Frontsheet'!AN106))","v":0},{"$f":"IF(OR('Trust - Frontsheet'!AO106=\"\",'Trust - Frontsheet'!AO106=\"-\"),0,('Trust - Frontsheet'!AO106))","v":0},{"$f":"IF(OR('Trust - Frontsheet'!AP106=\"\",'Trust - Frontsheet'!AP106=\"-\"),0,('Trust - Frontsheet'!AP106))","v":0},{"$f":"IF(OR('Trust - Frontsheet'!AQ106=\"\",'Trust - Frontsheet'!AQ106=\"-\"),0,('Trust - Frontsheet'!AQ106))","v":0},{"$f":"IF(OR('Trust - Frontsheet'!AR106=\"\",'Trust - Frontsheet'!AR106=\"-\"),0,('Trust - Frontsheet'!AR106))","v":0},{"$f":"IF(OR('Trust - Frontsheet'!AS106=\"\",'Trust - Frontsheet'!AS106=\"-\"),0,('Trust - Frontsheet'!AS106))","v":0},{"$f":"IF(OR('Trust - Frontsheet'!AT106=\"\",'Trust - Frontsheet'!AT106=\"-\"),0,('Trust - Frontsheet'!AT106))","v":0},{"$f":"'Trust - Frontsheet'!AC106","v":0},{"$f":"IF(OR('Trust - Frontsheet'!AD106=\"\",'Trust - Frontsheet'!AD106=\"-\"),0,('Trust - Frontsheet'!AD106))","v":0},{"$f":"IF(OR('Trust - Frontsheet'!AE106=\"\",'Trust - Frontsheet'!AE106=\"-\"),0,('Trust - Frontsheet'!AE106))","v":0},{"$f":"IF(OR('Trust - Frontsheet'!AF106=\"\",'Trust - Frontsheet'!AF106=\"-\"),0,('Trust - Frontsheet'!AF106))","v":0},{"$f":"IF(OR('Trust - Frontsheet'!AG106=\"\",'Trust - Frontsheet'!AG106=\"-\"),0,('Trust - Frontsheet'!AG106))","v":0},{"$f":"IF(OR('Trust - Frontsheet'!AH106=\"\",'Trust - Frontsheet'!AH106=\"-\"),0,('Trust - Frontsheet'!AH106))","v":0},{"$f":"IF(OR('Trust - Frontsheet'!AI106=\"\",'Trust - Frontsheet'!AI106=\"-\"),0,('Trust - Frontsheet'!AI106))","v":0},{"$f":"IF(OR('Trust - Frontsheet'!AJ106=\"\",'Trust - Frontsheet'!AJ106=\"-\"),0,('Trust - Frontsheet'!AJ106))","v":0},{"$f":"IF(A94=\"\",\"\",(IF(ISBLANK('Trust - Frontsheet'!F9),\"\",'Trust - Frontsheet'!F9)))","v":""}]
[{"$f":"IF('Trust - Frontsheet'!D107=0,\"\",IF('Trust - Frontsheet'!D107=\"\",\"\",'Trust - Frontsheet'!D107))","v":""},{"$f":"IF(ISBLANK('Trust - Frontsheet'!E107),\"\",'Trust - Frontsheet'!E107)","v":""},{"$f":"IF(ISBLANK('Trust - Frontsheet'!F107),\"\",\"'\" & 'Trust - Frontsheet'!F107 & \"'\")","v":""},{"$f":"IF(ISBLANK('Trust - Frontsheet'!G107),\"\",'Trust - Frontsheet'!G107)","v":""},{"$f":"IF(ISBLANK('Trust - Frontsheet'!H107),\"\",'Trust - Frontsheet'!H107)","v":""},{"$f":"'Trust - Frontsheet'!I107","v":0},{"$f":"'Trust - Frontsheet'!J107","v":0},{"$f":"'Trust - Frontsheet'!K107","v":0},{"$f":"'Trust - Frontsheet'!L107","v":0},{"$f":"'Trust - Frontsheet'!M107","v":0},{"$f":"'Trust - Frontsheet'!N107","v":0},{"$f":"'Trust - Frontsheet'!O107","v":0},{"$f":"'Trust - Frontsheet'!P107","v":0},{"$f":"'Trust - Frontsheet'!Q107","v":0},{"$f":"'Trust - Frontsheet'!R107","v":0},{"$f":"'Trust - Frontsheet'!S107","v":0},{"$f":"'Trust - Frontsheet'!T107","v":0},{"$f":"'Trust - Frontsheet'!U107","v":0},{"$f":"'Trust - Frontsheet'!V107","v":0},{"$f":"'Trust - Frontsheet'!W107","v":0},{"$f":"'Trust - Frontsheet'!X107","v":0},{"$f":"'Trust - Frontsheet'!Y107","v":0},{"$f":"'Trust - Frontsheet'!Z107","v":0},{"$f":"'Trust - Frontsheet'!AA107","v":0},{"$f":"'Trust - Frontsheet'!AB107","v":0},{"$f":"IF(OR('Trust - Frontsheet'!AK107=\"\",'Trust - Frontsheet'!AK107=\"-\"),0,('Trust - Frontsheet'!AK107))","v":0},{"$f":"IF(OR('Trust - Frontsheet'!AL107=\"\",'Trust - Frontsheet'!AL107=\"-\"),0,('Trust - Frontsheet'!AL107))","v":0},{"$f":"IF(OR('Trust - Frontsheet'!AM107=\"\",'Trust - Frontsheet'!AM107=\"-\"),0,('Trust - Frontsheet'!AM107))","v":0},{"$f":"IF(OR('Trust - Frontsheet'!AN107=\"\",'Trust - Frontsheet'!AN107=\"-\"),0,('Trust - Frontsheet'!AN107))","v":0},{"$f":"IF(OR('Trust - Frontsheet'!AO107=\"\",'Trust - Frontsheet'!AO107=\"-\"),0,('Trust - Frontsheet'!AO107))","v":0},{"$f":"IF(OR('Trust - Frontsheet'!AP107=\"\",'Trust - Frontsheet'!AP107=\"-\"),0,('Trust - Frontsheet'!AP107))","v":0},{"$f":"IF(OR('Trust - Frontsheet'!AQ107=\"\",'Trust - Frontsheet'!AQ107=\"-\"),0,('Trust - Frontsheet'!AQ107))","v":0},{"$f":"IF(OR('Trust - Frontsheet'!AR107=\"\",'Trust - Frontsheet'!AR107=\"-\"),0,('Trust - Frontsheet'!AR107))","v":0},{"$f":"IF(OR('Trust - Frontsheet'!AS107=\"\",'Trust - Frontsheet'!AS107=\"-\"),0,('Trust - Frontsheet'!AS107))","v":0},{"$f":"IF(OR('Trust - Frontsheet'!AT107=\"\",'Trust - Frontsheet'!AT107=\"-\"),0,('Trust - Frontsheet'!AT107))","v":0},{"$f":"'Trust - Frontsheet'!AC107","v":0},{"$f":"IF(OR('Trust - Frontsheet'!AD107=\"\",'Trust - Frontsheet'!AD107=\"-\"),0,('Trust - Frontsheet'!AD107))","v":0},{"$f":"IF(OR('Trust - Frontsheet'!AE107=\"\",'Trust - Frontsheet'!AE107=\"-\"),0,('Trust - Frontsheet'!AE107))","v":0},{"$f":"IF(OR('Trust - Frontsheet'!AF107=\"\",'Trust - Frontsheet'!AF107=\"-\"),0,('Trust - Frontsheet'!AF107))","v":0},{"$f":"IF(OR('Trust - Frontsheet'!AG107=\"\",'Trust - Frontsheet'!AG107=\"-\"),0,('Trust - Frontsheet'!AG107))","v":0},{"$f":"IF(OR('Trust - Frontsheet'!AH107=\"\",'Trust - Frontsheet'!AH107=\"-\"),0,('Trust - Frontsheet'!AH107))","v":0},{"$f":"IF(OR('Trust - Frontsheet'!AI107=\"\",'Trust - Frontsheet'!AI107=\"-\"),0,('Trust - Frontsheet'!AI107))","v":0},{"$f":"IF(OR('Trust - Frontsheet'!AJ107=\"\",'Trust - Frontsheet'!AJ107=\"-\"),0,('Trust - Frontsheet'!AJ107))","v":0},{"$f":"IF(A95=\"\",\"\",(IF(ISBLANK('Trust - Frontsheet'!F9),\"\",'Trust - Frontsheet'!F9)))","v":""}]
[{"$f":"IF('Trust - Frontsheet'!D108=0,\"\",IF('Trust - Frontsheet'!D108=\"\",\"\",'Trust - Frontsheet'!D108))","v":""},{"$f":"IF(ISBLANK('Trust - Frontsheet'!E108),\"\",'Trust - Frontsheet'!E108)","v":""},{"$f":"IF(ISBLANK('Trust - Frontsheet'!F108),\"\",\"'\" & 'Trust - Frontsheet'!F108 & \"'\")","v":""},{"$f":"IF(ISBLANK('Trust - Frontsheet'!G108),\"\",'Trust - Frontsheet'!G108)","v":""},{"$f":"IF(ISBLANK('Trust - Frontsheet'!H108),\"\",'Trust - Frontsheet'!H108)","v":""},{"$f":"'Trust - Frontsheet'!I108","v":0},{"$f":"'Trust - Frontsheet'!J108","v":0},{"$f":"'Trust - Frontsheet'!K108","v":0},{"$f":"'Trust - Frontsheet'!L108","v":0},{"$f":"'Trust - Frontsheet'!M108","v":0},{"$f":"'Trust - Frontsheet'!N108","v":0},{"$f":"'Trust - Frontsheet'!O108","v":0},{"$f":"'Trust - Frontsheet'!P108","v":0},{"$f":"'Trust - Frontsheet'!Q108","v":0},{"$f":"'Trust - Frontsheet'!R108","v":0},{"$f":"'Trust - Frontsheet'!S108","v":0},{"$f":"'Trust - Frontsheet'!T108","v":0},{"$f":"'Trust - Frontsheet'!U108","v":0},{"$f":"'Trust - Frontsheet'!V108","v":0},{"$f":"'Trust - Frontsheet'!W108","v":0},{"$f":"'Trust - Frontsheet'!X108","v":0},{"$f":"'Trust - Frontsheet'!Y108","v":0},{"$f":"'Trust - Frontsheet'!Z108","v":0},{"$f":"'Trust - Frontsheet'!AA108","v":0},{"$f":"'Trust - Frontsheet'!AB108","v":0},{"$f":"IF(OR('Trust - Frontsheet'!AK108=\"\",'Trust - Frontsheet'!AK108=\"-\"),0,('Trust - Frontsheet'!AK108))","v":0},{"$f":"IF(OR('Trust - Frontsheet'!AL108=\"\",'Trust - Frontsheet'!AL108=\"-\"),0,('Trust - Frontsheet'!AL108))","v":0},{"$f":"IF(OR('Trust - Frontsheet'!AM108=\"\",'Trust - Frontsheet'!AM108=\"-\"),0,('Trust - Frontsheet'!AM108))","v":0},{"$f":"IF(OR('Trust - Frontsheet'!AN108=\"\",'Trust - Frontsheet'!AN108=\"-\"),0,('Trust - Frontsheet'!AN108))","v":0},{"$f":"IF(OR('Trust - Frontsheet'!AO108=\"\",'Trust - Frontsheet'!AO108=\"-\"),0,('Trust - Frontsheet'!AO108))","v":0},{"$f":"IF(OR('Trust - Frontsheet'!AP108=\"\",'Trust - Frontsheet'!AP108=\"-\"),0,('Trust - Frontsheet'!AP108))","v":0},{"$f":"IF(OR('Trust - Frontsheet'!AQ108=\"\",'Trust - Frontsheet'!AQ108=\"-\"),0,('Trust - Frontsheet'!AQ108))","v":0},{"$f":"IF(OR('Trust - Frontsheet'!AR108=\"\",'Trust - Frontsheet'!AR108=\"-\"),0,('Trust - Frontsheet'!AR108))","v":0},{"$f":"IF(OR('Trust - Frontsheet'!AS108=\"\",'Trust - Frontsheet'!AS108=\"-\"),0,('Trust - Frontsheet'!AS108))","v":0},{"$f":"IF(OR('Trust - Frontsheet'!AT108=\"\",'Trust - Frontsheet'!AT108=\"-\"),0,('Trust - Frontsheet'!AT108))","v":0},{"$f":"'Trust - Frontsheet'!AC108","v":0},{"$f":"IF(OR('Trust - Frontsheet'!AD108=\"\",'Trust - Frontsheet'!AD108=\"-\"),0,('Trust - Frontsheet'!AD108))","v":0},{"$f":"IF(OR('Trust - Frontsheet'!AE108=\"\",'Trust - Frontsheet'!AE108=\"-\"),0,('Trust - Frontsheet'!AE108))","v":0},{"$f":"IF(OR('Trust - Frontsheet'!AF108=\"\",'Trust - Frontsheet'!AF108=\"-\"),0,('Trust - Frontsheet'!AF108))","v":0},{"$f":"IF(OR('Trust - Frontsheet'!AG108=\"\",'Trust - Frontsheet'!AG108=\"-\"),0,('Trust - Frontsheet'!AG108))","v":0},{"$f":"IF(OR('Trust - Frontsheet'!AH108=\"\",'Trust - Frontsheet'!AH108=\"-\"),0,('Trust - Frontsheet'!AH108))","v":0},{"$f":"IF(OR('Trust - Frontsheet'!AI108=\"\",'Trust - Frontsheet'!AI108=\"-\"),0,('Trust - Frontsheet'!AI108))","v":0},{"$f":"IF(OR('Trust - Frontsheet'!AJ108=\"\",'Trust - Frontsheet'!AJ108=\"-\"),0,('Trust - Frontsheet'!AJ108))","v":0},{"$f":"IF(A96=\"\",\"\",(IF(ISBLANK('Trust - Frontsheet'!F9),\"\",'Trust - Frontsheet'!F9)))","v":""}]
[{"$f":"IF('Trust - Frontsheet'!D109=0,\"\",IF('Trust - Frontsheet'!D109=\"\",\"\",'Trust - Frontsheet'!D109))","v":""},{"$f":"IF(ISBLANK('Trust - Frontsheet'!E109),\"\",'Trust - Frontsheet'!E109)","v":""},{"$f":"IF(ISBLANK('Trust - Frontsheet'!F109),\"\",\"'\" & 'Trust - Frontsheet'!F109 & \"'\")","v":""},{"$f":"IF(ISBLANK('Trust - Frontsheet'!G109),\"\",'Trust - Frontsheet'!G109)","v":""},{"$f":"IF(ISBLANK('Trust - Frontsheet'!H109),\"\",'Trust - Frontsheet'!H109)","v":""},{"$f":"'Trust - Frontsheet'!I109","v":0},{"$f":"'Trust - Frontsheet'!J109","v":0},{"$f":"'Trust - Frontsheet'!K109","v":0},{"$f":"'Trust - Frontsheet'!L109","v":0},{"$f":"'Trust - Frontsheet'!M109","v":0},{"$f":"'Trust - Frontsheet'!N109","v":0},{"$f":"'Trust - Frontsheet'!O109","v":0},{"$f":"'Trust - Frontsheet'!P109","v":0},{"$f":"'Trust - Frontsheet'!Q109","v":0},{"$f":"'Trust - Frontsheet'!R109","v":0},{"$f":"'Trust - Frontsheet'!S109","v":0},{"$f":"'Trust - Frontsheet'!T109","v":0},{"$f":"'Trust - Frontsheet'!U109","v":0},{"$f":"'Trust - Frontsheet'!V109","v":0},{"$f":"'Trust - Frontsheet'!W109","v":0},{"$f":"'Trust - Frontsheet'!X109","v":0},{"$f":"'Trust - Frontsheet'!Y109","v":0},{"$f":"'Trust - Frontsheet'!Z109","v":0},{"$f":"'Trust - Frontsheet'!AA109","v":0},{"$f":"'Trust - Frontsheet'!AB109","v":0},{"$f":"IF(OR('Trust - Frontsheet'!AK109=\"\",'Trust - Frontsheet'!AK109=\"-\"),0,('Trust - Frontsheet'!AK109))","v":0},{"$f":"IF(OR('Trust - Frontsheet'!AL109=\"\",'Trust - Frontsheet'!AL109=\"-\"),0,('Trust - Frontsheet'!AL109))","v":0},{"$f":"IF(OR('Trust - Frontsheet'!AM109=\"\",'Trust - Frontsheet'!AM109=\"-\"),0,('Trust - Frontsheet'!AM109))","v":0},{"$f":"IF(OR('Trust - Frontsheet'!AN109=\"\",'Trust - Frontsheet'!AN109=\"-\"),0,('Trust - Frontsheet'!AN109))","v":0},{"$f":"IF(OR('Trust - Frontsheet'!AO109=\"\",'Trust - Frontsheet'!AO109=\"-\"),0,('Trust - Frontsheet'!AO109))","v":0},{"$f":"IF(OR('Trust - Frontsheet'!AP109=\"\",'Trust - Frontsheet'!AP109=\"-\"),0,('Trust - Frontsheet'!AP109))","v":0},{"$f":"IF(OR('Trust - Frontsheet'!AQ109=\"\",'Trust - Frontsheet'!AQ109=\"-\"),0,('Trust - Frontsheet'!AQ109))","v":0},{"$f":"IF(OR('Trust - Frontsheet'!AR109=\"\",'Trust - Frontsheet'!AR109=\"-\"),0,('Trust - Frontsheet'!AR109))","v":0},{"$f":"IF(OR('Trust - Frontsheet'!AS109=\"\",'Trust - Frontsheet'!AS109=\"-\"),0,('Trust - Frontsheet'!AS109))","v":0},{"$f":"IF(OR('Trust - Frontsheet'!AT109=\"\",'Trust - Frontsheet'!AT109=\"-\"),0,('Trust - Frontsheet'!AT109))","v":0},{"$f":"'Trust - Frontsheet'!AC109","v":0},{"$f":"IF(OR('Trust - Frontsheet'!AD109=\"\",'Trust - Frontsheet'!AD109=\"-\"),0,('Trust - Frontsheet'!AD109))","v":0},{"$f":"IF(OR('Trust - Frontsheet'!AE109=\"\",'Trust - Frontsheet'!AE109=\"-\"),0,('Trust - Frontsheet'!AE109))","v":0},{"$f":"IF(OR('Trust - Frontsheet'!AF109=\"\",'Trust - Frontsheet'!AF109=\"-\"),0,('Trust - Frontsheet'!AF109))","v":0},{"$f":"IF(OR('Trust - Frontsheet'!AG109=\"\",'Trust - Frontsheet'!AG109=\"-\"),0,('Trust - Frontsheet'!AG109))","v":0},{"$f":"IF(OR('Trust - Frontsheet'!AH109=\"\",'Trust - Frontsheet'!AH109=\"-\"),0,('Trust - Frontsheet'!AH109))","v":0},{"$f":"IF(OR('Trust - Frontsheet'!AI109=\"\",'Trust - Frontsheet'!AI109=\"-\"),0,('Trust - Frontsheet'!AI109))","v":0},{"$f":"IF(OR('Trust - Frontsheet'!AJ109=\"\",'Trust - Frontsheet'!AJ109=\"-\"),0,('Trust - Frontsheet'!AJ109))","v":0},{"$f":"IF(A97=\"\",\"\",(IF(ISBLANK('Trust - Frontsheet'!F9),\"\",'Trust - Frontsheet'!F9)))","v":""}]
[{"$f":"IF('Trust - Frontsheet'!D110=0,\"\",IF('Trust - Frontsheet'!D110=\"\",\"\",'Trust - Frontsheet'!D110))","v":""},{"$f":"IF(ISBLANK('Trust - Frontsheet'!E110),\"\",'Trust - Frontsheet'!E110)","v":""},{"$f":"IF(ISBLANK('Trust - Frontsheet'!F110),\"\",\"'\" & 'Trust - Frontsheet'!F110 & \"'\")","v":""},{"$f":"IF(ISBLANK('Trust - Frontsheet'!G110),\"\",'Trust - Frontsheet'!G110)","v":""},{"$f":"IF(ISBLANK('Trust - Frontsheet'!H110),\"\",'Trust - Frontsheet'!H110)","v":""},{"$f":"'Trust - Frontsheet'!I110","v":0},{"$f":"'Trust - Frontsheet'!J110","v":0},{"$f":"'Trust - Frontsheet'!K110","v":0},{"$f":"'Trust - Frontsheet'!L110","v":0},{"$f":"'Trust - Frontsheet'!M110","v":0},{"$f":"'Trust - Frontsheet'!N110","v":0},{"$f":"'Trust - Frontsheet'!O110","v":0},{"$f":"'Trust - Frontsheet'!P110","v":0},{"$f":"'Trust - Frontsheet'!Q110","v":0},{"$f":"'Trust - Frontsheet'!R110","v":0},{"$f":"'Trust - Frontsheet'!S110","v":0},{"$f":"'Trust - Frontsheet'!T110","v":0},{"$f":"'Trust - Frontsheet'!U110","v":0},{"$f":"'Trust - Frontsheet'!V110","v":0},{"$f":"'Trust - Frontsheet'!W110","v":0},{"$f":"'Trust - Frontsheet'!X110","v":0},{"$f":"'Trust - Frontsheet'!Y110","v":0},{"$f":"'Trust - Frontsheet'!Z110","v":0},{"$f":"'Trust - Frontsheet'!AA110","v":0},{"$f":"'Trust - Frontsheet'!AB110","v":0},{"$f":"IF(OR('Trust - Frontsheet'!AK110=\"\",'Trust - Frontsheet'!AK110=\"-\"),0,('Trust - Frontsheet'!AK110))","v":0},{"$f":"IF(OR('Trust - Frontsheet'!AL110=\"\",'Trust - Frontsheet'!AL110=\"-\"),0,('Trust - Frontsheet'!AL110))","v":0},{"$f":"IF(OR('Trust - Frontsheet'!AM110=\"\",'Trust - Frontsheet'!AM110=\"-\"),0,('Trust - Frontsheet'!AM110))","v":0},{"$f":"IF(OR('Trust - Frontsheet'!AN110=\"\",'Trust - Frontsheet'!AN110=\"-\"),0,('Trust - Frontsheet'!AN110))","v":0},{"$f":"IF(OR('Trust - Frontsheet'!AO110=\"\",'Trust - Frontsheet'!AO110=\"-\"),0,('Trust - Frontsheet'!AO110))","v":0},{"$f":"IF(OR('Trust - Frontsheet'!AP110=\"\",'Trust - Frontsheet'!AP110=\"-\"),0,('Trust - Frontsheet'!AP110))","v":0},{"$f":"IF(OR('Trust - Frontsheet'!AQ110=\"\",'Trust - Frontsheet'!AQ110=\"-\"),0,('Trust - Frontsheet'!AQ110))","v":0},{"$f":"IF(OR('Trust - Frontsheet'!AR110=\"\",'Trust - Frontsheet'!AR110=\"-\"),0,('Trust - Frontsheet'!AR110))","v":0},{"$f":"IF(OR('Trust - Frontsheet'!AS110=\"\",'Trust - Frontsheet'!AS110=\"-\"),0,('Trust - Frontsheet'!AS110))","v":0},{"$f":"IF(OR('Trust - Frontsheet'!AT110=\"\",'Trust - Frontsheet'!AT110=\"-\"),0,('Trust - Frontsheet'!AT110))","v":0},{"$f":"'Trust - Frontsheet'!AC110","v":0},{"$f":"IF(OR('Trust - Frontsheet'!AD110=\"\",'Trust - Frontsheet'!AD110=\"-\"),0,('Trust - Frontsheet'!AD110))","v":0},{"$f":"IF(OR('Trust - Frontsheet'!AE110=\"\",'Trust - Frontsheet'!AE110=\"-\"),0,('Trust - Frontsheet'!AE110))","v":0},{"$f":"IF(OR('Trust - Frontsheet'!AF110=\"\",'Trust - Frontsheet'!AF110=\"-\"),0,('Trust - Frontsheet'!AF110))","v":0},{"$f":"IF(OR('Trust - Frontsheet'!AG110=\"\",'Trust - Frontsheet'!AG110=\"-\"),0,('Trust - Frontsheet'!AG110))","v":0},{"$f":"IF(OR('Trust - Frontsheet'!AH110=\"\",'Trust - Frontsheet'!AH110=\"-\"),0,('Trust - Frontsheet'!AH110))","v":0},{"$f":"IF(OR('Trust - Frontsheet'!AI110=\"\",'Trust - Frontsheet'!AI110=\"-\"),0,('Trust - Frontsheet'!AI110))","v":0},{"$f":"IF(OR('Trust - Frontsheet'!AJ110=\"\",'Trust - Frontsheet'!AJ110=\"-\"),0,('Trust - Frontsheet'!AJ110))","v":0},{"$f":"IF(A98=\"\",\"\",(IF(ISBLANK('Trust - Frontsheet'!F9),\"\",'Trust - Frontsheet'!F9)))","v":""}]
[{"$f":"IF('Trust - Frontsheet'!D111=0,\"\",IF('Trust - Frontsheet'!D111=\"\",\"\",'Trust - Frontsheet'!D111))","v":""},{"$f":"IF(ISBLANK('Trust - Frontsheet'!E111),\"\",'Trust - Frontsheet'!E111)","v":""},{"$f":"IF(ISBLANK('Trust - Frontsheet'!F111),\"\",\"'\" & 'Trust - Frontsheet'!F111 & \"'\")","v":""},{"$f":"IF(ISBLANK('Trust - Frontsheet'!G111),\"\",'Trust - Frontsheet'!G111)","v":""},{"$f":"IF(ISBLANK('Trust - Frontsheet'!H111),\"\",'Trust - Frontsheet'!H111)","v":""},{"$f":"'Trust - Frontsheet'!I111","v":0},{"$f":"'Trust - Frontsheet'!J111","v":0},{"$f":"'Trust - Frontsheet'!K111","v":0},{"$f":"'Trust - Frontsheet'!L111","v":0},{"$f":"'Trust - Frontsheet'!M111","v":0},{"$f":"'Trust - Frontsheet'!N111","v":0},{"$f":"'Trust - Frontsheet'!O111","v":0},{"$f":"'Trust - Frontsheet'!P111","v":0},{"$f":"'Trust - Frontsheet'!Q111","v":0},{"$f":"'Trust - Frontsheet'!R111","v":0},{"$f":"'Trust - Frontsheet'!S111","v":0},{"$f":"'Trust - Frontsheet'!T111","v":0},{"$f":"'Trust - Frontsheet'!U111","v":0},{"$f":"'Trust - Frontsheet'!V111","v":0},{"$f":"'Trust - Frontsheet'!W111","v":0},{"$f":"'Trust - Frontsheet'!X111","v":0},{"$f":"'Trust - Frontsheet'!Y111","v":0},{"$f":"'Trust - Frontsheet'!Z111","v":0},{"$f":"'Trust - Frontsheet'!AA111","v":0},{"$f":"'Trust - Frontsheet'!AB111","v":0},{"$f":"IF(OR('Trust - Frontsheet'!AK111=\"\",'Trust - Frontsheet'!AK111=\"-\"),0,('Trust - Frontsheet'!AK111))","v":0},{"$f":"IF(OR('Trust - Frontsheet'!AL111=\"\",'Trust - Frontsheet'!AL111=\"-\"),0,('Trust - Frontsheet'!AL111))","v":0},{"$f":"IF(OR('Trust - Frontsheet'!AM111=\"\",'Trust - Frontsheet'!AM111=\"-\"),0,('Trust - Frontsheet'!AM111))","v":0},{"$f":"IF(OR('Trust - Frontsheet'!AN111=\"\",'Trust - Frontsheet'!AN111=\"-\"),0,('Trust - Frontsheet'!AN111))","v":0},{"$f":"IF(OR('Trust - Frontsheet'!AO111=\"\",'Trust - Frontsheet'!AO111=\"-\"),0,('Trust - Frontsheet'!AO111))","v":0},{"$f":"IF(OR('Trust - Frontsheet'!AP111=\"\",'Trust - Frontsheet'!AP111=\"-\"),0,('Trust - Frontsheet'!AP111))","v":0},{"$f":"IF(OR('Trust - Frontsheet'!AQ111=\"\",'Trust - Frontsheet'!AQ111=\"-\"),0,('Trust - Frontsheet'!AQ111))","v":0},{"$f":"IF(OR('Trust - Frontsheet'!AR111=\"\",'Trust - Frontsheet'!AR111=\"-\"),0,('Trust - Frontsheet'!AR111))","v":0},{"$f":"IF(OR('Trust - Frontsheet'!AS111=\"\",'Trust - Frontsheet'!AS111=\"-\"),0,('Trust - Frontsheet'!AS111))","v":0},{"$f":"IF(OR('Trust - Frontsheet'!AT111=\"\",'Trust - Frontsheet'!AT111=\"-\"),0,('Trust - Frontsheet'!AT111))","v":0},{"$f":"'Trust - Frontsheet'!AC111","v":0},{"$f":"IF(OR('Trust - Frontsheet'!AD111=\"\",'Trust - Frontsheet'!AD111=\"-\"),0,('Trust - Frontsheet'!AD111))","v":0},{"$f":"IF(OR('Trust - Frontsheet'!AE111=\"\",'Trust - Frontsheet'!AE111=\"-\"),0,('Trust - Frontsheet'!AE111))","v":0},{"$f":"IF(OR('Trust - Frontsheet'!AF111=\"\",'Trust - Frontsheet'!AF111=\"-\"),0,('Trust - Frontsheet'!AF111))","v":0},{"$f":"IF(OR('Trust - Frontsheet'!AG111=\"\",'Trust - Frontsheet'!AG111=\"-\"),0,('Trust - Frontsheet'!AG111))","v":0},{"$f":"IF(OR('Trust - Frontsheet'!AH111=\"\",'Trust - Frontsheet'!AH111=\"-\"),0,('Trust - Frontsheet'!AH111))","v":0},{"$f":"IF(OR('Trust - Frontsheet'!AI111=\"\",'Trust - Frontsheet'!AI111=\"-\"),0,('Trust - Frontsheet'!AI111))","v":0},{"$f":"IF(OR('Trust - Frontsheet'!AJ111=\"\",'Trust - Frontsheet'!AJ111=\"-\"),0,('Trust - Frontsheet'!AJ111))","v":0},{"$f":"IF(A99=\"\",\"\",(IF(ISBLANK('Trust - Frontsheet'!F9),\"\",'Trust - Frontsheet'!F9)))","v":""}]
[{"$f":"IF('Trust - Frontsheet'!D112=0,\"\",IF('Trust - Frontsheet'!D112=\"\",\"\",'Trust - Frontsheet'!D112))","v":""},{"$f":"IF(ISBLANK('Trust - Frontsheet'!E112),\"\",'Trust - Frontsheet'!E112)","v":""},{"$f":"IF(ISBLANK('Trust - Frontsheet'!F112),\"\",\"'\" & 'Trust - Frontsheet'!F112 & \"'\")","v":""},{"$f":"IF(ISBLANK('Trust - Frontsheet'!G112),\"\",'Trust - Frontsheet'!G112)","v":""},{"$f":"IF(ISBLANK('Trust - Frontsheet'!H112),\"\",'Trust - Frontsheet'!H112)","v":""},{"$f":"'Trust - Frontsheet'!I112","v":0},{"$f":"'Trust - Frontsheet'!J112","v":0},{"$f":"'Trust - Frontsheet'!K112","v":0},{"$f":"'Trust - Frontsheet'!L112","v":0},{"$f":"'Trust - Frontsheet'!M112","v":0},{"$f":"'Trust - Frontsheet'!N112","v":0},{"$f":"'Trust - Frontsheet'!O112","v":0},{"$f":"'Trust - Frontsheet'!P112","v":0},{"$f":"'Trust - Frontsheet'!Q112","v":0},{"$f":"'Trust - Frontsheet'!R112","v":0},{"$f":"'Trust - Frontsheet'!S112","v":0},{"$f":"'Trust - Frontsheet'!T112","v":0},{"$f":"'Trust - Frontsheet'!U112","v":0},{"$f":"'Trust - Frontsheet'!V112","v":0},{"$f":"'Trust - Frontsheet'!W112","v":0},{"$f":"'Trust - Frontsheet'!X112","v":0},{"$f":"'Trust - Frontsheet'!Y112","v":0},{"$f":"'Trust - Frontsheet'!Z112","v":0},{"$f":"'Trust - Frontsheet'!AA112","v":0},{"$f":"'Trust - Frontsheet'!AB112","v":0},{"$f":"IF(OR('Trust - Frontsheet'!AK112=\"\",'Trust - Frontsheet'!AK112=\"-\"),0,('Trust - Frontsheet'!AK112))","v":0},{"$f":"IF(OR('Trust - Frontsheet'!AL112=\"\",'Trust - Frontsheet'!AL112=\"-\"),0,('Trust - Frontsheet'!AL112))","v":0},{"$f":"IF(OR('Trust - Frontsheet'!AM112=\"\",'Trust - Frontsheet'!AM112=\"-\"),0,('Trust - Frontsheet'!AM112))","v":0},{"$f":"IF(OR('Trust - Frontsheet'!AN112=\"\",'Trust - Frontsheet'!AN112=\"-\"),0,('Trust - Frontsheet'!AN112))","v":0},{"$f":"IF(OR('Trust - Frontsheet'!AO112=\"\",'Trust - Frontsheet'!AO112=\"-\"),0,('Trust - Frontsheet'!AO112))","v":0},{"$f":"IF(OR('Trust - Frontsheet'!AP112=\"\",'Trust - Frontsheet'!AP112=\"-\"),0,('Trust - Frontsheet'!AP112))","v":0},{"$f":"IF(OR('Trust - Frontsheet'!AQ112=\"\",'Trust - Frontsheet'!AQ112=\"-\"),0,('Trust - Frontsheet'!AQ112))","v":0},{"$f":"IF(OR('Trust - Frontsheet'!AR112=\"\",'Trust - Frontsheet'!AR112=\"-\"),0,('Trust - Frontsheet'!AR112))","v":0},{"$f":"IF(OR('Trust - Frontsheet'!AS112=\"\",'Trust - Frontsheet'!AS112=\"-\"),0,('Trust - Frontsheet'!AS112))","v":0},{"$f":"IF(OR('Trust - Frontsheet'!AT112=\"\",'Trust - Frontsheet'!AT112=\"-\"),0,('Trust - Frontsheet'!AT112))","v":0},{"$f":"'Trust - Frontsheet'!AC112","v":0},{"$f":"IF(OR('Trust - Frontsheet'!AD112=\"\",'Trust - Frontsheet'!AD112=\"-\"),0,('Trust - Frontsheet'!AD112))","v":0},{"$f":"IF(OR('Trust - Frontsheet'!AE112=\"\",'Trust - Frontsheet'!AE112=\"-\"),0,('Trust - Frontsheet'!AE112))","v":0},{"$f":"IF(OR('Trust - Frontsheet'!AF112=\"\",'Trust - Frontsheet'!AF112=\"-\"),0,('Trust - Frontsheet'!AF112))","v":0},{"$f":"IF(OR('Trust - Frontsheet'!AG112=\"\",'Trust - Frontsheet'!AG112=\"-\"),0,('Trust - Frontsheet'!AG112))","v":0},{"$f":"IF(OR('Trust - Frontsheet'!AH112=\"\",'Trust - Frontsheet'!AH112=\"-\"),0,('Trust - Frontsheet'!AH112))","v":0},{"$f":"IF(OR('Trust - Frontsheet'!AI112=\"\",'Trust - Frontsheet'!AI112=\"-\"),0,('Trust - Frontsheet'!AI112))","v":0},{"$f":"IF(OR('Trust - Frontsheet'!AJ112=\"\",'Trust - Frontsheet'!AJ112=\"-\"),0,('Trust - Frontsheet'!AJ112))","v":0},{"$f":"IF(A100=\"\",\"\",(IF(ISBLANK('Trust - Frontsheet'!F9),\"\",'Trust - Frontsheet'!F9)))","v":""}]
[{"$f":"IF('Trust - Frontsheet'!D113=0,\"\",IF('Trust - Frontsheet'!D113=\"\",\"\",'Trust - Frontsheet'!D113))","v":""},{"$f":"IF(ISBLANK('Trust - Frontsheet'!E113),\"\",'Trust - Frontsheet'!E113)","v":""},{"$f":"IF(ISBLANK('Trust - Frontsheet'!F113),\"\",\"'\" & 'Trust - Frontsheet'!F113 & \"'\")","v":""},{"$f":"IF(ISBLANK('Trust - Frontsheet'!G113),\"\",'Trust - Frontsheet'!G113)","v":""},{"$f":"IF(ISBLANK('Trust - Frontsheet'!H113),\"\",'Trust - Frontsheet'!H113)","v":""},{"$f":"'Trust - Frontsheet'!I113","v":0},{"$f":"'Trust - Frontsheet'!J113","v":0},{"$f":"'Trust - Frontsheet'!K113","v":0},{"$f":"'Trust - Frontsheet'!L113","v":0},{"$f":"'Trust - Frontsheet'!M113","v":0},{"$f":"'Trust - Frontsheet'!N113","v":0},{"$f":"'Trust - Frontsheet'!O113","v":0},{"$f":"'Trust - Frontsheet'!P113","v":0},{"$f":"'Trust - Frontsheet'!Q113","v":0},{"$f":"'Trust - Frontsheet'!R113","v":0},{"$f":"'Trust - Frontsheet'!S113","v":0},{"$f":"'Trust - Frontsheet'!T113","v":0},{"$f":"'Trust - Frontsheet'!U113","v":0},{"$f":"'Trust - Frontsheet'!V113","v":0},{"$f":"'Trust - Frontsheet'!W113","v":0},{"$f":"'Trust - Frontsheet'!X113","v":0},{"$f":"'Trust - Frontsheet'!Y113","v":0},{"$f":"'Trust - Frontsheet'!Z113","v":0},{"$f":"'Trust - Frontsheet'!AA113","v":0},{"$f":"'Trust - Frontsheet'!AB113","v":0},{"$f":"IF(OR('Trust - Frontsheet'!AK113=\"\",'Trust - Frontsheet'!AK113=\"-\"),0,('Trust - Frontsheet'!AK113))","v":0},{"$f":"IF(OR('Trust - Frontsheet'!AL113=\"\",'Trust - Frontsheet'!AL113=\"-\"),0,('Trust - Frontsheet'!AL113))","v":0},{"$f":"IF(OR('Trust - Frontsheet'!AM113=\"\",'Trust - Frontsheet'!AM113=\"-\"),0,('Trust - Frontsheet'!AM113))","v":0},{"$f":"IF(OR('Trust - Frontsheet'!AN113=\"\",'Trust - Frontsheet'!AN113=\"-\"),0,('Trust - Frontsheet'!AN113))","v":0},{"$f":"IF(OR('Trust - Frontsheet'!AO113=\"\",'Trust - Frontsheet'!AO113=\"-\"),0,('Trust - Frontsheet'!AO113))","v":0},{"$f":"IF(OR('Trust - Frontsheet'!AP113=\"\",'Trust - Frontsheet'!AP113=\"-\"),0,('Trust - Frontsheet'!AP113))","v":0},{"$f":"IF(OR('Trust - Frontsheet'!AQ113=\"\",'Trust - Frontsheet'!AQ113=\"-\"),0,('Trust - Frontsheet'!AQ113))","v":0},{"$f":"IF(OR('Trust - Frontsheet'!AR113=\"\",'Trust - Frontsheet'!AR113=\"-\"),0,('Trust - Frontsheet'!AR113))","v":0},{"$f":"IF(OR('Trust - Frontsheet'!AS113=\"\",'Trust - Frontsheet'!AS113=\"-\"),0,('Trust - Frontsheet'!AS113))","v":0},{"$f":"IF(OR('Trust - Frontsheet'!AT113=\"\",'Trust - Frontsheet'!AT113=\"-\"),0,('Trust - Frontsheet'!AT113))","v":0},{"$f":"'Trust - Frontsheet'!AC113","v":0},{"$f":"IF(OR('Trust - Frontsheet'!AD113=\"\",'Trust - Frontsheet'!AD113=\"-\"),0,('Trust - Frontsheet'!AD113))","v":0},{"$f":"IF(OR('Trust - Frontsheet'!AE113=\"\",'Trust - Frontsheet'!AE113=\"-\"),0,('Trust - Frontsheet'!AE113))","v":0},{"$f":"IF(OR('Trust - Frontsheet'!AF113=\"\",'Trust - Frontsheet'!AF113=\"-\"),0,('Trust - Frontsheet'!AF113))","v":0},{"$f":"IF(OR('Trust - Frontsheet'!AG113=\"\",'Trust - Frontsheet'!AG113=\"-\"),0,('Trust - Frontsheet'!AG113))","v":0},{"$f":"IF(OR('Trust - Frontsheet'!AH113=\"\",'Trust - Frontsheet'!AH113=\"-\"),0,('Trust - Frontsheet'!AH113))","v":0},{"$f":"IF(OR('Trust - Frontsheet'!AI113=\"\",'Trust - Frontsheet'!AI113=\"-\"),0,('Trust - Frontsheet'!AI113))","v":0},{"$f":"IF(OR('Trust - Frontsheet'!AJ113=\"\",'Trust - Frontsheet'!AJ113=\"-\"),0,('Trust - Frontsheet'!AJ113))","v":0},{"$f":"IF(A101=\"\",\"\",(IF(ISBLANK('Trust - Frontsheet'!F9),\"\",'Trust - Frontsheet'!F9)))","v":""}]
[{"$f":"IF('Trust - Frontsheet'!D114=0,\"\",IF('Trust - Frontsheet'!D114=\"\",\"\",'Trust - Frontsheet'!D114))","v":""},{"$f":"IF(ISBLANK('Trust - Frontsheet'!E114),\"\",'Trust - Frontsheet'!E114)","v":""},{"$f":"IF(ISBLANK('Trust - Frontsheet'!F114),\"\",\"'\" & 'Trust - Frontsheet'!F114 & \"'\")","v":""},{"$f":"IF(ISBLANK('Trust - Frontsheet'!G114),\"\",'Trust - Frontsheet'!G114)","v":""},{"$f":"IF(ISBLANK('Trust - Frontsheet'!H114),\"\",'Trust - Frontsheet'!H114)","v":""},{"$f":"'Trust - Frontsheet'!I114","v":0},{"$f":"'Trust - Frontsheet'!J114","v":0},{"$f":"'Trust - Frontsheet'!K114","v":0},{"$f":"'Trust - Frontsheet'!L114","v":0},{"$f":"'Trust - Frontsheet'!M114","v":0},{"$f":"'Trust - Frontsheet'!N114","v":0},{"$f":"'Trust - Frontsheet'!O114","v":0},{"$f":"'Trust - Frontsheet'!P114","v":0},{"$f":"'Trust - Frontsheet'!Q114","v":0},{"$f":"'Trust - Frontsheet'!R114","v":0},{"$f":"'Trust - Frontsheet'!S114","v":0},{"$f":"'Trust - Frontsheet'!T114","v":0},{"$f":"'Trust - Frontsheet'!U114","v":0},{"$f":"'Trust - Frontsheet'!V114","v":0},{"$f":"'Trust - Frontsheet'!W114","v":0},{"$f":"'Trust - Frontsheet'!X114","v":0},{"$f":"'Trust - Frontsheet'!Y114","v":0},{"$f":"'Trust - Frontsheet'!Z114","v":0},{"$f":"'Trust - Frontsheet'!AA114","v":0},{"$f":"'Trust - Frontsheet'!AB114","v":0},{"$f":"IF(OR('Trust - Frontsheet'!AK114=\"\",'Trust - Frontsheet'!AK114=\"-\"),0,('Trust - Frontsheet'!AK114))","v":0},{"$f":"IF(OR('Trust - Frontsheet'!AL114=\"\",'Trust - Frontsheet'!AL114=\"-\"),0,('Trust - Frontsheet'!AL114))","v":0},{"$f":"IF(OR('Trust - Frontsheet'!AM114=\"\",'Trust - Frontsheet'!AM114=\"-\"),0,('Trust - Frontsheet'!AM114))","v":0},{"$f":"IF(OR('Trust - Frontsheet'!AN114=\"\",'Trust - Frontsheet'!AN114=\"-\"),0,('Trust - Frontsheet'!AN114))","v":0},{"$f":"IF(OR('Trust - Frontsheet'!AO114=\"\",'Trust - Frontsheet'!AO114=\"-\"),0,('Trust - Frontsheet'!AO114))","v":0},{"$f":"IF(OR('Trust - Frontsheet'!AP114=\"\",'Trust - Frontsheet'!AP114=\"-\"),0,('Trust - Frontsheet'!AP114))","v":0},{"$f":"IF(OR('Trust - Frontsheet'!AQ114=\"\",'Trust - Frontsheet'!AQ114=\"-\"),0,('Trust - Frontsheet'!AQ114))","v":0},{"$f":"IF(OR('Trust - Frontsheet'!AR114=\"\",'Trust - Frontsheet'!AR114=\"-\"),0,('Trust - Frontsheet'!AR114))","v":0},{"$f":"IF(OR('Trust - Frontsheet'!AS114=\"\",'Trust - Frontsheet'!AS114=\"-\"),0,('Trust - Frontsheet'!AS114))","v":0},{"$f":"IF(OR('Trust - Frontsheet'!AT114=\"\",'Trust - Frontsheet'!AT114=\"-\"),0,('Trust - Frontsheet'!AT114))","v":0},{"$f":"'Trust - Frontsheet'!AC114","v":0},{"$f":"IF(OR('Trust - Frontsheet'!AD114=\"\",'Trust - Frontsheet'!AD114=\"-\"),0,('Trust - Frontsheet'!AD114))","v":0},{"$f":"IF(OR('Trust - Frontsheet'!AE114=\"\",'Trust - Frontsheet'!AE114=\"-\"),0,('Trust - Frontsheet'!AE114))","v":0},{"$f":"IF(OR('Trust - Frontsheet'!AF114=\"\",'Trust - Frontsheet'!AF114=\"-\"),0,('Trust - Frontsheet'!AF114))","v":0},{"$f":"IF(OR('Trust - Frontsheet'!AG114=\"\",'Trust - Frontsheet'!AG114=\"-\"),0,('Trust - Frontsheet'!AG114))","v":0},{"$f":"IF(OR('Trust - Frontsheet'!AH114=\"\",'Trust - Frontsheet'!AH114=\"-\"),0,('Trust - Frontsheet'!AH114))","v":0},{"$f":"IF(OR('Trust - Frontsheet'!AI114=\"\",'Trust - Frontsheet'!AI114=\"-\"),0,('Trust - Frontsheet'!AI114))","v":0},{"$f":"IF(OR('Trust - Frontsheet'!AJ114=\"\",'Trust - Frontsheet'!AJ114=\"-\"),0,('Trust - Frontsheet'!AJ114))","v":0},{"$f":"IF(A102=\"\",\"\",(IF(ISBLANK('Trust - Frontsheet'!F9),\"\",'Trust - Frontsheet'!F9)))","v":""}]
[{"$f":"IF('Trust - Frontsheet'!D115=0,\"\",IF('Trust - Frontsheet'!D115=\"\",\"\",'Trust - Frontsheet'!D115))","v":""},{"$f":"IF(ISBLANK('Trust - Frontsheet'!E115),\"\",'Trust - Frontsheet'!E115)","v":""},{"$f":"IF(ISBLANK('Trust - Frontsheet'!F115),\"\",\"'\" & 'Trust - Frontsheet'!F115 & \"'\")","v":""},{"$f":"IF(ISBLANK('Trust - Frontsheet'!G115),\"\",'Trust - Frontsheet'!G115)","v":""},{"$f":"IF(ISBLANK('Trust - Frontsheet'!H115),\"\",'Trust - Frontsheet'!H115)","v":""},{"$f":"'Trust - Frontsheet'!I115","v":0},{"$f":"'Trust - Frontsheet'!J115","v":0},{"$f":"'Trust - Frontsheet'!K115","v":0},{"$f":"'Trust - Frontsheet'!L115","v":0},{"$f":"'Trust - Frontsheet'!M115","v":0},{"$f":"'Trust - Frontsheet'!N115","v":0},{"$f":"'Trust - Frontsheet'!O115","v":0},{"$f":"'Trust - Frontsheet'!P115","v":0},{"$f":"'Trust - Frontsheet'!Q115","v":0},{"$f":"'Trust - Frontsheet'!R115","v":0},{"$f":"'Trust - Frontsheet'!S115","v":0},{"$f":"'Trust - Frontsheet'!T115","v":0},{"$f":"'Trust - Frontsheet'!U115","v":0},{"$f":"'Trust - Frontsheet'!V115","v":0},{"$f":"'Trust - Frontsheet'!W115","v":0},{"$f":"'Trust - Frontsheet'!X115","v":0},{"$f":"'Trust - Frontsheet'!Y115","v":0},{"$f":"'Trust - Frontsheet'!Z115","v":0},{"$f":"'Trust - Frontsheet'!AA115","v":0},{"$f":"'Trust - Frontsheet'!AB115","v":0},{"$f":"IF(OR('Trust - Frontsheet'!AK115=\"\",'Trust - Frontsheet'!AK115=\"-\"),0,('Trust - Frontsheet'!AK115))","v":0},{"$f":"IF(OR('Trust - Frontsheet'!AL115=\"\",'Trust - Frontsheet'!AL115=\"-\"),0,('Trust - Frontsheet'!AL115))","v":0},{"$f":"IF(OR('Trust - Frontsheet'!AM115=\"\",'Trust - Frontsheet'!AM115=\"-\"),0,('Trust - Frontsheet'!AM115))","v":0},{"$f":"IF(OR('Trust - Frontsheet'!AN115=\"\",'Trust - Frontsheet'!AN115=\"-\"),0,('Trust - Frontsheet'!AN115))","v":0},{"$f":"IF(OR('Trust - Frontsheet'!AO115=\"\",'Trust - Frontsheet'!AO115=\"-\"),0,('Trust - Frontsheet'!AO115))","v":0},{"$f":"IF(OR('Trust - Frontsheet'!AP115=\"\",'Trust - Frontsheet'!AP115=\"-\"),0,('Trust - Frontsheet'!AP115))","v":0},{"$f":"IF(OR('Trust - Frontsheet'!AQ115=\"\",'Trust - Frontsheet'!AQ115=\"-\"),0,('Trust - Frontsheet'!AQ115))","v":0},{"$f":"IF(OR('Trust - Frontsheet'!AR115=\"\",'Trust - Frontsheet'!AR115=\"-\"),0,('Trust - Frontsheet'!AR115))","v":0},{"$f":"IF(OR('Trust - Frontsheet'!AS115=\"\",'Trust - Frontsheet'!AS115=\"-\"),0,('Trust - Frontsheet'!AS115))","v":0},{"$f":"IF(OR('Trust - Frontsheet'!AT115=\"\",'Trust - Frontsheet'!AT115=\"-\"),0,('Trust - Frontsheet'!AT115))","v":0},{"$f":"'Trust - Frontsheet'!AC115","v":0},{"$f":"IF(OR('Trust - Frontsheet'!AD115=\"\",'Trust - Frontsheet'!AD115=\"-\"),0,('Trust - Frontsheet'!AD115))","v":0},{"$f":"IF(OR('Trust - Frontsheet'!AE115=\"\",'Trust - Frontsheet'!AE115=\"-\"),0,('Trust - Frontsheet'!AE115))","v":0},{"$f":"IF(OR('Trust - Frontsheet'!AF115=\"\",'Trust - Frontsheet'!AF115=\"-\"),0,('Trust - Frontsheet'!AF115))","v":0},{"$f":"IF(OR('Trust - Frontsheet'!AG115=\"\",'Trust - Frontsheet'!AG115=\"-\"),0,('Trust - Frontsheet'!AG115))","v":0},{"$f":"IF(OR('Trust - Frontsheet'!AH115=\"\",'Trust - Frontsheet'!AH115=\"-\"),0,('Trust - Frontsheet'!AH115))","v":0},{"$f":"IF(OR('Trust - Frontsheet'!AI115=\"\",'Trust - Frontsheet'!AI115=\"-\"),0,('Trust - Frontsheet'!AI115))","v":0},{"$f":"IF(OR('Trust - Frontsheet'!AJ115=\"\",'Trust - Frontsheet'!AJ115=\"-\"),0,('Trust - Frontsheet'!AJ115))","v":0},{"$f":"IF(A103=\"\",\"\",(IF(ISBLANK('Trust - Frontsheet'!F9),\"\",'Trust - Frontsheet'!F9)))","v":""}]
[{"$f":"IF('Trust - Frontsheet'!D116=0,\"\",IF('Trust - Frontsheet'!D116=\"\",\"\",'Trust - Frontsheet'!D116))","v":""},{"$f":"IF(ISBLANK('Trust - Frontsheet'!E116),\"\",'Trust - Frontsheet'!E116)","v":""},{"$f":"IF(ISBLANK('Trust - Frontsheet'!F116),\"\",\"'\" & 'Trust - Frontsheet'!F116 & \"'\")","v":""},{"$f":"IF(ISBLANK('Trust - Frontsheet'!G116),\"\",'Trust - Frontsheet'!G116)","v":""},{"$f":"IF(ISBLANK('Trust - Frontsheet'!H116),\"\",'Trust - Frontsheet'!H116)","v":""},{"$f":"'Trust - Frontsheet'!I116","v":0},{"$f":"'Trust - Frontsheet'!J116","v":0},{"$f":"'Trust - Frontsheet'!K116","v":0},{"$f":"'Trust - Frontsheet'!L116","v":0},{"$f":"'Trust - Frontsheet'!M116","v":0},{"$f":"'Trust - Frontsheet'!N116","v":0},{"$f":"'Trust - Frontsheet'!O116","v":0},{"$f":"'Trust - Frontsheet'!P116","v":0},{"$f":"'Trust - Frontsheet'!Q116","v":0},{"$f":"'Trust - Frontsheet'!R116","v":0},{"$f":"'Trust - Frontsheet'!S116","v":0},{"$f":"'Trust - Frontsheet'!T116","v":0},{"$f":"'Trust - Frontsheet'!U116","v":0},{"$f":"'Trust - Frontsheet'!V116","v":0},{"$f":"'Trust - Frontsheet'!W116","v":0},{"$f":"'Trust - Frontsheet'!X116","v":0},{"$f":"'Trust - Frontsheet'!Y116","v":0},{"$f":"'Trust - Frontsheet'!Z116","v":0},{"$f":"'Trust - Frontsheet'!AA116","v":0},{"$f":"'Trust - Frontsheet'!AB116","v":0},{"$f":"IF(OR('Trust - Frontsheet'!AK116=\"\",'Trust - Frontsheet'!AK116=\"-\"),0,('Trust - Frontsheet'!AK116))","v":0},{"$f":"IF(OR('Trust - Frontsheet'!AL116=\"\",'Trust - Frontsheet'!AL116=\"-\"),0,('Trust - Frontsheet'!AL116))","v":0},{"$f":"IF(OR('Trust - Frontsheet'!AM116=\"\",'Trust - Frontsheet'!AM116=\"-\"),0,('Trust - Frontsheet'!AM116))","v":0},{"$f":"IF(OR('Trust - Frontsheet'!AN116=\"\",'Trust - Frontsheet'!AN116=\"-\"),0,('Trust - Frontsheet'!AN116))","v":0},{"$f":"IF(OR('Trust - Frontsheet'!AO116=\"\",'Trust - Frontsheet'!AO116=\"-\"),0,('Trust - Frontsheet'!AO116))","v":0},{"$f":"IF(OR('Trust - Frontsheet'!AP116=\"\",'Trust - Frontsheet'!AP116=\"-\"),0,('Trust - Frontsheet'!AP116))","v":0},{"$f":"IF(OR('Trust - Frontsheet'!AQ116=\"\",'Trust - Frontsheet'!AQ116=\"-\"),0,('Trust - Frontsheet'!AQ116))","v":0},{"$f":"IF(OR('Trust - Frontsheet'!AR116=\"\",'Trust - Frontsheet'!AR116=\"-\"),0,('Trust - Frontsheet'!AR116))","v":0},{"$f":"IF(OR('Trust - Frontsheet'!AS116=\"\",'Trust - Frontsheet'!AS116=\"-\"),0,('Trust - Frontsheet'!AS116))","v":0},{"$f":"IF(OR('Trust - Frontsheet'!AT116=\"\",'Trust - Frontsheet'!AT116=\"-\"),0,('Trust - Frontsheet'!AT116))","v":0},{"$f":"'Trust - Frontsheet'!AC116","v":0},{"$f":"IF(OR('Trust - Frontsheet'!AD116=\"\",'Trust - Frontsheet'!AD116=\"-\"),0,('Trust - Frontsheet'!AD116))","v":0},{"$f":"IF(OR('Trust - Frontsheet'!AE116=\"\",'Trust - Frontsheet'!AE116=\"-\"),0,('Trust - Frontsheet'!AE116))","v":0},{"$f":"IF(OR('Trust - Frontsheet'!AF116=\"\",'Trust - Frontsheet'!AF116=\"-\"),0,('Trust - Frontsheet'!AF116))","v":0},{"$f":"IF(OR('Trust - Frontsheet'!AG116=\"\",'Trust - Frontsheet'!AG116=\"-\"),0,('Trust - Frontsheet'!AG116))","v":0},{"$f":"IF(OR('Trust - Frontsheet'!AH116=\"\",'Trust - Frontsheet'!AH116=\"-\"),0,('Trust - Frontsheet'!AH116))","v":0},{"$f":"IF(OR('Trust - Frontsheet'!AI116=\"\",'Trust - Frontsheet'!AI116=\"-\"),0,('Trust - Frontsheet'!AI116))","v":0},{"$f":"IF(OR('Trust - Frontsheet'!AJ116=\"\",'Trust - Frontsheet'!AJ116=\"-\"),0,('Trust - Frontsheet'!AJ116))","v":0},{"$f":"IF(A104=\"\",\"\",(IF(ISBLANK('Trust - Frontsheet'!F9),\"\",'Trust - Frontsheet'!F9)))","v":""}]
[{"$f":"IF('Trust - Frontsheet'!D117=0,\"\",IF('Trust - Frontsheet'!D117=\"\",\"\",'Trust - Frontsheet'!D117))","v":""},{"$f":"IF(ISBLANK('Trust - Frontsheet'!E117),\"\",'Trust - Frontsheet'!E117)","v":""},{"$f":"IF(ISBLANK('Trust - Frontsheet'!F117),\"\",\"'\" & 'Trust - Frontsheet'!F117 & \"'\")","v":""},{"$f":"IF(ISBLANK('Trust - Frontsheet'!G117),\"\",'Trust - Frontsheet'!G117)","v":""},{"$f":"IF(ISBLANK('Trust - Frontsheet'!H117),\"\",'Trust - Frontsheet'!H117)","v":""},{"$f":"'Trust - Frontsheet'!I117","v":0},{"$f":"'Trust - Frontsheet'!J117","v":0},{"$f":"'Trust - Frontsheet'!K117","v":0},{"$f":"'Trust - Frontsheet'!L117","v":0},{"$f":"'Trust - Frontsheet'!M117","v":0},{"$f":"'Trust - Frontsheet'!N117","v":0},{"$f":"'Trust - Frontsheet'!O117","v":0},{"$f":"'Trust - Frontsheet'!P117","v":0},{"$f":"'Trust - Frontsheet'!Q117","v":0},{"$f":"'Trust - Frontsheet'!R117","v":0},{"$f":"'Trust - Frontsheet'!S117","v":0},{"$f":"'Trust - Frontsheet'!T117","v":0},{"$f":"'Trust - Frontsheet'!U117","v":0},{"$f":"'Trust - Frontsheet'!V117","v":0},{"$f":"'Trust - Frontsheet'!W117","v":0},{"$f":"'Trust - Frontsheet'!X117","v":0},{"$f":"'Trust - Frontsheet'!Y117","v":0},{"$f":"'Trust - Frontsheet'!Z117","v":0},{"$f":"'Trust - Frontsheet'!AA117","v":0},{"$f":"'Trust - Frontsheet'!AB117","v":0},{"$f":"IF(OR('Trust - Frontsheet'!AK117=\"\",'Trust - Frontsheet'!AK117=\"-\"),0,('Trust - Frontsheet'!AK117))","v":0},{"$f":"IF(OR('Trust - Frontsheet'!AL117=\"\",'Trust - Frontsheet'!AL117=\"-\"),0,('Trust - Frontsheet'!AL117))","v":0},{"$f":"IF(OR('Trust - Frontsheet'!AM117=\"\",'Trust - Frontsheet'!AM117=\"-\"),0,('Trust - Frontsheet'!AM117))","v":0},{"$f":"IF(OR('Trust - Frontsheet'!AN117=\"\",'Trust - Frontsheet'!AN117=\"-\"),0,('Trust - Frontsheet'!AN117))","v":0},{"$f":"IF(OR('Trust - Frontsheet'!AO117=\"\",'Trust - Frontsheet'!AO117=\"-\"),0,('Trust - Frontsheet'!AO117))","v":0},{"$f":"IF(OR('Trust - Frontsheet'!AP117=\"\",'Trust - Frontsheet'!AP117=\"-\"),0,('Trust - Frontsheet'!AP117))","v":0},{"$f":"IF(OR('Trust - Frontsheet'!AQ117=\"\",'Trust - Frontsheet'!AQ117=\"-\"),0,('Trust - Frontsheet'!AQ117))","v":0},{"$f":"IF(OR('Trust - Frontsheet'!AR117=\"\",'Trust - Frontsheet'!AR117=\"-\"),0,('Trust - Frontsheet'!AR117))","v":0},{"$f":"IF(OR('Trust - Frontsheet'!AS117=\"\",'Trust - Frontsheet'!AS117=\"-\"),0,('Trust - Frontsheet'!AS117))","v":0},{"$f":"IF(OR('Trust - Frontsheet'!AT117=\"\",'Trust - Frontsheet'!AT117=\"-\"),0,('Trust - Frontsheet'!AT117))","v":0},{"$f":"'Trust - Frontsheet'!AC117","v":0},{"$f":"IF(OR('Trust - Frontsheet'!AD117=\"\",'Trust - Frontsheet'!AD117=\"-\"),0,('Trust - Frontsheet'!AD117))","v":0},{"$f":"IF(OR('Trust - Frontsheet'!AE117=\"\",'Trust - Frontsheet'!AE117=\"-\"),0,('Trust - Frontsheet'!AE117))","v":0},{"$f":"IF(OR('Trust - Frontsheet'!AF117=\"\",'Trust - Frontsheet'!AF117=\"-\"),0,('Trust - Frontsheet'!AF117))","v":0},{"$f":"IF(OR('Trust - Frontsheet'!AG117=\"\",'Trust - Frontsheet'!AG117=\"-\"),0,('Trust - Frontsheet'!AG117))","v":0},{"$f":"IF(OR('Trust - Frontsheet'!AH117=\"\",'Trust - Frontsheet'!AH117=\"-\"),0,('Trust - Frontsheet'!AH117))","v":0},{"$f":"IF(OR('Trust - Frontsheet'!AI117=\"\",'Trust - Frontsheet'!AI117=\"-\"),0,('Trust - Frontsheet'!AI117))","v":0},{"$f":"IF(OR('Trust - Frontsheet'!AJ117=\"\",'Trust - Frontsheet'!AJ117=\"-\"),0,('Trust - Frontsheet'!AJ117))","v":0},{"$f":"IF(A105=\"\",\"\",(IF(ISBLANK('Trust - Frontsheet'!F9),\"\",'Trust - Frontsheet'!F9)))","v":""}]
[{"$f":"IF('Trust - Frontsheet'!D118=0,\"\",IF('Trust - Frontsheet'!D118=\"\",\"\",'Trust - Frontsheet'!D118))","v":""},{"$f":"IF(ISBLANK('Trust - Frontsheet'!E118),\"\",'Trust - Frontsheet'!E118)","v":""},{"$f":"IF(ISBLANK('Trust - Frontsheet'!F118),\"\",\"'\" & 'Trust - Frontsheet'!F118 & \"'\")","v":""},{"$f":"IF(ISBLANK('Trust - Frontsheet'!G118),\"\",'Trust - Frontsheet'!G118)","v":""},{"$f":"IF(ISBLANK('Trust - Frontsheet'!H118),\"\",'Trust - Frontsheet'!H118)","v":""},{"$f":"'Trust - Frontsheet'!I118","v":0},{"$f":"'Trust - Frontsheet'!J118","v":0},{"$f":"'Trust - Frontsheet'!K118","v":0},{"$f":"'Trust - Frontsheet'!L118","v":0},{"$f":"'Trust - Frontsheet'!M118","v":0},{"$f":"'Trust - Frontsheet'!N118","v":0},{"$f":"'Trust - Frontsheet'!O118","v":0},{"$f":"'Trust - Frontsheet'!P118","v":0},{"$f":"'Trust - Frontsheet'!Q118","v":0},{"$f":"'Trust - Frontsheet'!R118","v":0},{"$f":"'Trust - Frontsheet'!S118","v":0},{"$f":"'Trust - Frontsheet'!T118","v":0},{"$f":"'Trust - Frontsheet'!U118","v":0},{"$f":"'Trust - Frontsheet'!V118","v":0},{"$f":"'Trust - Frontsheet'!W118","v":0},{"$f":"'Trust - Frontsheet'!X118","v":0},{"$f":"'Trust - Frontsheet'!Y118","v":0},{"$f":"'Trust - Frontsheet'!Z118","v":0},{"$f":"'Trust - Frontsheet'!AA118","v":0},{"$f":"'Trust - Frontsheet'!AB118","v":0},{"$f":"IF(OR('Trust - Frontsheet'!AK118=\"\",'Trust - Frontsheet'!AK118=\"-\"),0,('Trust - Frontsheet'!AK118))","v":0},{"$f":"IF(OR('Trust - Frontsheet'!AL118=\"\",'Trust - Frontsheet'!AL118=\"-\"),0,('Trust - Frontsheet'!AL118))","v":0},{"$f":"IF(OR('Trust - Frontsheet'!AM118=\"\",'Trust - Frontsheet'!AM118=\"-\"),0,('Trust - Frontsheet'!AM118))","v":0},{"$f":"IF(OR('Trust - Frontsheet'!AN118=\"\",'Trust - Frontsheet'!AN118=\"-\"),0,('Trust - Frontsheet'!AN118))","v":0},{"$f":"IF(OR('Trust - Frontsheet'!AO118=\"\",'Trust - Frontsheet'!AO118=\"-\"),0,('Trust - Frontsheet'!AO118))","v":0},{"$f":"IF(OR('Trust - Frontsheet'!AP118=\"\",'Trust - Frontsheet'!AP118=\"-\"),0,('Trust - Frontsheet'!AP118))","v":0},{"$f":"IF(OR('Trust - Frontsheet'!AQ118=\"\",'Trust - Frontsheet'!AQ118=\"-\"),0,('Trust - Frontsheet'!AQ118))","v":0},{"$f":"IF(OR('Trust - Frontsheet'!AR118=\"\",'Trust - Frontsheet'!AR118=\"-\"),0,('Trust - Frontsheet'!AR118))","v":0},{"$f":"IF(OR('Trust - Frontsheet'!AS118=\"\",'Trust - Frontsheet'!AS118=\"-\"),0,('Trust - Frontsheet'!AS118))","v":0},{"$f":"IF(OR('Trust - Frontsheet'!AT118=\"\",'Trust - Frontsheet'!AT118=\"-\"),0,('Trust - Frontsheet'!AT118))","v":0},{"$f":"'Trust - Frontsheet'!AC118","v":0},{"$f":"IF(OR('Trust - Frontsheet'!AD118=\"\",'Trust - Frontsheet'!AD118=\"-\"),0,('Trust - Frontsheet'!AD118))","v":0},{"$f":"IF(OR('Trust - Frontsheet'!AE118=\"\",'Trust - Frontsheet'!AE118=\"-\"),0,('Trust - Frontsheet'!AE118))","v":0},{"$f":"IF(OR('Trust - Frontsheet'!AF118=\"\",'Trust - Frontsheet'!AF118=\"-\"),0,('Trust - Frontsheet'!AF118))","v":0},{"$f":"IF(OR('Trust - Frontsheet'!AG118=\"\",'Trust - Frontsheet'!AG118=\"-\"),0,('Trust - Frontsheet'!AG118))","v":0},{"$f":"IF(OR('Trust - Frontsheet'!AH118=\"\",'Trust - Frontsheet'!AH118=\"-\"),0,('Trust - Frontsheet'!AH118))","v":0},{"$f":"IF(OR('Trust - Frontsheet'!AI118=\"\",'Trust - Frontsheet'!AI118=\"-\"),0,('Trust - Frontsheet'!AI118))","v":0},{"$f":"IF(OR('Trust - Frontsheet'!AJ118=\"\",'Trust - Frontsheet'!AJ118=\"-\"),0,('Trust - Frontsheet'!AJ118))","v":0},{"$f":"IF(A106=\"\",\"\",(IF(ISBLANK('Trust - Frontsheet'!F9),\"\",'Trust - Frontsheet'!F9)))","v":""}]
[{"$f":"IF('Trust - Frontsheet'!D119=0,\"\",IF('Trust - Frontsheet'!D119=\"\",\"\",'Trust - Frontsheet'!D119))","v":""},{"$f":"IF(ISBLANK('Trust - Frontsheet'!E119),\"\",'Trust - Frontsheet'!E119)","v":""},{"$f":"IF(ISBLANK('Trust - Frontsheet'!F119),\"\",\"'\" & 'Trust - Frontsheet'!F119 & \"'\")","v":""},{"$f":"IF(ISBLANK('Trust - Frontsheet'!G119),\"\",'Trust - Frontsheet'!G119)","v":""},{"$f":"IF(ISBLANK('Trust - Frontsheet'!H119),\"\",'Trust - Frontsheet'!H119)","v":""},{"$f":"'Trust - Frontsheet'!I119","v":0},{"$f":"'Trust - Frontsheet'!J119","v":0},{"$f":"'Trust - Frontsheet'!K119","v":0},{"$f":"'Trust - Frontsheet'!L119","v":0},{"$f":"'Trust - Frontsheet'!M119","v":0},{"$f":"'Trust - Frontsheet'!N119","v":0},{"$f":"'Trust - Frontsheet'!O119","v":0},{"$f":"'Trust - Frontsheet'!P119","v":0},{"$f":"'Trust - Frontsheet'!Q119","v":0},{"$f":"'Trust - Frontsheet'!R119","v":0},{"$f":"'Trust - Frontsheet'!S119","v":0},{"$f":"'Trust - Frontsheet'!T119","v":0},{"$f":"'Trust - Frontsheet'!U119","v":0},{"$f":"'Trust - Frontsheet'!V119","v":0},{"$f":"'Trust - Frontsheet'!W119","v":0},{"$f":"'Trust - Frontsheet'!X119","v":0},{"$f":"'Trust - Frontsheet'!Y119","v":0},{"$f":"'Trust - Frontsheet'!Z119","v":0},{"$f":"'Trust - Frontsheet'!AA119","v":0},{"$f":"'Trust - Frontsheet'!AB119","v":0},{"$f":"IF(OR('Trust - Frontsheet'!AK119=\"\",'Trust - Frontsheet'!AK119=\"-\"),0,('Trust - Frontsheet'!AK119))","v":0},{"$f":"IF(OR('Trust - Frontsheet'!AL119=\"\",'Trust - Frontsheet'!AL119=\"-\"),0,('Trust - Frontsheet'!AL119))","v":0},{"$f":"IF(OR('Trust - Frontsheet'!AM119=\"\",'Trust - Frontsheet'!AM119=\"-\"),0,('Trust - Frontsheet'!AM119))","v":0},{"$f":"IF(OR('Trust - Frontsheet'!AN119=\"\",'Trust - Frontsheet'!AN119=\"-\"),0,('Trust - Frontsheet'!AN119))","v":0},{"$f":"IF(OR('Trust - Frontsheet'!AO119=\"\",'Trust - Frontsheet'!AO119=\"-\"),0,('Trust - Frontsheet'!AO119))","v":0},{"$f":"IF(OR('Trust - Frontsheet'!AP119=\"\",'Trust - Frontsheet'!AP119=\"-\"),0,('Trust - Frontsheet'!AP119))","v":0},{"$f":"IF(OR('Trust - Frontsheet'!AQ119=\"\",'Trust - Frontsheet'!AQ119=\"-\"),0,('Trust - Frontsheet'!AQ119))","v":0},{"$f":"IF(OR('Trust - Frontsheet'!AR119=\"\",'Trust - Frontsheet'!AR119=\"-\"),0,('Trust - Frontsheet'!AR119))","v":0},{"$f":"IF(OR('Trust - Frontsheet'!AS119=\"\",'Trust - Frontsheet'!AS119=\"-\"),0,('Trust - Frontsheet'!AS119))","v":0},{"$f":"IF(OR('Trust - Frontsheet'!AT119=\"\",'Trust - Frontsheet'!AT119=\"-\"),0,('Trust - Frontsheet'!AT119))","v":0},{"$f":"'Trust - Frontsheet'!AC119","v":0},{"$f":"IF(OR('Trust - Frontsheet'!AD119=\"\",'Trust - Frontsheet'!AD119=\"-\"),0,('Trust - Frontsheet'!AD119))","v":0},{"$f":"IF(OR('Trust - Frontsheet'!AE119=\"\",'Trust - Frontsheet'!AE119=\"-\"),0,('Trust - Frontsheet'!AE119))","v":0},{"$f":"IF(OR('Trust - Frontsheet'!AF119=\"\",'Trust - Frontsheet'!AF119=\"-\"),0,('Trust - Frontsheet'!AF119))","v":0},{"$f":"IF(OR('Trust - Frontsheet'!AG119=\"\",'Trust - Frontsheet'!AG119=\"-\"),0,('Trust - Frontsheet'!AG119))","v":0},{"$f":"IF(OR('Trust - Frontsheet'!AH119=\"\",'Trust - Frontsheet'!AH119=\"-\"),0,('Trust - Frontsheet'!AH119))","v":0},{"$f":"IF(OR('Trust - Frontsheet'!AI119=\"\",'Trust - Frontsheet'!AI119=\"-\"),0,('Trust - Frontsheet'!AI119))","v":0},{"$f":"IF(OR('Trust - Frontsheet'!AJ119=\"\",'Trust - Frontsheet'!AJ119=\"-\"),0,('Trust - Frontsheet'!AJ119))","v":0},{"$f":"IF(A107=\"\",\"\",(IF(ISBLANK('Trust - Frontsheet'!F9),\"\",'Trust - Frontsheet'!F9)))","v":""}]
[{"$f":"IF('Trust - Frontsheet'!D120=0,\"\",IF('Trust - Frontsheet'!D120=\"\",\"\",'Trust - Frontsheet'!D120))","v":""},{"$f":"IF(ISBLANK('Trust - Frontsheet'!E120),\"\",'Trust - Frontsheet'!E120)","v":""},{"$f":"IF(ISBLANK('Trust - Frontsheet'!F120),\"\",\"'\" & 'Trust - Frontsheet'!F120 & \"'\")","v":""},{"$f":"IF(ISBLANK('Trust - Frontsheet'!G120),\"\",'Trust - Frontsheet'!G120)","v":""},{"$f":"IF(ISBLANK('Trust - Frontsheet'!H120),\"\",'Trust - Frontsheet'!H120)","v":""},{"$f":"'Trust - Frontsheet'!I120","v":0},{"$f":"'Trust - Frontsheet'!J120","v":0},{"$f":"'Trust - Frontsheet'!K120","v":0},{"$f":"'Trust - Frontsheet'!L120","v":0},{"$f":"'Trust - Frontsheet'!M120","v":0},{"$f":"'Trust - Frontsheet'!N120","v":0},{"$f":"'Trust - Frontsheet'!O120","v":0},{"$f":"'Trust - Frontsheet'!P120","v":0},{"$f":"'Trust - Frontsheet'!Q120","v":0},{"$f":"'Trust - Frontsheet'!R120","v":0},{"$f":"'Trust - Frontsheet'!S120","v":0},{"$f":"'Trust - Frontsheet'!T120","v":0},{"$f":"'Trust - Frontsheet'!U120","v":0},{"$f":"'Trust - Frontsheet'!V120","v":0},{"$f":"'Trust - Frontsheet'!W120","v":0},{"$f":"'Trust - Frontsheet'!X120","v":0},{"$f":"'Trust - Frontsheet'!Y120","v":0},{"$f":"'Trust - Frontsheet'!Z120","v":0},{"$f":"'Trust - Frontsheet'!AA120","v":0},{"$f":"'Trust - Frontsheet'!AB120","v":0},{"$f":"IF(OR('Trust - Frontsheet'!AK120=\"\",'Trust - Frontsheet'!AK120=\"-\"),0,('Trust - Frontsheet'!AK120))","v":0},{"$f":"IF(OR('Trust - Frontsheet'!AL120=\"\",'Trust - Frontsheet'!AL120=\"-\"),0,('Trust - Frontsheet'!AL120))","v":0},{"$f":"IF(OR('Trust - Frontsheet'!AM120=\"\",'Trust - Frontsheet'!AM120=\"-\"),0,('Trust - Frontsheet'!AM120))","v":0},{"$f":"IF(OR('Trust - Frontsheet'!AN120=\"\",'Trust - Frontsheet'!AN120=\"-\"),0,('Trust - Frontsheet'!AN120))","v":0},{"$f":"IF(OR('Trust - Frontsheet'!AO120=\"\",'Trust - Frontsheet'!AO120=\"-\"),0,('Trust - Frontsheet'!AO120))","v":0},{"$f":"IF(OR('Trust - Frontsheet'!AP120=\"\",'Trust - Frontsheet'!AP120=\"-\"),0,('Trust - Frontsheet'!AP120))","v":0},{"$f":"IF(OR('Trust - Frontsheet'!AQ120=\"\",'Trust - Frontsheet'!AQ120=\"-\"),0,('Trust - Frontsheet'!AQ120))","v":0},{"$f":"IF(OR('Trust - Frontsheet'!AR120=\"\",'Trust - Frontsheet'!AR120=\"-\"),0,('Trust - Frontsheet'!AR120))","v":0},{"$f":"IF(OR('Trust - Frontsheet'!AS120=\"\",'Trust - Frontsheet'!AS120=\"-\"),0,('Trust - Frontsheet'!AS120))","v":0},{"$f":"IF(OR('Trust - Frontsheet'!AT120=\"\",'Trust - Frontsheet'!AT120=\"-\"),0,('Trust - Frontsheet'!AT120))","v":0},{"$f":"'Trust - Frontsheet'!AC120","v":0},{"$f":"IF(OR('Trust - Frontsheet'!AD120=\"\",'Trust - Frontsheet'!AD120=\"-\"),0,('Trust - Frontsheet'!AD120))","v":0},{"$f":"IF(OR('Trust - Frontsheet'!AE120=\"\",'Trust - Frontsheet'!AE120=\"-\"),0,('Trust - Frontsheet'!AE120))","v":0},{"$f":"IF(OR('Trust - Frontsheet'!AF120=\"\",'Trust - Frontsheet'!AF120=\"-\"),0,('Trust - Frontsheet'!AF120))","v":0},{"$f":"IF(OR('Trust - Frontsheet'!AG120=\"\",'Trust - Frontsheet'!AG120=\"-\"),0,('Trust - Frontsheet'!AG120))","v":0},{"$f":"IF(OR('Trust - Frontsheet'!AH120=\"\",'Trust - Frontsheet'!AH120=\"-\"),0,('Trust - Frontsheet'!AH120))","v":0},{"$f":"IF(OR('Trust - Frontsheet'!AI120=\"\",'Trust - Frontsheet'!AI120=\"-\"),0,('Trust - Frontsheet'!AI120))","v":0},{"$f":"IF(OR('Trust - Frontsheet'!AJ120=\"\",'Trust - Frontsheet'!AJ120=\"-\"),0,('Trust - Frontsheet'!AJ120))","v":0},{"$f":"IF(A108=\"\",\"\",(IF(ISBLANK('Trust - Frontsheet'!F9),\"\",'Trust - Frontsheet'!F9)))","v":""}]
[{"$f":"IF('Trust - Frontsheet'!D121=0,\"\",IF('Trust - Frontsheet'!D121=\"\",\"\",'Trust - Frontsheet'!D121))","v":""},{"$f":"IF(ISBLANK('Trust - Frontsheet'!E121),\"\",'Trust - Frontsheet'!E121)","v":""},{"$f":"IF(ISBLANK('Trust - Frontsheet'!F121),\"\",\"'\" & 'Trust - Frontsheet'!F121 & \"'\")","v":""},{"$f":"IF(ISBLANK('Trust - Frontsheet'!G121),\"\",'Trust - Frontsheet'!G121)","v":""},{"$f":"IF(ISBLANK('Trust - Frontsheet'!H121),\"\",'Trust - Frontsheet'!H121)","v":""},{"$f":"'Trust - Frontsheet'!I121","v":0},{"$f":"'Trust - Frontsheet'!J121","v":0},{"$f":"'Trust - Frontsheet'!K121","v":0},{"$f":"'Trust - Frontsheet'!L121","v":0},{"$f":"'Trust - Frontsheet'!M121","v":0},{"$f":"'Trust - Frontsheet'!N121","v":0},{"$f":"'Trust - Frontsheet'!O121","v":0},{"$f":"'Trust - Frontsheet'!P121","v":0},{"$f":"'Trust - Frontsheet'!Q121","v":0},{"$f":"'Trust - Frontsheet'!R121","v":0},{"$f":"'Trust - Frontsheet'!S121","v":0},{"$f":"'Trust - Frontsheet'!T121","v":0},{"$f":"'Trust - Frontsheet'!U121","v":0},{"$f":"'Trust - Frontsheet'!V121","v":0},{"$f":"'Trust - Frontsheet'!W121","v":0},{"$f":"'Trust - Frontsheet'!X121","v":0},{"$f":"'Trust - Frontsheet'!Y121","v":0},{"$f":"'Trust - Frontsheet'!Z121","v":0},{"$f":"'Trust - Frontsheet'!AA121","v":0},{"$f":"'Trust - Frontsheet'!AB121","v":0},{"$f":"IF(OR('Trust - Frontsheet'!AK121=\"\",'Trust - Frontsheet'!AK121=\"-\"),0,('Trust - Frontsheet'!AK121))","v":0},{"$f":"IF(OR('Trust - Frontsheet'!AL121=\"\",'Trust - Frontsheet'!AL121=\"-\"),0,('Trust - Frontsheet'!AL121))","v":0},{"$f":"IF(OR('Trust - Frontsheet'!AM121=\"\",'Trust - Frontsheet'!AM121=\"-\"),0,('Trust - Frontsheet'!AM121))","v":0},{"$f":"IF(OR('Trust - Frontsheet'!AN121=\"\",'Trust - Frontsheet'!AN121=\"-\"),0,('Trust - Frontsheet'!AN121))","v":0},{"$f":"IF(OR('Trust - Frontsheet'!AO121=\"\",'Trust - Frontsheet'!AO121=\"-\"),0,('Trust - Frontsheet'!AO121))","v":0},{"$f":"IF(OR('Trust - Frontsheet'!AP121=\"\",'Trust - Frontsheet'!AP121=\"-\"),0,('Trust - Frontsheet'!AP121))","v":0},{"$f":"IF(OR('Trust - Frontsheet'!AQ121=\"\",'Trust - Frontsheet'!AQ121=\"-\"),0,('Trust - Frontsheet'!AQ121))","v":0},{"$f":"IF(OR('Trust - Frontsheet'!AR121=\"\",'Trust - Frontsheet'!AR121=\"-\"),0,('Trust - Frontsheet'!AR121))","v":0},{"$f":"IF(OR('Trust - Frontsheet'!AS121=\"\",'Trust - Frontsheet'!AS121=\"-\"),0,('Trust - Frontsheet'!AS121))","v":0},{"$f":"IF(OR('Trust - Frontsheet'!AT121=\"\",'Trust - Frontsheet'!AT121=\"-\"),0,('Trust - Frontsheet'!AT121))","v":0},{"$f":"'Trust - Frontsheet'!AC121","v":0},{"$f":"IF(OR('Trust - Frontsheet'!AD121=\"\",'Trust - Frontsheet'!AD121=\"-\"),0,('Trust - Frontsheet'!AD121))","v":0},{"$f":"IF(OR('Trust - Frontsheet'!AE121=\"\",'Trust - Frontsheet'!AE121=\"-\"),0,('Trust - Frontsheet'!AE121))","v":0},{"$f":"IF(OR('Trust - Frontsheet'!AF121=\"\",'Trust - Frontsheet'!AF121=\"-\"),0,('Trust - Frontsheet'!AF121))","v":0},{"$f":"IF(OR('Trust - Frontsheet'!AG121=\"\",'Trust - Frontsheet'!AG121=\"-\"),0,('Trust - Frontsheet'!AG121))","v":0},{"$f":"IF(OR('Trust - Frontsheet'!AH121=\"\",'Trust - Frontsheet'!AH121=\"-\"),0,('Trust - Frontsheet'!AH121))","v":0},{"$f":"IF(OR('Trust - Frontsheet'!AI121=\"\",'Trust - Frontsheet'!AI121=\"-\"),0,('Trust - Frontsheet'!AI121))","v":0},{"$f":"IF(OR('Trust - Frontsheet'!AJ121=\"\",'Trust - Frontsheet'!AJ121=\"-\"),0,('Trust - Frontsheet'!AJ121))","v":0},{"$f":"IF(A109=\"\",\"\",(IF(ISBLANK('Trust - Frontsheet'!F9),\"\",'Trust - Frontsheet'!F9)))","v":""}]
[{"$f":"IF('Trust - Frontsheet'!D122=0,\"\",IF('Trust - Frontsheet'!D122=\"\",\"\",'Trust - Frontsheet'!D122))","v":""},{"$f":"IF(ISBLANK('Trust - Frontsheet'!E122),\"\",'Trust - Frontsheet'!E122)","v":""},{"$f":"IF(ISBLANK('Trust - Frontsheet'!F122),\"\",\"'\" & 'Trust - Frontsheet'!F122 & \"'\")","v":""},{"$f":"IF(ISBLANK('Trust - Frontsheet'!G122),\"\",'Trust - Frontsheet'!G122)","v":""},{"$f":"IF(ISBLANK('Trust - Frontsheet'!H122),\"\",'Trust - Frontsheet'!H122)","v":""},{"$f":"'Trust - Frontsheet'!I122","v":0},{"$f":"'Trust - Frontsheet'!J122","v":0},{"$f":"'Trust - Frontsheet'!K122","v":0},{"$f":"'Trust - Frontsheet'!L122","v":0},{"$f":"'Trust - Frontsheet'!M122","v":0},{"$f":"'Trust - Frontsheet'!N122","v":0},{"$f":"'Trust - Frontsheet'!O122","v":0},{"$f":"'Trust - Frontsheet'!P122","v":0},{"$f":"'Trust - Frontsheet'!Q122","v":0},{"$f":"'Trust - Frontsheet'!R122","v":0},{"$f":"'Trust - Frontsheet'!S122","v":0},{"$f":"'Trust - Frontsheet'!T122","v":0},{"$f":"'Trust - Frontsheet'!U122","v":0},{"$f":"'Trust - Frontsheet'!V122","v":0},{"$f":"'Trust - Frontsheet'!W122","v":0},{"$f":"'Trust - Frontsheet'!X122","v":0},{"$f":"'Trust - Frontsheet'!Y122","v":0},{"$f":"'Trust - Frontsheet'!Z122","v":0},{"$f":"'Trust - Frontsheet'!AA122","v":0},{"$f":"'Trust - Frontsheet'!AB122","v":0},{"$f":"IF(OR('Trust - Frontsheet'!AK122=\"\",'Trust - Frontsheet'!AK122=\"-\"),0,('Trust - Frontsheet'!AK122))","v":0},{"$f":"IF(OR('Trust - Frontsheet'!AL122=\"\",'Trust - Frontsheet'!AL122=\"-\"),0,('Trust - Frontsheet'!AL122))","v":0},{"$f":"IF(OR('Trust - Frontsheet'!AM122=\"\",'Trust - Frontsheet'!AM122=\"-\"),0,('Trust - Frontsheet'!AM122))","v":0},{"$f":"IF(OR('Trust - Frontsheet'!AN122=\"\",'Trust - Frontsheet'!AN122=\"-\"),0,('Trust - Frontsheet'!AN122))","v":0},{"$f":"IF(OR('Trust - Frontsheet'!AO122=\"\",'Trust - Frontsheet'!AO122=\"-\"),0,('Trust - Frontsheet'!AO122))","v":0},{"$f":"IF(OR('Trust - Frontsheet'!AP122=\"\",'Trust - Frontsheet'!AP122=\"-\"),0,('Trust - Frontsheet'!AP122))","v":0},{"$f":"IF(OR('Trust - Frontsheet'!AQ122=\"\",'Trust - Frontsheet'!AQ122=\"-\"),0,('Trust - Frontsheet'!AQ122))","v":0},{"$f":"IF(OR('Trust - Frontsheet'!AR122=\"\",'Trust - Frontsheet'!AR122=\"-\"),0,('Trust - Frontsheet'!AR122))","v":0},{"$f":"IF(OR('Trust - Frontsheet'!AS122=\"\",'Trust - Frontsheet'!AS122=\"-\"),0,('Trust - Frontsheet'!AS122))","v":0},{"$f":"IF(OR('Trust - Frontsheet'!AT122=\"\",'Trust - Frontsheet'!AT122=\"-\"),0,('Trust - Frontsheet'!AT122))","v":0},{"$f":"'Trust - Frontsheet'!AC122","v":0},{"$f":"IF(OR('Trust - Frontsheet'!AD122=\"\",'Trust - Frontsheet'!AD122=\"-\"),0,('Trust - Frontsheet'!AD122))","v":0},{"$f":"IF(OR('Trust - Frontsheet'!AE122=\"\",'Trust - Frontsheet'!AE122=\"-\"),0,('Trust - Frontsheet'!AE122))","v":0},{"$f":"IF(OR('Trust - Frontsheet'!AF122=\"\",'Trust - Frontsheet'!AF122=\"-\"),0,('Trust - Frontsheet'!AF122))","v":0},{"$f":"IF(OR('Trust - Frontsheet'!AG122=\"\",'Trust - Frontsheet'!AG122=\"-\"),0,('Trust - Frontsheet'!AG122))","v":0},{"$f":"IF(OR('Trust - Frontsheet'!AH122=\"\",'Trust - Frontsheet'!AH122=\"-\"),0,('Trust - Frontsheet'!AH122))","v":0},{"$f":"IF(OR('Trust - Frontsheet'!AI122=\"\",'Trust - Frontsheet'!AI122=\"-\"),0,('Trust - Frontsheet'!AI122))","v":0},{"$f":"IF(OR('Trust - Frontsheet'!AJ122=\"\",'Trust - Frontsheet'!AJ122=\"-\"),0,('Trust - Frontsheet'!AJ122))","v":0},{"$f":"IF(A110=\"\",\"\",(IF(ISBLANK('Trust - Frontsheet'!F9),\"\",'Trust - Frontsheet'!F9)))","v":""}]
[{"$f":"IF('Trust - Frontsheet'!D123=0,\"\",IF('Trust - Frontsheet'!D123=\"\",\"\",'Trust - Frontsheet'!D123))","v":""},{"$f":"IF(ISBLANK('Trust - Frontsheet'!E123),\"\",'Trust - Frontsheet'!E123)","v":""},{"$f":"IF(ISBLANK('Trust - Frontsheet'!F123),\"\",\"'\" & 'Trust - Frontsheet'!F123 & \"'\")","v":""},{"$f":"IF(ISBLANK('Trust - Frontsheet'!G123),\"\",'Trust - Frontsheet'!G123)","v":""},{"$f":"IF(ISBLANK('Trust - Frontsheet'!H123),\"\",'Trust - Frontsheet'!H123)","v":""},{"$f":"'Trust - Frontsheet'!I123","v":0},{"$f":"'Trust - Frontsheet'!J123","v":0},{"$f":"'Trust - Frontsheet'!K123","v":0},{"$f":"'Trust - Frontsheet'!L123","v":0},{"$f":"'Trust - Frontsheet'!M123","v":0},{"$f":"'Trust - Frontsheet'!N123","v":0},{"$f":"'Trust - Frontsheet'!O123","v":0},{"$f":"'Trust - Frontsheet'!P123","v":0},{"$f":"'Trust - Frontsheet'!Q123","v":0},{"$f":"'Trust - Frontsheet'!R123","v":0},{"$f":"'Trust - Frontsheet'!S123","v":0},{"$f":"'Trust - Frontsheet'!T123","v":0},{"$f":"'Trust - Frontsheet'!U123","v":0},{"$f":"'Trust - Frontsheet'!V123","v":0},{"$f":"'Trust - Frontsheet'!W123","v":0},{"$f":"'Trust - Frontsheet'!X123","v":0},{"$f":"'Trust - Frontsheet'!Y123","v":0},{"$f":"'Trust - Frontsheet'!Z123","v":0},{"$f":"'Trust - Frontsheet'!AA123","v":0},{"$f":"'Trust - Frontsheet'!AB123","v":0},{"$f":"IF(OR('Trust - Frontsheet'!AK123=\"\",'Trust - Frontsheet'!AK123=\"-\"),0,('Trust - Frontsheet'!AK123))","v":0},{"$f":"IF(OR('Trust - Frontsheet'!AL123=\"\",'Trust - Frontsheet'!AL123=\"-\"),0,('Trust - Frontsheet'!AL123))","v":0},{"$f":"IF(OR('Trust - Frontsheet'!AM123=\"\",'Trust - Frontsheet'!AM123=\"-\"),0,('Trust - Frontsheet'!AM123))","v":0},{"$f":"IF(OR('Trust - Frontsheet'!AN123=\"\",'Trust - Frontsheet'!AN123=\"-\"),0,('Trust - Frontsheet'!AN123))","v":0},{"$f":"IF(OR('Trust - Frontsheet'!AO123=\"\",'Trust - Frontsheet'!AO123=\"-\"),0,('Trust - Frontsheet'!AO123))","v":0},{"$f":"IF(OR('Trust - Frontsheet'!AP123=\"\",'Trust - Frontsheet'!AP123=\"-\"),0,('Trust - Frontsheet'!AP123))","v":0},{"$f":"IF(OR('Trust - Frontsheet'!AQ123=\"\",'Trust - Frontsheet'!AQ123=\"-\"),0,('Trust - Frontsheet'!AQ123))","v":0},{"$f":"IF(OR('Trust - Frontsheet'!AR123=\"\",'Trust - Frontsheet'!AR123=\"-\"),0,('Trust - Frontsheet'!AR123))","v":0},{"$f":"IF(OR('Trust - Frontsheet'!AS123=\"\",'Trust - Frontsheet'!AS123=\"-\"),0,('Trust - Frontsheet'!AS123))","v":0},{"$f":"IF(OR('Trust - Frontsheet'!AT123=\"\",'Trust - Frontsheet'!AT123=\"-\"),0,('Trust - Frontsheet'!AT123))","v":0},{"$f":"'Trust - Frontsheet'!AC123","v":0},{"$f":"IF(OR('Trust - Frontsheet'!AD123=\"\",'Trust - Frontsheet'!AD123=\"-\"),0,('Trust - Frontsheet'!AD123))","v":0},{"$f":"IF(OR('Trust - Frontsheet'!AE123=\"\",'Trust - Frontsheet'!AE123=\"-\"),0,('Trust - Frontsheet'!AE123))","v":0},{"$f":"IF(OR('Trust - Frontsheet'!AF123=\"\",'Trust - Frontsheet'!AF123=\"-\"),0,('Trust - Frontsheet'!AF123))","v":0},{"$f":"IF(OR('Trust - Frontsheet'!AG123=\"\",'Trust - Frontsheet'!AG123=\"-\"),0,('Trust - Frontsheet'!AG123))","v":0},{"$f":"IF(OR('Trust - Frontsheet'!AH123=\"\",'Trust - Frontsheet'!AH123=\"-\"),0,('Trust - Frontsheet'!AH123))","v":0},{"$f":"IF(OR('Trust - Frontsheet'!AI123=\"\",'Trust - Frontsheet'!AI123=\"-\"),0,('Trust - Frontsheet'!AI123))","v":0},{"$f":"IF(OR('Trust - Frontsheet'!AJ123=\"\",'Trust - Frontsheet'!AJ123=\"-\"),0,('Trust - Frontsheet'!AJ123))","v":0},{"$f":"IF(A111=\"\",\"\",(IF(ISBLANK('Trust - Frontsheet'!F9),\"\",'Trust - Frontsheet'!F9)))","v":""}]
[{"$f":"IF('Trust - Frontsheet'!D124=0,\"\",IF('Trust - Frontsheet'!D124=\"\",\"\",'Trust - Frontsheet'!D124))","v":""},{"$f":"IF(ISBLANK('Trust - Frontsheet'!E124),\"\",'Trust - Frontsheet'!E124)","v":""},{"$f":"IF(ISBLANK('Trust - Frontsheet'!F124),\"\",\"'\" & 'Trust - Frontsheet'!F124 & \"'\")","v":""},{"$f":"IF(ISBLANK('Trust - Frontsheet'!G124),\"\",'Trust - Frontsheet'!G124)","v":""},{"$f":"IF(ISBLANK('Trust - Frontsheet'!H124),\"\",'Trust - Frontsheet'!H124)","v":""},{"$f":"'Trust - Frontsheet'!I124","v":0},{"$f":"'Trust - Frontsheet'!J124","v":0},{"$f":"'Trust - Frontsheet'!K124","v":0},{"$f":"'Trust - Frontsheet'!L124","v":0},{"$f":"'Trust - Frontsheet'!M124","v":0},{"$f":"'Trust - Frontsheet'!N124","v":0},{"$f":"'Trust - Frontsheet'!O124","v":0},{"$f":"'Trust - Frontsheet'!P124","v":0},{"$f":"'Trust - Frontsheet'!Q124","v":0},{"$f":"'Trust - Frontsheet'!R124","v":0},{"$f":"'Trust - Frontsheet'!S124","v":0},{"$f":"'Trust - Frontsheet'!T124","v":0},{"$f":"'Trust - Frontsheet'!U124","v":0},{"$f":"'Trust - Frontsheet'!V124","v":0},{"$f":"'Trust - Frontsheet'!W124","v":0},{"$f":"'Trust - Frontsheet'!X124","v":0},{"$f":"'Trust - Frontsheet'!Y124","v":0},{"$f":"'Trust - Frontsheet'!Z124","v":0},{"$f":"'Trust - Frontsheet'!AA124","v":0},{"$f":"'Trust - Frontsheet'!AB124","v":0},{"$f":"IF(OR('Trust - Frontsheet'!AK124=\"\",'Trust - Frontsheet'!AK124=\"-\"),0,('Trust - Frontsheet'!AK124))","v":0},{"$f":"IF(OR('Trust - Frontsheet'!AL124=\"\",'Trust - Frontsheet'!AL124=\"-\"),0,('Trust - Frontsheet'!AL124))","v":0},{"$f":"IF(OR('Trust - Frontsheet'!AM124=\"\",'Trust - Frontsheet'!AM124=\"-\"),0,('Trust - Frontsheet'!AM124))","v":0},{"$f":"IF(OR('Trust - Frontsheet'!AN124=\"\",'Trust - Frontsheet'!AN124=\"-\"),0,('Trust - Frontsheet'!AN124))","v":0},{"$f":"IF(OR('Trust - Frontsheet'!AO124=\"\",'Trust - Frontsheet'!AO124=\"-\"),0,('Trust - Frontsheet'!AO124))","v":0},{"$f":"IF(OR('Trust - Frontsheet'!AP124=\"\",'Trust - Frontsheet'!AP124=\"-\"),0,('Trust - Frontsheet'!AP124))","v":0},{"$f":"IF(OR('Trust - Frontsheet'!AQ124=\"\",'Trust - Frontsheet'!AQ124=\"-\"),0,('Trust - Frontsheet'!AQ124))","v":0},{"$f":"IF(OR('Trust - Frontsheet'!AR124=\"\",'Trust - Frontsheet'!AR124=\"-\"),0,('Trust - Frontsheet'!AR124))","v":0},{"$f":"IF(OR('Trust - Frontsheet'!AS124=\"\",'Trust - Frontsheet'!AS124=\"-\"),0,('Trust - Frontsheet'!AS124))","v":0},{"$f":"IF(OR('Trust - Frontsheet'!AT124=\"\",'Trust - Frontsheet'!AT124=\"-\"),0,('Trust - Frontsheet'!AT124))","v":0},{"$f":"'Trust - Frontsheet'!AC124","v":0},{"$f":"IF(OR('Trust - Frontsheet'!AD124=\"\",'Trust - Frontsheet'!AD124=\"-\"),0,('Trust - Frontsheet'!AD124))","v":0},{"$f":"IF(OR('Trust - Frontsheet'!AE124=\"\",'Trust - Frontsheet'!AE124=\"-\"),0,('Trust - Frontsheet'!AE124))","v":0},{"$f":"IF(OR('Trust - Frontsheet'!AF124=\"\",'Trust - Frontsheet'!AF124=\"-\"),0,('Trust - Frontsheet'!AF124))","v":0},{"$f":"IF(OR('Trust - Frontsheet'!AG124=\"\",'Trust - Frontsheet'!AG124=\"-\"),0,('Trust - Frontsheet'!AG124))","v":0},{"$f":"IF(OR('Trust - Frontsheet'!AH124=\"\",'Trust - Frontsheet'!AH124=\"-\"),0,('Trust - Frontsheet'!AH124))","v":0},{"$f":"IF(OR('Trust - Frontsheet'!AI124=\"\",'Trust - Frontsheet'!AI124=\"-\"),0,('Trust - Frontsheet'!AI124))","v":0},{"$f":"IF(OR('Trust - Frontsheet'!AJ124=\"\",'Trust - Frontsheet'!AJ124=\"-\"),0,('Trust - Frontsheet'!AJ124))","v":0},{"$f":"IF(A112=\"\",\"\",(IF(ISBLANK('Trust - Frontsheet'!F9),\"\",'Trust - Frontsheet'!F9)))","v":""}]
[{"$f":"IF('Trust - Frontsheet'!D125=0,\"\",IF('Trust - Frontsheet'!D125=\"\",\"\",'Trust - Frontsheet'!D125))","v":""},{"$f":"IF(ISBLANK('Trust - Frontsheet'!E125),\"\",'Trust - Frontsheet'!E125)","v":""},{"$f":"IF(ISBLANK('Trust - Frontsheet'!F125),\"\",\"'\" & 'Trust - Frontsheet'!F125 & \"'\")","v":""},{"$f":"IF(ISBLANK('Trust - Frontsheet'!G125),\"\",'Trust - Frontsheet'!G125)","v":""},{"$f":"IF(ISBLANK('Trust - Frontsheet'!H125),\"\",'Trust - Frontsheet'!H125)","v":""},{"$f":"'Trust - Frontsheet'!I125","v":0},{"$f":"'Trust - Frontsheet'!J125","v":0},{"$f":"'Trust - Frontsheet'!K125","v":0},{"$f":"'Trust - Frontsheet'!L125","v":0},{"$f":"'Trust - Frontsheet'!M125","v":0},{"$f":"'Trust - Frontsheet'!N125","v":0},{"$f":"'Trust - Frontsheet'!O125","v":0},{"$f":"'Trust - Frontsheet'!P125","v":0},{"$f":"'Trust - Frontsheet'!Q125","v":0},{"$f":"'Trust - Frontsheet'!R125","v":0},{"$f":"'Trust - Frontsheet'!S125","v":0},{"$f":"'Trust - Frontsheet'!T125","v":0},{"$f":"'Trust - Frontsheet'!U125","v":0},{"$f":"'Trust - Frontsheet'!V125","v":0},{"$f":"'Trust - Frontsheet'!W125","v":0},{"$f":"'Trust - Frontsheet'!X125","v":0},{"$f":"'Trust - Frontsheet'!Y125","v":0},{"$f":"'Trust - Frontsheet'!Z125","v":0},{"$f":"'Trust - Frontsheet'!AA125","v":0},{"$f":"'Trust - Frontsheet'!AB125","v":0},{"$f":"IF(OR('Trust - Frontsheet'!AK125=\"\",'Trust - Frontsheet'!AK125=\"-\"),0,('Trust - Frontsheet'!AK125))","v":0},{"$f":"IF(OR('Trust - Frontsheet'!AL125=\"\",'Trust - Frontsheet'!AL125=\"-\"),0,('Trust - Frontsheet'!AL125))","v":0},{"$f":"IF(OR('Trust - Frontsheet'!AM125=\"\",'Trust - Frontsheet'!AM125=\"-\"),0,('Trust - Frontsheet'!AM125))","v":0},{"$f":"IF(OR('Trust - Frontsheet'!AN125=\"\",'Trust - Frontsheet'!AN125=\"-\"),0,('Trust - Frontsheet'!AN125))","v":0},{"$f":"IF(OR('Trust - Frontsheet'!AO125=\"\",'Trust - Frontsheet'!AO125=\"-\"),0,('Trust - Frontsheet'!AO125))","v":0},{"$f":"IF(OR('Trust - Frontsheet'!AP125=\"\",'Trust - Frontsheet'!AP125=\"-\"),0,('Trust - Frontsheet'!AP125))","v":0},{"$f":"IF(OR('Trust - Frontsheet'!AQ125=\"\",'Trust - Frontsheet'!AQ125=\"-\"),0,('Trust - Frontsheet'!AQ125))","v":0},{"$f":"IF(OR('Trust - Frontsheet'!AR125=\"\",'Trust - Frontsheet'!AR125=\"-\"),0,('Trust - Frontsheet'!AR125))","v":0},{"$f":"IF(OR('Trust - Frontsheet'!AS125=\"\",'Trust - Frontsheet'!AS125=\"-\"),0,('Trust - Frontsheet'!AS125))","v":0},{"$f":"IF(OR('Trust - Frontsheet'!AT125=\"\",'Trust - Frontsheet'!AT125=\"-\"),0,('Trust - Frontsheet'!AT125))","v":0},{"$f":"'Trust - Frontsheet'!AC125","v":0},{"$f":"IF(OR('Trust - Frontsheet'!AD125=\"\",'Trust - Frontsheet'!AD125=\"-\"),0,('Trust - Frontsheet'!AD125))","v":0},{"$f":"IF(OR('Trust - Frontsheet'!AE125=\"\",'Trust - Frontsheet'!AE125=\"-\"),0,('Trust - Frontsheet'!AE125))","v":0},{"$f":"IF(OR('Trust - Frontsheet'!AF125=\"\",'Trust - Frontsheet'!AF125=\"-\"),0,('Trust - Frontsheet'!AF125))","v":0},{"$f":"IF(OR('Trust - Frontsheet'!AG125=\"\",'Trust - Frontsheet'!AG125=\"-\"),0,('Trust - Frontsheet'!AG125))","v":0},{"$f":"IF(OR('Trust - Frontsheet'!AH125=\"\",'Trust - Frontsheet'!AH125=\"-\"),0,('Trust - Frontsheet'!AH125))","v":0},{"$f":"IF(OR('Trust - Frontsheet'!AI125=\"\",'Trust - Frontsheet'!AI125=\"-\"),0,('Trust - Frontsheet'!AI125))","v":0},{"$f":"IF(OR('Trust - Frontsheet'!AJ125=\"\",'Trust - Frontsheet'!AJ125=\"-\"),0,('Trust - Frontsheet'!AJ125))","v":0},{"$f":"IF(A113=\"\",\"\",(IF(ISBLANK('Trust - Frontsheet'!F9),\"\",'Trust - Frontsheet'!F9)))","v":""}]
[{"$f":"IF('Trust - Frontsheet'!D126=0,\"\",IF('Trust - Frontsheet'!D126=\"\",\"\",'Trust - Frontsheet'!D126))","v":""},{"$f":"IF(ISBLANK('Trust - Frontsheet'!E126),\"\",'Trust - Frontsheet'!E126)","v":""},{"$f":"IF(ISBLANK('Trust - Frontsheet'!F126),\"\",\"'\" & 'Trust - Frontsheet'!F126 & \"'\")","v":""},{"$f":"IF(ISBLANK('Trust - Frontsheet'!G126),\"\",'Trust - Frontsheet'!G126)","v":""},{"$f":"IF(ISBLANK('Trust - Frontsheet'!H126),\"\",'Trust - Frontsheet'!H126)","v":""},{"$f":"'Trust - Frontsheet'!I126","v":0},{"$f":"'Trust - Frontsheet'!J126","v":0},{"$f":"'Trust - Frontsheet'!K126","v":0},{"$f":"'Trust - Frontsheet'!L126","v":0},{"$f":"'Trust - Frontsheet'!M126","v":0},{"$f":"'Trust - Frontsheet'!N126","v":0},{"$f":"'Trust - Frontsheet'!O126","v":0},{"$f":"'Trust - Frontsheet'!P126","v":0},{"$f":"'Trust - Frontsheet'!Q126","v":0},{"$f":"'Trust - Frontsheet'!R126","v":0},{"$f":"'Trust - Frontsheet'!S126","v":0},{"$f":"'Trust - Frontsheet'!T126","v":0},{"$f":"'Trust - Frontsheet'!U126","v":0},{"$f":"'Trust - Frontsheet'!V126","v":0},{"$f":"'Trust - Frontsheet'!W126","v":0},{"$f":"'Trust - Frontsheet'!X126","v":0},{"$f":"'Trust - Frontsheet'!Y126","v":0},{"$f":"'Trust - Frontsheet'!Z126","v":0},{"$f":"'Trust - Frontsheet'!AA126","v":0},{"$f":"'Trust - Frontsheet'!AB126","v":0},{"$f":"IF(OR('Trust - Frontsheet'!AK126=\"\",'Trust - Frontsheet'!AK126=\"-\"),0,('Trust - Frontsheet'!AK126))","v":0},{"$f":"IF(OR('Trust - Frontsheet'!AL126=\"\",'Trust - Frontsheet'!AL126=\"-\"),0,('Trust - Frontsheet'!AL126))","v":0},{"$f":"IF(OR('Trust - Frontsheet'!AM126=\"\",'Trust - Frontsheet'!AM126=\"-\"),0,('Trust - Frontsheet'!AM126))","v":0},{"$f":"IF(OR('Trust - Frontsheet'!AN126=\"\",'Trust - Frontsheet'!AN126=\"-\"),0,('Trust - Frontsheet'!AN126))","v":0},{"$f":"IF(OR('Trust - Frontsheet'!AO126=\"\",'Trust - Frontsheet'!AO126=\"-\"),0,('Trust - Frontsheet'!AO126))","v":0},{"$f":"IF(OR('Trust - Frontsheet'!AP126=\"\",'Trust - Frontsheet'!AP126=\"-\"),0,('Trust - Frontsheet'!AP126))","v":0},{"$f":"IF(OR('Trust - Frontsheet'!AQ126=\"\",'Trust - Frontsheet'!AQ126=\"-\"),0,('Trust - Frontsheet'!AQ126))","v":0},{"$f":"IF(OR('Trust - Frontsheet'!AR126=\"\",'Trust - Frontsheet'!AR126=\"-\"),0,('Trust - Frontsheet'!AR126))","v":0},{"$f":"IF(OR('Trust - Frontsheet'!AS126=\"\",'Trust - Frontsheet'!AS126=\"-\"),0,('Trust - Frontsheet'!AS126))","v":0},{"$f":"IF(OR('Trust - Frontsheet'!AT126=\"\",'Trust - Frontsheet'!AT126=\"-\"),0,('Trust - Frontsheet'!AT126))","v":0},{"$f":"'Trust - Frontsheet'!AC126","v":0},{"$f":"IF(OR('Trust - Frontsheet'!AD126=\"\",'Trust - Frontsheet'!AD126=\"-\"),0,('Trust - Frontsheet'!AD126))","v":0},{"$f":"IF(OR('Trust - Frontsheet'!AE126=\"\",'Trust - Frontsheet'!AE126=\"-\"),0,('Trust - Frontsheet'!AE126))","v":0},{"$f":"IF(OR('Trust - Frontsheet'!AF126=\"\",'Trust - Frontsheet'!AF126=\"-\"),0,('Trust - Frontsheet'!AF126))","v":0},{"$f":"IF(OR('Trust - Frontsheet'!AG126=\"\",'Trust - Frontsheet'!AG126=\"-\"),0,('Trust - Frontsheet'!AG126))","v":0},{"$f":"IF(OR('Trust - Frontsheet'!AH126=\"\",'Trust - Frontsheet'!AH126=\"-\"),0,('Trust - Frontsheet'!AH126))","v":0},{"$f":"IF(OR('Trust - Frontsheet'!AI126=\"\",'Trust - Frontsheet'!AI126=\"-\"),0,('Trust - Frontsheet'!AI126))","v":0},{"$f":"IF(OR('Trust - Frontsheet'!AJ126=\"\",'Trust - Frontsheet'!AJ126=\"-\"),0,('Trust - Frontsheet'!AJ126))","v":0},{"$f":"IF(A114=\"\",\"\",(IF(ISBLANK('Trust - Frontsheet'!F9),\"\",'Trust - Frontsheet'!F9)))","v":""}]
[{"$f":"IF('Trust - Frontsheet'!D127=0,\"\",IF('Trust - Frontsheet'!D127=\"\",\"\",'Trust - Frontsheet'!D127))","v":""},{"$f":"IF(ISBLANK('Trust - Frontsheet'!E127),\"\",'Trust - Frontsheet'!E127)","v":""},{"$f":"IF(ISBLANK('Trust - Frontsheet'!F127),\"\",\"'\" & 'Trust - Frontsheet'!F127 & \"'\")","v":""},{"$f":"IF(ISBLANK('Trust - Frontsheet'!G127),\"\",'Trust - Frontsheet'!G127)","v":""},{"$f":"IF(ISBLANK('Trust - Frontsheet'!H127),\"\",'Trust - Frontsheet'!H127)","v":""},{"$f":"'Trust - Frontsheet'!I127","v":0},{"$f":"'Trust - Frontsheet'!J127","v":0},{"$f":"'Trust - Frontsheet'!K127","v":0},{"$f":"'Trust - Frontsheet'!L127","v":0},{"$f":"'Trust - Frontsheet'!M127","v":0},{"$f":"'Trust - Frontsheet'!N127","v":0},{"$f":"'Trust - Frontsheet'!O127","v":0},{"$f":"'Trust - Frontsheet'!P127","v":0},{"$f":"'Trust - Frontsheet'!Q127","v":0},{"$f":"'Trust - Frontsheet'!R127","v":0},{"$f":"'Trust - Frontsheet'!S127","v":0},{"$f":"'Trust - Frontsheet'!T127","v":0},{"$f":"'Trust - Frontsheet'!U127","v":0},{"$f":"'Trust - Frontsheet'!V127","v":0},{"$f":"'Trust - Frontsheet'!W127","v":0},{"$f":"'Trust - Frontsheet'!X127","v":0},{"$f":"'Trust - Frontsheet'!Y127","v":0},{"$f":"'Trust - Frontsheet'!Z127","v":0},{"$f":"'Trust - Frontsheet'!AA127","v":0},{"$f":"'Trust - Frontsheet'!AB127","v":0},{"$f":"IF(OR('Trust - Frontsheet'!AK127=\"\",'Trust - Frontsheet'!AK127=\"-\"),0,('Trust - Frontsheet'!AK127))","v":0},{"$f":"IF(OR('Trust - Frontsheet'!AL127=\"\",'Trust - Frontsheet'!AL127=\"-\"),0,('Trust - Frontsheet'!AL127))","v":0},{"$f":"IF(OR('Trust - Frontsheet'!AM127=\"\",'Trust - Frontsheet'!AM127=\"-\"),0,('Trust - Frontsheet'!AM127))","v":0},{"$f":"IF(OR('Trust - Frontsheet'!AN127=\"\",'Trust - Frontsheet'!AN127=\"-\"),0,('Trust - Frontsheet'!AN127))","v":0},{"$f":"IF(OR('Trust - Frontsheet'!AO127=\"\",'Trust - Frontsheet'!AO127=\"-\"),0,('Trust - Frontsheet'!AO127))","v":0},{"$f":"IF(OR('Trust - Frontsheet'!AP127=\"\",'Trust - Frontsheet'!AP127=\"-\"),0,('Trust - Frontsheet'!AP127))","v":0},{"$f":"IF(OR('Trust - Frontsheet'!AQ127=\"\",'Trust - Frontsheet'!AQ127=\"-\"),0,('Trust - Frontsheet'!AQ127))","v":0},{"$f":"IF(OR('Trust - Frontsheet'!AR127=\"\",'Trust - Frontsheet'!AR127=\"-\"),0,('Trust - Frontsheet'!AR127))","v":0},{"$f":"IF(OR('Trust - Frontsheet'!AS127=\"\",'Trust - Frontsheet'!AS127=\"-\"),0,('Trust - Frontsheet'!AS127))","v":0},{"$f":"IF(OR('Trust - Frontsheet'!AT127=\"\",'Trust - Frontsheet'!AT127=\"-\"),0,('Trust - Frontsheet'!AT127))","v":0},{"$f":"'Trust - Frontsheet'!AC127","v":0},{"$f":"IF(OR('Trust - Frontsheet'!AD127=\"\",'Trust - Frontsheet'!AD127=\"-\"),0,('Trust - Frontsheet'!AD127))","v":0},{"$f":"IF(OR('Trust - Frontsheet'!AE127=\"\",'Trust - Frontsheet'!AE127=\"-\"),0,('Trust - Frontsheet'!AE127))","v":0},{"$f":"IF(OR('Trust - Frontsheet'!AF127=\"\",'Trust - Frontsheet'!AF127=\"-\"),0,('Trust - Frontsheet'!AF127))","v":0},{"$f":"IF(OR('Trust - Frontsheet'!AG127=\"\",'Trust - Frontsheet'!AG127=\"-\"),0,('Trust - Frontsheet'!AG127))","v":0},{"$f":"IF(OR('Trust - Frontsheet'!AH127=\"\",'Trust - Frontsheet'!AH127=\"-\"),0,('Trust - Frontsheet'!AH127))","v":0},{"$f":"IF(OR('Trust - Frontsheet'!AI127=\"\",'Trust - Frontsheet'!AI127=\"-\"),0,('Trust - Frontsheet'!AI127))","v":0},{"$f":"IF(OR('Trust - Frontsheet'!AJ127=\"\",'Trust - Frontsheet'!AJ127=\"-\"),0,('Trust - Frontsheet'!AJ127))","v":0},{"$f":"IF(A115=\"\",\"\",(IF(ISBLANK('Trust - Frontsheet'!F9),\"\",'Trust - Frontsheet'!F9)))","v":""}]
[{"$f":"IF('Trust - Frontsheet'!D128=0,\"\",IF('Trust - Frontsheet'!D128=\"\",\"\",'Trust - Frontsheet'!D128))","v":""},{"$f":"IF(ISBLANK('Trust - Frontsheet'!E128),\"\",'Trust - Frontsheet'!E128)","v":""},{"$f":"IF(ISBLANK('Trust - Frontsheet'!F128),\"\",\"'\" & 'Trust - Frontsheet'!F128 & \"'\")","v":""},{"$f":"IF(ISBLANK('Trust - Frontsheet'!G128),\"\",'Trust - Frontsheet'!G128)","v":""},{"$f":"IF(ISBLANK('Trust - Frontsheet'!H128),\"\",'Trust - Frontsheet'!H128)","v":""},{"$f":"'Trust - Frontsheet'!I128","v":0},{"$f":"'Trust - Frontsheet'!J128","v":0},{"$f":"'Trust - Frontsheet'!K128","v":0},{"$f":"'Trust - Frontsheet'!L128","v":0},{"$f":"'Trust - Frontsheet'!M128","v":0},{"$f":"'Trust - Frontsheet'!N128","v":0},{"$f":"'Trust - Frontsheet'!O128","v":0},{"$f":"'Trust - Frontsheet'!P128","v":0},{"$f":"'Trust - Frontsheet'!Q128","v":0},{"$f":"'Trust - Frontsheet'!R128","v":0},{"$f":"'Trust - Frontsheet'!S128","v":0},{"$f":"'Trust - Frontsheet'!T128","v":0},{"$f":"'Trust - Frontsheet'!U128","v":0},{"$f":"'Trust - Frontsheet'!V128","v":0},{"$f":"'Trust - Frontsheet'!W128","v":0},{"$f":"'Trust - Frontsheet'!X128","v":0},{"$f":"'Trust - Frontsheet'!Y128","v":0},{"$f":"'Trust - Frontsheet'!Z128","v":0},{"$f":"'Trust - Frontsheet'!AA128","v":0},{"$f":"'Trust - Frontsheet'!AB128","v":0},{"$f":"IF(OR('Trust - Frontsheet'!AK128=\"\",'Trust - Frontsheet'!AK128=\"-\"),0,('Trust - Frontsheet'!AK128))","v":0},{"$f":"IF(OR('Trust - Frontsheet'!AL128=\"\",'Trust - Frontsheet'!AL128=\"-\"),0,('Trust - Frontsheet'!AL128))","v":0},{"$f":"IF(OR('Trust - Frontsheet'!AM128=\"\",'Trust - Frontsheet'!AM128=\"-\"),0,('Trust - Frontsheet'!AM128))","v":0},{"$f":"IF(OR('Trust - Frontsheet'!AN128=\"\",'Trust - Frontsheet'!AN128=\"-\"),0,('Trust - Frontsheet'!AN128))","v":0},{"$f":"IF(OR('Trust - Frontsheet'!AO128=\"\",'Trust - Frontsheet'!AO128=\"-\"),0,('Trust - Frontsheet'!AO128))","v":0},{"$f":"IF(OR('Trust - Frontsheet'!AP128=\"\",'Trust - Frontsheet'!AP128=\"-\"),0,('Trust - Frontsheet'!AP128))","v":0},{"$f":"IF(OR('Trust - Frontsheet'!AQ128=\"\",'Trust - Frontsheet'!AQ128=\"-\"),0,('Trust - Frontsheet'!AQ128))","v":0},{"$f":"IF(OR('Trust - Frontsheet'!AR128=\"\",'Trust - Frontsheet'!AR128=\"-\"),0,('Trust - Frontsheet'!AR128))","v":0},{"$f":"IF(OR('Trust - Frontsheet'!AS128=\"\",'Trust - Frontsheet'!AS128=\"-\"),0,('Trust - Frontsheet'!AS128))","v":0},{"$f":"IF(OR('Trust - Frontsheet'!AT128=\"\",'Trust - Frontsheet'!AT128=\"-\"),0,('Trust - Frontsheet'!AT128))","v":0},{"$f":"'Trust - Frontsheet'!AC128","v":0},{"$f":"IF(OR('Trust - Frontsheet'!AD128=\"\",'Trust - Frontsheet'!AD128=\"-\"),0,('Trust - Frontsheet'!AD128))","v":0},{"$f":"IF(OR('Trust - Frontsheet'!AE128=\"\",'Trust - Frontsheet'!AE128=\"-\"),0,('Trust - Frontsheet'!AE128))","v":0},{"$f":"IF(OR('Trust - Frontsheet'!AF128=\"\",'Trust - Frontsheet'!AF128=\"-\"),0,('Trust - Frontsheet'!AF128))","v":0},{"$f":"IF(OR('Trust - Frontsheet'!AG128=\"\",'Trust - Frontsheet'!AG128=\"-\"),0,('Trust - Frontsheet'!AG128))","v":0},{"$f":"IF(OR('Trust - Frontsheet'!AH128=\"\",'Trust - Frontsheet'!AH128=\"-\"),0,('Trust - Frontsheet'!AH128))","v":0},{"$f":"IF(OR('Trust - Frontsheet'!AI128=\"\",'Trust - Frontsheet'!AI128=\"-\"),0,('Trust - Frontsheet'!AI128))","v":0},{"$f":"IF(OR('Trust - Frontsheet'!AJ128=\"\",'Trust - Frontsheet'!AJ128=\"-\"),0,('Trust - Frontsheet'!AJ128))","v":0},{"$f":"IF(A116=\"\",\"\",(IF(ISBLANK('Trust - Frontsheet'!F9),\"\",'Trust - Frontsheet'!F9)))","v":""}]
[{"$f":"IF('Trust - Frontsheet'!D129=0,\"\",IF('Trust - Frontsheet'!D129=\"\",\"\",'Trust - Frontsheet'!D129))","v":""},{"$f":"IF(ISBLANK('Trust - Frontsheet'!E129),\"\",'Trust - Frontsheet'!E129)","v":""},{"$f":"IF(ISBLANK('Trust - Frontsheet'!F129),\"\",\"'\" & 'Trust - Frontsheet'!F129 & \"'\")","v":""},{"$f":"IF(ISBLANK('Trust - Frontsheet'!G129),\"\",'Trust - Frontsheet'!G129)","v":""},{"$f":"IF(ISBLANK('Trust - Frontsheet'!H129),\"\",'Trust - Frontsheet'!H129)","v":""},{"$f":"'Trust - Frontsheet'!I129","v":0},{"$f":"'Trust - Frontsheet'!J129","v":0},{"$f":"'Trust - Frontsheet'!K129","v":0},{"$f":"'Trust - Frontsheet'!L129","v":0},{"$f":"'Trust - Frontsheet'!M129","v":0},{"$f":"'Trust - Frontsheet'!N129","v":0},{"$f":"'Trust - Frontsheet'!O129","v":0},{"$f":"'Trust - Frontsheet'!P129","v":0},{"$f":"'Trust - Frontsheet'!Q129","v":0},{"$f":"'Trust - Frontsheet'!R129","v":0},{"$f":"'Trust - Frontsheet'!S129","v":0},{"$f":"'Trust - Frontsheet'!T129","v":0},{"$f":"'Trust - Frontsheet'!U129","v":0},{"$f":"'Trust - Frontsheet'!V129","v":0},{"$f":"'Trust - Frontsheet'!W129","v":0},{"$f":"'Trust - Frontsheet'!X129","v":0},{"$f":"'Trust - Frontsheet'!Y129","v":0},{"$f":"'Trust - Frontsheet'!Z129","v":0},{"$f":"'Trust - Frontsheet'!AA129","v":0},{"$f":"'Trust - Frontsheet'!AB129","v":0},{"$f":"IF(OR('Trust - Frontsheet'!AK129=\"\",'Trust - Frontsheet'!AK129=\"-\"),0,('Trust - Frontsheet'!AK129))","v":0},{"$f":"IF(OR('Trust - Frontsheet'!AL129=\"\",'Trust - Frontsheet'!AL129=\"-\"),0,('Trust - Frontsheet'!AL129))","v":0},{"$f":"IF(OR('Trust - Frontsheet'!AM129=\"\",'Trust - Frontsheet'!AM129=\"-\"),0,('Trust - Frontsheet'!AM129))","v":0},{"$f":"IF(OR('Trust - Frontsheet'!AN129=\"\",'Trust - Frontsheet'!AN129=\"-\"),0,('Trust - Frontsheet'!AN129))","v":0},{"$f":"IF(OR('Trust - Frontsheet'!AO129=\"\",'Trust - Frontsheet'!AO129=\"-\"),0,('Trust - Frontsheet'!AO129))","v":0},{"$f":"IF(OR('Trust - Frontsheet'!AP129=\"\",'Trust - Frontsheet'!AP129=\"-\"),0,('Trust - Frontsheet'!AP129))","v":0},{"$f":"IF(OR('Trust - Frontsheet'!AQ129=\"\",'Trust - Frontsheet'!AQ129=\"-\"),0,('Trust - Frontsheet'!AQ129))","v":0},{"$f":"IF(OR('Trust - Frontsheet'!AR129=\"\",'Trust - Frontsheet'!AR129=\"-\"),0,('Trust - Frontsheet'!AR129))","v":0},{"$f":"IF(OR('Trust - Frontsheet'!AS129=\"\",'Trust - Frontsheet'!AS129=\"-\"),0,('Trust - Frontsheet'!AS129))","v":0},{"$f":"IF(OR('Trust - Frontsheet'!AT129=\"\",'Trust - Frontsheet'!AT129=\"-\"),0,('Trust - Frontsheet'!AT129))","v":0},{"$f":"'Trust - Frontsheet'!AC129","v":0},{"$f":"IF(OR('Trust - Frontsheet'!AD129=\"\",'Trust - Frontsheet'!AD129=\"-\"),0,('Trust - Frontsheet'!AD129))","v":0},{"$f":"IF(OR('Trust - Frontsheet'!AE129=\"\",'Trust - Frontsheet'!AE129=\"-\"),0,('Trust - Frontsheet'!AE129))","v":0},{"$f":"IF(OR('Trust - Frontsheet'!AF129=\"\",'Trust - Frontsheet'!AF129=\"-\"),0,('Trust - Frontsheet'!AF129))","v":0},{"$f":"IF(OR('Trust - Frontsheet'!AG129=\"\",'Trust - Frontsheet'!AG129=\"-\"),0,('Trust - Frontsheet'!AG129))","v":0},{"$f":"IF(OR('Trust - Frontsheet'!AH129=\"\",'Trust - Frontsheet'!AH129=\"-\"),0,('Trust - Frontsheet'!AH129))","v":0},{"$f":"IF(OR('Trust - Frontsheet'!AI129=\"\",'Trust - Frontsheet'!AI129=\"-\"),0,('Trust - Frontsheet'!AI129))","v":0},{"$f":"IF(OR('Trust - Frontsheet'!AJ129=\"\",'Trust - Frontsheet'!AJ129=\"-\"),0,('Trust - Frontsheet'!AJ129))","v":0},{"$f":"IF(A117=\"\",\"\",(IF(ISBLANK('Trust - Frontsheet'!F9),\"\",'Trust - Frontsheet'!F9)))","v":""}]
[{"$f":"IF('Trust - Frontsheet'!D130=0,\"\",IF('Trust - Frontsheet'!D130=\"\",\"\",'Trust - Frontsheet'!D130))","v":""},{"$f":"IF(ISBLANK('Trust - Frontsheet'!E130),\"\",'Trust - Frontsheet'!E130)","v":""},{"$f":"IF(ISBLANK('Trust - Frontsheet'!F130),\"\",\"'\" & 'Trust - Frontsheet'!F130 & \"'\")","v":""},{"$f":"IF(ISBLANK('Trust - Frontsheet'!G130),\"\",'Trust - Frontsheet'!G130)","v":""},{"$f":"IF(ISBLANK('Trust - Frontsheet'!H130),\"\",'Trust - Frontsheet'!H130)","v":""},{"$f":"'Trust - Frontsheet'!I130","v":0},{"$f":"'Trust - Frontsheet'!J130","v":0},{"$f":"'Trust - Frontsheet'!K130","v":0},{"$f":"'Trust - Frontsheet'!L130","v":0},{"$f":"'Trust - Frontsheet'!M130","v":0},{"$f":"'Trust - Frontsheet'!N130","v":0},{"$f":"'Trust - Frontsheet'!O130","v":0},{"$f":"'Trust - Frontsheet'!P130","v":0},{"$f":"'Trust - Frontsheet'!Q130","v":0},{"$f":"'Trust - Frontsheet'!R130","v":0},{"$f":"'Trust - Frontsheet'!S130","v":0},{"$f":"'Trust - Frontsheet'!T130","v":0},{"$f":"'Trust - Frontsheet'!U130","v":0},{"$f":"'Trust - Frontsheet'!V130","v":0},{"$f":"'Trust - Frontsheet'!W130","v":0},{"$f":"'Trust - Frontsheet'!X130","v":0},{"$f":"'Trust - Frontsheet'!Y130","v":0},{"$f":"'Trust - Frontsheet'!Z130","v":0},{"$f":"'Trust - Frontsheet'!AA130","v":0},{"$f":"'Trust - Frontsheet'!AB130","v":0},{"$f":"IF(OR('Trust - Frontsheet'!AK130=\"\",'Trust - Frontsheet'!AK130=\"-\"),0,('Trust - Frontsheet'!AK130))","v":0},{"$f":"IF(OR('Trust - Frontsheet'!AL130=\"\",'Trust - Frontsheet'!AL130=\"-\"),0,('Trust - Frontsheet'!AL130))","v":0},{"$f":"IF(OR('Trust - Frontsheet'!AM130=\"\",'Trust - Frontsheet'!AM130=\"-\"),0,('Trust - Frontsheet'!AM130))","v":0},{"$f":"IF(OR('Trust - Frontsheet'!AN130=\"\",'Trust - Frontsheet'!AN130=\"-\"),0,('Trust - Frontsheet'!AN130))","v":0},{"$f":"IF(OR('Trust - Frontsheet'!AO130=\"\",'Trust - Frontsheet'!AO130=\"-\"),0,('Trust - Frontsheet'!AO130))","v":0},{"$f":"IF(OR('Trust - Frontsheet'!AP130=\"\",'Trust - Frontsheet'!AP130=\"-\"),0,('Trust - Frontsheet'!AP130))","v":0},{"$f":"IF(OR('Trust - Frontsheet'!AQ130=\"\",'Trust - Frontsheet'!AQ130=\"-\"),0,('Trust - Frontsheet'!AQ130))","v":0},{"$f":"IF(OR('Trust - Frontsheet'!AR130=\"\",'Trust - Frontsheet'!AR130=\"-\"),0,('Trust - Frontsheet'!AR130))","v":0},{"$f":"IF(OR('Trust - Frontsheet'!AS130=\"\",'Trust - Frontsheet'!AS130=\"-\"),0,('Trust - Frontsheet'!AS130))","v":0},{"$f":"IF(OR('Trust - Frontsheet'!AT130=\"\",'Trust - Frontsheet'!AT130=\"-\"),0,('Trust - Frontsheet'!AT130))","v":0},{"$f":"'Trust - Frontsheet'!AC130","v":0},{"$f":"IF(OR('Trust - Frontsheet'!AD130=\"\",'Trust - Frontsheet'!AD130=\"-\"),0,('Trust - Frontsheet'!AD130))","v":0},{"$f":"IF(OR('Trust - Frontsheet'!AE130=\"\",'Trust - Frontsheet'!AE130=\"-\"),0,('Trust - Frontsheet'!AE130))","v":0},{"$f":"IF(OR('Trust - Frontsheet'!AF130=\"\",'Trust - Frontsheet'!AF130=\"-\"),0,('Trust - Frontsheet'!AF130))","v":0},{"$f":"IF(OR('Trust - Frontsheet'!AG130=\"\",'Trust - Frontsheet'!AG130=\"-\"),0,('Trust - Frontsheet'!AG130))","v":0},{"$f":"IF(OR('Trust - Frontsheet'!AH130=\"\",'Trust - Frontsheet'!AH130=\"-\"),0,('Trust - Frontsheet'!AH130))","v":0},{"$f":"IF(OR('Trust - Frontsheet'!AI130=\"\",'Trust - Frontsheet'!AI130=\"-\"),0,('Trust - Frontsheet'!AI130))","v":0},{"$f":"IF(OR('Trust - Frontsheet'!AJ130=\"\",'Trust - Frontsheet'!AJ130=\"-\"),0,('Trust - Frontsheet'!AJ130))","v":0},{"$f":"IF(A118=\"\",\"\",(IF(ISBLANK('Trust - Frontsheet'!F9),\"\",'Trust - Frontsheet'!F9)))","v":""}]
[{"$f":"IF('Trust - Frontsheet'!D131=0,\"\",IF('Trust - Frontsheet'!D131=\"\",\"\",'Trust - Frontsheet'!D131))","v":""},{"$f":"IF(ISBLANK('Trust - Frontsheet'!E131),\"\",'Trust - Frontsheet'!E131)","v":""},{"$f":"IF(ISBLANK('Trust - Frontsheet'!F131),\"\",\"'\" & 'Trust - Frontsheet'!F131 & \"'\")","v":""},{"$f":"IF(ISBLANK('Trust - Frontsheet'!G131),\"\",'Trust - Frontsheet'!G131)","v":""},{"$f":"IF(ISBLANK('Trust - Frontsheet'!H131),\"\",'Trust - Frontsheet'!H131)","v":""},{"$f":"'Trust - Frontsheet'!I131","v":0},{"$f":"'Trust - Frontsheet'!J131","v":0},{"$f":"'Trust - Frontsheet'!K131","v":0},{"$f":"'Trust - Frontsheet'!L131","v":0},{"$f":"'Trust - Frontsheet'!M131","v":0},{"$f":"'Trust - Frontsheet'!N131","v":0},{"$f":"'Trust - Frontsheet'!O131","v":0},{"$f":"'Trust - Frontsheet'!P131","v":0},{"$f":"'Trust - Frontsheet'!Q131","v":0},{"$f":"'Trust - Frontsheet'!R131","v":0},{"$f":"'Trust - Frontsheet'!S131","v":0},{"$f":"'Trust - Frontsheet'!T131","v":0},{"$f":"'Trust - Frontsheet'!U131","v":0},{"$f":"'Trust - Frontsheet'!V131","v":0},{"$f":"'Trust - Frontsheet'!W131","v":0},{"$f":"'Trust - Frontsheet'!X131","v":0},{"$f":"'Trust - Frontsheet'!Y131","v":0},{"$f":"'Trust - Frontsheet'!Z131","v":0},{"$f":"'Trust - Frontsheet'!AA131","v":0},{"$f":"'Trust - Frontsheet'!AB131","v":0},{"$f":"IF(OR('Trust - Frontsheet'!AK131=\"\",'Trust - Frontsheet'!AK131=\"-\"),0,('Trust - Frontsheet'!AK131))","v":0},{"$f":"IF(OR('Trust - Frontsheet'!AL131=\"\",'Trust - Frontsheet'!AL131=\"-\"),0,('Trust - Frontsheet'!AL131))","v":0},{"$f":"IF(OR('Trust - Frontsheet'!AM131=\"\",'Trust - Frontsheet'!AM131=\"-\"),0,('Trust - Frontsheet'!AM131))","v":0},{"$f":"IF(OR('Trust - Frontsheet'!AN131=\"\",'Trust - Frontsheet'!AN131=\"-\"),0,('Trust - Frontsheet'!AN131))","v":0},{"$f":"IF(OR('Trust - Frontsheet'!AO131=\"\",'Trust - Frontsheet'!AO131=\"-\"),0,('Trust - Frontsheet'!AO131))","v":0},{"$f":"IF(OR('Trust - Frontsheet'!AP131=\"\",'Trust - Frontsheet'!AP131=\"-\"),0,('Trust - Frontsheet'!AP131))","v":0},{"$f":"IF(OR('Trust - Frontsheet'!AQ131=\"\",'Trust - Frontsheet'!AQ131=\"-\"),0,('Trust - Frontsheet'!AQ131))","v":0},{"$f":"IF(OR('Trust - Frontsheet'!AR131=\"\",'Trust - Frontsheet'!AR131=\"-\"),0,('Trust - Frontsheet'!AR131))","v":0},{"$f":"IF(OR('Trust - Frontsheet'!AS131=\"\",'Trust - Frontsheet'!AS131=\"-\"),0,('Trust - Frontsheet'!AS131))","v":0},{"$f":"IF(OR('Trust - Frontsheet'!AT131=\"\",'Trust - Frontsheet'!AT131=\"-\"),0,('Trust - Frontsheet'!AT131))","v":0},{"$f":"'Trust - Frontsheet'!AC131","v":0},{"$f":"IF(OR('Trust - Frontsheet'!AD131=\"\",'Trust - Frontsheet'!AD131=\"-\"),0,('Trust - Frontsheet'!AD131))","v":0},{"$f":"IF(OR('Trust - Frontsheet'!AE131=\"\",'Trust - Frontsheet'!AE131=\"-\"),0,('Trust - Frontsheet'!AE131))","v":0},{"$f":"IF(OR('Trust - Frontsheet'!AF131=\"\",'Trust - Frontsheet'!AF131=\"-\"),0,('Trust - Frontsheet'!AF131))","v":0},{"$f":"IF(OR('Trust - Frontsheet'!AG131=\"\",'Trust - Frontsheet'!AG131=\"-\"),0,('Trust - Frontsheet'!AG131))","v":0},{"$f":"IF(OR('Trust - Frontsheet'!AH131=\"\",'Trust - Frontsheet'!AH131=\"-\"),0,('Trust - Frontsheet'!AH131))","v":0},{"$f":"IF(OR('Trust - Frontsheet'!AI131=\"\",'Trust - Frontsheet'!AI131=\"-\"),0,('Trust - Frontsheet'!AI131))","v":0},{"$f":"IF(OR('Trust - Frontsheet'!AJ131=\"\",'Trust - Frontsheet'!AJ131=\"-\"),0,('Trust - Frontsheet'!AJ131))","v":0},{"$f":"IF(A119=\"\",\"\",(IF(ISBLANK('Trust - Frontsheet'!F9),\"\",'Trust - Frontsheet'!F9)))","v":""}]
[{"$f":"IF('Trust - Frontsheet'!D132=0,\"\",IF('Trust - Frontsheet'!D132=\"\",\"\",'Trust - Frontsheet'!D132))","v":""},{"$f":"IF(ISBLANK('Trust - Frontsheet'!E132),\"\",'Trust - Frontsheet'!E132)","v":""},{"$f":"IF(ISBLANK('Trust - Frontsheet'!F132),\"\",\"'\" & 'Trust - Frontsheet'!F132 & \"'\")","v":""},{"$f":"IF(ISBLANK('Trust - Frontsheet'!G132),\"\",'Trust - Frontsheet'!G132)","v":""},{"$f":"IF(ISBLANK('Trust - Frontsheet'!H132),\"\",'Trust - Frontsheet'!H132)","v":""},{"$f":"'Trust - Frontsheet'!I132","v":0},{"$f":"'Trust - Frontsheet'!J132","v":0},{"$f":"'Trust - Frontsheet'!K132","v":0},{"$f":"'Trust - Frontsheet'!L132","v":0},{"$f":"'Trust - Frontsheet'!M132","v":0},{"$f":"'Trust - Frontsheet'!N132","v":0},{"$f":"'Trust - Frontsheet'!O132","v":0},{"$f":"'Trust - Frontsheet'!P132","v":0},{"$f":"'Trust - Frontsheet'!Q132","v":0},{"$f":"'Trust - Frontsheet'!R132","v":0},{"$f":"'Trust - Frontsheet'!S132","v":0},{"$f":"'Trust - Frontsheet'!T132","v":0},{"$f":"'Trust - Frontsheet'!U132","v":0},{"$f":"'Trust - Frontsheet'!V132","v":0},{"$f":"'Trust - Frontsheet'!W132","v":0},{"$f":"'Trust - Frontsheet'!X132","v":0},{"$f":"'Trust - Frontsheet'!Y132","v":0},{"$f":"'Trust - Frontsheet'!Z132","v":0},{"$f":"'Trust - Frontsheet'!AA132","v":0},{"$f":"'Trust - Frontsheet'!AB132","v":0},{"$f":"IF(OR('Trust - Frontsheet'!AK132=\"\",'Trust - Frontsheet'!AK132=\"-\"),0,('Trust - Frontsheet'!AK132))","v":0},{"$f":"IF(OR('Trust - Frontsheet'!AL132=\"\",'Trust - Frontsheet'!AL132=\"-\"),0,('Trust - Frontsheet'!AL132))","v":0},{"$f":"IF(OR('Trust - Frontsheet'!AM132=\"\",'Trust - Frontsheet'!AM132=\"-\"),0,('Trust - Frontsheet'!AM132))","v":0},{"$f":"IF(OR('Trust - Frontsheet'!AN132=\"\",'Trust - Frontsheet'!AN132=\"-\"),0,('Trust - Frontsheet'!AN132))","v":0},{"$f":"IF(OR('Trust - Frontsheet'!AO132=\"\",'Trust - Frontsheet'!AO132=\"-\"),0,('Trust - Frontsheet'!AO132))","v":0},{"$f":"IF(OR('Trust - Frontsheet'!AP132=\"\",'Trust - Frontsheet'!AP132=\"-\"),0,('Trust - Frontsheet'!AP132))","v":0},{"$f":"IF(OR('Trust - Frontsheet'!AQ132=\"\",'Trust - Frontsheet'!AQ132=\"-\"),0,('Trust - Frontsheet'!AQ132))","v":0},{"$f":"IF(OR('Trust - Frontsheet'!AR132=\"\",'Trust - Frontsheet'!AR132=\"-\"),0,('Trust - Frontsheet'!AR132))","v":0},{"$f":"IF(OR('Trust - Frontsheet'!AS132=\"\",'Trust - Frontsheet'!AS132=\"-\"),0,('Trust - Frontsheet'!AS132))","v":0},{"$f":"IF(OR('Trust - Frontsheet'!AT132=\"\",'Trust - Frontsheet'!AT132=\"-\"),0,('Trust - Frontsheet'!AT132))","v":0},{"$f":"'Trust - Frontsheet'!AC132","v":0},{"$f":"IF(OR('Trust - Frontsheet'!AD132=\"\",'Trust - Frontsheet'!AD132=\"-\"),0,('Trust - Frontsheet'!AD132))","v":0},{"$f":"IF(OR('Trust - Frontsheet'!AE132=\"\",'Trust - Frontsheet'!AE132=\"-\"),0,('Trust - Frontsheet'!AE132))","v":0},{"$f":"IF(OR('Trust - Frontsheet'!AF132=\"\",'Trust - Frontsheet'!AF132=\"-\"),0,('Trust - Frontsheet'!AF132))","v":0},{"$f":"IF(OR('Trust - Frontsheet'!AG132=\"\",'Trust - Frontsheet'!AG132=\"-\"),0,('Trust - Frontsheet'!AG132))","v":0},{"$f":"IF(OR('Trust - Frontsheet'!AH132=\"\",'Trust - Frontsheet'!AH132=\"-\"),0,('Trust - Frontsheet'!AH132))","v":0},{"$f":"IF(OR('Trust - Frontsheet'!AI132=\"\",'Trust - Frontsheet'!AI132=\"-\"),0,('Trust - Frontsheet'!AI132))","v":0},{"$f":"IF(OR('Trust - Frontsheet'!AJ132=\"\",'Trust - Frontsheet'!AJ132=\"-\"),0,('Trust - Frontsheet'!AJ132))","v":0},{"$f":"IF(A120=\"\",\"\",(IF(ISBLANK('Trust - Frontsheet'!F9),\"\",'Trust - Frontsheet'!F9)))","v":""}]
[{"$f":"IF('Trust - Frontsheet'!D133=0,\"\",IF('Trust - Frontsheet'!D133=\"\",\"\",'Trust - Frontsheet'!D133))","v":""},{"$f":"IF(ISBLANK('Trust - Frontsheet'!E133),\"\",'Trust - Frontsheet'!E133)","v":""},{"$f":"IF(ISBLANK('Trust - Frontsheet'!F133),\"\",\"'\" & 'Trust - Frontsheet'!F133 & \"'\")","v":""},{"$f":"IF(ISBLANK('Trust - Frontsheet'!G133),\"\",'Trust - Frontsheet'!G133)","v":""},{"$f":"IF(ISBLANK('Trust - Frontsheet'!H133),\"\",'Trust - Frontsheet'!H133)","v":""},{"$f":"'Trust - Frontsheet'!I133","v":0},{"$f":"'Trust - Frontsheet'!J133","v":0},{"$f":"'Trust - Frontsheet'!K133","v":0},{"$f":"'Trust - Frontsheet'!L133","v":0},{"$f":"'Trust - Frontsheet'!M133","v":0},{"$f":"'Trust - Frontsheet'!N133","v":0},{"$f":"'Trust - Frontsheet'!O133","v":0},{"$f":"'Trust - Frontsheet'!P133","v":0},{"$f":"'Trust - Frontsheet'!Q133","v":0},{"$f":"'Trust - Frontsheet'!R133","v":0},{"$f":"'Trust - Frontsheet'!S133","v":0},{"$f":"'Trust - Frontsheet'!T133","v":0},{"$f":"'Trust - Frontsheet'!U133","v":0},{"$f":"'Trust - Frontsheet'!V133","v":0},{"$f":"'Trust - Frontsheet'!W133","v":0},{"$f":"'Trust - Frontsheet'!X133","v":0},{"$f":"'Trust - Frontsheet'!Y133","v":0},{"$f":"'Trust - Frontsheet'!Z133","v":0},{"$f":"'Trust - Frontsheet'!AA133","v":0},{"$f":"'Trust - Frontsheet'!AB133","v":0},{"$f":"IF(OR('Trust - Frontsheet'!AK133=\"\",'Trust - Frontsheet'!AK133=\"-\"),0,('Trust - Frontsheet'!AK133))","v":0},{"$f":"IF(OR('Trust - Frontsheet'!AL133=\"\",'Trust - Frontsheet'!AL133=\"-\"),0,('Trust - Frontsheet'!AL133))","v":0},{"$f":"IF(OR('Trust - Frontsheet'!AM133=\"\",'Trust - Frontsheet'!AM133=\"-\"),0,('Trust - Frontsheet'!AM133))","v":0},{"$f":"IF(OR('Trust - Frontsheet'!AN133=\"\",'Trust - Frontsheet'!AN133=\"-\"),0,('Trust - Frontsheet'!AN133))","v":0},{"$f":"IF(OR('Trust - Frontsheet'!AO133=\"\",'Trust - Frontsheet'!AO133=\"-\"),0,('Trust - Frontsheet'!AO133))","v":0},{"$f":"IF(OR('Trust - Frontsheet'!AP133=\"\",'Trust - Frontsheet'!AP133=\"-\"),0,('Trust - Frontsheet'!AP133))","v":0},{"$f":"IF(OR('Trust - Frontsheet'!AQ133=\"\",'Trust - Frontsheet'!AQ133=\"-\"),0,('Trust - Frontsheet'!AQ133))","v":0},{"$f":"IF(OR('Trust - Frontsheet'!AR133=\"\",'Trust - Frontsheet'!AR133=\"-\"),0,('Trust - Frontsheet'!AR133))","v":0},{"$f":"IF(OR('Trust - Frontsheet'!AS133=\"\",'Trust - Frontsheet'!AS133=\"-\"),0,('Trust - Frontsheet'!AS133))","v":0},{"$f":"IF(OR('Trust - Frontsheet'!AT133=\"\",'Trust - Frontsheet'!AT133=\"-\"),0,('Trust - Frontsheet'!AT133))","v":0},{"$f":"'Trust - Frontsheet'!AC133","v":0},{"$f":"IF(OR('Trust - Frontsheet'!AD133=\"\",'Trust - Frontsheet'!AD133=\"-\"),0,('Trust - Frontsheet'!AD133))","v":0},{"$f":"IF(OR('Trust - Frontsheet'!AE133=\"\",'Trust - Frontsheet'!AE133=\"-\"),0,('Trust - Frontsheet'!AE133))","v":0},{"$f":"IF(OR('Trust - Frontsheet'!AF133=\"\",'Trust - Frontsheet'!AF133=\"-\"),0,('Trust - Frontsheet'!AF133))","v":0},{"$f":"IF(OR('Trust - Frontsheet'!AG133=\"\",'Trust - Frontsheet'!AG133=\"-\"),0,('Trust - Frontsheet'!AG133))","v":0},{"$f":"IF(OR('Trust - Frontsheet'!AH133=\"\",'Trust - Frontsheet'!AH133=\"-\"),0,('Trust - Frontsheet'!AH133))","v":0},{"$f":"IF(OR('Trust - Frontsheet'!AI133=\"\",'Trust - Frontsheet'!AI133=\"-\"),0,('Trust - Frontsheet'!AI133))","v":0},{"$f":"IF(OR('Trust - Frontsheet'!AJ133=\"\",'Trust - Frontsheet'!AJ133=\"-\"),0,('Trust - Frontsheet'!AJ133))","v":0},{"$f":"IF(A121=\"\",\"\",(IF(ISBLANK('Trust - Frontsheet'!F9),\"\",'Trust - Frontsheet'!F9)))","v":""}]
[{"$f":"IF('Trust - Frontsheet'!D134=0,\"\",IF('Trust - Frontsheet'!D134=\"\",\"\",'Trust - Frontsheet'!D134))","v":""},{"$f":"IF(ISBLANK('Trust - Frontsheet'!E134),\"\",'Trust - Frontsheet'!E134)","v":""},{"$f":"IF(ISBLANK('Trust - Frontsheet'!F134),\"\",\"'\" & 'Trust - Frontsheet'!F134 & \"'\")","v":""},{"$f":"IF(ISBLANK('Trust - Frontsheet'!G134),\"\",'Trust - Frontsheet'!G134)","v":""},{"$f":"IF(ISBLANK('Trust - Frontsheet'!H134),\"\",'Trust - Frontsheet'!H134)","v":""},{"$f":"'Trust - Frontsheet'!I134","v":0},{"$f":"'Trust - Frontsheet'!J134","v":0},{"$f":"'Trust - Frontsheet'!K134","v":0},{"$f":"'Trust - Frontsheet'!L134","v":0},{"$f":"'Trust - Frontsheet'!M134","v":0},{"$f":"'Trust - Frontsheet'!N134","v":0},{"$f":"'Trust - Frontsheet'!O134","v":0},{"$f":"'Trust - Frontsheet'!P134","v":0},{"$f":"'Trust - Frontsheet'!Q134","v":0},{"$f":"'Trust - Frontsheet'!R134","v":0},{"$f":"'Trust - Frontsheet'!S134","v":0},{"$f":"'Trust - Frontsheet'!T134","v":0},{"$f":"'Trust - Frontsheet'!U134","v":0},{"$f":"'Trust - Frontsheet'!V134","v":0},{"$f":"'Trust - Frontsheet'!W134","v":0},{"$f":"'Trust - Frontsheet'!X134","v":0},{"$f":"'Trust - Frontsheet'!Y134","v":0},{"$f":"'Trust - Frontsheet'!Z134","v":0},{"$f":"'Trust - Frontsheet'!AA134","v":0},{"$f":"'Trust - Frontsheet'!AB134","v":0},{"$f":"IF(OR('Trust - Frontsheet'!AK134=\"\",'Trust - Frontsheet'!AK134=\"-\"),0,('Trust - Frontsheet'!AK134))","v":0},{"$f":"IF(OR('Trust - Frontsheet'!AL134=\"\",'Trust - Frontsheet'!AL134=\"-\"),0,('Trust - Frontsheet'!AL134))","v":0},{"$f":"IF(OR('Trust - Frontsheet'!AM134=\"\",'Trust - Frontsheet'!AM134=\"-\"),0,('Trust - Frontsheet'!AM134))","v":0},{"$f":"IF(OR('Trust - Frontsheet'!AN134=\"\",'Trust - Frontsheet'!AN134=\"-\"),0,('Trust - Frontsheet'!AN134))","v":0},{"$f":"IF(OR('Trust - Frontsheet'!AO134=\"\",'Trust - Frontsheet'!AO134=\"-\"),0,('Trust - Frontsheet'!AO134))","v":0},{"$f":"IF(OR('Trust - Frontsheet'!AP134=\"\",'Trust - Frontsheet'!AP134=\"-\"),0,('Trust - Frontsheet'!AP134))","v":0},{"$f":"IF(OR('Trust - Frontsheet'!AQ134=\"\",'Trust - Frontsheet'!AQ134=\"-\"),0,('Trust - Frontsheet'!AQ134))","v":0},{"$f":"IF(OR('Trust - Frontsheet'!AR134=\"\",'Trust - Frontsheet'!AR134=\"-\"),0,('Trust - Frontsheet'!AR134))","v":0},{"$f":"IF(OR('Trust - Frontsheet'!AS134=\"\",'Trust - Frontsheet'!AS134=\"-\"),0,('Trust - Frontsheet'!AS134))","v":0},{"$f":"IF(OR('Trust - Frontsheet'!AT134=\"\",'Trust - Frontsheet'!AT134=\"-\"),0,('Trust - Frontsheet'!AT134))","v":0},{"$f":"'Trust - Frontsheet'!AC134","v":0},{"$f":"IF(OR('Trust - Frontsheet'!AD134=\"\",'Trust - Frontsheet'!AD134=\"-\"),0,('Trust - Frontsheet'!AD134))","v":0},{"$f":"IF(OR('Trust - Frontsheet'!AE134=\"\",'Trust - Frontsheet'!AE134=\"-\"),0,('Trust - Frontsheet'!AE134))","v":0},{"$f":"IF(OR('Trust - Frontsheet'!AF134=\"\",'Trust - Frontsheet'!AF134=\"-\"),0,('Trust - Frontsheet'!AF134))","v":0},{"$f":"IF(OR('Trust - Frontsheet'!AG134=\"\",'Trust - Frontsheet'!AG134=\"-\"),0,('Trust - Frontsheet'!AG134))","v":0},{"$f":"IF(OR('Trust - Frontsheet'!AH134=\"\",'Trust - Frontsheet'!AH134=\"-\"),0,('Trust - Frontsheet'!AH134))","v":0},{"$f":"IF(OR('Trust - Frontsheet'!AI134=\"\",'Trust - Frontsheet'!AI134=\"-\"),0,('Trust - Frontsheet'!AI134))","v":0},{"$f":"IF(OR('Trust - Frontsheet'!AJ134=\"\",'Trust - Frontsheet'!AJ134=\"-\"),0,('Trust - Frontsheet'!AJ134))","v":0},{"$f":"IF(A122=\"\",\"\",(IF(ISBLANK('Trust - Frontsheet'!F9),\"\",'Trust - Frontsheet'!F9)))","v":""}]
[{"$f":"IF('Trust - Frontsheet'!D135=0,\"\",IF('Trust - Frontsheet'!D135=\"\",\"\",'Trust - Frontsheet'!D135))","v":""},{"$f":"IF(ISBLANK('Trust - Frontsheet'!E135),\"\",'Trust - Frontsheet'!E135)","v":""},{"$f":"IF(ISBLANK('Trust - Frontsheet'!F135),\"\",\"'\" & 'Trust - Frontsheet'!F135 & \"'\")","v":""},{"$f":"IF(ISBLANK('Trust - Frontsheet'!G135),\"\",'Trust - Frontsheet'!G135)","v":""},{"$f":"IF(ISBLANK('Trust - Frontsheet'!H135),\"\",'Trust - Frontsheet'!H135)","v":""},{"$f":"'Trust - Frontsheet'!I135","v":0},{"$f":"'Trust - Frontsheet'!J135","v":0},{"$f":"'Trust - Frontsheet'!K135","v":0},{"$f":"'Trust - Frontsheet'!L135","v":0},{"$f":"'Trust - Frontsheet'!M135","v":0},{"$f":"'Trust - Frontsheet'!N135","v":0},{"$f":"'Trust - Frontsheet'!O135","v":0},{"$f":"'Trust - Frontsheet'!P135","v":0},{"$f":"'Trust - Frontsheet'!Q135","v":0},{"$f":"'Trust - Frontsheet'!R135","v":0},{"$f":"'Trust - Frontsheet'!S135","v":0},{"$f":"'Trust - Frontsheet'!T135","v":0},{"$f":"'Trust - Frontsheet'!U135","v":0},{"$f":"'Trust - Frontsheet'!V135","v":0},{"$f":"'Trust - Frontsheet'!W135","v":0},{"$f":"'Trust - Frontsheet'!X135","v":0},{"$f":"'Trust - Frontsheet'!Y135","v":0},{"$f":"'Trust - Frontsheet'!Z135","v":0},{"$f":"'Trust - Frontsheet'!AA135","v":0},{"$f":"'Trust - Frontsheet'!AB135","v":0},{"$f":"IF(OR('Trust - Frontsheet'!AK135=\"\",'Trust - Frontsheet'!AK135=\"-\"),0,('Trust - Frontsheet'!AK135))","v":0},{"$f":"IF(OR('Trust - Frontsheet'!AL135=\"\",'Trust - Frontsheet'!AL135=\"-\"),0,('Trust - Frontsheet'!AL135))","v":0},{"$f":"IF(OR('Trust - Frontsheet'!AM135=\"\",'Trust - Frontsheet'!AM135=\"-\"),0,('Trust - Frontsheet'!AM135))","v":0},{"$f":"IF(OR('Trust - Frontsheet'!AN135=\"\",'Trust - Frontsheet'!AN135=\"-\"),0,('Trust - Frontsheet'!AN135))","v":0},{"$f":"IF(OR('Trust - Frontsheet'!AO135=\"\",'Trust - Frontsheet'!AO135=\"-\"),0,('Trust - Frontsheet'!AO135))","v":0},{"$f":"IF(OR('Trust - Frontsheet'!AP135=\"\",'Trust - Frontsheet'!AP135=\"-\"),0,('Trust - Frontsheet'!AP135))","v":0},{"$f":"IF(OR('Trust - Frontsheet'!AQ135=\"\",'Trust - Frontsheet'!AQ135=\"-\"),0,('Trust - Frontsheet'!AQ135))","v":0},{"$f":"IF(OR('Trust - Frontsheet'!AR135=\"\",'Trust - Frontsheet'!AR135=\"-\"),0,('Trust - Frontsheet'!AR135))","v":0},{"$f":"IF(OR('Trust - Frontsheet'!AS135=\"\",'Trust - Frontsheet'!AS135=\"-\"),0,('Trust - Frontsheet'!AS135))","v":0},{"$f":"IF(OR('Trust - Frontsheet'!AT135=\"\",'Trust - Frontsheet'!AT135=\"-\"),0,('Trust - Frontsheet'!AT135))","v":0},{"$f":"'Trust - Frontsheet'!AC135","v":0},{"$f":"IF(OR('Trust - Frontsheet'!AD135=\"\",'Trust - Frontsheet'!AD135=\"-\"),0,('Trust - Frontsheet'!AD135))","v":0},{"$f":"IF(OR('Trust - Frontsheet'!AE135=\"\",'Trust - Frontsheet'!AE135=\"-\"),0,('Trust - Frontsheet'!AE135))","v":0},{"$f":"IF(OR('Trust - Frontsheet'!AF135=\"\",'Trust - Frontsheet'!AF135=\"-\"),0,('Trust - Frontsheet'!AF135))","v":0},{"$f":"IF(OR('Trust - Frontsheet'!AG135=\"\",'Trust - Frontsheet'!AG135=\"-\"),0,('Trust - Frontsheet'!AG135))","v":0},{"$f":"IF(OR('Trust - Frontsheet'!AH135=\"\",'Trust - Frontsheet'!AH135=\"-\"),0,('Trust - Frontsheet'!AH135))","v":0},{"$f":"IF(OR('Trust - Frontsheet'!AI135=\"\",'Trust - Frontsheet'!AI135=\"-\"),0,('Trust - Frontsheet'!AI135))","v":0},{"$f":"IF(OR('Trust - Frontsheet'!AJ135=\"\",'Trust - Frontsheet'!AJ135=\"-\"),0,('Trust - Frontsheet'!AJ135))","v":0},{"$f":"IF(A123=\"\",\"\",(IF(ISBLANK('Trust - Frontsheet'!F9),\"\",'Trust - Frontsheet'!F9)))","v":""}]
[{"$f":"IF('Trust - Frontsheet'!D136=0,\"\",IF('Trust - Frontsheet'!D136=\"\",\"\",'Trust - Frontsheet'!D136))","v":""},{"$f":"IF(ISBLANK('Trust - Frontsheet'!E136),\"\",'Trust - Frontsheet'!E136)","v":""},{"$f":"IF(ISBLANK('Trust - Frontsheet'!F136),\"\",\"'\" & 'Trust - Frontsheet'!F136 & \"'\")","v":""},{"$f":"IF(ISBLANK('Trust - Frontsheet'!G136),\"\",'Trust - Frontsheet'!G136)","v":""},{"$f":"IF(ISBLANK('Trust - Frontsheet'!H136),\"\",'Trust - Frontsheet'!H136)","v":""},{"$f":"'Trust - Frontsheet'!I136","v":0},{"$f":"'Trust - Frontsheet'!J136","v":0},{"$f":"'Trust - Frontsheet'!K136","v":0},{"$f":"'Trust - Frontsheet'!L136","v":0},{"$f":"'Trust - Frontsheet'!M136","v":0},{"$f":"'Trust - Frontsheet'!N136","v":0},{"$f":"'Trust - Frontsheet'!O136","v":0},{"$f":"'Trust - Frontsheet'!P136","v":0},{"$f":"'Trust - Frontsheet'!Q136","v":0},{"$f":"'Trust - Frontsheet'!R136","v":0},{"$f":"'Trust - Frontsheet'!S136","v":0},{"$f":"'Trust - Frontsheet'!T136","v":0},{"$f":"'Trust - Frontsheet'!U136","v":0},{"$f":"'Trust - Frontsheet'!V136","v":0},{"$f":"'Trust - Frontsheet'!W136","v":0},{"$f":"'Trust - Frontsheet'!X136","v":0},{"$f":"'Trust - Frontsheet'!Y136","v":0},{"$f":"'Trust - Frontsheet'!Z136","v":0},{"$f":"'Trust - Frontsheet'!AA136","v":0},{"$f":"'Trust - Frontsheet'!AB136","v":0},{"$f":"IF(OR('Trust - Frontsheet'!AK136=\"\",'Trust - Frontsheet'!AK136=\"-\"),0,('Trust - Frontsheet'!AK136))","v":0},{"$f":"IF(OR('Trust - Frontsheet'!AL136=\"\",'Trust - Frontsheet'!AL136=\"-\"),0,('Trust - Frontsheet'!AL136))","v":0},{"$f":"IF(OR('Trust - Frontsheet'!AM136=\"\",'Trust - Frontsheet'!AM136=\"-\"),0,('Trust - Frontsheet'!AM136))","v":0},{"$f":"IF(OR('Trust - Frontsheet'!AN136=\"\",'Trust - Frontsheet'!AN136=\"-\"),0,('Trust - Frontsheet'!AN136))","v":0},{"$f":"IF(OR('Trust - Frontsheet'!AO136=\"\",'Trust - Frontsheet'!AO136=\"-\"),0,('Trust - Frontsheet'!AO136))","v":0},{"$f":"IF(OR('Trust - Frontsheet'!AP136=\"\",'Trust - Frontsheet'!AP136=\"-\"),0,('Trust - Frontsheet'!AP136))","v":0},{"$f":"IF(OR('Trust - Frontsheet'!AQ136=\"\",'Trust - Frontsheet'!AQ136=\"-\"),0,('Trust - Frontsheet'!AQ136))","v":0},{"$f":"IF(OR('Trust - Frontsheet'!AR136=\"\",'Trust - Frontsheet'!AR136=\"-\"),0,('Trust - Frontsheet'!AR136))","v":0},{"$f":"IF(OR('Trust - Frontsheet'!AS136=\"\",'Trust - Frontsheet'!AS136=\"-\"),0,('Trust - Frontsheet'!AS136))","v":0},{"$f":"IF(OR('Trust - Frontsheet'!AT136=\"\",'Trust - Frontsheet'!AT136=\"-\"),0,('Trust - Frontsheet'!AT136))","v":0},{"$f":"'Trust - Frontsheet'!AC136","v":0},{"$f":"IF(OR('Trust - Frontsheet'!AD136=\"\",'Trust - Frontsheet'!AD136=\"-\"),0,('Trust - Frontsheet'!AD136))","v":0},{"$f":"IF(OR('Trust - Frontsheet'!AE136=\"\",'Trust - Frontsheet'!AE136=\"-\"),0,('Trust - Frontsheet'!AE136))","v":0},{"$f":"IF(OR('Trust - Frontsheet'!AF136=\"\",'Trust - Frontsheet'!AF136=\"-\"),0,('Trust - Frontsheet'!AF136))","v":0},{"$f":"IF(OR('Trust - Frontsheet'!AG136=\"\",'Trust - Frontsheet'!AG136=\"-\"),0,('Trust - Frontsheet'!AG136))","v":0},{"$f":"IF(OR('Trust - Frontsheet'!AH136=\"\",'Trust - Frontsheet'!AH136=\"-\"),0,('Trust - Frontsheet'!AH136))","v":0},{"$f":"IF(OR('Trust - Frontsheet'!AI136=\"\",'Trust - Frontsheet'!AI136=\"-\"),0,('Trust - Frontsheet'!AI136))","v":0},{"$f":"IF(OR('Trust - Frontsheet'!AJ136=\"\",'Trust - Frontsheet'!AJ136=\"-\"),0,('Trust - Frontsheet'!AJ136))","v":0},{"$f":"IF(A124=\"\",\"\",(IF(ISBLANK('Trust - Frontsheet'!F9),\"\",'Trust - Frontsheet'!F9)))","v":""}]
[{"$f":"IF('Trust - Frontsheet'!D137=0,\"\",IF('Trust - Frontsheet'!D137=\"\",\"\",'Trust - Frontsheet'!D137))","v":""},{"$f":"IF(ISBLANK('Trust - Frontsheet'!E137),\"\",'Trust - Frontsheet'!E137)","v":""},{"$f":"IF(ISBLANK('Trust - Frontsheet'!F137),\"\",\"'\" & 'Trust - Frontsheet'!F137 & \"'\")","v":""},{"$f":"IF(ISBLANK('Trust - Frontsheet'!G137),\"\",'Trust - Frontsheet'!G137)","v":""},{"$f":"IF(ISBLANK('Trust - Frontsheet'!H137),\"\",'Trust - Frontsheet'!H137)","v":""},{"$f":"'Trust - Frontsheet'!I137","v":0},{"$f":"'Trust - Frontsheet'!J137","v":0},{"$f":"'Trust - Frontsheet'!K137","v":0},{"$f":"'Trust - Frontsheet'!L137","v":0},{"$f":"'Trust - Frontsheet'!M137","v":0},{"$f":"'Trust - Frontsheet'!N137","v":0},{"$f":"'Trust - Frontsheet'!O137","v":0},{"$f":"'Trust - Frontsheet'!P137","v":0},{"$f":"'Trust - Frontsheet'!Q137","v":0},{"$f":"'Trust - Frontsheet'!R137","v":0},{"$f":"'Trust - Frontsheet'!S137","v":0},{"$f":"'Trust - Frontsheet'!T137","v":0},{"$f":"'Trust - Frontsheet'!U137","v":0},{"$f":"'Trust - Frontsheet'!V137","v":0},{"$f":"'Trust - Frontsheet'!W137","v":0},{"$f":"'Trust - Frontsheet'!X137","v":0},{"$f":"'Trust - Frontsheet'!Y137","v":0},{"$f":"'Trust - Frontsheet'!Z137","v":0},{"$f":"'Trust - Frontsheet'!AA137","v":0},{"$f":"'Trust - Frontsheet'!AB137","v":0},{"$f":"IF(OR('Trust - Frontsheet'!AK137=\"\",'Trust - Frontsheet'!AK137=\"-\"),0,('Trust - Frontsheet'!AK137))","v":0},{"$f":"IF(OR('Trust - Frontsheet'!AL137=\"\",'Trust - Frontsheet'!AL137=\"-\"),0,('Trust - Frontsheet'!AL137))","v":0},{"$f":"IF(OR('Trust - Frontsheet'!AM137=\"\",'Trust - Frontsheet'!AM137=\"-\"),0,('Trust - Frontsheet'!AM137))","v":0},{"$f":"IF(OR('Trust - Frontsheet'!AN137=\"\",'Trust - Frontsheet'!AN137=\"-\"),0,('Trust - Frontsheet'!AN137))","v":0},{"$f":"IF(OR('Trust - Frontsheet'!AO137=\"\",'Trust - Frontsheet'!AO137=\"-\"),0,('Trust - Frontsheet'!AO137))","v":0},{"$f":"IF(OR('Trust - Frontsheet'!AP137=\"\",'Trust - Frontsheet'!AP137=\"-\"),0,('Trust - Frontsheet'!AP137))","v":0},{"$f":"IF(OR('Trust - Frontsheet'!AQ137=\"\",'Trust - Frontsheet'!AQ137=\"-\"),0,('Trust - Frontsheet'!AQ137))","v":0},{"$f":"IF(OR('Trust - Frontsheet'!AR137=\"\",'Trust - Frontsheet'!AR137=\"-\"),0,('Trust - Frontsheet'!AR137))","v":0},{"$f":"IF(OR('Trust - Frontsheet'!AS137=\"\",'Trust - Frontsheet'!AS137=\"-\"),0,('Trust - Frontsheet'!AS137))","v":0},{"$f":"IF(OR('Trust - Frontsheet'!AT137=\"\",'Trust - Frontsheet'!AT137=\"-\"),0,('Trust - Frontsheet'!AT137))","v":0},{"$f":"'Trust - Frontsheet'!AC137","v":0},{"$f":"IF(OR('Trust - Frontsheet'!AD137=\"\",'Trust - Frontsheet'!AD137=\"-\"),0,('Trust - Frontsheet'!AD137))","v":0},{"$f":"IF(OR('Trust - Frontsheet'!AE137=\"\",'Trust - Frontsheet'!AE137=\"-\"),0,('Trust - Frontsheet'!AE137))","v":0},{"$f":"IF(OR('Trust - Frontsheet'!AF137=\"\",'Trust - Frontsheet'!AF137=\"-\"),0,('Trust - Frontsheet'!AF137))","v":0},{"$f":"IF(OR('Trust - Frontsheet'!AG137=\"\",'Trust - Frontsheet'!AG137=\"-\"),0,('Trust - Frontsheet'!AG137))","v":0},{"$f":"IF(OR('Trust - Frontsheet'!AH137=\"\",'Trust - Frontsheet'!AH137=\"-\"),0,('Trust - Frontsheet'!AH137))","v":0},{"$f":"IF(OR('Trust - Frontsheet'!AI137=\"\",'Trust - Frontsheet'!AI137=\"-\"),0,('Trust - Frontsheet'!AI137))","v":0},{"$f":"IF(OR('Trust - Frontsheet'!AJ137=\"\",'Trust - Frontsheet'!AJ137=\"-\"),0,('Trust - Frontsheet'!AJ137))","v":0},{"$f":"IF(A125=\"\",\"\",(IF(ISBLANK('Trust - Frontsheet'!F9),\"\",'Trust - Frontsheet'!F9)))","v":""}]
[{"$f":"IF('Trust - Frontsheet'!D138=0,\"\",IF('Trust - Frontsheet'!D138=\"\",\"\",'Trust - Frontsheet'!D138))","v":""},{"$f":"IF(ISBLANK('Trust - Frontsheet'!E138),\"\",'Trust - Frontsheet'!E138)","v":""},{"$f":"IF(ISBLANK('Trust - Frontsheet'!F138),\"\",\"'\" & 'Trust - Frontsheet'!F138 & \"'\")","v":""},{"$f":"IF(ISBLANK('Trust - Frontsheet'!G138),\"\",'Trust - Frontsheet'!G138)","v":""},{"$f":"IF(ISBLANK('Trust - Frontsheet'!H138),\"\",'Trust - Frontsheet'!H138)","v":""},{"$f":"'Trust - Frontsheet'!I138","v":0},{"$f":"'Trust - Frontsheet'!J138","v":0},{"$f":"'Trust - Frontsheet'!K138","v":0},{"$f":"'Trust - Frontsheet'!L138","v":0},{"$f":"'Trust - Frontsheet'!M138","v":0},{"$f":"'Trust - Frontsheet'!N138","v":0},{"$f":"'Trust - Frontsheet'!O138","v":0},{"$f":"'Trust - Frontsheet'!P138","v":0},{"$f":"'Trust - Frontsheet'!Q138","v":0},{"$f":"'Trust - Frontsheet'!R138","v":0},{"$f":"'Trust - Frontsheet'!S138","v":0},{"$f":"'Trust - Frontsheet'!T138","v":0},{"$f":"'Trust - Frontsheet'!U138","v":0},{"$f":"'Trust - Frontsheet'!V138","v":0},{"$f":"'Trust - Frontsheet'!W138","v":0},{"$f":"'Trust - Frontsheet'!X138","v":0},{"$f":"'Trust - Frontsheet'!Y138","v":0},{"$f":"'Trust - Frontsheet'!Z138","v":0},{"$f":"'Trust - Frontsheet'!AA138","v":0},{"$f":"'Trust - Frontsheet'!AB138","v":0},{"$f":"IF(OR('Trust - Frontsheet'!AK138=\"\",'Trust - Frontsheet'!AK138=\"-\"),0,('Trust - Frontsheet'!AK138))","v":0},{"$f":"IF(OR('Trust - Frontsheet'!AL138=\"\",'Trust - Frontsheet'!AL138=\"-\"),0,('Trust - Frontsheet'!AL138))","v":0},{"$f":"IF(OR('Trust - Frontsheet'!AM138=\"\",'Trust - Frontsheet'!AM138=\"-\"),0,('Trust - Frontsheet'!AM138))","v":0},{"$f":"IF(OR('Trust - Frontsheet'!AN138=\"\",'Trust - Frontsheet'!AN138=\"-\"),0,('Trust - Frontsheet'!AN138))","v":0},{"$f":"IF(OR('Trust - Frontsheet'!AO138=\"\",'Trust - Frontsheet'!AO138=\"-\"),0,('Trust - Frontsheet'!AO138))","v":0},{"$f":"IF(OR('Trust - Frontsheet'!AP138=\"\",'Trust - Frontsheet'!AP138=\"-\"),0,('Trust - Frontsheet'!AP138))","v":0},{"$f":"IF(OR('Trust - Frontsheet'!AQ138=\"\",'Trust - Frontsheet'!AQ138=\"-\"),0,('Trust - Frontsheet'!AQ138))","v":0},{"$f":"IF(OR('Trust - Frontsheet'!AR138=\"\",'Trust - Frontsheet'!AR138=\"-\"),0,('Trust - Frontsheet'!AR138))","v":0},{"$f":"IF(OR('Trust - Frontsheet'!AS138=\"\",'Trust - Frontsheet'!AS138=\"-\"),0,('Trust - Frontsheet'!AS138))","v":0},{"$f":"IF(OR('Trust - Frontsheet'!AT138=\"\",'Trust - Frontsheet'!AT138=\"-\"),0,('Trust - Frontsheet'!AT138))","v":0},{"$f":"'Trust - Frontsheet'!AC138","v":0},{"$f":"IF(OR('Trust - Frontsheet'!AD138=\"\",'Trust - Frontsheet'!AD138=\"-\"),0,('Trust - Frontsheet'!AD138))","v":0},{"$f":"IF(OR('Trust - Frontsheet'!AE138=\"\",'Trust - Frontsheet'!AE138=\"-\"),0,('Trust - Frontsheet'!AE138))","v":0},{"$f":"IF(OR('Trust - Frontsheet'!AF138=\"\",'Trust - Frontsheet'!AF138=\"-\"),0,('Trust - Frontsheet'!AF138))","v":0},{"$f":"IF(OR('Trust - Frontsheet'!AG138=\"\",'Trust - Frontsheet'!AG138=\"-\"),0,('Trust - Frontsheet'!AG138))","v":0},{"$f":"IF(OR('Trust - Frontsheet'!AH138=\"\",'Trust - Frontsheet'!AH138=\"-\"),0,('Trust - Frontsheet'!AH138))","v":0},{"$f":"IF(OR('Trust - Frontsheet'!AI138=\"\",'Trust - Frontsheet'!AI138=\"-\"),0,('Trust - Frontsheet'!AI138))","v":0},{"$f":"IF(OR('Trust - Frontsheet'!AJ138=\"\",'Trust - Frontsheet'!AJ138=\"-\"),0,('Trust - Frontsheet'!AJ138))","v":0},{"$f":"IF(A126=\"\",\"\",(IF(ISBLANK('Trust - Frontsheet'!F9),\"\",'Trust - Frontsheet'!F9)))","v":""}]
[{"$f":"IF('Trust - Frontsheet'!D139=0,\"\",IF('Trust - Frontsheet'!D139=\"\",\"\",'Trust - Frontsheet'!D139))","v":""},{"$f":"IF(ISBLANK('Trust - Frontsheet'!E139),\"\",'Trust - Frontsheet'!E139)","v":""},{"$f":"IF(ISBLANK('Trust - Frontsheet'!F139),\"\",\"'\" & 'Trust - Frontsheet'!F139 & \"'\")","v":""},{"$f":"IF(ISBLANK('Trust - Frontsheet'!G139),\"\",'Trust - Frontsheet'!G139)","v":""},{"$f":"IF(ISBLANK('Trust - Frontsheet'!H139),\"\",'Trust - Frontsheet'!H139)","v":""},{"$f":"'Trust - Frontsheet'!I139","v":0},{"$f":"'Trust - Frontsheet'!J139","v":0},{"$f":"'Trust - Frontsheet'!K139","v":0},{"$f":"'Trust - Frontsheet'!L139","v":0},{"$f":"'Trust - Frontsheet'!M139","v":0},{"$f":"'Trust - Frontsheet'!N139","v":0},{"$f":"'Trust - Frontsheet'!O139","v":0},{"$f":"'Trust - Frontsheet'!P139","v":0},{"$f":"'Trust - Frontsheet'!Q139","v":0},{"$f":"'Trust - Frontsheet'!R139","v":0},{"$f":"'Trust - Frontsheet'!S139","v":0},{"$f":"'Trust - Frontsheet'!T139","v":0},{"$f":"'Trust - Frontsheet'!U139","v":0},{"$f":"'Trust - Frontsheet'!V139","v":0},{"$f":"'Trust - Frontsheet'!W139","v":0},{"$f":"'Trust - Frontsheet'!X139","v":0},{"$f":"'Trust - Frontsheet'!Y139","v":0},{"$f":"'Trust - Frontsheet'!Z139","v":0},{"$f":"'Trust - Frontsheet'!AA139","v":0},{"$f":"'Trust - Frontsheet'!AB139","v":0},{"$f":"IF(OR('Trust - Frontsheet'!AK139=\"\",'Trust - Frontsheet'!AK139=\"-\"),0,('Trust - Frontsheet'!AK139))","v":0},{"$f":"IF(OR('Trust - Frontsheet'!AL139=\"\",'Trust - Frontsheet'!AL139=\"-\"),0,('Trust - Frontsheet'!AL139))","v":0},{"$f":"IF(OR('Trust - Frontsheet'!AM139=\"\",'Trust - Frontsheet'!AM139=\"-\"),0,('Trust - Frontsheet'!AM139))","v":0},{"$f":"IF(OR('Trust - Frontsheet'!AN139=\"\",'Trust - Frontsheet'!AN139=\"-\"),0,('Trust - Frontsheet'!AN139))","v":0},{"$f":"IF(OR('Trust - Frontsheet'!AO139=\"\",'Trust - Frontsheet'!AO139=\"-\"),0,('Trust - Frontsheet'!AO139))","v":0},{"$f":"IF(OR('Trust - Frontsheet'!AP139=\"\",'Trust - Frontsheet'!AP139=\"-\"),0,('Trust - Frontsheet'!AP139))","v":0},{"$f":"IF(OR('Trust - Frontsheet'!AQ139=\"\",'Trust - Frontsheet'!AQ139=\"-\"),0,('Trust - Frontsheet'!AQ139))","v":0},{"$f":"IF(OR('Trust - Frontsheet'!AR139=\"\",'Trust - Frontsheet'!AR139=\"-\"),0,('Trust - Frontsheet'!AR139))","v":0},{"$f":"IF(OR('Trust - Frontsheet'!AS139=\"\",'Trust - Frontsheet'!AS139=\"-\"),0,('Trust - Frontsheet'!AS139))","v":0},{"$f":"IF(OR('Trust - Frontsheet'!AT139=\"\",'Trust - Frontsheet'!AT139=\"-\"),0,('Trust - Frontsheet'!AT139))","v":0},{"$f":"'Trust - Frontsheet'!AC139","v":0},{"$f":"IF(OR('Trust - Frontsheet'!AD139=\"\",'Trust - Frontsheet'!AD139=\"-\"),0,('Trust - Frontsheet'!AD139))","v":0},{"$f":"IF(OR('Trust - Frontsheet'!AE139=\"\",'Trust - Frontsheet'!AE139=\"-\"),0,('Trust - Frontsheet'!AE139))","v":0},{"$f":"IF(OR('Trust - Frontsheet'!AF139=\"\",'Trust - Frontsheet'!AF139=\"-\"),0,('Trust - Frontsheet'!AF139))","v":0},{"$f":"IF(OR('Trust - Frontsheet'!AG139=\"\",'Trust - Frontsheet'!AG139=\"-\"),0,('Trust - Frontsheet'!AG139))","v":0},{"$f":"IF(OR('Trust - Frontsheet'!AH139=\"\",'Trust - Frontsheet'!AH139=\"-\"),0,('Trust - Frontsheet'!AH139))","v":0},{"$f":"IF(OR('Trust - Frontsheet'!AI139=\"\",'Trust - Frontsheet'!AI139=\"-\"),0,('Trust - Frontsheet'!AI139))","v":0},{"$f":"IF(OR('Trust - Frontsheet'!AJ139=\"\",'Trust - Frontsheet'!AJ139=\"-\"),0,('Trust - Frontsheet'!AJ139))","v":0},{"$f":"IF(A127=\"\",\"\",(IF(ISBLANK('Trust - Frontsheet'!F9),\"\",'Trust - Frontsheet'!F9)))","v":""}]
[{"$f":"IF('Trust - Frontsheet'!D140=0,\"\",IF('Trust - Frontsheet'!D140=\"\",\"\",'Trust - Frontsheet'!D140))","v":""},{"$f":"IF(ISBLANK('Trust - Frontsheet'!E140),\"\",'Trust - Frontsheet'!E140)","v":""},{"$f":"IF(ISBLANK('Trust - Frontsheet'!F140),\"\",\"'\" & 'Trust - Frontsheet'!F140 & \"'\")","v":""},{"$f":"IF(ISBLANK('Trust - Frontsheet'!G140),\"\",'Trust - Frontsheet'!G140)","v":""},{"$f":"IF(ISBLANK('Trust - Frontsheet'!H140),\"\",'Trust - Frontsheet'!H140)","v":""},{"$f":"'Trust - Frontsheet'!I140","v":0},{"$f":"'Trust - Frontsheet'!J140","v":0},{"$f":"'Trust - Frontsheet'!K140","v":0},{"$f":"'Trust - Frontsheet'!L140","v":0},{"$f":"'Trust - Frontsheet'!M140","v":0},{"$f":"'Trust - Frontsheet'!N140","v":0},{"$f":"'Trust - Frontsheet'!O140","v":0},{"$f":"'Trust - Frontsheet'!P140","v":0},{"$f":"'Trust - Frontsheet'!Q140","v":0},{"$f":"'Trust - Frontsheet'!R140","v":0},{"$f":"'Trust - Frontsheet'!S140","v":0},{"$f":"'Trust - Frontsheet'!T140","v":0},{"$f":"'Trust - Frontsheet'!U140","v":0},{"$f":"'Trust - Frontsheet'!V140","v":0},{"$f":"'Trust - Frontsheet'!W140","v":0},{"$f":"'Trust - Frontsheet'!X140","v":0},{"$f":"'Trust - Frontsheet'!Y140","v":0},{"$f":"'Trust - Frontsheet'!Z140","v":0},{"$f":"'Trust - Frontsheet'!AA140","v":0},{"$f":"'Trust - Frontsheet'!AB140","v":0},{"$f":"IF(OR('Trust - Frontsheet'!AK140=\"\",'Trust - Frontsheet'!AK140=\"-\"),0,('Trust - Frontsheet'!AK140))","v":0},{"$f":"IF(OR('Trust - Frontsheet'!AL140=\"\",'Trust - Frontsheet'!AL140=\"-\"),0,('Trust - Frontsheet'!AL140))","v":0},{"$f":"IF(OR('Trust - Frontsheet'!AM140=\"\",'Trust - Frontsheet'!AM140=\"-\"),0,('Trust - Frontsheet'!AM140))","v":0},{"$f":"IF(OR('Trust - Frontsheet'!AN140=\"\",'Trust - Frontsheet'!AN140=\"-\"),0,('Trust - Frontsheet'!AN140))","v":0},{"$f":"IF(OR('Trust - Frontsheet'!AO140=\"\",'Trust - Frontsheet'!AO140=\"-\"),0,('Trust - Frontsheet'!AO140))","v":0},{"$f":"IF(OR('Trust - Frontsheet'!AP140=\"\",'Trust - Frontsheet'!AP140=\"-\"),0,('Trust - Frontsheet'!AP140))","v":0},{"$f":"IF(OR('Trust - Frontsheet'!AQ140=\"\",'Trust - Frontsheet'!AQ140=\"-\"),0,('Trust - Frontsheet'!AQ140))","v":0},{"$f":"IF(OR('Trust - Frontsheet'!AR140=\"\",'Trust - Frontsheet'!AR140=\"-\"),0,('Trust - Frontsheet'!AR140))","v":0},{"$f":"IF(OR('Trust - Frontsheet'!AS140=\"\",'Trust - Frontsheet'!AS140=\"-\"),0,('Trust - Frontsheet'!AS140))","v":0},{"$f":"IF(OR('Trust - Frontsheet'!AT140=\"\",'Trust - Frontsheet'!AT140=\"-\"),0,('Trust - Frontsheet'!AT140))","v":0},{"$f":"'Trust - Frontsheet'!AC140","v":0},{"$f":"IF(OR('Trust - Frontsheet'!AD140=\"\",'Trust - Frontsheet'!AD140=\"-\"),0,('Trust - Frontsheet'!AD140))","v":0},{"$f":"IF(OR('Trust - Frontsheet'!AE140=\"\",'Trust - Frontsheet'!AE140=\"-\"),0,('Trust - Frontsheet'!AE140))","v":0},{"$f":"IF(OR('Trust - Frontsheet'!AF140=\"\",'Trust - Frontsheet'!AF140=\"-\"),0,('Trust - Frontsheet'!AF140))","v":0},{"$f":"IF(OR('Trust - Frontsheet'!AG140=\"\",'Trust - Frontsheet'!AG140=\"-\"),0,('Trust - Frontsheet'!AG140))","v":0},{"$f":"IF(OR('Trust - Frontsheet'!AH140=\"\",'Trust - Frontsheet'!AH140=\"-\"),0,('Trust - Frontsheet'!AH140))","v":0},{"$f":"IF(OR('Trust - Frontsheet'!AI140=\"\",'Trust - Frontsheet'!AI140=\"-\"),0,('Trust - Frontsheet'!AI140))","v":0},{"$f":"IF(OR('Trust - Frontsheet'!AJ140=\"\",'Trust - Frontsheet'!AJ140=\"-\"),0,('Trust - Frontsheet'!AJ140))","v":0},{"$f":"IF(A128=\"\",\"\",(IF(ISBLANK('Trust - Frontsheet'!F9),\"\",'Trust - Frontsheet'!F9)))","v":""}]
[{"$f":"IF('Trust - Frontsheet'!D141=0,\"\",IF('Trust - Frontsheet'!D141=\"\",\"\",'Trust - Frontsheet'!D141))","v":""},{"$f":"IF(ISBLANK('Trust - Frontsheet'!E141),\"\",'Trust - Frontsheet'!E141)","v":""},{"$f":"IF(ISBLANK('Trust - Frontsheet'!F141),\"\",\"'\" & 'Trust - Frontsheet'!F141 & \"'\")","v":""},{"$f":"IF(ISBLANK('Trust - Frontsheet'!G141),\"\",'Trust - Frontsheet'!G141)","v":""},{"$f":"IF(ISBLANK('Trust - Frontsheet'!H141),\"\",'Trust - Frontsheet'!H141)","v":""},{"$f":"'Trust - Frontsheet'!I141","v":0},{"$f":"'Trust - Frontsheet'!J141","v":0},{"$f":"'Trust - Frontsheet'!K141","v":0},{"$f":"'Trust - Frontsheet'!L141","v":0},{"$f":"'Trust - Frontsheet'!M141","v":0},{"$f":"'Trust - Frontsheet'!N141","v":0},{"$f":"'Trust - Frontsheet'!O141","v":0},{"$f":"'Trust - Frontsheet'!P141","v":0},{"$f":"'Trust - Frontsheet'!Q141","v":0},{"$f":"'Trust - Frontsheet'!R141","v":0},{"$f":"'Trust - Frontsheet'!S141","v":0},{"$f":"'Trust - Frontsheet'!T141","v":0},{"$f":"'Trust - Frontsheet'!U141","v":0},{"$f":"'Trust - Frontsheet'!V141","v":0},{"$f":"'Trust - Frontsheet'!W141","v":0},{"$f":"'Trust - Frontsheet'!X141","v":0},{"$f":"'Trust - Frontsheet'!Y141","v":0},{"$f":"'Trust - Frontsheet'!Z141","v":0},{"$f":"'Trust - Frontsheet'!AA141","v":0},{"$f":"'Trust - Frontsheet'!AB141","v":0},{"$f":"IF(OR('Trust - Frontsheet'!AK141=\"\",'Trust - Frontsheet'!AK141=\"-\"),0,('Trust - Frontsheet'!AK141))","v":0},{"$f":"IF(OR('Trust - Frontsheet'!AL141=\"\",'Trust - Frontsheet'!AL141=\"-\"),0,('Trust - Frontsheet'!AL141))","v":0},{"$f":"IF(OR('Trust - Frontsheet'!AM141=\"\",'Trust - Frontsheet'!AM141=\"-\"),0,('Trust - Frontsheet'!AM141))","v":0},{"$f":"IF(OR('Trust - Frontsheet'!AN141=\"\",'Trust - Frontsheet'!AN141=\"-\"),0,('Trust - Frontsheet'!AN141))","v":0},{"$f":"IF(OR('Trust - Frontsheet'!AO141=\"\",'Trust - Frontsheet'!AO141=\"-\"),0,('Trust - Frontsheet'!AO141))","v":0},{"$f":"IF(OR('Trust - Frontsheet'!AP141=\"\",'Trust - Frontsheet'!AP141=\"-\"),0,('Trust - Frontsheet'!AP141))","v":0},{"$f":"IF(OR('Trust - Frontsheet'!AQ141=\"\",'Trust - Frontsheet'!AQ141=\"-\"),0,('Trust - Frontsheet'!AQ141))","v":0},{"$f":"IF(OR('Trust - Frontsheet'!AR141=\"\",'Trust - Frontsheet'!AR141=\"-\"),0,('Trust - Frontsheet'!AR141))","v":0},{"$f":"IF(OR('Trust - Frontsheet'!AS141=\"\",'Trust - Frontsheet'!AS141=\"-\"),0,('Trust - Frontsheet'!AS141))","v":0},{"$f":"IF(OR('Trust - Frontsheet'!AT141=\"\",'Trust - Frontsheet'!AT141=\"-\"),0,('Trust - Frontsheet'!AT141))","v":0},{"$f":"'Trust - Frontsheet'!AC141","v":0},{"$f":"IF(OR('Trust - Frontsheet'!AD141=\"\",'Trust - Frontsheet'!AD141=\"-\"),0,('Trust - Frontsheet'!AD141))","v":0},{"$f":"IF(OR('Trust - Frontsheet'!AE141=\"\",'Trust - Frontsheet'!AE141=\"-\"),0,('Trust - Frontsheet'!AE141))","v":0},{"$f":"IF(OR('Trust - Frontsheet'!AF141=\"\",'Trust - Frontsheet'!AF141=\"-\"),0,('Trust - Frontsheet'!AF141))","v":0},{"$f":"IF(OR('Trust - Frontsheet'!AG141=\"\",'Trust - Frontsheet'!AG141=\"-\"),0,('Trust - Frontsheet'!AG141))","v":0},{"$f":"IF(OR('Trust - Frontsheet'!AH141=\"\",'Trust - Frontsheet'!AH141=\"-\"),0,('Trust - Frontsheet'!AH141))","v":0},{"$f":"IF(OR('Trust - Frontsheet'!AI141=\"\",'Trust - Frontsheet'!AI141=\"-\"),0,('Trust - Frontsheet'!AI141))","v":0},{"$f":"IF(OR('Trust - Frontsheet'!AJ141=\"\",'Trust - Frontsheet'!AJ141=\"-\"),0,('Trust - Frontsheet'!AJ141))","v":0},{"$f":"IF(A129=\"\",\"\",(IF(ISBLANK('Trust - Frontsheet'!F9),\"\",'Trust - Frontsheet'!F9)))","v":""}]
[{"$f":"IF('Trust - Frontsheet'!D142=0,\"\",IF('Trust - Frontsheet'!D142=\"\",\"\",'Trust - Frontsheet'!D142))","v":""},{"$f":"IF(ISBLANK('Trust - Frontsheet'!E142),\"\",'Trust - Frontsheet'!E142)","v":""},{"$f":"IF(ISBLANK('Trust - Frontsheet'!F142),\"\",\"'\" & 'Trust - Frontsheet'!F142 & \"'\")","v":""},{"$f":"IF(ISBLANK('Trust - Frontsheet'!G142),\"\",'Trust - Frontsheet'!G142)","v":""},{"$f":"IF(ISBLANK('Trust - Frontsheet'!H142),\"\",'Trust - Frontsheet'!H142)","v":""},{"$f":"'Trust - Frontsheet'!I142","v":0},{"$f":"'Trust - Frontsheet'!J142","v":0},{"$f":"'Trust - Frontsheet'!K142","v":0},{"$f":"'Trust - Frontsheet'!L142","v":0},{"$f":"'Trust - Frontsheet'!M142","v":0},{"$f":"'Trust - Frontsheet'!N142","v":0},{"$f":"'Trust - Frontsheet'!O142","v":0},{"$f":"'Trust - Frontsheet'!P142","v":0},{"$f":"'Trust - Frontsheet'!Q142","v":0},{"$f":"'Trust - Frontsheet'!R142","v":0},{"$f":"'Trust - Frontsheet'!S142","v":0},{"$f":"'Trust - Frontsheet'!T142","v":0},{"$f":"'Trust - Frontsheet'!U142","v":0},{"$f":"'Trust - Frontsheet'!V142","v":0},{"$f":"'Trust - Frontsheet'!W142","v":0},{"$f":"'Trust - Frontsheet'!X142","v":0},{"$f":"'Trust - Frontsheet'!Y142","v":0},{"$f":"'Trust - Frontsheet'!Z142","v":0},{"$f":"'Trust - Frontsheet'!AA142","v":0},{"$f":"'Trust - Frontsheet'!AB142","v":0},{"$f":"IF(OR('Trust - Frontsheet'!AK142=\"\",'Trust - Frontsheet'!AK142=\"-\"),0,('Trust - Frontsheet'!AK142))","v":0},{"$f":"IF(OR('Trust - Frontsheet'!AL142=\"\",'Trust - Frontsheet'!AL142=\"-\"),0,('Trust - Frontsheet'!AL142))","v":0},{"$f":"IF(OR('Trust - Frontsheet'!AM142=\"\",'Trust - Frontsheet'!AM142=\"-\"),0,('Trust - Frontsheet'!AM142))","v":0},{"$f":"IF(OR('Trust - Frontsheet'!AN142=\"\",'Trust - Frontsheet'!AN142=\"-\"),0,('Trust - Frontsheet'!AN142))","v":0},{"$f":"IF(OR('Trust - Frontsheet'!AO142=\"\",'Trust - Frontsheet'!AO142=\"-\"),0,('Trust - Frontsheet'!AO142))","v":0},{"$f":"IF(OR('Trust - Frontsheet'!AP142=\"\",'Trust - Frontsheet'!AP142=\"-\"),0,('Trust - Frontsheet'!AP142))","v":0},{"$f":"IF(OR('Trust - Frontsheet'!AQ142=\"\",'Trust - Frontsheet'!AQ142=\"-\"),0,('Trust - Frontsheet'!AQ142))","v":0},{"$f":"IF(OR('Trust - Frontsheet'!AR142=\"\",'Trust - Frontsheet'!AR142=\"-\"),0,('Trust - Frontsheet'!AR142))","v":0},{"$f":"IF(OR('Trust - Frontsheet'!AS142=\"\",'Trust - Frontsheet'!AS142=\"-\"),0,('Trust - Frontsheet'!AS142))","v":0},{"$f":"IF(OR('Trust - Frontsheet'!AT142=\"\",'Trust - Frontsheet'!AT142=\"-\"),0,('Trust - Frontsheet'!AT142))","v":0},{"$f":"'Trust - Frontsheet'!AC142","v":0},{"$f":"IF(OR('Trust - Frontsheet'!AD142=\"\",'Trust - Frontsheet'!AD142=\"-\"),0,('Trust - Frontsheet'!AD142))","v":0},{"$f":"IF(OR('Trust - Frontsheet'!AE142=\"\",'Trust - Frontsheet'!AE142=\"-\"),0,('Trust - Frontsheet'!AE142))","v":0},{"$f":"IF(OR('Trust - Frontsheet'!AF142=\"\",'Trust - Frontsheet'!AF142=\"-\"),0,('Trust - Frontsheet'!AF142))","v":0},{"$f":"IF(OR('Trust - Frontsheet'!AG142=\"\",'Trust - Frontsheet'!AG142=\"-\"),0,('Trust - Frontsheet'!AG142))","v":0},{"$f":"IF(OR('Trust - Frontsheet'!AH142=\"\",'Trust - Frontsheet'!AH142=\"-\"),0,('Trust - Frontsheet'!AH142))","v":0},{"$f":"IF(OR('Trust - Frontsheet'!AI142=\"\",'Trust - Frontsheet'!AI142=\"-\"),0,('Trust - Frontsheet'!AI142))","v":0},{"$f":"IF(OR('Trust - Frontsheet'!AJ142=\"\",'Trust - Frontsheet'!AJ142=\"-\"),0,('Trust - Frontsheet'!AJ142))","v":0},{"$f":"IF(A130=\"\",\"\",(IF(ISBLANK('Trust - Frontsheet'!F9),\"\",'Trust - Frontsheet'!F9)))","v":""}]
[{"$f":"IF('Trust - Frontsheet'!D143=0,\"\",IF('Trust - Frontsheet'!D143=\"\",\"\",'Trust - Frontsheet'!D143))","v":""},{"$f":"IF(ISBLANK('Trust - Frontsheet'!E143),\"\",'Trust - Frontsheet'!E143)","v":""},{"$f":"IF(ISBLANK('Trust - Frontsheet'!F143),\"\",\"'\" & 'Trust - Frontsheet'!F143 & \"'\")","v":""},{"$f":"IF(ISBLANK('Trust - Frontsheet'!G143),\"\",'Trust - Frontsheet'!G143)","v":""},{"$f":"IF(ISBLANK('Trust - Frontsheet'!H143),\"\",'Trust - Frontsheet'!H143)","v":""},{"$f":"'Trust - Frontsheet'!I143","v":0},{"$f":"'Trust - Frontsheet'!J143","v":0},{"$f":"'Trust - Frontsheet'!K143","v":0},{"$f":"'Trust - Frontsheet'!L143","v":0},{"$f":"'Trust - Frontsheet'!M143","v":0},{"$f":"'Trust - Frontsheet'!N143","v":0},{"$f":"'Trust - Frontsheet'!O143","v":0},{"$f":"'Trust - Frontsheet'!P143","v":0},{"$f":"'Trust - Frontsheet'!Q143","v":0},{"$f":"'Trust - Frontsheet'!R143","v":0},{"$f":"'Trust - Frontsheet'!S143","v":0},{"$f":"'Trust - Frontsheet'!T143","v":0},{"$f":"'Trust - Frontsheet'!U143","v":0},{"$f":"'Trust - Frontsheet'!V143","v":0},{"$f":"'Trust - Frontsheet'!W143","v":0},{"$f":"'Trust - Frontsheet'!X143","v":0},{"$f":"'Trust - Frontsheet'!Y143","v":0},{"$f":"'Trust - Frontsheet'!Z143","v":0},{"$f":"'Trust - Frontsheet'!AA143","v":0},{"$f":"'Trust - Frontsheet'!AB143","v":0},{"$f":"IF(OR('Trust - Frontsheet'!AK143=\"\",'Trust - Frontsheet'!AK143=\"-\"),0,('Trust - Frontsheet'!AK143))","v":0},{"$f":"IF(OR('Trust - Frontsheet'!AL143=\"\",'Trust - Frontsheet'!AL143=\"-\"),0,('Trust - Frontsheet'!AL143))","v":0},{"$f":"IF(OR('Trust - Frontsheet'!AM143=\"\",'Trust - Frontsheet'!AM143=\"-\"),0,('Trust - Frontsheet'!AM143))","v":0},{"$f":"IF(OR('Trust - Frontsheet'!AN143=\"\",'Trust - Frontsheet'!AN143=\"-\"),0,('Trust - Frontsheet'!AN143))","v":0},{"$f":"IF(OR('Trust - Frontsheet'!AO143=\"\",'Trust - Frontsheet'!AO143=\"-\"),0,('Trust - Frontsheet'!AO143))","v":0},{"$f":"IF(OR('Trust - Frontsheet'!AP143=\"\",'Trust - Frontsheet'!AP143=\"-\"),0,('Trust - Frontsheet'!AP143))","v":0},{"$f":"IF(OR('Trust - Frontsheet'!AQ143=\"\",'Trust - Frontsheet'!AQ143=\"-\"),0,('Trust - Frontsheet'!AQ143))","v":0},{"$f":"IF(OR('Trust - Frontsheet'!AR143=\"\",'Trust - Frontsheet'!AR143=\"-\"),0,('Trust - Frontsheet'!AR143))","v":0},{"$f":"IF(OR('Trust - Frontsheet'!AS143=\"\",'Trust - Frontsheet'!AS143=\"-\"),0,('Trust - Frontsheet'!AS143))","v":0},{"$f":"IF(OR('Trust - Frontsheet'!AT143=\"\",'Trust - Frontsheet'!AT143=\"-\"),0,('Trust - Frontsheet'!AT143))","v":0},{"$f":"'Trust - Frontsheet'!AC143","v":0},{"$f":"IF(OR('Trust - Frontsheet'!AD143=\"\",'Trust - Frontsheet'!AD143=\"-\"),0,('Trust - Frontsheet'!AD143))","v":0},{"$f":"IF(OR('Trust - Frontsheet'!AE143=\"\",'Trust - Frontsheet'!AE143=\"-\"),0,('Trust - Frontsheet'!AE143))","v":0},{"$f":"IF(OR('Trust - Frontsheet'!AF143=\"\",'Trust - Frontsheet'!AF143=\"-\"),0,('Trust - Frontsheet'!AF143))","v":0},{"$f":"IF(OR('Trust - Frontsheet'!AG143=\"\",'Trust - Frontsheet'!AG143=\"-\"),0,('Trust - Frontsheet'!AG143))","v":0},{"$f":"IF(OR('Trust - Frontsheet'!AH143=\"\",'Trust - Frontsheet'!AH143=\"-\"),0,('Trust - Frontsheet'!AH143))","v":0},{"$f":"IF(OR('Trust - Frontsheet'!AI143=\"\",'Trust - Frontsheet'!AI143=\"-\"),0,('Trust - Frontsheet'!AI143))","v":0},{"$f":"IF(OR('Trust - Frontsheet'!AJ143=\"\",'Trust - Frontsheet'!AJ143=\"-\"),0,('Trust - Frontsheet'!AJ143))","v":0},{"$f":"IF(A131=\"\",\"\",(IF(ISBLANK('Trust - Frontsheet'!F9),\"\",'Trust - Frontsheet'!F9)))","v":""}]
[{"$f":"IF('Trust - Frontsheet'!D144=0,\"\",IF('Trust - Frontsheet'!D144=\"\",\"\",'Trust - Frontsheet'!D144))","v":""},{"$f":"IF(ISBLANK('Trust - Frontsheet'!E144),\"\",'Trust - Frontsheet'!E144)","v":""},{"$f":"IF(ISBLANK('Trust - Frontsheet'!F144),\"\",\"'\" & 'Trust - Frontsheet'!F144 & \"'\")","v":""},{"$f":"IF(ISBLANK('Trust - Frontsheet'!G144),\"\",'Trust - Frontsheet'!G144)","v":""},{"$f":"IF(ISBLANK('Trust - Frontsheet'!H144),\"\",'Trust - Frontsheet'!H144)","v":""},{"$f":"'Trust - Frontsheet'!I144","v":0},{"$f":"'Trust - Frontsheet'!J144","v":0},{"$f":"'Trust - Frontsheet'!K144","v":0},{"$f":"'Trust - Frontsheet'!L144","v":0},{"$f":"'Trust - Frontsheet'!M144","v":0},{"$f":"'Trust - Frontsheet'!N144","v":0},{"$f":"'Trust - Frontsheet'!O144","v":0},{"$f":"'Trust - Frontsheet'!P144","v":0},{"$f":"'Trust - Frontsheet'!Q144","v":0},{"$f":"'Trust - Frontsheet'!R144","v":0},{"$f":"'Trust - Frontsheet'!S144","v":0},{"$f":"'Trust - Frontsheet'!T144","v":0},{"$f":"'Trust - Frontsheet'!U144","v":0},{"$f":"'Trust - Frontsheet'!V144","v":0},{"$f":"'Trust - Frontsheet'!W144","v":0},{"$f":"'Trust - Frontsheet'!X144","v":0},{"$f":"'Trust - Frontsheet'!Y144","v":0},{"$f":"'Trust - Frontsheet'!Z144","v":0},{"$f":"'Trust - Frontsheet'!AA144","v":0},{"$f":"'Trust - Frontsheet'!AB144","v":0},{"$f":"IF(OR('Trust - Frontsheet'!AK144=\"\",'Trust - Frontsheet'!AK144=\"-\"),0,('Trust - Frontsheet'!AK144))","v":0},{"$f":"IF(OR('Trust - Frontsheet'!AL144=\"\",'Trust - Frontsheet'!AL144=\"-\"),0,('Trust - Frontsheet'!AL144))","v":0},{"$f":"IF(OR('Trust - Frontsheet'!AM144=\"\",'Trust - Frontsheet'!AM144=\"-\"),0,('Trust - Frontsheet'!AM144))","v":0},{"$f":"IF(OR('Trust - Frontsheet'!AN144=\"\",'Trust - Frontsheet'!AN144=\"-\"),0,('Trust - Frontsheet'!AN144))","v":0},{"$f":"IF(OR('Trust - Frontsheet'!AO144=\"\",'Trust - Frontsheet'!AO144=\"-\"),0,('Trust - Frontsheet'!AO144))","v":0},{"$f":"IF(OR('Trust - Frontsheet'!AP144=\"\",'Trust - Frontsheet'!AP144=\"-\"),0,('Trust - Frontsheet'!AP144))","v":0},{"$f":"IF(OR('Trust - Frontsheet'!AQ144=\"\",'Trust - Frontsheet'!AQ144=\"-\"),0,('Trust - Frontsheet'!AQ144))","v":0},{"$f":"IF(OR('Trust - Frontsheet'!AR144=\"\",'Trust - Frontsheet'!AR144=\"-\"),0,('Trust - Frontsheet'!AR144))","v":0},{"$f":"IF(OR('Trust - Frontsheet'!AS144=\"\",'Trust - Frontsheet'!AS144=\"-\"),0,('Trust - Frontsheet'!AS144))","v":0},{"$f":"IF(OR('Trust - Frontsheet'!AT144=\"\",'Trust - Frontsheet'!AT144=\"-\"),0,('Trust - Frontsheet'!AT144))","v":0},{"$f":"'Trust - Frontsheet'!AC144","v":0},{"$f":"IF(OR('Trust - Frontsheet'!AD144=\"\",'Trust - Frontsheet'!AD144=\"-\"),0,('Trust - Frontsheet'!AD144))","v":0},{"$f":"IF(OR('Trust - Frontsheet'!AE144=\"\",'Trust - Frontsheet'!AE144=\"-\"),0,('Trust - Frontsheet'!AE144))","v":0},{"$f":"IF(OR('Trust - Frontsheet'!AF144=\"\",'Trust - Frontsheet'!AF144=\"-\"),0,('Trust - Frontsheet'!AF144))","v":0},{"$f":"IF(OR('Trust - Frontsheet'!AG144=\"\",'Trust - Frontsheet'!AG144=\"-\"),0,('Trust - Frontsheet'!AG144))","v":0},{"$f":"IF(OR('Trust - Frontsheet'!AH144=\"\",'Trust - Frontsheet'!AH144=\"-\"),0,('Trust - Frontsheet'!AH144))","v":0},{"$f":"IF(OR('Trust - Frontsheet'!AI144=\"\",'Trust - Frontsheet'!AI144=\"-\"),0,('Trust - Frontsheet'!AI144))","v":0},{"$f":"IF(OR('Trust - Frontsheet'!AJ144=\"\",'Trust - Frontsheet'!AJ144=\"-\"),0,('Trust - Frontsheet'!AJ144))","v":0},{"$f":"IF(A132=\"\",\"\",(IF(ISBLANK('Trust - Frontsheet'!F9),\"\",'Trust - Frontsheet'!F9)))","v":""}]
[{"$f":"IF('Trust - Frontsheet'!D145=0,\"\",IF('Trust - Frontsheet'!D145=\"\",\"\",'Trust - Frontsheet'!D145))","v":""},{"$f":"IF(ISBLANK('Trust - Frontsheet'!E145),\"\",'Trust - Frontsheet'!E145)","v":""},{"$f":"IF(ISBLANK('Trust - Frontsheet'!F145),\"\",\"'\" & 'Trust - Frontsheet'!F145 & \"'\")","v":""},{"$f":"IF(ISBLANK('Trust - Frontsheet'!G145),\"\",'Trust - Frontsheet'!G145)","v":""},{"$f":"IF(ISBLANK('Trust - Frontsheet'!H145),\"\",'Trust - Frontsheet'!H145)","v":""},{"$f":"'Trust - Frontsheet'!I145","v":0},{"$f":"'Trust - Frontsheet'!J145","v":0},{"$f":"'Trust - Frontsheet'!K145","v":0},{"$f":"'Trust - Frontsheet'!L145","v":0},{"$f":"'Trust - Frontsheet'!M145","v":0},{"$f":"'Trust - Frontsheet'!N145","v":0},{"$f":"'Trust - Frontsheet'!O145","v":0},{"$f":"'Trust - Frontsheet'!P145","v":0},{"$f":"'Trust - Frontsheet'!Q145","v":0},{"$f":"'Trust - Frontsheet'!R145","v":0},{"$f":"'Trust - Frontsheet'!S145","v":0},{"$f":"'Trust - Frontsheet'!T145","v":0},{"$f":"'Trust - Frontsheet'!U145","v":0},{"$f":"'Trust - Frontsheet'!V145","v":0},{"$f":"'Trust - Frontsheet'!W145","v":0},{"$f":"'Trust - Frontsheet'!X145","v":0},{"$f":"'Trust - Frontsheet'!Y145","v":0},{"$f":"'Trust - Frontsheet'!Z145","v":0},{"$f":"'Trust - Frontsheet'!AA145","v":0},{"$f":"'Trust - Frontsheet'!AB145","v":0},{"$f":"IF(OR('Trust - Frontsheet'!AK145=\"\",'Trust - Frontsheet'!AK145=\"-\"),0,('Trust - Frontsheet'!AK145))","v":0},{"$f":"IF(OR('Trust - Frontsheet'!AL145=\"\",'Trust - Frontsheet'!AL145=\"-\"),0,('Trust - Frontsheet'!AL145))","v":0},{"$f":"IF(OR('Trust - Frontsheet'!AM145=\"\",'Trust - Frontsheet'!AM145=\"-\"),0,('Trust - Frontsheet'!AM145))","v":0},{"$f":"IF(OR('Trust - Frontsheet'!AN145=\"\",'Trust - Frontsheet'!AN145=\"-\"),0,('Trust - Frontsheet'!AN145))","v":0},{"$f":"IF(OR('Trust - Frontsheet'!AO145=\"\",'Trust - Frontsheet'!AO145=\"-\"),0,('Trust - Frontsheet'!AO145))","v":0},{"$f":"IF(OR('Trust - Frontsheet'!AP145=\"\",'Trust - Frontsheet'!AP145=\"-\"),0,('Trust - Frontsheet'!AP145))","v":0},{"$f":"IF(OR('Trust - Frontsheet'!AQ145=\"\",'Trust - Frontsheet'!AQ145=\"-\"),0,('Trust - Frontsheet'!AQ145))","v":0},{"$f":"IF(OR('Trust - Frontsheet'!AR145=\"\",'Trust - Frontsheet'!AR145=\"-\"),0,('Trust - Frontsheet'!AR145))","v":0},{"$f":"IF(OR('Trust - Frontsheet'!AS145=\"\",'Trust - Frontsheet'!AS145=\"-\"),0,('Trust - Frontsheet'!AS145))","v":0},{"$f":"IF(OR('Trust - Frontsheet'!AT145=\"\",'Trust - Frontsheet'!AT145=\"-\"),0,('Trust - Frontsheet'!AT145))","v":0},{"$f":"'Trust - Frontsheet'!AC145","v":0},{"$f":"IF(OR('Trust - Frontsheet'!AD145=\"\",'Trust - Frontsheet'!AD145=\"-\"),0,('Trust - Frontsheet'!AD145))","v":0},{"$f":"IF(OR('Trust - Frontsheet'!AE145=\"\",'Trust - Frontsheet'!AE145=\"-\"),0,('Trust - Frontsheet'!AE145))","v":0},{"$f":"IF(OR('Trust - Frontsheet'!AF145=\"\",'Trust - Frontsheet'!AF145=\"-\"),0,('Trust - Frontsheet'!AF145))","v":0},{"$f":"IF(OR('Trust - Frontsheet'!AG145=\"\",'Trust - Frontsheet'!AG145=\"-\"),0,('Trust - Frontsheet'!AG145))","v":0},{"$f":"IF(OR('Trust - Frontsheet'!AH145=\"\",'Trust - Frontsheet'!AH145=\"-\"),0,('Trust - Frontsheet'!AH145))","v":0},{"$f":"IF(OR('Trust - Frontsheet'!AI145=\"\",'Trust - Frontsheet'!AI145=\"-\"),0,('Trust - Frontsheet'!AI145))","v":0},{"$f":"IF(OR('Trust - Frontsheet'!AJ145=\"\",'Trust - Frontsheet'!AJ145=\"-\"),0,('Trust - Frontsheet'!AJ145))","v":0},{"$f":"IF(A133=\"\",\"\",(IF(ISBLANK('Trust - Frontsheet'!F9),\"\",'Trust - Frontsheet'!F9)))","v":""}]
[{"$f":"IF('Trust - Frontsheet'!D146=0,\"\",IF('Trust - Frontsheet'!D146=\"\",\"\",'Trust - Frontsheet'!D146))","v":""},{"$f":"IF(ISBLANK('Trust - Frontsheet'!E146),\"\",'Trust - Frontsheet'!E146)","v":""},{"$f":"IF(ISBLANK('Trust - Frontsheet'!F146),\"\",\"'\" & 'Trust - Frontsheet'!F146 & \"'\")","v":""},{"$f":"IF(ISBLANK('Trust - Frontsheet'!G146),\"\",'Trust - Frontsheet'!G146)","v":""},{"$f":"IF(ISBLANK('Trust - Frontsheet'!H146),\"\",'Trust - Frontsheet'!H146)","v":""},{"$f":"'Trust - Frontsheet'!I146","v":0},{"$f":"'Trust - Frontsheet'!J146","v":0},{"$f":"'Trust - Frontsheet'!K146","v":0},{"$f":"'Trust - Frontsheet'!L146","v":0},{"$f":"'Trust - Frontsheet'!M146","v":0},{"$f":"'Trust - Frontsheet'!N146","v":0},{"$f":"'Trust - Frontsheet'!O146","v":0},{"$f":"'Trust - Frontsheet'!P146","v":0},{"$f":"'Trust - Frontsheet'!Q146","v":0},{"$f":"'Trust - Frontsheet'!R146","v":0},{"$f":"'Trust - Frontsheet'!S146","v":0},{"$f":"'Trust - Frontsheet'!T146","v":0},{"$f":"'Trust - Frontsheet'!U146","v":0},{"$f":"'Trust - Frontsheet'!V146","v":0},{"$f":"'Trust - Frontsheet'!W146","v":0},{"$f":"'Trust - Frontsheet'!X146","v":0},{"$f":"'Trust - Frontsheet'!Y146","v":0},{"$f":"'Trust - Frontsheet'!Z146","v":0},{"$f":"'Trust - Frontsheet'!AA146","v":0},{"$f":"'Trust - Frontsheet'!AB146","v":0},{"$f":"IF(OR('Trust - Frontsheet'!AK146=\"\",'Trust - Frontsheet'!AK146=\"-\"),0,('Trust - Frontsheet'!AK146))","v":0},{"$f":"IF(OR('Trust - Frontsheet'!AL146=\"\",'Trust - Frontsheet'!AL146=\"-\"),0,('Trust - Frontsheet'!AL146))","v":0},{"$f":"IF(OR('Trust - Frontsheet'!AM146=\"\",'Trust - Frontsheet'!AM146=\"-\"),0,('Trust - Frontsheet'!AM146))","v":0},{"$f":"IF(OR('Trust - Frontsheet'!AN146=\"\",'Trust - Frontsheet'!AN146=\"-\"),0,('Trust - Frontsheet'!AN146))","v":0},{"$f":"IF(OR('Trust - Frontsheet'!AO146=\"\",'Trust - Frontsheet'!AO146=\"-\"),0,('Trust - Frontsheet'!AO146))","v":0},{"$f":"IF(OR('Trust - Frontsheet'!AP146=\"\",'Trust - Frontsheet'!AP146=\"-\"),0,('Trust - Frontsheet'!AP146))","v":0},{"$f":"IF(OR('Trust - Frontsheet'!AQ146=\"\",'Trust - Frontsheet'!AQ146=\"-\"),0,('Trust - Frontsheet'!AQ146))","v":0},{"$f":"IF(OR('Trust - Frontsheet'!AR146=\"\",'Trust - Frontsheet'!AR146=\"-\"),0,('Trust - Frontsheet'!AR146))","v":0},{"$f":"IF(OR('Trust - Frontsheet'!AS146=\"\",'Trust - Frontsheet'!AS146=\"-\"),0,('Trust - Frontsheet'!AS146))","v":0},{"$f":"IF(OR('Trust - Frontsheet'!AT146=\"\",'Trust - Frontsheet'!AT146=\"-\"),0,('Trust - Frontsheet'!AT146))","v":0},{"$f":"'Trust - Frontsheet'!AC146","v":0},{"$f":"IF(OR('Trust - Frontsheet'!AD146=\"\",'Trust - Frontsheet'!AD146=\"-\"),0,('Trust - Frontsheet'!AD146))","v":0},{"$f":"IF(OR('Trust - Frontsheet'!AE146=\"\",'Trust - Frontsheet'!AE146=\"-\"),0,('Trust - Frontsheet'!AE146))","v":0},{"$f":"IF(OR('Trust - Frontsheet'!AF146=\"\",'Trust - Frontsheet'!AF146=\"-\"),0,('Trust - Frontsheet'!AF146))","v":0},{"$f":"IF(OR('Trust - Frontsheet'!AG146=\"\",'Trust - Frontsheet'!AG146=\"-\"),0,('Trust - Frontsheet'!AG146))","v":0},{"$f":"IF(OR('Trust - Frontsheet'!AH146=\"\",'Trust - Frontsheet'!AH146=\"-\"),0,('Trust - Frontsheet'!AH146))","v":0},{"$f":"IF(OR('Trust - Frontsheet'!AI146=\"\",'Trust - Frontsheet'!AI146=\"-\"),0,('Trust - Frontsheet'!AI146))","v":0},{"$f":"IF(OR('Trust - Frontsheet'!AJ146=\"\",'Trust - Frontsheet'!AJ146=\"-\"),0,('Trust - Frontsheet'!AJ146))","v":0},{"$f":"IF(A134=\"\",\"\",(IF(ISBLANK('Trust - Frontsheet'!F9),\"\",'Trust - Frontsheet'!F9)))","v":""}]
[{"$f":"IF('Trust - Frontsheet'!D147=0,\"\",IF('Trust - Frontsheet'!D147=\"\",\"\",'Trust - Frontsheet'!D147))","v":""},{"$f":"IF(ISBLANK('Trust - Frontsheet'!E147),\"\",'Trust - Frontsheet'!E147)","v":""},{"$f":"IF(ISBLANK('Trust - Frontsheet'!F147),\"\",\"'\" & 'Trust - Frontsheet'!F147 & \"'\")","v":""},{"$f":"IF(ISBLANK('Trust - Frontsheet'!G147),\"\",'Trust - Frontsheet'!G147)","v":""},{"$f":"IF(ISBLANK('Trust - Frontsheet'!H147),\"\",'Trust - Frontsheet'!H147)","v":""},{"$f":"'Trust - Frontsheet'!I147","v":0},{"$f":"'Trust - Frontsheet'!J147","v":0},{"$f":"'Trust - Frontsheet'!K147","v":0},{"$f":"'Trust - Frontsheet'!L147","v":0},{"$f":"'Trust - Frontsheet'!M147","v":0},{"$f":"'Trust - Frontsheet'!N147","v":0},{"$f":"'Trust - Frontsheet'!O147","v":0},{"$f":"'Trust - Frontsheet'!P147","v":0},{"$f":"'Trust - Frontsheet'!Q147","v":0},{"$f":"'Trust - Frontsheet'!R147","v":0},{"$f":"'Trust - Frontsheet'!S147","v":0},{"$f":"'Trust - Frontsheet'!T147","v":0},{"$f":"'Trust - Frontsheet'!U147","v":0},{"$f":"'Trust - Frontsheet'!V147","v":0},{"$f":"'Trust - Frontsheet'!W147","v":0},{"$f":"'Trust - Frontsheet'!X147","v":0},{"$f":"'Trust - Frontsheet'!Y147","v":0},{"$f":"'Trust - Frontsheet'!Z147","v":0},{"$f":"'Trust - Frontsheet'!AA147","v":0},{"$f":"'Trust - Frontsheet'!AB147","v":0},{"$f":"IF(OR('Trust - Frontsheet'!AK147=\"\",'Trust - Frontsheet'!AK147=\"-\"),0,('Trust - Frontsheet'!AK147))","v":0},{"$f":"IF(OR('Trust - Frontsheet'!AL147=\"\",'Trust - Frontsheet'!AL147=\"-\"),0,('Trust - Frontsheet'!AL147))","v":0},{"$f":"IF(OR('Trust - Frontsheet'!AM147=\"\",'Trust - Frontsheet'!AM147=\"-\"),0,('Trust - Frontsheet'!AM147))","v":0},{"$f":"IF(OR('Trust - Frontsheet'!AN147=\"\",'Trust - Frontsheet'!AN147=\"-\"),0,('Trust - Frontsheet'!AN147))","v":0},{"$f":"IF(OR('Trust - Frontsheet'!AO147=\"\",'Trust - Frontsheet'!AO147=\"-\"),0,('Trust - Frontsheet'!AO147))","v":0},{"$f":"IF(OR('Trust - Frontsheet'!AP147=\"\",'Trust - Frontsheet'!AP147=\"-\"),0,('Trust - Frontsheet'!AP147))","v":0},{"$f":"IF(OR('Trust - Frontsheet'!AQ147=\"\",'Trust - Frontsheet'!AQ147=\"-\"),0,('Trust - Frontsheet'!AQ147))","v":0},{"$f":"IF(OR('Trust - Frontsheet'!AR147=\"\",'Trust - Frontsheet'!AR147=\"-\"),0,('Trust - Frontsheet'!AR147))","v":0},{"$f":"IF(OR('Trust - Frontsheet'!AS147=\"\",'Trust - Frontsheet'!AS147=\"-\"),0,('Trust - Frontsheet'!AS147))","v":0},{"$f":"IF(OR('Trust - Frontsheet'!AT147=\"\",'Trust - Frontsheet'!AT147=\"-\"),0,('Trust - Frontsheet'!AT147))","v":0},{"$f":"'Trust - Frontsheet'!AC147","v":0},{"$f":"IF(OR('Trust - Frontsheet'!AD147=\"\",'Trust - Frontsheet'!AD147=\"-\"),0,('Trust - Frontsheet'!AD147))","v":0},{"$f":"IF(OR('Trust - Frontsheet'!AE147=\"\",'Trust - Frontsheet'!AE147=\"-\"),0,('Trust - Frontsheet'!AE147))","v":0},{"$f":"IF(OR('Trust - Frontsheet'!AF147=\"\",'Trust - Frontsheet'!AF147=\"-\"),0,('Trust - Frontsheet'!AF147))","v":0},{"$f":"IF(OR('Trust - Frontsheet'!AG147=\"\",'Trust - Frontsheet'!AG147=\"-\"),0,('Trust - Frontsheet'!AG147))","v":0},{"$f":"IF(OR('Trust - Frontsheet'!AH147=\"\",'Trust - Frontsheet'!AH147=\"-\"),0,('Trust - Frontsheet'!AH147))","v":0},{"$f":"IF(OR('Trust - Frontsheet'!AI147=\"\",'Trust - Frontsheet'!AI147=\"-\"),0,('Trust - Frontsheet'!AI147))","v":0},{"$f":"IF(OR('Trust - Frontsheet'!AJ147=\"\",'Trust - Frontsheet'!AJ147=\"-\"),0,('Trust - Frontsheet'!AJ147))","v":0},{"$f":"IF(A135=\"\",\"\",(IF(ISBLANK('Trust - Frontsheet'!F9),\"\",'Trust - Frontsheet'!F9)))","v":""}]
[{"$f":"IF('Trust - Frontsheet'!D148=0,\"\",IF('Trust - Frontsheet'!D148=\"\",\"\",'Trust - Frontsheet'!D148))","v":""},{"$f":"IF(ISBLANK('Trust - Frontsheet'!E148),\"\",'Trust - Frontsheet'!E148)","v":""},{"$f":"IF(ISBLANK('Trust - Frontsheet'!F148),\"\",\"'\" & 'Trust - Frontsheet'!F148 & \"'\")","v":""},{"$f":"IF(ISBLANK('Trust - Frontsheet'!G148),\"\",'Trust - Frontsheet'!G148)","v":""},{"$f":"IF(ISBLANK('Trust - Frontsheet'!H148),\"\",'Trust - Frontsheet'!H148)","v":""},{"$f":"'Trust - Frontsheet'!I148","v":0},{"$f":"'Trust - Frontsheet'!J148","v":0},{"$f":"'Trust - Frontsheet'!K148","v":0},{"$f":"'Trust - Frontsheet'!L148","v":0},{"$f":"'Trust - Frontsheet'!M148","v":0},{"$f":"'Trust - Frontsheet'!N148","v":0},{"$f":"'Trust - Frontsheet'!O148","v":0},{"$f":"'Trust - Frontsheet'!P148","v":0},{"$f":"'Trust - Frontsheet'!Q148","v":0},{"$f":"'Trust - Frontsheet'!R148","v":0},{"$f":"'Trust - Frontsheet'!S148","v":0},{"$f":"'Trust - Frontsheet'!T148","v":0},{"$f":"'Trust - Frontsheet'!U148","v":0},{"$f":"'Trust - Frontsheet'!V148","v":0},{"$f":"'Trust - Frontsheet'!W148","v":0},{"$f":"'Trust - Frontsheet'!X148","v":0},{"$f":"'Trust - Frontsheet'!Y148","v":0},{"$f":"'Trust - Frontsheet'!Z148","v":0},{"$f":"'Trust - Frontsheet'!AA148","v":0},{"$f":"'Trust - Frontsheet'!AB148","v":0},{"$f":"IF(OR('Trust - Frontsheet'!AK148=\"\",'Trust - Frontsheet'!AK148=\"-\"),0,('Trust - Frontsheet'!AK148))","v":0},{"$f":"IF(OR('Trust - Frontsheet'!AL148=\"\",'Trust - Frontsheet'!AL148=\"-\"),0,('Trust - Frontsheet'!AL148))","v":0},{"$f":"IF(OR('Trust - Frontsheet'!AM148=\"\",'Trust - Frontsheet'!AM148=\"-\"),0,('Trust - Frontsheet'!AM148))","v":0},{"$f":"IF(OR('Trust - Frontsheet'!AN148=\"\",'Trust - Frontsheet'!AN148=\"-\"),0,('Trust - Frontsheet'!AN148))","v":0},{"$f":"IF(OR('Trust - Frontsheet'!AO148=\"\",'Trust - Frontsheet'!AO148=\"-\"),0,('Trust - Frontsheet'!AO148))","v":0},{"$f":"IF(OR('Trust - Frontsheet'!AP148=\"\",'Trust - Frontsheet'!AP148=\"-\"),0,('Trust - Frontsheet'!AP148))","v":0},{"$f":"IF(OR('Trust - Frontsheet'!AQ148=\"\",'Trust - Frontsheet'!AQ148=\"-\"),0,('Trust - Frontsheet'!AQ148))","v":0},{"$f":"IF(OR('Trust - Frontsheet'!AR148=\"\",'Trust - Frontsheet'!AR148=\"-\"),0,('Trust - Frontsheet'!AR148))","v":0},{"$f":"IF(OR('Trust - Frontsheet'!AS148=\"\",'Trust - Frontsheet'!AS148=\"-\"),0,('Trust - Frontsheet'!AS148))","v":0},{"$f":"IF(OR('Trust - Frontsheet'!AT148=\"\",'Trust - Frontsheet'!AT148=\"-\"),0,('Trust - Frontsheet'!AT148))","v":0},{"$f":"'Trust - Frontsheet'!AC148","v":0},{"$f":"IF(OR('Trust - Frontsheet'!AD148=\"\",'Trust - Frontsheet'!AD148=\"-\"),0,('Trust - Frontsheet'!AD148))","v":0},{"$f":"IF(OR('Trust - Frontsheet'!AE148=\"\",'Trust - Frontsheet'!AE148=\"-\"),0,('Trust - Frontsheet'!AE148))","v":0},{"$f":"IF(OR('Trust - Frontsheet'!AF148=\"\",'Trust - Frontsheet'!AF148=\"-\"),0,('Trust - Frontsheet'!AF148))","v":0},{"$f":"IF(OR('Trust - Frontsheet'!AG148=\"\",'Trust - Frontsheet'!AG148=\"-\"),0,('Trust - Frontsheet'!AG148))","v":0},{"$f":"IF(OR('Trust - Frontsheet'!AH148=\"\",'Trust - Frontsheet'!AH148=\"-\"),0,('Trust - Frontsheet'!AH148))","v":0},{"$f":"IF(OR('Trust - Frontsheet'!AI148=\"\",'Trust - Frontsheet'!AI148=\"-\"),0,('Trust - Frontsheet'!AI148))","v":0},{"$f":"IF(OR('Trust - Frontsheet'!AJ148=\"\",'Trust - Frontsheet'!AJ148=\"-\"),0,('Trust - Frontsheet'!AJ148))","v":0},{"$f":"IF(A136=\"\",\"\",(IF(ISBLANK('Trust - Frontsheet'!F9),\"\",'Trust - Frontsheet'!F9)))","v":""}]
[{"$f":"IF('Trust - Frontsheet'!D149=0,\"\",IF('Trust - Frontsheet'!D149=\"\",\"\",'Trust - Frontsheet'!D149))","v":""},{"$f":"IF(ISBLANK('Trust - Frontsheet'!E149),\"\",'Trust - Frontsheet'!E149)","v":""},{"$f":"IF(ISBLANK('Trust - Frontsheet'!F149),\"\",\"'\" & 'Trust - Frontsheet'!F149 & \"'\")","v":""},{"$f":"IF(ISBLANK('Trust - Frontsheet'!G149),\"\",'Trust - Frontsheet'!G149)","v":""},{"$f":"IF(ISBLANK('Trust - Frontsheet'!H149),\"\",'Trust - Frontsheet'!H149)","v":""},{"$f":"'Trust - Frontsheet'!I149","v":0},{"$f":"'Trust - Frontsheet'!J149","v":0},{"$f":"'Trust - Frontsheet'!K149","v":0},{"$f":"'Trust - Frontsheet'!L149","v":0},{"$f":"'Trust - Frontsheet'!M149","v":0},{"$f":"'Trust - Frontsheet'!N149","v":0},{"$f":"'Trust - Frontsheet'!O149","v":0},{"$f":"'Trust - Frontsheet'!P149","v":0},{"$f":"'Trust - Frontsheet'!Q149","v":0},{"$f":"'Trust - Frontsheet'!R149","v":0},{"$f":"'Trust - Frontsheet'!S149","v":0},{"$f":"'Trust - Frontsheet'!T149","v":0},{"$f":"'Trust - Frontsheet'!U149","v":0},{"$f":"'Trust - Frontsheet'!V149","v":0},{"$f":"'Trust - Frontsheet'!W149","v":0},{"$f":"'Trust - Frontsheet'!X149","v":0},{"$f":"'Trust - Frontsheet'!Y149","v":0},{"$f":"'Trust - Frontsheet'!Z149","v":0},{"$f":"'Trust - Frontsheet'!AA149","v":0},{"$f":"'Trust - Frontsheet'!AB149","v":0},{"$f":"IF(OR('Trust - Frontsheet'!AK149=\"\",'Trust - Frontsheet'!AK149=\"-\"),0,('Trust - Frontsheet'!AK149))","v":0},{"$f":"IF(OR('Trust - Frontsheet'!AL149=\"\",'Trust - Frontsheet'!AL149=\"-\"),0,('Trust - Frontsheet'!AL149))","v":0},{"$f":"IF(OR('Trust - Frontsheet'!AM149=\"\",'Trust - Frontsheet'!AM149=\"-\"),0,('Trust - Frontsheet'!AM149))","v":0},{"$f":"IF(OR('Trust - Frontsheet'!AN149=\"\",'Trust - Frontsheet'!AN149=\"-\"),0,('Trust - Frontsheet'!AN149))","v":0},{"$f":"IF(OR('Trust - Frontsheet'!AO149=\"\",'Trust - Frontsheet'!AO149=\"-\"),0,('Trust - Frontsheet'!AO149))","v":0},{"$f":"IF(OR('Trust - Frontsheet'!AP149=\"\",'Trust - Frontsheet'!AP149=\"-\"),0,('Trust - Frontsheet'!AP149))","v":0},{"$f":"IF(OR('Trust - Frontsheet'!AQ149=\"\",'Trust - Frontsheet'!AQ149=\"-\"),0,('Trust - Frontsheet'!AQ149))","v":0},{"$f":"IF(OR('Trust - Frontsheet'!AR149=\"\",'Trust - Frontsheet'!AR149=\"-\"),0,('Trust - Frontsheet'!AR149))","v":0},{"$f":"IF(OR('Trust - Frontsheet'!AS149=\"\",'Trust - Frontsheet'!AS149=\"-\"),0,('Trust - Frontsheet'!AS149))","v":0},{"$f":"IF(OR('Trust - Frontsheet'!AT149=\"\",'Trust - Frontsheet'!AT149=\"-\"),0,('Trust - Frontsheet'!AT149))","v":0},{"$f":"'Trust - Frontsheet'!AC149","v":0},{"$f":"IF(OR('Trust - Frontsheet'!AD149=\"\",'Trust - Frontsheet'!AD149=\"-\"),0,('Trust - Frontsheet'!AD149))","v":0},{"$f":"IF(OR('Trust - Frontsheet'!AE149=\"\",'Trust - Frontsheet'!AE149=\"-\"),0,('Trust - Frontsheet'!AE149))","v":0},{"$f":"IF(OR('Trust - Frontsheet'!AF149=\"\",'Trust - Frontsheet'!AF149=\"-\"),0,('Trust - Frontsheet'!AF149))","v":0},{"$f":"IF(OR('Trust - Frontsheet'!AG149=\"\",'Trust - Frontsheet'!AG149=\"-\"),0,('Trust - Frontsheet'!AG149))","v":0},{"$f":"IF(OR('Trust - Frontsheet'!AH149=\"\",'Trust - Frontsheet'!AH149=\"-\"),0,('Trust - Frontsheet'!AH149))","v":0},{"$f":"IF(OR('Trust - Frontsheet'!AI149=\"\",'Trust - Frontsheet'!AI149=\"-\"),0,('Trust - Frontsheet'!AI149))","v":0},{"$f":"IF(OR('Trust - Frontsheet'!AJ149=\"\",'Trust - Frontsheet'!AJ149=\"-\"),0,('Trust - Frontsheet'!AJ149))","v":0},{"$f":"IF(A137=\"\",\"\",(IF(ISBLANK('Trust - Frontsheet'!F9),\"\",'Trust - Frontsheet'!F9)))","v":""}]
[{"$f":"IF('Trust - Frontsheet'!D150=0,\"\",IF('Trust - Frontsheet'!D150=\"\",\"\",'Trust - Frontsheet'!D150))","v":""},{"$f":"IF(ISBLANK('Trust - Frontsheet'!E150),\"\",'Trust - Frontsheet'!E150)","v":""},{"$f":"IF(ISBLANK('Trust - Frontsheet'!F150),\"\",\"'\" & 'Trust - Frontsheet'!F150 & \"'\")","v":""},{"$f":"IF(ISBLANK('Trust - Frontsheet'!G150),\"\",'Trust - Frontsheet'!G150)","v":""},{"$f":"IF(ISBLANK('Trust - Frontsheet'!H150),\"\",'Trust - Frontsheet'!H150)","v":""},{"$f":"'Trust - Frontsheet'!I150","v":0},{"$f":"'Trust - Frontsheet'!J150","v":0},{"$f":"'Trust - Frontsheet'!K150","v":0},{"$f":"'Trust - Frontsheet'!L150","v":0},{"$f":"'Trust - Frontsheet'!M150","v":0},{"$f":"'Trust - Frontsheet'!N150","v":0},{"$f":"'Trust - Frontsheet'!O150","v":0},{"$f":"'Trust - Frontsheet'!P150","v":0},{"$f":"'Trust - Frontsheet'!Q150","v":0},{"$f":"'Trust - Frontsheet'!R150","v":0},{"$f":"'Trust - Frontsheet'!S150","v":0},{"$f":"'Trust - Frontsheet'!T150","v":0},{"$f":"'Trust - Frontsheet'!U150","v":0},{"$f":"'Trust - Frontsheet'!V150","v":0},{"$f":"'Trust - Frontsheet'!W150","v":0},{"$f":"'Trust - Frontsheet'!X150","v":0},{"$f":"'Trust - Frontsheet'!Y150","v":0},{"$f":"'Trust - Frontsheet'!Z150","v":0},{"$f":"'Trust - Frontsheet'!AA150","v":0},{"$f":"'Trust - Frontsheet'!AB150","v":0},{"$f":"IF(OR('Trust - Frontsheet'!AK150=\"\",'Trust - Frontsheet'!AK150=\"-\"),0,('Trust - Frontsheet'!AK150))","v":0},{"$f":"IF(OR('Trust - Frontsheet'!AL150=\"\",'Trust - Frontsheet'!AL150=\"-\"),0,('Trust - Frontsheet'!AL150))","v":0},{"$f":"IF(OR('Trust - Frontsheet'!AM150=\"\",'Trust - Frontsheet'!AM150=\"-\"),0,('Trust - Frontsheet'!AM150))","v":0},{"$f":"IF(OR('Trust - Frontsheet'!AN150=\"\",'Trust - Frontsheet'!AN150=\"-\"),0,('Trust - Frontsheet'!AN150))","v":0},{"$f":"IF(OR('Trust - Frontsheet'!AO150=\"\",'Trust - Frontsheet'!AO150=\"-\"),0,('Trust - Frontsheet'!AO150))","v":0},{"$f":"IF(OR('Trust - Frontsheet'!AP150=\"\",'Trust - Frontsheet'!AP150=\"-\"),0,('Trust - Frontsheet'!AP150))","v":0},{"$f":"IF(OR('Trust - Frontsheet'!AQ150=\"\",'Trust - Frontsheet'!AQ150=\"-\"),0,('Trust - Frontsheet'!AQ150))","v":0},{"$f":"IF(OR('Trust - Frontsheet'!AR150=\"\",'Trust - Frontsheet'!AR150=\"-\"),0,('Trust - Frontsheet'!AR150))","v":0},{"$f":"IF(OR('Trust - Frontsheet'!AS150=\"\",'Trust - Frontsheet'!AS150=\"-\"),0,('Trust - Frontsheet'!AS150))","v":0},{"$f":"IF(OR('Trust - Frontsheet'!AT150=\"\",'Trust - Frontsheet'!AT150=\"-\"),0,('Trust - Frontsheet'!AT150))","v":0},{"$f":"'Trust - Frontsheet'!AC150","v":0},{"$f":"IF(OR('Trust - Frontsheet'!AD150=\"\",'Trust - Frontsheet'!AD150=\"-\"),0,('Trust - Frontsheet'!AD150))","v":0},{"$f":"IF(OR('Trust - Frontsheet'!AE150=\"\",'Trust - Frontsheet'!AE150=\"-\"),0,('Trust - Frontsheet'!AE150))","v":0},{"$f":"IF(OR('Trust - Frontsheet'!AF150=\"\",'Trust - Frontsheet'!AF150=\"-\"),0,('Trust - Frontsheet'!AF150))","v":0},{"$f":"IF(OR('Trust - Frontsheet'!AG150=\"\",'Trust - Frontsheet'!AG150=\"-\"),0,('Trust - Frontsheet'!AG150))","v":0},{"$f":"IF(OR('Trust - Frontsheet'!AH150=\"\",'Trust - Frontsheet'!AH150=\"-\"),0,('Trust - Frontsheet'!AH150))","v":0},{"$f":"IF(OR('Trust - Frontsheet'!AI150=\"\",'Trust - Frontsheet'!AI150=\"-\"),0,('Trust - Frontsheet'!AI150))","v":0},{"$f":"IF(OR('Trust - Frontsheet'!AJ150=\"\",'Trust - Frontsheet'!AJ150=\"-\"),0,('Trust - Frontsheet'!AJ150))","v":0},{"$f":"IF(A138=\"\",\"\",(IF(ISBLANK('Trust - Frontsheet'!F9),\"\",'Trust - Frontsheet'!F9)))","v":""}]
[{"$f":"IF('Trust - Frontsheet'!D151=0,\"\",IF('Trust - Frontsheet'!D151=\"\",\"\",'Trust - Frontsheet'!D151))","v":""},{"$f":"IF(ISBLANK('Trust - Frontsheet'!E151),\"\",'Trust - Frontsheet'!E151)","v":""},{"$f":"IF(ISBLANK('Trust - Frontsheet'!F151),\"\",\"'\" & 'Trust - Frontsheet'!F151 & \"'\")","v":""},{"$f":"IF(ISBLANK('Trust - Frontsheet'!G151),\"\",'Trust - Frontsheet'!G151)","v":""},{"$f":"IF(ISBLANK('Trust - Frontsheet'!H151),\"\",'Trust - Frontsheet'!H151)","v":""},{"$f":"'Trust - Frontsheet'!I151","v":0},{"$f":"'Trust - Frontsheet'!J151","v":0},{"$f":"'Trust - Frontsheet'!K151","v":0},{"$f":"'Trust - Frontsheet'!L151","v":0},{"$f":"'Trust - Frontsheet'!M151","v":0},{"$f":"'Trust - Frontsheet'!N151","v":0},{"$f":"'Trust - Frontsheet'!O151","v":0},{"$f":"'Trust - Frontsheet'!P151","v":0},{"$f":"'Trust - Frontsheet'!Q151","v":0},{"$f":"'Trust - Frontsheet'!R151","v":0},{"$f":"'Trust - Frontsheet'!S151","v":0},{"$f":"'Trust - Frontsheet'!T151","v":0},{"$f":"'Trust - Frontsheet'!U151","v":0},{"$f":"'Trust - Frontsheet'!V151","v":0},{"$f":"'Trust - Frontsheet'!W151","v":0},{"$f":"'Trust - Frontsheet'!X151","v":0},{"$f":"'Trust - Frontsheet'!Y151","v":0},{"$f":"'Trust - Frontsheet'!Z151","v":0},{"$f":"'Trust - Frontsheet'!AA151","v":0},{"$f":"'Trust - Frontsheet'!AB151","v":0},{"$f":"IF(OR('Trust - Frontsheet'!AK151=\"\",'Trust - Frontsheet'!AK151=\"-\"),0,('Trust - Frontsheet'!AK151))","v":0},{"$f":"IF(OR('Trust - Frontsheet'!AL151=\"\",'Trust - Frontsheet'!AL151=\"-\"),0,('Trust - Frontsheet'!AL151))","v":0},{"$f":"IF(OR('Trust - Frontsheet'!AM151=\"\",'Trust - Frontsheet'!AM151=\"-\"),0,('Trust - Frontsheet'!AM151))","v":0},{"$f":"IF(OR('Trust - Frontsheet'!AN151=\"\",'Trust - Frontsheet'!AN151=\"-\"),0,('Trust - Frontsheet'!AN151))","v":0},{"$f":"IF(OR('Trust - Frontsheet'!AO151=\"\",'Trust - Frontsheet'!AO151=\"-\"),0,('Trust - Frontsheet'!AO151))","v":0},{"$f":"IF(OR('Trust - Frontsheet'!AP151=\"\",'Trust - Frontsheet'!AP151=\"-\"),0,('Trust - Frontsheet'!AP151))","v":0},{"$f":"IF(OR('Trust - Frontsheet'!AQ151=\"\",'Trust - Frontsheet'!AQ151=\"-\"),0,('Trust - Frontsheet'!AQ151))","v":0},{"$f":"IF(OR('Trust - Frontsheet'!AR151=\"\",'Trust - Frontsheet'!AR151=\"-\"),0,('Trust - Frontsheet'!AR151))","v":0},{"$f":"IF(OR('Trust - Frontsheet'!AS151=\"\",'Trust - Frontsheet'!AS151=\"-\"),0,('Trust - Frontsheet'!AS151))","v":0},{"$f":"IF(OR('Trust - Frontsheet'!AT151=\"\",'Trust - Frontsheet'!AT151=\"-\"),0,('Trust - Frontsheet'!AT151))","v":0},{"$f":"'Trust - Frontsheet'!AC151","v":0},{"$f":"IF(OR('Trust - Frontsheet'!AD151=\"\",'Trust - Frontsheet'!AD151=\"-\"),0,('Trust - Frontsheet'!AD151))","v":0},{"$f":"IF(OR('Trust - Frontsheet'!AE151=\"\",'Trust - Frontsheet'!AE151=\"-\"),0,('Trust - Frontsheet'!AE151))","v":0},{"$f":"IF(OR('Trust - Frontsheet'!AF151=\"\",'Trust - Frontsheet'!AF151=\"-\"),0,('Trust - Frontsheet'!AF151))","v":0},{"$f":"IF(OR('Trust - Frontsheet'!AG151=\"\",'Trust - Frontsheet'!AG151=\"-\"),0,('Trust - Frontsheet'!AG151))","v":0},{"$f":"IF(OR('Trust - Frontsheet'!AH151=\"\",'Trust - Frontsheet'!AH151=\"-\"),0,('Trust - Frontsheet'!AH151))","v":0},{"$f":"IF(OR('Trust - Frontsheet'!AI151=\"\",'Trust - Frontsheet'!AI151=\"-\"),0,('Trust - Frontsheet'!AI151))","v":0},{"$f":"IF(OR('Trust - Frontsheet'!AJ151=\"\",'Trust - Frontsheet'!AJ151=\"-\"),0,('Trust - Frontsheet'!AJ151))","v":0},{"$f":"IF(A139=\"\",\"\",(IF(ISBLANK('Trust - Frontsheet'!F9),\"\",'Trust - Frontsheet'!F9)))","v":""}]
[{"$f":"IF('Trust - Frontsheet'!D152=0,\"\",IF('Trust - Frontsheet'!D152=\"\",\"\",'Trust - Frontsheet'!D152))","v":""},{"$f":"IF(ISBLANK('Trust - Frontsheet'!E152),\"\",'Trust - Frontsheet'!E152)","v":""},{"$f":"IF(ISBLANK('Trust - Frontsheet'!F152),\"\",\"'\" & 'Trust - Frontsheet'!F152 & \"'\")","v":""},{"$f":"IF(ISBLANK('Trust - Frontsheet'!G152),\"\",'Trust - Frontsheet'!G152)","v":""},{"$f":"IF(ISBLANK('Trust - Frontsheet'!H152),\"\",'Trust - Frontsheet'!H152)","v":""},{"$f":"'Trust - Frontsheet'!I152","v":0},{"$f":"'Trust - Frontsheet'!J152","v":0},{"$f":"'Trust - Frontsheet'!K152","v":0},{"$f":"'Trust - Frontsheet'!L152","v":0},{"$f":"'Trust - Frontsheet'!M152","v":0},{"$f":"'Trust - Frontsheet'!N152","v":0},{"$f":"'Trust - Frontsheet'!O152","v":0},{"$f":"'Trust - Frontsheet'!P152","v":0},{"$f":"'Trust - Frontsheet'!Q152","v":0},{"$f":"'Trust - Frontsheet'!R152","v":0},{"$f":"'Trust - Frontsheet'!S152","v":0},{"$f":"'Trust - Frontsheet'!T152","v":0},{"$f":"'Trust - Frontsheet'!U152","v":0},{"$f":"'Trust - Frontsheet'!V152","v":0},{"$f":"'Trust - Frontsheet'!W152","v":0},{"$f":"'Trust - Frontsheet'!X152","v":0},{"$f":"'Trust - Frontsheet'!Y152","v":0},{"$f":"'Trust - Frontsheet'!Z152","v":0},{"$f":"'Trust - Frontsheet'!AA152","v":0},{"$f":"'Trust - Frontsheet'!AB152","v":0},{"$f":"IF(OR('Trust - Frontsheet'!AK152=\"\",'Trust - Frontsheet'!AK152=\"-\"),0,('Trust - Frontsheet'!AK152))","v":0},{"$f":"IF(OR('Trust - Frontsheet'!AL152=\"\",'Trust - Frontsheet'!AL152=\"-\"),0,('Trust - Frontsheet'!AL152))","v":0},{"$f":"IF(OR('Trust - Frontsheet'!AM152=\"\",'Trust - Frontsheet'!AM152=\"-\"),0,('Trust - Frontsheet'!AM152))","v":0},{"$f":"IF(OR('Trust - Frontsheet'!AN152=\"\",'Trust - Frontsheet'!AN152=\"-\"),0,('Trust - Frontsheet'!AN152))","v":0},{"$f":"IF(OR('Trust - Frontsheet'!AO152=\"\",'Trust - Frontsheet'!AO152=\"-\"),0,('Trust - Frontsheet'!AO152))","v":0},{"$f":"IF(OR('Trust - Frontsheet'!AP152=\"\",'Trust - Frontsheet'!AP152=\"-\"),0,('Trust - Frontsheet'!AP152))","v":0},{"$f":"IF(OR('Trust - Frontsheet'!AQ152=\"\",'Trust - Frontsheet'!AQ152=\"-\"),0,('Trust - Frontsheet'!AQ152))","v":0},{"$f":"IF(OR('Trust - Frontsheet'!AR152=\"\",'Trust - Frontsheet'!AR152=\"-\"),0,('Trust - Frontsheet'!AR152))","v":0},{"$f":"IF(OR('Trust - Frontsheet'!AS152=\"\",'Trust - Frontsheet'!AS152=\"-\"),0,('Trust - Frontsheet'!AS152))","v":0},{"$f":"IF(OR('Trust - Frontsheet'!AT152=\"\",'Trust - Frontsheet'!AT152=\"-\"),0,('Trust - Frontsheet'!AT152))","v":0},{"$f":"'Trust - Frontsheet'!AC152","v":0},{"$f":"IF(OR('Trust - Frontsheet'!AD152=\"\",'Trust - Frontsheet'!AD152=\"-\"),0,('Trust - Frontsheet'!AD152))","v":0},{"$f":"IF(OR('Trust - Frontsheet'!AE152=\"\",'Trust - Frontsheet'!AE152=\"-\"),0,('Trust - Frontsheet'!AE152))","v":0},{"$f":"IF(OR('Trust - Frontsheet'!AF152=\"\",'Trust - Frontsheet'!AF152=\"-\"),0,('Trust - Frontsheet'!AF152))","v":0},{"$f":"IF(OR('Trust - Frontsheet'!AG152=\"\",'Trust - Frontsheet'!AG152=\"-\"),0,('Trust - Frontsheet'!AG152))","v":0},{"$f":"IF(OR('Trust - Frontsheet'!AH152=\"\",'Trust - Frontsheet'!AH152=\"-\"),0,('Trust - Frontsheet'!AH152))","v":0},{"$f":"IF(OR('Trust - Frontsheet'!AI152=\"\",'Trust - Frontsheet'!AI152=\"-\"),0,('Trust - Frontsheet'!AI152))","v":0},{"$f":"IF(OR('Trust - Frontsheet'!AJ152=\"\",'Trust - Frontsheet'!AJ152=\"-\"),0,('Trust - Frontsheet'!AJ152))","v":0},{"$f":"IF(A140=\"\",\"\",(IF(ISBLANK('Trust - Frontsheet'!F9),\"\",'Trust - Frontsheet'!F9)))","v":""}]
[{"$f":"IF('Trust - Frontsheet'!D153=0,\"\",IF('Trust - Frontsheet'!D153=\"\",\"\",'Trust - Frontsheet'!D153))","v":""},{"$f":"IF(ISBLANK('Trust - Frontsheet'!E153),\"\",'Trust - Frontsheet'!E153)","v":""},{"$f":"IF(ISBLANK('Trust - Frontsheet'!F153),\"\",\"'\" & 'Trust - Frontsheet'!F153 & \"'\")","v":""},{"$f":"IF(ISBLANK('Trust - Frontsheet'!G153),\"\",'Trust - Frontsheet'!G153)","v":""},{"$f":"IF(ISBLANK('Trust - Frontsheet'!H153),\"\",'Trust - Frontsheet'!H153)","v":""},{"$f":"'Trust - Frontsheet'!I153","v":0},{"$f":"'Trust - Frontsheet'!J153","v":0},{"$f":"'Trust - Frontsheet'!K153","v":0},{"$f":"'Trust - Frontsheet'!L153","v":0},{"$f":"'Trust - Frontsheet'!M153","v":0},{"$f":"'Trust - Frontsheet'!N153","v":0},{"$f":"'Trust - Frontsheet'!O153","v":0},{"$f":"'Trust - Frontsheet'!P153","v":0},{"$f":"'Trust - Frontsheet'!Q153","v":0},{"$f":"'Trust - Frontsheet'!R153","v":0},{"$f":"'Trust - Frontsheet'!S153","v":0},{"$f":"'Trust - Frontsheet'!T153","v":0},{"$f":"'Trust - Frontsheet'!U153","v":0},{"$f":"'Trust - Frontsheet'!V153","v":0},{"$f":"'Trust - Frontsheet'!W153","v":0},{"$f":"'Trust - Frontsheet'!X153","v":0},{"$f":"'Trust - Frontsheet'!Y153","v":0},{"$f":"'Trust - Frontsheet'!Z153","v":0},{"$f":"'Trust - Frontsheet'!AA153","v":0},{"$f":"'Trust - Frontsheet'!AB153","v":0},{"$f":"IF(OR('Trust - Frontsheet'!AK153=\"\",'Trust - Frontsheet'!AK153=\"-\"),0,('Trust - Frontsheet'!AK153))","v":0},{"$f":"IF(OR('Trust - Frontsheet'!AL153=\"\",'Trust - Frontsheet'!AL153=\"-\"),0,('Trust - Frontsheet'!AL153))","v":0},{"$f":"IF(OR('Trust - Frontsheet'!AM153=\"\",'Trust - Frontsheet'!AM153=\"-\"),0,('Trust - Frontsheet'!AM153))","v":0},{"$f":"IF(OR('Trust - Frontsheet'!AN153=\"\",'Trust - Frontsheet'!AN153=\"-\"),0,('Trust - Frontsheet'!AN153))","v":0},{"$f":"IF(OR('Trust - Frontsheet'!AO153=\"\",'Trust - Frontsheet'!AO153=\"-\"),0,('Trust - Frontsheet'!AO153))","v":0},{"$f":"IF(OR('Trust - Frontsheet'!AP153=\"\",'Trust - Frontsheet'!AP153=\"-\"),0,('Trust - Frontsheet'!AP153))","v":0},{"$f":"IF(OR('Trust - Frontsheet'!AQ153=\"\",'Trust - Frontsheet'!AQ153=\"-\"),0,('Trust - Frontsheet'!AQ153))","v":0},{"$f":"IF(OR('Trust - Frontsheet'!AR153=\"\",'Trust - Frontsheet'!AR153=\"-\"),0,('Trust - Frontsheet'!AR153))","v":0},{"$f":"IF(OR('Trust - Frontsheet'!AS153=\"\",'Trust - Frontsheet'!AS153=\"-\"),0,('Trust - Frontsheet'!AS153))","v":0},{"$f":"IF(OR('Trust - Frontsheet'!AT153=\"\",'Trust - Frontsheet'!AT153=\"-\"),0,('Trust - Frontsheet'!AT153))","v":0},{"$f":"'Trust - Frontsheet'!AC153","v":0},{"$f":"IF(OR('Trust - Frontsheet'!AD153=\"\",'Trust - Frontsheet'!AD153=\"-\"),0,('Trust - Frontsheet'!AD153))","v":0},{"$f":"IF(OR('Trust - Frontsheet'!AE153=\"\",'Trust - Frontsheet'!AE153=\"-\"),0,('Trust - Frontsheet'!AE153))","v":0},{"$f":"IF(OR('Trust - Frontsheet'!AF153=\"\",'Trust - Frontsheet'!AF153=\"-\"),0,('Trust - Frontsheet'!AF153))","v":0},{"$f":"IF(OR('Trust - Frontsheet'!AG153=\"\",'Trust - Frontsheet'!AG153=\"-\"),0,('Trust - Frontsheet'!AG153))","v":0},{"$f":"IF(OR('Trust - Frontsheet'!AH153=\"\",'Trust - Frontsheet'!AH153=\"-\"),0,('Trust - Frontsheet'!AH153))","v":0},{"$f":"IF(OR('Trust - Frontsheet'!AI153=\"\",'Trust - Frontsheet'!AI153=\"-\"),0,('Trust - Frontsheet'!AI153))","v":0},{"$f":"IF(OR('Trust - Frontsheet'!AJ153=\"\",'Trust - Frontsheet'!AJ153=\"-\"),0,('Trust - Frontsheet'!AJ153))","v":0},{"$f":"IF(A141=\"\",\"\",(IF(ISBLANK('Trust - Frontsheet'!F9),\"\",'Trust - Frontsheet'!F9)))","v":""}]
[{"$f":"IF('Trust - Frontsheet'!D154=0,\"\",IF('Trust - Frontsheet'!D154=\"\",\"\",'Trust - Frontsheet'!D154))","v":""},{"$f":"IF(ISBLANK('Trust - Frontsheet'!E154),\"\",'Trust - Frontsheet'!E154)","v":""},{"$f":"IF(ISBLANK('Trust - Frontsheet'!F154),\"\",\"'\" & 'Trust - Frontsheet'!F154 & \"'\")","v":""},{"$f":"IF(ISBLANK('Trust - Frontsheet'!G154),\"\",'Trust - Frontsheet'!G154)","v":""},{"$f":"IF(ISBLANK('Trust - Frontsheet'!H154),\"\",'Trust - Frontsheet'!H154)","v":""},{"$f":"'Trust - Frontsheet'!I154","v":0},{"$f":"'Trust - Frontsheet'!J154","v":0},{"$f":"'Trust - Frontsheet'!K154","v":0},{"$f":"'Trust - Frontsheet'!L154","v":0},{"$f":"'Trust - Frontsheet'!M154","v":0},{"$f":"'Trust - Frontsheet'!N154","v":0},{"$f":"'Trust - Frontsheet'!O154","v":0},{"$f":"'Trust - Frontsheet'!P154","v":0},{"$f":"'Trust - Frontsheet'!Q154","v":0},{"$f":"'Trust - Frontsheet'!R154","v":0},{"$f":"'Trust - Frontsheet'!S154","v":0},{"$f":"'Trust - Frontsheet'!T154","v":0},{"$f":"'Trust - Frontsheet'!U154","v":0},{"$f":"'Trust - Frontsheet'!V154","v":0},{"$f":"'Trust - Frontsheet'!W154","v":0},{"$f":"'Trust - Frontsheet'!X154","v":0},{"$f":"'Trust - Frontsheet'!Y154","v":0},{"$f":"'Trust - Frontsheet'!Z154","v":0},{"$f":"'Trust - Frontsheet'!AA154","v":0},{"$f":"'Trust - Frontsheet'!AB154","v":0},{"$f":"IF(OR('Trust - Frontsheet'!AK154=\"\",'Trust - Frontsheet'!AK154=\"-\"),0,('Trust - Frontsheet'!AK154))","v":0},{"$f":"IF(OR('Trust - Frontsheet'!AL154=\"\",'Trust - Frontsheet'!AL154=\"-\"),0,('Trust - Frontsheet'!AL154))","v":0},{"$f":"IF(OR('Trust - Frontsheet'!AM154=\"\",'Trust - Frontsheet'!AM154=\"-\"),0,('Trust - Frontsheet'!AM154))","v":0},{"$f":"IF(OR('Trust - Frontsheet'!AN154=\"\",'Trust - Frontsheet'!AN154=\"-\"),0,('Trust - Frontsheet'!AN154))","v":0},{"$f":"IF(OR('Trust - Frontsheet'!AO154=\"\",'Trust - Frontsheet'!AO154=\"-\"),0,('Trust - Frontsheet'!AO154))","v":0},{"$f":"IF(OR('Trust - Frontsheet'!AP154=\"\",'Trust - Frontsheet'!AP154=\"-\"),0,('Trust - Frontsheet'!AP154))","v":0},{"$f":"IF(OR('Trust - Frontsheet'!AQ154=\"\",'Trust - Frontsheet'!AQ154=\"-\"),0,('Trust - Frontsheet'!AQ154))","v":0},{"$f":"IF(OR('Trust - Frontsheet'!AR154=\"\",'Trust - Frontsheet'!AR154=\"-\"),0,('Trust - Frontsheet'!AR154))","v":0},{"$f":"IF(OR('Trust - Frontsheet'!AS154=\"\",'Trust - Frontsheet'!AS154=\"-\"),0,('Trust - Frontsheet'!AS154))","v":0},{"$f":"IF(OR('Trust - Frontsheet'!AT154=\"\",'Trust - Frontsheet'!AT154=\"-\"),0,('Trust - Frontsheet'!AT154))","v":0},{"$f":"'Trust - Frontsheet'!AC154","v":0},{"$f":"IF(OR('Trust - Frontsheet'!AD154=\"\",'Trust - Frontsheet'!AD154=\"-\"),0,('Trust - Frontsheet'!AD154))","v":0},{"$f":"IF(OR('Trust - Frontsheet'!AE154=\"\",'Trust - Frontsheet'!AE154=\"-\"),0,('Trust - Frontsheet'!AE154))","v":0},{"$f":"IF(OR('Trust - Frontsheet'!AF154=\"\",'Trust - Frontsheet'!AF154=\"-\"),0,('Trust - Frontsheet'!AF154))","v":0},{"$f":"IF(OR('Trust - Frontsheet'!AG154=\"\",'Trust - Frontsheet'!AG154=\"-\"),0,('Trust - Frontsheet'!AG154))","v":0},{"$f":"IF(OR('Trust - Frontsheet'!AH154=\"\",'Trust - Frontsheet'!AH154=\"-\"),0,('Trust - Frontsheet'!AH154))","v":0},{"$f":"IF(OR('Trust - Frontsheet'!AI154=\"\",'Trust - Frontsheet'!AI154=\"-\"),0,('Trust - Frontsheet'!AI154))","v":0},{"$f":"IF(OR('Trust - Frontsheet'!AJ154=\"\",'Trust - Frontsheet'!AJ154=\"-\"),0,('Trust - Frontsheet'!AJ154))","v":0},{"$f":"IF(A142=\"\",\"\",(IF(ISBLANK('Trust - Frontsheet'!F9),\"\",'Trust - Frontsheet'!F9)))","v":""}]
[{"$f":"IF('Trust - Frontsheet'!D155=0,\"\",IF('Trust - Frontsheet'!D155=\"\",\"\",'Trust - Frontsheet'!D155))","v":""},{"$f":"IF(ISBLANK('Trust - Frontsheet'!E155),\"\",'Trust - Frontsheet'!E155)","v":""},{"$f":"IF(ISBLANK('Trust - Frontsheet'!F155),\"\",\"'\" & 'Trust - Frontsheet'!F155 & \"'\")","v":""},{"$f":"IF(ISBLANK('Trust - Frontsheet'!G155),\"\",'Trust - Frontsheet'!G155)","v":""},{"$f":"IF(ISBLANK('Trust - Frontsheet'!H155),\"\",'Trust - Frontsheet'!H155)","v":""},{"$f":"'Trust - Frontsheet'!I155","v":0},{"$f":"'Trust - Frontsheet'!J155","v":0},{"$f":"'Trust - Frontsheet'!K155","v":0},{"$f":"'Trust - Frontsheet'!L155","v":0},{"$f":"'Trust - Frontsheet'!M155","v":0},{"$f":"'Trust - Frontsheet'!N155","v":0},{"$f":"'Trust - Frontsheet'!O155","v":0},{"$f":"'Trust - Frontsheet'!P155","v":0},{"$f":"'Trust - Frontsheet'!Q155","v":0},{"$f":"'Trust - Frontsheet'!R155","v":0},{"$f":"'Trust - Frontsheet'!S155","v":0},{"$f":"'Trust - Frontsheet'!T155","v":0},{"$f":"'Trust - Frontsheet'!U155","v":0},{"$f":"'Trust - Frontsheet'!V155","v":0},{"$f":"'Trust - Frontsheet'!W155","v":0},{"$f":"'Trust - Frontsheet'!X155","v":0},{"$f":"'Trust - Frontsheet'!Y155","v":0},{"$f":"'Trust - Frontsheet'!Z155","v":0},{"$f":"'Trust - Frontsheet'!AA155","v":0},{"$f":"'Trust - Frontsheet'!AB155","v":0},{"$f":"IF(OR('Trust - Frontsheet'!AK155=\"\",'Trust - Frontsheet'!AK155=\"-\"),0,('Trust - Frontsheet'!AK155))","v":0},{"$f":"IF(OR('Trust - Frontsheet'!AL155=\"\",'Trust - Frontsheet'!AL155=\"-\"),0,('Trust - Frontsheet'!AL155))","v":0},{"$f":"IF(OR('Trust - Frontsheet'!AM155=\"\",'Trust - Frontsheet'!AM155=\"-\"),0,('Trust - Frontsheet'!AM155))","v":0},{"$f":"IF(OR('Trust - Frontsheet'!AN155=\"\",'Trust - Frontsheet'!AN155=\"-\"),0,('Trust - Frontsheet'!AN155))","v":0},{"$f":"IF(OR('Trust - Frontsheet'!AO155=\"\",'Trust - Frontsheet'!AO155=\"-\"),0,('Trust - Frontsheet'!AO155))","v":0},{"$f":"IF(OR('Trust - Frontsheet'!AP155=\"\",'Trust - Frontsheet'!AP155=\"-\"),0,('Trust - Frontsheet'!AP155))","v":0},{"$f":"IF(OR('Trust - Frontsheet'!AQ155=\"\",'Trust - Frontsheet'!AQ155=\"-\"),0,('Trust - Frontsheet'!AQ155))","v":0},{"$f":"IF(OR('Trust - Frontsheet'!AR155=\"\",'Trust - Frontsheet'!AR155=\"-\"),0,('Trust - Frontsheet'!AR155))","v":0},{"$f":"IF(OR('Trust - Frontsheet'!AS155=\"\",'Trust - Frontsheet'!AS155=\"-\"),0,('Trust - Frontsheet'!AS155))","v":0},{"$f":"IF(OR('Trust - Frontsheet'!AT155=\"\",'Trust - Frontsheet'!AT155=\"-\"),0,('Trust - Frontsheet'!AT155))","v":0},{"$f":"'Trust - Frontsheet'!AC155","v":0},{"$f":"IF(OR('Trust - Frontsheet'!AD155=\"\",'Trust - Frontsheet'!AD155=\"-\"),0,('Trust - Frontsheet'!AD155))","v":0},{"$f":"IF(OR('Trust - Frontsheet'!AE155=\"\",'Trust - Frontsheet'!AE155=\"-\"),0,('Trust - Frontsheet'!AE155))","v":0},{"$f":"IF(OR('Trust - Frontsheet'!AF155=\"\",'Trust - Frontsheet'!AF155=\"-\"),0,('Trust - Frontsheet'!AF155))","v":0},{"$f":"IF(OR('Trust - Frontsheet'!AG155=\"\",'Trust - Frontsheet'!AG155=\"-\"),0,('Trust - Frontsheet'!AG155))","v":0},{"$f":"IF(OR('Trust - Frontsheet'!AH155=\"\",'Trust - Frontsheet'!AH155=\"-\"),0,('Trust - Frontsheet'!AH155))","v":0},{"$f":"IF(OR('Trust - Frontsheet'!AI155=\"\",'Trust - Frontsheet'!AI155=\"-\"),0,('Trust - Frontsheet'!AI155))","v":0},{"$f":"IF(OR('Trust - Frontsheet'!AJ155=\"\",'Trust - Frontsheet'!AJ155=\"-\"),0,('Trust - Frontsheet'!AJ155))","v":0},{"$f":"IF(A143=\"\",\"\",(IF(ISBLANK('Trust - Frontsheet'!F9),\"\",'Trust - Frontsheet'!F9)))","v":""}]
[{"$f":"IF('Trust - Frontsheet'!D156=0,\"\",IF('Trust - Frontsheet'!D156=\"\",\"\",'Trust - Frontsheet'!D156))","v":""},{"$f":"IF(ISBLANK('Trust - Frontsheet'!E156),\"\",'Trust - Frontsheet'!E156)","v":""},{"$f":"IF(ISBLANK('Trust - Frontsheet'!F156),\"\",\"'\" & 'Trust - Frontsheet'!F156 & \"'\")","v":""},{"$f":"IF(ISBLANK('Trust - Frontsheet'!G156),\"\",'Trust - Frontsheet'!G156)","v":""},{"$f":"IF(ISBLANK('Trust - Frontsheet'!H156),\"\",'Trust - Frontsheet'!H156)","v":""},{"$f":"'Trust - Frontsheet'!I156","v":0},{"$f":"'Trust - Frontsheet'!J156","v":0},{"$f":"'Trust - Frontsheet'!K156","v":0},{"$f":"'Trust - Frontsheet'!L156","v":0},{"$f":"'Trust - Frontsheet'!M156","v":0},{"$f":"'Trust - Frontsheet'!N156","v":0},{"$f":"'Trust - Frontsheet'!O156","v":0},{"$f":"'Trust - Frontsheet'!P156","v":0},{"$f":"'Trust - Frontsheet'!Q156","v":0},{"$f":"'Trust - Frontsheet'!R156","v":0},{"$f":"'Trust - Frontsheet'!S156","v":0},{"$f":"'Trust - Frontsheet'!T156","v":0},{"$f":"'Trust - Frontsheet'!U156","v":0},{"$f":"'Trust - Frontsheet'!V156","v":0},{"$f":"'Trust - Frontsheet'!W156","v":0},{"$f":"'Trust - Frontsheet'!X156","v":0},{"$f":"'Trust - Frontsheet'!Y156","v":0},{"$f":"'Trust - Frontsheet'!Z156","v":0},{"$f":"'Trust - Frontsheet'!AA156","v":0},{"$f":"'Trust - Frontsheet'!AB156","v":0},{"$f":"IF(OR('Trust - Frontsheet'!AK156=\"\",'Trust - Frontsheet'!AK156=\"-\"),0,('Trust - Frontsheet'!AK156))","v":0},{"$f":"IF(OR('Trust - Frontsheet'!AL156=\"\",'Trust - Frontsheet'!AL156=\"-\"),0,('Trust - Frontsheet'!AL156))","v":0},{"$f":"IF(OR('Trust - Frontsheet'!AM156=\"\",'Trust - Frontsheet'!AM156=\"-\"),0,('Trust - Frontsheet'!AM156))","v":0},{"$f":"IF(OR('Trust - Frontsheet'!AN156=\"\",'Trust - Frontsheet'!AN156=\"-\"),0,('Trust - Frontsheet'!AN156))","v":0},{"$f":"IF(OR('Trust - Frontsheet'!AO156=\"\",'Trust - Frontsheet'!AO156=\"-\"),0,('Trust - Frontsheet'!AO156))","v":0},{"$f":"IF(OR('Trust - Frontsheet'!AP156=\"\",'Trust - Frontsheet'!AP156=\"-\"),0,('Trust - Frontsheet'!AP156))","v":0},{"$f":"IF(OR('Trust - Frontsheet'!AQ156=\"\",'Trust - Frontsheet'!AQ156=\"-\"),0,('Trust - Frontsheet'!AQ156))","v":0},{"$f":"IF(OR('Trust - Frontsheet'!AR156=\"\",'Trust - Frontsheet'!AR156=\"-\"),0,('Trust - Frontsheet'!AR156))","v":0},{"$f":"IF(OR('Trust - Frontsheet'!AS156=\"\",'Trust - Frontsheet'!AS156=\"-\"),0,('Trust - Frontsheet'!AS156))","v":0},{"$f":"IF(OR('Trust - Frontsheet'!AT156=\"\",'Trust - Frontsheet'!AT156=\"-\"),0,('Trust - Frontsheet'!AT156))","v":0},{"$f":"'Trust - Frontsheet'!AC156","v":0},{"$f":"IF(OR('Trust - Frontsheet'!AD156=\"\",'Trust - Frontsheet'!AD156=\"-\"),0,('Trust - Frontsheet'!AD156))","v":0},{"$f":"IF(OR('Trust - Frontsheet'!AE156=\"\",'Trust - Frontsheet'!AE156=\"-\"),0,('Trust - Frontsheet'!AE156))","v":0},{"$f":"IF(OR('Trust - Frontsheet'!AF156=\"\",'Trust - Frontsheet'!AF156=\"-\"),0,('Trust - Frontsheet'!AF156))","v":0},{"$f":"IF(OR('Trust - Frontsheet'!AG156=\"\",'Trust - Frontsheet'!AG156=\"-\"),0,('Trust - Frontsheet'!AG156))","v":0},{"$f":"IF(OR('Trust - Frontsheet'!AH156=\"\",'Trust - Frontsheet'!AH156=\"-\"),0,('Trust - Frontsheet'!AH156))","v":0},{"$f":"IF(OR('Trust - Frontsheet'!AI156=\"\",'Trust - Frontsheet'!AI156=\"-\"),0,('Trust - Frontsheet'!AI156))","v":0},{"$f":"IF(OR('Trust - Frontsheet'!AJ156=\"\",'Trust - Frontsheet'!AJ156=\"-\"),0,('Trust - Frontsheet'!AJ156))","v":0},{"$f":"IF(A144=\"\",\"\",(IF(ISBLANK('Trust - Frontsheet'!F9),\"\",'Trust - Frontsheet'!F9)))","v":""}]
[{"$f":"IF('Trust - Frontsheet'!D157=0,\"\",IF('Trust - Frontsheet'!D157=\"\",\"\",'Trust - Frontsheet'!D157))","v":""},{"$f":"IF(ISBLANK('Trust - Frontsheet'!E157),\"\",'Trust - Frontsheet'!E157)","v":""},{"$f":"IF(ISBLANK('Trust - Frontsheet'!F157),\"\",\"'\" & 'Trust - Frontsheet'!F157 & \"'\")","v":""},{"$f":"IF(ISBLANK('Trust - Frontsheet'!G157),\"\",'Trust - Frontsheet'!G157)","v":""},{"$f":"IF(ISBLANK('Trust - Frontsheet'!H157),\"\",'Trust - Frontsheet'!H157)","v":""},{"$f":"'Trust - Frontsheet'!I157","v":0},{"$f":"'Trust - Frontsheet'!J157","v":0},{"$f":"'Trust - Frontsheet'!K157","v":0},{"$f":"'Trust - Frontsheet'!L157","v":0},{"$f":"'Trust - Frontsheet'!M157","v":0},{"$f":"'Trust - Frontsheet'!N157","v":0},{"$f":"'Trust - Frontsheet'!O157","v":0},{"$f":"'Trust - Frontsheet'!P157","v":0},{"$f":"'Trust - Frontsheet'!Q157","v":0},{"$f":"'Trust - Frontsheet'!R157","v":0},{"$f":"'Trust - Frontsheet'!S157","v":0},{"$f":"'Trust - Frontsheet'!T157","v":0},{"$f":"'Trust - Frontsheet'!U157","v":0},{"$f":"'Trust - Frontsheet'!V157","v":0},{"$f":"'Trust - Frontsheet'!W157","v":0},{"$f":"'Trust - Frontsheet'!X157","v":0},{"$f":"'Trust - Frontsheet'!Y157","v":0},{"$f":"'Trust - Frontsheet'!Z157","v":0},{"$f":"'Trust - Frontsheet'!AA157","v":0},{"$f":"'Trust - Frontsheet'!AB157","v":0},{"$f":"IF(OR('Trust - Frontsheet'!AK157=\"\",'Trust - Frontsheet'!AK157=\"-\"),0,('Trust - Frontsheet'!AK157))","v":0},{"$f":"IF(OR('Trust - Frontsheet'!AL157=\"\",'Trust - Frontsheet'!AL157=\"-\"),0,('Trust - Frontsheet'!AL157))","v":0},{"$f":"IF(OR('Trust - Frontsheet'!AM157=\"\",'Trust - Frontsheet'!AM157=\"-\"),0,('Trust - Frontsheet'!AM157))","v":0},{"$f":"IF(OR('Trust - Frontsheet'!AN157=\"\",'Trust - Frontsheet'!AN157=\"-\"),0,('Trust - Frontsheet'!AN157))","v":0},{"$f":"IF(OR('Trust - Frontsheet'!AO157=\"\",'Trust - Frontsheet'!AO157=\"-\"),0,('Trust - Frontsheet'!AO157))","v":0},{"$f":"IF(OR('Trust - Frontsheet'!AP157=\"\",'Trust - Frontsheet'!AP157=\"-\"),0,('Trust - Frontsheet'!AP157))","v":0},{"$f":"IF(OR('Trust - Frontsheet'!AQ157=\"\",'Trust - Frontsheet'!AQ157=\"-\"),0,('Trust - Frontsheet'!AQ157))","v":0},{"$f":"IF(OR('Trust - Frontsheet'!AR157=\"\",'Trust - Frontsheet'!AR157=\"-\"),0,('Trust - Frontsheet'!AR157))","v":0},{"$f":"IF(OR('Trust - Frontsheet'!AS157=\"\",'Trust - Frontsheet'!AS157=\"-\"),0,('Trust - Frontsheet'!AS157))","v":0},{"$f":"IF(OR('Trust - Frontsheet'!AT157=\"\",'Trust - Frontsheet'!AT157=\"-\"),0,('Trust - Frontsheet'!AT157))","v":0},{"$f":"'Trust - Frontsheet'!AC157","v":0},{"$f":"IF(OR('Trust - Frontsheet'!AD157=\"\",'Trust - Frontsheet'!AD157=\"-\"),0,('Trust - Frontsheet'!AD157))","v":0},{"$f":"IF(OR('Trust - Frontsheet'!AE157=\"\",'Trust - Frontsheet'!AE157=\"-\"),0,('Trust - Frontsheet'!AE157))","v":0},{"$f":"IF(OR('Trust - Frontsheet'!AF157=\"\",'Trust - Frontsheet'!AF157=\"-\"),0,('Trust - Frontsheet'!AF157))","v":0},{"$f":"IF(OR('Trust - Frontsheet'!AG157=\"\",'Trust - Frontsheet'!AG157=\"-\"),0,('Trust - Frontsheet'!AG157))","v":0},{"$f":"IF(OR('Trust - Frontsheet'!AH157=\"\",'Trust - Frontsheet'!AH157=\"-\"),0,('Trust - Frontsheet'!AH157))","v":0},{"$f":"IF(OR('Trust - Frontsheet'!AI157=\"\",'Trust - Frontsheet'!AI157=\"-\"),0,('Trust - Frontsheet'!AI157))","v":0},{"$f":"IF(OR('Trust - Frontsheet'!AJ157=\"\",'Trust - Frontsheet'!AJ157=\"-\"),0,('Trust - Frontsheet'!AJ157))","v":0},{"$f":"IF(A145=\"\",\"\",(IF(ISBLANK('Trust - Frontsheet'!F9),\"\",'Trust - Frontsheet'!F9)))","v":""}]
[{"$f":"IF('Trust - Frontsheet'!D158=0,\"\",IF('Trust - Frontsheet'!D158=\"\",\"\",'Trust - Frontsheet'!D158))","v":""},{"$f":"IF(ISBLANK('Trust - Frontsheet'!E158),\"\",'Trust - Frontsheet'!E158)","v":""},{"$f":"IF(ISBLANK('Trust - Frontsheet'!F158),\"\",\"'\" & 'Trust - Frontsheet'!F158 & \"'\")","v":""},{"$f":"IF(ISBLANK('Trust - Frontsheet'!G158),\"\",'Trust - Frontsheet'!G158)","v":""},{"$f":"IF(ISBLANK('Trust - Frontsheet'!H158),\"\",'Trust - Frontsheet'!H158)","v":""},{"$f":"'Trust - Frontsheet'!I158","v":0},{"$f":"'Trust - Frontsheet'!J158","v":0},{"$f":"'Trust - Frontsheet'!K158","v":0},{"$f":"'Trust - Frontsheet'!L158","v":0},{"$f":"'Trust - Frontsheet'!M158","v":0},{"$f":"'Trust - Frontsheet'!N158","v":0},{"$f":"'Trust - Frontsheet'!O158","v":0},{"$f":"'Trust - Frontsheet'!P158","v":0},{"$f":"'Trust - Frontsheet'!Q158","v":0},{"$f":"'Trust - Frontsheet'!R158","v":0},{"$f":"'Trust - Frontsheet'!S158","v":0},{"$f":"'Trust - Frontsheet'!T158","v":0},{"$f":"'Trust - Frontsheet'!U158","v":0},{"$f":"'Trust - Frontsheet'!V158","v":0},{"$f":"'Trust - Frontsheet'!W158","v":0},{"$f":"'Trust - Frontsheet'!X158","v":0},{"$f":"'Trust - Frontsheet'!Y158","v":0},{"$f":"'Trust - Frontsheet'!Z158","v":0},{"$f":"'Trust - Frontsheet'!AA158","v":0},{"$f":"'Trust - Frontsheet'!AB158","v":0},{"$f":"IF(OR('Trust - Frontsheet'!AK158=\"\",'Trust - Frontsheet'!AK158=\"-\"),0,('Trust - Frontsheet'!AK158))","v":0},{"$f":"IF(OR('Trust - Frontsheet'!AL158=\"\",'Trust - Frontsheet'!AL158=\"-\"),0,('Trust - Frontsheet'!AL158))","v":0},{"$f":"IF(OR('Trust - Frontsheet'!AM158=\"\",'Trust - Frontsheet'!AM158=\"-\"),0,('Trust - Frontsheet'!AM158))","v":0},{"$f":"IF(OR('Trust - Frontsheet'!AN158=\"\",'Trust - Frontsheet'!AN158=\"-\"),0,('Trust - Frontsheet'!AN158))","v":0},{"$f":"IF(OR('Trust - Frontsheet'!AO158=\"\",'Trust - Frontsheet'!AO158=\"-\"),0,('Trust - Frontsheet'!AO158))","v":0},{"$f":"IF(OR('Trust - Frontsheet'!AP158=\"\",'Trust - Frontsheet'!AP158=\"-\"),0,('Trust - Frontsheet'!AP158))","v":0},{"$f":"IF(OR('Trust - Frontsheet'!AQ158=\"\",'Trust - Frontsheet'!AQ158=\"-\"),0,('Trust - Frontsheet'!AQ158))","v":0},{"$f":"IF(OR('Trust - Frontsheet'!AR158=\"\",'Trust - Frontsheet'!AR158=\"-\"),0,('Trust - Frontsheet'!AR158))","v":0},{"$f":"IF(OR('Trust - Frontsheet'!AS158=\"\",'Trust - Frontsheet'!AS158=\"-\"),0,('Trust - Frontsheet'!AS158))","v":0},{"$f":"IF(OR('Trust - Frontsheet'!AT158=\"\",'Trust - Frontsheet'!AT158=\"-\"),0,('Trust - Frontsheet'!AT158))","v":0},{"$f":"'Trust - Frontsheet'!AC158","v":0},{"$f":"IF(OR('Trust - Frontsheet'!AD158=\"\",'Trust - Frontsheet'!AD158=\"-\"),0,('Trust - Frontsheet'!AD158))","v":0},{"$f":"IF(OR('Trust - Frontsheet'!AE158=\"\",'Trust - Frontsheet'!AE158=\"-\"),0,('Trust - Frontsheet'!AE158))","v":0},{"$f":"IF(OR('Trust - Frontsheet'!AF158=\"\",'Trust - Frontsheet'!AF158=\"-\"),0,('Trust - Frontsheet'!AF158))","v":0},{"$f":"IF(OR('Trust - Frontsheet'!AG158=\"\",'Trust - Frontsheet'!AG158=\"-\"),0,('Trust - Frontsheet'!AG158))","v":0},{"$f":"IF(OR('Trust - Frontsheet'!AH158=\"\",'Trust - Frontsheet'!AH158=\"-\"),0,('Trust - Frontsheet'!AH158))","v":0},{"$f":"IF(OR('Trust - Frontsheet'!AI158=\"\",'Trust - Frontsheet'!AI158=\"-\"),0,('Trust - Frontsheet'!AI158))","v":0},{"$f":"IF(OR('Trust - Frontsheet'!AJ158=\"\",'Trust - Frontsheet'!AJ158=\"-\"),0,('Trust - Frontsheet'!AJ158))","v":0},{"$f":"IF(A146=\"\",\"\",(IF(ISBLANK('Trust - Frontsheet'!F9),\"\",'Trust - Frontsheet'!F9)))","v":""}]
[{"$f":"IF('Trust - Frontsheet'!D159=0,\"\",IF('Trust - Frontsheet'!D159=\"\",\"\",'Trust - Frontsheet'!D159))","v":""},{"$f":"IF(ISBLANK('Trust - Frontsheet'!E159),\"\",'Trust - Frontsheet'!E159)","v":""},{"$f":"IF(ISBLANK('Trust - Frontsheet'!F159),\"\",\"'\" & 'Trust - Frontsheet'!F159 & \"'\")","v":""},{"$f":"IF(ISBLANK('Trust - Frontsheet'!G159),\"\",'Trust - Frontsheet'!G159)","v":""},{"$f":"IF(ISBLANK('Trust - Frontsheet'!H159),\"\",'Trust - Frontsheet'!H159)","v":""},{"$f":"'Trust - Frontsheet'!I159","v":0},{"$f":"'Trust - Frontsheet'!J159","v":0},{"$f":"'Trust - Frontsheet'!K159","v":0},{"$f":"'Trust - Frontsheet'!L159","v":0},{"$f":"'Trust - Frontsheet'!M159","v":0},{"$f":"'Trust - Frontsheet'!N159","v":0},{"$f":"'Trust - Frontsheet'!O159","v":0},{"$f":"'Trust - Frontsheet'!P159","v":0},{"$f":"'Trust - Frontsheet'!Q159","v":0},{"$f":"'Trust - Frontsheet'!R159","v":0},{"$f":"'Trust - Frontsheet'!S159","v":0},{"$f":"'Trust - Frontsheet'!T159","v":0},{"$f":"'Trust - Frontsheet'!U159","v":0},{"$f":"'Trust - Frontsheet'!V159","v":0},{"$f":"'Trust - Frontsheet'!W159","v":0},{"$f":"'Trust - Frontsheet'!X159","v":0},{"$f":"'Trust - Frontsheet'!Y159","v":0},{"$f":"'Trust - Frontsheet'!Z159","v":0},{"$f":"'Trust - Frontsheet'!AA159","v":0},{"$f":"'Trust - Frontsheet'!AB159","v":0},{"$f":"IF(OR('Trust - Frontsheet'!AK159=\"\",'Trust - Frontsheet'!AK159=\"-\"),0,('Trust - Frontsheet'!AK159))","v":0},{"$f":"IF(OR('Trust - Frontsheet'!AL159=\"\",'Trust - Frontsheet'!AL159=\"-\"),0,('Trust - Frontsheet'!AL159))","v":0},{"$f":"IF(OR('Trust - Frontsheet'!AM159=\"\",'Trust - Frontsheet'!AM159=\"-\"),0,('Trust - Frontsheet'!AM159))","v":0},{"$f":"IF(OR('Trust - Frontsheet'!AN159=\"\",'Trust - Frontsheet'!AN159=\"-\"),0,('Trust - Frontsheet'!AN159))","v":0},{"$f":"IF(OR('Trust - Frontsheet'!AO159=\"\",'Trust - Frontsheet'!AO159=\"-\"),0,('Trust - Frontsheet'!AO159))","v":0},{"$f":"IF(OR('Trust - Frontsheet'!AP159=\"\",'Trust - Frontsheet'!AP159=\"-\"),0,('Trust - Frontsheet'!AP159))","v":0},{"$f":"IF(OR('Trust - Frontsheet'!AQ159=\"\",'Trust - Frontsheet'!AQ159=\"-\"),0,('Trust - Frontsheet'!AQ159))","v":0},{"$f":"IF(OR('Trust - Frontsheet'!AR159=\"\",'Trust - Frontsheet'!AR159=\"-\"),0,('Trust - Frontsheet'!AR159))","v":0},{"$f":"IF(OR('Trust - Frontsheet'!AS159=\"\",'Trust - Frontsheet'!AS159=\"-\"),0,('Trust - Frontsheet'!AS159))","v":0},{"$f":"IF(OR('Trust - Frontsheet'!AT159=\"\",'Trust - Frontsheet'!AT159=\"-\"),0,('Trust - Frontsheet'!AT159))","v":0},{"$f":"'Trust - Frontsheet'!AC159","v":0},{"$f":"IF(OR('Trust - Frontsheet'!AD159=\"\",'Trust - Frontsheet'!AD159=\"-\"),0,('Trust - Frontsheet'!AD159))","v":0},{"$f":"IF(OR('Trust - Frontsheet'!AE159=\"\",'Trust - Frontsheet'!AE159=\"-\"),0,('Trust - Frontsheet'!AE159))","v":0},{"$f":"IF(OR('Trust - Frontsheet'!AF159=\"\",'Trust - Frontsheet'!AF159=\"-\"),0,('Trust - Frontsheet'!AF159))","v":0},{"$f":"IF(OR('Trust - Frontsheet'!AG159=\"\",'Trust - Frontsheet'!AG159=\"-\"),0,('Trust - Frontsheet'!AG159))","v":0},{"$f":"IF(OR('Trust - Frontsheet'!AH159=\"\",'Trust - Frontsheet'!AH159=\"-\"),0,('Trust - Frontsheet'!AH159))","v":0},{"$f":"IF(OR('Trust - Frontsheet'!AI159=\"\",'Trust - Frontsheet'!AI159=\"-\"),0,('Trust - Frontsheet'!AI159))","v":0},{"$f":"IF(OR('Trust - Frontsheet'!AJ159=\"\",'Trust - Frontsheet'!AJ159=\"-\"),0,('Trust - Frontsheet'!AJ159))","v":0},{"$f":"IF(A147=\"\",\"\",(IF(ISBLANK('Trust - Frontsheet'!F9),\"\",'Trust - Frontsheet'!F9)))","v":""}]
[{"$f":"IF('Trust - Frontsheet'!D160=0,\"\",IF('Trust - Frontsheet'!D160=\"\",\"\",'Trust - Frontsheet'!D160))","v":""},{"$f":"IF(ISBLANK('Trust - Frontsheet'!E160),\"\",'Trust - Frontsheet'!E160)","v":""},{"$f":"IF(ISBLANK('Trust - Frontsheet'!F160),\"\",\"'\" & 'Trust - Frontsheet'!F160 & \"'\")","v":""},{"$f":"IF(ISBLANK('Trust - Frontsheet'!G160),\"\",'Trust - Frontsheet'!G160)","v":""},{"$f":"IF(ISBLANK('Trust - Frontsheet'!H160),\"\",'Trust - Frontsheet'!H160)","v":""},{"$f":"'Trust - Frontsheet'!I160","v":0},{"$f":"'Trust - Frontsheet'!J160","v":0},{"$f":"'Trust - Frontsheet'!K160","v":0},{"$f":"'Trust - Frontsheet'!L160","v":0},{"$f":"'Trust - Frontsheet'!M160","v":0},{"$f":"'Trust - Frontsheet'!N160","v":0},{"$f":"'Trust - Frontsheet'!O160","v":0},{"$f":"'Trust - Frontsheet'!P160","v":0},{"$f":"'Trust - Frontsheet'!Q160","v":0},{"$f":"'Trust - Frontsheet'!R160","v":0},{"$f":"'Trust - Frontsheet'!S160","v":0},{"$f":"'Trust - Frontsheet'!T160","v":0},{"$f":"'Trust - Frontsheet'!U160","v":0},{"$f":"'Trust - Frontsheet'!V160","v":0},{"$f":"'Trust - Frontsheet'!W160","v":0},{"$f":"'Trust - Frontsheet'!X160","v":0},{"$f":"'Trust - Frontsheet'!Y160","v":0},{"$f":"'Trust - Frontsheet'!Z160","v":0},{"$f":"'Trust - Frontsheet'!AA160","v":0},{"$f":"'Trust - Frontsheet'!AB160","v":0},{"$f":"IF(OR('Trust - Frontsheet'!AK160=\"\",'Trust - Frontsheet'!AK160=\"-\"),0,('Trust - Frontsheet'!AK160))","v":0},{"$f":"IF(OR('Trust - Frontsheet'!AL160=\"\",'Trust - Frontsheet'!AL160=\"-\"),0,('Trust - Frontsheet'!AL160))","v":0},{"$f":"IF(OR('Trust - Frontsheet'!AM160=\"\",'Trust - Frontsheet'!AM160=\"-\"),0,('Trust - Frontsheet'!AM160))","v":0},{"$f":"IF(OR('Trust - Frontsheet'!AN160=\"\",'Trust - Frontsheet'!AN160=\"-\"),0,('Trust - Frontsheet'!AN160))","v":0},{"$f":"IF(OR('Trust - Frontsheet'!AO160=\"\",'Trust - Frontsheet'!AO160=\"-\"),0,('Trust - Frontsheet'!AO160))","v":0},{"$f":"IF(OR('Trust - Frontsheet'!AP160=\"\",'Trust - Frontsheet'!AP160=\"-\"),0,('Trust - Frontsheet'!AP160))","v":0},{"$f":"IF(OR('Trust - Frontsheet'!AQ160=\"\",'Trust - Frontsheet'!AQ160=\"-\"),0,('Trust - Frontsheet'!AQ160))","v":0},{"$f":"IF(OR('Trust - Frontsheet'!AR160=\"\",'Trust - Frontsheet'!AR160=\"-\"),0,('Trust - Frontsheet'!AR160))","v":0},{"$f":"IF(OR('Trust - Frontsheet'!AS160=\"\",'Trust - Frontsheet'!AS160=\"-\"),0,('Trust - Frontsheet'!AS160))","v":0},{"$f":"IF(OR('Trust - Frontsheet'!AT160=\"\",'Trust - Frontsheet'!AT160=\"-\"),0,('Trust - Frontsheet'!AT160))","v":0},{"$f":"'Trust - Frontsheet'!AC160","v":0},{"$f":"IF(OR('Trust - Frontsheet'!AD160=\"\",'Trust - Frontsheet'!AD160=\"-\"),0,('Trust - Frontsheet'!AD160))","v":0},{"$f":"IF(OR('Trust - Frontsheet'!AE160=\"\",'Trust - Frontsheet'!AE160=\"-\"),0,('Trust - Frontsheet'!AE160))","v":0},{"$f":"IF(OR('Trust - Frontsheet'!AF160=\"\",'Trust - Frontsheet'!AF160=\"-\"),0,('Trust - Frontsheet'!AF160))","v":0},{"$f":"IF(OR('Trust - Frontsheet'!AG160=\"\",'Trust - Frontsheet'!AG160=\"-\"),0,('Trust - Frontsheet'!AG160))","v":0},{"$f":"IF(OR('Trust - Frontsheet'!AH160=\"\",'Trust - Frontsheet'!AH160=\"-\"),0,('Trust - Frontsheet'!AH160))","v":0},{"$f":"IF(OR('Trust - Frontsheet'!AI160=\"\",'Trust - Frontsheet'!AI160=\"-\"),0,('Trust - Frontsheet'!AI160))","v":0},{"$f":"IF(OR('Trust - Frontsheet'!AJ160=\"\",'Trust - Frontsheet'!AJ160=\"-\"),0,('Trust - Frontsheet'!AJ160))","v":0},{"$f":"IF(A148=\"\",\"\",(IF(ISBLANK('Trust - Frontsheet'!F9),\"\",'Trust - Frontsheet'!F9)))","v":""}]
[{"$f":"IF('Trust - Frontsheet'!D161=0,\"\",IF('Trust - Frontsheet'!D161=\"\",\"\",'Trust - Frontsheet'!D161))","v":""},{"$f":"IF(ISBLANK('Trust - Frontsheet'!E161),\"\",'Trust - Frontsheet'!E161)","v":""},{"$f":"IF(ISBLANK('Trust - Frontsheet'!F161),\"\",\"'\" & 'Trust - Frontsheet'!F161 & \"'\")","v":""},{"$f":"IF(ISBLANK('Trust - Frontsheet'!G161),\"\",'Trust - Frontsheet'!G161)","v":""},{"$f":"IF(ISBLANK('Trust - Frontsheet'!H161),\"\",'Trust - Frontsheet'!H161)","v":""},{"$f":"'Trust - Frontsheet'!I161","v":0},{"$f":"'Trust - Frontsheet'!J161","v":0},{"$f":"'Trust - Frontsheet'!K161","v":0},{"$f":"'Trust - Frontsheet'!L161","v":0},{"$f":"'Trust - Frontsheet'!M161","v":0},{"$f":"'Trust - Frontsheet'!N161","v":0},{"$f":"'Trust - Frontsheet'!O161","v":0},{"$f":"'Trust - Frontsheet'!P161","v":0},{"$f":"'Trust - Frontsheet'!Q161","v":0},{"$f":"'Trust - Frontsheet'!R161","v":0},{"$f":"'Trust - Frontsheet'!S161","v":0},{"$f":"'Trust - Frontsheet'!T161","v":0},{"$f":"'Trust - Frontsheet'!U161","v":0},{"$f":"'Trust - Frontsheet'!V161","v":0},{"$f":"'Trust - Frontsheet'!W161","v":0},{"$f":"'Trust - Frontsheet'!X161","v":0},{"$f":"'Trust - Frontsheet'!Y161","v":0},{"$f":"'Trust - Frontsheet'!Z161","v":0},{"$f":"'Trust - Frontsheet'!AA161","v":0},{"$f":"'Trust - Frontsheet'!AB161","v":0},{"$f":"IF(OR('Trust - Frontsheet'!AK161=\"\",'Trust - Frontsheet'!AK161=\"-\"),0,('Trust - Frontsheet'!AK161))","v":0},{"$f":"IF(OR('Trust - Frontsheet'!AL161=\"\",'Trust - Frontsheet'!AL161=\"-\"),0,('Trust - Frontsheet'!AL161))","v":0},{"$f":"IF(OR('Trust - Frontsheet'!AM161=\"\",'Trust - Frontsheet'!AM161=\"-\"),0,('Trust - Frontsheet'!AM161))","v":0},{"$f":"IF(OR('Trust - Frontsheet'!AN161=\"\",'Trust - Frontsheet'!AN161=\"-\"),0,('Trust - Frontsheet'!AN161))","v":0},{"$f":"IF(OR('Trust - Frontsheet'!AO161=\"\",'Trust - Frontsheet'!AO161=\"-\"),0,('Trust - Frontsheet'!AO161))","v":0},{"$f":"IF(OR('Trust - Frontsheet'!AP161=\"\",'Trust - Frontsheet'!AP161=\"-\"),0,('Trust - Frontsheet'!AP161))","v":0},{"$f":"IF(OR('Trust - Frontsheet'!AQ161=\"\",'Trust - Frontsheet'!AQ161=\"-\"),0,('Trust - Frontsheet'!AQ161))","v":0},{"$f":"IF(OR('Trust - Frontsheet'!AR161=\"\",'Trust - Frontsheet'!AR161=\"-\"),0,('Trust - Frontsheet'!AR161))","v":0},{"$f":"IF(OR('Trust - Frontsheet'!AS161=\"\",'Trust - Frontsheet'!AS161=\"-\"),0,('Trust - Frontsheet'!AS161))","v":0},{"$f":"IF(OR('Trust - Frontsheet'!AT161=\"\",'Trust - Frontsheet'!AT161=\"-\"),0,('Trust - Frontsheet'!AT161))","v":0},{"$f":"'Trust - Frontsheet'!AC161","v":0},{"$f":"IF(OR('Trust - Frontsheet'!AD161=\"\",'Trust - Frontsheet'!AD161=\"-\"),0,('Trust - Frontsheet'!AD161))","v":0},{"$f":"IF(OR('Trust - Frontsheet'!AE161=\"\",'Trust - Frontsheet'!AE161=\"-\"),0,('Trust - Frontsheet'!AE161))","v":0},{"$f":"IF(OR('Trust - Frontsheet'!AF161=\"\",'Trust - Frontsheet'!AF161=\"-\"),0,('Trust - Frontsheet'!AF161))","v":0},{"$f":"IF(OR('Trust - Frontsheet'!AG161=\"\",'Trust - Frontsheet'!AG161=\"-\"),0,('Trust - Frontsheet'!AG161))","v":0},{"$f":"IF(OR('Trust - Frontsheet'!AH161=\"\",'Trust - Frontsheet'!AH161=\"-\"),0,('Trust - Frontsheet'!AH161))","v":0},{"$f":"IF(OR('Trust - Frontsheet'!AI161=\"\",'Trust - Frontsheet'!AI161=\"-\"),0,('Trust - Frontsheet'!AI161))","v":0},{"$f":"IF(OR('Trust - Frontsheet'!AJ161=\"\",'Trust - Frontsheet'!AJ161=\"-\"),0,('Trust - Frontsheet'!AJ161))","v":0},{"$f":"IF(A149=\"\",\"\",(IF(ISBLANK('Trust - Frontsheet'!F9),\"\",'Trust - Frontsheet'!F9)))","v":""}]
[{"$f":"IF('Trust - Frontsheet'!D162=0,\"\",IF('Trust - Frontsheet'!D162=\"\",\"\",'Trust - Frontsheet'!D162))","v":""},{"$f":"IF(ISBLANK('Trust - Frontsheet'!E162),\"\",'Trust - Frontsheet'!E162)","v":""},{"$f":"IF(ISBLANK('Trust - Frontsheet'!F162),\"\",\"'\" & 'Trust - Frontsheet'!F162 & \"'\")","v":""},{"$f":"IF(ISBLANK('Trust - Frontsheet'!G162),\"\",'Trust - Frontsheet'!G162)","v":""},{"$f":"IF(ISBLANK('Trust - Frontsheet'!H162),\"\",'Trust - Frontsheet'!H162)","v":""},{"$f":"'Trust - Frontsheet'!I162","v":0},{"$f":"'Trust - Frontsheet'!J162","v":0},{"$f":"'Trust - Frontsheet'!K162","v":0},{"$f":"'Trust - Frontsheet'!L162","v":0},{"$f":"'Trust - Frontsheet'!M162","v":0},{"$f":"'Trust - Frontsheet'!N162","v":0},{"$f":"'Trust - Frontsheet'!O162","v":0},{"$f":"'Trust - Frontsheet'!P162","v":0},{"$f":"'Trust - Frontsheet'!Q162","v":0},{"$f":"'Trust - Frontsheet'!R162","v":0},{"$f":"'Trust - Frontsheet'!S162","v":0},{"$f":"'Trust - Frontsheet'!T162","v":0},{"$f":"'Trust - Frontsheet'!U162","v":0},{"$f":"'Trust - Frontsheet'!V162","v":0},{"$f":"'Trust - Frontsheet'!W162","v":0},{"$f":"'Trust - Frontsheet'!X162","v":0},{"$f":"'Trust - Frontsheet'!Y162","v":0},{"$f":"'Trust - Frontsheet'!Z162","v":0},{"$f":"'Trust - Frontsheet'!AA162","v":0},{"$f":"'Trust - Frontsheet'!AB162","v":0},{"$f":"IF(OR('Trust - Frontsheet'!AK162=\"\",'Trust - Frontsheet'!AK162=\"-\"),0,('Trust - Frontsheet'!AK162))","v":0},{"$f":"IF(OR('Trust - Frontsheet'!AL162=\"\",'Trust - Frontsheet'!AL162=\"-\"),0,('Trust - Frontsheet'!AL162))","v":0},{"$f":"IF(OR('Trust - Frontsheet'!AM162=\"\",'Trust - Frontsheet'!AM162=\"-\"),0,('Trust - Frontsheet'!AM162))","v":0},{"$f":"IF(OR('Trust - Frontsheet'!AN162=\"\",'Trust - Frontsheet'!AN162=\"-\"),0,('Trust - Frontsheet'!AN162))","v":0},{"$f":"IF(OR('Trust - Frontsheet'!AO162=\"\",'Trust - Frontsheet'!AO162=\"-\"),0,('Trust - Frontsheet'!AO162))","v":0},{"$f":"IF(OR('Trust - Frontsheet'!AP162=\"\",'Trust - Frontsheet'!AP162=\"-\"),0,('Trust - Frontsheet'!AP162))","v":0},{"$f":"IF(OR('Trust - Frontsheet'!AQ162=\"\",'Trust - Frontsheet'!AQ162=\"-\"),0,('Trust - Frontsheet'!AQ162))","v":0},{"$f":"IF(OR('Trust - Frontsheet'!AR162=\"\",'Trust - Frontsheet'!AR162=\"-\"),0,('Trust - Frontsheet'!AR162))","v":0},{"$f":"IF(OR('Trust - Frontsheet'!AS162=\"\",'Trust - Frontsheet'!AS162=\"-\"),0,('Trust - Frontsheet'!AS162))","v":0},{"$f":"IF(OR('Trust - Frontsheet'!AT162=\"\",'Trust - Frontsheet'!AT162=\"-\"),0,('Trust - Frontsheet'!AT162))","v":0},{"$f":"'Trust - Frontsheet'!AC162","v":0},{"$f":"IF(OR('Trust - Frontsheet'!AD162=\"\",'Trust - Frontsheet'!AD162=\"-\"),0,('Trust - Frontsheet'!AD162))","v":0},{"$f":"IF(OR('Trust - Frontsheet'!AE162=\"\",'Trust - Frontsheet'!AE162=\"-\"),0,('Trust - Frontsheet'!AE162))","v":0},{"$f":"IF(OR('Trust - Frontsheet'!AF162=\"\",'Trust - Frontsheet'!AF162=\"-\"),0,('Trust - Frontsheet'!AF162))","v":0},{"$f":"IF(OR('Trust - Frontsheet'!AG162=\"\",'Trust - Frontsheet'!AG162=\"-\"),0,('Trust - Frontsheet'!AG162))","v":0},{"$f":"IF(OR('Trust - Frontsheet'!AH162=\"\",'Trust - Frontsheet'!AH162=\"-\"),0,('Trust - Frontsheet'!AH162))","v":0},{"$f":"IF(OR('Trust - Frontsheet'!AI162=\"\",'Trust - Frontsheet'!AI162=\"-\"),0,('Trust - Frontsheet'!AI162))","v":0},{"$f":"IF(OR('Trust - Frontsheet'!AJ162=\"\",'Trust - Frontsheet'!AJ162=\"-\"),0,('Trust - Frontsheet'!AJ162))","v":0},{"$f":"IF(A150=\"\",\"\",(IF(ISBLANK('Trust - Frontsheet'!F9),\"\",'Trust - Frontsheet'!F9)))","v":""}]
[{"$f":"IF('Trust - Frontsheet'!D163=0,\"\",IF('Trust - Frontsheet'!D163=\"\",\"\",'Trust - Frontsheet'!D163))","v":""},{"$f":"IF(ISBLANK('Trust - Frontsheet'!E163),\"\",'Trust - Frontsheet'!E163)","v":""},{"$f":"IF(ISBLANK('Trust - Frontsheet'!F163),\"\",\"'\" & 'Trust - Frontsheet'!F163 & \"'\")","v":""},{"$f":"IF(ISBLANK('Trust - Frontsheet'!G163),\"\",'Trust - Frontsheet'!G163)","v":""},{"$f":"IF(ISBLANK('Trust - Frontsheet'!H163),\"\",'Trust - Frontsheet'!H163)","v":""},{"$f":"'Trust - Frontsheet'!I163","v":0},{"$f":"'Trust - Frontsheet'!J163","v":0},{"$f":"'Trust - Frontsheet'!K163","v":0},{"$f":"'Trust - Frontsheet'!L163","v":0},{"$f":"'Trust - Frontsheet'!M163","v":0},{"$f":"'Trust - Frontsheet'!N163","v":0},{"$f":"'Trust - Frontsheet'!O163","v":0},{"$f":"'Trust - Frontsheet'!P163","v":0},{"$f":"'Trust - Frontsheet'!Q163","v":0},{"$f":"'Trust - Frontsheet'!R163","v":0},{"$f":"'Trust - Frontsheet'!S163","v":0},{"$f":"'Trust - Frontsheet'!T163","v":0},{"$f":"'Trust - Frontsheet'!U163","v":0},{"$f":"'Trust - Frontsheet'!V163","v":0},{"$f":"'Trust - Frontsheet'!W163","v":0},{"$f":"'Trust - Frontsheet'!X163","v":0},{"$f":"'Trust - Frontsheet'!Y163","v":0},{"$f":"'Trust - Frontsheet'!Z163","v":0},{"$f":"'Trust - Frontsheet'!AA163","v":0},{"$f":"'Trust - Frontsheet'!AB163","v":0},{"$f":"IF(OR('Trust - Frontsheet'!AK163=\"\",'Trust - Frontsheet'!AK163=\"-\"),0,('Trust - Frontsheet'!AK163))","v":0},{"$f":"IF(OR('Trust - Frontsheet'!AL163=\"\",'Trust - Frontsheet'!AL163=\"-\"),0,('Trust - Frontsheet'!AL163))","v":0},{"$f":"IF(OR('Trust - Frontsheet'!AM163=\"\",'Trust - Frontsheet'!AM163=\"-\"),0,('Trust - Frontsheet'!AM163))","v":0},{"$f":"IF(OR('Trust - Frontsheet'!AN163=\"\",'Trust - Frontsheet'!AN163=\"-\"),0,('Trust - Frontsheet'!AN163))","v":0},{"$f":"IF(OR('Trust - Frontsheet'!AO163=\"\",'Trust - Frontsheet'!AO163=\"-\"),0,('Trust - Frontsheet'!AO163))","v":0},{"$f":"IF(OR('Trust - Frontsheet'!AP163=\"\",'Trust - Frontsheet'!AP163=\"-\"),0,('Trust - Frontsheet'!AP163))","v":0},{"$f":"IF(OR('Trust - Frontsheet'!AQ163=\"\",'Trust - Frontsheet'!AQ163=\"-\"),0,('Trust - Frontsheet'!AQ163))","v":0},{"$f":"IF(OR('Trust - Frontsheet'!AR163=\"\",'Trust - Frontsheet'!AR163=\"-\"),0,('Trust - Frontsheet'!AR163))","v":0},{"$f":"IF(OR('Trust - Frontsheet'!AS163=\"\",'Trust - Frontsheet'!AS163=\"-\"),0,('Trust - Frontsheet'!AS163))","v":0},{"$f":"IF(OR('Trust - Frontsheet'!AT163=\"\",'Trust - Frontsheet'!AT163=\"-\"),0,('Trust - Frontsheet'!AT163))","v":0},{"$f":"'Trust - Frontsheet'!AC163","v":0},{"$f":"IF(OR('Trust - Frontsheet'!AD163=\"\",'Trust - Frontsheet'!AD163=\"-\"),0,('Trust - Frontsheet'!AD163))","v":0},{"$f":"IF(OR('Trust - Frontsheet'!AE163=\"\",'Trust - Frontsheet'!AE163=\"-\"),0,('Trust - Frontsheet'!AE163))","v":0},{"$f":"IF(OR('Trust - Frontsheet'!AF163=\"\",'Trust - Frontsheet'!AF163=\"-\"),0,('Trust - Frontsheet'!AF163))","v":0},{"$f":"IF(OR('Trust - Frontsheet'!AG163=\"\",'Trust - Frontsheet'!AG163=\"-\"),0,('Trust - Frontsheet'!AG163))","v":0},{"$f":"IF(OR('Trust - Frontsheet'!AH163=\"\",'Trust - Frontsheet'!AH163=\"-\"),0,('Trust - Frontsheet'!AH163))","v":0},{"$f":"IF(OR('Trust - Frontsheet'!AI163=\"\",'Trust - Frontsheet'!AI163=\"-\"),0,('Trust - Frontsheet'!AI163))","v":0},{"$f":"IF(OR('Trust - Frontsheet'!AJ163=\"\",'Trust - Frontsheet'!AJ163=\"-\"),0,('Trust - Frontsheet'!AJ163))","v":0},{"$f":"IF(A151=\"\",\"\",(IF(ISBLANK('Trust - Frontsheet'!F9),\"\",'Trust - Frontsheet'!F9)))","v":""}]
[{"$f":"IF('Trust - Frontsheet'!D164=0,\"\",IF('Trust - Frontsheet'!D164=\"\",\"\",'Trust - Frontsheet'!D164))","v":""},{"$f":"IF(ISBLANK('Trust - Frontsheet'!E164),\"\",'Trust - Frontsheet'!E164)","v":""},{"$f":"IF(ISBLANK('Trust - Frontsheet'!F164),\"\",\"'\" & 'Trust - Frontsheet'!F164 & \"'\")","v":""},{"$f":"IF(ISBLANK('Trust - Frontsheet'!G164),\"\",'Trust - Frontsheet'!G164)","v":""},{"$f":"IF(ISBLANK('Trust - Frontsheet'!H164),\"\",'Trust - Frontsheet'!H164)","v":""},{"$f":"'Trust - Frontsheet'!I164","v":0},{"$f":"'Trust - Frontsheet'!J164","v":0},{"$f":"'Trust - Frontsheet'!K164","v":0},{"$f":"'Trust - Frontsheet'!L164","v":0},{"$f":"'Trust - Frontsheet'!M164","v":0},{"$f":"'Trust - Frontsheet'!N164","v":0},{"$f":"'Trust - Frontsheet'!O164","v":0},{"$f":"'Trust - Frontsheet'!P164","v":0},{"$f":"'Trust - Frontsheet'!Q164","v":0},{"$f":"'Trust - Frontsheet'!R164","v":0},{"$f":"'Trust - Frontsheet'!S164","v":0},{"$f":"'Trust - Frontsheet'!T164","v":0},{"$f":"'Trust - Frontsheet'!U164","v":0},{"$f":"'Trust - Frontsheet'!V164","v":0},{"$f":"'Trust - Frontsheet'!W164","v":0},{"$f":"'Trust - Frontsheet'!X164","v":0},{"$f":"'Trust - Frontsheet'!Y164","v":0},{"$f":"'Trust - Frontsheet'!Z164","v":0},{"$f":"'Trust - Frontsheet'!AA164","v":0},{"$f":"'Trust - Frontsheet'!AB164","v":0},{"$f":"IF(OR('Trust - Frontsheet'!AK164=\"\",'Trust - Frontsheet'!AK164=\"-\"),0,('Trust - Frontsheet'!AK164))","v":0},{"$f":"IF(OR('Trust - Frontsheet'!AL164=\"\",'Trust - Frontsheet'!AL164=\"-\"),0,('Trust - Frontsheet'!AL164))","v":0},{"$f":"IF(OR('Trust - Frontsheet'!AM164=\"\",'Trust - Frontsheet'!AM164=\"-\"),0,('Trust - Frontsheet'!AM164))","v":0},{"$f":"IF(OR('Trust - Frontsheet'!AN164=\"\",'Trust - Frontsheet'!AN164=\"-\"),0,('Trust - Frontsheet'!AN164))","v":0},{"$f":"IF(OR('Trust - Frontsheet'!AO164=\"\",'Trust - Frontsheet'!AO164=\"-\"),0,('Trust - Frontsheet'!AO164))","v":0},{"$f":"IF(OR('Trust - Frontsheet'!AP164=\"\",'Trust - Frontsheet'!AP164=\"-\"),0,('Trust - Frontsheet'!AP164))","v":0},{"$f":"IF(OR('Trust - Frontsheet'!AQ164=\"\",'Trust - Frontsheet'!AQ164=\"-\"),0,('Trust - Frontsheet'!AQ164))","v":0},{"$f":"IF(OR('Trust - Frontsheet'!AR164=\"\",'Trust - Frontsheet'!AR164=\"-\"),0,('Trust - Frontsheet'!AR164))","v":0},{"$f":"IF(OR('Trust - Frontsheet'!AS164=\"\",'Trust - Frontsheet'!AS164=\"-\"),0,('Trust - Frontsheet'!AS164))","v":0},{"$f":"IF(OR('Trust - Frontsheet'!AT164=\"\",'Trust - Frontsheet'!AT164=\"-\"),0,('Trust - Frontsheet'!AT164))","v":0},{"$f":"'Trust - Frontsheet'!AC164","v":0},{"$f":"IF(OR('Trust - Frontsheet'!AD164=\"\",'Trust - Frontsheet'!AD164=\"-\"),0,('Trust - Frontsheet'!AD164))","v":0},{"$f":"IF(OR('Trust - Frontsheet'!AE164=\"\",'Trust - Frontsheet'!AE164=\"-\"),0,('Trust - Frontsheet'!AE164))","v":0},{"$f":"IF(OR('Trust - Frontsheet'!AF164=\"\",'Trust - Frontsheet'!AF164=\"-\"),0,('Trust - Frontsheet'!AF164))","v":0},{"$f":"IF(OR('Trust - Frontsheet'!AG164=\"\",'Trust - Frontsheet'!AG164=\"-\"),0,('Trust - Frontsheet'!AG164))","v":0},{"$f":"IF(OR('Trust - Frontsheet'!AH164=\"\",'Trust - Frontsheet'!AH164=\"-\"),0,('Trust - Frontsheet'!AH164))","v":0},{"$f":"IF(OR('Trust - Frontsheet'!AI164=\"\",'Trust - Frontsheet'!AI164=\"-\"),0,('Trust - Frontsheet'!AI164))","v":0},{"$f":"IF(OR('Trust - Frontsheet'!AJ164=\"\",'Trust - Frontsheet'!AJ164=\"-\"),0,('Trust - Frontsheet'!AJ164))","v":0},{"$f":"IF(A152=\"\",\"\",(IF(ISBLANK('Trust - Frontsheet'!F9),\"\",'Trust - Frontsheet'!F9)))","v":""}]
[{"$f":"IF('Trust - Frontsheet'!D165=0,\"\",IF('Trust - Frontsheet'!D165=\"\",\"\",'Trust - Frontsheet'!D165))","v":""},{"$f":"IF(ISBLANK('Trust - Frontsheet'!E165),\"\",'Trust - Frontsheet'!E165)","v":""},{"$f":"IF(ISBLANK('Trust - Frontsheet'!F165),\"\",\"'\" & 'Trust - Frontsheet'!F165 & \"'\")","v":""},{"$f":"IF(ISBLANK('Trust - Frontsheet'!G165),\"\",'Trust - Frontsheet'!G165)","v":""},{"$f":"IF(ISBLANK('Trust - Frontsheet'!H165),\"\",'Trust - Frontsheet'!H165)","v":""},{"$f":"'Trust - Frontsheet'!I165","v":0},{"$f":"'Trust - Frontsheet'!J165","v":0},{"$f":"'Trust - Frontsheet'!K165","v":0},{"$f":"'Trust - Frontsheet'!L165","v":0},{"$f":"'Trust - Frontsheet'!M165","v":0},{"$f":"'Trust - Frontsheet'!N165","v":0},{"$f":"'Trust - Frontsheet'!O165","v":0},{"$f":"'Trust - Frontsheet'!P165","v":0},{"$f":"'Trust - Frontsheet'!Q165","v":0},{"$f":"'Trust - Frontsheet'!R165","v":0},{"$f":"'Trust - Frontsheet'!S165","v":0},{"$f":"'Trust - Frontsheet'!T165","v":0},{"$f":"'Trust - Frontsheet'!U165","v":0},{"$f":"'Trust - Frontsheet'!V165","v":0},{"$f":"'Trust - Frontsheet'!W165","v":0},{"$f":"'Trust - Frontsheet'!X165","v":0},{"$f":"'Trust - Frontsheet'!Y165","v":0},{"$f":"'Trust - Frontsheet'!Z165","v":0},{"$f":"'Trust - Frontsheet'!AA165","v":0},{"$f":"'Trust - Frontsheet'!AB165","v":0},{"$f":"IF(OR('Trust - Frontsheet'!AK165=\"\",'Trust - Frontsheet'!AK165=\"-\"),0,('Trust - Frontsheet'!AK165))","v":0},{"$f":"IF(OR('Trust - Frontsheet'!AL165=\"\",'Trust - Frontsheet'!AL165=\"-\"),0,('Trust - Frontsheet'!AL165))","v":0},{"$f":"IF(OR('Trust - Frontsheet'!AM165=\"\",'Trust - Frontsheet'!AM165=\"-\"),0,('Trust - Frontsheet'!AM165))","v":0},{"$f":"IF(OR('Trust - Frontsheet'!AN165=\"\",'Trust - Frontsheet'!AN165=\"-\"),0,('Trust - Frontsheet'!AN165))","v":0},{"$f":"IF(OR('Trust - Frontsheet'!AO165=\"\",'Trust - Frontsheet'!AO165=\"-\"),0,('Trust - Frontsheet'!AO165))","v":0},{"$f":"IF(OR('Trust - Frontsheet'!AP165=\"\",'Trust - Frontsheet'!AP165=\"-\"),0,('Trust - Frontsheet'!AP165))","v":0},{"$f":"IF(OR('Trust - Frontsheet'!AQ165=\"\",'Trust - Frontsheet'!AQ165=\"-\"),0,('Trust - Frontsheet'!AQ165))","v":0},{"$f":"IF(OR('Trust - Frontsheet'!AR165=\"\",'Trust - Frontsheet'!AR165=\"-\"),0,('Trust - Frontsheet'!AR165))","v":0},{"$f":"IF(OR('Trust - Frontsheet'!AS165=\"\",'Trust - Frontsheet'!AS165=\"-\"),0,('Trust - Frontsheet'!AS165))","v":0},{"$f":"IF(OR('Trust - Frontsheet'!AT165=\"\",'Trust - Frontsheet'!AT165=\"-\"),0,('Trust - Frontsheet'!AT165))","v":0},{"$f":"'Trust - Frontsheet'!AC165","v":0},{"$f":"IF(OR('Trust - Frontsheet'!AD165=\"\",'Trust - Frontsheet'!AD165=\"-\"),0,('Trust - Frontsheet'!AD165))","v":0},{"$f":"IF(OR('Trust - Frontsheet'!AE165=\"\",'Trust - Frontsheet'!AE165=\"-\"),0,('Trust - Frontsheet'!AE165))","v":0},{"$f":"IF(OR('Trust - Frontsheet'!AF165=\"\",'Trust - Frontsheet'!AF165=\"-\"),0,('Trust - Frontsheet'!AF165))","v":0},{"$f":"IF(OR('Trust - Frontsheet'!AG165=\"\",'Trust - Frontsheet'!AG165=\"-\"),0,('Trust - Frontsheet'!AG165))","v":0},{"$f":"IF(OR('Trust - Frontsheet'!AH165=\"\",'Trust - Frontsheet'!AH165=\"-\"),0,('Trust - Frontsheet'!AH165))","v":0},{"$f":"IF(OR('Trust - Frontsheet'!AI165=\"\",'Trust - Frontsheet'!AI165=\"-\"),0,('Trust - Frontsheet'!AI165))","v":0},{"$f":"IF(OR('Trust - Frontsheet'!AJ165=\"\",'Trust - Frontsheet'!AJ165=\"-\"),0,('Trust - Frontsheet'!AJ165))","v":0},{"$f":"IF(A153=\"\",\"\",(IF(ISBLANK('Trust - Frontsheet'!F9),\"\",'Trust - Frontsheet'!F9)))","v":""}]
[{"$f":"IF('Trust - Frontsheet'!D166=0,\"\",IF('Trust - Frontsheet'!D166=\"\",\"\",'Trust - Frontsheet'!D166))","v":""},{"$f":"IF(ISBLANK('Trust - Frontsheet'!E166),\"\",'Trust - Frontsheet'!E166)","v":""},{"$f":"IF(ISBLANK('Trust - Frontsheet'!F166),\"\",\"'\" & 'Trust - Frontsheet'!F166 & \"'\")","v":""},{"$f":"IF(ISBLANK('Trust - Frontsheet'!G166),\"\",'Trust - Frontsheet'!G166)","v":""},{"$f":"IF(ISBLANK('Trust - Frontsheet'!H166),\"\",'Trust - Frontsheet'!H166)","v":""},{"$f":"'Trust - Frontsheet'!I166","v":0},{"$f":"'Trust - Frontsheet'!J166","v":0},{"$f":"'Trust - Frontsheet'!K166","v":0},{"$f":"'Trust - Frontsheet'!L166","v":0},{"$f":"'Trust - Frontsheet'!M166","v":0},{"$f":"'Trust - Frontsheet'!N166","v":0},{"$f":"'Trust - Frontsheet'!O166","v":0},{"$f":"'Trust - Frontsheet'!P166","v":0},{"$f":"'Trust - Frontsheet'!Q166","v":0},{"$f":"'Trust - Frontsheet'!R166","v":0},{"$f":"'Trust - Frontsheet'!S166","v":0},{"$f":"'Trust - Frontsheet'!T166","v":0},{"$f":"'Trust - Frontsheet'!U166","v":0},{"$f":"'Trust - Frontsheet'!V166","v":0},{"$f":"'Trust - Frontsheet'!W166","v":0},{"$f":"'Trust - Frontsheet'!X166","v":0},{"$f":"'Trust - Frontsheet'!Y166","v":0},{"$f":"'Trust - Frontsheet'!Z166","v":0},{"$f":"'Trust - Frontsheet'!AA166","v":0},{"$f":"'Trust - Frontsheet'!AB166","v":0},{"$f":"IF(OR('Trust - Frontsheet'!AK166=\"\",'Trust - Frontsheet'!AK166=\"-\"),0,('Trust - Frontsheet'!AK166))","v":0},{"$f":"IF(OR('Trust - Frontsheet'!AL166=\"\",'Trust - Frontsheet'!AL166=\"-\"),0,('Trust - Frontsheet'!AL166))","v":0},{"$f":"IF(OR('Trust - Frontsheet'!AM166=\"\",'Trust - Frontsheet'!AM166=\"-\"),0,('Trust - Frontsheet'!AM166))","v":0},{"$f":"IF(OR('Trust - Frontsheet'!AN166=\"\",'Trust - Frontsheet'!AN166=\"-\"),0,('Trust - Frontsheet'!AN166))","v":0},{"$f":"IF(OR('Trust - Frontsheet'!AO166=\"\",'Trust - Frontsheet'!AO166=\"-\"),0,('Trust - Frontsheet'!AO166))","v":0},{"$f":"IF(OR('Trust - Frontsheet'!AP166=\"\",'Trust - Frontsheet'!AP166=\"-\"),0,('Trust - Frontsheet'!AP166))","v":0},{"$f":"IF(OR('Trust - Frontsheet'!AQ166=\"\",'Trust - Frontsheet'!AQ166=\"-\"),0,('Trust - Frontsheet'!AQ166))","v":0},{"$f":"IF(OR('Trust - Frontsheet'!AR166=\"\",'Trust - Frontsheet'!AR166=\"-\"),0,('Trust - Frontsheet'!AR166))","v":0},{"$f":"IF(OR('Trust - Frontsheet'!AS166=\"\",'Trust - Frontsheet'!AS166=\"-\"),0,('Trust - Frontsheet'!AS166))","v":0},{"$f":"IF(OR('Trust - Frontsheet'!AT166=\"\",'Trust - Frontsheet'!AT166=\"-\"),0,('Trust - Frontsheet'!AT166))","v":0},{"$f":"'Trust - Frontsheet'!AC166","v":0},{"$f":"IF(OR('Trust - Frontsheet'!AD166=\"\",'Trust - Frontsheet'!AD166=\"-\"),0,('Trust - Frontsheet'!AD166))","v":0},{"$f":"IF(OR('Trust - Frontsheet'!AE166=\"\",'Trust - Frontsheet'!AE166=\"-\"),0,('Trust - Frontsheet'!AE166))","v":0},{"$f":"IF(OR('Trust - Frontsheet'!AF166=\"\",'Trust - Frontsheet'!AF166=\"-\"),0,('Trust - Frontsheet'!AF166))","v":0},{"$f":"IF(OR('Trust - Frontsheet'!AG166=\"\",'Trust - Frontsheet'!AG166=\"-\"),0,('Trust - Frontsheet'!AG166))","v":0},{"$f":"IF(OR('Trust - Frontsheet'!AH166=\"\",'Trust - Frontsheet'!AH166=\"-\"),0,('Trust - Frontsheet'!AH166))","v":0},{"$f":"IF(OR('Trust - Frontsheet'!AI166=\"\",'Trust - Frontsheet'!AI166=\"-\"),0,('Trust - Frontsheet'!AI166))","v":0},{"$f":"IF(OR('Trust - Frontsheet'!AJ166=\"\",'Trust - Frontsheet'!AJ166=\"-\"),0,('Trust - Frontsheet'!AJ166))","v":0},{"$f":"IF(A154=\"\",\"\",(IF(ISBLANK('Trust - Frontsheet'!F9),\"\",'Trust - Frontsheet'!F9)))","v":""}]
[{"$f":"IF('Trust - Frontsheet'!D167=0,\"\",IF('Trust - Frontsheet'!D167=\"\",\"\",'Trust - Frontsheet'!D167))","v":""},{"$f":"IF(ISBLANK('Trust - Frontsheet'!E167),\"\",'Trust - Frontsheet'!E167)","v":""},{"$f":"IF(ISBLANK('Trust - Frontsheet'!F167),\"\",\"'\" & 'Trust - Frontsheet'!F167 & \"'\")","v":""},{"$f":"IF(ISBLANK('Trust - Frontsheet'!G167),\"\",'Trust - Frontsheet'!G167)","v":""},{"$f":"IF(ISBLANK('Trust - Frontsheet'!H167),\"\",'Trust - Frontsheet'!H167)","v":""},{"$f":"'Trust - Frontsheet'!I167","v":0},{"$f":"'Trust - Frontsheet'!J167","v":0},{"$f":"'Trust - Frontsheet'!K167","v":0},{"$f":"'Trust - Frontsheet'!L167","v":0},{"$f":"'Trust - Frontsheet'!M167","v":0},{"$f":"'Trust - Frontsheet'!N167","v":0},{"$f":"'Trust - Frontsheet'!O167","v":0},{"$f":"'Trust - Frontsheet'!P167","v":0},{"$f":"'Trust - Frontsheet'!Q167","v":0},{"$f":"'Trust - Frontsheet'!R167","v":0},{"$f":"'Trust - Frontsheet'!S167","v":0},{"$f":"'Trust - Frontsheet'!T167","v":0},{"$f":"'Trust - Frontsheet'!U167","v":0},{"$f":"'Trust - Frontsheet'!V167","v":0},{"$f":"'Trust - Frontsheet'!W167","v":0},{"$f":"'Trust - Frontsheet'!X167","v":0},{"$f":"'Trust - Frontsheet'!Y167","v":0},{"$f":"'Trust - Frontsheet'!Z167","v":0},{"$f":"'Trust - Frontsheet'!AA167","v":0},{"$f":"'Trust - Frontsheet'!AB167","v":0},{"$f":"IF(OR('Trust - Frontsheet'!AK167=\"\",'Trust - Frontsheet'!AK167=\"-\"),0,('Trust - Frontsheet'!AK167))","v":0},{"$f":"IF(OR('Trust - Frontsheet'!AL167=\"\",'Trust - Frontsheet'!AL167=\"-\"),0,('Trust - Frontsheet'!AL167))","v":0},{"$f":"IF(OR('Trust - Frontsheet'!AM167=\"\",'Trust - Frontsheet'!AM167=\"-\"),0,('Trust - Frontsheet'!AM167))","v":0},{"$f":"IF(OR('Trust - Frontsheet'!AN167=\"\",'Trust - Frontsheet'!AN167=\"-\"),0,('Trust - Frontsheet'!AN167))","v":0},{"$f":"IF(OR('Trust - Frontsheet'!AO167=\"\",'Trust - Frontsheet'!AO167=\"-\"),0,('Trust - Frontsheet'!AO167))","v":0},{"$f":"IF(OR('Trust - Frontsheet'!AP167=\"\",'Trust - Frontsheet'!AP167=\"-\"),0,('Trust - Frontsheet'!AP167))","v":0},{"$f":"IF(OR('Trust - Frontsheet'!AQ167=\"\",'Trust - Frontsheet'!AQ167=\"-\"),0,('Trust - Frontsheet'!AQ167))","v":0},{"$f":"IF(OR('Trust - Frontsheet'!AR167=\"\",'Trust - Frontsheet'!AR167=\"-\"),0,('Trust - Frontsheet'!AR167))","v":0},{"$f":"IF(OR('Trust - Frontsheet'!AS167=\"\",'Trust - Frontsheet'!AS167=\"-\"),0,('Trust - Frontsheet'!AS167))","v":0},{"$f":"IF(OR('Trust - Frontsheet'!AT167=\"\",'Trust - Frontsheet'!AT167=\"-\"),0,('Trust - Frontsheet'!AT167))","v":0},{"$f":"'Trust - Frontsheet'!AC167","v":0},{"$f":"IF(OR('Trust - Frontsheet'!AD167=\"\",'Trust - Frontsheet'!AD167=\"-\"),0,('Trust - Frontsheet'!AD167))","v":0},{"$f":"IF(OR('Trust - Frontsheet'!AE167=\"\",'Trust - Frontsheet'!AE167=\"-\"),0,('Trust - Frontsheet'!AE167))","v":0},{"$f":"IF(OR('Trust - Frontsheet'!AF167=\"\",'Trust - Frontsheet'!AF167=\"-\"),0,('Trust - Frontsheet'!AF167))","v":0},{"$f":"IF(OR('Trust - Frontsheet'!AG167=\"\",'Trust - Frontsheet'!AG167=\"-\"),0,('Trust - Frontsheet'!AG167))","v":0},{"$f":"IF(OR('Trust - Frontsheet'!AH167=\"\",'Trust - Frontsheet'!AH167=\"-\"),0,('Trust - Frontsheet'!AH167))","v":0},{"$f":"IF(OR('Trust - Frontsheet'!AI167=\"\",'Trust - Frontsheet'!AI167=\"-\"),0,('Trust - Frontsheet'!AI167))","v":0},{"$f":"IF(OR('Trust - Frontsheet'!AJ167=\"\",'Trust - Frontsheet'!AJ167=\"-\"),0,('Trust - Frontsheet'!AJ167))","v":0},{"$f":"IF(A155=\"\",\"\",(IF(ISBLANK('Trust - Frontsheet'!F9),\"\",'Trust - Frontsheet'!F9)))","v":""}]
[{"$f":"IF('Trust - Frontsheet'!D168=0,\"\",IF('Trust - Frontsheet'!D168=\"\",\"\",'Trust - Frontsheet'!D168))","v":""},{"$f":"IF(ISBLANK('Trust - Frontsheet'!E168),\"\",'Trust - Frontsheet'!E168)","v":""},{"$f":"IF(ISBLANK('Trust - Frontsheet'!F168),\"\",\"'\" & 'Trust - Frontsheet'!F168 & \"'\")","v":""},{"$f":"IF(ISBLANK('Trust - Frontsheet'!G168),\"\",'Trust - Frontsheet'!G168)","v":""},{"$f":"IF(ISBLANK('Trust - Frontsheet'!H168),\"\",'Trust - Frontsheet'!H168)","v":""},{"$f":"'Trust - Frontsheet'!I168","v":0},{"$f":"'Trust - Frontsheet'!J168","v":0},{"$f":"'Trust - Frontsheet'!K168","v":0},{"$f":"'Trust - Frontsheet'!L168","v":0},{"$f":"'Trust - Frontsheet'!M168","v":0},{"$f":"'Trust - Frontsheet'!N168","v":0},{"$f":"'Trust - Frontsheet'!O168","v":0},{"$f":"'Trust - Frontsheet'!P168","v":0},{"$f":"'Trust - Frontsheet'!Q168","v":0},{"$f":"'Trust - Frontsheet'!R168","v":0},{"$f":"'Trust - Frontsheet'!S168","v":0},{"$f":"'Trust - Frontsheet'!T168","v":0},{"$f":"'Trust - Frontsheet'!U168","v":0},{"$f":"'Trust - Frontsheet'!V168","v":0},{"$f":"'Trust - Frontsheet'!W168","v":0},{"$f":"'Trust - Frontsheet'!X168","v":0},{"$f":"'Trust - Frontsheet'!Y168","v":0},{"$f":"'Trust - Frontsheet'!Z168","v":0},{"$f":"'Trust - Frontsheet'!AA168","v":0},{"$f":"'Trust - Frontsheet'!AB168","v":0},{"$f":"IF(OR('Trust - Frontsheet'!AK168=\"\",'Trust - Frontsheet'!AK168=\"-\"),0,('Trust - Frontsheet'!AK168))","v":0},{"$f":"IF(OR('Trust - Frontsheet'!AL168=\"\",'Trust - Frontsheet'!AL168=\"-\"),0,('Trust - Frontsheet'!AL168))","v":0},{"$f":"IF(OR('Trust - Frontsheet'!AM168=\"\",'Trust - Frontsheet'!AM168=\"-\"),0,('Trust - Frontsheet'!AM168))","v":0},{"$f":"IF(OR('Trust - Frontsheet'!AN168=\"\",'Trust - Frontsheet'!AN168=\"-\"),0,('Trust - Frontsheet'!AN168))","v":0},{"$f":"IF(OR('Trust - Frontsheet'!AO168=\"\",'Trust - Frontsheet'!AO168=\"-\"),0,('Trust - Frontsheet'!AO168))","v":0},{"$f":"IF(OR('Trust - Frontsheet'!AP168=\"\",'Trust - Frontsheet'!AP168=\"-\"),0,('Trust - Frontsheet'!AP168))","v":0},{"$f":"IF(OR('Trust - Frontsheet'!AQ168=\"\",'Trust - Frontsheet'!AQ168=\"-\"),0,('Trust - Frontsheet'!AQ168))","v":0},{"$f":"IF(OR('Trust - Frontsheet'!AR168=\"\",'Trust - Frontsheet'!AR168=\"-\"),0,('Trust - Frontsheet'!AR168))","v":0},{"$f":"IF(OR('Trust - Frontsheet'!AS168=\"\",'Trust - Frontsheet'!AS168=\"-\"),0,('Trust - Frontsheet'!AS168))","v":0},{"$f":"IF(OR('Trust - Frontsheet'!AT168=\"\",'Trust - Frontsheet'!AT168=\"-\"),0,('Trust - Frontsheet'!AT168))","v":0},{"$f":"'Trust - Frontsheet'!AC168","v":0},{"$f":"IF(OR('Trust - Frontsheet'!AD168=\"\",'Trust - Frontsheet'!AD168=\"-\"),0,('Trust - Frontsheet'!AD168))","v":0},{"$f":"IF(OR('Trust - Frontsheet'!AE168=\"\",'Trust - Frontsheet'!AE168=\"-\"),0,('Trust - Frontsheet'!AE168))","v":0},{"$f":"IF(OR('Trust - Frontsheet'!AF168=\"\",'Trust - Frontsheet'!AF168=\"-\"),0,('Trust - Frontsheet'!AF168))","v":0},{"$f":"IF(OR('Trust - Frontsheet'!AG168=\"\",'Trust - Frontsheet'!AG168=\"-\"),0,('Trust - Frontsheet'!AG168))","v":0},{"$f":"IF(OR('Trust - Frontsheet'!AH168=\"\",'Trust - Frontsheet'!AH168=\"-\"),0,('Trust - Frontsheet'!AH168))","v":0},{"$f":"IF(OR('Trust - Frontsheet'!AI168=\"\",'Trust - Frontsheet'!AI168=\"-\"),0,('Trust - Frontsheet'!AI168))","v":0},{"$f":"IF(OR('Trust - Frontsheet'!AJ168=\"\",'Trust - Frontsheet'!AJ168=\"-\"),0,('Trust - Frontsheet'!AJ168))","v":0},{"$f":"IF(A156=\"\",\"\",(IF(ISBLANK('Trust - Frontsheet'!F9),\"\",'Trust - Frontsheet'!F9)))","v":""}]
[{"$f":"IF('Trust - Frontsheet'!D169=0,\"\",IF('Trust - Frontsheet'!D169=\"\",\"\",'Trust - Frontsheet'!D169))","v":""},{"$f":"IF(ISBLANK('Trust - Frontsheet'!E169),\"\",'Trust - Frontsheet'!E169)","v":""},{"$f":"IF(ISBLANK('Trust - Frontsheet'!F169),\"\",\"'\" & 'Trust - Frontsheet'!F169 & \"'\")","v":""},{"$f":"IF(ISBLANK('Trust - Frontsheet'!G169),\"\",'Trust - Frontsheet'!G169)","v":""},{"$f":"IF(ISBLANK('Trust - Frontsheet'!H169),\"\",'Trust - Frontsheet'!H169)","v":""},{"$f":"'Trust - Frontsheet'!I169","v":0},{"$f":"'Trust - Frontsheet'!J169","v":0},{"$f":"'Trust - Frontsheet'!K169","v":0},{"$f":"'Trust - Frontsheet'!L169","v":0},{"$f":"'Trust - Frontsheet'!M169","v":0},{"$f":"'Trust - Frontsheet'!N169","v":0},{"$f":"'Trust - Frontsheet'!O169","v":0},{"$f":"'Trust - Frontsheet'!P169","v":0},{"$f":"'Trust - Frontsheet'!Q169","v":0},{"$f":"'Trust - Frontsheet'!R169","v":0},{"$f":"'Trust - Frontsheet'!S169","v":0},{"$f":"'Trust - Frontsheet'!T169","v":0},{"$f":"'Trust - Frontsheet'!U169","v":0},{"$f":"'Trust - Frontsheet'!V169","v":0},{"$f":"'Trust - Frontsheet'!W169","v":0},{"$f":"'Trust - Frontsheet'!X169","v":0},{"$f":"'Trust - Frontsheet'!Y169","v":0},{"$f":"'Trust - Frontsheet'!Z169","v":0},{"$f":"'Trust - Frontsheet'!AA169","v":0},{"$f":"'Trust - Frontsheet'!AB169","v":0},{"$f":"IF(OR('Trust - Frontsheet'!AK169=\"\",'Trust - Frontsheet'!AK169=\"-\"),0,('Trust - Frontsheet'!AK169))","v":0},{"$f":"IF(OR('Trust - Frontsheet'!AL169=\"\",'Trust - Frontsheet'!AL169=\"-\"),0,('Trust - Frontsheet'!AL169))","v":0},{"$f":"IF(OR('Trust - Frontsheet'!AM169=\"\",'Trust - Frontsheet'!AM169=\"-\"),0,('Trust - Frontsheet'!AM169))","v":0},{"$f":"IF(OR('Trust - Frontsheet'!AN169=\"\",'Trust - Frontsheet'!AN169=\"-\"),0,('Trust - Frontsheet'!AN169))","v":0},{"$f":"IF(OR('Trust - Frontsheet'!AO169=\"\",'Trust - Frontsheet'!AO169=\"-\"),0,('Trust - Frontsheet'!AO169))","v":0},{"$f":"IF(OR('Trust - Frontsheet'!AP169=\"\",'Trust - Frontsheet'!AP169=\"-\"),0,('Trust - Frontsheet'!AP169))","v":0},{"$f":"IF(OR('Trust - Frontsheet'!AQ169=\"\",'Trust - Frontsheet'!AQ169=\"-\"),0,('Trust - Frontsheet'!AQ169))","v":0},{"$f":"IF(OR('Trust - Frontsheet'!AR169=\"\",'Trust - Frontsheet'!AR169=\"-\"),0,('Trust - Frontsheet'!AR169))","v":0},{"$f":"IF(OR('Trust - Frontsheet'!AS169=\"\",'Trust - Frontsheet'!AS169=\"-\"),0,('Trust - Frontsheet'!AS169))","v":0},{"$f":"IF(OR('Trust - Frontsheet'!AT169=\"\",'Trust - Frontsheet'!AT169=\"-\"),0,('Trust - Frontsheet'!AT169))","v":0},{"$f":"'Trust - Frontsheet'!AC169","v":0},{"$f":"IF(OR('Trust - Frontsheet'!AD169=\"\",'Trust - Frontsheet'!AD169=\"-\"),0,('Trust - Frontsheet'!AD169))","v":0},{"$f":"IF(OR('Trust - Frontsheet'!AE169=\"\",'Trust - Frontsheet'!AE169=\"-\"),0,('Trust - Frontsheet'!AE169))","v":0},{"$f":"IF(OR('Trust - Frontsheet'!AF169=\"\",'Trust - Frontsheet'!AF169=\"-\"),0,('Trust - Frontsheet'!AF169))","v":0},{"$f":"IF(OR('Trust - Frontsheet'!AG169=\"\",'Trust - Frontsheet'!AG169=\"-\"),0,('Trust - Frontsheet'!AG169))","v":0},{"$f":"IF(OR('Trust - Frontsheet'!AH169=\"\",'Trust - Frontsheet'!AH169=\"-\"),0,('Trust - Frontsheet'!AH169))","v":0},{"$f":"IF(OR('Trust - Frontsheet'!AI169=\"\",'Trust - Frontsheet'!AI169=\"-\"),0,('Trust - Frontsheet'!AI169))","v":0},{"$f":"IF(OR('Trust - Frontsheet'!AJ169=\"\",'Trust - Frontsheet'!AJ169=\"-\"),0,('Trust - Frontsheet'!AJ169))","v":0},{"$f":"IF(A157=\"\",\"\",(IF(ISBLANK('Trust - Frontsheet'!F9),\"\",'Trust - Frontsheet'!F9)))","v":""}]
[{"$f":"IF('Trust - Frontsheet'!D170=0,\"\",IF('Trust - Frontsheet'!D170=\"\",\"\",'Trust - Frontsheet'!D170))","v":""},{"$f":"IF(ISBLANK('Trust - Frontsheet'!E170),\"\",'Trust - Frontsheet'!E170)","v":""},{"$f":"IF(ISBLANK('Trust - Frontsheet'!F170),\"\",\"'\" & 'Trust - Frontsheet'!F170 & \"'\")","v":""},{"$f":"IF(ISBLANK('Trust - Frontsheet'!G170),\"\",'Trust - Frontsheet'!G170)","v":""},{"$f":"IF(ISBLANK('Trust - Frontsheet'!H170),\"\",'Trust - Frontsheet'!H170)","v":""},{"$f":"'Trust - Frontsheet'!I170","v":0},{"$f":"'Trust - Frontsheet'!J170","v":0},{"$f":"'Trust - Frontsheet'!K170","v":0},{"$f":"'Trust - Frontsheet'!L170","v":0},{"$f":"'Trust - Frontsheet'!M170","v":0},{"$f":"'Trust - Frontsheet'!N170","v":0},{"$f":"'Trust - Frontsheet'!O170","v":0},{"$f":"'Trust - Frontsheet'!P170","v":0},{"$f":"'Trust - Frontsheet'!Q170","v":0},{"$f":"'Trust - Frontsheet'!R170","v":0},{"$f":"'Trust - Frontsheet'!S170","v":0},{"$f":"'Trust - Frontsheet'!T170","v":0},{"$f":"'Trust - Frontsheet'!U170","v":0},{"$f":"'Trust - Frontsheet'!V170","v":0},{"$f":"'Trust - Frontsheet'!W170","v":0},{"$f":"'Trust - Frontsheet'!X170","v":0},{"$f":"'Trust - Frontsheet'!Y170","v":0},{"$f":"'Trust - Frontsheet'!Z170","v":0},{"$f":"'Trust - Frontsheet'!AA170","v":0},{"$f":"'Trust - Frontsheet'!AB170","v":0},{"$f":"IF(OR('Trust - Frontsheet'!AK170=\"\",'Trust - Frontsheet'!AK170=\"-\"),0,('Trust - Frontsheet'!AK170))","v":0},{"$f":"IF(OR('Trust - Frontsheet'!AL170=\"\",'Trust - Frontsheet'!AL170=\"-\"),0,('Trust - Frontsheet'!AL170))","v":0},{"$f":"IF(OR('Trust - Frontsheet'!AM170=\"\",'Trust - Frontsheet'!AM170=\"-\"),0,('Trust - Frontsheet'!AM170))","v":0},{"$f":"IF(OR('Trust - Frontsheet'!AN170=\"\",'Trust - Frontsheet'!AN170=\"-\"),0,('Trust - Frontsheet'!AN170))","v":0},{"$f":"IF(OR('Trust - Frontsheet'!AO170=\"\",'Trust - Frontsheet'!AO170=\"-\"),0,('Trust - Frontsheet'!AO170))","v":0},{"$f":"IF(OR('Trust - Frontsheet'!AP170=\"\",'Trust - Frontsheet'!AP170=\"-\"),0,('Trust - Frontsheet'!AP170))","v":0},{"$f":"IF(OR('Trust - Frontsheet'!AQ170=\"\",'Trust - Frontsheet'!AQ170=\"-\"),0,('Trust - Frontsheet'!AQ170))","v":0},{"$f":"IF(OR('Trust - Frontsheet'!AR170=\"\",'Trust - Frontsheet'!AR170=\"-\"),0,('Trust - Frontsheet'!AR170))","v":0},{"$f":"IF(OR('Trust - Frontsheet'!AS170=\"\",'Trust - Frontsheet'!AS170=\"-\"),0,('Trust - Frontsheet'!AS170))","v":0},{"$f":"IF(OR('Trust - Frontsheet'!AT170=\"\",'Trust - Frontsheet'!AT170=\"-\"),0,('Trust - Frontsheet'!AT170))","v":0},{"$f":"'Trust - Frontsheet'!AC170","v":0},{"$f":"IF(OR('Trust - Frontsheet'!AD170=\"\",'Trust - Frontsheet'!AD170=\"-\"),0,('Trust - Frontsheet'!AD170))","v":0},{"$f":"IF(OR('Trust - Frontsheet'!AE170=\"\",'Trust - Frontsheet'!AE170=\"-\"),0,('Trust - Frontsheet'!AE170))","v":0},{"$f":"IF(OR('Trust - Frontsheet'!AF170=\"\",'Trust - Frontsheet'!AF170=\"-\"),0,('Trust - Frontsheet'!AF170))","v":0},{"$f":"IF(OR('Trust - Frontsheet'!AG170=\"\",'Trust - Frontsheet'!AG170=\"-\"),0,('Trust - Frontsheet'!AG170))","v":0},{"$f":"IF(OR('Trust - Frontsheet'!AH170=\"\",'Trust - Frontsheet'!AH170=\"-\"),0,('Trust - Frontsheet'!AH170))","v":0},{"$f":"IF(OR('Trust - Frontsheet'!AI170=\"\",'Trust - Frontsheet'!AI170=\"-\"),0,('Trust - Frontsheet'!AI170))","v":0},{"$f":"IF(OR('Trust - Frontsheet'!AJ170=\"\",'Trust - Frontsheet'!AJ170=\"-\"),0,('Trust - Frontsheet'!AJ170))","v":0},{"$f":"IF(A158=\"\",\"\",(IF(ISBLANK('Trust - Frontsheet'!F9),\"\",'Trust - Frontsheet'!F9)))","v":""}]
[{"$f":"IF('Trust - Frontsheet'!D171=0,\"\",IF('Trust - Frontsheet'!D171=\"\",\"\",'Trust - Frontsheet'!D171))","v":""},{"$f":"IF(ISBLANK('Trust - Frontsheet'!E171),\"\",'Trust - Frontsheet'!E171)","v":""},{"$f":"IF(ISBLANK('Trust - Frontsheet'!F171),\"\",\"'\" & 'Trust - Frontsheet'!F171 & \"'\")","v":""},{"$f":"IF(ISBLANK('Trust - Frontsheet'!G171),\"\",'Trust - Frontsheet'!G171)","v":""},{"$f":"IF(ISBLANK('Trust - Frontsheet'!H171),\"\",'Trust - Frontsheet'!H171)","v":""},{"$f":"'Trust - Frontsheet'!I171","v":0},{"$f":"'Trust - Frontsheet'!J171","v":0},{"$f":"'Trust - Frontsheet'!K171","v":0},{"$f":"'Trust - Frontsheet'!L171","v":0},{"$f":"'Trust - Frontsheet'!M171","v":0},{"$f":"'Trust - Frontsheet'!N171","v":0},{"$f":"'Trust - Frontsheet'!O171","v":0},{"$f":"'Trust - Frontsheet'!P171","v":0},{"$f":"'Trust - Frontsheet'!Q171","v":0},{"$f":"'Trust - Frontsheet'!R171","v":0},{"$f":"'Trust - Frontsheet'!S171","v":0},{"$f":"'Trust - Frontsheet'!T171","v":0},{"$f":"'Trust - Frontsheet'!U171","v":0},{"$f":"'Trust - Frontsheet'!V171","v":0},{"$f":"'Trust - Frontsheet'!W171","v":0},{"$f":"'Trust - Frontsheet'!X171","v":0},{"$f":"'Trust - Frontsheet'!Y171","v":0},{"$f":"'Trust - Frontsheet'!Z171","v":0},{"$f":"'Trust - Frontsheet'!AA171","v":0},{"$f":"'Trust - Frontsheet'!AB171","v":0},{"$f":"IF(OR('Trust - Frontsheet'!AK171=\"\",'Trust - Frontsheet'!AK171=\"-\"),0,('Trust - Frontsheet'!AK171))","v":0},{"$f":"IF(OR('Trust - Frontsheet'!AL171=\"\",'Trust - Frontsheet'!AL171=\"-\"),0,('Trust - Frontsheet'!AL171))","v":0},{"$f":"IF(OR('Trust - Frontsheet'!AM171=\"\",'Trust - Frontsheet'!AM171=\"-\"),0,('Trust - Frontsheet'!AM171))","v":0},{"$f":"IF(OR('Trust - Frontsheet'!AN171=\"\",'Trust - Frontsheet'!AN171=\"-\"),0,('Trust - Frontsheet'!AN171))","v":0},{"$f":"IF(OR('Trust - Frontsheet'!AO171=\"\",'Trust - Frontsheet'!AO171=\"-\"),0,('Trust - Frontsheet'!AO171))","v":0},{"$f":"IF(OR('Trust - Frontsheet'!AP171=\"\",'Trust - Frontsheet'!AP171=\"-\"),0,('Trust - Frontsheet'!AP171))","v":0},{"$f":"IF(OR('Trust - Frontsheet'!AQ171=\"\",'Trust - Frontsheet'!AQ171=\"-\"),0,('Trust - Frontsheet'!AQ171))","v":0},{"$f":"IF(OR('Trust - Frontsheet'!AR171=\"\",'Trust - Frontsheet'!AR171=\"-\"),0,('Trust - Frontsheet'!AR171))","v":0},{"$f":"IF(OR('Trust - Frontsheet'!AS171=\"\",'Trust - Frontsheet'!AS171=\"-\"),0,('Trust - Frontsheet'!AS171))","v":0},{"$f":"IF(OR('Trust - Frontsheet'!AT171=\"\",'Trust - Frontsheet'!AT171=\"-\"),0,('Trust - Frontsheet'!AT171))","v":0},{"$f":"'Trust - Frontsheet'!AC171","v":0},{"$f":"IF(OR('Trust - Frontsheet'!AD171=\"\",'Trust - Frontsheet'!AD171=\"-\"),0,('Trust - Frontsheet'!AD171))","v":0},{"$f":"IF(OR('Trust - Frontsheet'!AE171=\"\",'Trust - Frontsheet'!AE171=\"-\"),0,('Trust - Frontsheet'!AE171))","v":0},{"$f":"IF(OR('Trust - Frontsheet'!AF171=\"\",'Trust - Frontsheet'!AF171=\"-\"),0,('Trust - Frontsheet'!AF171))","v":0},{"$f":"IF(OR('Trust - Frontsheet'!AG171=\"\",'Trust - Frontsheet'!AG171=\"-\"),0,('Trust - Frontsheet'!AG171))","v":0},{"$f":"IF(OR('Trust - Frontsheet'!AH171=\"\",'Trust - Frontsheet'!AH171=\"-\"),0,('Trust - Frontsheet'!AH171))","v":0},{"$f":"IF(OR('Trust - Frontsheet'!AI171=\"\",'Trust - Frontsheet'!AI171=\"-\"),0,('Trust - Frontsheet'!AI171))","v":0},{"$f":"IF(OR('Trust - Frontsheet'!AJ171=\"\",'Trust - Frontsheet'!AJ171=\"-\"),0,('Trust - Frontsheet'!AJ171))","v":0},{"$f":"IF(A159=\"\",\"\",(IF(ISBLANK('Trust - Frontsheet'!F9),\"\",'Trust - Frontsheet'!F9)))","v":""}]
[{"$f":"IF('Trust - Frontsheet'!D172=0,\"\",IF('Trust - Frontsheet'!D172=\"\",\"\",'Trust - Frontsheet'!D172))","v":""},{"$f":"IF(ISBLANK('Trust - Frontsheet'!E172),\"\",'Trust - Frontsheet'!E172)","v":""},{"$f":"IF(ISBLANK('Trust - Frontsheet'!F172),\"\",\"'\" & 'Trust - Frontsheet'!F172 & \"'\")","v":""},{"$f":"IF(ISBLANK('Trust - Frontsheet'!G172),\"\",'Trust - Frontsheet'!G172)","v":""},{"$f":"IF(ISBLANK('Trust - Frontsheet'!H172),\"\",'Trust - Frontsheet'!H172)","v":""},{"$f":"'Trust - Frontsheet'!I172","v":0},{"$f":"'Trust - Frontsheet'!J172","v":0},{"$f":"'Trust - Frontsheet'!K172","v":0},{"$f":"'Trust - Frontsheet'!L172","v":0},{"$f":"'Trust - Frontsheet'!M172","v":0},{"$f":"'Trust - Frontsheet'!N172","v":0},{"$f":"'Trust - Frontsheet'!O172","v":0},{"$f":"'Trust - Frontsheet'!P172","v":0},{"$f":"'Trust - Frontsheet'!Q172","v":0},{"$f":"'Trust - Frontsheet'!R172","v":0},{"$f":"'Trust - Frontsheet'!S172","v":0},{"$f":"'Trust - Frontsheet'!T172","v":0},{"$f":"'Trust - Frontsheet'!U172","v":0},{"$f":"'Trust - Frontsheet'!V172","v":0},{"$f":"'Trust - Frontsheet'!W172","v":0},{"$f":"'Trust - Frontsheet'!X172","v":0},{"$f":"'Trust - Frontsheet'!Y172","v":0},{"$f":"'Trust - Frontsheet'!Z172","v":0},{"$f":"'Trust - Frontsheet'!AA172","v":0},{"$f":"'Trust - Frontsheet'!AB172","v":0},{"$f":"IF(OR('Trust - Frontsheet'!AK172=\"\",'Trust - Frontsheet'!AK172=\"-\"),0,('Trust - Frontsheet'!AK172))","v":0},{"$f":"IF(OR('Trust - Frontsheet'!AL172=\"\",'Trust - Frontsheet'!AL172=\"-\"),0,('Trust - Frontsheet'!AL172))","v":0},{"$f":"IF(OR('Trust - Frontsheet'!AM172=\"\",'Trust - Frontsheet'!AM172=\"-\"),0,('Trust - Frontsheet'!AM172))","v":0},{"$f":"IF(OR('Trust - Frontsheet'!AN172=\"\",'Trust - Frontsheet'!AN172=\"-\"),0,('Trust - Frontsheet'!AN172))","v":0},{"$f":"IF(OR('Trust - Frontsheet'!AO172=\"\",'Trust - Frontsheet'!AO172=\"-\"),0,('Trust - Frontsheet'!AO172))","v":0},{"$f":"IF(OR('Trust - Frontsheet'!AP172=\"\",'Trust - Frontsheet'!AP172=\"-\"),0,('Trust - Frontsheet'!AP172))","v":0},{"$f":"IF(OR('Trust - Frontsheet'!AQ172=\"\",'Trust - Frontsheet'!AQ172=\"-\"),0,('Trust - Frontsheet'!AQ172))","v":0},{"$f":"IF(OR('Trust - Frontsheet'!AR172=\"\",'Trust - Frontsheet'!AR172=\"-\"),0,('Trust - Frontsheet'!AR172))","v":0},{"$f":"IF(OR('Trust - Frontsheet'!AS172=\"\",'Trust - Frontsheet'!AS172=\"-\"),0,('Trust - Frontsheet'!AS172))","v":0},{"$f":"IF(OR('Trust - Frontsheet'!AT172=\"\",'Trust - Frontsheet'!AT172=\"-\"),0,('Trust - Frontsheet'!AT172))","v":0},{"$f":"'Trust - Frontsheet'!AC172","v":0},{"$f":"IF(OR('Trust - Frontsheet'!AD172=\"\",'Trust - Frontsheet'!AD172=\"-\"),0,('Trust - Frontsheet'!AD172))","v":0},{"$f":"IF(OR('Trust - Frontsheet'!AE172=\"\",'Trust - Frontsheet'!AE172=\"-\"),0,('Trust - Frontsheet'!AE172))","v":0},{"$f":"IF(OR('Trust - Frontsheet'!AF172=\"\",'Trust - Frontsheet'!AF172=\"-\"),0,('Trust - Frontsheet'!AF172))","v":0},{"$f":"IF(OR('Trust - Frontsheet'!AG172=\"\",'Trust - Frontsheet'!AG172=\"-\"),0,('Trust - Frontsheet'!AG172))","v":0},{"$f":"IF(OR('Trust - Frontsheet'!AH172=\"\",'Trust - Frontsheet'!AH172=\"-\"),0,('Trust - Frontsheet'!AH172))","v":0},{"$f":"IF(OR('Trust - Frontsheet'!AI172=\"\",'Trust - Frontsheet'!AI172=\"-\"),0,('Trust - Frontsheet'!AI172))","v":0},{"$f":"IF(OR('Trust - Frontsheet'!AJ172=\"\",'Trust - Frontsheet'!AJ172=\"-\"),0,('Trust - Frontsheet'!AJ172))","v":0},{"$f":"IF(A160=\"\",\"\",(IF(ISBLANK('Trust - Frontsheet'!F9),\"\",'Trust - Frontsheet'!F9)))","v":""}]
[{"$f":"IF('Trust - Frontsheet'!D173=0,\"\",IF('Trust - Frontsheet'!D173=\"\",\"\",'Trust - Frontsheet'!D173))","v":""},{"$f":"IF(ISBLANK('Trust - Frontsheet'!E173),\"\",'Trust - Frontsheet'!E173)","v":""},{"$f":"IF(ISBLANK('Trust - Frontsheet'!F173),\"\",\"'\" & 'Trust - Frontsheet'!F173 & \"'\")","v":""},{"$f":"IF(ISBLANK('Trust - Frontsheet'!G173),\"\",'Trust - Frontsheet'!G173)","v":""},{"$f":"IF(ISBLANK('Trust - Frontsheet'!H173),\"\",'Trust - Frontsheet'!H173)","v":""},{"$f":"'Trust - Frontsheet'!I173","v":0},{"$f":"'Trust - Frontsheet'!J173","v":0},{"$f":"'Trust - Frontsheet'!K173","v":0},{"$f":"'Trust - Frontsheet'!L173","v":0},{"$f":"'Trust - Frontsheet'!M173","v":0},{"$f":"'Trust - Frontsheet'!N173","v":0},{"$f":"'Trust - Frontsheet'!O173","v":0},{"$f":"'Trust - Frontsheet'!P173","v":0},{"$f":"'Trust - Frontsheet'!Q173","v":0},{"$f":"'Trust - Frontsheet'!R173","v":0},{"$f":"'Trust - Frontsheet'!S173","v":0},{"$f":"'Trust - Frontsheet'!T173","v":0},{"$f":"'Trust - Frontsheet'!U173","v":0},{"$f":"'Trust - Frontsheet'!V173","v":0},{"$f":"'Trust - Frontsheet'!W173","v":0},{"$f":"'Trust - Frontsheet'!X173","v":0},{"$f":"'Trust - Frontsheet'!Y173","v":0},{"$f":"'Trust - Frontsheet'!Z173","v":0},{"$f":"'Trust - Frontsheet'!AA173","v":0},{"$f":"'Trust - Frontsheet'!AB173","v":0},{"$f":"IF(OR('Trust - Frontsheet'!AK173=\"\",'Trust - Frontsheet'!AK173=\"-\"),0,('Trust - Frontsheet'!AK173))","v":0},{"$f":"IF(OR('Trust - Frontsheet'!AL173=\"\",'Trust - Frontsheet'!AL173=\"-\"),0,('Trust - Frontsheet'!AL173))","v":0},{"$f":"IF(OR('Trust - Frontsheet'!AM173=\"\",'Trust - Frontsheet'!AM173=\"-\"),0,('Trust - Frontsheet'!AM173))","v":0},{"$f":"IF(OR('Trust - Frontsheet'!AN173=\"\",'Trust - Frontsheet'!AN173=\"-\"),0,('Trust - Frontsheet'!AN173))","v":0},{"$f":"IF(OR('Trust - Frontsheet'!AO173=\"\",'Trust - Frontsheet'!AO173=\"-\"),0,('Trust - Frontsheet'!AO173))","v":0},{"$f":"IF(OR('Trust - Frontsheet'!AP173=\"\",'Trust - Frontsheet'!AP173=\"-\"),0,('Trust - Frontsheet'!AP173))","v":0},{"$f":"IF(OR('Trust - Frontsheet'!AQ173=\"\",'Trust - Frontsheet'!AQ173=\"-\"),0,('Trust - Frontsheet'!AQ173))","v":0},{"$f":"IF(OR('Trust - Frontsheet'!AR173=\"\",'Trust - Frontsheet'!AR173=\"-\"),0,('Trust - Frontsheet'!AR173))","v":0},{"$f":"IF(OR('Trust - Frontsheet'!AS173=\"\",'Trust - Frontsheet'!AS173=\"-\"),0,('Trust - Frontsheet'!AS173))","v":0},{"$f":"IF(OR('Trust - Frontsheet'!AT173=\"\",'Trust - Frontsheet'!AT173=\"-\"),0,('Trust - Frontsheet'!AT173))","v":0},{"$f":"'Trust - Frontsheet'!AC173","v":0},{"$f":"IF(OR('Trust - Frontsheet'!AD173=\"\",'Trust - Frontsheet'!AD173=\"-\"),0,('Trust - Frontsheet'!AD173))","v":0},{"$f":"IF(OR('Trust - Frontsheet'!AE173=\"\",'Trust - Frontsheet'!AE173=\"-\"),0,('Trust - Frontsheet'!AE173))","v":0},{"$f":"IF(OR('Trust - Frontsheet'!AF173=\"\",'Trust - Frontsheet'!AF173=\"-\"),0,('Trust - Frontsheet'!AF173))","v":0},{"$f":"IF(OR('Trust - Frontsheet'!AG173=\"\",'Trust - Frontsheet'!AG173=\"-\"),0,('Trust - Frontsheet'!AG173))","v":0},{"$f":"IF(OR('Trust - Frontsheet'!AH173=\"\",'Trust - Frontsheet'!AH173=\"-\"),0,('Trust - Frontsheet'!AH173))","v":0},{"$f":"IF(OR('Trust - Frontsheet'!AI173=\"\",'Trust - Frontsheet'!AI173=\"-\"),0,('Trust - Frontsheet'!AI173))","v":0},{"$f":"IF(OR('Trust - Frontsheet'!AJ173=\"\",'Trust - Frontsheet'!AJ173=\"-\"),0,('Trust - Frontsheet'!AJ173))","v":0},{"$f":"IF(A161=\"\",\"\",(IF(ISBLANK('Trust - Frontsheet'!F9),\"\",'Trust - Frontsheet'!F9)))","v":""}]
[{"$f":"IF('Trust - Frontsheet'!D174=0,\"\",IF('Trust - Frontsheet'!D174=\"\",\"\",'Trust - Frontsheet'!D174))","v":""},{"$f":"IF(ISBLANK('Trust - Frontsheet'!E174),\"\",'Trust - Frontsheet'!E174)","v":""},{"$f":"IF(ISBLANK('Trust - Frontsheet'!F174),\"\",\"'\" & 'Trust - Frontsheet'!F174 & \"'\")","v":""},{"$f":"IF(ISBLANK('Trust - Frontsheet'!G174),\"\",'Trust - Frontsheet'!G174)","v":""},{"$f":"IF(ISBLANK('Trust - Frontsheet'!H174),\"\",'Trust - Frontsheet'!H174)","v":""},{"$f":"'Trust - Frontsheet'!I174","v":0},{"$f":"'Trust - Frontsheet'!J174","v":0},{"$f":"'Trust - Frontsheet'!K174","v":0},{"$f":"'Trust - Frontsheet'!L174","v":0},{"$f":"'Trust - Frontsheet'!M174","v":0},{"$f":"'Trust - Frontsheet'!N174","v":0},{"$f":"'Trust - Frontsheet'!O174","v":0},{"$f":"'Trust - Frontsheet'!P174","v":0},{"$f":"'Trust - Frontsheet'!Q174","v":0},{"$f":"'Trust - Frontsheet'!R174","v":0},{"$f":"'Trust - Frontsheet'!S174","v":0},{"$f":"'Trust - Frontsheet'!T174","v":0},{"$f":"'Trust - Frontsheet'!U174","v":0},{"$f":"'Trust - Frontsheet'!V174","v":0},{"$f":"'Trust - Frontsheet'!W174","v":0},{"$f":"'Trust - Frontsheet'!X174","v":0},{"$f":"'Trust - Frontsheet'!Y174","v":0},{"$f":"'Trust - Frontsheet'!Z174","v":0},{"$f":"'Trust - Frontsheet'!AA174","v":0},{"$f":"'Trust - Frontsheet'!AB174","v":0},{"$f":"IF(OR('Trust - Frontsheet'!AK174=\"\",'Trust - Frontsheet'!AK174=\"-\"),0,('Trust - Frontsheet'!AK174))","v":0},{"$f":"IF(OR('Trust - Frontsheet'!AL174=\"\",'Trust - Frontsheet'!AL174=\"-\"),0,('Trust - Frontsheet'!AL174))","v":0},{"$f":"IF(OR('Trust - Frontsheet'!AM174=\"\",'Trust - Frontsheet'!AM174=\"-\"),0,('Trust - Frontsheet'!AM174))","v":0},{"$f":"IF(OR('Trust - Frontsheet'!AN174=\"\",'Trust - Frontsheet'!AN174=\"-\"),0,('Trust - Frontsheet'!AN174))","v":0},{"$f":"IF(OR('Trust - Frontsheet'!AO174=\"\",'Trust - Frontsheet'!AO174=\"-\"),0,('Trust - Frontsheet'!AO174))","v":0},{"$f":"IF(OR('Trust - Frontsheet'!AP174=\"\",'Trust - Frontsheet'!AP174=\"-\"),0,('Trust - Frontsheet'!AP174))","v":0},{"$f":"IF(OR('Trust - Frontsheet'!AQ174=\"\",'Trust - Frontsheet'!AQ174=\"-\"),0,('Trust - Frontsheet'!AQ174))","v":0},{"$f":"IF(OR('Trust - Frontsheet'!AR174=\"\",'Trust - Frontsheet'!AR174=\"-\"),0,('Trust - Frontsheet'!AR174))","v":0},{"$f":"IF(OR('Trust - Frontsheet'!AS174=\"\",'Trust - Frontsheet'!AS174=\"-\"),0,('Trust - Frontsheet'!AS174))","v":0},{"$f":"IF(OR('Trust - Frontsheet'!AT174=\"\",'Trust - Frontsheet'!AT174=\"-\"),0,('Trust - Frontsheet'!AT174))","v":0},{"$f":"'Trust - Frontsheet'!AC174","v":0},{"$f":"IF(OR('Trust - Frontsheet'!AD174=\"\",'Trust - Frontsheet'!AD174=\"-\"),0,('Trust - Frontsheet'!AD174))","v":0},{"$f":"IF(OR('Trust - Frontsheet'!AE174=\"\",'Trust - Frontsheet'!AE174=\"-\"),0,('Trust - Frontsheet'!AE174))","v":0},{"$f":"IF(OR('Trust - Frontsheet'!AF174=\"\",'Trust - Frontsheet'!AF174=\"-\"),0,('Trust - Frontsheet'!AF174))","v":0},{"$f":"IF(OR('Trust - Frontsheet'!AG174=\"\",'Trust - Frontsheet'!AG174=\"-\"),0,('Trust - Frontsheet'!AG174))","v":0},{"$f":"IF(OR('Trust - Frontsheet'!AH174=\"\",'Trust - Frontsheet'!AH174=\"-\"),0,('Trust - Frontsheet'!AH174))","v":0},{"$f":"IF(OR('Trust - Frontsheet'!AI174=\"\",'Trust - Frontsheet'!AI174=\"-\"),0,('Trust - Frontsheet'!AI174))","v":0},{"$f":"IF(OR('Trust - Frontsheet'!AJ174=\"\",'Trust - Frontsheet'!AJ174=\"-\"),0,('Trust - Frontsheet'!AJ174))","v":0},{"$f":"IF(A162=\"\",\"\",(IF(ISBLANK('Trust - Frontsheet'!F9),\"\",'Trust - Frontsheet'!F9)))","v":""}]
[{"$f":"IF('Trust - Frontsheet'!D175=0,\"\",IF('Trust - Frontsheet'!D175=\"\",\"\",'Trust - Frontsheet'!D175))","v":""},{"$f":"IF(ISBLANK('Trust - Frontsheet'!E175),\"\",'Trust - Frontsheet'!E175)","v":""},{"$f":"IF(ISBLANK('Trust - Frontsheet'!F175),\"\",\"'\" & 'Trust - Frontsheet'!F175 & \"'\")","v":""},{"$f":"IF(ISBLANK('Trust - Frontsheet'!G175),\"\",'Trust - Frontsheet'!G175)","v":""},{"$f":"IF(ISBLANK('Trust - Frontsheet'!H175),\"\",'Trust - Frontsheet'!H175)","v":""},{"$f":"'Trust - Frontsheet'!I175","v":0},{"$f":"'Trust - Frontsheet'!J175","v":0},{"$f":"'Trust - Frontsheet'!K175","v":0},{"$f":"'Trust - Frontsheet'!L175","v":0},{"$f":"'Trust - Frontsheet'!M175","v":0},{"$f":"'Trust - Frontsheet'!N175","v":0},{"$f":"'Trust - Frontsheet'!O175","v":0},{"$f":"'Trust - Frontsheet'!P175","v":0},{"$f":"'Trust - Frontsheet'!Q175","v":0},{"$f":"'Trust - Frontsheet'!R175","v":0},{"$f":"'Trust - Frontsheet'!S175","v":0},{"$f":"'Trust - Frontsheet'!T175","v":0},{"$f":"'Trust - Frontsheet'!U175","v":0},{"$f":"'Trust - Frontsheet'!V175","v":0},{"$f":"'Trust - Frontsheet'!W175","v":0},{"$f":"'Trust - Frontsheet'!X175","v":0},{"$f":"'Trust - Frontsheet'!Y175","v":0},{"$f":"'Trust - Frontsheet'!Z175","v":0},{"$f":"'Trust - Frontsheet'!AA175","v":0},{"$f":"'Trust - Frontsheet'!AB175","v":0},{"$f":"IF(OR('Trust - Frontsheet'!AK175=\"\",'Trust - Frontsheet'!AK175=\"-\"),0,('Trust - Frontsheet'!AK175))","v":0},{"$f":"IF(OR('Trust - Frontsheet'!AL175=\"\",'Trust - Frontsheet'!AL175=\"-\"),0,('Trust - Frontsheet'!AL175))","v":0},{"$f":"IF(OR('Trust - Frontsheet'!AM175=\"\",'Trust - Frontsheet'!AM175=\"-\"),0,('Trust - Frontsheet'!AM175))","v":0},{"$f":"IF(OR('Trust - Frontsheet'!AN175=\"\",'Trust - Frontsheet'!AN175=\"-\"),0,('Trust - Frontsheet'!AN175))","v":0},{"$f":"IF(OR('Trust - Frontsheet'!AO175=\"\",'Trust - Frontsheet'!AO175=\"-\"),0,('Trust - Frontsheet'!AO175))","v":0},{"$f":"IF(OR('Trust - Frontsheet'!AP175=\"\",'Trust - Frontsheet'!AP175=\"-\"),0,('Trust - Frontsheet'!AP175))","v":0},{"$f":"IF(OR('Trust - Frontsheet'!AQ175=\"\",'Trust - Frontsheet'!AQ175=\"-\"),0,('Trust - Frontsheet'!AQ175))","v":0},{"$f":"IF(OR('Trust - Frontsheet'!AR175=\"\",'Trust - Frontsheet'!AR175=\"-\"),0,('Trust - Frontsheet'!AR175))","v":0},{"$f":"IF(OR('Trust - Frontsheet'!AS175=\"\",'Trust - Frontsheet'!AS175=\"-\"),0,('Trust - Frontsheet'!AS175))","v":0},{"$f":"IF(OR('Trust - Frontsheet'!AT175=\"\",'Trust - Frontsheet'!AT175=\"-\"),0,('Trust - Frontsheet'!AT175))","v":0},{"$f":"'Trust - Frontsheet'!AC175","v":0},{"$f":"IF(OR('Trust - Frontsheet'!AD175=\"\",'Trust - Frontsheet'!AD175=\"-\"),0,('Trust - Frontsheet'!AD175))","v":0},{"$f":"IF(OR('Trust - Frontsheet'!AE175=\"\",'Trust - Frontsheet'!AE175=\"-\"),0,('Trust - Frontsheet'!AE175))","v":0},{"$f":"IF(OR('Trust - Frontsheet'!AF175=\"\",'Trust - Frontsheet'!AF175=\"-\"),0,('Trust - Frontsheet'!AF175))","v":0},{"$f":"IF(OR('Trust - Frontsheet'!AG175=\"\",'Trust - Frontsheet'!AG175=\"-\"),0,('Trust - Frontsheet'!AG175))","v":0},{"$f":"IF(OR('Trust - Frontsheet'!AH175=\"\",'Trust - Frontsheet'!AH175=\"-\"),0,('Trust - Frontsheet'!AH175))","v":0},{"$f":"IF(OR('Trust - Frontsheet'!AI175=\"\",'Trust - Frontsheet'!AI175=\"-\"),0,('Trust - Frontsheet'!AI175))","v":0},{"$f":"IF(OR('Trust - Frontsheet'!AJ175=\"\",'Trust - Frontsheet'!AJ175=\"-\"),0,('Trust - Frontsheet'!AJ175))","v":0},{"$f":"IF(A163=\"\",\"\",(IF(ISBLANK('Trust - Frontsheet'!F9),\"\",'Trust - Frontsheet'!F9)))","v":""}]
[{"$f":"IF('Trust - Frontsheet'!D176=0,\"\",IF('Trust - Frontsheet'!D176=\"\",\"\",'Trust - Frontsheet'!D176))","v":""},{"$f":"IF(ISBLANK('Trust - Frontsheet'!E176),\"\",'Trust - Frontsheet'!E176)","v":""},{"$f":"IF(ISBLANK('Trust - Frontsheet'!F176),\"\",\"'\" & 'Trust - Frontsheet'!F176 & \"'\")","v":""},{"$f":"IF(ISBLANK('Trust - Frontsheet'!G176),\"\",'Trust - Frontsheet'!G176)","v":""},{"$f":"IF(ISBLANK('Trust - Frontsheet'!H176),\"\",'Trust - Frontsheet'!H176)","v":""},{"$f":"'Trust - Frontsheet'!I176","v":0},{"$f":"'Trust - Frontsheet'!J176","v":0},{"$f":"'Trust - Frontsheet'!K176","v":0},{"$f":"'Trust - Frontsheet'!L176","v":0},{"$f":"'Trust - Frontsheet'!M176","v":0},{"$f":"'Trust - Frontsheet'!N176","v":0},{"$f":"'Trust - Frontsheet'!O176","v":0},{"$f":"'Trust - Frontsheet'!P176","v":0},{"$f":"'Trust - Frontsheet'!Q176","v":0},{"$f":"'Trust - Frontsheet'!R176","v":0},{"$f":"'Trust - Frontsheet'!S176","v":0},{"$f":"'Trust - Frontsheet'!T176","v":0},{"$f":"'Trust - Frontsheet'!U176","v":0},{"$f":"'Trust - Frontsheet'!V176","v":0},{"$f":"'Trust - Frontsheet'!W176","v":0},{"$f":"'Trust - Frontsheet'!X176","v":0},{"$f":"'Trust - Frontsheet'!Y176","v":0},{"$f":"'Trust - Frontsheet'!Z176","v":0},{"$f":"'Trust - Frontsheet'!AA176","v":0},{"$f":"'Trust - Frontsheet'!AB176","v":0},{"$f":"IF(OR('Trust - Frontsheet'!AK176=\"\",'Trust - Frontsheet'!AK176=\"-\"),0,('Trust - Frontsheet'!AK176))","v":0},{"$f":"IF(OR('Trust - Frontsheet'!AL176=\"\",'Trust - Frontsheet'!AL176=\"-\"),0,('Trust - Frontsheet'!AL176))","v":0},{"$f":"IF(OR('Trust - Frontsheet'!AM176=\"\",'Trust - Frontsheet'!AM176=\"-\"),0,('Trust - Frontsheet'!AM176))","v":0},{"$f":"IF(OR('Trust - Frontsheet'!AN176=\"\",'Trust - Frontsheet'!AN176=\"-\"),0,('Trust - Frontsheet'!AN176))","v":0},{"$f":"IF(OR('Trust - Frontsheet'!AO176=\"\",'Trust - Frontsheet'!AO176=\"-\"),0,('Trust - Frontsheet'!AO176))","v":0},{"$f":"IF(OR('Trust - Frontsheet'!AP176=\"\",'Trust - Frontsheet'!AP176=\"-\"),0,('Trust - Frontsheet'!AP176))","v":0},{"$f":"IF(OR('Trust - Frontsheet'!AQ176=\"\",'Trust - Frontsheet'!AQ176=\"-\"),0,('Trust - Frontsheet'!AQ176))","v":0},{"$f":"IF(OR('Trust - Frontsheet'!AR176=\"\",'Trust - Frontsheet'!AR176=\"-\"),0,('Trust - Frontsheet'!AR176))","v":0},{"$f":"IF(OR('Trust - Frontsheet'!AS176=\"\",'Trust - Frontsheet'!AS176=\"-\"),0,('Trust - Frontsheet'!AS176))","v":0},{"$f":"IF(OR('Trust - Frontsheet'!AT176=\"\",'Trust - Frontsheet'!AT176=\"-\"),0,('Trust - Frontsheet'!AT176))","v":0},{"$f":"'Trust - Frontsheet'!AC176","v":0},{"$f":"IF(OR('Trust - Frontsheet'!AD176=\"\",'Trust - Frontsheet'!AD176=\"-\"),0,('Trust - Frontsheet'!AD176))","v":0},{"$f":"IF(OR('Trust - Frontsheet'!AE176=\"\",'Trust - Frontsheet'!AE176=\"-\"),0,('Trust - Frontsheet'!AE176))","v":0},{"$f":"IF(OR('Trust - Frontsheet'!AF176=\"\",'Trust - Frontsheet'!AF176=\"-\"),0,('Trust - Frontsheet'!AF176))","v":0},{"$f":"IF(OR('Trust - Frontsheet'!AG176=\"\",'Trust - Frontsheet'!AG176=\"-\"),0,('Trust - Frontsheet'!AG176))","v":0},{"$f":"IF(OR('Trust - Frontsheet'!AH176=\"\",'Trust - Frontsheet'!AH176=\"-\"),0,('Trust - Frontsheet'!AH176))","v":0},{"$f":"IF(OR('Trust - Frontsheet'!AI176=\"\",'Trust - Frontsheet'!AI176=\"-\"),0,('Trust - Frontsheet'!AI176))","v":0},{"$f":"IF(OR('Trust - Frontsheet'!AJ176=\"\",'Trust - Frontsheet'!AJ176=\"-\"),0,('Trust - Frontsheet'!AJ176))","v":0},{"$f":"IF(A164=\"\",\"\",(IF(ISBLANK('Trust - Frontsheet'!F9),\"\",'Trust - Frontsheet'!F9)))","v":""}]
[{"$f":"IF('Trust - Frontsheet'!D177=0,\"\",IF('Trust - Frontsheet'!D177=\"\",\"\",'Trust - Frontsheet'!D177))","v":""},{"$f":"IF(ISBLANK('Trust - Frontsheet'!E177),\"\",'Trust - Frontsheet'!E177)","v":""},{"$f":"IF(ISBLANK('Trust - Frontsheet'!F177),\"\",\"'\" & 'Trust - Frontsheet'!F177 & \"'\")","v":""},{"$f":"IF(ISBLANK('Trust - Frontsheet'!G177),\"\",'Trust - Frontsheet'!G177)","v":""},{"$f":"IF(ISBLANK('Trust - Frontsheet'!H177),\"\",'Trust - Frontsheet'!H177)","v":""},{"$f":"'Trust - Frontsheet'!I177","v":0},{"$f":"'Trust - Frontsheet'!J177","v":0},{"$f":"'Trust - Frontsheet'!K177","v":0},{"$f":"'Trust - Frontsheet'!L177","v":0},{"$f":"'Trust - Frontsheet'!M177","v":0},{"$f":"'Trust - Frontsheet'!N177","v":0},{"$f":"'Trust - Frontsheet'!O177","v":0},{"$f":"'Trust - Frontsheet'!P177","v":0},{"$f":"'Trust - Frontsheet'!Q177","v":0},{"$f":"'Trust - Frontsheet'!R177","v":0},{"$f":"'Trust - Frontsheet'!S177","v":0},{"$f":"'Trust - Frontsheet'!T177","v":0},{"$f":"'Trust - Frontsheet'!U177","v":0},{"$f":"'Trust - Frontsheet'!V177","v":0},{"$f":"'Trust - Frontsheet'!W177","v":0},{"$f":"'Trust - Frontsheet'!X177","v":0},{"$f":"'Trust - Frontsheet'!Y177","v":0},{"$f":"'Trust - Frontsheet'!Z177","v":0},{"$f":"'Trust - Frontsheet'!AA177","v":0},{"$f":"'Trust - Frontsheet'!AB177","v":0},{"$f":"IF(OR('Trust - Frontsheet'!AK177=\"\",'Trust - Frontsheet'!AK177=\"-\"),0,('Trust - Frontsheet'!AK177))","v":0},{"$f":"IF(OR('Trust - Frontsheet'!AL177=\"\",'Trust - Frontsheet'!AL177=\"-\"),0,('Trust - Frontsheet'!AL177))","v":0},{"$f":"IF(OR('Trust - Frontsheet'!AM177=\"\",'Trust - Frontsheet'!AM177=\"-\"),0,('Trust - Frontsheet'!AM177))","v":0},{"$f":"IF(OR('Trust - Frontsheet'!AN177=\"\",'Trust - Frontsheet'!AN177=\"-\"),0,('Trust - Frontsheet'!AN177))","v":0},{"$f":"IF(OR('Trust - Frontsheet'!AO177=\"\",'Trust - Frontsheet'!AO177=\"-\"),0,('Trust - Frontsheet'!AO177))","v":0},{"$f":"IF(OR('Trust - Frontsheet'!AP177=\"\",'Trust - Frontsheet'!AP177=\"-\"),0,('Trust - Frontsheet'!AP177))","v":0},{"$f":"IF(OR('Trust - Frontsheet'!AQ177=\"\",'Trust - Frontsheet'!AQ177=\"-\"),0,('Trust - Frontsheet'!AQ177))","v":0},{"$f":"IF(OR('Trust - Frontsheet'!AR177=\"\",'Trust - Frontsheet'!AR177=\"-\"),0,('Trust - Frontsheet'!AR177))","v":0},{"$f":"IF(OR('Trust - Frontsheet'!AS177=\"\",'Trust - Frontsheet'!AS177=\"-\"),0,('Trust - Frontsheet'!AS177))","v":0},{"$f":"IF(OR('Trust - Frontsheet'!AT177=\"\",'Trust - Frontsheet'!AT177=\"-\"),0,('Trust - Frontsheet'!AT177))","v":0},{"$f":"'Trust - Frontsheet'!AC177","v":0},{"$f":"IF(OR('Trust - Frontsheet'!AD177=\"\",'Trust - Frontsheet'!AD177=\"-\"),0,('Trust - Frontsheet'!AD177))","v":0},{"$f":"IF(OR('Trust - Frontsheet'!AE177=\"\",'Trust - Frontsheet'!AE177=\"-\"),0,('Trust - Frontsheet'!AE177))","v":0},{"$f":"IF(OR('Trust - Frontsheet'!AF177=\"\",'Trust - Frontsheet'!AF177=\"-\"),0,('Trust - Frontsheet'!AF177))","v":0},{"$f":"IF(OR('Trust - Frontsheet'!AG177=\"\",'Trust - Frontsheet'!AG177=\"-\"),0,('Trust - Frontsheet'!AG177))","v":0},{"$f":"IF(OR('Trust - Frontsheet'!AH177=\"\",'Trust - Frontsheet'!AH177=\"-\"),0,('Trust - Frontsheet'!AH177))","v":0},{"$f":"IF(OR('Trust - Frontsheet'!AI177=\"\",'Trust - Frontsheet'!AI177=\"-\"),0,('Trust - Frontsheet'!AI177))","v":0},{"$f":"IF(OR('Trust - Frontsheet'!AJ177=\"\",'Trust - Frontsheet'!AJ177=\"-\"),0,('Trust - Frontsheet'!AJ177))","v":0},{"$f":"IF(A165=\"\",\"\",(IF(ISBLANK('Trust - Frontsheet'!F9),\"\",'Trust - Frontsheet'!F9)))","v":""}]
[{"$f":"IF('Trust - Frontsheet'!D178=0,\"\",IF('Trust - Frontsheet'!D178=\"\",\"\",'Trust - Frontsheet'!D178))","v":""},{"$f":"IF(ISBLANK('Trust - Frontsheet'!E178),\"\",'Trust - Frontsheet'!E178)","v":""},{"$f":"IF(ISBLANK('Trust - Frontsheet'!F178),\"\",\"'\" & 'Trust - Frontsheet'!F178 & \"'\")","v":""},{"$f":"IF(ISBLANK('Trust - Frontsheet'!G178),\"\",'Trust - Frontsheet'!G178)","v":""},{"$f":"IF(ISBLANK('Trust - Frontsheet'!H178),\"\",'Trust - Frontsheet'!H178)","v":""},{"$f":"'Trust - Frontsheet'!I178","v":0},{"$f":"'Trust - Frontsheet'!J178","v":0},{"$f":"'Trust - Frontsheet'!K178","v":0},{"$f":"'Trust - Frontsheet'!L178","v":0},{"$f":"'Trust - Frontsheet'!M178","v":0},{"$f":"'Trust - Frontsheet'!N178","v":0},{"$f":"'Trust - Frontsheet'!O178","v":0},{"$f":"'Trust - Frontsheet'!P178","v":0},{"$f":"'Trust - Frontsheet'!Q178","v":0},{"$f":"'Trust - Frontsheet'!R178","v":0},{"$f":"'Trust - Frontsheet'!S178","v":0},{"$f":"'Trust - Frontsheet'!T178","v":0},{"$f":"'Trust - Frontsheet'!U178","v":0},{"$f":"'Trust - Frontsheet'!V178","v":0},{"$f":"'Trust - Frontsheet'!W178","v":0},{"$f":"'Trust - Frontsheet'!X178","v":0},{"$f":"'Trust - Frontsheet'!Y178","v":0},{"$f":"'Trust - Frontsheet'!Z178","v":0},{"$f":"'Trust - Frontsheet'!AA178","v":0},{"$f":"'Trust - Frontsheet'!AB178","v":0},{"$f":"IF(OR('Trust - Frontsheet'!AK178=\"\",'Trust - Frontsheet'!AK178=\"-\"),0,('Trust - Frontsheet'!AK178))","v":0},{"$f":"IF(OR('Trust - Frontsheet'!AL178=\"\",'Trust - Frontsheet'!AL178=\"-\"),0,('Trust - Frontsheet'!AL178))","v":0},{"$f":"IF(OR('Trust - Frontsheet'!AM178=\"\",'Trust - Frontsheet'!AM178=\"-\"),0,('Trust - Frontsheet'!AM178))","v":0},{"$f":"IF(OR('Trust - Frontsheet'!AN178=\"\",'Trust - Frontsheet'!AN178=\"-\"),0,('Trust - Frontsheet'!AN178))","v":0},{"$f":"IF(OR('Trust - Frontsheet'!AO178=\"\",'Trust - Frontsheet'!AO178=\"-\"),0,('Trust - Frontsheet'!AO178))","v":0},{"$f":"IF(OR('Trust - Frontsheet'!AP178=\"\",'Trust - Frontsheet'!AP178=\"-\"),0,('Trust - Frontsheet'!AP178))","v":0},{"$f":"IF(OR('Trust - Frontsheet'!AQ178=\"\",'Trust - Frontsheet'!AQ178=\"-\"),0,('Trust - Frontsheet'!AQ178))","v":0},{"$f":"IF(OR('Trust - Frontsheet'!AR178=\"\",'Trust - Frontsheet'!AR178=\"-\"),0,('Trust - Frontsheet'!AR178))","v":0},{"$f":"IF(OR('Trust - Frontsheet'!AS178=\"\",'Trust - Frontsheet'!AS178=\"-\"),0,('Trust - Frontsheet'!AS178))","v":0},{"$f":"IF(OR('Trust - Frontsheet'!AT178=\"\",'Trust - Frontsheet'!AT178=\"-\"),0,('Trust - Frontsheet'!AT178))","v":0},{"$f":"'Trust - Frontsheet'!AC178","v":0},{"$f":"IF(OR('Trust - Frontsheet'!AD178=\"\",'Trust - Frontsheet'!AD178=\"-\"),0,('Trust - Frontsheet'!AD178))","v":0},{"$f":"IF(OR('Trust - Frontsheet'!AE178=\"\",'Trust - Frontsheet'!AE178=\"-\"),0,('Trust - Frontsheet'!AE178))","v":0},{"$f":"IF(OR('Trust - Frontsheet'!AF178=\"\",'Trust - Frontsheet'!AF178=\"-\"),0,('Trust - Frontsheet'!AF178))","v":0},{"$f":"IF(OR('Trust - Frontsheet'!AG178=\"\",'Trust - Frontsheet'!AG178=\"-\"),0,('Trust - Frontsheet'!AG178))","v":0},{"$f":"IF(OR('Trust - Frontsheet'!AH178=\"\",'Trust - Frontsheet'!AH178=\"-\"),0,('Trust - Frontsheet'!AH178))","v":0},{"$f":"IF(OR('Trust - Frontsheet'!AI178=\"\",'Trust - Frontsheet'!AI178=\"-\"),0,('Trust - Frontsheet'!AI178))","v":0},{"$f":"IF(OR('Trust - Frontsheet'!AJ178=\"\",'Trust - Frontsheet'!AJ178=\"-\"),0,('Trust - Frontsheet'!AJ178))","v":0},{"$f":"IF(A166=\"\",\"\",(IF(ISBLANK('Trust - Frontsheet'!F9),\"\",'Trust - Frontsheet'!F9)))","v":""}]
[{"$f":"IF('Trust - Frontsheet'!D179=0,\"\",IF('Trust - Frontsheet'!D179=\"\",\"\",'Trust - Frontsheet'!D179))","v":""},{"$f":"IF(ISBLANK('Trust - Frontsheet'!E179),\"\",'Trust - Frontsheet'!E179)","v":""},{"$f":"IF(ISBLANK('Trust - Frontsheet'!F179),\"\",\"'\" & 'Trust - Frontsheet'!F179 & \"'\")","v":""},{"$f":"IF(ISBLANK('Trust - Frontsheet'!G179),\"\",'Trust - Frontsheet'!G179)","v":""},{"$f":"IF(ISBLANK('Trust - Frontsheet'!H179),\"\",'Trust - Frontsheet'!H179)","v":""},{"$f":"'Trust - Frontsheet'!I179","v":0},{"$f":"'Trust - Frontsheet'!J179","v":0},{"$f":"'Trust - Frontsheet'!K179","v":0},{"$f":"'Trust - Frontsheet'!L179","v":0},{"$f":"'Trust - Frontsheet'!M179","v":0},{"$f":"'Trust - Frontsheet'!N179","v":0},{"$f":"'Trust - Frontsheet'!O179","v":0},{"$f":"'Trust - Frontsheet'!P179","v":0},{"$f":"'Trust - Frontsheet'!Q179","v":0},{"$f":"'Trust - Frontsheet'!R179","v":0},{"$f":"'Trust - Frontsheet'!S179","v":0},{"$f":"'Trust - Frontsheet'!T179","v":0},{"$f":"'Trust - Frontsheet'!U179","v":0},{"$f":"'Trust - Frontsheet'!V179","v":0},{"$f":"'Trust - Frontsheet'!W179","v":0},{"$f":"'Trust - Frontsheet'!X179","v":0},{"$f":"'Trust - Frontsheet'!Y179","v":0},{"$f":"'Trust - Frontsheet'!Z179","v":0},{"$f":"'Trust - Frontsheet'!AA179","v":0},{"$f":"'Trust - Frontsheet'!AB179","v":0},{"$f":"IF(OR('Trust - Frontsheet'!AK179=\"\",'Trust - Frontsheet'!AK179=\"-\"),0,('Trust - Frontsheet'!AK179))","v":0},{"$f":"IF(OR('Trust - Frontsheet'!AL179=\"\",'Trust - Frontsheet'!AL179=\"-\"),0,('Trust - Frontsheet'!AL179))","v":0},{"$f":"IF(OR('Trust - Frontsheet'!AM179=\"\",'Trust - Frontsheet'!AM179=\"-\"),0,('Trust - Frontsheet'!AM179))","v":0},{"$f":"IF(OR('Trust - Frontsheet'!AN179=\"\",'Trust - Frontsheet'!AN179=\"-\"),0,('Trust - Frontsheet'!AN179))","v":0},{"$f":"IF(OR('Trust - Frontsheet'!AO179=\"\",'Trust - Frontsheet'!AO179=\"-\"),0,('Trust - Frontsheet'!AO179))","v":0},{"$f":"IF(OR('Trust - Frontsheet'!AP179=\"\",'Trust - Frontsheet'!AP179=\"-\"),0,('Trust - Frontsheet'!AP179))","v":0},{"$f":"IF(OR('Trust - Frontsheet'!AQ179=\"\",'Trust - Frontsheet'!AQ179=\"-\"),0,('Trust - Frontsheet'!AQ179))","v":0},{"$f":"IF(OR('Trust - Frontsheet'!AR179=\"\",'Trust - Frontsheet'!AR179=\"-\"),0,('Trust - Frontsheet'!AR179))","v":0},{"$f":"IF(OR('Trust - Frontsheet'!AS179=\"\",'Trust - Frontsheet'!AS179=\"-\"),0,('Trust - Frontsheet'!AS179))","v":0},{"$f":"IF(OR('Trust - Frontsheet'!AT179=\"\",'Trust - Frontsheet'!AT179=\"-\"),0,('Trust - Frontsheet'!AT179))","v":0},{"$f":"'Trust - Frontsheet'!AC179","v":0},{"$f":"IF(OR('Trust - Frontsheet'!AD179=\"\",'Trust - Frontsheet'!AD179=\"-\"),0,('Trust - Frontsheet'!AD179))","v":0},{"$f":"IF(OR('Trust - Frontsheet'!AE179=\"\",'Trust - Frontsheet'!AE179=\"-\"),0,('Trust - Frontsheet'!AE179))","v":0},{"$f":"IF(OR('Trust - Frontsheet'!AF179=\"\",'Trust - Frontsheet'!AF179=\"-\"),0,('Trust - Frontsheet'!AF179))","v":0},{"$f":"IF(OR('Trust - Frontsheet'!AG179=\"\",'Trust - Frontsheet'!AG179=\"-\"),0,('Trust - Frontsheet'!AG179))","v":0},{"$f":"IF(OR('Trust - Frontsheet'!AH179=\"\",'Trust - Frontsheet'!AH179=\"-\"),0,('Trust - Frontsheet'!AH179))","v":0},{"$f":"IF(OR('Trust - Frontsheet'!AI179=\"\",'Trust - Frontsheet'!AI179=\"-\"),0,('Trust - Frontsheet'!AI179))","v":0},{"$f":"IF(OR('Trust - Frontsheet'!AJ179=\"\",'Trust - Frontsheet'!AJ179=\"-\"),0,('Trust - Frontsheet'!AJ179))","v":0},{"$f":"IF(A167=\"\",\"\",(IF(ISBLANK('Trust - Frontsheet'!F9),\"\",'Trust - Frontsheet'!F9)))","v":""}]
[{"$f":"IF('Trust - Frontsheet'!D180=0,\"\",IF('Trust - Frontsheet'!D180=\"\",\"\",'Trust - Frontsheet'!D180))","v":""},{"$f":"IF(ISBLANK('Trust - Frontsheet'!E180),\"\",'Trust - Frontsheet'!E180)","v":""},{"$f":"IF(ISBLANK('Trust - Frontsheet'!F180),\"\",\"'\" & 'Trust - Frontsheet'!F180 & \"'\")","v":""},{"$f":"IF(ISBLANK('Trust - Frontsheet'!G180),\"\",'Trust - Frontsheet'!G180)","v":""},{"$f":"IF(ISBLANK('Trust - Frontsheet'!H180),\"\",'Trust - Frontsheet'!H180)","v":""},{"$f":"'Trust - Frontsheet'!I180","v":0},{"$f":"'Trust - Frontsheet'!J180","v":0},{"$f":"'Trust - Frontsheet'!K180","v":0},{"$f":"'Trust - Frontsheet'!L180","v":0},{"$f":"'Trust - Frontsheet'!M180","v":0},{"$f":"'Trust - Frontsheet'!N180","v":0},{"$f":"'Trust - Frontsheet'!O180","v":0},{"$f":"'Trust - Frontsheet'!P180","v":0},{"$f":"'Trust - Frontsheet'!Q180","v":0},{"$f":"'Trust - Frontsheet'!R180","v":0},{"$f":"'Trust - Frontsheet'!S180","v":0},{"$f":"'Trust - Frontsheet'!T180","v":0},{"$f":"'Trust - Frontsheet'!U180","v":0},{"$f":"'Trust - Frontsheet'!V180","v":0},{"$f":"'Trust - Frontsheet'!W180","v":0},{"$f":"'Trust - Frontsheet'!X180","v":0},{"$f":"'Trust - Frontsheet'!Y180","v":0},{"$f":"'Trust - Frontsheet'!Z180","v":0},{"$f":"'Trust - Frontsheet'!AA180","v":0},{"$f":"'Trust - Frontsheet'!AB180","v":0},{"$f":"IF(OR('Trust - Frontsheet'!AK180=\"\",'Trust - Frontsheet'!AK180=\"-\"),0,('Trust - Frontsheet'!AK180))","v":0},{"$f":"IF(OR('Trust - Frontsheet'!AL180=\"\",'Trust - Frontsheet'!AL180=\"-\"),0,('Trust - Frontsheet'!AL180))","v":0},{"$f":"IF(OR('Trust - Frontsheet'!AM180=\"\",'Trust - Frontsheet'!AM180=\"-\"),0,('Trust - Frontsheet'!AM180))","v":0},{"$f":"IF(OR('Trust - Frontsheet'!AN180=\"\",'Trust - Frontsheet'!AN180=\"-\"),0,('Trust - Frontsheet'!AN180))","v":0},{"$f":"IF(OR('Trust - Frontsheet'!AO180=\"\",'Trust - Frontsheet'!AO180=\"-\"),0,('Trust - Frontsheet'!AO180))","v":0},{"$f":"IF(OR('Trust - Frontsheet'!AP180=\"\",'Trust - Frontsheet'!AP180=\"-\"),0,('Trust - Frontsheet'!AP180))","v":0},{"$f":"IF(OR('Trust - Frontsheet'!AQ180=\"\",'Trust - Frontsheet'!AQ180=\"-\"),0,('Trust - Frontsheet'!AQ180))","v":0},{"$f":"IF(OR('Trust - Frontsheet'!AR180=\"\",'Trust - Frontsheet'!AR180=\"-\"),0,('Trust - Frontsheet'!AR180))","v":0},{"$f":"IF(OR('Trust - Frontsheet'!AS180=\"\",'Trust - Frontsheet'!AS180=\"-\"),0,('Trust - Frontsheet'!AS180))","v":0},{"$f":"IF(OR('Trust - Frontsheet'!AT180=\"\",'Trust - Frontsheet'!AT180=\"-\"),0,('Trust - Frontsheet'!AT180))","v":0},{"$f":"'Trust - Frontsheet'!AC180","v":0},{"$f":"IF(OR('Trust - Frontsheet'!AD180=\"\",'Trust - Frontsheet'!AD180=\"-\"),0,('Trust - Frontsheet'!AD180))","v":0},{"$f":"IF(OR('Trust - Frontsheet'!AE180=\"\",'Trust - Frontsheet'!AE180=\"-\"),0,('Trust - Frontsheet'!AE180))","v":0},{"$f":"IF(OR('Trust - Frontsheet'!AF180=\"\",'Trust - Frontsheet'!AF180=\"-\"),0,('Trust - Frontsheet'!AF180))","v":0},{"$f":"IF(OR('Trust - Frontsheet'!AG180=\"\",'Trust - Frontsheet'!AG180=\"-\"),0,('Trust - Frontsheet'!AG180))","v":0},{"$f":"IF(OR('Trust - Frontsheet'!AH180=\"\",'Trust - Frontsheet'!AH180=\"-\"),0,('Trust - Frontsheet'!AH180))","v":0},{"$f":"IF(OR('Trust - Frontsheet'!AI180=\"\",'Trust - Frontsheet'!AI180=\"-\"),0,('Trust - Frontsheet'!AI180))","v":0},{"$f":"IF(OR('Trust - Frontsheet'!AJ180=\"\",'Trust - Frontsheet'!AJ180=\"-\"),0,('Trust - Frontsheet'!AJ180))","v":0},{"$f":"IF(A168=\"\",\"\",(IF(ISBLANK('Trust - Frontsheet'!F9),\"\",'Trust - Frontsheet'!F9)))","v":""}]
[{"$f":"IF('Trust - Frontsheet'!D181=0,\"\",IF('Trust - Frontsheet'!D181=\"\",\"\",'Trust - Frontsheet'!D181))","v":""},{"$f":"IF(ISBLANK('Trust - Frontsheet'!E181),\"\",'Trust - Frontsheet'!E181)","v":""},{"$f":"IF(ISBLANK('Trust - Frontsheet'!F181),\"\",\"'\" & 'Trust - Frontsheet'!F181 & \"'\")","v":""},{"$f":"IF(ISBLANK('Trust - Frontsheet'!G181),\"\",'Trust - Frontsheet'!G181)","v":""},{"$f":"IF(ISBLANK('Trust - Frontsheet'!H181),\"\",'Trust - Frontsheet'!H181)","v":""},{"$f":"'Trust - Frontsheet'!I181","v":0},{"$f":"'Trust - Frontsheet'!J181","v":0},{"$f":"'Trust - Frontsheet'!K181","v":0},{"$f":"'Trust - Frontsheet'!L181","v":0},{"$f":"'Trust - Frontsheet'!M181","v":0},{"$f":"'Trust - Frontsheet'!N181","v":0},{"$f":"'Trust - Frontsheet'!O181","v":0},{"$f":"'Trust - Frontsheet'!P181","v":0},{"$f":"'Trust - Frontsheet'!Q181","v":0},{"$f":"'Trust - Frontsheet'!R181","v":0},{"$f":"'Trust - Frontsheet'!S181","v":0},{"$f":"'Trust - Frontsheet'!T181","v":0},{"$f":"'Trust - Frontsheet'!U181","v":0},{"$f":"'Trust - Frontsheet'!V181","v":0},{"$f":"'Trust - Frontsheet'!W181","v":0},{"$f":"'Trust - Frontsheet'!X181","v":0},{"$f":"'Trust - Frontsheet'!Y181","v":0},{"$f":"'Trust - Frontsheet'!Z181","v":0},{"$f":"'Trust - Frontsheet'!AA181","v":0},{"$f":"'Trust - Frontsheet'!AB181","v":0},{"$f":"IF(OR('Trust - Frontsheet'!AK181=\"\",'Trust - Frontsheet'!AK181=\"-\"),0,('Trust - Frontsheet'!AK181))","v":0},{"$f":"IF(OR('Trust - Frontsheet'!AL181=\"\",'Trust - Frontsheet'!AL181=\"-\"),0,('Trust - Frontsheet'!AL181))","v":0},{"$f":"IF(OR('Trust - Frontsheet'!AM181=\"\",'Trust - Frontsheet'!AM181=\"-\"),0,('Trust - Frontsheet'!AM181))","v":0},{"$f":"IF(OR('Trust - Frontsheet'!AN181=\"\",'Trust - Frontsheet'!AN181=\"-\"),0,('Trust - Frontsheet'!AN181))","v":0},{"$f":"IF(OR('Trust - Frontsheet'!AO181=\"\",'Trust - Frontsheet'!AO181=\"-\"),0,('Trust - Frontsheet'!AO181))","v":0},{"$f":"IF(OR('Trust - Frontsheet'!AP181=\"\",'Trust - Frontsheet'!AP181=\"-\"),0,('Trust - Frontsheet'!AP181))","v":0},{"$f":"IF(OR('Trust - Frontsheet'!AQ181=\"\",'Trust - Frontsheet'!AQ181=\"-\"),0,('Trust - Frontsheet'!AQ181))","v":0},{"$f":"IF(OR('Trust - Frontsheet'!AR181=\"\",'Trust - Frontsheet'!AR181=\"-\"),0,('Trust - Frontsheet'!AR181))","v":0},{"$f":"IF(OR('Trust - Frontsheet'!AS181=\"\",'Trust - Frontsheet'!AS181=\"-\"),0,('Trust - Frontsheet'!AS181))","v":0},{"$f":"IF(OR('Trust - Frontsheet'!AT181=\"\",'Trust - Frontsheet'!AT181=\"-\"),0,('Trust - Frontsheet'!AT181))","v":0},{"$f":"'Trust - Frontsheet'!AC181","v":0},{"$f":"IF(OR('Trust - Frontsheet'!AD181=\"\",'Trust - Frontsheet'!AD181=\"-\"),0,('Trust - Frontsheet'!AD181))","v":0},{"$f":"IF(OR('Trust - Frontsheet'!AE181=\"\",'Trust - Frontsheet'!AE181=\"-\"),0,('Trust - Frontsheet'!AE181))","v":0},{"$f":"IF(OR('Trust - Frontsheet'!AF181=\"\",'Trust - Frontsheet'!AF181=\"-\"),0,('Trust - Frontsheet'!AF181))","v":0},{"$f":"IF(OR('Trust - Frontsheet'!AG181=\"\",'Trust - Frontsheet'!AG181=\"-\"),0,('Trust - Frontsheet'!AG181))","v":0},{"$f":"IF(OR('Trust - Frontsheet'!AH181=\"\",'Trust - Frontsheet'!AH181=\"-\"),0,('Trust - Frontsheet'!AH181))","v":0},{"$f":"IF(OR('Trust - Frontsheet'!AI181=\"\",'Trust - Frontsheet'!AI181=\"-\"),0,('Trust - Frontsheet'!AI181))","v":0},{"$f":"IF(OR('Trust - Frontsheet'!AJ181=\"\",'Trust - Frontsheet'!AJ181=\"-\"),0,('Trust - Frontsheet'!AJ181))","v":0},{"$f":"IF(A169=\"\",\"\",(IF(ISBLANK('Trust - Frontsheet'!F9),\"\",'Trust - Frontsheet'!F9)))","v":""}]
[{"$f":"IF('Trust - Frontsheet'!D182=0,\"\",IF('Trust - Frontsheet'!D182=\"\",\"\",'Trust - Frontsheet'!D182))","v":""},{"$f":"IF(ISBLANK('Trust - Frontsheet'!E182),\"\",'Trust - Frontsheet'!E182)","v":""},{"$f":"IF(ISBLANK('Trust - Frontsheet'!F182),\"\",\"'\" & 'Trust - Frontsheet'!F182 & \"'\")","v":""},{"$f":"IF(ISBLANK('Trust - Frontsheet'!G182),\"\",'Trust - Frontsheet'!G182)","v":""},{"$f":"IF(ISBLANK('Trust - Frontsheet'!H182),\"\",'Trust - Frontsheet'!H182)","v":""},{"$f":"'Trust - Frontsheet'!I182","v":0},{"$f":"'Trust - Frontsheet'!J182","v":0},{"$f":"'Trust - Frontsheet'!K182","v":0},{"$f":"'Trust - Frontsheet'!L182","v":0},{"$f":"'Trust - Frontsheet'!M182","v":0},{"$f":"'Trust - Frontsheet'!N182","v":0},{"$f":"'Trust - Frontsheet'!O182","v":0},{"$f":"'Trust - Frontsheet'!P182","v":0},{"$f":"'Trust - Frontsheet'!Q182","v":0},{"$f":"'Trust - Frontsheet'!R182","v":0},{"$f":"'Trust - Frontsheet'!S182","v":0},{"$f":"'Trust - Frontsheet'!T182","v":0},{"$f":"'Trust - Frontsheet'!U182","v":0},{"$f":"'Trust - Frontsheet'!V182","v":0},{"$f":"'Trust - Frontsheet'!W182","v":0},{"$f":"'Trust - Frontsheet'!X182","v":0},{"$f":"'Trust - Frontsheet'!Y182","v":0},{"$f":"'Trust - Frontsheet'!Z182","v":0},{"$f":"'Trust - Frontsheet'!AA182","v":0},{"$f":"'Trust - Frontsheet'!AB182","v":0},{"$f":"IF(OR('Trust - Frontsheet'!AK182=\"\",'Trust - Frontsheet'!AK182=\"-\"),0,('Trust - Frontsheet'!AK182))","v":0},{"$f":"IF(OR('Trust - Frontsheet'!AL182=\"\",'Trust - Frontsheet'!AL182=\"-\"),0,('Trust - Frontsheet'!AL182))","v":0},{"$f":"IF(OR('Trust - Frontsheet'!AM182=\"\",'Trust - Frontsheet'!AM182=\"-\"),0,('Trust - Frontsheet'!AM182))","v":0},{"$f":"IF(OR('Trust - Frontsheet'!AN182=\"\",'Trust - Frontsheet'!AN182=\"-\"),0,('Trust - Frontsheet'!AN182))","v":0},{"$f":"IF(OR('Trust - Frontsheet'!AO182=\"\",'Trust - Frontsheet'!AO182=\"-\"),0,('Trust - Frontsheet'!AO182))","v":0},{"$f":"IF(OR('Trust - Frontsheet'!AP182=\"\",'Trust - Frontsheet'!AP182=\"-\"),0,('Trust - Frontsheet'!AP182))","v":0},{"$f":"IF(OR('Trust - Frontsheet'!AQ182=\"\",'Trust - Frontsheet'!AQ182=\"-\"),0,('Trust - Frontsheet'!AQ182))","v":0},{"$f":"IF(OR('Trust - Frontsheet'!AR182=\"\",'Trust - Frontsheet'!AR182=\"-\"),0,('Trust - Frontsheet'!AR182))","v":0},{"$f":"IF(OR('Trust - Frontsheet'!AS182=\"\",'Trust - Frontsheet'!AS182=\"-\"),0,('Trust - Frontsheet'!AS182))","v":0},{"$f":"IF(OR('Trust - Frontsheet'!AT182=\"\",'Trust - Frontsheet'!AT182=\"-\"),0,('Trust - Frontsheet'!AT182))","v":0},{"$f":"'Trust - Frontsheet'!AC182","v":0},{"$f":"IF(OR('Trust - Frontsheet'!AD182=\"\",'Trust - Frontsheet'!AD182=\"-\"),0,('Trust - Frontsheet'!AD182))","v":0},{"$f":"IF(OR('Trust - Frontsheet'!AE182=\"\",'Trust - Frontsheet'!AE182=\"-\"),0,('Trust - Frontsheet'!AE182))","v":0},{"$f":"IF(OR('Trust - Frontsheet'!AF182=\"\",'Trust - Frontsheet'!AF182=\"-\"),0,('Trust - Frontsheet'!AF182))","v":0},{"$f":"IF(OR('Trust - Frontsheet'!AG182=\"\",'Trust - Frontsheet'!AG182=\"-\"),0,('Trust - Frontsheet'!AG182))","v":0},{"$f":"IF(OR('Trust - Frontsheet'!AH182=\"\",'Trust - Frontsheet'!AH182=\"-\"),0,('Trust - Frontsheet'!AH182))","v":0},{"$f":"IF(OR('Trust - Frontsheet'!AI182=\"\",'Trust - Frontsheet'!AI182=\"-\"),0,('Trust - Frontsheet'!AI182))","v":0},{"$f":"IF(OR('Trust - Frontsheet'!AJ182=\"\",'Trust - Frontsheet'!AJ182=\"-\"),0,('Trust - Frontsheet'!AJ182))","v":0},{"$f":"IF(A170=\"\",\"\",(IF(ISBLANK('Trust - Frontsheet'!F9),\"\",'Trust - Frontsheet'!F9)))","v":""}]
[{"$f":"IF('Trust - Frontsheet'!D183=0,\"\",IF('Trust - Frontsheet'!D183=\"\",\"\",'Trust - Frontsheet'!D183))","v":""},{"$f":"IF(ISBLANK('Trust - Frontsheet'!E183),\"\",'Trust - Frontsheet'!E183)","v":""},{"$f":"IF(ISBLANK('Trust - Frontsheet'!F183),\"\",\"'\" & 'Trust - Frontsheet'!F183 & \"'\")","v":""},{"$f":"IF(ISBLANK('Trust - Frontsheet'!G183),\"\",'Trust - Frontsheet'!G183)","v":""},{"$f":"IF(ISBLANK('Trust - Frontsheet'!H183),\"\",'Trust - Frontsheet'!H183)","v":""},{"$f":"'Trust - Frontsheet'!I183","v":0},{"$f":"'Trust - Frontsheet'!J183","v":0},{"$f":"'Trust - Frontsheet'!K183","v":0},{"$f":"'Trust - Frontsheet'!L183","v":0},{"$f":"'Trust - Frontsheet'!M183","v":0},{"$f":"'Trust - Frontsheet'!N183","v":0},{"$f":"'Trust - Frontsheet'!O183","v":0},{"$f":"'Trust - Frontsheet'!P183","v":0},{"$f":"'Trust - Frontsheet'!Q183","v":0},{"$f":"'Trust - Frontsheet'!R183","v":0},{"$f":"'Trust - Frontsheet'!S183","v":0},{"$f":"'Trust - Frontsheet'!T183","v":0},{"$f":"'Trust - Frontsheet'!U183","v":0},{"$f":"'Trust - Frontsheet'!V183","v":0},{"$f":"'Trust - Frontsheet'!W183","v":0},{"$f":"'Trust - Frontsheet'!X183","v":0},{"$f":"'Trust - Frontsheet'!Y183","v":0},{"$f":"'Trust - Frontsheet'!Z183","v":0},{"$f":"'Trust - Frontsheet'!AA183","v":0},{"$f":"'Trust - Frontsheet'!AB183","v":0},{"$f":"IF(OR('Trust - Frontsheet'!AK183=\"\",'Trust - Frontsheet'!AK183=\"-\"),0,('Trust - Frontsheet'!AK183))","v":0},{"$f":"IF(OR('Trust - Frontsheet'!AL183=\"\",'Trust - Frontsheet'!AL183=\"-\"),0,('Trust - Frontsheet'!AL183))","v":0},{"$f":"IF(OR('Trust - Frontsheet'!AM183=\"\",'Trust - Frontsheet'!AM183=\"-\"),0,('Trust - Frontsheet'!AM183))","v":0},{"$f":"IF(OR('Trust - Frontsheet'!AN183=\"\",'Trust - Frontsheet'!AN183=\"-\"),0,('Trust - Frontsheet'!AN183))","v":0},{"$f":"IF(OR('Trust - Frontsheet'!AO183=\"\",'Trust - Frontsheet'!AO183=\"-\"),0,('Trust - Frontsheet'!AO183))","v":0},{"$f":"IF(OR('Trust - Frontsheet'!AP183=\"\",'Trust - Frontsheet'!AP183=\"-\"),0,('Trust - Frontsheet'!AP183))","v":0},{"$f":"IF(OR('Trust - Frontsheet'!AQ183=\"\",'Trust - Frontsheet'!AQ183=\"-\"),0,('Trust - Frontsheet'!AQ183))","v":0},{"$f":"IF(OR('Trust - Frontsheet'!AR183=\"\",'Trust - Frontsheet'!AR183=\"-\"),0,('Trust - Frontsheet'!AR183))","v":0},{"$f":"IF(OR('Trust - Frontsheet'!AS183=\"\",'Trust - Frontsheet'!AS183=\"-\"),0,('Trust - Frontsheet'!AS183))","v":0},{"$f":"IF(OR('Trust - Frontsheet'!AT183=\"\",'Trust - Frontsheet'!AT183=\"-\"),0,('Trust - Frontsheet'!AT183))","v":0},{"$f":"'Trust - Frontsheet'!AC183","v":0},{"$f":"IF(OR('Trust - Frontsheet'!AD183=\"\",'Trust - Frontsheet'!AD183=\"-\"),0,('Trust - Frontsheet'!AD183))","v":0},{"$f":"IF(OR('Trust - Frontsheet'!AE183=\"\",'Trust - Frontsheet'!AE183=\"-\"),0,('Trust - Frontsheet'!AE183))","v":0},{"$f":"IF(OR('Trust - Frontsheet'!AF183=\"\",'Trust - Frontsheet'!AF183=\"-\"),0,('Trust - Frontsheet'!AF183))","v":0},{"$f":"IF(OR('Trust - Frontsheet'!AG183=\"\",'Trust - Frontsheet'!AG183=\"-\"),0,('Trust - Frontsheet'!AG183))","v":0},{"$f":"IF(OR('Trust - Frontsheet'!AH183=\"\",'Trust - Frontsheet'!AH183=\"-\"),0,('Trust - Frontsheet'!AH183))","v":0},{"$f":"IF(OR('Trust - Frontsheet'!AI183=\"\",'Trust - Frontsheet'!AI183=\"-\"),0,('Trust - Frontsheet'!AI183))","v":0},{"$f":"IF(OR('Trust - Frontsheet'!AJ183=\"\",'Trust - Frontsheet'!AJ183=\"-\"),0,('Trust - Frontsheet'!AJ183))","v":0},{"$f":"IF(A171=\"\",\"\",(IF(ISBLANK('Trust - Frontsheet'!F9),\"\",'Trust - Frontsheet'!F9)))","v":""}]
[{"$f":"IF('Trust - Frontsheet'!D184=0,\"\",IF('Trust - Frontsheet'!D184=\"\",\"\",'Trust - Frontsheet'!D184))","v":""},{"$f":"IF(ISBLANK('Trust - Frontsheet'!E184),\"\",'Trust - Frontsheet'!E184)","v":""},{"$f":"IF(ISBLANK('Trust - Frontsheet'!F184),\"\",\"'\" & 'Trust - Frontsheet'!F184 & \"'\")","v":""},{"$f":"IF(ISBLANK('Trust - Frontsheet'!G184),\"\",'Trust - Frontsheet'!G184)","v":""},{"$f":"IF(ISBLANK('Trust - Frontsheet'!H184),\"\",'Trust - Frontsheet'!H184)","v":""},{"$f":"'Trust - Frontsheet'!I184","v":0},{"$f":"'Trust - Frontsheet'!J184","v":0},{"$f":"'Trust - Frontsheet'!K184","v":0},{"$f":"'Trust - Frontsheet'!L184","v":0},{"$f":"'Trust - Frontsheet'!M184","v":0},{"$f":"'Trust - Frontsheet'!N184","v":0},{"$f":"'Trust - Frontsheet'!O184","v":0},{"$f":"'Trust - Frontsheet'!P184","v":0},{"$f":"'Trust - Frontsheet'!Q184","v":0},{"$f":"'Trust - Frontsheet'!R184","v":0},{"$f":"'Trust - Frontsheet'!S184","v":0},{"$f":"'Trust - Frontsheet'!T184","v":0},{"$f":"'Trust - Frontsheet'!U184","v":0},{"$f":"'Trust - Frontsheet'!V184","v":0},{"$f":"'Trust - Frontsheet'!W184","v":0},{"$f":"'Trust - Frontsheet'!X184","v":0},{"$f":"'Trust - Frontsheet'!Y184","v":0},{"$f":"'Trust - Frontsheet'!Z184","v":0},{"$f":"'Trust - Frontsheet'!AA184","v":0},{"$f":"'Trust - Frontsheet'!AB184","v":0},{"$f":"IF(OR('Trust - Frontsheet'!AK184=\"\",'Trust - Frontsheet'!AK184=\"-\"),0,('Trust - Frontsheet'!AK184))","v":0},{"$f":"IF(OR('Trust - Frontsheet'!AL184=\"\",'Trust - Frontsheet'!AL184=\"-\"),0,('Trust - Frontsheet'!AL184))","v":0},{"$f":"IF(OR('Trust - Frontsheet'!AM184=\"\",'Trust - Frontsheet'!AM184=\"-\"),0,('Trust - Frontsheet'!AM184))","v":0},{"$f":"IF(OR('Trust - Frontsheet'!AN184=\"\",'Trust - Frontsheet'!AN184=\"-\"),0,('Trust - Frontsheet'!AN184))","v":0},{"$f":"IF(OR('Trust - Frontsheet'!AO184=\"\",'Trust - Frontsheet'!AO184=\"-\"),0,('Trust - Frontsheet'!AO184))","v":0},{"$f":"IF(OR('Trust - Frontsheet'!AP184=\"\",'Trust - Frontsheet'!AP184=\"-\"),0,('Trust - Frontsheet'!AP184))","v":0},{"$f":"IF(OR('Trust - Frontsheet'!AQ184=\"\",'Trust - Frontsheet'!AQ184=\"-\"),0,('Trust - Frontsheet'!AQ184))","v":0},{"$f":"IF(OR('Trust - Frontsheet'!AR184=\"\",'Trust - Frontsheet'!AR184=\"-\"),0,('Trust - Frontsheet'!AR184))","v":0},{"$f":"IF(OR('Trust - Frontsheet'!AS184=\"\",'Trust - Frontsheet'!AS184=\"-\"),0,('Trust - Frontsheet'!AS184))","v":0},{"$f":"IF(OR('Trust - Frontsheet'!AT184=\"\",'Trust - Frontsheet'!AT184=\"-\"),0,('Trust - Frontsheet'!AT184))","v":0},{"$f":"'Trust - Frontsheet'!AC184","v":0},{"$f":"IF(OR('Trust - Frontsheet'!AD184=\"\",'Trust - Frontsheet'!AD184=\"-\"),0,('Trust - Frontsheet'!AD184))","v":0},{"$f":"IF(OR('Trust - Frontsheet'!AE184=\"\",'Trust - Frontsheet'!AE184=\"-\"),0,('Trust - Frontsheet'!AE184))","v":0},{"$f":"IF(OR('Trust - Frontsheet'!AF184=\"\",'Trust - Frontsheet'!AF184=\"-\"),0,('Trust - Frontsheet'!AF184))","v":0},{"$f":"IF(OR('Trust - Frontsheet'!AG184=\"\",'Trust - Frontsheet'!AG184=\"-\"),0,('Trust - Frontsheet'!AG184))","v":0},{"$f":"IF(OR('Trust - Frontsheet'!AH184=\"\",'Trust - Frontsheet'!AH184=\"-\"),0,('Trust - Frontsheet'!AH184))","v":0},{"$f":"IF(OR('Trust - Frontsheet'!AI184=\"\",'Trust - Frontsheet'!AI184=\"-\"),0,('Trust - Frontsheet'!AI184))","v":0},{"$f":"IF(OR('Trust - Frontsheet'!AJ184=\"\",'Trust - Frontsheet'!AJ184=\"-\"),0,('Trust - Frontsheet'!AJ184))","v":0},{"$f":"IF(A172=\"\",\"\",(IF(ISBLANK('Trust - Frontsheet'!F9),\"\",'Trust - Frontsheet'!F9)))","v":""}]
[{"$f":"IF('Trust - Frontsheet'!D185=0,\"\",IF('Trust - Frontsheet'!D185=\"\",\"\",'Trust - Frontsheet'!D185))","v":""},{"$f":"IF(ISBLANK('Trust - Frontsheet'!E185),\"\",'Trust - Frontsheet'!E185)","v":""},{"$f":"IF(ISBLANK('Trust - Frontsheet'!F185),\"\",\"'\" & 'Trust - Frontsheet'!F185 & \"'\")","v":""},{"$f":"IF(ISBLANK('Trust - Frontsheet'!G185),\"\",'Trust - Frontsheet'!G185)","v":""},{"$f":"IF(ISBLANK('Trust - Frontsheet'!H185),\"\",'Trust - Frontsheet'!H185)","v":""},{"$f":"'Trust - Frontsheet'!I185","v":0},{"$f":"'Trust - Frontsheet'!J185","v":0},{"$f":"'Trust - Frontsheet'!K185","v":0},{"$f":"'Trust - Frontsheet'!L185","v":0},{"$f":"'Trust - Frontsheet'!M185","v":0},{"$f":"'Trust - Frontsheet'!N185","v":0},{"$f":"'Trust - Frontsheet'!O185","v":0},{"$f":"'Trust - Frontsheet'!P185","v":0},{"$f":"'Trust - Frontsheet'!Q185","v":0},{"$f":"'Trust - Frontsheet'!R185","v":0},{"$f":"'Trust - Frontsheet'!S185","v":0},{"$f":"'Trust - Frontsheet'!T185","v":0},{"$f":"'Trust - Frontsheet'!U185","v":0},{"$f":"'Trust - Frontsheet'!V185","v":0},{"$f":"'Trust - Frontsheet'!W185","v":0},{"$f":"'Trust - Frontsheet'!X185","v":0},{"$f":"'Trust - Frontsheet'!Y185","v":0},{"$f":"'Trust - Frontsheet'!Z185","v":0},{"$f":"'Trust - Frontsheet'!AA185","v":0},{"$f":"'Trust - Frontsheet'!AB185","v":0},{"$f":"IF(OR('Trust - Frontsheet'!AK185=\"\",'Trust - Frontsheet'!AK185=\"-\"),0,('Trust - Frontsheet'!AK185))","v":0},{"$f":"IF(OR('Trust - Frontsheet'!AL185=\"\",'Trust - Frontsheet'!AL185=\"-\"),0,('Trust - Frontsheet'!AL185))","v":0},{"$f":"IF(OR('Trust - Frontsheet'!AM185=\"\",'Trust - Frontsheet'!AM185=\"-\"),0,('Trust - Frontsheet'!AM185))","v":0},{"$f":"IF(OR('Trust - Frontsheet'!AN185=\"\",'Trust - Frontsheet'!AN185=\"-\"),0,('Trust - Frontsheet'!AN185))","v":0},{"$f":"IF(OR('Trust - Frontsheet'!AO185=\"\",'Trust - Frontsheet'!AO185=\"-\"),0,('Trust - Frontsheet'!AO185))","v":0},{"$f":"IF(OR('Trust - Frontsheet'!AP185=\"\",'Trust - Frontsheet'!AP185=\"-\"),0,('Trust - Frontsheet'!AP185))","v":0},{"$f":"IF(OR('Trust - Frontsheet'!AQ185=\"\",'Trust - Frontsheet'!AQ185=\"-\"),0,('Trust - Frontsheet'!AQ185))","v":0},{"$f":"IF(OR('Trust - Frontsheet'!AR185=\"\",'Trust - Frontsheet'!AR185=\"-\"),0,('Trust - Frontsheet'!AR185))","v":0},{"$f":"IF(OR('Trust - Frontsheet'!AS185=\"\",'Trust - Frontsheet'!AS185=\"-\"),0,('Trust - Frontsheet'!AS185))","v":0},{"$f":"IF(OR('Trust - Frontsheet'!AT185=\"\",'Trust - Frontsheet'!AT185=\"-\"),0,('Trust - Frontsheet'!AT185))","v":0},{"$f":"'Trust - Frontsheet'!AC185","v":0},{"$f":"IF(OR('Trust - Frontsheet'!AD185=\"\",'Trust - Frontsheet'!AD185=\"-\"),0,('Trust - Frontsheet'!AD185))","v":0},{"$f":"IF(OR('Trust - Frontsheet'!AE185=\"\",'Trust - Frontsheet'!AE185=\"-\"),0,('Trust - Frontsheet'!AE185))","v":0},{"$f":"IF(OR('Trust - Frontsheet'!AF185=\"\",'Trust - Frontsheet'!AF185=\"-\"),0,('Trust - Frontsheet'!AF185))","v":0},{"$f":"IF(OR('Trust - Frontsheet'!AG185=\"\",'Trust - Frontsheet'!AG185=\"-\"),0,('Trust - Frontsheet'!AG185))","v":0},{"$f":"IF(OR('Trust - Frontsheet'!AH185=\"\",'Trust - Frontsheet'!AH185=\"-\"),0,('Trust - Frontsheet'!AH185))","v":0},{"$f":"IF(OR('Trust - Frontsheet'!AI185=\"\",'Trust - Frontsheet'!AI185=\"-\"),0,('Trust - Frontsheet'!AI185))","v":0},{"$f":"IF(OR('Trust - Frontsheet'!AJ185=\"\",'Trust - Frontsheet'!AJ185=\"-\"),0,('Trust - Frontsheet'!AJ185))","v":0},{"$f":"IF(A173=\"\",\"\",(IF(ISBLANK('Trust - Frontsheet'!F9),\"\",'Trust - Frontsheet'!F9)))","v":""}]
[{"$f":"IF('Trust - Frontsheet'!D186=0,\"\",IF('Trust - Frontsheet'!D186=\"\",\"\",'Trust - Frontsheet'!D186))","v":""},{"$f":"IF(ISBLANK('Trust - Frontsheet'!E186),\"\",'Trust - Frontsheet'!E186)","v":""},{"$f":"IF(ISBLANK('Trust - Frontsheet'!F186),\"\",\"'\" & 'Trust - Frontsheet'!F186 & \"'\")","v":""},{"$f":"IF(ISBLANK('Trust - Frontsheet'!G186),\"\",'Trust - Frontsheet'!G186)","v":""},{"$f":"IF(ISBLANK('Trust - Frontsheet'!H186),\"\",'Trust - Frontsheet'!H186)","v":""},{"$f":"'Trust - Frontsheet'!I186","v":0},{"$f":"'Trust - Frontsheet'!J186","v":0},{"$f":"'Trust - Frontsheet'!K186","v":0},{"$f":"'Trust - Frontsheet'!L186","v":0},{"$f":"'Trust - Frontsheet'!M186","v":0},{"$f":"'Trust - Frontsheet'!N186","v":0},{"$f":"'Trust - Frontsheet'!O186","v":0},{"$f":"'Trust - Frontsheet'!P186","v":0},{"$f":"'Trust - Frontsheet'!Q186","v":0},{"$f":"'Trust - Frontsheet'!R186","v":0},{"$f":"'Trust - Frontsheet'!S186","v":0},{"$f":"'Trust - Frontsheet'!T186","v":0},{"$f":"'Trust - Frontsheet'!U186","v":0},{"$f":"'Trust - Frontsheet'!V186","v":0},{"$f":"'Trust - Frontsheet'!W186","v":0},{"$f":"'Trust - Frontsheet'!X186","v":0},{"$f":"'Trust - Frontsheet'!Y186","v":0},{"$f":"'Trust - Frontsheet'!Z186","v":0},{"$f":"'Trust - Frontsheet'!AA186","v":0},{"$f":"'Trust - Frontsheet'!AB186","v":0},{"$f":"IF(OR('Trust - Frontsheet'!AK186=\"\",'Trust - Frontsheet'!AK186=\"-\"),0,('Trust - Frontsheet'!AK186))","v":0},{"$f":"IF(OR('Trust - Frontsheet'!AL186=\"\",'Trust - Frontsheet'!AL186=\"-\"),0,('Trust - Frontsheet'!AL186))","v":0},{"$f":"IF(OR('Trust - Frontsheet'!AM186=\"\",'Trust - Frontsheet'!AM186=\"-\"),0,('Trust - Frontsheet'!AM186))","v":0},{"$f":"IF(OR('Trust - Frontsheet'!AN186=\"\",'Trust - Frontsheet'!AN186=\"-\"),0,('Trust - Frontsheet'!AN186))","v":0},{"$f":"IF(OR('Trust - Frontsheet'!AO186=\"\",'Trust - Frontsheet'!AO186=\"-\"),0,('Trust - Frontsheet'!AO186))","v":0},{"$f":"IF(OR('Trust - Frontsheet'!AP186=\"\",'Trust - Frontsheet'!AP186=\"-\"),0,('Trust - Frontsheet'!AP186))","v":0},{"$f":"IF(OR('Trust - Frontsheet'!AQ186=\"\",'Trust - Frontsheet'!AQ186=\"-\"),0,('Trust - Frontsheet'!AQ186))","v":0},{"$f":"IF(OR('Trust - Frontsheet'!AR186=\"\",'Trust - Frontsheet'!AR186=\"-\"),0,('Trust - Frontsheet'!AR186))","v":0},{"$f":"IF(OR('Trust - Frontsheet'!AS186=\"\",'Trust - Frontsheet'!AS186=\"-\"),0,('Trust - Frontsheet'!AS186))","v":0},{"$f":"IF(OR('Trust - Frontsheet'!AT186=\"\",'Trust - Frontsheet'!AT186=\"-\"),0,('Trust - Frontsheet'!AT186))","v":0},{"$f":"'Trust - Frontsheet'!AC186","v":0},{"$f":"IF(OR('Trust - Frontsheet'!AD186=\"\",'Trust - Frontsheet'!AD186=\"-\"),0,('Trust - Frontsheet'!AD186))","v":0},{"$f":"IF(OR('Trust - Frontsheet'!AE186=\"\",'Trust - Frontsheet'!AE186=\"-\"),0,('Trust - Frontsheet'!AE186))","v":0},{"$f":"IF(OR('Trust - Frontsheet'!AF186=\"\",'Trust - Frontsheet'!AF186=\"-\"),0,('Trust - Frontsheet'!AF186))","v":0},{"$f":"IF(OR('Trust - Frontsheet'!AG186=\"\",'Trust - Frontsheet'!AG186=\"-\"),0,('Trust - Frontsheet'!AG186))","v":0},{"$f":"IF(OR('Trust - Frontsheet'!AH186=\"\",'Trust - Frontsheet'!AH186=\"-\"),0,('Trust - Frontsheet'!AH186))","v":0},{"$f":"IF(OR('Trust - Frontsheet'!AI186=\"\",'Trust - Frontsheet'!AI186=\"-\"),0,('Trust - Frontsheet'!AI186))","v":0},{"$f":"IF(OR('Trust - Frontsheet'!AJ186=\"\",'Trust - Frontsheet'!AJ186=\"-\"),0,('Trust - Frontsheet'!AJ186))","v":0},{"$f":"IF(A174=\"\",\"\",(IF(ISBLANK('Trust - Frontsheet'!F9),\"\",'Trust - Frontsheet'!F9)))","v":""}]
[{"$f":"IF('Trust - Frontsheet'!D187=0,\"\",IF('Trust - Frontsheet'!D187=\"\",\"\",'Trust - Frontsheet'!D187))","v":""},{"$f":"IF(ISBLANK('Trust - Frontsheet'!E187),\"\",'Trust - Frontsheet'!E187)","v":""},{"$f":"IF(ISBLANK('Trust - Frontsheet'!F187),\"\",\"'\" & 'Trust - Frontsheet'!F187 & \"'\")","v":""},{"$f":"IF(ISBLANK('Trust - Frontsheet'!G187),\"\",'Trust - Frontsheet'!G187)","v":""},{"$f":"IF(ISBLANK('Trust - Frontsheet'!H187),\"\",'Trust - Frontsheet'!H187)","v":""},{"$f":"'Trust - Frontsheet'!I187","v":0},{"$f":"'Trust - Frontsheet'!J187","v":0},{"$f":"'Trust - Frontsheet'!K187","v":0},{"$f":"'Trust - Frontsheet'!L187","v":0},{"$f":"'Trust - Frontsheet'!M187","v":0},{"$f":"'Trust - Frontsheet'!N187","v":0},{"$f":"'Trust - Frontsheet'!O187","v":0},{"$f":"'Trust - Frontsheet'!P187","v":0},{"$f":"'Trust - Frontsheet'!Q187","v":0},{"$f":"'Trust - Frontsheet'!R187","v":0},{"$f":"'Trust - Frontsheet'!S187","v":0},{"$f":"'Trust - Frontsheet'!T187","v":0},{"$f":"'Trust - Frontsheet'!U187","v":0},{"$f":"'Trust - Frontsheet'!V187","v":0},{"$f":"'Trust - Frontsheet'!W187","v":0},{"$f":"'Trust - Frontsheet'!X187","v":0},{"$f":"'Trust - Frontsheet'!Y187","v":0},{"$f":"'Trust - Frontsheet'!Z187","v":0},{"$f":"'Trust - Frontsheet'!AA187","v":0},{"$f":"'Trust - Frontsheet'!AB187","v":0},{"$f":"IF(OR('Trust - Frontsheet'!AK187=\"\",'Trust - Frontsheet'!AK187=\"-\"),0,('Trust - Frontsheet'!AK187))","v":0},{"$f":"IF(OR('Trust - Frontsheet'!AL187=\"\",'Trust - Frontsheet'!AL187=\"-\"),0,('Trust - Frontsheet'!AL187))","v":0},{"$f":"IF(OR('Trust - Frontsheet'!AM187=\"\",'Trust - Frontsheet'!AM187=\"-\"),0,('Trust - Frontsheet'!AM187))","v":0},{"$f":"IF(OR('Trust - Frontsheet'!AN187=\"\",'Trust - Frontsheet'!AN187=\"-\"),0,('Trust - Frontsheet'!AN187))","v":0},{"$f":"IF(OR('Trust - Frontsheet'!AO187=\"\",'Trust - Frontsheet'!AO187=\"-\"),0,('Trust - Frontsheet'!AO187))","v":0},{"$f":"IF(OR('Trust - Frontsheet'!AP187=\"\",'Trust - Frontsheet'!AP187=\"-\"),0,('Trust - Frontsheet'!AP187))","v":0},{"$f":"IF(OR('Trust - Frontsheet'!AQ187=\"\",'Trust - Frontsheet'!AQ187=\"-\"),0,('Trust - Frontsheet'!AQ187))","v":0},{"$f":"IF(OR('Trust - Frontsheet'!AR187=\"\",'Trust - Frontsheet'!AR187=\"-\"),0,('Trust - Frontsheet'!AR187))","v":0},{"$f":"IF(OR('Trust - Frontsheet'!AS187=\"\",'Trust - Frontsheet'!AS187=\"-\"),0,('Trust - Frontsheet'!AS187))","v":0},{"$f":"IF(OR('Trust - Frontsheet'!AT187=\"\",'Trust - Frontsheet'!AT187=\"-\"),0,('Trust - Frontsheet'!AT187))","v":0},{"$f":"'Trust - Frontsheet'!AC187","v":0},{"$f":"IF(OR('Trust - Frontsheet'!AD187=\"\",'Trust - Frontsheet'!AD187=\"-\"),0,('Trust - Frontsheet'!AD187))","v":0},{"$f":"IF(OR('Trust - Frontsheet'!AE187=\"\",'Trust - Frontsheet'!AE187=\"-\"),0,('Trust - Frontsheet'!AE187))","v":0},{"$f":"IF(OR('Trust - Frontsheet'!AF187=\"\",'Trust - Frontsheet'!AF187=\"-\"),0,('Trust - Frontsheet'!AF187))","v":0},{"$f":"IF(OR('Trust - Frontsheet'!AG187=\"\",'Trust - Frontsheet'!AG187=\"-\"),0,('Trust - Frontsheet'!AG187))","v":0},{"$f":"IF(OR('Trust - Frontsheet'!AH187=\"\",'Trust - Frontsheet'!AH187=\"-\"),0,('Trust - Frontsheet'!AH187))","v":0},{"$f":"IF(OR('Trust - Frontsheet'!AI187=\"\",'Trust - Frontsheet'!AI187=\"-\"),0,('Trust - Frontsheet'!AI187))","v":0},{"$f":"IF(OR('Trust - Frontsheet'!AJ187=\"\",'Trust - Frontsheet'!AJ187=\"-\"),0,('Trust - Frontsheet'!AJ187))","v":0},{"$f":"IF(A175=\"\",\"\",(IF(ISBLANK('Trust - Frontsheet'!F9),\"\",'Trust - Frontsheet'!F9)))","v":""}]
[{"$f":"IF('Trust - Frontsheet'!D188=0,\"\",IF('Trust - Frontsheet'!D188=\"\",\"\",'Trust - Frontsheet'!D188))","v":""},{"$f":"IF(ISBLANK('Trust - Frontsheet'!E188),\"\",'Trust - Frontsheet'!E188)","v":""},{"$f":"IF(ISBLANK('Trust - Frontsheet'!F188),\"\",\"'\" & 'Trust - Frontsheet'!F188 & \"'\")","v":""},{"$f":"IF(ISBLANK('Trust - Frontsheet'!G188),\"\",'Trust - Frontsheet'!G188)","v":""},{"$f":"IF(ISBLANK('Trust - Frontsheet'!H188),\"\",'Trust - Frontsheet'!H188)","v":""},{"$f":"'Trust - Frontsheet'!I188","v":0},{"$f":"'Trust - Frontsheet'!J188","v":0},{"$f":"'Trust - Frontsheet'!K188","v":0},{"$f":"'Trust - Frontsheet'!L188","v":0},{"$f":"'Trust - Frontsheet'!M188","v":0},{"$f":"'Trust - Frontsheet'!N188","v":0},{"$f":"'Trust - Frontsheet'!O188","v":0},{"$f":"'Trust - Frontsheet'!P188","v":0},{"$f":"'Trust - Frontsheet'!Q188","v":0},{"$f":"'Trust - Frontsheet'!R188","v":0},{"$f":"'Trust - Frontsheet'!S188","v":0},{"$f":"'Trust - Frontsheet'!T188","v":0},{"$f":"'Trust - Frontsheet'!U188","v":0},{"$f":"'Trust - Frontsheet'!V188","v":0},{"$f":"'Trust - Frontsheet'!W188","v":0},{"$f":"'Trust - Frontsheet'!X188","v":0},{"$f":"'Trust - Frontsheet'!Y188","v":0},{"$f":"'Trust - Frontsheet'!Z188","v":0},{"$f":"'Trust - Frontsheet'!AA188","v":0},{"$f":"'Trust - Frontsheet'!AB188","v":0},{"$f":"IF(OR('Trust - Frontsheet'!AK188=\"\",'Trust - Frontsheet'!AK188=\"-\"),0,('Trust - Frontsheet'!AK188))","v":0},{"$f":"IF(OR('Trust - Frontsheet'!AL188=\"\",'Trust - Frontsheet'!AL188=\"-\"),0,('Trust - Frontsheet'!AL188))","v":0},{"$f":"IF(OR('Trust - Frontsheet'!AM188=\"\",'Trust - Frontsheet'!AM188=\"-\"),0,('Trust - Frontsheet'!AM188))","v":0},{"$f":"IF(OR('Trust - Frontsheet'!AN188=\"\",'Trust - Frontsheet'!AN188=\"-\"),0,('Trust - Frontsheet'!AN188))","v":0},{"$f":"IF(OR('Trust - Frontsheet'!AO188=\"\",'Trust - Frontsheet'!AO188=\"-\"),0,('Trust - Frontsheet'!AO188))","v":0},{"$f":"IF(OR('Trust - Frontsheet'!AP188=\"\",'Trust - Frontsheet'!AP188=\"-\"),0,('Trust - Frontsheet'!AP188))","v":0},{"$f":"IF(OR('Trust - Frontsheet'!AQ188=\"\",'Trust - Frontsheet'!AQ188=\"-\"),0,('Trust - Frontsheet'!AQ188))","v":0},{"$f":"IF(OR('Trust - Frontsheet'!AR188=\"\",'Trust - Frontsheet'!AR188=\"-\"),0,('Trust - Frontsheet'!AR188))","v":0},{"$f":"IF(OR('Trust - Frontsheet'!AS188=\"\",'Trust - Frontsheet'!AS188=\"-\"),0,('Trust - Frontsheet'!AS188))","v":0},{"$f":"IF(OR('Trust - Frontsheet'!AT188=\"\",'Trust - Frontsheet'!AT188=\"-\"),0,('Trust - Frontsheet'!AT188))","v":0},{"$f":"'Trust - Frontsheet'!AC188","v":0},{"$f":"IF(OR('Trust - Frontsheet'!AD188=\"\",'Trust - Frontsheet'!AD188=\"-\"),0,('Trust - Frontsheet'!AD188))","v":0},{"$f":"IF(OR('Trust - Frontsheet'!AE188=\"\",'Trust - Frontsheet'!AE188=\"-\"),0,('Trust - Frontsheet'!AE188))","v":0},{"$f":"IF(OR('Trust - Frontsheet'!AF188=\"\",'Trust - Frontsheet'!AF188=\"-\"),0,('Trust - Frontsheet'!AF188))","v":0},{"$f":"IF(OR('Trust - Frontsheet'!AG188=\"\",'Trust - Frontsheet'!AG188=\"-\"),0,('Trust - Frontsheet'!AG188))","v":0},{"$f":"IF(OR('Trust - Frontsheet'!AH188=\"\",'Trust - Frontsheet'!AH188=\"-\"),0,('Trust - Frontsheet'!AH188))","v":0},{"$f":"IF(OR('Trust - Frontsheet'!AI188=\"\",'Trust - Frontsheet'!AI188=\"-\"),0,('Trust - Frontsheet'!AI188))","v":0},{"$f":"IF(OR('Trust - Frontsheet'!AJ188=\"\",'Trust - Frontsheet'!AJ188=\"-\"),0,('Trust - Frontsheet'!AJ188))","v":0},{"$f":"IF(A176=\"\",\"\",(IF(ISBLANK('Trust - Frontsheet'!F9),\"\",'Trust - Frontsheet'!F9)))","v":""}]
[{"$f":"IF('Trust - Frontsheet'!D189=0,\"\",IF('Trust - Frontsheet'!D189=\"\",\"\",'Trust - Frontsheet'!D189))","v":""},{"$f":"IF(ISBLANK('Trust - Frontsheet'!E189),\"\",'Trust - Frontsheet'!E189)","v":""},{"$f":"IF(ISBLANK('Trust - Frontsheet'!F189),\"\",\"'\" & 'Trust - Frontsheet'!F189 & \"'\")","v":""},{"$f":"IF(ISBLANK('Trust - Frontsheet'!G189),\"\",'Trust - Frontsheet'!G189)","v":""},{"$f":"IF(ISBLANK('Trust - Frontsheet'!H189),\"\",'Trust - Frontsheet'!H189)","v":""},{"$f":"'Trust - Frontsheet'!I189","v":0},{"$f":"'Trust - Frontsheet'!J189","v":0},{"$f":"'Trust - Frontsheet'!K189","v":0},{"$f":"'Trust - Frontsheet'!L189","v":0},{"$f":"'Trust - Frontsheet'!M189","v":0},{"$f":"'Trust - Frontsheet'!N189","v":0},{"$f":"'Trust - Frontsheet'!O189","v":0},{"$f":"'Trust - Frontsheet'!P189","v":0},{"$f":"'Trust - Frontsheet'!Q189","v":0},{"$f":"'Trust - Frontsheet'!R189","v":0},{"$f":"'Trust - Frontsheet'!S189","v":0},{"$f":"'Trust - Frontsheet'!T189","v":0},{"$f":"'Trust - Frontsheet'!U189","v":0},{"$f":"'Trust - Frontsheet'!V189","v":0},{"$f":"'Trust - Frontsheet'!W189","v":0},{"$f":"'Trust - Frontsheet'!X189","v":0},{"$f":"'Trust - Frontsheet'!Y189","v":0},{"$f":"'Trust - Frontsheet'!Z189","v":0},{"$f":"'Trust - Frontsheet'!AA189","v":0},{"$f":"'Trust - Frontsheet'!AB189","v":0},{"$f":"IF(OR('Trust - Frontsheet'!AK189=\"\",'Trust - Frontsheet'!AK189=\"-\"),0,('Trust - Frontsheet'!AK189))","v":0},{"$f":"IF(OR('Trust - Frontsheet'!AL189=\"\",'Trust - Frontsheet'!AL189=\"-\"),0,('Trust - Frontsheet'!AL189))","v":0},{"$f":"IF(OR('Trust - Frontsheet'!AM189=\"\",'Trust - Frontsheet'!AM189=\"-\"),0,('Trust - Frontsheet'!AM189))","v":0},{"$f":"IF(OR('Trust - Frontsheet'!AN189=\"\",'Trust - Frontsheet'!AN189=\"-\"),0,('Trust - Frontsheet'!AN189))","v":0},{"$f":"IF(OR('Trust - Frontsheet'!AO189=\"\",'Trust - Frontsheet'!AO189=\"-\"),0,('Trust - Frontsheet'!AO189))","v":0},{"$f":"IF(OR('Trust - Frontsheet'!AP189=\"\",'Trust - Frontsheet'!AP189=\"-\"),0,('Trust - Frontsheet'!AP189))","v":0},{"$f":"IF(OR('Trust - Frontsheet'!AQ189=\"\",'Trust - Frontsheet'!AQ189=\"-\"),0,('Trust - Frontsheet'!AQ189))","v":0},{"$f":"IF(OR('Trust - Frontsheet'!AR189=\"\",'Trust - Frontsheet'!AR189=\"-\"),0,('Trust - Frontsheet'!AR189))","v":0},{"$f":"IF(OR('Trust - Frontsheet'!AS189=\"\",'Trust - Frontsheet'!AS189=\"-\"),0,('Trust - Frontsheet'!AS189))","v":0},{"$f":"IF(OR('Trust - Frontsheet'!AT189=\"\",'Trust - Frontsheet'!AT189=\"-\"),0,('Trust - Frontsheet'!AT189))","v":0},{"$f":"'Trust - Frontsheet'!AC189","v":0},{"$f":"IF(OR('Trust - Frontsheet'!AD189=\"\",'Trust - Frontsheet'!AD189=\"-\"),0,('Trust - Frontsheet'!AD189))","v":0},{"$f":"IF(OR('Trust - Frontsheet'!AE189=\"\",'Trust - Frontsheet'!AE189=\"-\"),0,('Trust - Frontsheet'!AE189))","v":0},{"$f":"IF(OR('Trust - Frontsheet'!AF189=\"\",'Trust - Frontsheet'!AF189=\"-\"),0,('Trust - Frontsheet'!AF189))","v":0},{"$f":"IF(OR('Trust - Frontsheet'!AG189=\"\",'Trust - Frontsheet'!AG189=\"-\"),0,('Trust - Frontsheet'!AG189))","v":0},{"$f":"IF(OR('Trust - Frontsheet'!AH189=\"\",'Trust - Frontsheet'!AH189=\"-\"),0,('Trust - Frontsheet'!AH189))","v":0},{"$f":"IF(OR('Trust - Frontsheet'!AI189=\"\",'Trust - Frontsheet'!AI189=\"-\"),0,('Trust - Frontsheet'!AI189))","v":0},{"$f":"IF(OR('Trust - Frontsheet'!AJ189=\"\",'Trust - Frontsheet'!AJ189=\"-\"),0,('Trust - Frontsheet'!AJ189))","v":0},{"$f":"IF(A177=\"\",\"\",(IF(ISBLANK('Trust - Frontsheet'!F9),\"\",'Trust - Frontsheet'!F9)))","v":""}]
[{"$f":"IF('Trust - Frontsheet'!D190=0,\"\",IF('Trust - Frontsheet'!D190=\"\",\"\",'Trust - Frontsheet'!D190))","v":""},{"$f":"IF(ISBLANK('Trust - Frontsheet'!E190),\"\",'Trust - Frontsheet'!E190)","v":""},{"$f":"IF(ISBLANK('Trust - Frontsheet'!F190),\"\",\"'\" & 'Trust - Frontsheet'!F190 & \"'\")","v":""},{"$f":"IF(ISBLANK('Trust - Frontsheet'!G190),\"\",'Trust - Frontsheet'!G190)","v":""},{"$f":"IF(ISBLANK('Trust - Frontsheet'!H190),\"\",'Trust - Frontsheet'!H190)","v":""},{"$f":"'Trust - Frontsheet'!I190","v":0},{"$f":"'Trust - Frontsheet'!J190","v":0},{"$f":"'Trust - Frontsheet'!K190","v":0},{"$f":"'Trust - Frontsheet'!L190","v":0},{"$f":"'Trust - Frontsheet'!M190","v":0},{"$f":"'Trust - Frontsheet'!N190","v":0},{"$f":"'Trust - Frontsheet'!O190","v":0},{"$f":"'Trust - Frontsheet'!P190","v":0},{"$f":"'Trust - Frontsheet'!Q190","v":0},{"$f":"'Trust - Frontsheet'!R190","v":0},{"$f":"'Trust - Frontsheet'!S190","v":0},{"$f":"'Trust - Frontsheet'!T190","v":0},{"$f":"'Trust - Frontsheet'!U190","v":0},{"$f":"'Trust - Frontsheet'!V190","v":0},{"$f":"'Trust - Frontsheet'!W190","v":0},{"$f":"'Trust - Frontsheet'!X190","v":0},{"$f":"'Trust - Frontsheet'!Y190","v":0},{"$f":"'Trust - Frontsheet'!Z190","v":0},{"$f":"'Trust - Frontsheet'!AA190","v":0},{"$f":"'Trust - Frontsheet'!AB190","v":0},{"$f":"IF(OR('Trust - Frontsheet'!AK190=\"\",'Trust - Frontsheet'!AK190=\"-\"),0,('Trust - Frontsheet'!AK190))","v":0},{"$f":"IF(OR('Trust - Frontsheet'!AL190=\"\",'Trust - Frontsheet'!AL190=\"-\"),0,('Trust - Frontsheet'!AL190))","v":0},{"$f":"IF(OR('Trust - Frontsheet'!AM190=\"\",'Trust - Frontsheet'!AM190=\"-\"),0,('Trust - Frontsheet'!AM190))","v":0},{"$f":"IF(OR('Trust - Frontsheet'!AN190=\"\",'Trust - Frontsheet'!AN190=\"-\"),0,('Trust - Frontsheet'!AN190))","v":0},{"$f":"IF(OR('Trust - Frontsheet'!AO190=\"\",'Trust - Frontsheet'!AO190=\"-\"),0,('Trust - Frontsheet'!AO190))","v":0},{"$f":"IF(OR('Trust - Frontsheet'!AP190=\"\",'Trust - Frontsheet'!AP190=\"-\"),0,('Trust - Frontsheet'!AP190))","v":0},{"$f":"IF(OR('Trust - Frontsheet'!AQ190=\"\",'Trust - Frontsheet'!AQ190=\"-\"),0,('Trust - Frontsheet'!AQ190))","v":0},{"$f":"IF(OR('Trust - Frontsheet'!AR190=\"\",'Trust - Frontsheet'!AR190=\"-\"),0,('Trust - Frontsheet'!AR190))","v":0},{"$f":"IF(OR('Trust - Frontsheet'!AS190=\"\",'Trust - Frontsheet'!AS190=\"-\"),0,('Trust - Frontsheet'!AS190))","v":0},{"$f":"IF(OR('Trust - Frontsheet'!AT190=\"\",'Trust - Frontsheet'!AT190=\"-\"),0,('Trust - Frontsheet'!AT190))","v":0},{"$f":"'Trust - Frontsheet'!AC190","v":0},{"$f":"IF(OR('Trust - Frontsheet'!AD190=\"\",'Trust - Frontsheet'!AD190=\"-\"),0,('Trust - Frontsheet'!AD190))","v":0},{"$f":"IF(OR('Trust - Frontsheet'!AE190=\"\",'Trust - Frontsheet'!AE190=\"-\"),0,('Trust - Frontsheet'!AE190))","v":0},{"$f":"IF(OR('Trust - Frontsheet'!AF190=\"\",'Trust - Frontsheet'!AF190=\"-\"),0,('Trust - Frontsheet'!AF190))","v":0},{"$f":"IF(OR('Trust - Frontsheet'!AG190=\"\",'Trust - Frontsheet'!AG190=\"-\"),0,('Trust - Frontsheet'!AG190))","v":0},{"$f":"IF(OR('Trust - Frontsheet'!AH190=\"\",'Trust - Frontsheet'!AH190=\"-\"),0,('Trust - Frontsheet'!AH190))","v":0},{"$f":"IF(OR('Trust - Frontsheet'!AI190=\"\",'Trust - Frontsheet'!AI190=\"-\"),0,('Trust - Frontsheet'!AI190))","v":0},{"$f":"IF(OR('Trust - Frontsheet'!AJ190=\"\",'Trust - Frontsheet'!AJ190=\"-\"),0,('Trust - Frontsheet'!AJ190))","v":0},{"$f":"IF(A178=\"\",\"\",(IF(ISBLANK('Trust - Frontsheet'!F9),\"\",'Trust - Frontsheet'!F9)))","v":""}]
[{"$f":"IF('Trust - Frontsheet'!D191=0,\"\",IF('Trust - Frontsheet'!D191=\"\",\"\",'Trust - Frontsheet'!D191))","v":""},{"$f":"IF(ISBLANK('Trust - Frontsheet'!E191),\"\",'Trust - Frontsheet'!E191)","v":""},{"$f":"IF(ISBLANK('Trust - Frontsheet'!F191),\"\",\"'\" & 'Trust - Frontsheet'!F191 & \"'\")","v":""},{"$f":"IF(ISBLANK('Trust - Frontsheet'!G191),\"\",'Trust - Frontsheet'!G191)","v":""},{"$f":"IF(ISBLANK('Trust - Frontsheet'!H191),\"\",'Trust - Frontsheet'!H191)","v":""},{"$f":"'Trust - Frontsheet'!I191","v":0},{"$f":"'Trust - Frontsheet'!J191","v":0},{"$f":"'Trust - Frontsheet'!K191","v":0},{"$f":"'Trust - Frontsheet'!L191","v":0},{"$f":"'Trust - Frontsheet'!M191","v":0},{"$f":"'Trust - Frontsheet'!N191","v":0},{"$f":"'Trust - Frontsheet'!O191","v":0},{"$f":"'Trust - Frontsheet'!P191","v":0},{"$f":"'Trust - Frontsheet'!Q191","v":0},{"$f":"'Trust - Frontsheet'!R191","v":0},{"$f":"'Trust - Frontsheet'!S191","v":0},{"$f":"'Trust - Frontsheet'!T191","v":0},{"$f":"'Trust - Frontsheet'!U191","v":0},{"$f":"'Trust - Frontsheet'!V191","v":0},{"$f":"'Trust - Frontsheet'!W191","v":0},{"$f":"'Trust - Frontsheet'!X191","v":0},{"$f":"'Trust - Frontsheet'!Y191","v":0},{"$f":"'Trust - Frontsheet'!Z191","v":0},{"$f":"'Trust - Frontsheet'!AA191","v":0},{"$f":"'Trust - Frontsheet'!AB191","v":0},{"$f":"IF(OR('Trust - Frontsheet'!AK191=\"\",'Trust - Frontsheet'!AK191=\"-\"),0,('Trust - Frontsheet'!AK191))","v":0},{"$f":"IF(OR('Trust - Frontsheet'!AL191=\"\",'Trust - Frontsheet'!AL191=\"-\"),0,('Trust - Frontsheet'!AL191))","v":0},{"$f":"IF(OR('Trust - Frontsheet'!AM191=\"\",'Trust - Frontsheet'!AM191=\"-\"),0,('Trust - Frontsheet'!AM191))","v":0},{"$f":"IF(OR('Trust - Frontsheet'!AN191=\"\",'Trust - Frontsheet'!AN191=\"-\"),0,('Trust - Frontsheet'!AN191))","v":0},{"$f":"IF(OR('Trust - Frontsheet'!AO191=\"\",'Trust - Frontsheet'!AO191=\"-\"),0,('Trust - Frontsheet'!AO191))","v":0},{"$f":"IF(OR('Trust - Frontsheet'!AP191=\"\",'Trust - Frontsheet'!AP191=\"-\"),0,('Trust - Frontsheet'!AP191))","v":0},{"$f":"IF(OR('Trust - Frontsheet'!AQ191=\"\",'Trust - Frontsheet'!AQ191=\"-\"),0,('Trust - Frontsheet'!AQ191))","v":0},{"$f":"IF(OR('Trust - Frontsheet'!AR191=\"\",'Trust - Frontsheet'!AR191=\"-\"),0,('Trust - Frontsheet'!AR191))","v":0},{"$f":"IF(OR('Trust - Frontsheet'!AS191=\"\",'Trust - Frontsheet'!AS191=\"-\"),0,('Trust - Frontsheet'!AS191))","v":0},{"$f":"IF(OR('Trust - Frontsheet'!AT191=\"\",'Trust - Frontsheet'!AT191=\"-\"),0,('Trust - Frontsheet'!AT191))","v":0},{"$f":"'Trust - Frontsheet'!AC191","v":0},{"$f":"IF(OR('Trust - Frontsheet'!AD191=\"\",'Trust - Frontsheet'!AD191=\"-\"),0,('Trust - Frontsheet'!AD191))","v":0},{"$f":"IF(OR('Trust - Frontsheet'!AE191=\"\",'Trust - Frontsheet'!AE191=\"-\"),0,('Trust - Frontsheet'!AE191))","v":0},{"$f":"IF(OR('Trust - Frontsheet'!AF191=\"\",'Trust - Frontsheet'!AF191=\"-\"),0,('Trust - Frontsheet'!AF191))","v":0},{"$f":"IF(OR('Trust - Frontsheet'!AG191=\"\",'Trust - Frontsheet'!AG191=\"-\"),0,('Trust - Frontsheet'!AG191))","v":0},{"$f":"IF(OR('Trust - Frontsheet'!AH191=\"\",'Trust - Frontsheet'!AH191=\"-\"),0,('Trust - Frontsheet'!AH191))","v":0},{"$f":"IF(OR('Trust - Frontsheet'!AI191=\"\",'Trust - Frontsheet'!AI191=\"-\"),0,('Trust - Frontsheet'!AI191))","v":0},{"$f":"IF(OR('Trust - Frontsheet'!AJ191=\"\",'Trust - Frontsheet'!AJ191=\"-\"),0,('Trust - Frontsheet'!AJ191))","v":0},{"$f":"IF(A179=\"\",\"\",(IF(ISBLANK('Trust - Frontsheet'!F9),\"\",'Trust - Frontsheet'!F9)))","v":""}]
[{"$f":"IF('Trust - Frontsheet'!D192=0,\"\",IF('Trust - Frontsheet'!D192=\"\",\"\",'Trust - Frontsheet'!D192))","v":""},{"$f":"IF(ISBLANK('Trust - Frontsheet'!E192),\"\",'Trust - Frontsheet'!E192)","v":""},{"$f":"IF(ISBLANK('Trust - Frontsheet'!F192),\"\",\"'\" & 'Trust - Frontsheet'!F192 & \"'\")","v":""},{"$f":"IF(ISBLANK('Trust - Frontsheet'!G192),\"\",'Trust - Frontsheet'!G192)","v":""},{"$f":"IF(ISBLANK('Trust - Frontsheet'!H192),\"\",'Trust - Frontsheet'!H192)","v":""},{"$f":"'Trust - Frontsheet'!I192","v":0},{"$f":"'Trust - Frontsheet'!J192","v":0},{"$f":"'Trust - Frontsheet'!K192","v":0},{"$f":"'Trust - Frontsheet'!L192","v":0},{"$f":"'Trust - Frontsheet'!M192","v":0},{"$f":"'Trust - Frontsheet'!N192","v":0},{"$f":"'Trust - Frontsheet'!O192","v":0},{"$f":"'Trust - Frontsheet'!P192","v":0},{"$f":"'Trust - Frontsheet'!Q192","v":0},{"$f":"'Trust - Frontsheet'!R192","v":0},{"$f":"'Trust - Frontsheet'!S192","v":0},{"$f":"'Trust - Frontsheet'!T192","v":0},{"$f":"'Trust - Frontsheet'!U192","v":0},{"$f":"'Trust - Frontsheet'!V192","v":0},{"$f":"'Trust - Frontsheet'!W192","v":0},{"$f":"'Trust - Frontsheet'!X192","v":0},{"$f":"'Trust - Frontsheet'!Y192","v":0},{"$f":"'Trust - Frontsheet'!Z192","v":0},{"$f":"'Trust - Frontsheet'!AA192","v":0},{"$f":"'Trust - Frontsheet'!AB192","v":0},{"$f":"IF(OR('Trust - Frontsheet'!AK192=\"\",'Trust - Frontsheet'!AK192=\"-\"),0,('Trust - Frontsheet'!AK192))","v":0},{"$f":"IF(OR('Trust - Frontsheet'!AL192=\"\",'Trust - Frontsheet'!AL192=\"-\"),0,('Trust - Frontsheet'!AL192))","v":0},{"$f":"IF(OR('Trust - Frontsheet'!AM192=\"\",'Trust - Frontsheet'!AM192=\"-\"),0,('Trust - Frontsheet'!AM192))","v":0},{"$f":"IF(OR('Trust - Frontsheet'!AN192=\"\",'Trust - Frontsheet'!AN192=\"-\"),0,('Trust - Frontsheet'!AN192))","v":0},{"$f":"IF(OR('Trust - Frontsheet'!AO192=\"\",'Trust - Frontsheet'!AO192=\"-\"),0,('Trust - Frontsheet'!AO192))","v":0},{"$f":"IF(OR('Trust - Frontsheet'!AP192=\"\",'Trust - Frontsheet'!AP192=\"-\"),0,('Trust - Frontsheet'!AP192))","v":0},{"$f":"IF(OR('Trust - Frontsheet'!AQ192=\"\",'Trust - Frontsheet'!AQ192=\"-\"),0,('Trust - Frontsheet'!AQ192))","v":0},{"$f":"IF(OR('Trust - Frontsheet'!AR192=\"\",'Trust - Frontsheet'!AR192=\"-\"),0,('Trust - Frontsheet'!AR192))","v":0},{"$f":"IF(OR('Trust - Frontsheet'!AS192=\"\",'Trust - Frontsheet'!AS192=\"-\"),0,('Trust - Frontsheet'!AS192))","v":0},{"$f":"IF(OR('Trust - Frontsheet'!AT192=\"\",'Trust - Frontsheet'!AT192=\"-\"),0,('Trust - Frontsheet'!AT192))","v":0},{"$f":"'Trust - Frontsheet'!AC192","v":0},{"$f":"IF(OR('Trust - Frontsheet'!AD192=\"\",'Trust - Frontsheet'!AD192=\"-\"),0,('Trust - Frontsheet'!AD192))","v":0},{"$f":"IF(OR('Trust - Frontsheet'!AE192=\"\",'Trust - Frontsheet'!AE192=\"-\"),0,('Trust - Frontsheet'!AE192))","v":0},{"$f":"IF(OR('Trust - Frontsheet'!AF192=\"\",'Trust - Frontsheet'!AF192=\"-\"),0,('Trust - Frontsheet'!AF192))","v":0},{"$f":"IF(OR('Trust - Frontsheet'!AG192=\"\",'Trust - Frontsheet'!AG192=\"-\"),0,('Trust - Frontsheet'!AG192))","v":0},{"$f":"IF(OR('Trust - Frontsheet'!AH192=\"\",'Trust - Frontsheet'!AH192=\"-\"),0,('Trust - Frontsheet'!AH192))","v":0},{"$f":"IF(OR('Trust - Frontsheet'!AI192=\"\",'Trust - Frontsheet'!AI192=\"-\"),0,('Trust - Frontsheet'!AI192))","v":0},{"$f":"IF(OR('Trust - Frontsheet'!AJ192=\"\",'Trust - Frontsheet'!AJ192=\"-\"),0,('Trust - Frontsheet'!AJ192))","v":0},{"$f":"IF(A180=\"\",\"\",(IF(ISBLANK('Trust - Frontsheet'!F9),\"\",'Trust - Frontsheet'!F9)))","v":""}]
[{"$f":"IF('Trust - Frontsheet'!D193=0,\"\",IF('Trust - Frontsheet'!D193=\"\",\"\",'Trust - Frontsheet'!D193))","v":""},{"$f":"IF(ISBLANK('Trust - Frontsheet'!E193),\"\",'Trust - Frontsheet'!E193)","v":""},{"$f":"IF(ISBLANK('Trust - Frontsheet'!F193),\"\",\"'\" & 'Trust - Frontsheet'!F193 & \"'\")","v":""},{"$f":"IF(ISBLANK('Trust - Frontsheet'!G193),\"\",'Trust - Frontsheet'!G193)","v":""},{"$f":"IF(ISBLANK('Trust - Frontsheet'!H193),\"\",'Trust - Frontsheet'!H193)","v":""},{"$f":"'Trust - Frontsheet'!I193","v":0},{"$f":"'Trust - Frontsheet'!J193","v":0},{"$f":"'Trust - Frontsheet'!K193","v":0},{"$f":"'Trust - Frontsheet'!L193","v":0},{"$f":"'Trust - Frontsheet'!M193","v":0},{"$f":"'Trust - Frontsheet'!N193","v":0},{"$f":"'Trust - Frontsheet'!O193","v":0},{"$f":"'Trust - Frontsheet'!P193","v":0},{"$f":"'Trust - Frontsheet'!Q193","v":0},{"$f":"'Trust - Frontsheet'!R193","v":0},{"$f":"'Trust - Frontsheet'!S193","v":0},{"$f":"'Trust - Frontsheet'!T193","v":0},{"$f":"'Trust - Frontsheet'!U193","v":0},{"$f":"'Trust - Frontsheet'!V193","v":0},{"$f":"'Trust - Frontsheet'!W193","v":0},{"$f":"'Trust - Frontsheet'!X193","v":0},{"$f":"'Trust - Frontsheet'!Y193","v":0},{"$f":"'Trust - Frontsheet'!Z193","v":0},{"$f":"'Trust - Frontsheet'!AA193","v":0},{"$f":"'Trust - Frontsheet'!AB193","v":0},{"$f":"IF(OR('Trust - Frontsheet'!AK193=\"\",'Trust - Frontsheet'!AK193=\"-\"),0,('Trust - Frontsheet'!AK193))","v":0},{"$f":"IF(OR('Trust - Frontsheet'!AL193=\"\",'Trust - Frontsheet'!AL193=\"-\"),0,('Trust - Frontsheet'!AL193))","v":0},{"$f":"IF(OR('Trust - Frontsheet'!AM193=\"\",'Trust - Frontsheet'!AM193=\"-\"),0,('Trust - Frontsheet'!AM193))","v":0},{"$f":"IF(OR('Trust - Frontsheet'!AN193=\"\",'Trust - Frontsheet'!AN193=\"-\"),0,('Trust - Frontsheet'!AN193))","v":0},{"$f":"IF(OR('Trust - Frontsheet'!AO193=\"\",'Trust - Frontsheet'!AO193=\"-\"),0,('Trust - Frontsheet'!AO193))","v":0},{"$f":"IF(OR('Trust - Frontsheet'!AP193=\"\",'Trust - Frontsheet'!AP193=\"-\"),0,('Trust - Frontsheet'!AP193))","v":0},{"$f":"IF(OR('Trust - Frontsheet'!AQ193=\"\",'Trust - Frontsheet'!AQ193=\"-\"),0,('Trust - Frontsheet'!AQ193))","v":0},{"$f":"IF(OR('Trust - Frontsheet'!AR193=\"\",'Trust - Frontsheet'!AR193=\"-\"),0,('Trust - Frontsheet'!AR193))","v":0},{"$f":"IF(OR('Trust - Frontsheet'!AS193=\"\",'Trust - Frontsheet'!AS193=\"-\"),0,('Trust - Frontsheet'!AS193))","v":0},{"$f":"IF(OR('Trust - Frontsheet'!AT193=\"\",'Trust - Frontsheet'!AT193=\"-\"),0,('Trust - Frontsheet'!AT193))","v":0},{"$f":"'Trust - Frontsheet'!AC193","v":0},{"$f":"IF(OR('Trust - Frontsheet'!AD193=\"\",'Trust - Frontsheet'!AD193=\"-\"),0,('Trust - Frontsheet'!AD193))","v":0},{"$f":"IF(OR('Trust - Frontsheet'!AE193=\"\",'Trust - Frontsheet'!AE193=\"-\"),0,('Trust - Frontsheet'!AE193))","v":0},{"$f":"IF(OR('Trust - Frontsheet'!AF193=\"\",'Trust - Frontsheet'!AF193=\"-\"),0,('Trust - Frontsheet'!AF193))","v":0},{"$f":"IF(OR('Trust - Frontsheet'!AG193=\"\",'Trust - Frontsheet'!AG193=\"-\"),0,('Trust - Frontsheet'!AG193))","v":0},{"$f":"IF(OR('Trust - Frontsheet'!AH193=\"\",'Trust - Frontsheet'!AH193=\"-\"),0,('Trust - Frontsheet'!AH193))","v":0},{"$f":"IF(OR('Trust - Frontsheet'!AI193=\"\",'Trust - Frontsheet'!AI193=\"-\"),0,('Trust - Frontsheet'!AI193))","v":0},{"$f":"IF(OR('Trust - Frontsheet'!AJ193=\"\",'Trust - Frontsheet'!AJ193=\"-\"),0,('Trust - Frontsheet'!AJ193))","v":0},{"$f":"IF(A181=\"\",\"\",(IF(ISBLANK('Trust - Frontsheet'!F9),\"\",'Trust - Frontsheet'!F9)))","v":""}]
[{"$f":"IF('Trust - Frontsheet'!D194=0,\"\",IF('Trust - Frontsheet'!D194=\"\",\"\",'Trust - Frontsheet'!D194))","v":""},{"$f":"IF(ISBLANK('Trust - Frontsheet'!E194),\"\",'Trust - Frontsheet'!E194)","v":""},{"$f":"IF(ISBLANK('Trust - Frontsheet'!F194),\"\",\"'\" & 'Trust - Frontsheet'!F194 & \"'\")","v":""},{"$f":"IF(ISBLANK('Trust - Frontsheet'!G194),\"\",'Trust - Frontsheet'!G194)","v":""},{"$f":"IF(ISBLANK('Trust - Frontsheet'!H194),\"\",'Trust - Frontsheet'!H194)","v":""},{"$f":"'Trust - Frontsheet'!I194","v":0},{"$f":"'Trust - Frontsheet'!J194","v":0},{"$f":"'Trust - Frontsheet'!K194","v":0},{"$f":"'Trust - Frontsheet'!L194","v":0},{"$f":"'Trust - Frontsheet'!M194","v":0},{"$f":"'Trust - Frontsheet'!N194","v":0},{"$f":"'Trust - Frontsheet'!O194","v":0},{"$f":"'Trust - Frontsheet'!P194","v":0},{"$f":"'Trust - Frontsheet'!Q194","v":0},{"$f":"'Trust - Frontsheet'!R194","v":0},{"$f":"'Trust - Frontsheet'!S194","v":0},{"$f":"'Trust - Frontsheet'!T194","v":0},{"$f":"'Trust - Frontsheet'!U194","v":0},{"$f":"'Trust - Frontsheet'!V194","v":0},{"$f":"'Trust - Frontsheet'!W194","v":0},{"$f":"'Trust - Frontsheet'!X194","v":0},{"$f":"'Trust - Frontsheet'!Y194","v":0},{"$f":"'Trust - Frontsheet'!Z194","v":0},{"$f":"'Trust - Frontsheet'!AA194","v":0},{"$f":"'Trust - Frontsheet'!AB194","v":0},{"$f":"IF(OR('Trust - Frontsheet'!AK194=\"\",'Trust - Frontsheet'!AK194=\"-\"),0,('Trust - Frontsheet'!AK194))","v":0},{"$f":"IF(OR('Trust - Frontsheet'!AL194=\"\",'Trust - Frontsheet'!AL194=\"-\"),0,('Trust - Frontsheet'!AL194))","v":0},{"$f":"IF(OR('Trust - Frontsheet'!AM194=\"\",'Trust - Frontsheet'!AM194=\"-\"),0,('Trust - Frontsheet'!AM194))","v":0},{"$f":"IF(OR('Trust - Frontsheet'!AN194=\"\",'Trust - Frontsheet'!AN194=\"-\"),0,('Trust - Frontsheet'!AN194))","v":0},{"$f":"IF(OR('Trust - Frontsheet'!AO194=\"\",'Trust - Frontsheet'!AO194=\"-\"),0,('Trust - Frontsheet'!AO194))","v":0},{"$f":"IF(OR('Trust - Frontsheet'!AP194=\"\",'Trust - Frontsheet'!AP194=\"-\"),0,('Trust - Frontsheet'!AP194))","v":0},{"$f":"IF(OR('Trust - Frontsheet'!AQ194=\"\",'Trust - Frontsheet'!AQ194=\"-\"),0,('Trust - Frontsheet'!AQ194))","v":0},{"$f":"IF(OR('Trust - Frontsheet'!AR194=\"\",'Trust - Frontsheet'!AR194=\"-\"),0,('Trust - Frontsheet'!AR194))","v":0},{"$f":"IF(OR('Trust - Frontsheet'!AS194=\"\",'Trust - Frontsheet'!AS194=\"-\"),0,('Trust - Frontsheet'!AS194))","v":0},{"$f":"IF(OR('Trust - Frontsheet'!AT194=\"\",'Trust - Frontsheet'!AT194=\"-\"),0,('Trust - Frontsheet'!AT194))","v":0},{"$f":"'Trust - Frontsheet'!AC194","v":0},{"$f":"IF(OR('Trust - Frontsheet'!AD194=\"\",'Trust - Frontsheet'!AD194=\"-\"),0,('Trust - Frontsheet'!AD194))","v":0},{"$f":"IF(OR('Trust - Frontsheet'!AE194=\"\",'Trust - Frontsheet'!AE194=\"-\"),0,('Trust - Frontsheet'!AE194))","v":0},{"$f":"IF(OR('Trust - Frontsheet'!AF194=\"\",'Trust - Frontsheet'!AF194=\"-\"),0,('Trust - Frontsheet'!AF194))","v":0},{"$f":"IF(OR('Trust - Frontsheet'!AG194=\"\",'Trust - Frontsheet'!AG194=\"-\"),0,('Trust - Frontsheet'!AG194))","v":0},{"$f":"IF(OR('Trust - Frontsheet'!AH194=\"\",'Trust - Frontsheet'!AH194=\"-\"),0,('Trust - Frontsheet'!AH194))","v":0},{"$f":"IF(OR('Trust - Frontsheet'!AI194=\"\",'Trust - Frontsheet'!AI194=\"-\"),0,('Trust - Frontsheet'!AI194))","v":0},{"$f":"IF(OR('Trust - Frontsheet'!AJ194=\"\",'Trust - Frontsheet'!AJ194=\"-\"),0,('Trust - Frontsheet'!AJ194))","v":0},{"$f":"IF(A182=\"\",\"\",(IF(ISBLANK('Trust - Frontsheet'!F9),\"\",'Trust - Frontsheet'!F9)))","v":""}]
[{"$f":"IF('Trust - Frontsheet'!D195=0,\"\",IF('Trust - Frontsheet'!D195=\"\",\"\",'Trust - Frontsheet'!D195))","v":""},{"$f":"IF(ISBLANK('Trust - Frontsheet'!E195),\"\",'Trust - Frontsheet'!E195)","v":""},{"$f":"IF(ISBLANK('Trust - Frontsheet'!F195),\"\",\"'\" & 'Trust - Frontsheet'!F195 & \"'\")","v":""},{"$f":"IF(ISBLANK('Trust - Frontsheet'!G195),\"\",'Trust - Frontsheet'!G195)","v":""},{"$f":"IF(ISBLANK('Trust - Frontsheet'!H195),\"\",'Trust - Frontsheet'!H195)","v":""},{"$f":"'Trust - Frontsheet'!I195","v":0},{"$f":"'Trust - Frontsheet'!J195","v":0},{"$f":"'Trust - Frontsheet'!K195","v":0},{"$f":"'Trust - Frontsheet'!L195","v":0},{"$f":"'Trust - Frontsheet'!M195","v":0},{"$f":"'Trust - Frontsheet'!N195","v":0},{"$f":"'Trust - Frontsheet'!O195","v":0},{"$f":"'Trust - Frontsheet'!P195","v":0},{"$f":"'Trust - Frontsheet'!Q195","v":0},{"$f":"'Trust - Frontsheet'!R195","v":0},{"$f":"'Trust - Frontsheet'!S195","v":0},{"$f":"'Trust - Frontsheet'!T195","v":0},{"$f":"'Trust - Frontsheet'!U195","v":0},{"$f":"'Trust - Frontsheet'!V195","v":0},{"$f":"'Trust - Frontsheet'!W195","v":0},{"$f":"'Trust - Frontsheet'!X195","v":0},{"$f":"'Trust - Frontsheet'!Y195","v":0},{"$f":"'Trust - Frontsheet'!Z195","v":0},{"$f":"'Trust - Frontsheet'!AA195","v":0},{"$f":"'Trust - Frontsheet'!AB195","v":0},{"$f":"IF(OR('Trust - Frontsheet'!AK195=\"\",'Trust - Frontsheet'!AK195=\"-\"),0,('Trust - Frontsheet'!AK195))","v":0},{"$f":"IF(OR('Trust - Frontsheet'!AL195=\"\",'Trust - Frontsheet'!AL195=\"-\"),0,('Trust - Frontsheet'!AL195))","v":0},{"$f":"IF(OR('Trust - Frontsheet'!AM195=\"\",'Trust - Frontsheet'!AM195=\"-\"),0,('Trust - Frontsheet'!AM195))","v":0},{"$f":"IF(OR('Trust - Frontsheet'!AN195=\"\",'Trust - Frontsheet'!AN195=\"-\"),0,('Trust - Frontsheet'!AN195))","v":0},{"$f":"IF(OR('Trust - Frontsheet'!AO195=\"\",'Trust - Frontsheet'!AO195=\"-\"),0,('Trust - Frontsheet'!AO195))","v":0},{"$f":"IF(OR('Trust - Frontsheet'!AP195=\"\",'Trust - Frontsheet'!AP195=\"-\"),0,('Trust - Frontsheet'!AP195))","v":0},{"$f":"IF(OR('Trust - Frontsheet'!AQ195=\"\",'Trust - Frontsheet'!AQ195=\"-\"),0,('Trust - Frontsheet'!AQ195))","v":0},{"$f":"IF(OR('Trust - Frontsheet'!AR195=\"\",'Trust - Frontsheet'!AR195=\"-\"),0,('Trust - Frontsheet'!AR195))","v":0},{"$f":"IF(OR('Trust - Frontsheet'!AS195=\"\",'Trust - Frontsheet'!AS195=\"-\"),0,('Trust - Frontsheet'!AS195))","v":0},{"$f":"IF(OR('Trust - Frontsheet'!AT195=\"\",'Trust - Frontsheet'!AT195=\"-\"),0,('Trust - Frontsheet'!AT195))","v":0},{"$f":"'Trust - Frontsheet'!AC195","v":0},{"$f":"IF(OR('Trust - Frontsheet'!AD195=\"\",'Trust - Frontsheet'!AD195=\"-\"),0,('Trust - Frontsheet'!AD195))","v":0},{"$f":"IF(OR('Trust - Frontsheet'!AE195=\"\",'Trust - Frontsheet'!AE195=\"-\"),0,('Trust - Frontsheet'!AE195))","v":0},{"$f":"IF(OR('Trust - Frontsheet'!AF195=\"\",'Trust - Frontsheet'!AF195=\"-\"),0,('Trust - Frontsheet'!AF195))","v":0},{"$f":"IF(OR('Trust - Frontsheet'!AG195=\"\",'Trust - Frontsheet'!AG195=\"-\"),0,('Trust - Frontsheet'!AG195))","v":0},{"$f":"IF(OR('Trust - Frontsheet'!AH195=\"\",'Trust - Frontsheet'!AH195=\"-\"),0,('Trust - Frontsheet'!AH195))","v":0},{"$f":"IF(OR('Trust - Frontsheet'!AI195=\"\",'Trust - Frontsheet'!AI195=\"-\"),0,('Trust - Frontsheet'!AI195))","v":0},{"$f":"IF(OR('Trust - Frontsheet'!AJ195=\"\",'Trust - Frontsheet'!AJ195=\"-\"),0,('Trust - Frontsheet'!AJ195))","v":0},{"$f":"IF(A183=\"\",\"\",(IF(ISBLANK('Trust - Frontsheet'!F9),\"\",'Trust - Frontsheet'!F9)))","v":""}]
[{"$f":"IF('Trust - Frontsheet'!D196=0,\"\",IF('Trust - Frontsheet'!D196=\"\",\"\",'Trust - Frontsheet'!D196))","v":""},{"$f":"IF(ISBLANK('Trust - Frontsheet'!E196),\"\",'Trust - Frontsheet'!E196)","v":""},{"$f":"IF(ISBLANK('Trust - Frontsheet'!F196),\"\",\"'\" & 'Trust - Frontsheet'!F196 & \"'\")","v":""},{"$f":"IF(ISBLANK('Trust - Frontsheet'!G196),\"\",'Trust - Frontsheet'!G196)","v":""},{"$f":"IF(ISBLANK('Trust - Frontsheet'!H196),\"\",'Trust - Frontsheet'!H196)","v":""},{"$f":"'Trust - Frontsheet'!I196","v":0},{"$f":"'Trust - Frontsheet'!J196","v":0},{"$f":"'Trust - Frontsheet'!K196","v":0},{"$f":"'Trust - Frontsheet'!L196","v":0},{"$f":"'Trust - Frontsheet'!M196","v":0},{"$f":"'Trust - Frontsheet'!N196","v":0},{"$f":"'Trust - Frontsheet'!O196","v":0},{"$f":"'Trust - Frontsheet'!P196","v":0},{"$f":"'Trust - Frontsheet'!Q196","v":0},{"$f":"'Trust - Frontsheet'!R196","v":0},{"$f":"'Trust - Frontsheet'!S196","v":0},{"$f":"'Trust - Frontsheet'!T196","v":0},{"$f":"'Trust - Frontsheet'!U196","v":0},{"$f":"'Trust - Frontsheet'!V196","v":0},{"$f":"'Trust - Frontsheet'!W196","v":0},{"$f":"'Trust - Frontsheet'!X196","v":0},{"$f":"'Trust - Frontsheet'!Y196","v":0},{"$f":"'Trust - Frontsheet'!Z196","v":0},{"$f":"'Trust - Frontsheet'!AA196","v":0},{"$f":"'Trust - Frontsheet'!AB196","v":0},{"$f":"IF(OR('Trust - Frontsheet'!AK196=\"\",'Trust - Frontsheet'!AK196=\"-\"),0,('Trust - Frontsheet'!AK196))","v":0},{"$f":"IF(OR('Trust - Frontsheet'!AL196=\"\",'Trust - Frontsheet'!AL196=\"-\"),0,('Trust - Frontsheet'!AL196))","v":0},{"$f":"IF(OR('Trust - Frontsheet'!AM196=\"\",'Trust - Frontsheet'!AM196=\"-\"),0,('Trust - Frontsheet'!AM196))","v":0},{"$f":"IF(OR('Trust - Frontsheet'!AN196=\"\",'Trust - Frontsheet'!AN196=\"-\"),0,('Trust - Frontsheet'!AN196))","v":0},{"$f":"IF(OR('Trust - Frontsheet'!AO196=\"\",'Trust - Frontsheet'!AO196=\"-\"),0,('Trust - Frontsheet'!AO196))","v":0},{"$f":"IF(OR('Trust - Frontsheet'!AP196=\"\",'Trust - Frontsheet'!AP196=\"-\"),0,('Trust - Frontsheet'!AP196))","v":0},{"$f":"IF(OR('Trust - Frontsheet'!AQ196=\"\",'Trust - Frontsheet'!AQ196=\"-\"),0,('Trust - Frontsheet'!AQ196))","v":0},{"$f":"IF(OR('Trust - Frontsheet'!AR196=\"\",'Trust - Frontsheet'!AR196=\"-\"),0,('Trust - Frontsheet'!AR196))","v":0},{"$f":"IF(OR('Trust - Frontsheet'!AS196=\"\",'Trust - Frontsheet'!AS196=\"-\"),0,('Trust - Frontsheet'!AS196))","v":0},{"$f":"IF(OR('Trust - Frontsheet'!AT196=\"\",'Trust - Frontsheet'!AT196=\"-\"),0,('Trust - Frontsheet'!AT196))","v":0},{"$f":"'Trust - Frontsheet'!AC196","v":0},{"$f":"IF(OR('Trust - Frontsheet'!AD196=\"\",'Trust - Frontsheet'!AD196=\"-\"),0,('Trust - Frontsheet'!AD196))","v":0},{"$f":"IF(OR('Trust - Frontsheet'!AE196=\"\",'Trust - Frontsheet'!AE196=\"-\"),0,('Trust - Frontsheet'!AE196))","v":0},{"$f":"IF(OR('Trust - Frontsheet'!AF196=\"\",'Trust - Frontsheet'!AF196=\"-\"),0,('Trust - Frontsheet'!AF196))","v":0},{"$f":"IF(OR('Trust - Frontsheet'!AG196=\"\",'Trust - Frontsheet'!AG196=\"-\"),0,('Trust - Frontsheet'!AG196))","v":0},{"$f":"IF(OR('Trust - Frontsheet'!AH196=\"\",'Trust - Frontsheet'!AH196=\"-\"),0,('Trust - Frontsheet'!AH196))","v":0},{"$f":"IF(OR('Trust - Frontsheet'!AI196=\"\",'Trust - Frontsheet'!AI196=\"-\"),0,('Trust - Frontsheet'!AI196))","v":0},{"$f":"IF(OR('Trust - Frontsheet'!AJ196=\"\",'Trust - Frontsheet'!AJ196=\"-\"),0,('Trust - Frontsheet'!AJ196))","v":0},{"$f":"IF(A184=\"\",\"\",(IF(ISBLANK('Trust - Frontsheet'!F9),\"\",'Trust - Frontsheet'!F9)))","v":""}]
[{"$f":"IF('Trust - Frontsheet'!D197=0,\"\",IF('Trust - Frontsheet'!D197=\"\",\"\",'Trust - Frontsheet'!D197))","v":""},{"$f":"IF(ISBLANK('Trust - Frontsheet'!E197),\"\",'Trust - Frontsheet'!E197)","v":""},{"$f":"IF(ISBLANK('Trust - Frontsheet'!F197),\"\",\"'\" & 'Trust - Frontsheet'!F197 & \"'\")","v":""},{"$f":"IF(ISBLANK('Trust - Frontsheet'!G197),\"\",'Trust - Frontsheet'!G197)","v":""},{"$f":"IF(ISBLANK('Trust - Frontsheet'!H197),\"\",'Trust - Frontsheet'!H197)","v":""},{"$f":"'Trust - Frontsheet'!I197","v":0},{"$f":"'Trust - Frontsheet'!J197","v":0},{"$f":"'Trust - Frontsheet'!K197","v":0},{"$f":"'Trust - Frontsheet'!L197","v":0},{"$f":"'Trust - Frontsheet'!M197","v":0},{"$f":"'Trust - Frontsheet'!N197","v":0},{"$f":"'Trust - Frontsheet'!O197","v":0},{"$f":"'Trust - Frontsheet'!P197","v":0},{"$f":"'Trust - Frontsheet'!Q197","v":0},{"$f":"'Trust - Frontsheet'!R197","v":0},{"$f":"'Trust - Frontsheet'!S197","v":0},{"$f":"'Trust - Frontsheet'!T197","v":0},{"$f":"'Trust - Frontsheet'!U197","v":0},{"$f":"'Trust - Frontsheet'!V197","v":0},{"$f":"'Trust - Frontsheet'!W197","v":0},{"$f":"'Trust - Frontsheet'!X197","v":0},{"$f":"'Trust - Frontsheet'!Y197","v":0},{"$f":"'Trust - Frontsheet'!Z197","v":0},{"$f":"'Trust - Frontsheet'!AA197","v":0},{"$f":"'Trust - Frontsheet'!AB197","v":0},{"$f":"IF(OR('Trust - Frontsheet'!AK197=\"\",'Trust - Frontsheet'!AK197=\"-\"),0,('Trust - Frontsheet'!AK197))","v":0},{"$f":"IF(OR('Trust - Frontsheet'!AL197=\"\",'Trust - Frontsheet'!AL197=\"-\"),0,('Trust - Frontsheet'!AL197))","v":0},{"$f":"IF(OR('Trust - Frontsheet'!AM197=\"\",'Trust - Frontsheet'!AM197=\"-\"),0,('Trust - Frontsheet'!AM197))","v":0},{"$f":"IF(OR('Trust - Frontsheet'!AN197=\"\",'Trust - Frontsheet'!AN197=\"-\"),0,('Trust - Frontsheet'!AN197))","v":0},{"$f":"IF(OR('Trust - Frontsheet'!AO197=\"\",'Trust - Frontsheet'!AO197=\"-\"),0,('Trust - Frontsheet'!AO197))","v":0},{"$f":"IF(OR('Trust - Frontsheet'!AP197=\"\",'Trust - Frontsheet'!AP197=\"-\"),0,('Trust - Frontsheet'!AP197))","v":0},{"$f":"IF(OR('Trust - Frontsheet'!AQ197=\"\",'Trust - Frontsheet'!AQ197=\"-\"),0,('Trust - Frontsheet'!AQ197))","v":0},{"$f":"IF(OR('Trust - Frontsheet'!AR197=\"\",'Trust - Frontsheet'!AR197=\"-\"),0,('Trust - Frontsheet'!AR197))","v":0},{"$f":"IF(OR('Trust - Frontsheet'!AS197=\"\",'Trust - Frontsheet'!AS197=\"-\"),0,('Trust - Frontsheet'!AS197))","v":0},{"$f":"IF(OR('Trust - Frontsheet'!AT197=\"\",'Trust - Frontsheet'!AT197=\"-\"),0,('Trust - Frontsheet'!AT197))","v":0},{"$f":"'Trust - Frontsheet'!AC197","v":0},{"$f":"IF(OR('Trust - Frontsheet'!AD197=\"\",'Trust - Frontsheet'!AD197=\"-\"),0,('Trust - Frontsheet'!AD197))","v":0},{"$f":"IF(OR('Trust - Frontsheet'!AE197=\"\",'Trust - Frontsheet'!AE197=\"-\"),0,('Trust - Frontsheet'!AE197))","v":0},{"$f":"IF(OR('Trust - Frontsheet'!AF197=\"\",'Trust - Frontsheet'!AF197=\"-\"),0,('Trust - Frontsheet'!AF197))","v":0},{"$f":"IF(OR('Trust - Frontsheet'!AG197=\"\",'Trust - Frontsheet'!AG197=\"-\"),0,('Trust - Frontsheet'!AG197))","v":0},{"$f":"IF(OR('Trust - Frontsheet'!AH197=\"\",'Trust - Frontsheet'!AH197=\"-\"),0,('Trust - Frontsheet'!AH197))","v":0},{"$f":"IF(OR('Trust - Frontsheet'!AI197=\"\",'Trust - Frontsheet'!AI197=\"-\"),0,('Trust - Frontsheet'!AI197))","v":0},{"$f":"IF(OR('Trust - Frontsheet'!AJ197=\"\",'Trust - Frontsheet'!AJ197=\"-\"),0,('Trust - Frontsheet'!AJ197))","v":0},{"$f":"IF(A185=\"\",\"\",(IF(ISBLANK('Trust - Frontsheet'!F9),\"\",'Trust - Frontsheet'!F9)))","v":""}]
[{"$f":"IF('Trust - Frontsheet'!D198=0,\"\",IF('Trust - Frontsheet'!D198=\"\",\"\",'Trust - Frontsheet'!D198))","v":""},{"$f":"IF(ISBLANK('Trust - Frontsheet'!E198),\"\",'Trust - Frontsheet'!E198)","v":""},{"$f":"IF(ISBLANK('Trust - Frontsheet'!F198),\"\",\"'\" & 'Trust - Frontsheet'!F198 & \"'\")","v":""},{"$f":"IF(ISBLANK('Trust - Frontsheet'!G198),\"\",'Trust - Frontsheet'!G198)","v":""},{"$f":"IF(ISBLANK('Trust - Frontsheet'!H198),\"\",'Trust - Frontsheet'!H198)","v":""},{"$f":"'Trust - Frontsheet'!I198","v":0},{"$f":"'Trust - Frontsheet'!J198","v":0},{"$f":"'Trust - Frontsheet'!K198","v":0},{"$f":"'Trust - Frontsheet'!L198","v":0},{"$f":"'Trust - Frontsheet'!M198","v":0},{"$f":"'Trust - Frontsheet'!N198","v":0},{"$f":"'Trust - Frontsheet'!O198","v":0},{"$f":"'Trust - Frontsheet'!P198","v":0},{"$f":"'Trust - Frontsheet'!Q198","v":0},{"$f":"'Trust - Frontsheet'!R198","v":0},{"$f":"'Trust - Frontsheet'!S198","v":0},{"$f":"'Trust - Frontsheet'!T198","v":0},{"$f":"'Trust - Frontsheet'!U198","v":0},{"$f":"'Trust - Frontsheet'!V198","v":0},{"$f":"'Trust - Frontsheet'!W198","v":0},{"$f":"'Trust - Frontsheet'!X198","v":0},{"$f":"'Trust - Frontsheet'!Y198","v":0},{"$f":"'Trust - Frontsheet'!Z198","v":0},{"$f":"'Trust - Frontsheet'!AA198","v":0},{"$f":"'Trust - Frontsheet'!AB198","v":0},{"$f":"IF(OR('Trust - Frontsheet'!AK198=\"\",'Trust - Frontsheet'!AK198=\"-\"),0,('Trust - Frontsheet'!AK198))","v":0},{"$f":"IF(OR('Trust - Frontsheet'!AL198=\"\",'Trust - Frontsheet'!AL198=\"-\"),0,('Trust - Frontsheet'!AL198))","v":0},{"$f":"IF(OR('Trust - Frontsheet'!AM198=\"\",'Trust - Frontsheet'!AM198=\"-\"),0,('Trust - Frontsheet'!AM198))","v":0},{"$f":"IF(OR('Trust - Frontsheet'!AN198=\"\",'Trust - Frontsheet'!AN198=\"-\"),0,('Trust - Frontsheet'!AN198))","v":0},{"$f":"IF(OR('Trust - Frontsheet'!AO198=\"\",'Trust - Frontsheet'!AO198=\"-\"),0,('Trust - Frontsheet'!AO198))","v":0},{"$f":"IF(OR('Trust - Frontsheet'!AP198=\"\",'Trust - Frontsheet'!AP198=\"-\"),0,('Trust - Frontsheet'!AP198))","v":0},{"$f":"IF(OR('Trust - Frontsheet'!AQ198=\"\",'Trust - Frontsheet'!AQ198=\"-\"),0,('Trust - Frontsheet'!AQ198))","v":0},{"$f":"IF(OR('Trust - Frontsheet'!AR198=\"\",'Trust - Frontsheet'!AR198=\"-\"),0,('Trust - Frontsheet'!AR198))","v":0},{"$f":"IF(OR('Trust - Frontsheet'!AS198=\"\",'Trust - Frontsheet'!AS198=\"-\"),0,('Trust - Frontsheet'!AS198))","v":0},{"$f":"IF(OR('Trust - Frontsheet'!AT198=\"\",'Trust - Frontsheet'!AT198=\"-\"),0,('Trust - Frontsheet'!AT198))","v":0},{"$f":"'Trust - Frontsheet'!AC198","v":0},{"$f":"IF(OR('Trust - Frontsheet'!AD198=\"\",'Trust - Frontsheet'!AD198=\"-\"),0,('Trust - Frontsheet'!AD198))","v":0},{"$f":"IF(OR('Trust - Frontsheet'!AE198=\"\",'Trust - Frontsheet'!AE198=\"-\"),0,('Trust - Frontsheet'!AE198))","v":0},{"$f":"IF(OR('Trust - Frontsheet'!AF198=\"\",'Trust - Frontsheet'!AF198=\"-\"),0,('Trust - Frontsheet'!AF198))","v":0},{"$f":"IF(OR('Trust - Frontsheet'!AG198=\"\",'Trust - Frontsheet'!AG198=\"-\"),0,('Trust - Frontsheet'!AG198))","v":0},{"$f":"IF(OR('Trust - Frontsheet'!AH198=\"\",'Trust - Frontsheet'!AH198=\"-\"),0,('Trust - Frontsheet'!AH198))","v":0},{"$f":"IF(OR('Trust - Frontsheet'!AI198=\"\",'Trust - Frontsheet'!AI198=\"-\"),0,('Trust - Frontsheet'!AI198))","v":0},{"$f":"IF(OR('Trust - Frontsheet'!AJ198=\"\",'Trust - Frontsheet'!AJ198=\"-\"),0,('Trust - Frontsheet'!AJ198))","v":0},{"$f":"IF(A186=\"\",\"\",(IF(ISBLANK('Trust - Frontsheet'!F9),\"\",'Trust - Frontsheet'!F9)))","v":""}]
[{"$f":"IF('Trust - Frontsheet'!D199=0,\"\",IF('Trust - Frontsheet'!D199=\"\",\"\",'Trust - Frontsheet'!D199))","v":""},{"$f":"IF(ISBLANK('Trust - Frontsheet'!E199),\"\",'Trust - Frontsheet'!E199)","v":""},{"$f":"IF(ISBLANK('Trust - Frontsheet'!F199),\"\",\"'\" & 'Trust - Frontsheet'!F199 & \"'\")","v":""},{"$f":"IF(ISBLANK('Trust - Frontsheet'!G199),\"\",'Trust - Frontsheet'!G199)","v":""},{"$f":"IF(ISBLANK('Trust - Frontsheet'!H199),\"\",'Trust - Frontsheet'!H199)","v":""},{"$f":"'Trust - Frontsheet'!I199","v":0},{"$f":"'Trust - Frontsheet'!J199","v":0},{"$f":"'Trust - Frontsheet'!K199","v":0},{"$f":"'Trust - Frontsheet'!L199","v":0},{"$f":"'Trust - Frontsheet'!M199","v":0},{"$f":"'Trust - Frontsheet'!N199","v":0},{"$f":"'Trust - Frontsheet'!O199","v":0},{"$f":"'Trust - Frontsheet'!P199","v":0},{"$f":"'Trust - Frontsheet'!Q199","v":0},{"$f":"'Trust - Frontsheet'!R199","v":0},{"$f":"'Trust - Frontsheet'!S199","v":0},{"$f":"'Trust - Frontsheet'!T199","v":0},{"$f":"'Trust - Frontsheet'!U199","v":0},{"$f":"'Trust - Frontsheet'!V199","v":0},{"$f":"'Trust - Frontsheet'!W199","v":0},{"$f":"'Trust - Frontsheet'!X199","v":0},{"$f":"'Trust - Frontsheet'!Y199","v":0},{"$f":"'Trust - Frontsheet'!Z199","v":0},{"$f":"'Trust - Frontsheet'!AA199","v":0},{"$f":"'Trust - Frontsheet'!AB199","v":0},{"$f":"IF(OR('Trust - Frontsheet'!AK199=\"\",'Trust - Frontsheet'!AK199=\"-\"),0,('Trust - Frontsheet'!AK199))","v":0},{"$f":"IF(OR('Trust - Frontsheet'!AL199=\"\",'Trust - Frontsheet'!AL199=\"-\"),0,('Trust - Frontsheet'!AL199))","v":0},{"$f":"IF(OR('Trust - Frontsheet'!AM199=\"\",'Trust - Frontsheet'!AM199=\"-\"),0,('Trust - Frontsheet'!AM199))","v":0},{"$f":"IF(OR('Trust - Frontsheet'!AN199=\"\",'Trust - Frontsheet'!AN199=\"-\"),0,('Trust - Frontsheet'!AN199))","v":0},{"$f":"IF(OR('Trust - Frontsheet'!AO199=\"\",'Trust - Frontsheet'!AO199=\"-\"),0,('Trust - Frontsheet'!AO199))","v":0},{"$f":"IF(OR('Trust - Frontsheet'!AP199=\"\",'Trust - Frontsheet'!AP199=\"-\"),0,('Trust - Frontsheet'!AP199))","v":0},{"$f":"IF(OR('Trust - Frontsheet'!AQ199=\"\",'Trust - Frontsheet'!AQ199=\"-\"),0,('Trust - Frontsheet'!AQ199))","v":0},{"$f":"IF(OR('Trust - Frontsheet'!AR199=\"\",'Trust - Frontsheet'!AR199=\"-\"),0,('Trust - Frontsheet'!AR199))","v":0},{"$f":"IF(OR('Trust - Frontsheet'!AS199=\"\",'Trust - Frontsheet'!AS199=\"-\"),0,('Trust - Frontsheet'!AS199))","v":0},{"$f":"IF(OR('Trust - Frontsheet'!AT199=\"\",'Trust - Frontsheet'!AT199=\"-\"),0,('Trust - Frontsheet'!AT199))","v":0},{"$f":"'Trust - Frontsheet'!AC199","v":0},{"$f":"IF(OR('Trust - Frontsheet'!AD199=\"\",'Trust - Frontsheet'!AD199=\"-\"),0,('Trust - Frontsheet'!AD199))","v":0},{"$f":"IF(OR('Trust - Frontsheet'!AE199=\"\",'Trust - Frontsheet'!AE199=\"-\"),0,('Trust - Frontsheet'!AE199))","v":0},{"$f":"IF(OR('Trust - Frontsheet'!AF199=\"\",'Trust - Frontsheet'!AF199=\"-\"),0,('Trust - Frontsheet'!AF199))","v":0},{"$f":"IF(OR('Trust - Frontsheet'!AG199=\"\",'Trust - Frontsheet'!AG199=\"-\"),0,('Trust - Frontsheet'!AG199))","v":0},{"$f":"IF(OR('Trust - Frontsheet'!AH199=\"\",'Trust - Frontsheet'!AH199=\"-\"),0,('Trust - Frontsheet'!AH199))","v":0},{"$f":"IF(OR('Trust - Frontsheet'!AI199=\"\",'Trust - Frontsheet'!AI199=\"-\"),0,('Trust - Frontsheet'!AI199))","v":0},{"$f":"IF(OR('Trust - Frontsheet'!AJ199=\"\",'Trust - Frontsheet'!AJ199=\"-\"),0,('Trust - Frontsheet'!AJ199))","v":0},{"$f":"IF(A187=\"\",\"\",(IF(ISBLANK('Trust - Frontsheet'!F9),\"\",'Trust - Frontsheet'!F9)))","v":""}]
[{"$f":"IF('Trust - Frontsheet'!D200=0,\"\",IF('Trust - Frontsheet'!D200=\"\",\"\",'Trust - Frontsheet'!D200))","v":""},{"$f":"IF(ISBLANK('Trust - Frontsheet'!E200),\"\",'Trust - Frontsheet'!E200)","v":""},{"$f":"IF(ISBLANK('Trust - Frontsheet'!F200),\"\",\"'\" & 'Trust - Frontsheet'!F200 & \"'\")","v":""},{"$f":"IF(ISBLANK('Trust - Frontsheet'!G200),\"\",'Trust - Frontsheet'!G200)","v":""},{"$f":"IF(ISBLANK('Trust - Frontsheet'!H200),\"\",'Trust - Frontsheet'!H200)","v":""},{"$f":"'Trust - Frontsheet'!I200","v":0},{"$f":"'Trust - Frontsheet'!J200","v":0},{"$f":"'Trust - Frontsheet'!K200","v":0},{"$f":"'Trust - Frontsheet'!L200","v":0},{"$f":"'Trust - Frontsheet'!M200","v":0},{"$f":"'Trust - Frontsheet'!N200","v":0},{"$f":"'Trust - Frontsheet'!O200","v":0},{"$f":"'Trust - Frontsheet'!P200","v":0},{"$f":"'Trust - Frontsheet'!Q200","v":0},{"$f":"'Trust - Frontsheet'!R200","v":0},{"$f":"'Trust - Frontsheet'!S200","v":0},{"$f":"'Trust - Frontsheet'!T200","v":0},{"$f":"'Trust - Frontsheet'!U200","v":0},{"$f":"'Trust - Frontsheet'!V200","v":0},{"$f":"'Trust - Frontsheet'!W200","v":0},{"$f":"'Trust - Frontsheet'!X200","v":0},{"$f":"'Trust - Frontsheet'!Y200","v":0},{"$f":"'Trust - Frontsheet'!Z200","v":0},{"$f":"'Trust - Frontsheet'!AA200","v":0},{"$f":"'Trust - Frontsheet'!AB200","v":0},{"$f":"IF(OR('Trust - Frontsheet'!AK200=\"\",'Trust - Frontsheet'!AK200=\"-\"),0,('Trust - Frontsheet'!AK200))","v":0},{"$f":"IF(OR('Trust - Frontsheet'!AL200=\"\",'Trust - Frontsheet'!AL200=\"-\"),0,('Trust - Frontsheet'!AL200))","v":0},{"$f":"IF(OR('Trust - Frontsheet'!AM200=\"\",'Trust - Frontsheet'!AM200=\"-\"),0,('Trust - Frontsheet'!AM200))","v":0},{"$f":"IF(OR('Trust - Frontsheet'!AN200=\"\",'Trust - Frontsheet'!AN200=\"-\"),0,('Trust - Frontsheet'!AN200))","v":0},{"$f":"IF(OR('Trust - Frontsheet'!AO200=\"\",'Trust - Frontsheet'!AO200=\"-\"),0,('Trust - Frontsheet'!AO200))","v":0},{"$f":"IF(OR('Trust - Frontsheet'!AP200=\"\",'Trust - Frontsheet'!AP200=\"-\"),0,('Trust - Frontsheet'!AP200))","v":0},{"$f":"IF(OR('Trust - Frontsheet'!AQ200=\"\",'Trust - Frontsheet'!AQ200=\"-\"),0,('Trust - Frontsheet'!AQ200))","v":0},{"$f":"IF(OR('Trust - Frontsheet'!AR200=\"\",'Trust - Frontsheet'!AR200=\"-\"),0,('Trust - Frontsheet'!AR200))","v":0},{"$f":"IF(OR('Trust - Frontsheet'!AS200=\"\",'Trust - Frontsheet'!AS200=\"-\"),0,('Trust - Frontsheet'!AS200))","v":0},{"$f":"IF(OR('Trust - Frontsheet'!AT200=\"\",'Trust - Frontsheet'!AT200=\"-\"),0,('Trust - Frontsheet'!AT200))","v":0},{"$f":"'Trust - Frontsheet'!AC200","v":0},{"$f":"IF(OR('Trust - Frontsheet'!AD200=\"\",'Trust - Frontsheet'!AD200=\"-\"),0,('Trust - Frontsheet'!AD200))","v":0},{"$f":"IF(OR('Trust - Frontsheet'!AE200=\"\",'Trust - Frontsheet'!AE200=\"-\"),0,('Trust - Frontsheet'!AE200))","v":0},{"$f":"IF(OR('Trust - Frontsheet'!AF200=\"\",'Trust - Frontsheet'!AF200=\"-\"),0,('Trust - Frontsheet'!AF200))","v":0},{"$f":"IF(OR('Trust - Frontsheet'!AG200=\"\",'Trust - Frontsheet'!AG200=\"-\"),0,('Trust - Frontsheet'!AG200))","v":0},{"$f":"IF(OR('Trust - Frontsheet'!AH200=\"\",'Trust - Frontsheet'!AH200=\"-\"),0,('Trust - Frontsheet'!AH200))","v":0},{"$f":"IF(OR('Trust - Frontsheet'!AI200=\"\",'Trust - Frontsheet'!AI200=\"-\"),0,('Trust - Frontsheet'!AI200))","v":0},{"$f":"IF(OR('Trust - Frontsheet'!AJ200=\"\",'Trust - Frontsheet'!AJ200=\"-\"),0,('Trust - Frontsheet'!AJ200))","v":0},{"$f":"IF(A188=\"\",\"\",(IF(ISBLANK('Trust - Frontsheet'!F9),\"\",'Trust - Frontsheet'!F9)))","v":""}]
[{"$f":"IF('Trust - Frontsheet'!D201=0,\"\",IF('Trust - Frontsheet'!D201=\"\",\"\",'Trust - Frontsheet'!D201))","v":""},{"$f":"IF(ISBLANK('Trust - Frontsheet'!E201),\"\",'Trust - Frontsheet'!E201)","v":""},{"$f":"IF(ISBLANK('Trust - Frontsheet'!F201),\"\",\"'\" & 'Trust - Frontsheet'!F201 & \"'\")","v":""},{"$f":"IF(ISBLANK('Trust - Frontsheet'!G201),\"\",'Trust - Frontsheet'!G201)","v":""},{"$f":"IF(ISBLANK('Trust - Frontsheet'!H201),\"\",'Trust - Frontsheet'!H201)","v":""},{"$f":"'Trust - Frontsheet'!I201","v":0},{"$f":"'Trust - Frontsheet'!J201","v":0},{"$f":"'Trust - Frontsheet'!K201","v":0},{"$f":"'Trust - Frontsheet'!L201","v":0},{"$f":"'Trust - Frontsheet'!M201","v":0},{"$f":"'Trust - Frontsheet'!N201","v":0},{"$f":"'Trust - Frontsheet'!O201","v":0},{"$f":"'Trust - Frontsheet'!P201","v":0},{"$f":"'Trust - Frontsheet'!Q201","v":0},{"$f":"'Trust - Frontsheet'!R201","v":0},{"$f":"'Trust - Frontsheet'!S201","v":0},{"$f":"'Trust - Frontsheet'!T201","v":0},{"$f":"'Trust - Frontsheet'!U201","v":0},{"$f":"'Trust - Frontsheet'!V201","v":0},{"$f":"'Trust - Frontsheet'!W201","v":0},{"$f":"'Trust - Frontsheet'!X201","v":0},{"$f":"'Trust - Frontsheet'!Y201","v":0},{"$f":"'Trust - Frontsheet'!Z201","v":0},{"$f":"'Trust - Frontsheet'!AA201","v":0},{"$f":"'Trust - Frontsheet'!AB201","v":0},{"$f":"IF(OR('Trust - Frontsheet'!AK201=\"\",'Trust - Frontsheet'!AK201=\"-\"),0,('Trust - Frontsheet'!AK201))","v":0},{"$f":"IF(OR('Trust - Frontsheet'!AL201=\"\",'Trust - Frontsheet'!AL201=\"-\"),0,('Trust - Frontsheet'!AL201))","v":0},{"$f":"IF(OR('Trust - Frontsheet'!AM201=\"\",'Trust - Frontsheet'!AM201=\"-\"),0,('Trust - Frontsheet'!AM201))","v":0},{"$f":"IF(OR('Trust - Frontsheet'!AN201=\"\",'Trust - Frontsheet'!AN201=\"-\"),0,('Trust - Frontsheet'!AN201))","v":0},{"$f":"IF(OR('Trust - Frontsheet'!AO201=\"\",'Trust - Frontsheet'!AO201=\"-\"),0,('Trust - Frontsheet'!AO201))","v":0},{"$f":"IF(OR('Trust - Frontsheet'!AP201=\"\",'Trust - Frontsheet'!AP201=\"-\"),0,('Trust - Frontsheet'!AP201))","v":0},{"$f":"IF(OR('Trust - Frontsheet'!AQ201=\"\",'Trust - Frontsheet'!AQ201=\"-\"),0,('Trust - Frontsheet'!AQ201))","v":0},{"$f":"IF(OR('Trust - Frontsheet'!AR201=\"\",'Trust - Frontsheet'!AR201=\"-\"),0,('Trust - Frontsheet'!AR201))","v":0},{"$f":"IF(OR('Trust - Frontsheet'!AS201=\"\",'Trust - Frontsheet'!AS201=\"-\"),0,('Trust - Frontsheet'!AS201))","v":0},{"$f":"IF(OR('Trust - Frontsheet'!AT201=\"\",'Trust - Frontsheet'!AT201=\"-\"),0,('Trust - Frontsheet'!AT201))","v":0},{"$f":"'Trust - Frontsheet'!AC201","v":0},{"$f":"IF(OR('Trust - Frontsheet'!AD201=\"\",'Trust - Frontsheet'!AD201=\"-\"),0,('Trust - Frontsheet'!AD201))","v":0},{"$f":"IF(OR('Trust - Frontsheet'!AE201=\"\",'Trust - Frontsheet'!AE201=\"-\"),0,('Trust - Frontsheet'!AE201))","v":0},{"$f":"IF(OR('Trust - Frontsheet'!AF201=\"\",'Trust - Frontsheet'!AF201=\"-\"),0,('Trust - Frontsheet'!AF201))","v":0},{"$f":"IF(OR('Trust - Frontsheet'!AG201=\"\",'Trust - Frontsheet'!AG201=\"-\"),0,('Trust - Frontsheet'!AG201))","v":0},{"$f":"IF(OR('Trust - Frontsheet'!AH201=\"\",'Trust - Frontsheet'!AH201=\"-\"),0,('Trust - Frontsheet'!AH201))","v":0},{"$f":"IF(OR('Trust - Frontsheet'!AI201=\"\",'Trust - Frontsheet'!AI201=\"-\"),0,('Trust - Frontsheet'!AI201))","v":0},{"$f":"IF(OR('Trust - Frontsheet'!AJ201=\"\",'Trust - Frontsheet'!AJ201=\"-\"),0,('Trust - Frontsheet'!AJ201))","v":0},{"$f":"IF(A189=\"\",\"\",(IF(ISBLANK('Trust - Frontsheet'!F9),\"\",'Trust - Frontsheet'!F9)))","v":""}]
[{"$f":"IF('Trust - Frontsheet'!D202=0,\"\",IF('Trust - Frontsheet'!D202=\"\",\"\",'Trust - Frontsheet'!D202))","v":""},{"$f":"IF(ISBLANK('Trust - Frontsheet'!E202),\"\",'Trust - Frontsheet'!E202)","v":""},{"$f":"IF(ISBLANK('Trust - Frontsheet'!F202),\"\",\"'\" & 'Trust - Frontsheet'!F202 & \"'\")","v":""},{"$f":"IF(ISBLANK('Trust - Frontsheet'!G202),\"\",'Trust - Frontsheet'!G202)","v":""},{"$f":"IF(ISBLANK('Trust - Frontsheet'!H202),\"\",'Trust - Frontsheet'!H202)","v":""},{"$f":"'Trust - Frontsheet'!I202","v":0},{"$f":"'Trust - Frontsheet'!J202","v":0},{"$f":"'Trust - Frontsheet'!K202","v":0},{"$f":"'Trust - Frontsheet'!L202","v":0},{"$f":"'Trust - Frontsheet'!M202","v":0},{"$f":"'Trust - Frontsheet'!N202","v":0},{"$f":"'Trust - Frontsheet'!O202","v":0},{"$f":"'Trust - Frontsheet'!P202","v":0},{"$f":"'Trust - Frontsheet'!Q202","v":0},{"$f":"'Trust - Frontsheet'!R202","v":0},{"$f":"'Trust - Frontsheet'!S202","v":0},{"$f":"'Trust - Frontsheet'!T202","v":0},{"$f":"'Trust - Frontsheet'!U202","v":0},{"$f":"'Trust - Frontsheet'!V202","v":0},{"$f":"'Trust - Frontsheet'!W202","v":0},{"$f":"'Trust - Frontsheet'!X202","v":0},{"$f":"'Trust - Frontsheet'!Y202","v":0},{"$f":"'Trust - Frontsheet'!Z202","v":0},{"$f":"'Trust - Frontsheet'!AA202","v":0},{"$f":"'Trust - Frontsheet'!AB202","v":0},{"$f":"IF(OR('Trust - Frontsheet'!AK202=\"\",'Trust - Frontsheet'!AK202=\"-\"),0,('Trust - Frontsheet'!AK202))","v":0},{"$f":"IF(OR('Trust - Frontsheet'!AL202=\"\",'Trust - Frontsheet'!AL202=\"-\"),0,('Trust - Frontsheet'!AL202))","v":0},{"$f":"IF(OR('Trust - Frontsheet'!AM202=\"\",'Trust - Frontsheet'!AM202=\"-\"),0,('Trust - Frontsheet'!AM202))","v":0},{"$f":"IF(OR('Trust - Frontsheet'!AN202=\"\",'Trust - Frontsheet'!AN202=\"-\"),0,('Trust - Frontsheet'!AN202))","v":0},{"$f":"IF(OR('Trust - Frontsheet'!AO202=\"\",'Trust - Frontsheet'!AO202=\"-\"),0,('Trust - Frontsheet'!AO202))","v":0},{"$f":"IF(OR('Trust - Frontsheet'!AP202=\"\",'Trust - Frontsheet'!AP202=\"-\"),0,('Trust - Frontsheet'!AP202))","v":0},{"$f":"IF(OR('Trust - Frontsheet'!AQ202=\"\",'Trust - Frontsheet'!AQ202=\"-\"),0,('Trust - Frontsheet'!AQ202))","v":0},{"$f":"IF(OR('Trust - Frontsheet'!AR202=\"\",'Trust - Frontsheet'!AR202=\"-\"),0,('Trust - Frontsheet'!AR202))","v":0},{"$f":"IF(OR('Trust - Frontsheet'!AS202=\"\",'Trust - Frontsheet'!AS202=\"-\"),0,('Trust - Frontsheet'!AS202))","v":0},{"$f":"IF(OR('Trust - Frontsheet'!AT202=\"\",'Trust - Frontsheet'!AT202=\"-\"),0,('Trust - Frontsheet'!AT202))","v":0},{"$f":"'Trust - Frontsheet'!AC202","v":0},{"$f":"IF(OR('Trust - Frontsheet'!AD202=\"\",'Trust - Frontsheet'!AD202=\"-\"),0,('Trust - Frontsheet'!AD202))","v":0},{"$f":"IF(OR('Trust - Frontsheet'!AE202=\"\",'Trust - Frontsheet'!AE202=\"-\"),0,('Trust - Frontsheet'!AE202))","v":0},{"$f":"IF(OR('Trust - Frontsheet'!AF202=\"\",'Trust - Frontsheet'!AF202=\"-\"),0,('Trust - Frontsheet'!AF202))","v":0},{"$f":"IF(OR('Trust - Frontsheet'!AG202=\"\",'Trust - Frontsheet'!AG202=\"-\"),0,('Trust - Frontsheet'!AG202))","v":0},{"$f":"IF(OR('Trust - Frontsheet'!AH202=\"\",'Trust - Frontsheet'!AH202=\"-\"),0,('Trust - Frontsheet'!AH202))","v":0},{"$f":"IF(OR('Trust - Frontsheet'!AI202=\"\",'Trust - Frontsheet'!AI202=\"-\"),0,('Trust - Frontsheet'!AI202))","v":0},{"$f":"IF(OR('Trust - Frontsheet'!AJ202=\"\",'Trust - Frontsheet'!AJ202=\"-\"),0,('Trust - Frontsheet'!AJ202))","v":0},{"$f":"IF(A190=\"\",\"\",(IF(ISBLANK('Trust - Frontsheet'!F9),\"\",'Trust - Frontsheet'!F9)))","v":""}]
[{"$f":"IF('Trust - Frontsheet'!D203=0,\"\",IF('Trust - Frontsheet'!D203=\"\",\"\",'Trust - Frontsheet'!D203))","v":""},{"$f":"IF(ISBLANK('Trust - Frontsheet'!E203),\"\",'Trust - Frontsheet'!E203)","v":""},{"$f":"IF(ISBLANK('Trust - Frontsheet'!F203),\"\",\"'\" & 'Trust - Frontsheet'!F203 & \"'\")","v":""},{"$f":"IF(ISBLANK('Trust - Frontsheet'!G203),\"\",'Trust - Frontsheet'!G203)","v":""},{"$f":"IF(ISBLANK('Trust - Frontsheet'!H203),\"\",'Trust - Frontsheet'!H203)","v":""},{"$f":"'Trust - Frontsheet'!I203","v":0},{"$f":"'Trust - Frontsheet'!J203","v":0},{"$f":"'Trust - Frontsheet'!K203","v":0},{"$f":"'Trust - Frontsheet'!L203","v":0},{"$f":"'Trust - Frontsheet'!M203","v":0},{"$f":"'Trust - Frontsheet'!N203","v":0},{"$f":"'Trust - Frontsheet'!O203","v":0},{"$f":"'Trust - Frontsheet'!P203","v":0},{"$f":"'Trust - Frontsheet'!Q203","v":0},{"$f":"'Trust - Frontsheet'!R203","v":0},{"$f":"'Trust - Frontsheet'!S203","v":0},{"$f":"'Trust - Frontsheet'!T203","v":0},{"$f":"'Trust - Frontsheet'!U203","v":0},{"$f":"'Trust - Frontsheet'!V203","v":0},{"$f":"'Trust - Frontsheet'!W203","v":0},{"$f":"'Trust - Frontsheet'!X203","v":0},{"$f":"'Trust - Frontsheet'!Y203","v":0},{"$f":"'Trust - Frontsheet'!Z203","v":0},{"$f":"'Trust - Frontsheet'!AA203","v":0},{"$f":"'Trust - Frontsheet'!AB203","v":0},{"$f":"IF(OR('Trust - Frontsheet'!AK203=\"\",'Trust - Frontsheet'!AK203=\"-\"),0,('Trust - Frontsheet'!AK203))","v":0},{"$f":"IF(OR('Trust - Frontsheet'!AL203=\"\",'Trust - Frontsheet'!AL203=\"-\"),0,('Trust - Frontsheet'!AL203))","v":0},{"$f":"IF(OR('Trust - Frontsheet'!AM203=\"\",'Trust - Frontsheet'!AM203=\"-\"),0,('Trust - Frontsheet'!AM203))","v":0},{"$f":"IF(OR('Trust - Frontsheet'!AN203=\"\",'Trust - Frontsheet'!AN203=\"-\"),0,('Trust - Frontsheet'!AN203))","v":0},{"$f":"IF(OR('Trust - Frontsheet'!AO203=\"\",'Trust - Frontsheet'!AO203=\"-\"),0,('Trust - Frontsheet'!AO203))","v":0},{"$f":"IF(OR('Trust - Frontsheet'!AP203=\"\",'Trust - Frontsheet'!AP203=\"-\"),0,('Trust - Frontsheet'!AP203))","v":0},{"$f":"IF(OR('Trust - Frontsheet'!AQ203=\"\",'Trust - Frontsheet'!AQ203=\"-\"),0,('Trust - Frontsheet'!AQ203))","v":0},{"$f":"IF(OR('Trust - Frontsheet'!AR203=\"\",'Trust - Frontsheet'!AR203=\"-\"),0,('Trust - Frontsheet'!AR203))","v":0},{"$f":"IF(OR('Trust - Frontsheet'!AS203=\"\",'Trust - Frontsheet'!AS203=\"-\"),0,('Trust - Frontsheet'!AS203))","v":0},{"$f":"IF(OR('Trust - Frontsheet'!AT203=\"\",'Trust - Frontsheet'!AT203=\"-\"),0,('Trust - Frontsheet'!AT203))","v":0},{"$f":"'Trust - Frontsheet'!AC203","v":0},{"$f":"IF(OR('Trust - Frontsheet'!AD203=\"\",'Trust - Frontsheet'!AD203=\"-\"),0,('Trust - Frontsheet'!AD203))","v":0},{"$f":"IF(OR('Trust - Frontsheet'!AE203=\"\",'Trust - Frontsheet'!AE203=\"-\"),0,('Trust - Frontsheet'!AE203))","v":0},{"$f":"IF(OR('Trust - Frontsheet'!AF203=\"\",'Trust - Frontsheet'!AF203=\"-\"),0,('Trust - Frontsheet'!AF203))","v":0},{"$f":"IF(OR('Trust - Frontsheet'!AG203=\"\",'Trust - Frontsheet'!AG203=\"-\"),0,('Trust - Frontsheet'!AG203))","v":0},{"$f":"IF(OR('Trust - Frontsheet'!AH203=\"\",'Trust - Frontsheet'!AH203=\"-\"),0,('Trust - Frontsheet'!AH203))","v":0},{"$f":"IF(OR('Trust - Frontsheet'!AI203=\"\",'Trust - Frontsheet'!AI203=\"-\"),0,('Trust - Frontsheet'!AI203))","v":0},{"$f":"IF(OR('Trust - Frontsheet'!AJ203=\"\",'Trust - Frontsheet'!AJ203=\"-\"),0,('Trust - Frontsheet'!AJ203))","v":0},{"$f":"IF(A191=\"\",\"\",(IF(ISBLANK('Trust - Frontsheet'!F9),\"\",'Trust - Frontsheet'!F9)))","v":""}]
[{"$f":"IF('Trust - Frontsheet'!D204=0,\"\",IF('Trust - Frontsheet'!D204=\"\",\"\",'Trust - Frontsheet'!D204))","v":""},{"$f":"IF(ISBLANK('Trust - Frontsheet'!E204),\"\",'Trust - Frontsheet'!E204)","v":""},{"$f":"IF(ISBLANK('Trust - Frontsheet'!F204),\"\",\"'\" & 'Trust - Frontsheet'!F204 & \"'\")","v":""},{"$f":"IF(ISBLANK('Trust - Frontsheet'!G204),\"\",'Trust - Frontsheet'!G204)","v":""},{"$f":"IF(ISBLANK('Trust - Frontsheet'!H204),\"\",'Trust - Frontsheet'!H204)","v":""},{"$f":"'Trust - Frontsheet'!I204","v":0},{"$f":"'Trust - Frontsheet'!J204","v":0},{"$f":"'Trust - Frontsheet'!K204","v":0},{"$f":"'Trust - Frontsheet'!L204","v":0},{"$f":"'Trust - Frontsheet'!M204","v":0},{"$f":"'Trust - Frontsheet'!N204","v":0},{"$f":"'Trust - Frontsheet'!O204","v":0},{"$f":"'Trust - Frontsheet'!P204","v":0},{"$f":"'Trust - Frontsheet'!Q204","v":0},{"$f":"'Trust - Frontsheet'!R204","v":0},{"$f":"'Trust - Frontsheet'!S204","v":0},{"$f":"'Trust - Frontsheet'!T204","v":0},{"$f":"'Trust - Frontsheet'!U204","v":0},{"$f":"'Trust - Frontsheet'!V204","v":0},{"$f":"'Trust - Frontsheet'!W204","v":0},{"$f":"'Trust - Frontsheet'!X204","v":0},{"$f":"'Trust - Frontsheet'!Y204","v":0},{"$f":"'Trust - Frontsheet'!Z204","v":0},{"$f":"'Trust - Frontsheet'!AA204","v":0},{"$f":"'Trust - Frontsheet'!AB204","v":0},{"$f":"IF(OR('Trust - Frontsheet'!AK204=\"\",'Trust - Frontsheet'!AK204=\"-\"),0,('Trust - Frontsheet'!AK204))","v":0},{"$f":"IF(OR('Trust - Frontsheet'!AL204=\"\",'Trust - Frontsheet'!AL204=\"-\"),0,('Trust - Frontsheet'!AL204))","v":0},{"$f":"IF(OR('Trust - Frontsheet'!AM204=\"\",'Trust - Frontsheet'!AM204=\"-\"),0,('Trust - Frontsheet'!AM204))","v":0},{"$f":"IF(OR('Trust - Frontsheet'!AN204=\"\",'Trust - Frontsheet'!AN204=\"-\"),0,('Trust - Frontsheet'!AN204))","v":0},{"$f":"IF(OR('Trust - Frontsheet'!AO204=\"\",'Trust - Frontsheet'!AO204=\"-\"),0,('Trust - Frontsheet'!AO204))","v":0},{"$f":"IF(OR('Trust - Frontsheet'!AP204=\"\",'Trust - Frontsheet'!AP204=\"-\"),0,('Trust - Frontsheet'!AP204))","v":0},{"$f":"IF(OR('Trust - Frontsheet'!AQ204=\"\",'Trust - Frontsheet'!AQ204=\"-\"),0,('Trust - Frontsheet'!AQ204))","v":0},{"$f":"IF(OR('Trust - Frontsheet'!AR204=\"\",'Trust - Frontsheet'!AR204=\"-\"),0,('Trust - Frontsheet'!AR204))","v":0},{"$f":"IF(OR('Trust - Frontsheet'!AS204=\"\",'Trust - Frontsheet'!AS204=\"-\"),0,('Trust - Frontsheet'!AS204))","v":0},{"$f":"IF(OR('Trust - Frontsheet'!AT204=\"\",'Trust - Frontsheet'!AT204=\"-\"),0,('Trust - Frontsheet'!AT204))","v":0},{"$f":"'Trust - Frontsheet'!AC204","v":0},{"$f":"IF(OR('Trust - Frontsheet'!AD204=\"\",'Trust - Frontsheet'!AD204=\"-\"),0,('Trust - Frontsheet'!AD204))","v":0},{"$f":"IF(OR('Trust - Frontsheet'!AE204=\"\",'Trust - Frontsheet'!AE204=\"-\"),0,('Trust - Frontsheet'!AE204))","v":0},{"$f":"IF(OR('Trust - Frontsheet'!AF204=\"\",'Trust - Frontsheet'!AF204=\"-\"),0,('Trust - Frontsheet'!AF204))","v":0},{"$f":"IF(OR('Trust - Frontsheet'!AG204=\"\",'Trust - Frontsheet'!AG204=\"-\"),0,('Trust - Frontsheet'!AG204))","v":0},{"$f":"IF(OR('Trust - Frontsheet'!AH204=\"\",'Trust - Frontsheet'!AH204=\"-\"),0,('Trust - Frontsheet'!AH204))","v":0},{"$f":"IF(OR('Trust - Frontsheet'!AI204=\"\",'Trust - Frontsheet'!AI204=\"-\"),0,('Trust - Frontsheet'!AI204))","v":0},{"$f":"IF(OR('Trust - Frontsheet'!AJ204=\"\",'Trust - Frontsheet'!AJ204=\"-\"),0,('Trust - Frontsheet'!AJ204))","v":0},{"$f":"IF(A192=\"\",\"\",(IF(ISBLANK('Trust - Frontsheet'!F9),\"\",'Trust - Frontsheet'!F9)))","v":""}]
[{"$f":"IF('Trust - Frontsheet'!D205=0,\"\",IF('Trust - Frontsheet'!D205=\"\",\"\",'Trust - Frontsheet'!D205))","v":""},{"$f":"IF(ISBLANK('Trust - Frontsheet'!E205),\"\",'Trust - Frontsheet'!E205)","v":""},{"$f":"IF(ISBLANK('Trust - Frontsheet'!F205),\"\",\"'\" & 'Trust - Frontsheet'!F205 & \"'\")","v":""},{"$f":"IF(ISBLANK('Trust - Frontsheet'!G205),\"\",'Trust - Frontsheet'!G205)","v":""},{"$f":"IF(ISBLANK('Trust - Frontsheet'!H205),\"\",'Trust - Frontsheet'!H205)","v":""},{"$f":"'Trust - Frontsheet'!I205","v":0},{"$f":"'Trust - Frontsheet'!J205","v":0},{"$f":"'Trust - Frontsheet'!K205","v":0},{"$f":"'Trust - Frontsheet'!L205","v":0},{"$f":"'Trust - Frontsheet'!M205","v":0},{"$f":"'Trust - Frontsheet'!N205","v":0},{"$f":"'Trust - Frontsheet'!O205","v":0},{"$f":"'Trust - Frontsheet'!P205","v":0},{"$f":"'Trust - Frontsheet'!Q205","v":0},{"$f":"'Trust - Frontsheet'!R205","v":0},{"$f":"'Trust - Frontsheet'!S205","v":0},{"$f":"'Trust - Frontsheet'!T205","v":0},{"$f":"'Trust - Frontsheet'!U205","v":0},{"$f":"'Trust - Frontsheet'!V205","v":0},{"$f":"'Trust - Frontsheet'!W205","v":0},{"$f":"'Trust - Frontsheet'!X205","v":0},{"$f":"'Trust - Frontsheet'!Y205","v":0},{"$f":"'Trust - Frontsheet'!Z205","v":0},{"$f":"'Trust - Frontsheet'!AA205","v":0},{"$f":"'Trust - Frontsheet'!AB205","v":0},{"$f":"IF(OR('Trust - Frontsheet'!AK205=\"\",'Trust - Frontsheet'!AK205=\"-\"),0,('Trust - Frontsheet'!AK205))","v":0},{"$f":"IF(OR('Trust - Frontsheet'!AL205=\"\",'Trust - Frontsheet'!AL205=\"-\"),0,('Trust - Frontsheet'!AL205))","v":0},{"$f":"IF(OR('Trust - Frontsheet'!AM205=\"\",'Trust - Frontsheet'!AM205=\"-\"),0,('Trust - Frontsheet'!AM205))","v":0},{"$f":"IF(OR('Trust - Frontsheet'!AN205=\"\",'Trust - Frontsheet'!AN205=\"-\"),0,('Trust - Frontsheet'!AN205))","v":0},{"$f":"IF(OR('Trust - Frontsheet'!AO205=\"\",'Trust - Frontsheet'!AO205=\"-\"),0,('Trust - Frontsheet'!AO205))","v":0},{"$f":"IF(OR('Trust - Frontsheet'!AP205=\"\",'Trust - Frontsheet'!AP205=\"-\"),0,('Trust - Frontsheet'!AP205))","v":0},{"$f":"IF(OR('Trust - Frontsheet'!AQ205=\"\",'Trust - Frontsheet'!AQ205=\"-\"),0,('Trust - Frontsheet'!AQ205))","v":0},{"$f":"IF(OR('Trust - Frontsheet'!AR205=\"\",'Trust - Frontsheet'!AR205=\"-\"),0,('Trust - Frontsheet'!AR205))","v":0},{"$f":"IF(OR('Trust - Frontsheet'!AS205=\"\",'Trust - Frontsheet'!AS205=\"-\"),0,('Trust - Frontsheet'!AS205))","v":0},{"$f":"IF(OR('Trust - Frontsheet'!AT205=\"\",'Trust - Frontsheet'!AT205=\"-\"),0,('Trust - Frontsheet'!AT205))","v":0},{"$f":"'Trust - Frontsheet'!AC205","v":0},{"$f":"IF(OR('Trust - Frontsheet'!AD205=\"\",'Trust - Frontsheet'!AD205=\"-\"),0,('Trust - Frontsheet'!AD205))","v":0},{"$f":"IF(OR('Trust - Frontsheet'!AE205=\"\",'Trust - Frontsheet'!AE205=\"-\"),0,('Trust - Frontsheet'!AE205))","v":0},{"$f":"IF(OR('Trust - Frontsheet'!AF205=\"\",'Trust - Frontsheet'!AF205=\"-\"),0,('Trust - Frontsheet'!AF205))","v":0},{"$f":"IF(OR('Trust - Frontsheet'!AG205=\"\",'Trust - Frontsheet'!AG205=\"-\"),0,('Trust - Frontsheet'!AG205))","v":0},{"$f":"IF(OR('Trust - Frontsheet'!AH205=\"\",'Trust - Frontsheet'!AH205=\"-\"),0,('Trust - Frontsheet'!AH205))","v":0},{"$f":"IF(OR('Trust - Frontsheet'!AI205=\"\",'Trust - Frontsheet'!AI205=\"-\"),0,('Trust - Frontsheet'!AI205))","v":0},{"$f":"IF(OR('Trust - Frontsheet'!AJ205=\"\",'Trust - Frontsheet'!AJ205=\"-\"),0,('Trust - Frontsheet'!AJ205))","v":0},{"$f":"IF(A193=\"\",\"\",(IF(ISBLANK('Trust - Frontsheet'!F9),\"\",'Trust - Frontsheet'!F9)))","v":""}]
[{"$f":"IF('Trust - Frontsheet'!D206=0,\"\",IF('Trust - Frontsheet'!D206=\"\",\"\",'Trust - Frontsheet'!D206))","v":""},{"$f":"IF(ISBLANK('Trust - Frontsheet'!E206),\"\",'Trust - Frontsheet'!E206)","v":""},{"$f":"IF(ISBLANK('Trust - Frontsheet'!F206),\"\",\"'\" & 'Trust - Frontsheet'!F206 & \"'\")","v":""},{"$f":"IF(ISBLANK('Trust - Frontsheet'!G206),\"\",'Trust - Frontsheet'!G206)","v":""},{"$f":"IF(ISBLANK('Trust - Frontsheet'!H206),\"\",'Trust - Frontsheet'!H206)","v":""},{"$f":"'Trust - Frontsheet'!I206","v":0},{"$f":"'Trust - Frontsheet'!J206","v":0},{"$f":"'Trust - Frontsheet'!K206","v":0},{"$f":"'Trust - Frontsheet'!L206","v":0},{"$f":"'Trust - Frontsheet'!M206","v":0},{"$f":"'Trust - Frontsheet'!N206","v":0},{"$f":"'Trust - Frontsheet'!O206","v":0},{"$f":"'Trust - Frontsheet'!P206","v":0},{"$f":"'Trust - Frontsheet'!Q206","v":0},{"$f":"'Trust - Frontsheet'!R206","v":0},{"$f":"'Trust - Frontsheet'!S206","v":0},{"$f":"'Trust - Frontsheet'!T206","v":0},{"$f":"'Trust - Frontsheet'!U206","v":0},{"$f":"'Trust - Frontsheet'!V206","v":0},{"$f":"'Trust - Frontsheet'!W206","v":0},{"$f":"'Trust - Frontsheet'!X206","v":0},{"$f":"'Trust - Frontsheet'!Y206","v":0},{"$f":"'Trust - Frontsheet'!Z206","v":0},{"$f":"'Trust - Frontsheet'!AA206","v":0},{"$f":"'Trust - Frontsheet'!AB206","v":0},{"$f":"IF(OR('Trust - Frontsheet'!AK206=\"\",'Trust - Frontsheet'!AK206=\"-\"),0,('Trust - Frontsheet'!AK206))","v":0},{"$f":"IF(OR('Trust - Frontsheet'!AL206=\"\",'Trust - Frontsheet'!AL206=\"-\"),0,('Trust - Frontsheet'!AL206))","v":0},{"$f":"IF(OR('Trust - Frontsheet'!AM206=\"\",'Trust - Frontsheet'!AM206=\"-\"),0,('Trust - Frontsheet'!AM206))","v":0},{"$f":"IF(OR('Trust - Frontsheet'!AN206=\"\",'Trust - Frontsheet'!AN206=\"-\"),0,('Trust - Frontsheet'!AN206))","v":0},{"$f":"IF(OR('Trust - Frontsheet'!AO206=\"\",'Trust - Frontsheet'!AO206=\"-\"),0,('Trust - Frontsheet'!AO206))","v":0},{"$f":"IF(OR('Trust - Frontsheet'!AP206=\"\",'Trust - Frontsheet'!AP206=\"-\"),0,('Trust - Frontsheet'!AP206))","v":0},{"$f":"IF(OR('Trust - Frontsheet'!AQ206=\"\",'Trust - Frontsheet'!AQ206=\"-\"),0,('Trust - Frontsheet'!AQ206))","v":0},{"$f":"IF(OR('Trust - Frontsheet'!AR206=\"\",'Trust - Frontsheet'!AR206=\"-\"),0,('Trust - Frontsheet'!AR206))","v":0},{"$f":"IF(OR('Trust - Frontsheet'!AS206=\"\",'Trust - Frontsheet'!AS206=\"-\"),0,('Trust - Frontsheet'!AS206))","v":0},{"$f":"IF(OR('Trust - Frontsheet'!AT206=\"\",'Trust - Frontsheet'!AT206=\"-\"),0,('Trust - Frontsheet'!AT206))","v":0},{"$f":"'Trust - Frontsheet'!AC206","v":0},{"$f":"IF(OR('Trust - Frontsheet'!AD206=\"\",'Trust - Frontsheet'!AD206=\"-\"),0,('Trust - Frontsheet'!AD206))","v":0},{"$f":"IF(OR('Trust - Frontsheet'!AE206=\"\",'Trust - Frontsheet'!AE206=\"-\"),0,('Trust - Frontsheet'!AE206))","v":0},{"$f":"IF(OR('Trust - Frontsheet'!AF206=\"\",'Trust - Frontsheet'!AF206=\"-\"),0,('Trust - Frontsheet'!AF206))","v":0},{"$f":"IF(OR('Trust - Frontsheet'!AG206=\"\",'Trust - Frontsheet'!AG206=\"-\"),0,('Trust - Frontsheet'!AG206))","v":0},{"$f":"IF(OR('Trust - Frontsheet'!AH206=\"\",'Trust - Frontsheet'!AH206=\"-\"),0,('Trust - Frontsheet'!AH206))","v":0},{"$f":"IF(OR('Trust - Frontsheet'!AI206=\"\",'Trust - Frontsheet'!AI206=\"-\"),0,('Trust - Frontsheet'!AI206))","v":0},{"$f":"IF(OR('Trust - Frontsheet'!AJ206=\"\",'Trust - Frontsheet'!AJ206=\"-\"),0,('Trust - Frontsheet'!AJ206))","v":0},{"$f":"IF(A194=\"\",\"\",(IF(ISBLANK('Trust - Frontsheet'!F9),\"\",'Trust - Frontsheet'!F9)))","v":""}]
[{"$f":"IF('Trust - Frontsheet'!D207=0,\"\",IF('Trust - Frontsheet'!D207=\"\",\"\",'Trust - Frontsheet'!D207))","v":""},{"$f":"IF(ISBLANK('Trust - Frontsheet'!E207),\"\",'Trust - Frontsheet'!E207)","v":""},{"$f":"IF(ISBLANK('Trust - Frontsheet'!F207),\"\",\"'\" & 'Trust - Frontsheet'!F207 & \"'\")","v":""},{"$f":"IF(ISBLANK('Trust - Frontsheet'!G207),\"\",'Trust - Frontsheet'!G207)","v":""},{"$f":"IF(ISBLANK('Trust - Frontsheet'!H207),\"\",'Trust - Frontsheet'!H207)","v":""},{"$f":"'Trust - Frontsheet'!I207","v":0},{"$f":"'Trust - Frontsheet'!J207","v":0},{"$f":"'Trust - Frontsheet'!K207","v":0},{"$f":"'Trust - Frontsheet'!L207","v":0},{"$f":"'Trust - Frontsheet'!M207","v":0},{"$f":"'Trust - Frontsheet'!N207","v":0},{"$f":"'Trust - Frontsheet'!O207","v":0},{"$f":"'Trust - Frontsheet'!P207","v":0},{"$f":"'Trust - Frontsheet'!Q207","v":0},{"$f":"'Trust - Frontsheet'!R207","v":0},{"$f":"'Trust - Frontsheet'!S207","v":0},{"$f":"'Trust - Frontsheet'!T207","v":0},{"$f":"'Trust - Frontsheet'!U207","v":0},{"$f":"'Trust - Frontsheet'!V207","v":0},{"$f":"'Trust - Frontsheet'!W207","v":0},{"$f":"'Trust - Frontsheet'!X207","v":0},{"$f":"'Trust - Frontsheet'!Y207","v":0},{"$f":"'Trust - Frontsheet'!Z207","v":0},{"$f":"'Trust - Frontsheet'!AA207","v":0},{"$f":"'Trust - Frontsheet'!AB207","v":0},{"$f":"IF(OR('Trust - Frontsheet'!AK207=\"\",'Trust - Frontsheet'!AK207=\"-\"),0,('Trust - Frontsheet'!AK207))","v":0},{"$f":"IF(OR('Trust - Frontsheet'!AL207=\"\",'Trust - Frontsheet'!AL207=\"-\"),0,('Trust - Frontsheet'!AL207))","v":0},{"$f":"IF(OR('Trust - Frontsheet'!AM207=\"\",'Trust - Frontsheet'!AM207=\"-\"),0,('Trust - Frontsheet'!AM207))","v":0},{"$f":"IF(OR('Trust - Frontsheet'!AN207=\"\",'Trust - Frontsheet'!AN207=\"-\"),0,('Trust - Frontsheet'!AN207))","v":0},{"$f":"IF(OR('Trust - Frontsheet'!AO207=\"\",'Trust - Frontsheet'!AO207=\"-\"),0,('Trust - Frontsheet'!AO207))","v":0},{"$f":"IF(OR('Trust - Frontsheet'!AP207=\"\",'Trust - Frontsheet'!AP207=\"-\"),0,('Trust - Frontsheet'!AP207))","v":0},{"$f":"IF(OR('Trust - Frontsheet'!AQ207=\"\",'Trust - Frontsheet'!AQ207=\"-\"),0,('Trust - Frontsheet'!AQ207))","v":0},{"$f":"IF(OR('Trust - Frontsheet'!AR207=\"\",'Trust - Frontsheet'!AR207=\"-\"),0,('Trust - Frontsheet'!AR207))","v":0},{"$f":"IF(OR('Trust - Frontsheet'!AS207=\"\",'Trust - Frontsheet'!AS207=\"-\"),0,('Trust - Frontsheet'!AS207))","v":0},{"$f":"IF(OR('Trust - Frontsheet'!AT207=\"\",'Trust - Frontsheet'!AT207=\"-\"),0,('Trust - Frontsheet'!AT207))","v":0},{"$f":"'Trust - Frontsheet'!AC207","v":0},{"$f":"IF(OR('Trust - Frontsheet'!AD207=\"\",'Trust - Frontsheet'!AD207=\"-\"),0,('Trust - Frontsheet'!AD207))","v":0},{"$f":"IF(OR('Trust - Frontsheet'!AE207=\"\",'Trust - Frontsheet'!AE207=\"-\"),0,('Trust - Frontsheet'!AE207))","v":0},{"$f":"IF(OR('Trust - Frontsheet'!AF207=\"\",'Trust - Frontsheet'!AF207=\"-\"),0,('Trust - Frontsheet'!AF207))","v":0},{"$f":"IF(OR('Trust - Frontsheet'!AG207=\"\",'Trust - Frontsheet'!AG207=\"-\"),0,('Trust - Frontsheet'!AG207))","v":0},{"$f":"IF(OR('Trust - Frontsheet'!AH207=\"\",'Trust - Frontsheet'!AH207=\"-\"),0,('Trust - Frontsheet'!AH207))","v":0},{"$f":"IF(OR('Trust - Frontsheet'!AI207=\"\",'Trust - Frontsheet'!AI207=\"-\"),0,('Trust - Frontsheet'!AI207))","v":0},{"$f":"IF(OR('Trust - Frontsheet'!AJ207=\"\",'Trust - Frontsheet'!AJ207=\"-\"),0,('Trust - Frontsheet'!AJ207))","v":0},{"$f":"IF(A195=\"\",\"\",(IF(ISBLANK('Trust - Frontsheet'!F9),\"\",'Trust - Frontsheet'!F9)))","v":""}]
[{"$f":"IF('Trust - Frontsheet'!D208=0,\"\",IF('Trust - Frontsheet'!D208=\"\",\"\",'Trust - Frontsheet'!D208))","v":""},{"$f":"IF(ISBLANK('Trust - Frontsheet'!E208),\"\",'Trust - Frontsheet'!E208)","v":""},{"$f":"IF(ISBLANK('Trust - Frontsheet'!F208),\"\",\"'\" & 'Trust - Frontsheet'!F208 & \"'\")","v":""},{"$f":"IF(ISBLANK('Trust - Frontsheet'!G208),\"\",'Trust - Frontsheet'!G208)","v":""},{"$f":"IF(ISBLANK('Trust - Frontsheet'!H208),\"\",'Trust - Frontsheet'!H208)","v":""},{"$f":"'Trust - Frontsheet'!I208","v":0},{"$f":"'Trust - Frontsheet'!J208","v":0},{"$f":"'Trust - Frontsheet'!K208","v":0},{"$f":"'Trust - Frontsheet'!L208","v":0},{"$f":"'Trust - Frontsheet'!M208","v":0},{"$f":"'Trust - Frontsheet'!N208","v":0},{"$f":"'Trust - Frontsheet'!O208","v":0},{"$f":"'Trust - Frontsheet'!P208","v":0},{"$f":"'Trust - Frontsheet'!Q208","v":0},{"$f":"'Trust - Frontsheet'!R208","v":0},{"$f":"'Trust - Frontsheet'!S208","v":0},{"$f":"'Trust - Frontsheet'!T208","v":0},{"$f":"'Trust - Frontsheet'!U208","v":0},{"$f":"'Trust - Frontsheet'!V208","v":0},{"$f":"'Trust - Frontsheet'!W208","v":0},{"$f":"'Trust - Frontsheet'!X208","v":0},{"$f":"'Trust - Frontsheet'!Y208","v":0},{"$f":"'Trust - Frontsheet'!Z208","v":0},{"$f":"'Trust - Frontsheet'!AA208","v":0},{"$f":"'Trust - Frontsheet'!AB208","v":0},{"$f":"IF(OR('Trust - Frontsheet'!AK208=\"\",'Trust - Frontsheet'!AK208=\"-\"),0,('Trust - Frontsheet'!AK208))","v":0},{"$f":"IF(OR('Trust - Frontsheet'!AL208=\"\",'Trust - Frontsheet'!AL208=\"-\"),0,('Trust - Frontsheet'!AL208))","v":0},{"$f":"IF(OR('Trust - Frontsheet'!AM208=\"\",'Trust - Frontsheet'!AM208=\"-\"),0,('Trust - Frontsheet'!AM208))","v":0},{"$f":"IF(OR('Trust - Frontsheet'!AN208=\"\",'Trust - Frontsheet'!AN208=\"-\"),0,('Trust - Frontsheet'!AN208))","v":0},{"$f":"IF(OR('Trust - Frontsheet'!AO208=\"\",'Trust - Frontsheet'!AO208=\"-\"),0,('Trust - Frontsheet'!AO208))","v":0},{"$f":"IF(OR('Trust - Frontsheet'!AP208=\"\",'Trust - Frontsheet'!AP208=\"-\"),0,('Trust - Frontsheet'!AP208))","v":0},{"$f":"IF(OR('Trust - Frontsheet'!AQ208=\"\",'Trust - Frontsheet'!AQ208=\"-\"),0,('Trust - Frontsheet'!AQ208))","v":0},{"$f":"IF(OR('Trust - Frontsheet'!AR208=\"\",'Trust - Frontsheet'!AR208=\"-\"),0,('Trust - Frontsheet'!AR208))","v":0},{"$f":"IF(OR('Trust - Frontsheet'!AS208=\"\",'Trust - Frontsheet'!AS208=\"-\"),0,('Trust - Frontsheet'!AS208))","v":0},{"$f":"IF(OR('Trust - Frontsheet'!AT208=\"\",'Trust - Frontsheet'!AT208=\"-\"),0,('Trust - Frontsheet'!AT208))","v":0},{"$f":"'Trust - Frontsheet'!AC208","v":0},{"$f":"IF(OR('Trust - Frontsheet'!AD208=\"\",'Trust - Frontsheet'!AD208=\"-\"),0,('Trust - Frontsheet'!AD208))","v":0},{"$f":"IF(OR('Trust - Frontsheet'!AE208=\"\",'Trust - Frontsheet'!AE208=\"-\"),0,('Trust - Frontsheet'!AE208))","v":0},{"$f":"IF(OR('Trust - Frontsheet'!AF208=\"\",'Trust - Frontsheet'!AF208=\"-\"),0,('Trust - Frontsheet'!AF208))","v":0},{"$f":"IF(OR('Trust - Frontsheet'!AG208=\"\",'Trust - Frontsheet'!AG208=\"-\"),0,('Trust - Frontsheet'!AG208))","v":0},{"$f":"IF(OR('Trust - Frontsheet'!AH208=\"\",'Trust - Frontsheet'!AH208=\"-\"),0,('Trust - Frontsheet'!AH208))","v":0},{"$f":"IF(OR('Trust - Frontsheet'!AI208=\"\",'Trust - Frontsheet'!AI208=\"-\"),0,('Trust - Frontsheet'!AI208))","v":0},{"$f":"IF(OR('Trust - Frontsheet'!AJ208=\"\",'Trust - Frontsheet'!AJ208=\"-\"),0,('Trust - Frontsheet'!AJ208))","v":0},{"$f":"IF(A196=\"\",\"\",(IF(ISBLANK('Trust - Frontsheet'!F9),\"\",'Trust - Frontsheet'!F9)))","v":""}]
[{"$f":"IF('Trust - Frontsheet'!D209=0,\"\",IF('Trust - Frontsheet'!D209=\"\",\"\",'Trust - Frontsheet'!D209))","v":""},{"$f":"IF(ISBLANK('Trust - Frontsheet'!E209),\"\",'Trust - Frontsheet'!E209)","v":""},{"$f":"IF(ISBLANK('Trust - Frontsheet'!F209),\"\",\"'\" & 'Trust - Frontsheet'!F209 & \"'\")","v":""},{"$f":"IF(ISBLANK('Trust - Frontsheet'!G209),\"\",'Trust - Frontsheet'!G209)","v":""},{"$f":"IF(ISBLANK('Trust - Frontsheet'!H209),\"\",'Trust - Frontsheet'!H209)","v":""},{"$f":"'Trust - Frontsheet'!I209","v":0},{"$f":"'Trust - Frontsheet'!J209","v":0},{"$f":"'Trust - Frontsheet'!K209","v":0},{"$f":"'Trust - Frontsheet'!L209","v":0},{"$f":"'Trust - Frontsheet'!M209","v":0},{"$f":"'Trust - Frontsheet'!N209","v":0},{"$f":"'Trust - Frontsheet'!O209","v":0},{"$f":"'Trust - Frontsheet'!P209","v":0},{"$f":"'Trust - Frontsheet'!Q209","v":0},{"$f":"'Trust - Frontsheet'!R209","v":0},{"$f":"'Trust - Frontsheet'!S209","v":0},{"$f":"'Trust - Frontsheet'!T209","v":0},{"$f":"'Trust - Frontsheet'!U209","v":0},{"$f":"'Trust - Frontsheet'!V209","v":0},{"$f":"'Trust - Frontsheet'!W209","v":0},{"$f":"'Trust - Frontsheet'!X209","v":0},{"$f":"'Trust - Frontsheet'!Y209","v":0},{"$f":"'Trust - Frontsheet'!Z209","v":0},{"$f":"'Trust - Frontsheet'!AA209","v":0},{"$f":"'Trust - Frontsheet'!AB209","v":0},{"$f":"IF(OR('Trust - Frontsheet'!AK209=\"\",'Trust - Frontsheet'!AK209=\"-\"),0,('Trust - Frontsheet'!AK209))","v":0},{"$f":"IF(OR('Trust - Frontsheet'!AL209=\"\",'Trust - Frontsheet'!AL209=\"-\"),0,('Trust - Frontsheet'!AL209))","v":0},{"$f":"IF(OR('Trust - Frontsheet'!AM209=\"\",'Trust - Frontsheet'!AM209=\"-\"),0,('Trust - Frontsheet'!AM209))","v":0},{"$f":"IF(OR('Trust - Frontsheet'!AN209=\"\",'Trust - Frontsheet'!AN209=\"-\"),0,('Trust - Frontsheet'!AN209))","v":0},{"$f":"IF(OR('Trust - Frontsheet'!AO209=\"\",'Trust - Frontsheet'!AO209=\"-\"),0,('Trust - Frontsheet'!AO209))","v":0},{"$f":"IF(OR('Trust - Frontsheet'!AP209=\"\",'Trust - Frontsheet'!AP209=\"-\"),0,('Trust - Frontsheet'!AP209))","v":0},{"$f":"IF(OR('Trust - Frontsheet'!AQ209=\"\",'Trust - Frontsheet'!AQ209=\"-\"),0,('Trust - Frontsheet'!AQ209))","v":0},{"$f":"IF(OR('Trust - Frontsheet'!AR209=\"\",'Trust - Frontsheet'!AR209=\"-\"),0,('Trust - Frontsheet'!AR209))","v":0},{"$f":"IF(OR('Trust - Frontsheet'!AS209=\"\",'Trust - Frontsheet'!AS209=\"-\"),0,('Trust - Frontsheet'!AS209))","v":0},{"$f":"IF(OR('Trust - Frontsheet'!AT209=\"\",'Trust - Frontsheet'!AT209=\"-\"),0,('Trust - Frontsheet'!AT209))","v":0},{"$f":"'Trust - Frontsheet'!AC209","v":0},{"$f":"IF(OR('Trust - Frontsheet'!AD209=\"\",'Trust - Frontsheet'!AD209=\"-\"),0,('Trust - Frontsheet'!AD209))","v":0},{"$f":"IF(OR('Trust - Frontsheet'!AE209=\"\",'Trust - Frontsheet'!AE209=\"-\"),0,('Trust - Frontsheet'!AE209))","v":0},{"$f":"IF(OR('Trust - Frontsheet'!AF209=\"\",'Trust - Frontsheet'!AF209=\"-\"),0,('Trust - Frontsheet'!AF209))","v":0},{"$f":"IF(OR('Trust - Frontsheet'!AG209=\"\",'Trust - Frontsheet'!AG209=\"-\"),0,('Trust - Frontsheet'!AG209))","v":0},{"$f":"IF(OR('Trust - Frontsheet'!AH209=\"\",'Trust - Frontsheet'!AH209=\"-\"),0,('Trust - Frontsheet'!AH209))","v":0},{"$f":"IF(OR('Trust - Frontsheet'!AI209=\"\",'Trust - Frontsheet'!AI209=\"-\"),0,('Trust - Frontsheet'!AI209))","v":0},{"$f":"IF(OR('Trust - Frontsheet'!AJ209=\"\",'Trust - Frontsheet'!AJ209=\"-\"),0,('Trust - Frontsheet'!AJ209))","v":0},{"$f":"IF(A197=\"\",\"\",(IF(ISBLANK('Trust - Frontsheet'!F9),\"\",'Trust - Frontsheet'!F9)))","v":""}]
[{"$f":"IF('Trust - Frontsheet'!D210=0,\"\",IF('Trust - Frontsheet'!D210=\"\",\"\",'Trust - Frontsheet'!D210))","v":""},{"$f":"IF(ISBLANK('Trust - Frontsheet'!E210),\"\",'Trust - Frontsheet'!E210)","v":""},{"$f":"IF(ISBLANK('Trust - Frontsheet'!F210),\"\",\"'\" & 'Trust - Frontsheet'!F210 & \"'\")","v":""},{"$f":"IF(ISBLANK('Trust - Frontsheet'!G210),\"\",'Trust - Frontsheet'!G210)","v":""},{"$f":"IF(ISBLANK('Trust - Frontsheet'!H210),\"\",'Trust - Frontsheet'!H210)","v":""},{"$f":"'Trust - Frontsheet'!I210","v":0},{"$f":"'Trust - Frontsheet'!J210","v":0},{"$f":"'Trust - Frontsheet'!K210","v":0},{"$f":"'Trust - Frontsheet'!L210","v":0},{"$f":"'Trust - Frontsheet'!M210","v":0},{"$f":"'Trust - Frontsheet'!N210","v":0},{"$f":"'Trust - Frontsheet'!O210","v":0},{"$f":"'Trust - Frontsheet'!P210","v":0},{"$f":"'Trust - Frontsheet'!Q210","v":0},{"$f":"'Trust - Frontsheet'!R210","v":0},{"$f":"'Trust - Frontsheet'!S210","v":0},{"$f":"'Trust - Frontsheet'!T210","v":0},{"$f":"'Trust - Frontsheet'!U210","v":0},{"$f":"'Trust - Frontsheet'!V210","v":0},{"$f":"'Trust - Frontsheet'!W210","v":0},{"$f":"'Trust - Frontsheet'!X210","v":0},{"$f":"'Trust - Frontsheet'!Y210","v":0},{"$f":"'Trust - Frontsheet'!Z210","v":0},{"$f":"'Trust - Frontsheet'!AA210","v":0},{"$f":"'Trust - Frontsheet'!AB210","v":0},{"$f":"IF(OR('Trust - Frontsheet'!AK210=\"\",'Trust - Frontsheet'!AK210=\"-\"),0,('Trust - Frontsheet'!AK210))","v":0},{"$f":"IF(OR('Trust - Frontsheet'!AL210=\"\",'Trust - Frontsheet'!AL210=\"-\"),0,('Trust - Frontsheet'!AL210))","v":0},{"$f":"IF(OR('Trust - Frontsheet'!AM210=\"\",'Trust - Frontsheet'!AM210=\"-\"),0,('Trust - Frontsheet'!AM210))","v":0},{"$f":"IF(OR('Trust - Frontsheet'!AN210=\"\",'Trust - Frontsheet'!AN210=\"-\"),0,('Trust - Frontsheet'!AN210))","v":0},{"$f":"IF(OR('Trust - Frontsheet'!AO210=\"\",'Trust - Frontsheet'!AO210=\"-\"),0,('Trust - Frontsheet'!AO210))","v":0},{"$f":"IF(OR('Trust - Frontsheet'!AP210=\"\",'Trust - Frontsheet'!AP210=\"-\"),0,('Trust - Frontsheet'!AP210))","v":0},{"$f":"IF(OR('Trust - Frontsheet'!AQ210=\"\",'Trust - Frontsheet'!AQ210=\"-\"),0,('Trust - Frontsheet'!AQ210))","v":0},{"$f":"IF(OR('Trust - Frontsheet'!AR210=\"\",'Trust - Frontsheet'!AR210=\"-\"),0,('Trust - Frontsheet'!AR210))","v":0},{"$f":"IF(OR('Trust - Frontsheet'!AS210=\"\",'Trust - Frontsheet'!AS210=\"-\"),0,('Trust - Frontsheet'!AS210))","v":0},{"$f":"IF(OR('Trust - Frontsheet'!AT210=\"\",'Trust - Frontsheet'!AT210=\"-\"),0,('Trust - Frontsheet'!AT210))","v":0},{"$f":"'Trust - Frontsheet'!AC210","v":0},{"$f":"IF(OR('Trust - Frontsheet'!AD210=\"\",'Trust - Frontsheet'!AD210=\"-\"),0,('Trust - Frontsheet'!AD210))","v":0},{"$f":"IF(OR('Trust - Frontsheet'!AE210=\"\",'Trust - Frontsheet'!AE210=\"-\"),0,('Trust - Frontsheet'!AE210))","v":0},{"$f":"IF(OR('Trust - Frontsheet'!AF210=\"\",'Trust - Frontsheet'!AF210=\"-\"),0,('Trust - Frontsheet'!AF210))","v":0},{"$f":"IF(OR('Trust - Frontsheet'!AG210=\"\",'Trust - Frontsheet'!AG210=\"-\"),0,('Trust - Frontsheet'!AG210))","v":0},{"$f":"IF(OR('Trust - Frontsheet'!AH210=\"\",'Trust - Frontsheet'!AH210=\"-\"),0,('Trust - Frontsheet'!AH210))","v":0},{"$f":"IF(OR('Trust - Frontsheet'!AI210=\"\",'Trust - Frontsheet'!AI210=\"-\"),0,('Trust - Frontsheet'!AI210))","v":0},{"$f":"IF(OR('Trust - Frontsheet'!AJ210=\"\",'Trust - Frontsheet'!AJ210=\"-\"),0,('Trust - Frontsheet'!AJ210))","v":0},{"$f":"IF(A198=\"\",\"\",(IF(ISBLANK('Trust - Frontsheet'!F9),\"\",'Trust - Frontsheet'!F9)))","v":""}]
[{"$f":"IF('Trust - Frontsheet'!D211=0,\"\",IF('Trust - Frontsheet'!D211=\"\",\"\",'Trust - Frontsheet'!D211))","v":""},{"$f":"IF(ISBLANK('Trust - Frontsheet'!E211),\"\",'Trust - Frontsheet'!E211)","v":""},{"$f":"IF(ISBLANK('Trust - Frontsheet'!F211),\"\",\"'\" & 'Trust - Frontsheet'!F211 & \"'\")","v":""},{"$f":"IF(ISBLANK('Trust - Frontsheet'!G211),\"\",'Trust - Frontsheet'!G211)","v":""},{"$f":"IF(ISBLANK('Trust - Frontsheet'!H211),\"\",'Trust - Frontsheet'!H211)","v":""},{"$f":"'Trust - Frontsheet'!I211","v":0},{"$f":"'Trust - Frontsheet'!J211","v":0},{"$f":"'Trust - Frontsheet'!K211","v":0},{"$f":"'Trust - Frontsheet'!L211","v":0},{"$f":"'Trust - Frontsheet'!M211","v":0},{"$f":"'Trust - Frontsheet'!N211","v":0},{"$f":"'Trust - Frontsheet'!O211","v":0},{"$f":"'Trust - Frontsheet'!P211","v":0},{"$f":"'Trust - Frontsheet'!Q211","v":0},{"$f":"'Trust - Frontsheet'!R211","v":0},{"$f":"'Trust - Frontsheet'!S211","v":0},{"$f":"'Trust - Frontsheet'!T211","v":0},{"$f":"'Trust - Frontsheet'!U211","v":0},{"$f":"'Trust - Frontsheet'!V211","v":0},{"$f":"'Trust - Frontsheet'!W211","v":0},{"$f":"'Trust - Frontsheet'!X211","v":0},{"$f":"'Trust - Frontsheet'!Y211","v":0},{"$f":"'Trust - Frontsheet'!Z211","v":0},{"$f":"'Trust - Frontsheet'!AA211","v":0},{"$f":"'Trust - Frontsheet'!AB211","v":0},{"$f":"IF(OR('Trust - Frontsheet'!AK211=\"\",'Trust - Frontsheet'!AK211=\"-\"),0,('Trust - Frontsheet'!AK211))","v":0},{"$f":"IF(OR('Trust - Frontsheet'!AL211=\"\",'Trust - Frontsheet'!AL211=\"-\"),0,('Trust - Frontsheet'!AL211))","v":0},{"$f":"IF(OR('Trust - Frontsheet'!AM211=\"\",'Trust - Frontsheet'!AM211=\"-\"),0,('Trust - Frontsheet'!AM211))","v":0},{"$f":"IF(OR('Trust - Frontsheet'!AN211=\"\",'Trust - Frontsheet'!AN211=\"-\"),0,('Trust - Frontsheet'!AN211))","v":0},{"$f":"IF(OR('Trust - Frontsheet'!AO211=\"\",'Trust - Frontsheet'!AO211=\"-\"),0,('Trust - Frontsheet'!AO211))","v":0},{"$f":"IF(OR('Trust - Frontsheet'!AP211=\"\",'Trust - Frontsheet'!AP211=\"-\"),0,('Trust - Frontsheet'!AP211))","v":0},{"$f":"IF(OR('Trust - Frontsheet'!AQ211=\"\",'Trust - Frontsheet'!AQ211=\"-\"),0,('Trust - Frontsheet'!AQ211))","v":0},{"$f":"IF(OR('Trust - Frontsheet'!AR211=\"\",'Trust - Frontsheet'!AR211=\"-\"),0,('Trust - Frontsheet'!AR211))","v":0},{"$f":"IF(OR('Trust - Frontsheet'!AS211=\"\",'Trust - Frontsheet'!AS211=\"-\"),0,('Trust - Frontsheet'!AS211))","v":0},{"$f":"IF(OR('Trust - Frontsheet'!AT211=\"\",'Trust - Frontsheet'!AT211=\"-\"),0,('Trust - Frontsheet'!AT211))","v":0},{"$f":"'Trust - Frontsheet'!AC211","v":0},{"$f":"IF(OR('Trust - Frontsheet'!AD211=\"\",'Trust - Frontsheet'!AD211=\"-\"),0,('Trust - Frontsheet'!AD211))","v":0},{"$f":"IF(OR('Trust - Frontsheet'!AE211=\"\",'Trust - Frontsheet'!AE211=\"-\"),0,('Trust - Frontsheet'!AE211))","v":0},{"$f":"IF(OR('Trust - Frontsheet'!AF211=\"\",'Trust - Frontsheet'!AF211=\"-\"),0,('Trust - Frontsheet'!AF211))","v":0},{"$f":"IF(OR('Trust - Frontsheet'!AG211=\"\",'Trust - Frontsheet'!AG211=\"-\"),0,('Trust - Frontsheet'!AG211))","v":0},{"$f":"IF(OR('Trust - Frontsheet'!AH211=\"\",'Trust - Frontsheet'!AH211=\"-\"),0,('Trust - Frontsheet'!AH211))","v":0},{"$f":"IF(OR('Trust - Frontsheet'!AI211=\"\",'Trust - Frontsheet'!AI211=\"-\"),0,('Trust - Frontsheet'!AI211))","v":0},{"$f":"IF(OR('Trust - Frontsheet'!AJ211=\"\",'Trust - Frontsheet'!AJ211=\"-\"),0,('Trust - Frontsheet'!AJ211))","v":0},{"$f":"IF(A199=\"\",\"\",(IF(ISBLANK('Trust - Frontsheet'!F9),\"\",'Trust - Frontsheet'!F9)))","v":""}]
[{"$f":"IF('Trust - Frontsheet'!D212=0,\"\",IF('Trust - Frontsheet'!D212=\"\",\"\",'Trust - Frontsheet'!D212))","v":""},{"$f":"IF(ISBLANK('Trust - Frontsheet'!E212),\"\",'Trust - Frontsheet'!E212)","v":""},{"$f":"IF(ISBLANK('Trust - Frontsheet'!F212),\"\",\"'\" & 'Trust - Frontsheet'!F212 & \"'\")","v":""},{"$f":"IF(ISBLANK('Trust - Frontsheet'!G212),\"\",'Trust - Frontsheet'!G212)","v":""},{"$f":"IF(ISBLANK('Trust - Frontsheet'!H212),\"\",'Trust - Frontsheet'!H212)","v":""},{"$f":"'Trust - Frontsheet'!I212","v":0},{"$f":"'Trust - Frontsheet'!J212","v":0},{"$f":"'Trust - Frontsheet'!K212","v":0},{"$f":"'Trust - Frontsheet'!L212","v":0},{"$f":"'Trust - Frontsheet'!M212","v":0},{"$f":"'Trust - Frontsheet'!N212","v":0},{"$f":"'Trust - Frontsheet'!O212","v":0},{"$f":"'Trust - Frontsheet'!P212","v":0},{"$f":"'Trust - Frontsheet'!Q212","v":0},{"$f":"'Trust - Frontsheet'!R212","v":0},{"$f":"'Trust - Frontsheet'!S212","v":0},{"$f":"'Trust - Frontsheet'!T212","v":0},{"$f":"'Trust - Frontsheet'!U212","v":0},{"$f":"'Trust - Frontsheet'!V212","v":0},{"$f":"'Trust - Frontsheet'!W212","v":0},{"$f":"'Trust - Frontsheet'!X212","v":0},{"$f":"'Trust - Frontsheet'!Y212","v":0},{"$f":"'Trust - Frontsheet'!Z212","v":0},{"$f":"'Trust - Frontsheet'!AA212","v":0},{"$f":"'Trust - Frontsheet'!AB212","v":0},{"$f":"IF(OR('Trust - Frontsheet'!AK212=\"\",'Trust - Frontsheet'!AK212=\"-\"),0,('Trust - Frontsheet'!AK212))","v":0},{"$f":"IF(OR('Trust - Frontsheet'!AL212=\"\",'Trust - Frontsheet'!AL212=\"-\"),0,('Trust - Frontsheet'!AL212))","v":0},{"$f":"IF(OR('Trust - Frontsheet'!AM212=\"\",'Trust - Frontsheet'!AM212=\"-\"),0,('Trust - Frontsheet'!AM212))","v":0},{"$f":"IF(OR('Trust - Frontsheet'!AN212=\"\",'Trust - Frontsheet'!AN212=\"-\"),0,('Trust - Frontsheet'!AN212))","v":0},{"$f":"IF(OR('Trust - Frontsheet'!AO212=\"\",'Trust - Frontsheet'!AO212=\"-\"),0,('Trust - Frontsheet'!AO212))","v":0},{"$f":"IF(OR('Trust - Frontsheet'!AP212=\"\",'Trust - Frontsheet'!AP212=\"-\"),0,('Trust - Frontsheet'!AP212))","v":0},{"$f":"IF(OR('Trust - Frontsheet'!AQ212=\"\",'Trust - Frontsheet'!AQ212=\"-\"),0,('Trust - Frontsheet'!AQ212))","v":0},{"$f":"IF(OR('Trust - Frontsheet'!AR212=\"\",'Trust - Frontsheet'!AR212=\"-\"),0,('Trust - Frontsheet'!AR212))","v":0},{"$f":"IF(OR('Trust - Frontsheet'!AS212=\"\",'Trust - Frontsheet'!AS212=\"-\"),0,('Trust - Frontsheet'!AS212))","v":0},{"$f":"IF(OR('Trust - Frontsheet'!AT212=\"\",'Trust - Frontsheet'!AT212=\"-\"),0,('Trust - Frontsheet'!AT212))","v":0},{"$f":"'Trust - Frontsheet'!AC212","v":0},{"$f":"IF(OR('Trust - Frontsheet'!AD212=\"\",'Trust - Frontsheet'!AD212=\"-\"),0,('Trust - Frontsheet'!AD212))","v":0},{"$f":"IF(OR('Trust - Frontsheet'!AE212=\"\",'Trust - Frontsheet'!AE212=\"-\"),0,('Trust - Frontsheet'!AE212))","v":0},{"$f":"IF(OR('Trust - Frontsheet'!AF212=\"\",'Trust - Frontsheet'!AF212=\"-\"),0,('Trust - Frontsheet'!AF212))","v":0},{"$f":"IF(OR('Trust - Frontsheet'!AG212=\"\",'Trust - Frontsheet'!AG212=\"-\"),0,('Trust - Frontsheet'!AG212))","v":0},{"$f":"IF(OR('Trust - Frontsheet'!AH212=\"\",'Trust - Frontsheet'!AH212=\"-\"),0,('Trust - Frontsheet'!AH212))","v":0},{"$f":"IF(OR('Trust - Frontsheet'!AI212=\"\",'Trust - Frontsheet'!AI212=\"-\"),0,('Trust - Frontsheet'!AI212))","v":0},{"$f":"IF(OR('Trust - Frontsheet'!AJ212=\"\",'Trust - Frontsheet'!AJ212=\"-\"),0,('Trust - Frontsheet'!AJ212))","v":0},{"$f":"IF(A200=\"\",\"\",(IF(ISBLANK('Trust - Frontsheet'!F9),\"\",'Trust - Frontsheet'!F9)))","v":""}]
[{"$f":"IF('Trust - Frontsheet'!D213=0,\"\",IF('Trust - Frontsheet'!D213=\"\",\"\",'Trust - Frontsheet'!D213))","v":""},{"$f":"IF(ISBLANK('Trust - Frontsheet'!E213),\"\",'Trust - Frontsheet'!E213)","v":""},{"$f":"IF(ISBLANK('Trust - Frontsheet'!F213),\"\",\"'\" & 'Trust - Frontsheet'!F213 & \"'\")","v":""},{"$f":"IF(ISBLANK('Trust - Frontsheet'!G213),\"\",'Trust - Frontsheet'!G213)","v":""},{"$f":"IF(ISBLANK('Trust - Frontsheet'!H213),\"\",'Trust - Frontsheet'!H213)","v":""},{"$f":"'Trust - Frontsheet'!I213","v":0},{"$f":"'Trust - Frontsheet'!J213","v":0},{"$f":"'Trust - Frontsheet'!K213","v":0},{"$f":"'Trust - Frontsheet'!L213","v":0},{"$f":"'Trust - Frontsheet'!M213","v":0},{"$f":"'Trust - Frontsheet'!N213","v":0},{"$f":"'Trust - Frontsheet'!O213","v":0},{"$f":"'Trust - Frontsheet'!P213","v":0},{"$f":"'Trust - Frontsheet'!Q213","v":0},{"$f":"'Trust - Frontsheet'!R213","v":0},{"$f":"'Trust - Frontsheet'!S213","v":0},{"$f":"'Trust - Frontsheet'!T213","v":0},{"$f":"'Trust - Frontsheet'!U213","v":0},{"$f":"'Trust - Frontsheet'!V213","v":0},{"$f":"'Trust - Frontsheet'!W213","v":0},{"$f":"'Trust - Frontsheet'!X213","v":0},{"$f":"'Trust - Frontsheet'!Y213","v":0},{"$f":"'Trust - Frontsheet'!Z213","v":0},{"$f":"'Trust - Frontsheet'!AA213","v":0},{"$f":"'Trust - Frontsheet'!AB213","v":0},{"$f":"IF(OR('Trust - Frontsheet'!AK213=\"\",'Trust - Frontsheet'!AK213=\"-\"),0,('Trust - Frontsheet'!AK213))","v":0},{"$f":"IF(OR('Trust - Frontsheet'!AL213=\"\",'Trust - Frontsheet'!AL213=\"-\"),0,('Trust - Frontsheet'!AL213))","v":0},{"$f":"IF(OR('Trust - Frontsheet'!AM213=\"\",'Trust - Frontsheet'!AM213=\"-\"),0,('Trust - Frontsheet'!AM213))","v":0},{"$f":"IF(OR('Trust - Frontsheet'!AN213=\"\",'Trust - Frontsheet'!AN213=\"-\"),0,('Trust - Frontsheet'!AN213))","v":0},{"$f":"IF(OR('Trust - Frontsheet'!AO213=\"\",'Trust - Frontsheet'!AO213=\"-\"),0,('Trust - Frontsheet'!AO213))","v":0},{"$f":"IF(OR('Trust - Frontsheet'!AP213=\"\",'Trust - Frontsheet'!AP213=\"-\"),0,('Trust - Frontsheet'!AP213))","v":0},{"$f":"IF(OR('Trust - Frontsheet'!AQ213=\"\",'Trust - Frontsheet'!AQ213=\"-\"),0,('Trust - Frontsheet'!AQ213))","v":0},{"$f":"IF(OR('Trust - Frontsheet'!AR213=\"\",'Trust - Frontsheet'!AR213=\"-\"),0,('Trust - Frontsheet'!AR213))","v":0},{"$f":"IF(OR('Trust - Frontsheet'!AS213=\"\",'Trust - Frontsheet'!AS213=\"-\"),0,('Trust - Frontsheet'!AS213))","v":0},{"$f":"IF(OR('Trust - Frontsheet'!AT213=\"\",'Trust - Frontsheet'!AT213=\"-\"),0,('Trust - Frontsheet'!AT213))","v":0},{"$f":"'Trust - Frontsheet'!AC213","v":0},{"$f":"IF(OR('Trust - Frontsheet'!AD213=\"\",'Trust - Frontsheet'!AD213=\"-\"),0,('Trust - Frontsheet'!AD213))","v":0},{"$f":"IF(OR('Trust - Frontsheet'!AE213=\"\",'Trust - Frontsheet'!AE213=\"-\"),0,('Trust - Frontsheet'!AE213))","v":0},{"$f":"IF(OR('Trust - Frontsheet'!AF213=\"\",'Trust - Frontsheet'!AF213=\"-\"),0,('Trust - Frontsheet'!AF213))","v":0},{"$f":"IF(OR('Trust - Frontsheet'!AG213=\"\",'Trust - Frontsheet'!AG213=\"-\"),0,('Trust - Frontsheet'!AG213))","v":0},{"$f":"IF(OR('Trust - Frontsheet'!AH213=\"\",'Trust - Frontsheet'!AH213=\"-\"),0,('Trust - Frontsheet'!AH213))","v":0},{"$f":"IF(OR('Trust - Frontsheet'!AI213=\"\",'Trust - Frontsheet'!AI213=\"-\"),0,('Trust - Frontsheet'!AI213))","v":0},{"$f":"IF(OR('Trust - Frontsheet'!AJ213=\"\",'Trust - Frontsheet'!AJ213=\"-\"),0,('Trust - Frontsheet'!AJ213))","v":0},{"$f":"IF(A201=\"\",\"\",(IF(ISBLANK('Trust - Frontsheet'!F9),\"\",'Trust - Frontsheet'!F9)))","v":""}]